{"text_format":"1","workbook":"xlsx","n_sheets":26,"sheets":["Instructions","Build History","Inputs","Formats","Rural 2-Lane Segments (MI)","Rural County FA Segs (MI)","Rural County Non-FA Segs (MI)","Rural Multilane Segments (MI)","Rural Unsignalized Int (MI)","Rural Signalized Int (MI)","Urban & Suburban Segments (MI)","Urban & Suburban Ints (MI)","MI Specific Tables","Rural_MI_Tables","Calibration Factors","Crash Costs","Additional CMFs","Construction - Do Not Delete","AADTRanges","Tables","RankingExcess","RankingExpectedAverage","RankingPredictedFI","RankingPredictedTotal","Summaries (Top 10)","Outputs"],"not_rendered":{"charts":0,"images":71,"macros":1,"external_links":0,"defined_names":245,"comments":8,"pivot_tables":0},"unopened":[],"bounds":{"document_bytes":16777216,"sheet_cells":100000,"rows_first":2000,"rows_last":500,"rows_between":2000,"halvings":0,"cell_chars":16384,"cell_head_chars":4096},"cells_cut":0,"cells_raw":0,"read":"whole","date_system":"1900"}

{"sheet":"Instructions","index":0,"n_rows":202,"n_cols":15,"rows_kept":202,"cut":false,"hidden":false,"merged":[[1,1,1,14],[9,1,9,14],[23,1,23,14],[39,1,39,14],[41,1,42,3],[11,1,11,14],[31,1,31,14],[173,1,173,14],[35,1,35,14],[37,11,37,14],[70,1,70,14],[134,1,134,14],[159,1,159,14],[47,1,50,3],[62,1,62,14],[52,1,60,8]]}
[]
[null,"Highway Safety Manual (1st Edition) • Volume 2 (Chapters 10 - 12) - Predictive Methods with Empirical Bayes Analysis"]
[null,null,null,null,null,null,null,null,null,null,null,null,null,null,"Michigan-specific SPFs (Revised: Summer 2018)"]
[null,null,null,null,null,null,null,null,null,null,null,null,null,null,"Released: Spring 2013 (Updated: Fall 2013)"]
[null,null,null,null,null,null,null,null,null,null,null,null,null,null,"Analysis years: 2005 - 2010"]
[null,null,null,null,null,null,null,null,null,null,null,null,null,null,"Urban Sections"]
[null,null,null,null,null,null,null,null,null,null,null,null,null,null,"Revised:  Summer 2015 (Updated Summer 2016)"]
[null,"Overview",null,null,null,null,null,null,null,null,null,null,null,null,"Analysis years: 2008 - 2012 (Updated: 2004-2014)"]
[]
[null,"This spreadsheet has been developed to utilize the predictive models for rural two-lane, two-way roads, rural multilane highways, and urban and suburban arterials as contained in the Highway Safety Manual.  The factors used in calibrating the Highway Safety Manual are reviewed and updated by the Michigan Department of Transportation's Safety Programs Unit.  Only full years (January through December) may be used for analysis; partial years are not compatible with the current calibration factors."]
[]
[null,"In the HSM, the predictive method is a function of traffic volume and roadway characteristics.  The expected number of crashes is a modification of the predicted number, weighted by the actual observed number of crashes."]
[]
[null,"The page tabs shown at the bottom are color coded as follows:"]
[]
[null,null,null,"Instructions",null,null,"This sheet"]
[null,null,null,"Inputs",null,null,"Project-wide inputs and formatting controls"]
[null,null,null,"Rural Segments/Intersections",null,null,"Inputs for rural individual segments or intersections"]
[null,null,null,"Urban Segments/Intersections",null,null,"Inputs for urban individual segments or intersections"]
[null,null,null,"Outputs",null,null,"Output and summary sheets"]
[]
[null,"Color Coding Used in the Worksheets"]
[]
[null,"Colors are used to distinguish between user-editable cells and those reserved for displaying data and calculations.  The user-editable cells are described as follows:"]
[]
[null,"Color Used",null,"Description"]
[]
[null,"Dropdown",null,"User input required; constrained values chosen by a dropdown menu within the cell"]
[]
[null,"Input",null,"User input required; value may be typed directly in the cell"]
[]
[null,"Lane and shoulder width values, for example, are limited to those available in the dropdown as they were evaluated when developing the Safety Performance Functions included in the HSM."]
[]
[null,"Segment and Intersection Worksheets"]
[]
[null,"The data required for each individual segment or intersection type varies.  For a summary of the data needed to use the methodologies in this spreadheet, please see http://onlinepubs.trb.org/onlinepubs/nchrp/nchrp_rrd_329.pdf."]
[]
[null,null,null,null,null,null,null,null,null,null,null,"Please note that segments are defined as the \"center of intersection to center of intersection.\"  Removing the length included in the intersections is inconsistent with the calculations in the HSM."]
[]
[null,"Buttons are placed on each sheet to facilitate adding and deleting rows.  Resetting a sheet requires confirmation from the user.  Sheets without data will only display the \"Reset Sheet\" Button."]
[]
[null,"Adds a row above the currently selected row.",null,null,null,null,null,null,null,null,null,"Adds a row below the currently selected row."]
[]
[]
[]
[]
[null,null,null,null,null,null,null,null,null,null,null,"Deletes the currently selected row."]
[null,"Resets the current sheet, leaving only a single row with sample data (\"Set Sheet\" if blank)."]
[]
[]
[]
[]
[null,"The colored shading is used to provide a visual snapshot of the relative crash frequencies/rates.  The highest value in a given column will be red, with a gradation through orange, yellow, and green indicating progressively smaller values.  Zero or negative values (in the case of Excess Expected crashes) will be display the brightest level of green.  The colored shading can be enabled/disabled via the toggle on the Inputs tab, \"Use colored formatting for rankings.\"  Please note, that because of rounding, two values may display difference colors even when they appear to show the same value (e.g. the right-most shaded column in the graphic, where all values display \"3.4\")."]
[]
[]
[]
[]
[]
[]
[]
[]
[]
[null,"All rows on the Segment or Intersection Type worksheets are included on the Summary and Output sheets; please delete any rows that do not apply."]
[]
[null,"Spreadsheet developed by:"]
[null,null,"Andrew H. Ceifetz, P.E., RSP",null,null,null,null,null,null,"WSP Michigan Inc."]
[null,null,"Email: Andrew.Ceifetz@wsp.com",null,null,null,null,null,null,"500 Griswold St., Ste 2600"]
[null,null,"Phone: (313) 963-5760",null,null,null,null,null,null,"Detroit, MI 48226"]
[null,"Excel Macros"]
[]
[null,"This worksheet makes extensive use of the macro functionality built into Microsoft Excel.  Macros must be enabled to use this worksheet.  To enable macros, please see below:"]
[]
[null,"1. Click the Excel Options button."]
[]
[]
[]
[]
[]
[]
[]
[]
[]
[]
[]
[]
[]
[]
[]
[]
[]
[]
[]
[]
[]
[]
[]
[]
[]
[]
[]
[]
[]
[]
[]
[]
[null,null,null,null,"Excel 2007",null,null,null,null,null,null,"Excel 2010"]
[]
[null,"2. Click the Trust Center button on the left.  Then, at the bottom right, select Trust Center Settings."]
[]
[]
[]
[]
[]
[]
[]
[]
[]
[]
[]
[]
[]
[]
[]
[]
[]
[]
[]
[]
[]
[]
[]
[]
[]
[]
[null,"3. In the new window that appears, choose Macro Settings from the sidebar and select Disable all macros with notification from the list of options that appear. This option keeps macros disabled but notifies users when macros attempt to run, allowing users to decide on a case-by-case basis which macros to enable. Click OK to exit this window."]
[]
[]
[]
[]
[]
[]
[]
[]
[]
[]
[]
[]
[]
[]
[]
[]
[]
[]
[]
[]
[]
[]
[]
[]
[null,"4. For the new settings to take effect, it will be necessary to close Excel and reopen it. A security dialog box should appear beneath the Office ribbon the next time you attempt to run a spreadsheet that contains macros."]
[]
[]
[]
[]
[]
[]
[]
[]
[]
[]
[]
[]
[]
[null,"5. When the notification appears, click the Options button. Choose Enable this content from the options that appear to allow macros to run within the current spreadsheet. Click 5. When the notification appears, click the Options button. Choose Enable this content from the options that appear to allow macros to run within the current spreadsheet. Click OK to close the window. to close the window."]
[]
[]
[]
[]
[]
[]
[]
[]
[]
[]
[]
[]
[]
[]
[]
[]
[]
[]
[]
[]
[]
[]
[]
[]
[]
[]
[]
[null,"Referenced from: Microsoft.com"]

{"sheet":"Build History","index":1,"n_rows":10,"n_cols":2,"rows_kept":10,"cut":false,"hidden":false,"merged":[[1,0,1,1],[0,0,0,1]]}
[]
["MDOT HSM Spreadsheet Build History"]
["Date:","Notes:"]
["2014-08-13","Original Spreadsheet"]
["2014-01-14","Fix to enable calibration factor use"]
["2015-03-15","Minor calculation changes; added CMFs for median on urban 2U; urban 4-lane to 3-lane Road Diet"]
["2015-06-15","Added Urban and Suburban Intersection SPFs"]
["2015-09-15","Added CMFs from Michigan Older Driver research"]
["2016-08-16","Added Urban and Suburban Segment SPFs"]
["September 2018","Added Michigan Rural SPFs"]

{"sheet":"Inputs","index":2,"n_rows":22,"n_cols":13,"rows_kept":22,"cut":false,"hidden":false,"merged":[[18,1,18,4],[19,1,19,4],[20,1,20,4],[21,1,21,4],[0,4,2,4],[0,6,2,6],[13,1,13,4],[14,1,14,4],[15,1,15,4],[17,1,17,4],[0,5,2,5]]}
[null,null,null,null,"Rural 2-Lane","Rural multilane","Urban & Suburban",null,null,null,null,0,0]
[]
["HSM or Michigan Derived Values:","Michigan"]
["Site-Specific or Project Level Empirical Bayes (EB):","Site",null,"Observed Crashes per Year:"]
["Hide Calculations:","Y"]
["Use colored formatting for rankings:","Y"]
[]
["Display Empirical Bayes on Output?","Y"]
["Display Excess Crashes on Output?","Y"]
["Display Predicted Total Crashes on Output?","Y"]
["Display Predicted Fatal & Injury Crashes on Output?","Y"]
[]
[]
["Analyst:","John Doe"]
["Organization:","MDOT"]
["Date Performed:","2019-12-11"]
[]
["Project Name:","Example"]
["Control Section(s):"]
["PR Number(s):"]
["Job Number(s):"]
["Job Description:","Example Project"]

{"sheet":"Formats","index":3,"n_rows":47,"n_cols":233,"rows_kept":47,"cut":false,"hidden":true,"merged":[]}
[]
[]
[]
[]
[]
[]
[]
[]
[]
[]
[]
[]
[]
[]
[]
["Urban & Suburban Segments"]
["Example 1","SH 321","MP 0.0 to MP 1.5","Anywhere, USA","4D",1.5,11000,0,"None",0,16,"NP","NP",10,3,8,10,12,1,1.5,"Chippewa",{"$f":"VLOOKUP($U17,'Construction - Do Not Delete'!$K$83:$N$166,2,FALSE)","v":"Superior"},{"$f":"VLOOKUP($U17,'Construction - Do Not Delete'!$K$83:$N$166,3,FALSE)","v":"Superior"},{"$f":"VLOOKUP($U17,'Construction - Do Not Delete'!$K$83:$N$166,4,FALSE)","v":"Eastern UP Prosperity Region"},{"$f":"IF(OR($E17=\"2U55E\",$E17=\"2U55L\"),V17&\"2UFI\",$V17&$E17&\"FI\")","v":"Superior4DFI"},{"$f":"IF(OR($E17=\"2U55E\",$E17=\"2U55L\"),V17&\"2UPDO\",$V17&$E17&\"PDO\")","v":"Superior4DPDO"},25,15,"N/A (1.000)","N/A (1.000)","N/A (1.000)",null,1,null,null,null,null,{"$f":"CS17","v":0.78988941548183256},{"$f":"DB17","v":0.74183976261127593},{"$f":"FD17","v":1.2626262626262625},{"$f":"FM17","v":2.4752475247524752},{"$f":"1/(1+AL17*AH17)","v":1},{"$f":"1/(1+AM17*AI17)","v":1},{"$f":"1/(1+AN17*AJ17)","v":1},{"$f":"1/(1+AO17*AK17)","v":1},{"$f":"IF(AH17=\"\",\"\",AP17*CW17+(1-AP17)*AH17)","v":""},{"$f":"IF(AI17=\"\",\"\",AQ17*FH17+(1-AQ17)*AI17)","v":""},{"$f":"IF(AT17&AU17=\"\",\"\",IF(AT17=\"\",0,AT17)+IF(AU17=\"\",0,AU17))","v":""},{"$f":"IF(AH17&AI17=\"\",\"\",AV17-HT17)","v":""},{"$f":"IF(AJ17=\"\",\"\",AR17*DF17+(1-AR17)*AJ17)","v":""},{"$f":"IF(AK17=\"\",\"\",AS17*FQ17+(1-AS17)*AK17)","v":""},{"$f":"IF(AX17&AY17=\"\",\"\",IF(AX17=\"\",0,AX17)+IF(AY17=\"\",0,AY17))","v":""},{"$f":"IF(AJ17&AK17=\"\",\"\",AZ17-HQ17)","v":""},{"$f":"IF(AV17&AZ17=\"\",\"\",IF(AV17=\"\",0,AV17)+IF(AZ17=\"\",0,AZ17))","v":""},{"$f":"IF(AW17&BA17=\"\",\"\",IF(AW17=\"\",0,AW17)+IF(BA17=\"\",0,BA17))","v":""},{"$f":"AL17*(CW17)^2","v":0.15466440641222914},{"$f":"AM17*(FH17)^2","v":1.9075285244354475E-2},{"$f":"AN17*DF17^2","v":5.3393978530530211},{"$f":"AO17*FQ17^2","v":4.1766567302890811},{"$f":"SQRT(AL17*(CW17))","v":0.59120645659338789},{"$f":"SQRT(AM17*(FH17))","v":0.34490166204057143},{"$f":"SQRT(AN17*(DF17))","v":1.6113570191923665},{"$f":"SQRT(FQ17*(FJ17))","v":0.76029571449640587},{"$f":"1+$J17*(IF($I17=\"None\",1,(IF($I17=\"Parallel (Residential)\",VLOOKUP($E17,Tables!$G$718:$K$728,2,FALSE),(IF($I17=\"Parallel (Comm/Ind)\",VLOOKUP($E17,Tables!$G$718:$K$728,3,FALSE),(IF($I17=\"Angle (Residential)\",(VLOOKUP($E17,Tables!$G$718:$K$728,4,FALSE)),(VLOOKUP($E17,Tables!$G$718:$K$728,5,FALSE)))))))))-1)","v":1},{"$f":"$BW17","v":1.0350389716539539},{"$f":"IF($L17=\"P\",IF(OR($E17=\"2O\",$E17=\"3O\",$E17=\"4O\",$E17=\"6D\",$E17=\"8D\"),1,(1-($BZ17*(1-(0.72*$BX17)-(0.83*$BY17))))),1)","v":1},{"$f":"IF($M17=\"P\",0.95,1)","v":1},{"$f":"OFFSET(Tables!$AZ$1,MATCH(AC17,Tables!$AZ:$AZ,0)-1,1)","v":1},{"$f":"OFFSET(Tables!$AZ$1,MATCH(AD17,Tables!$AZ:$AZ,0)-1,1)","v":1},{"$f":"OFFSET(Tables!$AZ$1,MATCH(AE17,Tables!$AZ:$AZ,0)-1,1)","v":1},{"$f":"IF(AF17=\"\",1,AF17)","v":1},{"$f":"$BL17*$BM17*$BN17*$BO17*$BP17*$BQ17*$BR17*$BS17","v":1.0350389716539539},{"$f":"POWER(IF(OR($AB17>30,$AB17=\"\"),30,$AB17),-0.614)*0.3566","v":6.7617841919995467E-2},{"$f":"1+0.01*$AA17/EXP(0.131*IF(OR($AB17>30,$AB17=\"\"),30,$AB17))","v":1.0350389716539539},{"$f":"IF(+BV17<1,1,BV17)","v":1.0350389716539539},{"$f":"IF(Inputs!$B$3=\"HSM\",(VLOOKUP(IF(OR($E17=\"2U55L\",$E17=\"2U55E\"),\"2U\",$E17),Tables!$B$257:$N$262,4,FALSE)),(VLOOKUP(IF(OR($E17=\"2U55L\",$E17=\"2U55E\"),\"2U\",$E17),Tables!$B$257:$N$262,9,FALSE)))","v":0.36399999999999999},{"$f":"IF(Inputs!$B$3=\"HSM\",(VLOOKUP(IF(OR($E17=\"2U55L\",$E17=\"2U55E\"),\"2U\",$E17),Tables!$B$257:$N$262,6,FALSE)),(VLOOKUP(IF(OR($E17=\"2U55L\",$E17=\"2U55E\"),\"2U\",$E17),Tables!$B$257:$N$262,11,FALSE)))","v":0.63600000000000001},{"$f":"IF(Inputs!$B$3=\"HSM\",(VLOOKUP(IF(OR($E17=\"2U55L\",$E17=\"2U55E\"),\"2U\",$E17),Tables!$B$257:$N$262,7,FALSE)),(VLOOKUP(IF(OR($E17=\"2U55L\",$E17=\"2U55E\"),\"2U\",$E17),Tables!$B$257:$N$262,12,FALSE)))","v":0.41},{"$f":"N17/$F17","v":6.666666666666667},{"$f":"O17/$F17","v":2},{"$f":"P17/$F17","v":5.333333333333333},{"$f":"Q17/$F17","v":6.666666666666667},{"$f":"IF(OR($E17=\"2O\",$E17=\"3O\",$E17=\"4O\"),1,EXP(Tables!$E$517*($R17-12)))","v":1},{"$f":"IF(OR($E17=\"2O\",$E17=\"3O\",$E17=\"4O\"),EXP(-0.0201*($T17-4))/EXP(0.0804),EXP(Tables!$E$518*($S17-1)))","v":1},{"$f":"IF(NOT(OR($E17=\"4D\",$E17=\"6D\",$E17=\"8D\")),1,EXP(Tables!$E$519*(SQRT($K17)-4)))","v":1},{"$f":"IF(OR($E17=\"2O\",$E17=\"3O\",$E17=\"4O\"),EXP(Tables!$U$484*($CA17-10)),EXP(Tables!$E$520*($CA17-10))*EXP(Tables!$E$521*($CB17-3))*EXP(Tables!$E$522*($CC17-8))*EXP(Tables!$E$523*($CD17-10)))","v":0.93519520133677669},{"$f":"IF(OR($E17=\"2O\",$E17=\"3O\",$E17=\"4O\"),1,EXP(Tables!$E$520*(CA17-10))*EXP(Tables!$E$521*($CB17-3))*EXP(Tables!$E$522*($CC17-8))*EXP(Tables!$E$523*($CD17-10)))","v":0.93519520133677669},{"$f":"IF(OR($E17=\"2O\",$E17=\"3O\",$E17=\"4O\"),1,EXP(Tables!$M$517*($R17-12)))","v":1},{"$f":"IF(OR($E17=\"2O\",$E17=\"3O\",$E17=\"4O\"),EXP(-0.0201*($T17-4))/EXP(0.0804),EXP(Tables!$M$518*($S17-1)))","v":1},{"$f":"IF(NOT(OR($E17=\"4D\",$E17=\"6D\",$E17=\"8D\")),1,EXP(Tables!$M$519*(SQRT($K17)-4)))","v":1},{"$f":"IF(OR($E17=\"2O\",$E17=\"3O\",$E17=\"4O\"),EXP(Tables!$U$484*($CA17-10)),EXP(Tables!$M$520*(CA17-10))*EXP(Tables!$M$521*($CB17-3))*EXP(Tables!$M$522*($CC17-8))*EXP(Tables!$M$523*($CD17-10)))","v":0.93208307375988131},{"$f":"IF(OR($E17=\"2O\",$E17=\"3O\",$E17=\"4O\"),1,EXP(Tables!$M$520*(CA17-10))*EXP(Tables!$M$521*($CB17-3))*EXP(Tables!$M$522*($CC17-8))*EXP(Tables!$M$523*($CD17-10)))","v":0.93208307375988131},{"$f":"IF(OR($E17=\"2O\",$E17=\"3O\",$E17=\"4O\"),VLOOKUP($E17,Tables!$T$476:$Z$478,2,FALSE),VLOOKUP($E17,Tables!$D$476:$G$483,2,FALSE))","v":-16.829000000000001},{"$f":"IF(OR($E17=\"2O\",$E17=\"3O\",$E17=\"4O\"),Tables!$U$479,VLOOKUP($E17,Tables!$D$484:$G$491,2, FALSE))","v":1.702},{"$f":"IF(OR($E17=\"2O\",$E17=\"3O\",$E17=\"4O\"),VLOOKUP($V17,Tables!$S$485:$U$492,3,FALSE),VLOOKUP($V17,Tables!$C$509:$E$516,3,FALSE))","v":-0.16300000000000001},{"$f":"IF(OR($E17=\"2O\",$E17=\"3O\",$E17=\"4O\"),1,Tables!$E$508)","v":1.1439999999999999},{"$f":"IF(OR($E17=\"2O\",$E17=\"3O\",$E17=\"4O\"),1/VLOOKUP($E17,Tables!$T$493:$Z$495,2,FALSE),1/VLOOKUP($E17,Tables!$D$524:$G$531,2, FALSE))","v":0.78988941548183256},{"$f":"EXP($CO17+($CP17*LN($G17))+LN($F17)+$CQ17*1+$CR17*$H17)","v":0.47316190614933468},{"$f":"+$BT17*$CE17*$CF17*$CG17*$CH17/BM17","v":0.93519520133677669},{"$f":"$AG17","v":1},{"$f":"CT17*CU17*CV17","v":0.44249874408622009},{"$f":"IF(OR($E17=\"2O\",$E17=\"3O\",$E17=\"4O\"),VLOOKUP($E17,Tables!$AE$476:$AH$478,2,FALSE),VLOOKUP($E17,Tables!$L$476:$O$483,2, FALSE))","v":-12.67},{"$f":"IF(OR($E17=\"2O\",$E17=\"3O\",$E17=\"4O\"),Tables!$AF$479,VLOOKUP($E17,Tables!$L$484:$O$491,2,FALSE))","v":1.403},{"$f":"IF(OR($E17=\"2O\",$E17=\"3O\",$E17=\"4O\"),VLOOKUP($V17,Tables!$AD$485:$AF$492,3,FALSE),VLOOKUP($V17,Tables!$K$509:$M$516,3,FALSE))","v":0},{"$f":"IF(OR($E17=\"2O\",$E17=\"3O\",$E17=\"4O\"),1,Tables!$M$508)","v":1.486},{"$f":"IF(OR($E17=\"2O\",$E17=\"3O\",$E17=\"4O\"),1/VLOOKUP($E17,Tables!$AE$493:$AH$495,2,FALSE),1/VLOOKUP($E17,Tables!$L$524:$O$531,2, FALSE))","v":0.74183976261127593},{"$f":"EXP($CX17+($CY17*LN($G17))+LN($F17)+$CZ17*1+$DA17*$H17)","v":2.2062468904180146},{"$f":"+$BT17*$CJ17*$CK17*$CL17*$CM17/BM17","v":0.93208307375988131},{"$f":"$AG17","v":1},{"$f":"DD17*DE17*DC17","v":2.056405383094003},{"$f":"VLOOKUP($Y17,Tables!$P$545:$AB$704,2,FALSE)","v":0.47619047619047616},{"$f":"+$CW17*DG17","v":0.21071368766010479},{"$f":"VLOOKUP($Z17,Tables!$P$545:$AB$704,2,FALSE)","v":0.40540540540540543},{"$f":"+$DF17*DI17","v":0.8336778580110823},{"$f":"DH17+DJ17","v":1.044391545671187},{"$f":"VLOOKUP($Y17,Tables!$P$545:$AB$704,3,FALSE)","v":1.0526315789473684E-2},{"$f":"+$CW17*DL17","v":4.6578815166970532E-3},{"$f":"VLOOKUP($Z17,Tables!$P$545:$AB$704,3,FALSE)","v":0},{"$f":"+$DF17*DN17","v":0},{"$f":"DM17+DO17","v":4.6578815166970532E-3},{"$f":"VLOOKUP($Y17,Tables!$P$545:$AB$704,4,FALSE)","v":2.1052631578947368E-2},{"$f":"+$CW17*DQ17","v":9.3157630333941064E-3},{"$f":"VLOOKUP($Z17,Tables!$P$545:$AB$704,4,FALSE)","v":2.3809523809523808E-2},{"$f":"+$DF17*DS17","v":4.8962032930809592E-2},{"$f":"DR17+DT17","v":5.8277795964203696E-2},{"$f":"VLOOKUP($Y17,Tables!$P$545:$AB$704,5,FALSE)","v":3.1578947368421054E-2},{"$f":"+$CW17*DV17","v":1.397364455009116E-2},{"$f":"VLOOKUP($Z17,Tables!$P$545:$AB$704,5,FALSE)","v":2.3809523809523808E-2},{"$f":"+$DF17*DX17","v":4.8962032930809592E-2},{"$f":"DW17+DY17","v":6.2935677480900759E-2},{"$f":"VLOOKUP($Y17,Tables!$P$545:$AB$704,6,FALSE)","v":3.8596491228070177E-2},{"$f":"+$CW17*EA17","v":1.7078898894555865E-2},{"$f":"VLOOKUP($Z17,Tables!$P$545:$AB$704,6,FALSE)","v":2.3809523809523808E-2},{"$f":"+$DF17*EC17","v":4.8962032930809592E-2},{"$f":"EB17+ED17","v":6.6040931825365454E-2},{"$f":"VLOOKUP($Y17,Tables!$P$545:$AB$704,7,FALSE)","v":0.256140350877193},{"$f":"+$CW17*EF17","v":0.11334178357296164},{"$f":"VLOOKUP($Z17,Tables!$P$545:$AB$704,7,FALSE)","v":0.16666666666666666},{"$f":"+$DF17*EH17","v":0.34273423051566715},{"$f":"EG17+EI17","v":0.4560760140886288},{"$f":"VLOOKUP($Y17,Tables!$P$545:$AB$704,8,FALSE)","v":0},{"$f":"+$CW17*EK17","v":0},{"$f":"VLOOKUP($Z17,Tables!$P$545:$AB$704,8,FALSE)","v":0},{"$f":"+$DF17*EM17","v":0},{"$f":"EL17+EN17","v":0},{"$f":"VLOOKUP($Y17,Tables!$P$545:$AB$704,9,FALSE)","v":0},{"$f":"+$CW17*EP17","v":0},{"$f":"VLOOKUP($Z17,Tables!$P$545:$AB$704,9,FALSE)","v":0},{"$f":"+$DF17*ER17","v":0},{"$f":"EQ17+ES17","v":0},{"$f":"VLOOKUP($Y17,Tables!$P$545:$AB$704,10,FALSE)","v":0},{"$f":"+$CW17*EU17","v":0},{"$f":"VLOOKUP($Z17,Tables!$P$545:$AB$704,10,FALSE)","v":0},{"$f":"+$DF17*EW17","v":0},{"$f":"EV17+EX17","v":0},{"$f":"IF(OR($E17=\"2O\",$E17=\"3O\",$E17=\"4O\"),VLOOKUP($E17,Tables!$T$480:$Z$482,2,FALSE),VLOOKUP($E17,Tables!$D$492:$G$499,2,FALSE))","v":-7.8470000000000004},{"$f":"IF(OR($E17=\"2O\",$E17=\"3O\",$E17=\"4O\"),Tables!$U$483,VLOOKUP($E17,Tables!$D$500:$G$507,2, FALSE))","v":0.624},{"$f":"IF(OR($E17=\"2O\",$E17=\"3O\",$E17=\"4O\"),VLOOKUP($V17,Tables!$S$485:$U$492,3,FALSE),VLOOKUP($V17,Tables!$C$509:$E$516,3,FALSE))","v":-0.16300000000000001},{"$f":"IF(OR($E17=\"2O\",$E17=\"3O\",$E17=\"4O\"),1,Tables!$E$508)","v":1.1439999999999999},{"$f":"IF(OR($E17=\"2O\",$E17=\"3O\",$E17=\"4O\"),1/VLOOKUP($E17,Tables!$T$496:$Z$498,2,FALSE),1/VLOOKUP($E17,Tables!$D$532:$G$539,2, FALSE))","v":1.2626262626262625},{"$f":"EXP($EZ17+($FA17*LN($G17))+LN($F17)+$FB17*1+$FC17*$H17)","v":0.16566146381653113},{"$f":"+$BT17*$CE17*$CF17*$CG17*$CH17","v":0.96796347948732964},{"$f":"$AG17","v":1},{"$f":"FE17*FF17*FG17","v":0.16035424693281383},{"$f":"IF(OR($E17=\"2O\",$E17=\"3O\",$E17=\"4O\"),VLOOKUP($E17,Tables!$AE$480:$AH$482,2,FALSE),VLOOKUP($E17,Tables!$L$492:$O$499,2, FALSE))","v":-4.2489999999999997},{"$f":"IF(OR($E17=\"2O\",$E17=\"3O\",$E17=\"4O\"),Tables!$AF$483,VLOOKUP($E17,Tables!$L$500:$O$507,2,FALSE))","v":0.44500000000000001},{"$f":"IF(OR($E17=\"2O\",$E17=\"3O\",$E17=\"4O\"),VLOOKUP($V17,Tables!$AD$485:$AF$492,3,FALSE),VLOOKUP($V17,Tables!$K$509:$M$516,3,FALSE))","v":0},{"$f":"IF(OR($E17=\"2O\",$E17=\"3O\",$E17=\"4O\"),1,Tables!$M$508)","v":1.486},{"$f":"IF(OR($E17=\"2O\",$E17=\"3O\",$E17=\"4O\"),1/VLOOKUP($E17,Tables!$AE$496:$AH$498,2,FALSE),1/VLOOKUP($E17,Tables!$L$532:$O$539,2, FALSE))","v":2.4752475247524752},{"$f":"EXP($FI17+($FJ17*LN($G17))+LN($F17)+$FK17*1+$FL17*$H17)","v":1.3464609121853361},{"$f":"+$BT17*$CJ17*$CK17*$CL17*$CM17","v":0.96474230616048395},{"$f":"$AG17","v":1},{"$f":"FO17*FP17*FN17","v":1.29898780557663},{"$f":"CW17","v":0.44249874408622009},{"$f":"FH17","v":0.16035424693281383},{"$f":"FR17+FS17","v":0.60285299101903389},{"$f":"VLOOKUP($E17,Tables!$A$712:$D$722,2,FALSE)","v":2.5000000000000001E-3},{"$f":"$AG17","v":1},{"$f":"+$FT17*$FU17*$FV17","v":1.5071324775475848E-3},{"$f":"CW17+DF17","v":2.4989041271802233},{"$f":"FH17+FQ17","v":1.4593420525094438},{"$f":"FX17+FY17","v":3.9582461796896671},{"$f":"VLOOKUP($E17,Tables!$A$712:$D$722,3,FALSE)","v":2.2000000000000001E-3},{"$f":"$AG17","v":1},{"$f":"+$FZ17*$GA17*$GB17","v":8.7081415953172685E-3},{"$f":"VLOOKUP($E17,Tables!$A$712:$D$722,4,FALSE)","v":0.87},{"$f":"$AG17","v":1},{"$f":"GC17*GD17*GE17","v":7.5760831879260237E-3},{"$f":"DH17","v":0.21071368766010479},{"$f":"DM17","v":4.6578815166970532E-3},{"$f":"DR17","v":9.3157630333941064E-3},{"$f":"DW17","v":1.397364455009116E-2},{"$f":"EB17","v":1.7078898894555865E-2},{"$f":"EG17","v":0.11334178357296164},{"$f":"EL17","v":0},{"$f":"EQ17","v":0},{"$f":"EV17","v":0},{"$f":"SUM(GG17:GO17)","v":0.36908165922780461},{"$f":"FH17","v":0.16035424693281383},{"$f":"GP17+GQ17","v":0.52943590616061842},{"$f":"DJ17","v":0.8336778580110823},{"$f":"DO17","v":0},{"$f":"DT17","v":4.8962032930809592E-2},{"$f":"DY17","v":4.8962032930809592E-2},{"$f":"ED17","v":4.8962032930809592E-2},{"$f":"EI17","v":0.34273423051566715},{"$f":"EN17","v":0},{"$f":"ES17","v":0},{"$f":"EX17","v":0},{"$f":"SUM(GS17:HA17)","v":1.3232981873191783},{"$f":"FQ17","v":1.29898780557663},{"$f":"HB17+HC17","v":2.622285992895808},{"$f":"GG17+GS17","v":1.044391545671187},4.6578815166970532E-3,5.8277795964203696E-2,6.2935677480900759E-2,6.6040931825365454E-2,0.4560760140886288,0,0,0,{"$f":"SUM(HE17:HM17)","v":1.6923798465469828},{"$f":"GQ17+HC17","v":1.4593420525094438},{"$f":"SUM(HN17+HO17)","v":3.1517218990564269},{"$f":"+HD17","v":2.622285992895808},{"$f":"+F17","v":1.5},{"$f":"+HQ17/HR17","v":1.7481906619305387},{"$f":"+GR17","v":0.52943590616061842},{"$f":"+F17","v":1.5},{"$f":"+HT17/HU17","v":0.35295727077374561},{"$f":"+HP17","v":3.1517218990564269},{"$f":"+F17","v":1.5},{"$f":"IF(ISERROR(+HW17/HX17),\"-\",+HW17/HX17)","v":2.1011479327042846}]
[]
[]
[]
[]
["Urban and Suburban Intersections"]
["Example 1","SH-321","3rd Avenue","Anywhere, USA","4SG","Two-Way","One-Way",15000,7500,"Not Present","Not Present",4,2,40,"Permitted","Not Present","Not Present","Statewide",{"$f":"VLOOKUP($R23,'Construction - Do Not Delete'!$K$83:$N$166,2,FALSE)","v":"Statewide"},{"$f":"VLOOKUP($R23,'Construction - Do Not Delete'!$K$83:$N$166,3,FALSE)","v":"Statewide"},{"$f":"VLOOKUP($R23,'Construction - Do Not Delete'!$K$83:$N$166,4,FALSE)","v":"Statewide"},{"$f":"S23&E23","v":"Statewide4SG"},"N/A (1.000)","N/A (1.000)","N/A (1.000)",null,null,null,null,null,{"$f":"IF(AND(AA23=\"\",AB23=\"\"),\"\",SUM(AA23:AB23))","v":""},{"$f":"IF(AND(AC23=\"\",AD23=\"\"),\"\",SUM(AC23:AD23))","v":""},{"$f":"IF(AND($F23<>\"One-Way\",$G23<>\"One-Way\"),1/VLOOKUP($V23,'MI Specific Tables'!$E$4:$AA$35,22,FALSE),\"NA\")","v":"NA"},{"$f":"IF(AND($F23<>\"One-Way\",$G23<>\"One-Way\"),1/VLOOKUP($V23,'MI Specific Tables'!$E$4:$AA$35,23,FALSE),\"NA\")","v":"NA"},{"$f":"IF(AND($F23<>\"One-Way\",$G23<>\"One-Way\"),\"NA\",1/VLOOKUP($V23,'MI Specific Tables'!$AG$4:$AR$35,12,FALSE))","v":0.36791758646063283},{"$f":"IF(AND($F23<>\"One-Way\",$G23<>\"One-Way\"),1/VLOOKUP($V23,'MI Specific Tables'!$E$36:$AA$67,22,FALSE),\"NA\")","v":"NA"},{"$f":"IF(AND($F23<>\"One-Way\",$G23<>\"One-Way\"),1/VLOOKUP($V23,'MI Specific Tables'!$E$36:$AA$67,23,FALSE),\"NA\")","v":"NA"},{"$f":"IF(AND($F23<>\"One-Way\",$G23<>\"One-Way\"),\"NA\",1/VLOOKUP($V23,'MI Specific Tables'!$AG$36:$AR$67,12,FALSE))","v":0.37993920972644374},{"$f":"IF(AND($F23<>\"One-Way\",$G23<>\"One-Way\"),1/(1+$AG23*$CH23),\"NA\")","v":"NA"},{"$f":"IF(AND($F23<>\"One-Way\",$G23<>\"One-Way\"),1/(1+$AH23*$CI23),\"NA\")","v":"NA"},{"$f":"IF(AND($F23<>\"One-Way\",$G23<>\"One-Way\"),\"NA\",1/(1+$AI23*$CL23))","v":0.7386331050085877},{"$f":"IF(AND($F23<>\"One-Way\",$G23<>\"One-Way\"),1/(1+$AJ23*$CJ23),\"NA\")","v":"NA"},{"$f":"IF(AND($F23<>\"One-Way\",$G23<>\"One-Way\"),1/(1+$AK23*$CK23),\"NA\")","v":"NA"},{"$f":"IF(AND($F23<>\"One-Way\",$G23<>\"One-Way\"),\"NA\",1/(1+$AL23*$CM23))","v":0.39041888486739179},{"$f":"IF($AA23=\"\",\"\",IF($AM23=\"NA\",\"NA\",$AM23*$CH23+((1-$AM23)*$AA23)))","v":""},{"$f":"IF($AB23=\"\",\"\",IF($AN23=\"NA\",\"NA\",$AN23*$CI23+((1-$AN23)*$AB23)))","v":""},{"$f":"IF(AE23=\"\",\"\",IF(AND($F23<>\"One-Way\",$G23<>\"One-Way\"),\"NA\",($AO23*$CL23+((1-$AO23)*$AE23))))","v":""},{"$f":"IF($AC23=\"\",\"\",IF($AP23=\"NA\",\"NA\",$AP23*$CJ23+((1-$AP23)*$AC23)))","v":""},{"$f":"IF($AD23=\"\",\"\",IF($AQ23=\"NA\",\"NA\",$AQ23*$CK23+((1-$AQ23)*$AD23)))","v":""},{"$f":"IF(AF23=\"\",\"\",IF(AND($F23<>\"One-Way\",$G23<>\"One-Way\"),\"NA\",($AR23*$CM23+((1-$AR23)*$AF23))))","v":""},{"$f":"IF(AND($AS23=\"\",$AV23=\"\"),\"\",IF(AND($F23<>\"One-Way\",$G23<>\"One-Way\"),SUM($AS23,$AV23),\"NA\"))","v":""},{"$f":"IF(AND($AT23=\"\",$AW23=\"\"),\"\",IF(AND($F23<>\"One-Way\",$G23<>\"One-Way\"),SUM($AT23,$AW23),\"NA\"))","v":""},{"$f":"IF(AND(AU23=\"\",AX23=\"\"),\"\",IF(AND($F23<>\"One-Way\",$G23<>\"One-Way\"),\"NA\",SUM($AU23,$AX23)))","v":""},{"$f":"IF(AA23&AB23&AC23&AD23=\"\",\"\",IF(AND($F23<>\"One-Way\",$G23<>\"One-Way\"),SUM($AY23:$AZ23),$BA23))","v":""},{"$f":"IF(AA23&AB23&AC23&AD23=\"\",\"\",$BB23-$DO23)","v":""},{"$f":"IF(AND($F23<>\"One-Way\",$G23<>\"One-Way\"),SUM($AS23)*$CH23^2,\"NA\")","v":"NA"},{"$f":"IF(AND($F23<>\"One-Way\",$G23<>\"One-Way\"),SUM($AT23)*$CI23^2,\"NA\")","v":"NA"},{"$f":"IF(AND($F23<>\"One-Way\",$G23<>\"One-Way\"),\"NA\",SUM($AU23)*$CL23^2)","v":0},{"$f":"IF(AND($F23<>\"One-Way\",$G23<>\"One-Way\"),SUM($AV23)*$CJ23^2,\"NA\")","v":"NA"},{"$f":"IF(AND($F23<>\"One-Way\",$G23<>\"One-Way\"),SUM($AW23)*$CK23^2,\"NA\")","v":"NA"},{"$f":"IF(AND($F23<>\"One-Way\",$G23<>\"One-Way\"),\"NA\",SUM($AX23)*$CM23^2)","v":0},{"$f":"IF(AND($F23<>\"One-Way\",$G23<>\"One-Way\"),SQRT(SUM($AS23)*$CH23),\"NA\")","v":"NA"},{"$f":"IF(AND($F23<>\"One-Way\",$G23<>\"One-Way\"),SQRT(SUM($AT23)*$CI23),\"NA\")","v":"NA"},{"$f":"IF(AND($F23<>\"One-Way\",$G23<>\"One-Way\"),\"NA\",SQRT(SUM($AU23)*$CL23))","v":0},{"$f":"IF(AND($F23<>\"One-Way\",$G23<>\"One-Way\"),SQRT(SUM($AV23)*$CJ23),\"NA\")","v":"NA"},{"$f":"IF(AND($F23<>\"One-Way\",$G23<>\"One-Way\"),SQRT(SUM($AW23)*$CK23),\"NA\")","v":"NA"},{"$f":"IF(AND($F23<>\"One-Way\",$G23<>\"One-Way\"),\"NA\",SQRT(SUM($AX23)*$CM23))","v":0},{"$f":"H23/(H23+I23)","v":0.66666666666666663},{"$f":"1-BP23","v":0.33333333333333337},{"$f":"IF(OR($F23=\"One-Way\",$G23=\"One-Way\"),1,EXP(VLOOKUP($V23,'MI Specific Tables'!$E$4:$AA$35,15,FALSE)*IF($J23=\"Present\",1,0))*EXP(VLOOKUP($V23,'MI Specific Tables'!$E$4:$AA$35,16,FALSE)*IF($K23=\"Present\",1,0)))","v":1},{"$f":"IF(OR($F23=\"One-Way\",$G23=\"One-Way\"),1,EXP(VLOOKUP($V23,'MI Specific Tables'!$E$4:$AA$35,17,FALSE)*IF($P23=\"Present\",1,0)))","v":1},{"$f":"(IF(OR($F23=\"One-Way\",$G23=\"One-Way\"),(EXP(VLOOKUP($V23,'MI Specific Tables'!$AG$4:$AR$35,11,FALSE)*($L23-4))*$BP23+(1-$BP23))*(EXP(VLOOKUP($V23,'MI Specific Tables'!$AG$4:$AR$35,11,FALSE)*($M23-2))*$BQ23+(1-$BQ23)),(EXP(VLOOKUP($V23,'MI Specific Tables'!$E$4:$AA$35,18,FALSE)*($L23-4))*$BP23+(1-$BP23))*(EXP(VLOOKUP($V23,'MI Specific Tables'!$E$4:$AA$35,18,FALSE)*($M23-2))*$BQ23+(1-$BQ23))))","v":1},{"$f":"IF(OR($F23=\"One-Way\",$G23=\"One-Way\"),1,EXP(VLOOKUP($V23,'MI Specific Tables'!$E$4:$AA$35,19,FALSE)*($N23-40)))","v":1},{"$f":"IF(OR($F23=\"One-Way\",$G23=\"One-Way\"),1,EXP(VLOOKUP($V23,'MI Specific Tables'!$E$4:$AA$35,20,FALSE)*(1-IF($O23=\"Prohibited\",0,1))))","v":1},{"$f":"IF(OR($F23=\"One-Way\",$G23=\"One-Way\"),1,EXP(VLOOKUP($V23,'MI Specific Tables'!$E$4:$AA$35,21,FALSE)*IF($Q23=\"Present\",1,0)))","v":1},{"$f":"IF(OR($F23=\"One-Way\",$G23=\"One-Way\"),1,EXP(VLOOKUP($V23,'MI Specific Tables'!$E$36:$AA$67,15,FALSE)*IF($J23=\"Present\",1,0))*EXP(VLOOKUP($V23,'MI Specific Tables'!$E$36:$AA$67,16,FALSE)*IF($K23=\"Present\",1,0)))","v":1},{"$f":"IF(OR($F23=\"One-Way\",$G23=\"One-Way\"),1,EXP(VLOOKUP($V23,'MI Specific Tables'!$E$36:$AA$67,17,FALSE)*IF($P23=\"Present\",1,0)))","v":1},{"$f":"(IF(OR($F23=\"One-Way\",$G23=\"One-Way\"),(EXP(VLOOKUP($V23,'MI Specific Tables'!$AG$36:$AR$67,11,FALSE)*($L23-4))*$BP23+(1-$BP23))*(EXP(VLOOKUP($V23,'MI Specific Tables'!$AG$36:$AR$67,11,FALSE)*($M23-2))*$BQ23+(1-$BQ23)),(EXP(VLOOKUP($V23,'MI Specific Tables'!$E$36:$AA$67,18,FALSE)*($L23-4))*$BP23+(1-$BP23))*(EXP(VLOOKUP($V23,'MI Specific Tables'!$E$36:$AA$67,18,FALSE)*($M23-2))*$BQ23+(1-$BQ23))))","v":1},{"$f":"IF(OR($F23=\"One-Way\",$G23=\"One-Way\"),1,EXP(VLOOKUP($V23,'MI Specific Tables'!$E$36:$AA$67,19,FALSE)*($N23-40)))","v":1},{"$f":"IF(OR($F23=\"One-Way\",$G23=\"One-Way\"),1,EXP(VLOOKUP($V23,'MI Specific Tables'!$E$36:$AA$67,20,FALSE)*(1-IF($O23=\"Permitted\",1,0))))","v":1},{"$f":"IF(OR($F23=\"One-Way\",$G23=\"One-Way\"),1,EXP(VLOOKUP($V23,'MI Specific Tables'!$E$36:$AA$67,21,FALSE)*IF($Q23=\"Present\",1,0)))","v":1},{"$f":"IF(AND($F23=\"Two-Way\",$G23=\"Two-Way\"),EXP(VLOOKUP($V23,'MI Specific Tables'!$E$4:$AA$35,2,FALSE)+VLOOKUP($V23,'MI Specific Tables'!$E$4:$AA$35,3,FALSE)*LN($H23)+VLOOKUP($V23,'MI Specific Tables'!$E$4:$AA$35,4,FALSE)*LN($I23)+VLOOKUP($V23,'MI Specific Tables'!$E$4:$AA$35,8,FALSE)+VLOOKUP($V23,'MI Specific Tables'!$E$4:$AA$35,9,FALSE)+VLOOKUP($V23,'MI Specific Tables'!$E$4:$AA$35,10,FALSE)+VLOOKUP($V23,'MI Specific Tables'!$E$4:$AA$35,11,FALSE)+VLOOKUP($V23,'MI Specific Tables'!$E$4:$AA$35,12,FALSE)+VLOOKUP($V23,'MI Specific Tables'!$E$4:$AA$35,13,FALSE)+VLOOKUP($V23,'MI Specific Tables'!$E$4:$AA$35,14,FALSE)),(EXP(VLOOKUP($V23,'MI Specific Tables'!$AG$4:$AR$35,2,FALSE)+VLOOKUP($V23,'MI Specific Tables'!$AG$4:$AR$35,3,FALSE)*LN(SUM($H23:$I23))+VLOOKUP($V23,'MI Specific Tables'!$AG$4:$AR$35,4,FALSE)+VLOOKUP($V23,'MI Specific Tables'!$AG$4:$AR$35,5,FALSE)+VLOOKUP($V23,'MI Specific Tables'!$AG$4:$AR$35,6,FALSE)+VLOOKUP($V23,'MI Specific Tables'!$AG$4:$AR$35,7,FALSE)+VLOOKUP($V23,'MI Specific Tables'!$AG$4:$AR$35,8,FALSE)+VLOOKUP($V23,'MI Specific Tables'!$AG$4:$AR$35,9,FALSE)+VLOOKUP($V23,'MI Specific Tables'!$AG$4:$AR$35,10,FALSE))*(1-VLOOKUP($E23,'MI Specific Tables'!$BJ$4:$BL$7,3,FALSE))))","v":0.94253467852193162},{"$f":"IF(AND($F23=\"Two-Way\",$G23=\"Two-Way\"),EXP(VLOOKUP($V23,'MI Specific Tables'!$E$4:$AA$35,5,FALSE)+VLOOKUP($V23,'MI Specific Tables'!$E$4:$AA$35,6,FALSE)*LN($H23)+VLOOKUP($V23,'MI Specific Tables'!$E$4:$AA$35,7,FALSE)*LN($I23)+VLOOKUP($V23,'MI Specific Tables'!$E$4:$AA$35,8,FALSE)+VLOOKUP($V23,'MI Specific Tables'!$E$4:$AA$35,9,FALSE)+VLOOKUP($V23,'MI Specific Tables'!$E$4:$AA$35,10,FALSE)+VLOOKUP($V23,'MI Specific Tables'!$E$4:$AA$35,11,FALSE)+VLOOKUP($V23,'MI Specific Tables'!$E$4:$AA$35,12,FALSE)+VLOOKUP($V23,'MI Specific Tables'!$E$4:$AA$35,13,FALSE)+VLOOKUP($V23,'MI Specific Tables'!$E$4:$AA$35,14,FALSE)),(EXP(VLOOKUP($V23,'MI Specific Tables'!$AG$4:$AR$35,2,FALSE)+VLOOKUP($V23,'MI Specific Tables'!$AG$4:$AR$35,3,FALSE)*LN(SUM($H23:$I23))+VLOOKUP($V23,'MI Specific Tables'!$AG$4:$AR$35,4,FALSE)+VLOOKUP($V23,'MI Specific Tables'!$AG$4:$AR$35,5,FALSE)+VLOOKUP($V23,'MI Specific Tables'!$AG$4:$AR$35,6,FALSE)+VLOOKUP($V23,'MI Specific Tables'!$AG$4:$AR$35,7,FALSE)+VLOOKUP($V23,'MI Specific Tables'!$AG$4:$AR$35,8,FALSE)+VLOOKUP($V23,'MI Specific Tables'!$AG$4:$AR$35,9,FALSE)+VLOOKUP($V23,'MI Specific Tables'!$AG$4:$AR$35,10,FALSE))*(VLOOKUP($E23,'MI Specific Tables'!$BJ$4:$BL$7,3,FALSE))))","v":1.9235401602488402E-2},{"$f":"IF(AND($F23=\"Two-Way\",$G23=\"Two-Way\"),EXP(VLOOKUP($V23,'MI Specific Tables'!$E$36:$AA$67,2,FALSE)+VLOOKUP($V23,'MI Specific Tables'!$E$36:$AA$67,3,FALSE)*LN($H23)+VLOOKUP($V23,'MI Specific Tables'!$E$36:$AA$67,4,FALSE)*LN($I23)+VLOOKUP($V23,'MI Specific Tables'!$E$36:$AA$67,8,FALSE)+VLOOKUP($V23,'MI Specific Tables'!$E$36:$AA$67,9,FALSE)+VLOOKUP($V23,'MI Specific Tables'!$E$36:$AA$67,10,FALSE)+VLOOKUP($V23,'MI Specific Tables'!$E$36:$AA$67,11,FALSE)+VLOOKUP($V23,'MI Specific Tables'!$E$36:$AA$67,12,FALSE)+VLOOKUP($V23,'MI Specific Tables'!$E$36:$AA$67,13,FALSE)+VLOOKUP($V23,'MI Specific Tables'!$E$36:$AA$67,14,FALSE)),(EXP(VLOOKUP($V23,'MI Specific Tables'!$AG$36:$AR$67,2,FALSE)+VLOOKUP($V23,'MI Specific Tables'!$AG$36:$AR$67,3,FALSE)*LN(SUM($H23:$I23))+VLOOKUP($V23,'MI Specific Tables'!$AG$36:$AR$67,4,FALSE)+VLOOKUP($V23,'MI Specific Tables'!$AG$36:$AR$67,5,FALSE)+VLOOKUP($V23,'MI Specific Tables'!$AG$36:$AR$67,6,FALSE)+VLOOKUP($V23,'MI Specific Tables'!$AG$36:$AR$67,7,FALSE)+VLOOKUP($V23,'MI Specific Tables'!$AG$36:$AR$67,8,FALSE)+VLOOKUP($V23,'MI Specific Tables'!$AG$36:$AR$67,9,FALSE)+VLOOKUP($V23,'MI Specific Tables'!$AG$36:$AR$67,10,FALSE))*(1-VLOOKUP($E23,'MI Specific Tables'!$BJ$8:$BL$11,3,FALSE))))","v":3.9861928572096503},{"$f":"IF(AND($F23=\"Two-Way\",$G23=\"Two-Way\"),EXP(VLOOKUP($V23,'MI Specific Tables'!$E$36:$AA$67,5,FALSE)+VLOOKUP($V23,'MI Specific Tables'!$E$36:$AA$67,6,FALSE)*LN($H23)+VLOOKUP($V23,'MI Specific Tables'!$E$36:$AA$67,7,FALSE)*LN($I23)+VLOOKUP($V23,'MI Specific Tables'!$E$36:$AA$67,8,FALSE)+VLOOKUP($V23,'MI Specific Tables'!$E$36:$AA$67,9,FALSE)+VLOOKUP($V23,'MI Specific Tables'!$E$36:$AA$67,10,FALSE)+VLOOKUP($V23,'MI Specific Tables'!$E$36:$AA$67,11,FALSE)+VLOOKUP($V23,'MI Specific Tables'!$E$36:$AA$67,12,FALSE)+VLOOKUP($V23,'MI Specific Tables'!$E$36:$AA$67,13,FALSE)+VLOOKUP($V23,'MI Specific Tables'!$E$36:$AA$67,14,FALSE)),(EXP(VLOOKUP($V23,'MI Specific Tables'!$AG$36:$AR$67,2,FALSE)+VLOOKUP($V23,'MI Specific Tables'!$AG$36:$AR$67,3,FALSE)*LN(SUM($H23:$I23))+VLOOKUP($V23,'MI Specific Tables'!$AG$36:$AR$67,4,FALSE)+VLOOKUP($V23,'MI Specific Tables'!$AG$36:$AR$67,5,FALSE)+VLOOKUP($V23,'MI Specific Tables'!$AG$36:$AR$67,6,FALSE)+VLOOKUP($V23,'MI Specific Tables'!$AG$36:$AR$67,7,FALSE)+VLOOKUP($V23,'MI Specific Tables'!$AG$36:$AR$67,8,FALSE)+VLOOKUP($V23,'MI Specific Tables'!$AG$36:$AR$67,9,FALSE)+VLOOKUP($V23,'MI Specific Tables'!$AG$36:$AR$67,10,FALSE))*(VLOOKUP($E23,'MI Specific Tables'!$BJ$8:$BL$11,3,FALSE))))","v":0.12328431517143248},{"$f":"CD23*PRODUCT($BR23:$BW23)*VLOOKUP($W23,Tables!$BB$6:$BC$16,2,FALSE)*VLOOKUP($X23,Tables!$BB$6:$BC$16,2,FALSE)*VLOOKUP($Y23,Tables!$BB$6:$BC$16,2,FALSE)*IF($Z23=\"\",1,$Z23)","v":0.94253467852193162},{"$f":"CE23*PRODUCT($BR23:$BW23)*VLOOKUP($W23,Tables!$BB$6:$BC$16,2,FALSE)*VLOOKUP($X23,Tables!$BB$6:$BC$16,2,FALSE)*VLOOKUP($Y23,Tables!$BB$6:$BC$16,2,FALSE)*IF($Z23=\"\",1,$Z23)","v":1.9235401602488402E-2},{"$f":"CF23*PRODUCT($BX23:$CC23)*VLOOKUP($W23,Tables!$BB$6:$BC$16,2,FALSE)*VLOOKUP($X23,Tables!$BB$6:$BC$16,2,FALSE)*VLOOKUP($Y23,Tables!$BB$6:$BC$16,2,FALSE)*IF($Z23=\"\",1,$Z23)","v":3.9861928572096503},{"$f":"CG23*PRODUCT($BX23:$CC23)*VLOOKUP($W23,Tables!$BB$6:$BC$16,2,FALSE)*VLOOKUP($X23,Tables!$BB$6:$BC$16,2,FALSE)*VLOOKUP($Y23,Tables!$BB$6:$BC$16,2,FALSE)*IF($Z23=\"\",1,$Z23)","v":0.12328431517143248},{"$f":"SUM($CH23:$CI23)","v":0.96177008012442},{"$f":"SUM($CJ23:$CK23)","v":4.1094771723810828},{"$f":"SUM($CL23:$CM23)","v":5.0712472525055023},{"$f":"IF(AND($F23=\"Two-Way\",$G23=\"Two-Way\"),$CN23*VLOOKUP($E23,'MI Specific Tables'!$BW$4:$BZ$7,4,FALSE),$CN23*VLOOKUP($E23,'MI Specific Tables'!$CI$4:$CL$7,4,FALSE))","v":8.6211203292593547E-2},{"$f":"IF(AND($F23=\"Two-Way\",$G23=\"Two-Way\"),$CN23*VLOOKUP($E23,'MI Specific Tables'!$CB$5:$CG$8,6,FALSE),$CN23*VLOOKUP($E23,'MI Specific Tables'!$CN$5:$CS$8,6,FALSE))","v":6.5419089557320981E-2},{"$f":"IF(AND($F23=\"Two-Way\",$G23=\"Two-Way\"),$CP23*VLOOKUP($E23,'MI Specific Tables'!$CB$5:$CG$8,4,FALSE),$CP23*VLOOKUP($E23,'MI Specific Tables'!$CN$5:$CS$8,4,FALSE))","v":4.7101744481271107E-2},{"$f":"$CP23-$CQ23","v":1.8317345076049873E-2},{"$f":"$CE23*PRODUCT($BR23:$BW23)","v":1.9235401602488402E-2},{"$f":"$CG23*PRODUCT($BX23:$CC23)","v":0.12328431517143248},{"$f":"IF(AND($F23=\"Two-Way\",$G23=\"Two-Way\"),$CH23*VLOOKUP($V23,'MI Specific Tables'!$AX$4:$BG$35,2,FALSE),$CL23*VLOOKUP($E23,'MI Specific Tables'!$BJ$4:$BU$7,4,FALSE))","v":0.23082481922986078},{"$f":"IF(AND($F23=\"Two-Way\",$G23=\"Two-Way\"),$CJ23*VLOOKUP($V23,'MI Specific Tables'!$AX$36:$BG$67,2,FALSE),$CM23*VLOOKUP($E23,'MI Specific Tables'!$BJ$8:$BU$11,4,FALSE))","v":1.191748379990514},{"$f":"IF(AND($F23=\"Two-Way\",$G23=\"Two-Way\"),$CH23*VLOOKUP($V23,'MI Specific Tables'!$AX$4:$BG$35,3,FALSE),$CL23*VLOOKUP($E23,'MI Specific Tables'!$BJ$4:$BU$7,5,FALSE))","v":9.6177008012442011E-3},{"$f":"IF(AND($F23=\"Two-Way\",$G23=\"Two-Way\"),$CJ23*VLOOKUP($V23,'MI Specific Tables'!$AX$36:$BG$67,3,FALSE),$CM23*VLOOKUP($E23,'MI Specific Tables'!$BJ$8:$BU$11,5,FALSE))","v":4.1094771723810826E-2},{"$f":"IF(AND($F23=\"Two-Way\",$G23=\"Two-Way\"),$CH23*VLOOKUP($V23,'MI Specific Tables'!$AX$4:$BG$35,4,FALSE),$CL23*VLOOKUP($E23,'MI Specific Tables'!$BJ$4:$BU$7,6,FALSE))","v":9.6177008012442011E-3},{"$f":"IF(AND($F23=\"Two-Way\",$G23=\"Two-Way\"),$CJ23*VLOOKUP($V23,'MI Specific Tables'!$AX$36:$BG$67,4,FALSE),$CM23*VLOOKUP($E23,'MI Specific Tables'!$BJ$8:$BU$11,6,FALSE))","v":4.1094771723810826E-2},{"$f":"IF(AND($F23=\"Two-Way\",$G23=\"Two-Way\"),$CH23*VLOOKUP($V23,'MI Specific Tables'!$AX$4:$BG$35,5,FALSE),$CL23*VLOOKUP($E23,'MI Specific Tables'!$BJ$4:$BU$7,7,FALSE))","v":9.6177008012442011E-3},{"$f":"IF(AND($F23=\"Two-Way\",$G23=\"Two-Way\"),$CJ23*VLOOKUP($V23,'MI Specific Tables'!$AX$36:$BG$67,5,FALSE),$CM23*VLOOKUP($E23,'MI Specific Tables'!$BJ$8:$BU$11,7,FALSE))","v":4.1094771723810826E-2},{"$f":"IF(AND($F23=\"Two-Way\",$G23=\"Two-Way\"),$CH23*VLOOKUP($V23,'MI Specific Tables'!$AX$4:$BG$35,6,FALSE),$CL23*VLOOKUP($E23,'MI Specific Tables'!$BJ$4:$BU$7,8,FALSE))","v":2.8853102403732598E-2},{"$f":"IF(AND($F23=\"Two-Way\",$G23=\"Two-Way\"),$CJ23*VLOOKUP($V23,'MI Specific Tables'!$AX$36:$BG$67,6,FALSE),$CM23*VLOOKUP($E23,'MI Specific Tables'!$BJ$8:$BU$11,8,FALSE))","v":8.2189543447621652E-2},{"$f":"IF(AND($F23=\"Two-Way\",$G23=\"Two-Way\"),$CH23*VLOOKUP($V23,'MI Specific Tables'!$AX$4:$BG$35,7,FALSE),$CL23*VLOOKUP($E23,'MI Specific Tables'!$BJ$4:$BU$7,9,FALSE))","v":0.53859124486967525},{"$f":"IF(AND($F23=\"Two-Way\",$G23=\"Two-Way\"),$CJ23*VLOOKUP($V23,'MI Specific Tables'!$AX$36:$BG$67,7,FALSE),$CM23*VLOOKUP($E23,'MI Specific Tables'!$BJ$8:$BU$11,9,FALSE))","v":1.5616013255048116},{"$f":"IF(AND($F23=\"Two-Way\",$G23=\"Two-Way\"),$CH23*VLOOKUP($V23,'MI Specific Tables'!$AX$4:$BG$35,8,FALSE),$CL23*VLOOKUP($E23,'MI Specific Tables'!$BJ$4:$BU$7,10,FALSE))","v":7.6941606409953608E-2},{"$f":"IF(AND($F23=\"Two-Way\",$G23=\"Two-Way\"),$CJ23*VLOOKUP($V23,'MI Specific Tables'!$AX$36:$BG$67,8,FALSE),$CM23*VLOOKUP($E23,'MI Specific Tables'!$BJ$8:$BU$11,10,FALSE))","v":0.86299020620002731},{"$f":"IF(AND($F23=\"Two-Way\",$G23=\"Two-Way\"),$CH23*VLOOKUP($V23,'MI Specific Tables'!$AX$4:$BG$35,9,FALSE),$CL23*VLOOKUP($E23,'MI Specific Tables'!$BJ$4:$BU$7,11,FALSE))","v":9.6177008012442011E-3},{"$f":"IF(AND($F23=\"Two-Way\",$G23=\"Two-Way\"),$CJ23*VLOOKUP($V23,'MI Specific Tables'!$AX$36:$BG$67,9,FALSE),$CM23*VLOOKUP($E23,'MI Specific Tables'!$BJ$8:$BU$11,11,FALSE))","v":4.1094771723810826E-2},{"$f":"IF(AND($F23=\"Two-Way\",$G23=\"Two-Way\"),$CH23*VLOOKUP($V23,'MI Specific Tables'!$AX$4:$BG$35,10,FALSE),$CL23*VLOOKUP($E23,'MI Specific Tables'!$BJ$4:$BU$7,12,FALSE))","v":3.8470803204976804E-2},{"$f":"IF(AND($F23=\"Two-Way\",$G23=\"Two-Way\"),$CJ23*VLOOKUP($V23,'MI Specific Tables'!$AX$36:$BG$67,10,FALSE),$CM23*VLOOKUP($E23,'MI Specific Tables'!$BJ$8:$BU$11,12,FALSE))","v":0.12328431517143248},{"$f":"SUM($CN23:$CP23)","v":5.2228775453554173},{"$f":"SUM($CL23,$CO23,$CQ23)","v":1.0950830278982846},{"$f":"SUM($CM23,$CR23)","v":4.1277945174571329}]
[]
[]
["Rural 2-Lane Trunkline Segments (MI)"]
["Example 1","SH-111","MP 0.0 to MP 1.5","Anywhere, USA","Keweenaw",{"$f":"VLOOKUP($E27,'Construction - Do Not Delete'!$K$83:$N$166,3,FALSE)","v":"Superior"},1,10000,6,0,"Level",0,15,"NP","N/A (1.000)","N/A (1.000)","N/A (1.000)",null,null,null,null,null,{"$f":"1/(G27*EXP(0.65))","v":0.52204577676101604},{"$f":"1/(G27*EXP(0.889))","v":0.41106661390143395},{"$f":"1/(G27*EXP(1.069))","v":0.3433516974975665},{"$f":"1/(G27*EXP(0.622))","v":0.53686962389145954},{"$f":"1/(1+W27*BR27)","v":0.92543401332871567},{"$f":"1/(1+X27*BS27)","v":0.79432287222747366},{"$f":"1/(1+Y27*BT27)","v":0.92414927387043855},{"$f":"1/(1+Z27*BU27)","v":0.78411963626213532},{"$f":"IF(S27=\"\",\"\",AA27*BR27+((1-AA27)*S27))","v":""},{"$f":"IF(T27=\"\",\"\",AB27*BS27+((1-AB27)*T27))","v":""},{"$f":"IF(U27=\"\",\"\",AC27*BT27+((1-AC27)*U27))","v":""},{"$f":"IF(V27=\"\",\"\",AD27*BU27+((1-AD27)*V27))","v":""},{"$f":"IF(AND(S27=\"\",U27=\"\"),\"\",IF(AE27=\"\",0,AE27)+IF(AG27=\"\",0,AG27))","v":""},{"$f":"IF(AND(T27=\"\",V27=\"\"),\"\",IF(AF27=\"\",0,AF27)+IF(AH27=\"\",0,AH27))","v":""},{"$f":"IF(AND(AI27=\"\",AJ27=\"\"),\"\",IF(AI27=\"\",0,AI27)+IF(AJ27=\"\",0,AJ27))","v":""},{"$f":"IF(S27=\"\",\"\",AE27-BR27)","v":""},{"$f":"IF(T27=\"\",\"\",AF27-BS27)","v":""},{"$f":"IF(U27=\"\",\"\",AG27-BT27)","v":""},{"$f":"IF(V27=\"\",\"\",AH27-BU27)","v":""},{"$f":"IF(AND(AL27=\"\",AN27=\"\"),\"\",IF(AL27=\"\",0,AL27)+IF(AN27=\"\",0,AN27))","v":""},{"$f":"IF(AND(AM27=\"\",AO27=\"\"),\"\",IF(AM27=\"\",0,AM27)+IF(AO27=\"\",0,AO27))","v":""},{"$f":"IF(AND(AP27=\"\",AQ27=\"\"),\"\",IF(AP27=\"\",0,AP27)+IF(AQ27=\"\",0,AQ27))","v":""},{"$f":"EXP(-0.024*(I27-6))","v":1},{"$f":"EXP(0.714*(J27/G27))","v":1},{"$f":"EXP(0.021*(M27-15))","v":1},{"$f":"IF(K27=\"Rolling\",1.07,1)","v":1},{"$f":"EXP(0.005*L27*100)","v":1},{"$f":"OFFSET(Tables!$AP$1,MATCH(O27,Tables!$AP:$AP,0)-1,1)","v":1},{"$f":"OFFSET(Tables!$AP$1,MATCH(P27,Tables!$AP:$AP,0)-1,1)","v":1},{"$f":"OFFSET(Tables!$AP$1,MATCH(Q27,Tables!$AP:$AP,0)-1,1)","v":1},{"$f":"IF(R27=\"\",1,R27)","v":1},{"$f":"AS27*AT27*AV27*AW27*AX27*AY27*AZ27*BA27","v":1},{"$f":"AS27*AT27*AV27*AW27*AX27*AY27*AZ27*BA27*AU27","v":1},{"$f":"G27*EXP(BH27+(BN27*LN(H27))+BL27)","v":0.15434292436560376},{"$f":"G27*EXP(BI27+(BO27*LN(H27))+BM27)","v":0.62990742152150747},{"$f":"G27*EXP(BJ27+(BP27*LN(H27))+BL27)","v":0.23904431366293211},{"$f":"G27*EXP(BK27+(BQ27*LN(H27))+BM27)","v":0.5128164868109697},-6.8680000000000003,-6.891,-14.333,-13.461,{"$f":"VLOOKUP(F27,Rural_MI_Tables!$AC$3:$AE$9,2,FALSE)","v":-0.186},{"$f":"VLOOKUP(F27,Rural_MI_Tables!$AC$3:$AE$9,3,FALSE)","v":0},0.56299999999999994,0.69799999999999995,1.421,1.389,{"$f":"BD27*BB27","v":0.15434292436560376},{"$f":"BE27*BB27","v":0.62990742152150747},{"$f":"BF27*BC27","v":0.23904431366293211},{"$f":"BG27*BC27","v":0.5128164868109697},{"$f":"BR27+BT27","v":0.39338723802853587},{"$f":"BS27+BU27","v":1.1427239083324772},{"$f":"BV27+BW27","v":1.5361111463610131},{"$f":"IF(Inputs!$B$3=\"HSM\",(Tables!$G$25/100),(Tables!$K$25/100))","v":0.68500000000000005},{"$f":"+$BX27*BY27","v":1.052236135257294},{"$f":"IF(Inputs!$B$3=\"HSM\",Tables!$E$25/100,Tables!$I$25/100)","v":0.14199999999999999},{"$f":"+$BV27*CA27","v":5.5860987800052088E-2},{"$f":"IF(Inputs!$B$3=\"HSM\",Tables!$F$25/100,Tables!$J$25/100)","v":0.74400000000000011},{"$f":"+$BW27*CC27","v":0.85018658779936318},{"$f":"IF(Inputs!$B$3=\"HSM\",(Tables!$G$26/100),(Tables!$K$26/100))","v":1E-3},{"$f":"+$BX27*CE27","v":1.5361111463610131E-3},{"$f":"IF(Inputs!$B$3=\"HSM\",Tables!$E$26/100,Tables!$I$26/100)","v":9.0000000000000011E-3},{"$f":"+$BV27*CG27","v":3.5404851422568234E-3},{"$f":"IF(Inputs!$B$3=\"HSM\",Tables!$F$26/100,Tables!$J$26/100)","v":0},{"$f":"+$BW27*CI27","v":0},{"$f":"IF(Inputs!$B$3=\"HSM\",(Tables!$G$27/100),(Tables!$K$27/100))","v":2E-3},{"$f":"+$BX27*CK27","v":3.0722222927220262E-3},{"$f":"IF(Inputs!$B$3=\"HSM\",Tables!$E$27/100,Tables!$I$27/100)","v":1.3000000000000001E-2},{"$f":"+$BV27*CM27","v":5.1140340943709667E-3},{"$f":"IF(Inputs!$B$3=\"HSM\",Tables!$F$27/100,Tables!$J$27/100)","v":0},{"$f":"+$BW27*CO27","v":0},{"$f":"IF(Inputs!$B$3=\"HSM\",(Tables!$G$28/100),(Tables!$K$28/100))","v":0.04},{"$f":"+$BX27*CQ27","v":6.1444445854440526E-2},{"$f":"IF(Inputs!$B$3=\"HSM\",Tables!$E$28/100,Tables!$I$28/100)","v":0.16200000000000001},{"$f":"+$BV27*CS27","v":6.3728732560622808E-2},{"$f":"IF(Inputs!$B$3=\"HSM\",Tables!$F$28/100,Tables!$J$28/100)","v":2.5000000000000001E-2},{"$f":"+$BW27*CU27","v":2.8568097708311931E-2},{"$f":"IF(Inputs!$B$3=\"HSM\",(Tables!$G$29/100),(Tables!$K$29/100))","v":0.129},{"$f":"+$BX27*CW27","v":0.19815833788057069},{"$f":"IF(Inputs!$B$3=\"HSM\",Tables!$E$29/100,Tables!$I$29/100)","v":0.26700000000000002},{"$f":"+$BV27*CY27","v":0.10503439255361909},{"$f":"IF(Inputs!$B$3=\"HSM\",Tables!$F$29/100,Tables!$J$29/100)","v":0.11199999999999999},{"$f":"+$BW27*DA27","v":0.12798507773323742},{"$f":"IF(Inputs!$B$3=\"HSM\",(Tables!$G$30/100),(Tables!$K$30/100))","v":2.1999999999999992E-2},{"$f":"+$BX27*DC27","v":3.3794445219942272E-2},{"$f":"IF(Inputs!$B$3=\"HSM\",Tables!$E$30/100,Tables!$I$30/100)","v":1.3000000000000006E-2},{"$f":"+$BV27*DE27","v":5.1140340943709684E-3},{"$f":"IF(Inputs!$B$3=\"HSM\",Tables!$F$30/100,Tables!$J$30/100)","v":2.8999999999999998E-2},{"$f":"+$BW27*DG27","v":3.3138993341641838E-2},{"$f":"BY27+CE27+CK27+CQ27+CW27+DC27","v":0.87900000000000011},{"$f":"+$BX27*DI27","v":1.3502416976513307},{"$f":"CA27+CG27+CM27+CS27+CY27+DE27","v":0.60599999999999998},{"$f":"+$BV27*DK27","v":0.23839266624529273},{"$f":"CC27+CI27+CO27+CU27+DA27+DG27","v":0.91000000000000014},{"$f":"+$BW27*DM27","v":1.0398787565825545},{"$f":"IF(Inputs!$B$3=\"HSM\",(Tables!$G$33/100),(Tables!$K$33/100))","v":1.1000000000000001E-2},{"$f":"+$BX27*DO27","v":1.6897222609971146E-2},{"$f":"IF(Inputs!$B$3=\"HSM\",Tables!$E$33/100,Tables!$I$33/100)","v":4.2999999999999997E-2},{"$f":"+$BV27*DQ27","v":1.691565123522704E-2},{"$f":"IF(Inputs!$B$3=\"HSM\",Tables!$F$33/100,Tables!$J$33/100)","v":8.0000000000000002E-3},{"$f":"+$BW27*DS27","v":9.1417912666598173E-3},{"$f":"IF(Inputs!$B$3=\"HSM\",(Tables!$G$34/100),(Tables!$K$34/100))","v":1.3000000000000001E-2},{"$f":"+$BX27*DU27","v":1.9969444902693173E-2},{"$f":"IF(Inputs!$B$3=\"HSM\",Tables!$E$34/100,Tables!$I$34/100)","v":8.900000000000001E-2},{"$f":"+$BV27*DW27","v":3.5011464184539695E-2},{"$f":"IF(Inputs!$B$3=\"HSM\",Tables!$F$34/100,Tables!$J$34/100)","v":5.0000000000000001E-3},{"$f":"+$BW27*DY27","v":5.7136195416623856E-3},{"$f":"IF(Inputs!$B$3=\"HSM\",(Tables!$G$35/100),(Tables!$K$35/100))","v":5.4000000000000006E-2},{"$f":"+$BX27*EA27","v":8.2950001903494719E-2},{"$f":"IF(Inputs!$B$3=\"HSM\",Tables!$E$35/100,Tables!$I$35/100)","v":0.17300000000000001},{"$f":"+$BV27*EC27","v":6.8055992178936708E-2},{"$f":"IF(Inputs!$B$3=\"HSM\",Tables!$F$35/100,Tables!$J$35/100)","v":0.04},{"$f":"+$BW27*EE27","v":4.5708956333299085E-2},{"$f":"IF(Inputs!$B$3=\"HSM\",(Tables!$G$36/100),(Tables!$K$36/100))","v":2.6000000000000002E-2},{"$f":"+$BX27*EG27","v":3.9938889805386346E-2},{"$f":"IF(Inputs!$B$3=\"HSM\",Tables!$E$36/100,Tables!$I$36/100)","v":5.9000000000000004E-2},{"$f":"+$BV27*EI27","v":2.3209847043683618E-2},{"$f":"IF(Inputs!$B$3=\"HSM\",Tables!$F$36/100,Tables!$J$36/100)","v":2.2000000000000002E-2},{"$f":"+$BW27*EK27","v":2.51399259833145E-2},{"$f":"IF(Inputs!$B$3=\"HSM\",(Tables!$G$37/100),(Tables!$K$37/100))","v":1.7000000000000001E-2},{"$f":"+$BX27*EM27","v":2.6113889488137223E-2},{"$f":"IF(Inputs!$B$3=\"HSM\",Tables!$E$37/100,Tables!$I$37/100)","v":0.03},{"$f":"+$BV27*EO27","v":1.1801617140856075E-2},{"$f":"IF(Inputs!$B$3=\"HSM\",Tables!$F$37/100,Tables!$J$37/100)","v":1.4999999999999999E-2},{"$f":"+$BW27*EQ27","v":1.7140858624987158E-2},{"$f":"DO27+DU27+EA27+EG27+EM27","v":0.12100000000000001},{"$f":"+$BX27*ES27","v":0.18586944870968261},{"$f":"DQ27+DW27+EC27+EI27+EO27","v":0.39400000000000002},{"$f":"+$BV27*EU27","v":0.15499457178324313},{"$f":"DS27+DY27+EE27+EK27+EQ27","v":9.0000000000000011E-2},{"$f":"DT27+DZ27+EF27+EL27+ER27","v":0.10284515174992295},{"$f":"+BW27","v":1.1427239083324772},{"$f":"+$G27","v":1},{"$f":"+EY27/EZ27","v":1.1427239083324772},{"$f":"+BV27","v":0.39338723802853587},{"$f":"+$G27","v":1},{"$f":"+FB27/FC27","v":0.39338723802853587},{"$f":"+BX27","v":1.5361111463610131},{"$f":"+$G27","v":1},{"$f":"+FE27/FF27","v":1.5361111463610131}]
[]
[]
["Rural Multlilane Trunkline (MI)"]
["Example 1","SH-222","MP 0.0 to MP 1.5","Anywhere, USA","Macomb",{"$f":"VLOOKUP($E31,'Construction - Do Not Delete'!$K$83:$N$166,3,FALSE)","v":"Metro"},"4D",1,15000,2,6,0,20,"N/A (1.000)","N/A (1.000)","N/A (1.000)",null,null,null,null,null,{"$f":"IF(G31=\"4U\",(1/(H31*EXP(4.961))),(1/(H31*EXP(6.877))))","v":1.0312331085885777E-3},{"$f":"IF(G31=\"4U\",(1/(H31*EXP(21.535))),(1/(H31*EXP(1.649))))","v":0.1922420545863455},{"$f":"IF(G31=\"4U\",(1/(H31*EXP(0.396))),(1/(H31*EXP(0.886))))","v":0.41230166539408875},{"$f":"IF(G31=\"4U\",(1/(H31*EXP(2.443))),(1/(H31*EXP(1.551))))","v":0.21203583194153741},{"$f":"1/(1+V31*BP31)","v":0.99965100628547332},{"$f":"1/(1+W31*BQ31)","v":0.76828353655715753},{"$f":"1/(1+X31*BR31)","v":0.88574961771633742},{"$f":"1/(1+Y31*BS31)","v":0.81013554827533207},{"$f":"IF(R31=\"\",\"\",Z31*BP31+((1-Z31)*R31))","v":""},{"$f":"IF(S31=\"\",\"\",AA31*BQ31+((1-AA31)*S31))","v":""},{"$f":"IF(T31=\"\",\"\",AB31*BR31+((1-AB31)*T31))","v":""},{"$f":"IF(U31=\"\",\"\",AC31*BS31+((1-AC31)*U31))","v":""},{"$f":"IF(AND(AD31=\"\",AF31=\"\"),\"\",IF(AD31=\"\",0,AD31)+IF(AF31=\"\",0,AF31))","v":""},{"$f":"IF(AND(AE31=\"\",AG31=\"\"),\"\",IF(AE31=\"\",0,AE31)+IF(AG31=\"\",0,AG31))","v":""},{"$f":"IF(AND(AH31=\"\",AI31=\"\"),\"\",IF(AH31=\"\",0,AH31)+IF(AI31=\"\",0,AI31))","v":""},{"$f":"IF(AD31=\"\",\"\",AD31-BP31)","v":""},{"$f":"IF(AE31=\"\",\"\",AE31-BQ31)","v":""},{"$f":"IF(AF31=\"\",\"\",AF31-BR31)","v":""},{"$f":"IF(AG31=\"\",\"\",AG31-BS31)","v":""},{"$f":"IF(AND(AK31=\"\",AM31=\"\"),\"\",IF(AK31=\"\",0,AK31)+IF(AM31=\"\",0,AM31))","v":""},{"$f":"IF(AND(AL31=\"\",AN31=\"\"),\"\",IF(AL31=\"\",0,AL31)+IF(AN31=\"\",0,AN31))","v":""},{"$f":"IF(AND(AO31=\"\",AP31=\"\"),\"\",IF(AO31=\"\",0,AO31)+IF(AP31=\"\",0,AP31))","v":""},{"$f":"IF(G31=\"4D\",EXP(-0.064*(J31-2)),1)","v":1},{"$f":"EXP(-0.037*(K31-6))","v":1},{"$f":"EXP(0.902*(L31/H31))","v":1},{"$f":"IF(G31=\"4U\",(EXP(0.0136*(M31-20))),(EXP(0.01*(M31-20))))","v":1},{"$f":"OFFSET(Tables!$AP$1,MATCH(N31,Tables!$AP:$AP,0)-1,1)","v":1},{"$f":"OFFSET(Tables!$AP$1,MATCH(O31,Tables!$AP:$AP,0)-1,1)","v":1},{"$f":"OFFSET(Tables!$AP$1,MATCH(P31,Tables!$AP:$AP,0)-1,1)","v":1},{"$f":"IF(Q31=\"\",1,Q31)","v":1},{"$f":"AR31*AS31*AT31*AV31*AW31*AX31*AY31","v":1},{"$f":"AR31*AS31*AT31*AV31*AW31*AX31*AY31*AU31","v":1},{"$f":"H31*EXP(BF31+(BL31*LN(I31))+BJ31)","v":0.33854183962192036},{"$f":"H31*EXP(BG31+(BM31*LN(I31))+BK31)","v":1.5688700245919276},{"$f":"H31*EXP(BH31+(BN31*LN(I31))+BJ31)","v":0.31284671514913936},{"$f":"H31*EXP(BI31+(BO31*LN(I31))+BK31)","v":1.105291198569778},{"$f":"IF(G31=\"4D\",-9.17,-10.091)","v":-9.17},{"$f":"IF(G31=\"4D\",-7.675,-6.056)","v":-7.6749999999999998},{"$f":"IF(G31=\"4D\",-10.749,-14.38)","v":-10.749000000000001},{"$f":"IF(G31=\"4D\",-14.689,-14.467)","v":-14.689},{"$f":"VLOOKUP(F31,Rural_MI_Tables!$AC$10:$AE$16,2,FALSE)","v":0},{"$f":"VLOOKUP(F31,Rural_MI_Tables!$AC$10:$AE$16,3,FALSE)","v":0},{"$f":"IF(G31=\"4D\",0.841,0.883)","v":0.84099999999999997},{"$f":"IF(G31=\"4D\",0.845,0.639)","v":0.84499999999999997},{"$f":"IF(G31=\"4D\",0.997,1.412)","v":0.997},{"$f":"IF(G31=\"4D\",1.538,1.503)","v":1.538},{"$f":"BB31*AZ31","v":0.33854183962192036},{"$f":"BC31*AZ31","v":1.5688700245919276},{"$f":"BD31*BA31","v":0.31284671514913936},{"$f":"BE31*BA31","v":1.105291198569778},{"$f":"BP31+BR31","v":0.65138855477105972},{"$f":"BQ31+BS31","v":2.6741612231617058},{"$f":"BT31+BU31","v":3.3255497779327654},{"$f":"BY31+CA31","v":6.513885547710597E-3},{"$f":"IF(G31=\"4U\",0.01,0.01)","v":0.01},{"$f":"+$BT31*BX31","v":6.513885547710597E-3},{"$f":"IF(G31=\"4U\",0,0)","v":0},{"$f":"+$BU31*BZ31","v":0},{"$f":"CD31+CF31","v":1.3027771095421194E-2},{"$f":"IF(G31=\"4U\",0.05,0.02)","v":0.02},{"$f":"+$BT31*CC31","v":1.3027771095421194E-2},0,0,{"$f":"CI31+CK31","v":0.35072449435485897},{"$f":"IF($G31=\"4U\",0.1,0.21)","v":0.21},{"$f":"+$BT31*CH31","v":0.13679159650192255},{"$f":"IF($G31=\"4U\",0.06,0.08)","v":0.08},{"$f":"+$BU31*CJ31","v":0.21393289785293645},{"$f":"CN31+CP31","v":1.6257497858024432},{"$f":"IF($G31=\"4U\",0.21,0.32)","v":0.32},{"$f":"+$BT31*CM31","v":0.2084443375267391},{"$f":"IF($G31=\"4U\",0.47,0.53)","v":0.53},{"$f":"+$BU31*CO31","v":1.4173054482757041},{"$f":"CS31+CU31","v":0.12582203552882537},{"$f":"IF($G31=\"4U\",0.15,0.07)","v":7.0000000000000007E-2},{"$f":"+$BT31*CR31","v":4.5597198833974187E-2},{"$f":"IF($G31=\"4U\",0.06,0.03)","v":0.03},{"$f":"+$BU31*CT31","v":8.022483669485117E-2},{"$f":"CX31+CZ31","v":5.2797154422459441E-2},{"$f":"IF($G31=\"4U\",0.09,0.04)","v":0.04},{"$f":"+$BT31*CW31","v":2.6055542190842388E-2},{"$f":"IF($G31=\"4U\",0.02,0.01)","v":0.01},{"$f":"+$BU31*CY31","v":2.6741612231617057E-2},{"$f":"DC31+DE31","v":0.53722970993540375},{"$f":"IF($G31=\"4U\",0.23,0.25)","v":0.25},{"$f":"+$BT31*DB31","v":0.16284713869276493},{"$f":"IF($G31=\"4U\",0.16,0.14)","v":0.14000000000000001},{"$f":"+$BU31*DD31","v":0.37438257124263885},{"$f":"DH31+DJ31","v":0.46043522344442589},{"$f":"IF($G31=\"4U\",0.09,0.05)","v":0.05},{"$f":"+$BT31*DG31","v":3.2569427738552988E-2},{"$f":"IF($G31=\"4U\",0.16,0.16)","v":0.16},{"$f":"+$BU31*DI31","v":0.42786579570587291},{"$f":"DM31+DO31","v":0.15324971780121707},{"$f":"IF($G31=\"4U\",0.06,0.03)","v":0.03},{"$f":"+$BT31*DL31","v":1.9541656643131792E-2},{"$f":"IF($G31=\"4U\",0.06,0.05)","v":0.05},{"$f":"+$BU31*DN31","v":0.13370806115808528},{"$f":"+BU31","v":2.6741612231617058},{"$f":"+$H31","v":1},{"$f":"+DP31/DQ31","v":2.6741612231617058},{"$f":"+BT31","v":0.65138855477105972},{"$f":"+$H31","v":1},{"$f":"+DS31/DT31","v":0.65138855477105972},{"$f":"+BV31","v":3.3255497779327654},{"$f":"+$H31","v":1},{"$f":"+DV31/DW31","v":3.3255497779327654}]
[]
[]
["Rural County Federal Aid Segments (MI)"]
["Example 1","SH-333","MP 0.0 to MP 1.5","Anywhere, USA",1,10000,6,0,15,"N/A (1.000)","N/A (1.000)","N/A (1.000)",null,null,null,null,null,{"$f":"(1/(E35*EXP(1.435)))","v":0.238115364014687},{"$f":"(1/(E35*EXP(1.549)))","v":0.21246032795994022},{"$f":"(1/(E35*EXP(1.668)))","v":0.1886239365152772},{"$f":"(1/(E35*EXP(1.637)))","v":0.19456285620152014},{"$f":"1/(1+R35*BK35)","v":0.91602652398986728},{"$f":"1/(1+S35*BL35)","v":0.82247798053585963},{"$f":"1/(1+T35*BM35)","v":0.94711867486121437},{"$f":"1/(1+U35*BN35)","v":0.91210437455244497},{"$f":"IF(N35=\"\",\"\",V35*BK35+((1-V35)*N35))","v":""},{"$f":"IF(O35=\"\",\"\",W35*BL35+((1-W35)*O35))","v":""},{"$f":"IF(P35=\"\",\"\",X35*BM35+((1-X35)*P35))","v":""},{"$f":"IF(Q35=\"\",\"\",Y35*BN35+((1-Y35)*Q35))","v":""},{"$f":"IF(AND(Z35=\"\",AB35=\"\"),\"\",IF(Z35=\"\",0,Z35)+IF(AB35=\"\",0,AB35))","v":""},{"$f":"IF(AND(AA35=\"\",AC35=\"\"),\"\",IF(AA35=\"\",0,AA35)+IF(AC35=\"\",0,AC35))","v":""},{"$f":"IF(AND(AD35=\"\",AE35=\"\"),\"\",IF(AD35=\"\",0,AD35)+IF(AE35=\"\",0,AE35))","v":""},{"$f":"IF(N35=\"\",\"\",Z35-BK35)","v":""},{"$f":"IF(O35=\"\",\"\",AA35-BL35)","v":""},"","",{"$f":"IF(AND(AG35=\"\",AI35=\"\"),\"\",IF(AG35=\"\",0,AG35)+IF(AI35=\"\",0,AI35))","v":""},{"$f":"IF(AND(AH35=\"\",AJ35=\"\"),\"\",IF(AH35=\"\",0,AH35)+IF(AJ35=\"\",0,AJ35))","v":""},{"$f":"IF(AND(AK35=\"\",AL35=\"\"),\"\",IF(AK35=\"\",0,AK35)+IF(AL35=\"\",0,AL35))","v":""},{"$f":"EXP(-0.029*(G35-6))","v":1},{"$f":"EXP(0.869*(H35/E35))","v":1},{"$f":"EXP(0.01*(I35-15))","v":1},{"$f":"OFFSET(Tables!$AP$1,MATCH(J35,Tables!$AP:$AP,0)-1,1)","v":1},{"$f":"OFFSET(Tables!$AP$1,MATCH(K35,Tables!$AP:$AP,0)-1,1)","v":1},{"$f":"OFFSET(Tables!$AP$1,MATCH(L35,Tables!$AP:$AP,0)-1,1)","v":1},{"$f":"IF(M35=\"\",1,M35)","v":1},{"$f":"AN35*AO35*AQ35*AR35*AS35*AT35","v":1},{"$f":"AN35*AO35*AQ35*AR35*AS35*AT35*AP35","v":1},1,1,{"$f":"E35*EXP(BC35+(BG35*LN(F35)))","v":0.38498753055804225},{"$f":"E35*EXP(BD35+(BH35*LN(F35)))","v":1.0158979931210319},{"$f":"E35*EXP(BE35+(BI35*LN(F35)))","v":0.29600641654039428},{"$f":"E35*EXP(BF35+(BJ35*LN(F35)))","v":0.49529368306157795},-7.0609999999999999,-6.0170000000000003,{"$f":"-11.929","v":-11.929},-9.7840000000000007,0.66300000000000003,0.65500000000000003,1.163,0.98599999999999999,{"$f":"AY35*AU35*AW35","v":0.38498753055804225},{"$f":"AZ35*AU35*AX35","v":1.0158979931210319},{"$f":"BA35*AW35*AV35","v":0.29600641654039428},{"$f":"BB35*AX35*AV35","v":0.49529368306157795},{"$f":"BK35+BM35","v":0.68099394709843653},{"$f":"BL35+BN35","v":1.5111916761826099},{"$f":"BO35+BP35","v":2.1921856232810466},{"$f":"BT35+BV35","v":6.8099394709843653E-3},0.01,{"$f":"+$BO35*BS35","v":6.8099394709843653E-3},0,{"$f":"+$BP35*BU35","v":0},{"$f":"BY35+CA35","v":6.8099394709843653E-3},0.01,{"$f":"+$BO35*BX35","v":6.8099394709843653E-3},0,0,{"$f":"CD35+CF35","v":0.32435173003258488},0.21,{"$f":"+$BO35*CC35","v":0.14300872889067168},0.12,{"$f":"+$BP35*CE35","v":0.18134300114191318},{"$f":"CI35+CK35","v":1.3008497068351041},0.49,{"$f":"+$BO35*CH35","v":0.33368703407823391},0.64,{"$f":"+$BP35*CJ35","v":0.96716267275687029},{"$f":"CN35+CP35","v":6.5765568698431393E-2},0.03,{"$f":"+$BO35*CM35","v":2.0429818412953094E-2},0.03,{"$f":"+$BP35*CO35","v":4.5335750285478295E-2},{"$f":"CS35+CU35","v":6.2781493058716664E-2},7.0000000000000007E-2,{"$f":"+$BO35*CR35","v":4.7669576296890559E-2},0.01,{"$f":"+$BP35*CT35","v":1.5111916761826098E-2},{"$f":"CX35+CZ35","v":0.19729670609529418},0.09,{"$f":"+$BO35*CW35","v":6.1289455238859286E-2},0.09,{"$f":"+$BP35*CY35","v":0.13600725085643489},{"$f":"DC35+DE35","v":0.14813509197854624},0.04,{"$f":"+$BO35*DB35","v":2.7239757883937461E-2},0.08,{"$f":"+$BP35*DD35","v":0.12089533409460879},{"$f":"DH35+DJ35","v":7.406754598927312E-2},0.02,{"$f":"+$BO35*DG35","v":1.3619878941968731E-2},0.04,{"$f":"+$BP35*DI35","v":6.0447667047304393E-2},{"$f":"+BP35","v":1.5111916761826099},{"$f":"+$E35","v":1},{"$f":"+DK35/DL35","v":1.5111916761826099},{"$f":"+BO35","v":0.68099394709843653},{"$f":"+$E35","v":1},{"$f":"+DN35/DO35","v":0.68099394709843653},{"$f":"+BQ35","v":2.1921856232810466},{"$f":"+$E35","v":1},{"$f":"+DQ35/DR35","v":2.1921856232810466}]
[]
[]
["Rural County Non-Federal Aid Segments (MI)"]
["Example 1","SH-444","MP 0.0 to MP 1.5","Anywhere, USA","Paved",1,250,16,0,0,"N/A (1.000)","N/A (1.000)","N/A (1.000)",null,null,null,{"$f":"(1/(F39*EXP(1.593)))","v":0.20331475164728618},{"$f":"(1/(F39*EXP(1.396)))","v":0.24758532720608456},{"$f":"1/(1+Q39*AQ39)","v":0.99110957553637247},{"$f":"1/(1+R39*AR39)","v":0.98063979364549769},{"$f":"IF(O39=\"\",\"\",S39*AQ39+((1-S39)*O39))","v":""},{"$f":"IF(P39=\"\",\"\",T39*AR39+((1-T39)*P39))","v":""},{"$f":"IF(AND(U39=\"\",V39=\"\"),\"\",IF(U39=\"\",0,U39)+IF(V39=\"\",0,V39))","v":""},{"$f":"IF(U39=\"\",\"\",U39-CP39)","v":""},{"$f":"IF(V39=\"\",\"\",V39-CM39)","v":""},{"$f":"IF(AND(X39=\"\",Y39=\"\"),\"\",IF(X39=\"\",0,X39)+IF(Y39=\"\",0,Y39))","v":""},{"$f":"IF(E39=\"Paved\",0.59,1)","v":0.59},{"$f":"IF(H39>=18,0.7,1)","v":1},{"$f":"EXP(0.869*(I39/F39))","v":1},{"$f":"IF(J39>=5,1.14,1)","v":1},{"$f":"OFFSET(Tables!$AP$1,MATCH(K39,Tables!$AP:$AP,0)-1,1)","v":1},{"$f":"OFFSET(Tables!$AP$1,MATCH(L39,Tables!$AP:$AP,0)-1,1)","v":1},{"$f":"OFFSET(Tables!$AP$1,MATCH(M39,Tables!$AP:$AP,0)-1,1)","v":1},{"$f":"IF(N39=\"\",1,N39)","v":1},{"$f":"AA39*AB39*AC39*AD39*AE39*AF39*AG39*AH39","v":0.59},1,{"$f":"F39*EXP(AM39+(AO39*LN(G39)))","v":7.4779046351805045E-2},{"$f":"F39*EXP(AN39+(AP39*LN(G39)))","v":0.13515233536238985},-6.9109999999999996,-6.4130000000000003,0.78200000000000003,0.79900000000000004,{"$f":"AK39*AI39*AJ39","v":4.4119637347564973E-2},{"$f":"AL39*AJ39*AI39","v":7.973987786381001E-2},{"$f":"AR39+AQ39","v":0.12385951521137498},{"$f":"AV39+AX39","v":4.4119637347564975E-4},{"$f":"IF(E39=\"Paved\",0.01,0.01)","v":0.01},{"$f":"+AQ39*AU39","v":4.4119637347564975E-4},0,0,{"$f":"BA39+BC39","v":1.764785493902599E-3},{"$f":"IF(E39=\"Paved\",0.04,0.01)","v":0.04},{"$f":"+AQ39*AZ39","v":1.764785493902599E-3},0,0,{"$f":"BF39+BH39","v":1.3879528578190848E-2},{"$f":"IF(E39=\"Paved\",0.17,0.27)","v":0.17},{"$f":"+AQ39*BE39","v":7.5003383490860462E-3},{"$f":"IF(E39=\"Paved\",0.08,0.12)","v":0.08},{"$f":"+AR39*BG39","v":6.379190229104801E-3},{"$f":"BK39+BM39","v":7.6622911494426085E-2},{"$f":"IF(E39=\"Paved\",0.58,0.6)","v":0.57999999999999996},{"$f":"+AQ39*BJ39","v":2.5589389661587681E-2},{"$f":"IF(E39=\"Paved\",0.64,0.65)","v":0.64},{"$f":"+AR39*BL39","v":5.1033521832838408E-2},{"$f":"BP39+BR39","v":5.3955769819306488E-3},{"$f":"IF(E39=\"Paved\",0.05,0.02)","v":0.05},{"$f":"+AQ39*BO39","v":2.2059818673782487E-3},{"$f":"IF(E39=\"Paved\",0.04,0.05)","v":0.04},{"$f":"+AR39*BQ39","v":3.1895951145524005E-3},{"$f":"BU39+BW39","v":3.800779424654449E-3},{"$f":"IF(E39=\"Paved\",0.05,0.02)","v":0.05},{"$f":"+AQ39*BT39","v":2.2059818673782487E-3},{"$f":"IF(E39=\"Paved\",0.02,0.02)","v":0.02},{"$f":"+AR39*BV39","v":1.5947975572762002E-3},{"$f":"BZ39+CB39","v":8.5851720964830493E-3},{"$f":"IF(E39=\"Paved\",0.05,0.02)","v":0.05},{"$f":"+AQ39*BY39","v":2.2059818673782487E-3},{"$f":"IF(E39=\"Paved\",0.08,0.04)","v":0.08},{"$f":"+AR39*CA39","v":6.379190229104801E-3},{"$f":"CE39+CG39","v":8.5001781281698503E-3},{"$f":"IF(E39=\"Paved\",0.03,0.03)","v":0.03},{"$f":"+AQ39*CD39","v":1.3235891204269492E-3},{"$f":"IF(E39=\"Paved\",0.09,0.09)","v":0.09},{"$f":"+AR39*CF39","v":7.1765890077429006E-3},{"$f":"CJ39+CL39","v":4.8693866401418005E-3},{"$f":"IF(E39=\"Paved\",0.02,0.01)","v":0.02},{"$f":"+AQ39*CI39","v":8.823927469512995E-4},{"$f":"IF(E39=\"Paved\",0.05,0.03)","v":0.05},{"$f":"+AR39*CK39","v":3.986993893190501E-3},{"$f":"+AR39","v":7.973987786381001E-2},{"$f":"+$F39","v":1},{"$f":"+CM39/CN39","v":7.973987786381001E-2},{"$f":"AQ39","v":4.4119637347564973E-2},{"$f":"+$F39","v":1},{"$f":"+CP39/CQ39","v":4.4119637347564973E-2},{"$f":"+AS39","v":0.12385951521137498},{"$f":"+$F39","v":1},{"$f":"+CS39/CT39","v":0.12385951521137498}]
[]
[]
["Rural Unsignalized Intersections (MI)"]
["Example 1","SH-555","1st Street","Anywhere, USA","Bay",{"$f":"VLOOKUP($E43,'Construction - Do Not Delete'!$K$83:$N$166,3,FALSE)","v":"Bay"},"4ST",8000,1000,0,0,0,0,"NP","N/A (1.000)","N/A (1.000)",null,null,null,{"$f":"1/AX43","v":0.48614487117160915},{"$f":"1/AY43","v":0.2499375156210947},{"$f":"1/(1+T43*EV43)","v":0.81217963716754826},{"$f":"1/(1+U43*EU43)","v":0.79503202741354329},{"$f":"IF(R43=\"\",\"\",V43*EV43+((1-V43)*R43))","v":""},{"$f":"IF(S43=\"\",\"\",W43*EU43+((1-W43)*S43))","v":""},{"$f":"IF(AND(X43=\"\",Y43=\"\"),\"\",IF(X43=\"\",0,X43)+IF(Y43=\"\",0,Y43))","v":""},{"$f":"IF(R43=\"\",\"\",X43-EV43)","v":""},{"$f":"IF(S43=\"\",\"\",Y43-EU43)","v":""},{"$f":"IF(AND(R43=\"\",S43=\"\"),\"\",IF(AA43=\"\",0,AA43)+IF(AB43=\"\",0,AB43))","v":""},{"$f":"IF($J43>=10,1.1,1)","v":1},{"$f":"IF($G43=\"3ST\",(IF($L43=0,1,(HLOOKUP($L43,Tables!$AF$20:$AI$26,3,FALSE)))),(IF($G43=\"4ST\",(IF($L43=0,1,(HLOOKUP($L43,Tables!$AF$20:$AI$26,5,FALSE)))),(IF($L43=0,1,(HLOOKUP($L43,Tables!$AF$20:$AI$26,7,FALSE)))))))","v":1},{"$f":"IF($G43=\"3ST\",(IF($M43=0,1,(HLOOKUP($M43,Tables!$AF$36:$AI$42,3,FALSE)))),(IF($G43=\"4ST\",(IF($M43=0,1,(HLOOKUP($M43,Tables!$AF$36:$AI$42,5,FALSE)))),(IF($M43=0,1,(HLOOKUP($M43,Tables!$AF$36:$AI$42,7,FALSE)))))))","v":1},{"$f":"IF(($N43=\"NP\"),1,(1-0.38*(IF(Inputs!$B$3=\"HSM\",(VLOOKUP( $G43,Tables!$B$97:$F$99,4,FALSE)),(VLOOKUP($G43,Tables!$B$97:$H$99,6,FALSE))))))","v":1},{"$f":"IF($K43>2,1.12,1)","v":1},{"$f":"OFFSET(Tables!$AR$1,MATCH(O43,Tables!$AR:$AR,0)-1,1)","v":1},{"$f":"OFFSET(Tables!$AR$1,MATCH(P43,Tables!$AR:$AR,0)-1,1)","v":1},{"$f":"IF(Q43=\"\",1,Q43)","v":1},{"$f":"+AD43*AE43*AF43*AG43*AH43*AI43*AJ43*AK43","v":1},{"$f":"IF($G43=\"3ST\",Rural_MI_Tables!$K$4,IF($G43=\"4ST\",Rural_MI_Tables!$C$4,\"ERROR\"))","v":-8.6069999999999993},{"$f":"IF($G43=\"3ST\",Rural_MI_Tables!$N$4,IF($G43=\"4ST\",Rural_MI_Tables!$F$4,\"ERROR\"))","v":-7.1779999999999999},{"$f":"IF($G43=\"3ST\",Rural_MI_Tables!$K$5,IF($G43=\"4ST\",Rural_MI_Tables!$C$5,\"ERROR\"))","v":0.41399999999999998},{"$f":"IF($G43=\"3ST\",Rural_MI_Tables!$N$5,IF($G43=\"4ST\",Rural_MI_Tables!$F$5,\"ERROR\"))","v":0.497},{"$f":"IF($G43=\"3ST\",Rural_MI_Tables!$K$6,IF($G43=\"4ST\",Rural_MI_Tables!$C$6,\"ERROR\"))","v":0.58199999999999996},{"$f":"IF($G43=\"3ST\",Rural_MI_Tables!$N$6,IF($G43=\"4ST\",Rural_MI_Tables!$F$6,\"ERROR\"))","v":0.39700000000000002},{"$f":"AVERAGEIFS(Rural_MI_Tables!T:T,Rural_MI_Tables!R:R,G43,Rural_MI_Tables!S:S,F43)","v":0.123},{"$f":"AVERAGEIFS(Rural_MI_Tables!U:U,Rural_MI_Tables!R:R,G43,Rural_MI_Tables!S:S,F43)","v":0},{"$f":"(H43^AO43)*(I43^AQ43)*EXP(AM43+AS43)","v":0.47569092927978968},{"$f":"(H43^AP43)*(I43^AR43)*EXP(AN43+AT43)","v":1.0315016628780955},{"$f":"AU43+AV43","v":1.5071925921578853},{"$f":"IF($G43=\"3ST\",2.283,(IF($G43=\"4ST\",2.057,)))","v":2.0569999999999999},{"$f":"IF($G43=\"3ST\",2.555,(IF($G43=\"4ST\",4.001,)))","v":4.0010000000000003},{"$f":"IF($G43=\"3ST\",IF(Inputs!$B$3=\"HSM\",Tables!$E$55,Tables!$K$55),(IF($G43=\"4ST\",(IF(Inputs!$B$3=\"HSM\",Tables!$G$55,Tables!$M$55)),(IF(Inputs!$B$3=\"HSM\",Tables!$I$55,Tables!$O$55)))))/100","v":1},{"$f":"+AW43*AZ43","v":1.5071925921578853},{"$f":"+$AL43","v":1},{"$f":"+AW43*BB43","v":1.5071925921578853},{"$f":"IF($G43=\"3ST\",IF(Inputs!$B$3=\"HSM\",Tables!$E$53,Tables!$K$53),(IF($G43=\"4ST\",(IF(Inputs!$B$3=\"HSM\",Tables!$G$53,Tables!$M$53)),(IF(Inputs!$B$3=\"HSM\",Tables!$I$53,Tables!$O$53)))))/100","v":0.27500000000000002},{"$f":"+AW43*BD43","v":0.41447796284341848},{"$f":"+$AL43","v":1},{"$f":"+AU43*BF43","v":0.47569092927978968},{"$f":"IF($G43=\"3ST\",IF(Inputs!$B$3=\"HSM\",Tables!$E$54,Tables!$K$54),(IF($G43=\"4ST\",(IF(Inputs!$B$3=\"HSM\",Tables!$G$54,Tables!$M$54)),(IF(Inputs!$B$3=\"HSM\",Tables!$I$54,Tables!$O$54)))))/100","v":0.72499999999999998},{"$f":"+AW43*BH43","v":1.0927146293144667},{"$f":"+$AL43","v":1},{"$f":"+AV43*BJ43","v":1.0315016628780955},{"$f":"IF(Inputs!$B$3=\"HSM\",(IF($G43=\"3ST\",Tables!$G$80,(IF($G43=\"4ST\",Tables!$J$80,Tables!$M$80)))/100),(IF($G43=\"3ST\",Tables!$P$80,(IF($G43=\"4ST\",+Tables!$S$80,+Tables!$V$80)))/100))","v":1},{"$f":"+BC43","v":1.5071925921578853},{"$f":"IF(Inputs!$B$3=\"HSM\",(IF($G43=\"3ST\",Tables!$E$80,(IF($G43=\"4ST\",Tables!$H$80,Tables!$K$80)))/100),(IF($G43=\"3ST\",Tables!$N$80,(IF($G43=\"4ST\",+Tables!$Q$80,+Tables!$T$80)))/100))","v":1.0000000000000002},{"$f":"+BG43","v":0.47569092927978968},{"$f":"IF(Inputs!$B$3=\"HSM\",(IF($G43=\"3ST\",Tables!$F$80,(IF($G43=\"4ST\",Tables!$I$80,Tables!$L$80)))/100),(IF($G43=\"3ST\",Tables!$O$80,(IF($G43=\"4ST\",+Tables!$R$80,+Tables!$U$80)))/100))","v":1},{"$f":"+BK43","v":1.0315016628780955},{"$f":"IF(Inputs!$B$3=\"HSM\",(IF($G43=\"3ST\",Tables!$G$66,(IF($G43=\"4ST\",Tables!$J$66,Tables!$M$66)))/100),(IF($G43=\"3ST\",Tables!$P$66,(IF($G43=\"4ST\",+Tables!$S$66,+Tables!$V$66)))/100))","v":0.21299999999999999},{"$f":"IF(Inputs!$B$3=\"HSM\",(IF($G43=\"3ST\",Tables!$G$67,(IF($G43=\"4ST\",Tables!$J$67,Tables!$M$67)))/100),(IF($G43=\"3ST\",Tables!$P$67,(IF($G43=\"4ST\",+Tables!$S$67,+Tables!$V$67)))/100))","v":1E-3},{"$f":"IF(Inputs!$B$3=\"HSM\",(IF($G43=\"3ST\",Tables!$G$68,(IF($G43=\"4ST\",Tables!$J$68,Tables!$M$68)))/100),(IF($G43=\"3ST\",Tables!$P$68,(IF($G43=\"4ST\",+Tables!$S$68,+Tables!$V$68)))/100))","v":3.0000000000000001E-3},{"$f":"IF(Inputs!$B$3=\"HSM\",(IF($G43=\"3ST\",Tables!$G$69,(IF($G43=\"4ST\",Tables!$J$69,Tables!$M$69)))/100),(IF($G43=\"3ST\",Tables!$P$69,(IF($G43=\"4ST\",+Tables!$S$69,+Tables!$V$69)))/100))","v":1.8000000000000002E-2},{"$f":"IF(Inputs!$B$3=\"HSM\",(IF($G43=\"3ST\",Tables!$G$70,(IF($G43=\"4ST\",Tables!$J$70,Tables!$M$70)))/100),(IF($G43=\"3ST\",Tables!$P$70,(IF($G43=\"4ST\",+Tables!$S$70,+Tables!$V$70)))/100))","v":0.11},{"$f":"IF(Inputs!$B$3=\"HSM\",(IF($G43=\"3ST\",Tables!$G$71,(IF($G43=\"4ST\",Tables!$J$71,Tables!$M$71)))/100),(IF($G43=\"3ST\",Tables!$P$71,(IF($G43=\"4ST\",+Tables!$S$71,+Tables!$V$71)))/100))","v":1.3999999999999999E-2},{"$f":"IF(Inputs!$B$3=\"HSM\",(IF($G43=\"3ST\",Tables!$G$72,(IF($G43=\"4ST\",Tables!$J$72,Tables!$M$72)))/100),(IF($G43=\"3ST\",Tables!$P$72,(IF($G43=\"4ST\",+Tables!$S$72,+Tables!$V$72)))/100))","v":0.35899999999999999},{"$f":"BR43*$BM43","v":0.32103202212962956},1.5071925921578853E-3,4.5215777764736559E-3,2.7129466658841937E-2,0.16579118513736738,2.1100696290210393E-2,0.54108214058468074,{"$f":"IF(Inputs!$B$3=\"HSM\",(IF($G43=\"3ST\",Tables!$E$66,(IF($G43=\"4ST\",Tables!$H$66,Tables!$K$66)))/100),(IF($G43=\"3ST\",Tables!$N$66,(IF($G43=\"4ST\",+Tables!$Q$66,+Tables!$T$66)))/100))","v":1.2E-2},{"$f":"IF(Inputs!$B$3=\"HSM\",(IF($G43=\"3ST\",Tables!$E$67,(IF($G43=\"4ST\",Tables!$H$67,Tables!$K$67)))/100),(IF($G43=\"3ST\",Tables!$N$67,(IF($G43=\"4ST\",+Tables!$Q$67,+Tables!$T$67)))/100))","v":3.0000000000000001E-3},{"$f":"IF(Inputs!$B$3=\"HSM\",(IF($G43=\"3ST\",Tables!$E$68,(IF($G43=\"4ST\",Tables!$H$68,Tables!$K$68)))/100),(IF($G43=\"3ST\",Tables!$N$68,(IF($G43=\"4ST\",+Tables!$Q$68,+Tables!$T$68)))/100))","v":8.0000000000000002E-3},{"$f":"IF(Inputs!$B$3=\"HSM\",(IF($G43=\"3ST\",Tables!$E$69,(IF($G43=\"4ST\",Tables!$H$69,Tables!$K$69)))/100),(IF($G43=\"3ST\",Tables!$N$69,(IF($G43=\"4ST\",+Tables!$Q$69,+Tables!$T$69)))/100))","v":2.6000000000000002E-2},{"$f":"IF(Inputs!$B$3=\"HSM\",(IF($G43=\"3ST\",Tables!$E$70,(IF($G43=\"4ST\",Tables!$H$70,Tables!$K$70)))/100),(IF($G43=\"3ST\",Tables!$N$70,(IF($G43=\"4ST\",+Tables!$Q$70,+Tables!$T$70)))/100))","v":7.0000000000000007E-2},{"$f":"IF(Inputs!$B$3=\"HSM\",(IF($G43=\"3ST\",Tables!$E$71,(IF($G43=\"4ST\",Tables!$H$71,Tables!$K$71)))/100),(IF($G43=\"3ST\",Tables!$N$71,(IF($G43=\"4ST\",+Tables!$Q$71,+Tables!$T$71)))/100))","v":0},{"$f":"IF(Inputs!$B$3=\"HSM\",(IF($G43=\"3ST\",Tables!$E$72,(IF($G43=\"4ST\",Tables!$H$72,Tables!$K$72)))/100),(IF($G43=\"3ST\",Tables!$N$72,(IF($G43=\"4ST\",+Tables!$Q$72,+Tables!$T$72)))/100))","v":0.11900000000000001},{"$f":"CF43*$BO43","v":5.7082911513574759E-3},1.427072787839369E-3,3.8055274342383176E-3,1.2367964161274532E-2,3.3298365049585284E-2,0,5.6607220584294973E-2,{"$f":"IF(Inputs!$B$3=\"HSM\",(IF($G43=\"3ST\",Tables!$F$66,(IF($G43=\"4ST\",Tables!$I$66,Tables!$L$66)))/100),(IF($G43=\"3ST\",Tables!$O$66,(IF($G43=\"4ST\",+Tables!$R$66,+Tables!$U$66)))/100))","v":0.28999999999999998},{"$f":"IF(Inputs!$B$3=\"HSM\",(IF($G43=\"3ST\",Tables!$F$67,(IF($G43=\"4ST\",Tables!$I$67,Tables!$L$67)))/100),(IF($G43=\"3ST\",Tables!$O$67,(IF($G43=\"4ST\",+Tables!$R$67,+Tables!$U$67)))/100))","v":0},{"$f":"IF(Inputs!$B$3=\"HSM\",(IF($G43=\"3ST\",Tables!$F$68,(IF($G43=\"4ST\",Tables!$I$68,Tables!$L$68)))/100),(IF($G43=\"3ST\",Tables!$O$68,(IF($G43=\"4ST\",+Tables!$R$68,+Tables!$U$68)))/100))","v":0},{"$f":"IF(Inputs!$B$3=\"HSM\",(IF($G43=\"3ST\",Tables!$F$69,(IF($G43=\"4ST\",Tables!$I$69,Tables!$L$69)))/100),(IF($G43=\"3ST\",Tables!$O$69,(IF($G43=\"4ST\",+Tables!$R$69,+Tables!$U$69)))/100))","v":1.4999999999999999E-2},{"$f":"IF(Inputs!$B$3=\"HSM\",(IF($G43=\"3ST\",Tables!$F$70,(IF($G43=\"4ST\",Tables!$I$70,Tables!$L$70)))/100),(IF($G43=\"3ST\",Tables!$O$70,(IF($G43=\"4ST\",+Tables!$R$70,+Tables!$U$70)))/100))","v":0.11800000000000001},{"$f":"IF(Inputs!$B$3=\"HSM\",(IF($G43=\"3ST\",Tables!$F$71,(IF($G43=\"4ST\",Tables!$I$71,Tables!$L$71)))/100),(IF($G43=\"3ST\",Tables!$O$71,(IF($G43=\"4ST\",+Tables!$R$71,+Tables!$U$71)))/100))","v":2.5999999999999995E-2},{"$f":"IF(Inputs!$B$3=\"HSM\",(IF($G43=\"3ST\",Tables!$F$72,(IF($G43=\"4ST\",Tables!$I$72,Tables!$L$72)))/100),(IF($G43=\"3ST\",Tables!$O$72,(IF($G43=\"4ST\",+Tables!$R$72,+Tables!$U$72)))/100))","v":0.44900000000000001},{"$f":"CT43*$BQ43","v":0.2991354822346477},0,0,1.5472524943171433E-2,0.12171719621961528,2.6819043234830479E-2,0.46314424663226489,{"$f":"IF(Inputs!$B$3=\"HSM\",(IF($G43=\"3ST\",Tables!$G$74,(IF($G43=\"4ST\",Tables!$J$74,Tables!$M$74)))/100),(IF($G43=\"3ST\",Tables!$P$74,(IF($G43=\"4ST\",+Tables!$S$74,+Tables!$V$74)))/100))","v":0.3},{"$f":"IF(Inputs!$B$3=\"HSM\",(IF($G43=\"3ST\",Tables!$G$75,(IF($G43=\"4ST\",Tables!$J$75,Tables!$M$75)))/100),(IF($G43=\"3ST\",Tables!$P$75,(IF($G43=\"4ST\",+Tables!$S$75,+Tables!$V$75)))/100))","v":0.04},{"$f":"IF(Inputs!$B$3=\"HSM\",(IF($G43=\"3ST\",Tables!$G$76,(IF($G43=\"4ST\",Tables!$J$76,Tables!$M$76)))/100),(IF($G43=\"3ST\",Tables!$P$76,(IF($G43=\"4ST\",+Tables!$S$76,+Tables!$V$76)))/100))","v":0.19800000000000001},{"$f":"IF(Inputs!$B$3=\"HSM\",(IF($G43=\"3ST\",Tables!$G$77,(IF($G43=\"4ST\",Tables!$J$77,Tables!$M$77)))/100),(IF($G43=\"3ST\",Tables!$P$77,(IF($G43=\"4ST\",+Tables!$S$77,+Tables!$V$77)))/100))","v":6.3E-2},{"$f":"IF(Inputs!$B$3=\"HSM\",(IF($G43=\"3ST\",Tables!$G$78,(IF($G43=\"4ST\",Tables!$J$78,Tables!$M$78)))/100),(IF($G43=\"3ST\",Tables!$P$78,(IF($G43=\"4ST\",+Tables!$S$78,+Tables!$V$78)))/100))","v":0.04},{"$f":"IF(Inputs!$B$3=\"HSM\",(IF($G43=\"3ST\",Tables!$G$79,(IF($G43=\"4ST\",Tables!$J$79,Tables!$M$79)))/100),(IF($G43=\"3ST\",Tables!$P$79,(IF($G43=\"4ST\",+Tables!$S$79,+Tables!$V$79)))/100))","v":0.6409999999999999},{"$f":"+$DH43*$BM43","v":0.45215777764736553},{"$f":"+$DI43*$BM43","v":6.0287703686315412E-2},{"$f":"+$DJ43*$BM43","v":0.2984241332472613},{"$f":"+$DK43*$BM43","v":9.4953133305946777E-2},{"$f":"+$DL43*$BM43","v":6.0287703686315412E-2},{"$f":"+$DM43*$BM43","v":0.9661104515732043},{"$f":"IF(Inputs!$B$3=\"HSM\",(IF($G43=\"3ST\",Tables!$E$74,(IF($G43=\"4ST\",Tables!$H$74,Tables!$K$74)))/100),(IF($G43=\"3ST\",Tables!$N$74,(IF($G43=\"4ST\",+Tables!$Q$74,+Tables!$T$74)))/100))","v":0.53799999999999992},{"$f":"IF(Inputs!$B$3=\"HSM\",(IF($G43=\"3ST\",Tables!$E$75,(IF($G43=\"4ST\",Tables!$H$75,Tables!$K$75)))/100),(IF($G43=\"3ST\",Tables!$N$75,(IF($G43=\"4ST\",+Tables!$Q$75,+Tables!$T$75)))/100))","v":9.0999999999999998E-2},{"$f":"IF(Inputs!$B$3=\"HSM\",(IF($G43=\"3ST\",Tables!$E$76,(IF($G43=\"4ST\",Tables!$H$76,Tables!$K$76)))/100),(IF($G43=\"3ST\",Tables!$N$76,(IF($G43=\"4ST\",+Tables!$Q$76,+Tables!$T$76)))/100))","v":0.193},{"$f":"IF(Inputs!$B$3=\"HSM\",(IF($G43=\"3ST\",Tables!$E$77,(IF($G43=\"4ST\",Tables!$H$77,Tables!$K$77)))/100),(IF($G43=\"3ST\",Tables!$N$77,(IF($G43=\"4ST\",+Tables!$Q$77,+Tables!$T$77)))/100))","v":3.4000000000000002E-2},{"$f":"IF(Inputs!$B$3=\"HSM\",(IF($G43=\"3ST\",Tables!$E$78,(IF($G43=\"4ST\",Tables!$H$78,Tables!$K$78)))/100),(IF($G43=\"3ST\",Tables!$N$78,(IF($G43=\"4ST\",+Tables!$Q$78,+Tables!$T$78)))/100))","v":2.5000000000000001E-2},{"$f":"IF(Inputs!$B$3=\"HSM\",(IF($G43=\"3ST\",Tables!$E$79,(IF($G43=\"4ST\",Tables!$H$79,Tables!$K$79)))/100),(IF($G43=\"3ST\",Tables!$N$79,(IF($G43=\"4ST\",+Tables!$Q$79,+Tables!$T$79)))/100))","v":0.88100000000000012},{"$f":"+$BO43*$DT43","v":0.25592171995252683},{"$f":"+$BO43*$DU43","v":4.3287874564460857E-2},{"$f":"+$BO43*$DV43","v":9.1808349350999408E-2},{"$f":"+$BO43*$DW43","v":1.6173491595512849E-2},{"$f":"+$BO43*$DX43","v":1.1892273231994743E-2},{"$f":"+$BO43*$DY43","v":0.41908370869549477},{"$f":"IF(Inputs!$B$3=\"HSM\",(IF($G43=\"3ST\",Tables!$F$74,(IF($G43=\"4ST\",Tables!$I$74,Tables!$L$74)))/100),(IF($G43=\"3ST\",Tables!$O$74,(IF($G43=\"4ST\",+Tables!$R$74,+Tables!$U$74)))/100))","v":0.21100000000000002},{"$f":"IF(Inputs!$B$3=\"HSM\",(IF($G43=\"3ST\",Tables!$F$75,(IF($G43=\"4ST\",Tables!$I$75,Tables!$L$75)))/100),(IF($G43=\"3ST\",Tables!$O$75,(IF($G43=\"4ST\",+Tables!$R$75,+Tables!$U$75)))/100))","v":0.02},{"$f":"IF(Inputs!$B$3=\"HSM\",(IF($G43=\"3ST\",Tables!$F$76,(IF($G43=\"4ST\",Tables!$I$76,Tables!$L$76)))/100),(IF($G43=\"3ST\",Tables!$O$76,(IF($G43=\"4ST\",+Tables!$R$76,+Tables!$U$76)))/100))","v":0.20100000000000001},{"$f":"IF(Inputs!$B$3=\"HSM\",(IF($G43=\"3ST\",Tables!$F$77,(IF($G43=\"4ST\",Tables!$I$77,Tables!$L$77)))/100),(IF($G43=\"3ST\",Tables!$O$77,(IF($G43=\"4ST\",+Tables!$R$77,+Tables!$U$77)))/100))","v":7.400000000000001E-2},{"$f":"IF(Inputs!$B$3=\"HSM\",(IF($G43=\"3ST\",Tables!$F$78,(IF($G43=\"4ST\",Tables!$I$78,Tables!$L$78)))/100),(IF($G43=\"3ST\",Tables!$O$78,(IF($G43=\"4ST\",+Tables!$R$78,+Tables!$U$78)))/100))","v":4.4999999999999998E-2},{"$f":"IF(Inputs!$B$3=\"HSM\",(IF($G43=\"3ST\",Tables!$F$79,(IF($G43=\"4ST\",Tables!$I$79,Tables!$L$79)))/100),(IF($G43=\"3ST\",Tables!$O$79,(IF($G43=\"4ST\",+Tables!$R$79,+Tables!$U$79)))/100))","v":0.55100000000000005},{"$f":"+$BQ43*$EF43","v":0.21764685086727817},{"$f":"+$BQ43*$EG43","v":2.0630033257561912E-2},{"$f":"+$BQ43*$EH43","v":0.20733183423849721},{"$f":"+$BQ43*$EI43","v":7.633112305297908E-2},{"$f":"+$BQ43*$EJ43","v":4.6417574829514294E-2},{"$f":"+$BQ43*$EK43","v":0.56835741624583069},{"$f":"+$AZ43","v":1},{"$f":"+$BD43","v":0.27500000000000002},{"$f":"+$BH43","v":0.72499999999999998},{"$f":"+$BK43","v":1.0315016628780955},{"$f":"+$BG43","v":0.47569092927978968},{"$f":"+$BC43","v":1.5071925921578853}]
[]
[]
["Rural Signalized Intersections (MI)"]
["Example 1","SH-666","1st Street","Anywhere, USA","Eaton",{"$f":"VLOOKUP($E47,'Construction - Do Not Delete'!$K$83:$N$166,3,FALSE)","v":"University"},"Yes","4SG",8000,1000,"N/A (1.000)","N/A (1.000)",null,null,null,{"$f":"1/AT47","v":0.14684287812041116},{"$f":"1/AU47","v":0.16920473773265651},{"$f":"1/(1+P47*ER47)","v":0.94481114216951967},{"$f":"1/(1+Q47*EQ47)","v":0.79959795814239454},{"$f":"IF(N47=\"\",\"\",R47*ER47+((1-R47)*N47))","v":""},{"$f":"IF(O47=\"\",\"\",S47*EQ47+((1-S47)*O47))","v":""},{"$f":"IF(AND(T47=\"\",U47=\"\"),\"\",IF(T47=\"\",0,T47)+IF(U47=\"\",0,U47))","v":""},{"$f":"IF(T47=\"\",\"\",T47-ER47)","v":""},{"$f":"IF(U47=\"\",\"\",U47-EQ47)","v":""},{"$f":"IF(AND(W47=\"\",X47=\"\"),\"\",IF(W47=\"\",0,W47)+IF(X47=\"\",0,X47))","v":""},{"$f":"OFFSET(Tables!$AX$1,MATCH(K47,Tables!$AX:$AX,0)-1,1)","v":1},{"$f":"OFFSET(Tables!$AX$1,MATCH(L47,Tables!$AX:$AX,0)-1,1)","v":1},{"$f":"IF(M47=\"\",1,M47)","v":1},{"$f":"Z47*AA47*AB47","v":1},-10.744999999999999,-9.5760000000000005,1.1459999999999999,{"$f":"I47+J47","v":9000},{"$f":"J47/(I47+J47)","v":0.1111111111111111},1.127,-0.05,-1.7999999999999999E-2,{"$f":"AVERAGEIFS(Rural_MI_Tables!Y:Y,Rural_MI_Tables!W:W,H47,Rural_MI_Tables!X:X,F47)","v":0},0,{"$f":"IF($G47=\"Yes\",-0.448,)","v":-0.44800000000000001},-0.27300000000000002,-0.33200000000000002,{"$f":"(AG47^AF47)*(AH47^AJ47)*EXP(AD47+AL47+AN47+AO47)","v":0.39778967991693981},{"$f":"(AG47^AI47)*(AH47^AK47)*EXP(AE47+AM47+AP47)","v":1.4812144719953517},{"$f":"AQ47+AR47","v":1.8790041519122915},{"$f":"IF($G47=\"Yes\",6.81,5.49)","v":6.81},5.91,{"$f":"IF($H47=\"3ST\",IF(Inputs!$B$3=\"HSM\",Tables!$E$55,Tables!$K$55),(IF($H47=\"4ST\",(IF(Inputs!$B$3=\"HSM\",Tables!$G$55,Tables!$M$55)),(IF(Inputs!$B$3=\"HSM\",Tables!$I$55,Tables!$O$55)))))/100","v":1},{"$f":"+AS47*AV47","v":1.8790041519122915},{"$f":"+$AC47","v":1},{"$f":"+AS47*AX47","v":1.8790041519122915},{"$f":"IF($H47=\"3SG\",IF(Inputs!$B$3=\"HSM\",Tables!$Q$53,Tables!$Q$53),(IF($H47=\"4SG\",(IF(Inputs!$B$3=\"HSM\",Tables!$I$53,Tables!$O$53)),(IF(Inputs!$B$3=\"HSM\",Tables!$I$53,Tables!$O$53)))))/100","v":0.23},{"$f":"+AS47*AZ47","v":0.43217095493982705},{"$f":"+$AC47","v":1},{"$f":"+AQ47*BB47","v":0.39778967991693981},{"$f":"IF($H47=\"3SG\",IF(Inputs!$B$3=\"HSM\",Tables!$Q$54,Tables!$Q$54),(IF($H47=\"4SG\",(IF(Inputs!$B$3=\"HSM\",Tables!$I$54,Tables!$O$54)),(IF(Inputs!$B$3=\"HSM\",Tables!$I$54,Tables!$O$54)))))/100","v":0.77},{"$f":"+AS47*BD47","v":1.4468331969724646},{"$f":"+$AC47","v":1},{"$f":"+AR47*BF47","v":1.4812144719953517},1,{"$f":"+AY47","v":1.8790041519122915},1,{"$f":"+BC47","v":0.39778967991693981},1,{"$f":"+BG47","v":1.4812144719953517},{"$f":"IF(Inputs!$B$3=\"HSM\",(IF($H47=\"3SG\",Tables!$Y$66,(IF($H47=\"4SG\",Tables!$M$66,Tables!$M$66)))/100),(IF($H47=\"3SG\",Tables!$Y$66,(IF($H47=\"4SG\",+Tables!$V$66,+Tables!$V$66)))/100))","v":0.03},{"$f":"IF(Inputs!$B$3=\"HSM\",(IF($H47=\"3SG\",Tables!$Y$67,(IF($H47=\"4SG\",Tables!$M$67,Tables!$M$67)))/100),(IF($H47=\"3SG\",Tables!$Y$67,(IF($H47=\"4SG\",+Tables!$V$67,+Tables!$V$67)))/100))","v":6.0000000000000001E-3},{"$f":"IF(Inputs!$B$3=\"HSM\",(IF($H47=\"3SG\",Tables!$Y$68,(IF($H47=\"4SG\",Tables!$M$68,Tables!$M$68)))/100),(IF($H47=\"3SG\",Tables!$Y$68,(IF($H47=\"4SG\",+Tables!$V$68,+Tables!$V$68)))/100))","v":1.2E-2},{"$f":"IF(Inputs!$B$3=\"HSM\",(IF($H47=\"3SG\",Tables!$Y$69,(IF($H47=\"4SG\",Tables!$M$69,Tables!$M$69)))/100),(IF($H47=\"3SG\",Tables!$Y$69,(IF($H47=\"4SG\",+Tables!$V$69,+Tables!$V$69)))/100))","v":4.0000000000000001E-3},{"$f":"IF(Inputs!$B$3=\"HSM\",(IF($H47=\"3SG\",Tables!$Y$70,(IF($H47=\"4SG\",Tables!$M$70,Tables!$M$70)))/100),(IF($H47=\"3SG\",Tables!$Y$70,(IF($H47=\"4SG\",+Tables!$V$70,+Tables!$V$70)))/100))","v":4.7E-2},{"$f":"IF(Inputs!$B$3=\"HSM\",(IF($H47=\"3SG\",Tables!$Y$71,(IF($H47=\"4SG\",Tables!$M$71,Tables!$M$71)))/100),(IF($H47=\"3SG\",Tables!$Y$71,(IF($H47=\"4SG\",+Tables!$V$71,+Tables!$V$71)))/100))","v":9.0000000000000011E-3},{"$f":"IF(Inputs!$B$3=\"HSM\",(IF($H47=\"3SG\",Tables!$Y$72,(IF($H47=\"4SG\",Tables!$M$72,Tables!$M$72)))/100),(IF($H47=\"3SG\",Tables!$Y$72,(IF($H47=\"4SG\",+Tables!$V$72,+Tables!$V$72)))/100))","v":0.10800000000000001},{"$f":"BN47*$BI47","v":5.6370124557368742E-2},1.1274024911473749E-2,2.2548049822947499E-2,7.5160166076491666E-3,8.8313195139877704E-2,1.6911037367210627E-2,0.20293244840652752,{"$f":"IF(Inputs!$B$3=\"HSM\",(IF($H47=\"3SG\",Tables!$W$66,(IF($H47=\"4SG\",Tables!$K$66,Tables!$K$66)))/100),(IF($H47=\"3SG\",Tables!$W$66,(IF($H47=\"4SG\",+Tables!$T$66,+Tables!$T$66)))/100))","v":0},{"$f":"IF(Inputs!$B$3=\"HSM\",(IF($H47=\"3SG\",Tables!$W$67,(IF($H47=\"4SG\",Tables!$K$67,Tables!$K$67)))/100),(IF($H47=\"3SG\",Tables!$W$67,(IF($H47=\"4SG\",+Tables!$T$67,+Tables!$T$67)))/100))","v":2.2000000000000002E-2},{"$f":"IF(Inputs!$B$3=\"HSM\",(IF($H47=\"3SG\",Tables!$W$68,(IF($H47=\"4SG\",Tables!$K$68,Tables!$K$68)))/100),(IF($H47=\"3SG\",Tables!$W$68,(IF($H47=\"4SG\",+Tables!$T$68,+Tables!$T$68)))/100))","v":4.5999999999999999E-2},{"$f":"IF(Inputs!$B$3=\"HSM\",(IF($H47=\"3SG\",Tables!$W$69,(IF($H47=\"4SG\",Tables!$K$69,Tables!$K$69)))/100),(IF($H47=\"3SG\",Tables!$W$69,(IF($H47=\"4SG\",+Tables!$T$69,+Tables!$T$69)))/100))","v":0.01},{"$f":"IF(Inputs!$B$3=\"HSM\",(IF($H47=\"3SG\",Tables!$W$70,(IF($H47=\"4SG\",Tables!$K$70,Tables!$K$70)))/100),(IF($H47=\"3SG\",Tables!$W$70,(IF($H47=\"4SG\",+Tables!$T$70,+Tables!$T$70)))/100))","v":3.7000000000000005E-2},{"$f":"IF(Inputs!$B$3=\"HSM\",(IF($H47=\"3SG\",Tables!$W$71,(IF($H47=\"4SG\",Tables!$K$71,Tables!$K$71)))/100),(IF($H47=\"3SG\",Tables!$W$71,(IF($H47=\"4SG\",+Tables!$T$71,+Tables!$T$71)))/100))","v":1.9999999999999974E-3},{"$f":"IF(Inputs!$B$3=\"HSM\",(IF($H47=\"3ST\",Tables!$E$72,(IF($H47=\"4ST\",Tables!$H$72,Tables!$K$72)))/100),(IF($H47=\"3ST\",Tables!$N$72,(IF($H47=\"4ST\",+Tables!$Q$72,+Tables!$T$72)))/100))","v":0.11699999999999999},{"$f":"CB47*$BK47","v":0},8.7513729581726769E-3,1.8298325276179229E-2,3.9778967991693981E-3,1.4718218156926775E-2,7.9557935983387855E-4,4.6541392550281953E-2,{"$f":"IF(Inputs!$B$3=\"HSM\",(IF($H47=\"3SG\",Tables!$X$66,(IF($H47=\"4SG\",Tables!$L$66,Tables!$L$66)))/100),(IF($H47=\"3SG\",Tables!$X$66,(IF($H47=\"4SG\",+Tables!$U$66,+Tables!$U$66)))/100))","v":3.9E-2},{"$f":"IF(Inputs!$B$3=\"HSM\",(IF($H47=\"3SG\",Tables!$X$67,(IF($H47=\"4SG\",Tables!$L$67,Tables!$L$67)))/100),(IF($H47=\"3SG\",Tables!$X$67,(IF($H47=\"4SG\",+Tables!$U$67,+Tables!$U$67)))/100))","v":1E-3},{"$f":"IF(Inputs!$B$3=\"HSM\",(IF($H47=\"3SG\",Tables!$X$68,(IF($H47=\"4SG\",Tables!$L$68,Tables!$L$68)))/100),(IF($H47=\"3SG\",Tables!$X$68,(IF($H47=\"4SG\",+Tables!$U$68,+Tables!$U$68)))/100))","v":1E-3},{"$f":"IF(Inputs!$B$3=\"HSM\",(IF($H47=\"3SG\",Tables!$X$69,(IF($H47=\"4SG\",Tables!$L$69,Tables!$L$69)))/100),(IF($H47=\"3SG\",Tables!$X$69,(IF($H47=\"4SG\",+Tables!$U$69,+Tables!$U$69)))/100))","v":1E-3},{"$f":"IF(Inputs!$B$3=\"HSM\",(IF($H47=\"3SG\",Tables!$X$70,(IF($H47=\"4SG\",Tables!$L$70,Tables!$L$70)))/100),(IF($H47=\"3SG\",Tables!$X$70,(IF($H47=\"4SG\",+Tables!$U$70,+Tables!$U$70)))/100))","v":0.05},{"$f":"IF(Inputs!$B$3=\"HSM\",(IF($H47=\"3SG\",Tables!$X$71,(IF($H47=\"4SG\",Tables!$L$71,Tables!$L$71)))/100),(IF($H47=\"3SG\",Tables!$X$71,(IF($H47=\"4SG\",+Tables!$U$71,+Tables!$U$71)))/100))","v":1.2999999999999998E-2},{"$f":"IF(Inputs!$B$3=\"HSM\",(IF($H47=\"3SG\",Tables!$X$72,(IF($H47=\"4SG\",Tables!$L$72,Tables!$L$72)))/100),(IF($H47=\"3SG\",Tables!$X$72,(IF($H47=\"4SG\",+Tables!$U$72,+Tables!$U$72)))/100))","v":0.105},{"$f":"CP47*$BM47","v":5.7767364407818718E-2},1.4812144719953517E-3,1.4812144719953517E-3,1.4812144719953517E-3,7.4060723599767592E-2,1.9255788135939568E-2,0.15552751955951191,{"$f":"IF(Inputs!$B$3=\"HSM\",(IF($H47=\"3SG\",Tables!$Y$74,(IF($H47=\"4SG\",Tables!$M$74,Tables!$M$74)))/100),(IF($H47=\"3SG\",Tables!$Y$74,(IF($H47=\"4SG\",+Tables!$V$74,+Tables!$V$74)))/100))","v":0.27},{"$f":"IF(Inputs!$B$3=\"HSM\",(IF($H47=\"3SG\",Tables!$Y$75,(IF($H47=\"4SG\",Tables!$M$75,Tables!$M$75)))/100),(IF($H47=\"3SG\",Tables!$Y$75,(IF($H47=\"4SG\",+Tables!$V$75,+Tables!$V$75)))/100))","v":8.900000000000001E-2},{"$f":"IF(Inputs!$B$3=\"HSM\",(IF($H47=\"3SG\",Tables!$Y$76,(IF($H47=\"4SG\",Tables!$M$76,Tables!$M$76)))/100),(IF($H47=\"3SG\",Tables!$Y$76,(IF($H47=\"4SG\",+Tables!$V$76,+Tables!$V$76)))/100))","v":0.36700000000000005},{"$f":"IF(Inputs!$B$3=\"HSM\",(IF($H47=\"3SG\",Tables!$Y$77,(IF($H47=\"4SG\",Tables!$M$77,Tables!$M$77)))/100),(IF($H47=\"3SG\",Tables!$Y$77,(IF($H47=\"4SG\",+Tables!$V$77,+Tables!$V$77)))/100))","v":0.11699999999999999},{"$f":"IF(Inputs!$B$3=\"HSM\",(IF($H47=\"3SG\",Tables!$Y$78,(IF($H47=\"4SG\",Tables!$M$78,Tables!$M$78)))/100),(IF($H47=\"3SG\",Tables!$Y$78,(IF($H47=\"4SG\",+Tables!$V$78,+Tables!$V$78)))/100))","v":4.9000000000000002E-2},{"$f":"IF(Inputs!$B$3=\"HSM\",(IF($H47=\"3SG\",Tables!$Y$79,(IF($H47=\"4SG\",Tables!$M$79,Tables!$M$79)))/100),(IF($H47=\"3SG\",Tables!$Y$79,(IF($H47=\"4SG\",+Tables!$V$79,+Tables!$V$79)))/100))","v":0.89200000000000002},{"$f":"+$DD47*$BI47","v":0.50733112101631872},{"$f":"+$DE47*$BI47","v":0.16723136952019396},{"$f":"+$DF47*$BI47","v":0.68959452375181107},{"$f":"+$DG47*$BI47","v":0.21984348577373811},{"$f":"+$DH47*$BI47","v":9.2071203443702287E-2},{"$f":"+$DI47*$BI47","v":1.6760717035057642},{"$f":"IF(Inputs!$B$3=\"HSM\",(IF($H47=\"3SG\",Tables!$W$74,(IF($H47=\"4SG\",Tables!$K$74,Tables!$K$74)))/100),(IF($H47=\"3SG\",Tables!$W$74,(IF($H47=\"4SG\",+Tables!$T$74,+Tables!$T$74)))/100))","v":0.42200000000000004},{"$f":"IF(Inputs!$B$3=\"HSM\",(IF($H47=\"3SG\",Tables!$W$75,(IF($H47=\"4SG\",Tables!$K$75,Tables!$K$75)))/100),(IF($H47=\"3SG\",Tables!$W$75,(IF($H47=\"4SG\",+Tables!$T$75,+Tables!$T$75)))/100))","v":0.16300000000000001},{"$f":"IF(Inputs!$B$3=\"HSM\",(IF($H47=\"3SG\",Tables!$W$76,(IF($H47=\"4SG\",Tables!$K$76,Tables!$K$76)))/100),(IF($H47=\"3SG\",Tables!$W$76,(IF($H47=\"4SG\",+Tables!$T$76,+Tables!$T$76)))/100))","v":0.23800000000000002},{"$f":"IF(Inputs!$B$3=\"HSM\",(IF($H47=\"3SG\",Tables!$W$77,(IF($H47=\"4SG\",Tables!$K$77,Tables!$K$77)))/100),(IF($H47=\"3SG\",Tables!$W$77,(IF($H47=\"4SG\",+Tables!$T$77,+Tables!$T$77)))/100))","v":3.1E-2},{"$f":"IF(Inputs!$B$3=\"HSM\",(IF($H47=\"3SG\",Tables!$W$78,(IF($H47=\"4SG\",Tables!$K$78,Tables!$K$78)))/100),(IF($H47=\"3SG\",Tables!$W$78,(IF($H47=\"4SG\",+Tables!$T$78,+Tables!$T$78)))/100))","v":2.8999999999999998E-2},{"$f":"IF(Inputs!$B$3=\"HSM\",(IF($H47=\"3SG\",Tables!$W$79,(IF($H47=\"4SG\",Tables!$K$79,Tables!$K$79)))/100),(IF($H47=\"3SG\",Tables!$W$79,(IF($H47=\"4SG\",+Tables!$T$79,+Tables!$T$79)))/100))","v":0.88300000000000001},{"$f":"+$BK47*$DP47","v":0.16786724492494862},{"$f":"+$BK47*$DQ47","v":6.4839717826461196E-2},{"$f":"+$BK47*$DR47","v":9.4673943820231685E-2},{"$f":"+$BK47*$DS47","v":1.2331480077425135E-2},{"$f":"+$BK47*$DT47","v":1.1535900717591254E-2},{"$f":"+$BK47*$DU47","v":0.35124828736665786},{"$f":"IF(Inputs!$B$3=\"HSM\",(IF($H47=\"3SG\",Tables!$X$74,(IF($H47=\"4SG\",Tables!$L$74,Tables!$L$74)))/100),(IF($H47=\"3SG\",Tables!$X$74,(IF($H47=\"4SG\",+Tables!$U$74,+Tables!$U$74)))/100))","v":0.22500000000000001},{"$f":"IF(Inputs!$B$3=\"HSM\",(IF($H47=\"3SG\",Tables!$X$75,(IF($H47=\"4SG\",Tables!$L$75,Tables!$L$75)))/100),(IF($H47=\"3SG\",Tables!$X$75,(IF($H47=\"4SG\",+Tables!$U$75,+Tables!$U$75)))/100))","v":6.7000000000000004E-2},{"$f":"IF(Inputs!$B$3=\"HSM\",(IF($H47=\"3SG\",Tables!$X$76,(IF($H47=\"4SG\",Tables!$L$76,Tables!$L$76)))/100),(IF($H47=\"3SG\",Tables!$X$76,(IF($H47=\"4SG\",+Tables!$U$76,+Tables!$U$76)))/100))","v":0.40600000000000003},{"$f":"IF(Inputs!$B$3=\"HSM\",(IF($H47=\"3SG\",Tables!$X$77,(IF($H47=\"4SG\",Tables!$L$77,Tables!$L$77)))/100),(IF($H47=\"3SG\",Tables!$X$77,(IF($H47=\"4SG\",+Tables!$U$77,+Tables!$U$77)))/100))","v":0.14300000000000002},{"$f":"IF(Inputs!$B$3=\"HSM\",(IF($H47=\"3SG\",Tables!$X$78,(IF($H47=\"4SG\",Tables!$L$78,Tables!$L$78)))/100),(IF($H47=\"3SG\",Tables!$X$78,(IF($H47=\"4SG\",+Tables!$U$78,+Tables!$U$78)))/100))","v":5.4000000000000006E-2},{"$f":"IF(Inputs!$B$3=\"HSM\",(IF($H47=\"3SG\",Tables!$X$79,(IF($H47=\"4SG\",Tables!$L$79,Tables!$L$79)))/100),(IF($H47=\"3SG\",Tables!$X$79,(IF($H47=\"4SG\",+Tables!$U$79,+Tables!$U$79)))/100))","v":0.89500000000000002},{"$f":"+$BM47*$EB47","v":0.33327325619895415},{"$f":"+$BM47*$EC47","v":9.9241369623688569E-2},{"$f":"+$BM47*$ED47","v":0.60137307563011289},{"$f":"+$BM47*$EE47","v":0.21181366949533531},{"$f":"+$BM47*$EF47","v":7.9985581487749008E-2},{"$f":"+$BM47*$EG47","v":1.3256869524358399},{"$f":"+$AV47","v":1},{"$f":"+$AZ47","v":0.23},{"$f":"+$BD47","v":0.77},{"$f":"+$BG47","v":1.4812144719953517},{"$f":"+$BC47","v":0.39778967991693981},{"$f":"+$AY47","v":1.8790041519122915}]

{"sheet":"Rural 2-Lane Segments (MI)","index":4,"n_rows":4,"n_cols":163,"rows_kept":4,"cut":false,"hidden":false,"merged":[[1,30,2,30],[0,76,0,153],[2,76,2,81],[2,82,2,87],[2,88,2,93],[2,94,2,99],[1,76,1,117],[1,118,1,153],[2,100,2,105],[2,106,2,111],[2,112,2,117],[2,118,2,123],[0,0,0,17],[0,18,0,43],[0,44,0,54],[0,55,0,75],[1,160,2,162],[2,124,2,129],[2,130,2,135],[1,154,2,156],[1,157,2,159],[2,136,2,141],[2,142,2,147],[2,148,2,153],[0,154,0,162],[1,18,2,18],[1,22,2,22],[1,26,2,26]]}
["Worksheet 1A -- General Information and Input Data for Rural Two-Lane Two-Way Trunkline Roadway Segments",null,null,null,null,null,null,null,null,null,null,null,null,null,null,null,null,null,"Empirical Bayes Analysis",null,null,null,null,null,null,null,null,null,null,null,null,null,null,null,null,null,null,null,null,null,null,null,null,null,"Crash Modification Factor Calculations",null,null,null,null,null,null,null,null,null,null,"Base Safety Performance Function Calculations",null,null,null,null,null,null,null,null,null,null,null,null,null,null,null,null,null,null,null,null,"Crashes by Severity and Type for Rural Two-Lane Two-Way Trunkline Roadway Segments",null,null,null,null,null,null,null,null,null,null,null,null,null,null,null,null,null,null,null,null,null,null,null,null,null,null,null,null,null,null,null,null,null,null,null,null,null,null,null,null,null,null,null,null,null,null,null,null,null,null,null,null,null,null,null,null,null,null,null,null,null,null,null,null,null,null,null,null,null,null,null,null,null,null,null,null,null,"Summary of Results for Rural Two-Lane Two-Way Trunkline Roadway Segments"]
[null,null,null,null,null,null,null,null,null,null,null,null,null,null,null,null,null,null,null,null,null,null,null,null,null,null,null,null,null,null,null,null,null,null,null,null,null,null,null,null,null,null,null,null,null,null,null,null,null,null,null,null,null,null,null,null,null,null,null,null,null,null,null,null,null,null,null,null,null,null,null,null,null,null,null,null,"Single-Vehicle",null,null,null,null,null,null,null,null,null,null,null,null,null,null,null,null,null,null,null,null,null,null,null,null,null,null,null,null,null,null,null,null,null,null,null,null,null,null,null,null,null,"Multiple-Vehicle",null,null,null,null,null,null,null,null,null,null,null,null,null,null,null,null,null,null,null,null,null,null,null,null,null,null,null,null,null,null,null,null,null,null,null,"PDO",null,null,"FI",null,null,"Total"]
[null,null,null,null,"Y","Y","Y","Y",null,null,null,null,null,null,null,null,null,null,null,null,null,null,null,null,null,null,null,null,null,null,null,null,null,null,null,null,null,null,null,null,null,null,null,null,null,null,null,null,null,null,null,null,null,null,null,null,null,null,null,null,null,null,null,null,null,null,null,null,null,null,null,null,null,null,null,null,"Collision with animal",null,null,null,null,null,"Collision with bicycle",null,null,null,null,null,"Collision with pedestrian",null,null,null,null,null,"Overturned",null,null,null,null,null,"Ran off road",null,null,null,null,null,"Other single-vehicle collision",null,null,null,null,null,"Total single-vehicle crashes",null,null,null,null,null,"Angle collision",null,null,null,null,null,"Head-on collision",null,null,null,null,null,"Rear-end collision",null,null,null,null,null,"Sideswipe collision",null,null,null,null,null,"Other multiple-vehicle collision",null,null,null,null,null,"Total multiple-vehicle crashes"]
["#","Roadway","Roadway Section","Jurisdiction","County","MDOT Region","Length of segment, L (miles)","AADT (vehicles/day)","Average Paved Shoulder Width","Length of horizontal curve under 1,570' (in miles)","Terrain","Proportion of Segment with Passing Restriction (%)","Driveway density (driveways/mile)","Passing lanes [present (1 lane) /\npresent (2 lane) / not present)]","Additional CMF - 1","Additional CMF - 2","Additional CMF - 3","Additional CMF - Numeric","Observed Non-Deer Single Vehicle Fatal and Injury Crashes (crashes/year)","Observed Non-Deer Single Vehicle PDO Crashes (crashes/year)","Observed Non-Deer Multiple-Vehicle Fatal and Injury Crashes (crashes/year)","Observed Non-Deer Multiple-Vehicle PDO Crashes (crashes/year)","Ovedispersion Parameter FI SV","Ovedispersion Parameter PDO SV","Ovedispersion Parameter FI MV","Ovedispersion Parameter PDO MV","Weighted Adjustment FI SV","Weighted Adjustment PDO SV","Weighted Adjustment FI MV","Weighted Adjustment PDO MV","Expected Average Crash Frequency FI SV","Expected Average Crash Frequency PDO SV","Expected Average Crash Frequency FI MV","Expected Average Crash Frequency PDO MV","Expected Average Crash Frequency FI","Expected Average Crash Frequency PDO","Expected Average Crash Frequency Total","Excess Expected Crash Frequency FI SV","Excess Expected Crash Frequency PDO SV","Excess Expected Crash Frequency FI MV","Excess Expected Crash Frequency PDO MV","Excess Expected Crash Frequency FI","Excess Expected Crash Frequency PDO","Excess Expected Crash Frequency Total","CMF for Average Shoulder Width","CMF for Horizontal Curvature","CMF for Driveway Density","CMF for Terrian","CMF for Passing Restriction","Additional CMF - 1","Additional CMF - 2","Additional CMF - 3","Additional CMF - Numeric","Combined CMF Single Vehicle","Combined CMF Multiple-Vehicle","N SPF FI SV","N SPF PDO SV","N SPF FI MV","N SPF PDO MV","Intercept FI SV","Intercept PDO SV","Intercept FI MV","Intercept PDO MV","Regional Coefficient FI","Regional Coefficient PDO","AADT Coefficient FI SV","AADT Coefficient PDO SV","AADT Coefficient FI MV","AADT Coefficient PDO MV","Predicted FI SV","Predicted PDO SV","Predicted FI MV","Predicted PDO MV","Predicted FI Crash Frequency","Predicted PDO Crash Frequency","Predicted Total Crash Frequency","(2) Proportion of Collision Type(TOTAL)   from Table   10-4","(3) N predicted rs (TOTAL) (crashes/year) (8)TOTAL from Worksheet 1C","(4) Proportion of Collision Type(FI) from Table 10-4","(5) N predicted rs (FI) (crashes/year) (8)FI from Worksheet 1C","(6) Proportion of Collision Type(PDO) from Table 10-4","(7) N predicted rs (PDO) (crashes/year) (8)PDO from Worksheet 1C","(2) Proportion of Collision Type(TOTAL)   from Table   10-4","(3) N predicted rs (TOTAL) (crashes/year) (8)TOTAL from Worksheet 1C","(4) Proportion of Collision Type(FI) from Table 10-4","(5) N predicted rs (FI) (crashes/year) (8)FI from Worksheet 1C","(6) Proportion of Collision Type(PDO) from Table 10-4","(7) N predicted rs (PDO) (crashes/year) (8)PDO from Worksheet 1C","(2) Proportion of Collision Type(TOTAL)   from Table   10-4","(3) N predicted rs (TOTAL) (crashes/year) (8)TOTAL from Worksheet 1C","(4) Proportion of Collision Type(FI) from Table 10-4","(5) N predicted rs (FI) (crashes/year) (8)FI from Worksheet 1C","(6) Proportion of Collision Type(PDO) from Table 10-4","(7) N predicted rs (PDO) (crashes/year) (8)PDO from Worksheet 1C","(2) Proportion of Collision Type(TOTAL)   from Table   10-4","(3) N predicted rs (TOTAL) (crashes/year) (8)TOTAL from Worksheet 1C","(4) Proportion of Collision Type(FI) from Table 10-4","(5) N predicted rs (FI) (crashes/year) (8)FI from Worksheet 1C","(6) Proportion of Collision Type(PDO) from Table 10-4","(7) N predicted rs (PDO) (crashes/year) (8)PDO from Worksheet 1C","(2) Proportion of Collision Type(TOTAL)   from Table   10-4","(3) N predicted rs (TOTAL) (crashes/year) (8)TOTAL from Worksheet 1C","(4) Proportion of Collision Type(FI) from Table 10-4","(5) N predicted rs (FI) (crashes/year) (8)FI from Worksheet 1C","(6) Proportion of Collision Type(PDO) from Table 10-4","(7) N predicted rs (PDO) (crashes/year) (8)PDO from Worksheet 1C","(2) Proportion of Collision Type(TOTAL)   from Table   10-4","(3) N predicted rs (TOTAL) (crashes/year) (8)TOTAL from Worksheet 1C","(4) Proportion of Collision Type(FI) from Table 10-4","(5) N predicted rs (FI) (crashes/year) (8)FI from Worksheet 1C","(6) Proportion of Collision Type(PDO) from Table 10-4","(7) N predicted rs (PDO) (crashes/year) (8)PDO from Worksheet 1C","(2) Proportion of Collision Type(TOTAL)   from Table   10-4","(3) N predicted rs (TOTAL) (crashes/year) (8)TOTAL from Worksheet 1C","(4) Proportion of Collision Type(FI) from Table 10-4","(5) N predicted rs (FI) (crashes/year) (8)FI from Worksheet 1C","(6) Proportion of Collision Type(PDO) from Table 10-4","(7) N predicted rs (PDO) (crashes/year) (8)PDO from Worksheet 1C","(2) Proportion of Collision Type(TOTAL)   from Table   10-4","(3) N predicted rs (TOTAL) (crashes/year) (8)TOTAL from Worksheet 1C","(4) Proportion of Collision Type(FI) from Table 10-4","(5) N predicted rs (FI) (crashes/year) (8)FI from Worksheet 1C","(6) Proportion of Collision Type(PDO) from Table 10-4","(7) N predicted rs (PDO) (crashes/year) (8)PDO from Worksheet 1C","(2) Proportion of Collision Type(TOTAL)   from Table   10-4","(3) N predicted rs (TOTAL) (crashes/year) (8)TOTAL from Worksheet 1C","(4) Proportion of Collision Type(FI) from Table 10-4","(5) N predicted rs (FI) (crashes/year) (8)FI from Worksheet 1C","(6) Proportion of Collision Type(PDO) from Table 10-4","(7) N predicted rs (PDO) (crashes/year) (8)PDO from Worksheet 1C","(2) Proportion of Collision Type(TOTAL)   from Table   10-4","(3) N predicted rs (TOTAL) (crashes/year) (8)TOTAL from Worksheet 1C","(4) Proportion of Collision Type(FI) from Table 10-4","(5) N predicted rs (FI) (crashes/year) (8)FI from Worksheet 1C","(6) Proportion of Collision Type(PDO) from Table 10-4","(7) N predicted rs (PDO) (crashes/year) (8)PDO from Worksheet 1C","(2) Proportion of Collision Type(TOTAL)   from Table   10-4","(3) N predicted rs (TOTAL) (crashes/year) (8)TOTAL from Worksheet 1C","(4) Proportion of Collision Type(FI) from Table 10-4","(5) N predicted rs (FI) (crashes/year) (8)FI from Worksheet 1C","(6) Proportion of Collision Type(PDO) from Table 10-4","(7) N predicted rs (PDO) (crashes/year) (8)PDO from Worksheet 1C","(2) Proportion of Collision Type(TOTAL)   from Table   10-4","(3) N predicted rs (TOTAL) (crashes/year) (8)TOTAL from Worksheet 1C","(4) Proportion of Collision Type(FI) from Table 10-4","(5) N predicted rs (FI) (crashes/year) (8)FI from Worksheet 1C","(6) Proportion of Collision Type(PDO) from Table 10-4","(7) N predicted rs (PDO) (crashes/year) (8)PDO from Worksheet 1C","(2) Proportion of Collision Type(TOTAL)   from Table   10-4","(3) N predicted rs (TOTAL) (crashes/year) (8)TOTAL from Worksheet 1C","(4) Proportion of Collision Type(FI) from Table 10-4","(5) N predicted rs (FI) (crashes/year) (8)FI from Worksheet 1C","(6) Proportion of Collision Type(PDO) from Table 10-4","(7) N predicted rs (PDO) (crashes/year) (8)PDO from Worksheet 1C","Predicted average crash frequency (crashes/year)","Roadway segment length (miles)","Crash rate (crashes/mile/year)","Predicted average crash frequency (crashes/year)","Roadway segment length (miles)","Crash rate (crashes/mile/year)","Predicted average crash frequency (crashes/year)","Roadway segment length (miles)","Crash rate (crashes/mile/year)"]

{"sheet":"Rural County FA Segs (MI)","index":5,"n_rows":4,"n_cols":123,"rows_kept":4,"cut":false,"hidden":false,"merged":[[0,114,0,122],[0,0,0,12],[0,13,0,38],[0,39,0,49],[0,50,0,68],[0,69,0,113],[1,13,2,13],[1,17,2,17],[1,21,2,21],[1,25,2,25],[1,69,1,88],[1,114,2,116],[1,117,2,119],[1,120,2,122],[2,69,2,73],[2,74,2,78],[2,79,2,83],[2,84,2,88],[2,89,2,93],[2,94,2,98],[2,99,2,103],[1,89,1,113],[2,104,2,108],[2,109,2,113]]}
["Worksheet 1A -- General Information and Input Data for Rural County Federal Aid Roadway Segments",null,null,null,null,null,null,null,null,null,null,null,null,"Empirical Bayes Analysis",null,null,null,null,null,null,null,null,null,null,null,null,null,null,null,null,null,null,null,null,null,null,null,null,null,"Crash Modification Factor Calculations",null,null,null,null,null,null,null,null,null,null,"Base Safety Performance Function Calculations",null,null,null,null,null,null,null,null,null,null,null,null,null,null,null,null,null,null,"Crashes by Type and Severity for Rural County Federal Aid Roadway Segments",null,null,null,null,null,null,null,null,null,null,null,null,null,null,null,null,null,null,null,null,null,null,null,null,null,null,null,null,null,null,null,null,null,null,null,null,null,null,null,null,null,null,null,null,"Summary of Results for Rural County Federal Aid Roadway Segments"]
[null,null,null,null,null,null,null,null,null,null,null,null,null,null,null,null,null,null,null,null,null,null,null,null,null,null,null,null,null,null,null,null,null,null,null,null,null,null,null,null,null,null,null,null,null,null,null,null,null,null,null,null,null,null,null,null,null,null,null,null,null,null,null,null,null,null,null,null,null,"Single Vehicle",null,null,null,null,null,null,null,null,null,null,null,null,null,null,null,null,null,null,null,"Multiple-Vehicle",null,null,null,null,null,null,null,null,null,null,null,null,null,null,null,null,null,null,null,null,null,null,null,null,"PDO",null,null,"FI",null,null,"Total"]
[null,null,null,null,"Y","Y",null,null,null,null,null,null,null,null,null,null,null,null,null,null,null,null,null,null,null,null,null,null,null,null,null,null,null,null,null,null,null,null,null,null,null,null,null,null,null,null,null,null,null,null,null,null,null,null,null,null,null,null,null,null,null,null,null,null,null,null,null,null,null,"Collision with bicycle",null,null,null,null,"Collision with pedestrian",null,null,null,null,"Overturned",null,null,null,null,"Fixed object/other SV",null,null,null,null,"Angle collision",null,null,null,null,"Head-on collision",null,null,null,null,"Rear-end collision",null,null,null,null,"Sideswipe collision",null,null,null,null,"Other multiple-vehicle collision"]
["#","Roadway","Roadway Section","Jurisdiction","Length of segment, L (miles)","AADT (vehicles/day)","Average Shoulder Width","Length of horizontal curve under 1,570' (in miles)","Driveway density (driveways/mile)","Additional CMF - 1","Additional CMF - 2","Additional CMF - 3","Additional CMF - Numeric","Observed Non-Deer Single Vehicle Fatal and Injury Crashes (crashes/year)","Observed Non-Deer Single Vehicle PDO Crashes (crashes/year)","Observed Non-Deer Multiple-Vehicle Fatal and Injury Crashes (crashes/year)","Observed Non-Deer Multiple-Vehicle PDO Crashes (crashes/year)","Ovedispersion Parameter FI SV","Ovedispersion Parameter PDO SV","Ovedispersion Parameter FI MV","Ovedispersion Parameter PDO MV","Weighted Adjustment FI SV","Weighted Adjustment PDO SV","Weighted Adjustment FI MV","Weighted Adjustment PDO MV","Expected Average Crash Frequency FI SV","Expected Average Crash Frequency PDO SV","Expected Average Crash Frequency FI MV","Expected Average Crash Frequency PDO MV","Expected Average Crash Frequency FI","Expected Average Crash Frequency PDO","Expected Average Crash Frequency Total","Excess Expected Crash Frequency FI SV","Excess Expected Crash Frequency PDO SV","Excess Expected Crash Frequency FI MV","Excess Expected Crash Frequency PDO MV","Excess Expected Crash Frequency FI","Excess Expected Crash Frequency PDO","Excess Expected Crash Frequency Total","CMF for Shoulder Width","CMF for Horizontal Curvature","CMF for Driveway Density","Additional CMF - 1","Additional CMF - 2","Additional CMF - 3","Additional CMF - Numeric","Combined CMF Single Vehicle","Combined CMF Multiple-Vehicle","County Level Effect FI","County Level Effect PDO","N SPF FI SV","N SPF PDO SV","N SPF FI MV","N SPF PDO MV","Intercept FI SV","Intercept PDO SV","Intercept FI MV","Intercept PDO MV","AADT Coefficient FI SV","AADT Coefficient PDO SV","AADT Coefficient FI MV","AADT Coefficient PDO MV","Predicted FI SV","Predicted PDO SV","Predicted FI MV","Predicted PDO MV","Predicted FI Crash Frequency","Predicted PDO Crash Frequency","Predicted Total Crash Frequency","Predicted Total Crashes","Proportion of Collision Type(FI)","Predicted FI Crashes","Proportion of Collision Type(PDO)","Predicted PDO Crashes","Predicted Total Crashes","Proportion of Collision Type(FI)","Predicted FI Crashes","Proportion of Collision Type(PDO)","Predicted PDO Crashes","Predicted Total Crashes","Proportion of Collision Type(FI)","Predicted FI Crashes","Proportion of Collision Type(PDO)","Predicted PDO Crashes","Predicted Total Crashes","Proportion of Collision Type(FI)","Predicted FI Crashes","Proportion of Collision Type(PDO)","Predicted PDO Crashes","Predicted Total Crashes","Proportion of Collision Type(FI)","Predicted FI Crashes","Proportion of Collision Type(PDO)","Predicted PDO Crashes","Predicted Total Crashes","Proportion of Collision Type(FI)","Predicted FI Crashes","Proportion of Collision Type(PDO)","Predicted PDO Crashes","Predicted Total Crashes","Proportion of Collision Type(FI)","Predicted FI Crashes","Proportion of Collision Type(PDO)","Predicted PDO Crashes","Predicted Total Crashes","Proportion of Collision Type(FI)","Predicted FI Crashes","Proportion of Collision Type(PDO)","Predicted PDO Crashes","Predicted Total Crashes","Proportion of Collision Type(FI)","Predicted FI Crashes","Proportion of Collision Type(PDO)","Predicted PDO Crashes","Predicted average crash frequency (crashes/year)","Roadway segment length (miles)","Crash rate (crashes/mile/year)","Predicted average crash frequency (crashes/year)","Roadway segment length (miles)","Crash rate (crashes/mile/year)","Predicted average crash frequency (crashes/year)","Roadway segment length (miles)","Crash rate (crashes/mile/year)"]

{"sheet":"Rural County Non-FA Segs (MI)","index":6,"n_rows":4,"n_cols":99,"rows_kept":4,"cut":false,"hidden":false,"merged":[[0,90,0,98],[0,0,0,13],[0,14,0,25],[0,26,0,35],[0,36,0,44],[0,45,0,89],[1,14,2,14],[1,16,2,16],[1,18,2,18],[1,20,2,20],[1,45,1,64],[1,90,2,92],[1,93,2,95],[1,96,2,98],[2,45,2,49],[2,50,2,54],[2,55,2,59],[2,60,2,64],[2,65,2,69],[2,70,2,74],[2,75,2,79],[1,65,1,89],[2,80,2,84],[2,85,2,89]]}
["Worksheet 1A -- General Information and Input Data for Rural County Non-Federal Aid Roadway Segments",null,null,null,null,null,null,null,null,null,null,null,null,null,"Empirical Bayes Analysis",null,null,null,null,null,null,null,null,null,null,null,"Crash Modification Factor Calculations",null,null,null,null,null,null,null,null,null,"Base Safety Performance Function Calculations",null,null,null,null,null,null,null,null,"Crashes by Type and Severity for  Rural County Non-Federal Aid Roadway Segments",null,null,null,null,null,null,null,null,null,null,null,null,null,null,null,null,null,null,null,null,null,null,null,null,null,null,null,null,null,null,null,null,null,null,null,null,null,null,null,null,null,null,null,null,"Summary of Results for Rural County Non-Federal Aid Roadway Segments"]
[null,null,null,null,null,null,null,null,null,null,null,null,null,null,null,null,null,null,null,null,null,null,null,null,null,null,null,null,null,null,null,null,null,null,null,null,null,null,null,null,null,null,null,null,null,"Single Vehicle",null,null,null,null,null,null,null,null,null,null,null,null,null,null,null,null,null,null,null,"Multiple-Vehicle",null,null,null,null,null,null,null,null,null,null,null,null,null,null,null,null,null,null,null,null,null,null,null,null,"PDO",null,null,"FI",null,null,"Total"]
[null,null,null,null,"Y","Y",null,null,null,null,null,null,null,null,null,null,null,null,null,null,null,null,null,null,null,null,null,null,null,null,null,null,null,null,null,null,null,null,null,null,null,null,null,null,null,"Collision with bicycle",null,null,null,null,"Collision with pedestrian",null,null,null,null,"Overturned",null,null,null,null,"Fixed object/other SV",null,null,null,null,"Angle collision",null,null,null,null,"Head-on collision",null,null,null,null,"Rear-end collision",null,null,null,null,"Sideswipe collision",null,null,null,null,"Other multiple-vehicle collision"]
["#","Roadway","Roadway Section","Jurisdiction","Surface Type","Length of segment, L (miles)","AADT (vehicles/day)","Traveled Way Width","Length of horizontal curve under 1,570' (in miles)","Driveway density (driveways/mile)","Additional CMF - 1","Additional CMF - 2","Additional CMF - 3","Additional CMF - Numeric","Observed Non-Deer Fatal and Injury Crashes (crashes/year)","Observed Non-Deer PDO Crashes (crashes/year)","Ovedispersion Parameter FI","Ovedispersion Parameter PDO","Weighted Adjustment FI","Weighted Adjustment PDO","Expected Average Crash Frequency FI","Expected Average Crash Frequency PDO","Expected Average Crash Frequency Total","Excess Expected Crash Frequency FI","Excess Expected Crash Frequency PDO","Excess Expected Crash Frequency Total","CMF for Surface Type","CMF for Traveled Way Width","CMF for Horizontal Curvature","CMF for Driveway Density","Additional CMF - 1","Additional CMF - 2","Additional CMF - 3","Additional CMF - Numeric","Combined CMF","County Level Effect","N SPF FI","N SPF PDO","Intercept FI","Intercept PDO","AADT Coefficient FI","AADT Coefficient PDO","Predicted FI","Predicted PDO","Predicted Total","Predicted Total Crashes","Proportion of Collision Type(FI)","Predicted FI Crashes","Proportion of Collision Type(PDO)","Predicted PDO Crashes","Predicted Total Crashes","Proportion of Collision Type(FI)","Predicted FI Crashes","Proportion of Collision Type(PDO)","Predicted PDO Crashes","Predicted Total Crashes","Proportion of Collision Type(FI)","Predicted FI Crashes","Proportion of Collision Type(PDO)","Predicted PDO Crashes","Predicted Total Crashes","Proportion of Collision Type(FI)","Predicted FI Crashes","Proportion of Collision Type(PDO)","Predicted PDO Crashes","Predicted Total Crashes","Proportion of Collision Type(FI)","Predicted FI Crashes","Proportion of Collision Type(PDO)","Predicted PDO Crashes","Predicted Total Crashes","Proportion of Collision Type(FI)","Predicted FI Crashes","Proportion of Collision Type(PDO)","Predicted PDO Crashes","Predicted Total Crashes","Proportion of Collision Type(FI)","Predicted FI Crashes","Proportion of Collision Type(PDO)","Predicted PDO Crashes","Predicted Total Crashes","Proportion of Collision Type(FI)","Predicted FI Crashes","Proportion of Collision Type(PDO)","Predicted PDO Crashes","Predicted Total Crashes","Proportion of Collision Type(FI)","Predicted FI Crashes","Proportion of Collision Type(PDO)","Predicted PDO Crashes","Predicted average crash frequency (crashes/year)","Roadway segment length (miles)","Crash rate (crashes/mile/year)","Predicted average crash frequency (crashes/year)","Roadway segment length (miles)","Crash rate (crashes/mile/year)","Predicted average crash frequency (crashes/year)","Roadway segment length (miles)","Crash rate (crashes/mile/year)"]

{"sheet":"Rural Multilane Segments (MI)","index":7,"n_rows":4,"n_cols":128,"rows_kept":4,"cut":false,"hidden":false,"merged":[[0,119,0,127],[0,0,0,16],[0,17,0,42],[0,43,0,52],[0,53,0,73],[0,74,0,118],[1,17,2,17],[1,21,2,21],[1,25,2,25],[1,29,2,29],[1,74,1,93],[2,114,2,118],[1,119,2,121],[1,122,2,124],[1,125,2,127],[2,74,2,78],[2,79,2,83],[2,84,2,88],[2,89,2,93],[1,94,1,118],[2,94,2,98],[2,99,2,103],[2,104,2,108],[2,109,2,113]]}
["Worksheet 1A -- General Information and Input Data for Rural Multilane Trunkline Roadway Segments",null,null,null,null,null,null,null,null,null,null,null,null,null,null,null,null,"Empirical Bayes Analysis",null,null,null,null,null,null,null,null,null,null,null,null,null,null,null,null,null,null,null,null,null,null,null,null,null,"Crash Modification Factor Calculations",null,null,null,null,null,null,null,null,null,"Base Safety Performance Function Calculations",null,null,null,null,null,null,null,null,null,null,null,null,null,null,null,null,null,null,null,null,"Crashes by Type and Severity for Rural Multilane Trunkline Intersections",null,null,null,null,null,null,null,null,null,null,null,null,null,null,null,null,null,null,null,null,null,null,null,null,null,null,null,null,null,null,null,null,null,null,null,null,null,null,null,null,null,null,null,null,"Summary of Results for Rural Mutlilane Trunkline Roadway Segments"]
[null,null,null,null,null,null,null,null,null,null,null,null,null,null,null,null,null,null,null,null,null,null,null,null,null,null,null,null,null,null,null,null,null,null,null,null,null,null,null,null,null,null,null,null,null,null,null,null,null,null,null,null,null,null,null,null,null,null,null,null,null,null,null,null,null,null,null,null,null,null,null,null,null,null,"Single Vehicle",null,null,null,null,null,null,null,null,null,null,null,null,null,null,null,null,null,null,null,"Multiple-Vehicle",null,null,null,null,null,null,null,null,null,null,null,null,null,null,null,null,null,null,null,null,null,null,null,null,"PDO",null,null,"FI",null,null,"Total"]
[null,null,null,null,"Y","Y",null,"Y","Y",null,null,null,null,null,null,null,null,null,null,null,null,null,null,null,null,null,null,null,null,null,null,null,null,null,null,null,null,null,null,null,null,null,null,null,null,null,null,null,null,null,null,null,null,null,null,null,null,null,null,null,null,null,null,null,null,null,null,null,null,null,null,null,null,null,"Collision with bicycle",null,null,null,null,"Collision with pedestrian",null,null,null,null,"Overturned",null,null,null,null,"Fixed object/other SV",null,null,null,null,"Angle collision",null,null,null,null,"Head-on collision",null,null,null,null,"Rear-end collision",null,null,null,null,"Sideswipe collision",null,null,null,null,"Other multiple-vehicle collision"]
["#","Roadway","Roadway Section","Jurisdiction","County","MDOT Region","Segment Type","Length of segment, L (miles)","AADT (vehicles/day)","Left Shoulder Width","Right Shoulder Width","Length of horizontal curve under 1,570' (in miles)","Driveway density (driveways/mile)","Additional CMF - 1","Additional CMF - 2","Additional CMF - 3","Additional CMF - Numeric","Observed Non-Deer Single Vehicle Fatal and Injury Crashes (crashes/year)","Observed Non-Deer Single Vehicle PDO Crashes (crashes/year)","Observed Non-Deer Multiple-Vehicle Fatal and Injury Crashes (crashes/year)","Observed Non-Deer Multiple-Vehicle PDO Crashes (crashes/year)","Ovedispersion Parameter FI SV","Ovedispersion Parameter PDO SV","Ovedispersion Parameter FI MV","Ovedispersion Parameter PDO MV","Weighted Adjustment FI SV","Weighted Adjustment PDO SV","Weighted Adjustment FI MV","Weighted Adjustment PDO MV","Expected Average Crash Frequency FI SV","Expected Average Crash Frequency PDO SV","Expected Average Crash Frequency FI MV","Expected Average Crash Frequency PDO MV","Expected Average Crash Frequency FI","Expected Average Crash Frequency PDO","Expected Average Crash Frequency Total","Excess Expected Crash Frequency FI SV","Excess Expected Crash Frequency PDO SV","Excess Expected Crash Frequency FI MV","Excess Expected Crash Frequency PDO MV","Excess Expected Crash Frequency FI","Excess Expected Crash Frequency PDO","Excess Expected Crash Frequency Total","CMF for Left Shoulder Width (Divided Only)","CMF for Right Shoulder Width","CMF for Horizontal Curvature","CMF for Driveway Density","Additional CMF - 1","Additional CMF - 2","Additional CMF - 3","Additional CMF - Numeric","Combined CMF Single Vehicle","Combined CMF Multiple-Vehicle","N SPF FI SV","N SPF PDO SV","N SPF FI MV","N SPF PDO MV","Intercept FI SV","Intercept PDO SV","Intercept FI MV","Intercept PDO MV","Regional Coefficient FI","Regional Coefficient PDO","AADT Coefficient FI SV","AADT Coefficient PDO SV","AADT Coefficient FI MV","AADT Coefficient PDO MV","Predicted FI SV","Predicted PDO SV","Predicted FI MV","Predicted PDO MV","Predicted FI Crash Frequency","Predicted PDO Crash Frequency","Predicted Total Crash Frequency","Predicted Total Crashes","Proportion of Collision Type(FI)","Predicted FI Crashes","Proportion of Collision Type(PDO)","Predicted PDO Crashes","Predicted Total Crashes","Proportion of Collision Type(FI)","Predicted FI Crashes","Proportion of Collision Type(PDO)","Predicted PDO Crashes","Predicted Total Crashes","Proportion of Collision Type(FI)","Predicted FI Crashes","Proportion of Collision Type(PDO)","Predicted PDO Crashes","Predicted Total Crashes","Proportion of Collision Type(FI)","Predicted FI Crashes","Proportion of Collision Type(PDO)","Predicted PDO Crashes","Predicted Total Crashes","Proportion of Collision Type(FI)","Predicted FI Crashes","Proportion of Collision Type(PDO)","Predicted PDO Crashes","Predicted Total Crashes","Proportion of Collision Type(FI)","Predicted FI Crashes","Proportion of Collision Type(PDO)","Predicted PDO Crashes","Predicted Total Crashes","Proportion of Collision Type(FI)","Predicted FI Crashes","Proportion of Collision Type(PDO)","Predicted PDO Crashes","Predicted Total Crashes","Proportion of Collision Type(FI)","Predicted FI Crashes","Proportion of Collision Type(PDO)","Predicted PDO Crashes","Predicted Total Crashes","Proportion of Collision Type(FI)","Predicted FI Crashes","Proportion of Collision Type(PDO)","Predicted PDO Crashes","Predicted average crash frequency (crashes/year)","Roadway segment length (miles)","Crash rate (crashes/mile/year)","Predicted average crash frequency (crashes/year)","Roadway segment length (miles)","Crash rate (crashes/mile/year)","Predicted average crash frequency (crashes/year)","Roadway segment length (miles)","Crash rate (crashes/mile/year)"]

{"sheet":"Rural Unsignalized Int (MI)","index":8,"n_rows":4,"n_cols":153,"rows_kept":4,"cut":false,"hidden":false,"merged":[[0,38,0,47],[0,63,0,146],[0,147,0,152],[1,59,2,62],[0,0,0,16],[0,17,0,28],[0,29,0,37],[0,48,0,62],[1,9,1,16],[1,19,2,19],[1,21,2,21],[1,48,2,54],[1,55,2,58],[1,63,2,68],[1,69,1,110],[1,111,1,146],[1,147,2,149],[1,150,2,152],[2,69,2,75],[2,76,2,82],[2,83,2,89],[2,90,2,96],[2,97,2,103],[2,141,2,146],[2,104,2,110],[2,111,2,116],[2,117,2,122],[2,123,2,128],[2,129,2,134],[2,135,2,140]]}
["Worksheet 2A -- General Information and Input Data for Rural Unsignalized Intersections",null,null,null,null,null,null,null,null,null,null,null,null,null,null,null,null,"Empirical Bayes Analysis",null,null,null,null,null,null,null,null,null,null,null,"Worksheet 2B -- Crash Modification Factors for Unsignalized Intersections",null,null,null,null,null,null,null,null,"Base Safety Performance Function Calculations",null,null,null,null,null,null,null,null,null,"Worksheet 2C -- Intersection Crashes for Rural Unsignalized Intersections",null,null,null,null,null,null,null,null,null,null,null,null,null,null,"Worksheet 2D -- Crashes by Severity Level and Collision Type for Rural Unsignalized Intersections",null,null,null,null,null,null,null,null,null,null,null,null,null,null,null,null,null,null,null,null,null,null,null,null,null,null,null,null,null,null,null,null,null,null,null,null,null,null,null,null,null,null,null,null,null,null,null,null,null,null,null,null,null,null,null,null,null,null,null,null,null,null,null,null,null,null,null,null,null,null,null,null,null,null,null,null,null,null,null,null,null,null,null,"Worksheet 2E -- Summary Results for Rural Unsignalized Intersections"]
[null,null,null,null,null,null,null,null,null,null,null,null,null,null,null,null,null,null,null,null,null,null,null,null,null,null,null,null,null,null,null,null,null,null,null,null,null,null,null,null,null,null,null,null,null,null,null,null,"Total",null,null,null,null,null,null,"Fatal and Injury (FI)",null,null,null,"Property Damage Only (PDO)",null,null,null,"Total",null,null,null,null,null,"Single Vehicle",null,null,null,null,null,null,null,null,null,null,null,null,null,null,null,null,null,null,null,null,null,null,null,null,null,null,null,null,null,null,null,null,null,null,null,null,null,null,null,null,null,"Multiple Vehicle",null,null,null,null,null,null,null,null,null,null,null,null,null,null,null,null,null,null,null,null,null,null,null,null,null,null,null,null,null,null,null,null,null,null,null,"Crash Severity Distribution",null,null,"Predicted average crash frequency (crashes / year)"]
[null,null,null,null,"Y","Y","Y","Y",null,null,null,null,null,null,null,null,null,null,null,null,null,null,null,null,null,null,null,null,null,null,null,null,null,null,null,null,null,null,null,null,null,null,null,null,null,null,null,null,null,null,null,null,null,null,null,null,null,null,null,null,null,null,null,null,null,null,null,null,null,"(2) Proportion of Collision Type(TOTAL) from Table 10-6",null,null,null,null,null,null,"(3) Npredicted int (TOTAL) (crashes/year) (8)TOTAL from Worksheet 2C",null,null,null,null,null,null,"(4) Proportion of Collision Type(FI) from Table 10-6",null,null,null,null,null,null,"(5) Npredicted int (FI) (crashes/year) (8)FI from Worksheet 2C",null,null,null,null,null,null,"(6) Proportion of Collision Type(PDO) from Table 10-6",null,null,null,null,null,null,"(7) Npredicted int (PDO) (crashes/year) (8)FI from Worksheet 2C",null,null,null,null,null,null,"(2) Proportion of Collision Type(TOTAL) from Table 10-6",null,null,null,null,null,"(3) Npredicted int (TOTAL) (crashes/year) (8)TOTAL from Worksheet 2C",null,null,null,null,null,"(4) Proportion of Collision Type(FI) from Table 10-6",null,null,null,null,null,"(5) Npredicted int (FI) (crashes/year) (8)FI from Worksheet 2C",null,null,null,null,null,"(6) Proportion of Collision Type(PDO) from Table 10-6",null,null,null,null,null,"(7) Npredicted int (PDO) (crashes/year) (8)FI from Worksheet 2C"]
["#","Major Roadway","Minor Roadway","Jurisdiction","County","MDOT Region","Intersection Type","AADT major (vehicles/day)","AADT minor (vehicles/day)","Skew Angle","Driveways within 211' (0.04 miles) of Intersection","Number of uncontrolled\napproaches with a left-turn lane (0, 1, 2, 3, 4)","Number of uncontrolled\napproaches with a right-turn lane (0, 1, 2, 3, 4)","Intersection lighting","Additional CMF - 1","Additional CMF - 2","Additional CMF - Numeric","Observed Fatal and Injury Crashes (crashes/year)","Observed PDO Crashes (crashes/year)","Ovedispersion Parameter FI","Ovedispersion Parameter PDO","Weighted Adjustment FI","Weighted Adjustment PDO","Expected Average FI Crash Frequency","Expected Average PDO Crash Frequency","Expected Average Total Crash Frequency","Excess Expected FI Crashes","Excess Expected PDO Crashes","Excess Expected Total Crashes","(1) CMF for Skew Angle from Michigan Research","(2) CMF for Left-Turn Lanes, CMF 2i, from Table 10-13","(3) CMF for Right-Turn Lanes, CMF 3i, from Table 10-14","(4) CMF for Lighting, CMF 4i, from Equation 10-24","(5) CMF for Driveways from Michigan Research","Additional CMF - 1","Additional CMF - 2","Additional CMF - Numeric","Combined CMF","Intercept_FI","Intercept_PDO","Coefficient_MajorAADT_FI","Coefficient_MajorAADT_PDO","Coefficient_MinorAADT_FI","Coefficient_MinorAADT_PDO","Cofficient_Region_FI","Cofficient_Region_PDO","N_base_FI","N_base_PDO","N_base_TOTAL","Overdispersion Parameter FI","Overdispersion Parameter PDO","Crash Severity Distribution from Table 10-5","N spf 3ST, 4ST or 4SG by Severity Distribution (2)TOTAL * (4)","Combined CMFs from (5) of Worksheet 2B","Predicted average crash frequency,   N predicted int (5)*(6)*(7)","Crash Severity Distribution from Table 10-5","N spf 3ST, 4ST or 4SG by Severity Distribution (2)TOTAL * (4)","Combined CMFs from (5) of Worksheet 2B","Predicted average crash frequency,   N predicted int (5)*(6)*(7)","Crash Severity Distribution from Table 10-5","N spf 3ST, 4ST or 4SG by Severity Distribution (2)TOTAL * (4)","Combined CMFs from (5) of Worksheet 2B","Predicted average crash frequency,   N predicted int (5)*(6)*(7)","(2) Proportion of Collision Type(TOTAL) from Table 10-6","(3) Npredicted int (TOTAL) (crashes/year) (8)TOTAL from Worksheet 2C","(4) Proportion of Collision Type(FI) from Table 10-6","(5) Npredicted int (FI) (crashes/year) (8)FI from Worksheet 2C","(6) Proportion of Collision Type(PDO) from Table 10-6","(7) Npredicted int (PDO) (crashes/year) (8)FI from Worksheet 2C","Collision with Animal","Collision with bicycle","Collision with pedestrian","Overturned","Ran off road","Other single-vehicle collision","Total single vehicle crashes","Collision with Animal","Collision with bicycle","Collision with pedestrian","Overturned","Ran off road","Other single-vehicle collision","Total single vehicle crashes","Collision with Animal","Collision with bicycle","Collision with pedestrian","Overturned","Ran off road","Other single-vehicle collision","Total single vehicle crashes","Collision with Animal","Collision with bicycle","Collision with pedestrian","Overturned","Ran off road","Other single-vehicle collision","Total single vehicle crashes","Collision with Animal","Collision with bicycle","Collision with pedestrian","Overturned","Ran off road","Other single-vehicle collision","Total single vehicle crashes","Collision with Animal","Collision with bicycle","Collision with pedestrian","Overturned","Ran off road","Other single-vehicle collision","Total single vehicle crashes","Angle Collision","Head-on collision","Rear-end collision","Sideswipe collision","Other multiple-vehicle collision","Total Multiple vehicle crashes","Angle Collision","Head-on collision","Rear-end collision","Sideswipe collision","Other multiple-vehicle collision","Total Multiple vehicle crashes","Angle Collision","Head-on collision","Rear-end collision","Sideswipe collision","Other multiple-vehicle collision","Total Multiple vehicle crashes","Angle Collision","Head-on collision","Rear-end collision","Sideswipe collision","Other multiple-vehicle collision","Total Multiple vehicle crashes","Angle Collision","Head-on collision","Rear-end collision","Sideswipe collision","Other multiple-vehicle collision","Total Multiple vehicle crashes","Angle Collision","Head-on collision","Rear-end collision","Sideswipe collision","Other multiple-vehicle collision","Total Multiple vehicle crashes","Total","Fatal and Injury (FI)","Property Damage Only (PDO)","Property Damage Only (PDO)","Fatal and Injury (FI)","Total"]

{"sheet":"Rural Signalized Int (MI)","index":9,"n_rows":4,"n_cols":149,"rows_kept":4,"cut":false,"hidden":false,"merged":[[1,55,2,58],[1,59,2,64],[1,65,1,106],[1,107,1,142],[0,0,0,12],[0,13,0,24],[0,29,0,43],[0,44,0,58],[0,59,0,142],[1,10,1,12],[1,15,2,15],[1,17,2,17],[1,44,2,50],[1,51,2,54],[0,25,0,28],[0,143,0,148],[1,146,2,148],[2,65,2,71],[2,72,2,78],[2,79,2,85],[2,86,2,92],[2,93,2,99],[2,100,2,106],[2,107,2,112],[2,113,2,118],[2,119,2,124],[2,125,2,130],[2,131,2,136],[2,137,2,142],[1,143,2,145]]}
["Worksheet 2A -- General Information and Input Data for Rural Signalized Intersections",null,null,null,null,null,null,null,null,null,null,null,null,"Empirical Bayes Analysis",null,null,null,null,null,null,null,null,null,null,null,"Crash Modification Factors",null,null,null,"Base Safety Performance Function Calculations",null,null,null,null,null,null,null,null,null,null,null,null,null,null,"Worksheet 2C -- Intersection Crashes for Rural Signalized Intersections",null,null,null,null,null,null,null,null,null,null,null,null,null,null,"Worksheet 2D -- Crashes by Severity Level and Collision Type for Rural Signalized Intersections",null,null,null,null,null,null,null,null,null,null,null,null,null,null,null,null,null,null,null,null,null,null,null,null,null,null,null,null,null,null,null,null,null,null,null,null,null,null,null,null,null,null,null,null,null,null,null,null,null,null,null,null,null,null,null,null,null,null,null,null,null,null,null,null,null,null,null,null,null,null,null,null,null,null,null,null,null,null,null,null,null,null,null,"Worksheet 2E -- Summary Results for Rural Signalized Intersections"]
[null,null,null,null,null,null,null,null,null,null,null,null,null,null,null,null,null,null,null,null,null,null,null,null,null,null,null,null,null,null,null,null,null,null,null,null,null,null,null,null,null,null,null,null,"Total",null,null,null,null,null,null,"Fatal and Injury (FI)",null,null,null,"Property Damage Only (PDO)",null,null,null,"Total",null,null,null,null,null,"Single Vehicle",null,null,null,null,null,null,null,null,null,null,null,null,null,null,null,null,null,null,null,null,null,null,null,null,null,null,null,null,null,null,null,null,null,null,null,null,null,null,null,null,null,"Multiple Vehicle",null,null,null,null,null,null,null,null,null,null,null,null,null,null,null,null,null,null,null,null,null,null,null,null,null,null,null,null,null,null,null,null,null,null,null,"Crash Severity Distribution",null,null,"Predicted average crash frequency (crashes / year)"]
[null,null,null,null,"Y","Y",null,"Y","Y",null,null,null,null,null,null,null,null,null,null,null,null,null,null,null,null,null,null,null,null,null,null,null,null,null,null,null,null,null,null,null,null,null,null,null,null,null,null,null,null,null,null,null,null,null,null,null,null,null,null,null,null,null,null,null,null,"(2) Proportion of Collision Type(TOTAL) from Table 10-6",null,null,null,null,null,null,"(3) Npredicted int (TOTAL) (crashes/year) (8)TOTAL from Worksheet 2C",null,null,null,null,null,null,"(4) Proportion of Collision Type(FI) from Table 10-6",null,null,null,null,null,null,"(5) Npredicted int (FI) (crashes/year) (8)FI from Worksheet 2C",null,null,null,null,null,null,"(6) Proportion of Collision Type(PDO) from Table 10-6",null,null,null,null,null,null,"(7) Npredicted int (PDO) (crashes/year) (8)FI from Worksheet 2C",null,null,null,null,null,null,"(2) Proportion of Collision Type(TOTAL) from Table 10-6",null,null,null,null,null,"(3) Npredicted int (TOTAL) (crashes/year) (8)TOTAL from Worksheet 2C",null,null,null,null,null,"(4) Proportion of Collision Type(FI) from Table 10-6",null,null,null,null,null,"(5) Npredicted int (FI) (crashes/year) (8)FI from Worksheet 2C",null,null,null,null,null,"(6) Proportion of Collision Type(PDO) from Table 10-6",null,null,null,null,null,"(7) Npredicted int (PDO) (crashes/year) (8)FI from Worksheet 2C"]
["#","Major Roadway","Minor Roadway","Jurisdiction","County","MDOT Region","Intersection located within Census Designated Place (CDP)","Intersection Type","AADT major (vehicles/day)","AADT minor (vehicles/day)","Additional CMF - 1","Additional CMF - 2","Additional CMF - Numeric","Observed Fatal and Injury Crashes (crashes/year)","Observed PDO Crashes (crashes/year)","Ovedispersion Parameter FI","Ovedispersion Parameter PDO","Weighted Adjustment FI","Weighted Adjustment PDO","Expected Average FI Crash Frequency","Expected Average PDO Crash Frequency","Expected Average Total Crash Frequency","Excess Expected FI Crashes","Excess Expected PDO Crashes","Excess Expected Total Crashes","Additional CMF - 1","Additional CMF - 2","Additional CMF - Numeric","(5) Combined CMF, CMF COMB, (1)*(2)*(3)","Intercept_FI","Intercept_PDO","Coefficient_TotalAADT_FI","Total AADT","Proportin of Minor AADT to Total AADT","Coefficient_TotalAADT_PDO","Coefficient_MinorAADT_FI","Coefficient_MinorAADT_PDO","Cofficient_Region_FI","Cofficient_Region_PDO","Added Effect of CDP FI","Added Effect of 3-Leg FI","Added Effect of 3-Leg PDO","N_base_FI","N_base_PDO","N_base_TOTAL","Overdispersion Parameter FI","Overdispersion Parameter PDO","Crash Severity Distribution from Table 10-5","N spf 3ST, 4ST or 4SG by Severity Distribution (2)TOTAL * (4)","Combined CMFs from (5) of Worksheet 2B","Predicted average crash frequency,   N predicted int (5)*(6)*(7)","Crash Severity Distribution from Table 10-5","N spf 3ST, 4ST or 4SG by Severity Distribution (2)TOTAL * (4)","Combined CMFs from (5) of Worksheet 2B","Predicted average crash frequency,   N predicted int (5)*(6)*(7)","Crash Severity Distribution from Table 10-5","N spf 3ST, 4ST or 4SG by Severity Distribution (2)TOTAL * (4)","Combined CMFs from (5) of Worksheet 2B","Predicted average crash frequency,   N predicted int (5)*(6)*(7)","(2) Proportion of Collision Type(TOTAL) from Table 10-6","(3) Npredicted int (TOTAL) (crashes/year) (8)TOTAL from Worksheet 2C","(4) Proportion of Collision Type(FI) from Table 10-6","(5) Npredicted int (FI) (crashes/year) (8)FI from Worksheet 2C","(6) Proportion of Collision Type(PDO) from Table 10-6","(7) Npredicted int (PDO) (crashes/year) (8)FI from Worksheet 2C","Collision with Animal","Collision with bicycle","Collision with pedestrian","Overturned","Ran off road","Other single-vehicle collision","Total single vehicle crashes","Collision with Animal","Collision with bicycle","Collision with pedestrian","Overturned","Ran off road","Other single-vehicle collision","Total single vehicle crashes","Collision with Animal","Collision with bicycle","Collision with pedestrian","Overturned","Ran off road","Other single-vehicle collision","Total single vehicle crashes","Collision with Animal","Collision with bicycle","Collision with pedestrian","Overturned","Ran off road","Other single-vehicle collision","Total single vehicle crashes","Collision with Animal","Collision with bicycle","Collision with pedestrian","Overturned","Ran off road","Other single-vehicle collision","Total single vehicle crashes","Collision with Animal","Collision with bicycle","Collision with pedestrian","Overturned","Ran off road","Other single-vehicle collision","Total single vehicle crashes","Angle Collision","Head-on collision","Rear-end collision","Sideswipe collision","Other multiple-vehicle collision","Total Multiple vehicle crashes","Angle Collision","Head-on collision","Rear-end collision","Sideswipe collision","Other multiple-vehicle collision","Total Multiple vehicle crashes","Angle Collision","Head-on collision","Rear-end collision","Sideswipe collision","Other multiple-vehicle collision","Total Multiple vehicle crashes","Angle Collision","Head-on collision","Rear-end collision","Sideswipe collision","Other multiple-vehicle collision","Total Multiple vehicle crashes","Angle Collision","Head-on collision","Rear-end collision","Sideswipe collision","Other multiple-vehicle collision","Total Multiple vehicle crashes","Angle Collision","Head-on collision","Rear-end collision","Sideswipe collision","Other multiple-vehicle collision","Total Multiple vehicle crashes","Total","Fatal and Injury (FI)","Property Damage Only (PDO)","Property Damage Only (PDO)","Fatal and Injury (FI)","Total"]

{"sheet":"Urban & Suburban Segments (MI)","index":10,"n_rows":4,"n_cols":233,"rows_kept":4,"cut":false,"hidden":false,"merged":[[1,130,2,134],[1,164,2,172],[0,110,0,154],[1,110,2,114],[0,155,0,172],[1,135,2,139],[1,140,2,144],[1,145,2,149],[1,150,2,154],[1,155,2,163],[0,224,0,232],[1,227,2,229],[1,230,2,232],[0,179,0,187],[0,188,0,223],[1,179,2,184],[1,185,2,187],[1,188,1,199],[1,200,1,211],[1,212,1,223],[1,224,2,226],[2,188,2,197],[2,200,2,209],[2,212,2,221],[2,223,3,223],[2,211,3,211],[2,199,3,199],[1,82,2,86],[1,87,2,91],[1,92,2,100],[0,63,2,71],[0,72,2,74],[0,75,2,77],[0,78,2,81],[0,82,0,91],[1,101,2,109],[0,92,0,109],[0,173,0,178],[1,173,2,178],[1,115,2,119],[1,120,2,124],[1,125,2,129],[0,33,0,62],[1,43,2,44],[1,59,2,60],[1,61,2,62],[1,55,2,56],[1,45,2,48],[1,49,2,52],[1,33,2,34],[1,35,2,36],[1,37,2,38],[1,39,2,40],[1,41,2,42],[1,57,2,58],[1,53,2,54]]}
["Worksheet 1A -- General Information and Input Data for Urban and Suburban Roadway Segments",null,null,null,null,null,null,null,null,null,null,null,null,null,null,null,null,null,null,null,null,null,null,null,null,null,null,null,null,null,null,null,null,"Empirical Bayes Analysis",null,null,null,null,null,null,null,null,null,null,null,null,null,null,null,null,null,null,null,null,null,null,null,null,null,null,null,null,null,"Worksheet 1B -- Crash Modification Factors for Urban and Suburban Roadway Segments",null,null,null,null,null,null,null,null,"Calculations for CMF for Roadside Fixed Objects",null,null,"Nightime crash proportion for CMF for Lighting",null,null,"Driveway Density Calculations",null,null,null,"CMF Calculations",null,null,null,null,null,null,null,null,null,"Worksheet 1C -- Multiple-Vehicle Collisions by Severity Level for Urban and Suburban Roadway Segments",null,null,null,null,null,null,null,null,null,null,null,null,null,null,null,null,null,"Worksheet 1D -- Multiple-Vehicle Collisions by Collision Type for Urban and Suburban Roadway Segments",null,null,null,null,null,null,null,null,null,null,null,null,null,null,null,null,null,null,null,null,null,null,null,null,null,null,null,null,null,null,null,null,null,null,null,null,null,null,null,null,null,null,null,null,"Worksheet 1E -- Single-Vehicle Collisions by Severity Level for Urban and Suburban Roadway Segments",null,null,null,null,null,null,null,null,null,null,null,null,null,null,null,null,null,"Worksheet 1I -- Vehicle-Pedestrian Collisions for Urban and Suburban Roadway Segments",null,null,null,null,null,"Worksheet 1J -- Vehicle-Bicycle Collisions for Urban and Suburban Roadway Segments",null,null,null,null,null,null,null,null,"Worksheet 1K -- Crash Severity Distribution for Urban and Suburban Roadway Segments",null,null,null,null,null,null,null,null,null,null,null,null,null,null,null,null,null,null,null,null,null,null,null,null,null,null,null,null,null,null,null,null,null,null,null,"Worksheet 1L -- Summary Results for Urban and Suburban Roadway Segments"]
[null,null,null,null,null,null,null,null,null,null,null,null,null,null,null,null,null,null,null,null,null,null,null,null,null,null,null,null,null,null,null,null,null,"Observed FI Crashes Nobserved (crashes/year)",null,"Observed PDO Crashes Nobserved (crashes/year)",null,"Ovedispersion Parameter for FI, k",null,"Ovedispersion Parameter for PDO, k",null,"Weighted Adjustment for FI, w\n(Equation A-5 from Part C Appendix)",null,"Weighted Adjustment for PDO, w\n(Equation A-5 from Part C Appendix)",null,"Expected Average Crash Frequency for FI, Nexpected (Equation A-4 from Part C Appendix)",null,null,null,"Expected Average Crash Frequency for PDO, Nexpected (Equation A-4 from Part C Appendix)",null,null,null,"Totals",null,"FI N predicted w0\n(Equation A-8)",null,"PDO N predicted w0\n(Equation A-8)",null,"FI N predicted w1\n(Equation A-9)",null,"PDO N predicted w1\n(Equation A-9)",null,null,null,null,null,null,null,null,null,null,null,null,null,null,null,null,null,null,null,null,"Fatal/Injury",null,null,null,null,"PDO",null,null,null,null,"Fatal and Injury (FI)",null,null,null,null,null,null,null,null,"Property Damage Only (PDO)",null,null,null,null,null,null,null,null,"Rear-end",null,null,null,null,"Rear-end Left-turn",null,null,null,null,"Rear-end Right-turn",null,null,null,null,"Head-on",null,null,null,null,"Head-on Left-turn",null,null,null,null,"Angle",null,null,null,null,"Sideswipe, same direction",null,null,null,null,"Sideswipe, opposite direction",null,null,null,null,"Other multiple-vehicle collision",null,null,null,null,"Fatal and Injury (FI)",null,null,null,null,null,null,null,null,"Property Damage Only (PDO)",null,null,null,null,null,null,null,null,"Total (Assumed FI Only)",null,null,null,null,null,"Total",null,null,null,null,null,"Fatal and Injury (FI)",null,null,"Fatal and Injury (FI)",null,null,null,null,null,null,null,null,null,null,null,"Property Damage Only (PDO)",null,null,null,null,null,null,null,null,null,null,null,"Total",null,null,null,null,null,null,null,null,null,null,null,"Property Damage Only (PDO)",null,null,"Fatal and Injury (FI)",null,null,"Total"]
[null,null,null,null,"Y","Y",null,null,null,null,null,null,null,null,null,null,null,null,null,null,null,null,null,null,null,null,null,null,null,null,null,null,null,null,null,null,null,null,null,null,null,null,null,null,null,null,null,null,null,null,null,null,null,null,null,null,null,null,null,null,null,null,null,null,null,null,null,null,null,null,null,null,null,null,null,null,null,null,null,null,null,null,null,null,null,null,null,null,null,null,null,null,null,null,null,null,null,null,null,null,null,null,null,null,null,null,null,null,null,null,null,null,null,null,null,null,null,null,null,null,null,null,null,null,null,null,null,null,null,null,null,null,null,null,null,null,null,null,null,null,null,null,null,null,null,null,null,null,null,null,null,null,null,null,null,null,null,null,null,null,null,null,null,null,null,null,null,null,null,null,null,null,null,null,null,null,null,null,null,null,null,null,null,null,null,null,null,null,"Multiple-Vehicle",null,null,null,null,null,null,null,null,null,"Single Vehicle","Total","Multiple-Vehicle",null,null,null,null,null,null,null,null,null,"Single Vehicle","Total","Multiple-Vehicle",null,null,null,null,null,null,null,null,null,"Single Vehicle","Total"]
["#","Roadway","Roadway Section","Jurisdiction","Roadway type                                                                   (2U55E, 2U55L, 3T, 4U, 5T, 4D, 6D, 8D, 2O, 3O, 4O)","Length of segment, L (miles)","AADT (vehicles/day)","Commercial Vehicle Proportion","Type of on-street parking (none/parallel/angle)","Proportion of curb length with on-street parking\n(2U55E, 2U55L, 3T, 4U, 4D, or 5T)","Median width (feet) - for divided only","Lighting (present / not present)","Auto speed enforcement (present / not present)","Commercial driveways (number)","Industrial driveways (number)","Residential driveways (number)","Other driveways (number)","Lane Width (feet)","Left Shoulder Width (feet)","Right Shoulder Width (feet)","County","Old MDOT Region","New MDOT Region","Economic Prosperity Region","Proportion Table Lookup Value - F/I (Hidden)","Proportion Table Lookup Value - PDO (Hidden)","Roadside fixed object density (fixed objects / mi)","Offset to roadside fixed objects (feet)","Additional CMF - 1","Additional CMF - 2","Additional CMF - 3","Additional CMF - Numeric","Calibration Factor, Cr","Multiple-vehicle crashes/year","Single-vehicle crashes/year","Multiple-vehicle crashes/year","Single-vehicle crashes/year","Multiple-vehicle","Single-vehicle","Multiple-vehicle","Single-vehicle","Multiple-vehicle","Single-vehicle","Multiple-vehicle","Single-vehicle","Multiple-vehicle","Single-vehicle","Total Expected Average Crash Frequency","Excess Expected Crashes\nNexpected - Npredicted","Multiple-vehicle","Single-vehicle","Total Expected Average Crash Frequency","Excess Expected Crashes\nNexpected - Npredicted","Total Expected Average Crash Frequency","Total Excess Expected Crashes","Multiple-vehicle","Single-vehicle","Multiple-vehicle","Single-vehicle","Multiple-vehicle","Single-vehicle","Multiple-vehicle","Single-vehicle","CMF for On-Street Parking CMF 1r from Equation 12-32","(2) CMF for Roadside Fixed Objects CMF 2r from Equation 12-33","(4) CMF for Lighting CMF 4r from Equation 12-34","(5) CMF for Automated Speed Enforcement CMR 5r from Section 12.7.1","Additional CMF - 1","Additional CMF - 2","Additional CMF - 3","Additional CMF - Numeric","(6) Combined CMF","foffset","Calculated CMF 2r","Adjusted CMF2r :","pinr","ppnr","pnr","Commercial Driveway Density","Industrial Driveway Density","Residential Driveway Density","Other Type Driveway Density","Lane Width CMF","Shoulder Width CMF","Median Width CMF","MV Driveway Density CMF","SV Driveway Density CMF","Lane Width CMF","Shoulder Width CMF","Median Width CMF","MV Driveway Density CMF","SV Driveway Density CMF","(1) SPF Coefficient, Intercept","(2) SPF Coefficient, AADT","(3) SPF Coefficient, Region","(4) SPF Coefficient, Commercial Vehicle Proportion","(5) Overdispersion Parameter, k","(6) Initial Nbrmv from SPF","(7) Combined CMFs","(8) Calibration Factor, Cr","(9) Predicted Nbrmv","(1) SPF Coefficient, Intercept","(2) SPF Coefficient, AADT","(3) SPF Coefficient, Region","(4) SPF Coefficient, Commercial Vehicle Proportion","(5) Overdispersion Parameter, k","(6) Initial Nbrmv from SPF","(7) Combined CMFs from Worksheet 1B","(8) Calibration Factor, Cr","(9) Predicted Nbrmv","(1) Proportion of Collision Type(FI)","(2) Predicted N brmv (FI) (crashes/year)","(3) Proportion of Collision Type(PDO)","(4) Predicted N brmv (PDO) (crashes/year)","(5) Predicted N brmv (TOTAL) (crashes/year)","(1) Proportion of Collision Type(FI)","(2) Predicted N brmv (FI) (crashes/year)","(3) Proportion of Collision Type(PDO)","(4) Predicted N brmv (PDO) (crashes/year)","(5) Predicted N brmv (TOTAL) (crashes/year)","(1) Proportion of Collision Type(FI)","(2) Predicted N brmv (FI) (crashes/year)","(3) Proportion of Collision Type(PDO)","(4) Predicted N brmv (PDO) (crashes/year)","(5) Predicted N brmv (TOTAL) (crashes/year)","(1) Proportion of Collision Type(FI)","(2) Predicted N brmv (FI) (crashes/year)","(3) Proportion of Collision Type(PDO)","(4) Predicted N brmv (PDO) (crashes/year)","(5) Predicted N brmv (TOTAL) (crashes/year)","(1) Proportion of Collision Type(FI)","(2) Predicted N brmv (FI) (crashes/year)","(3) Proportion of Collision Type(PDO)","(4) Predicted N brmv (PDO) (crashes/year)","(5) Predicted N brmv (TOTAL) (crashes/year)","(1) Proportion of Collision Type(FI)","(2) Predicted N brmv (FI) (crashes/year)","(3) Proportion of Collision Type(PDO)","(4) Predicted N brmv (PDO) (crashes/year)","(5) Predicted N brmv (TOTAL) (crashes/year)","(1) Proportion of Collision Type(FI)","(2) Predicted N brmv (FI) (crashes/year)","(3) Proportion of Collision Type(PDO)","(4) Predicted N brmv (PDO) (crashes/year)","(5) Predicted N brmv (TOTAL) (crashes/year)","(1) Proportion of Collision Type(FI)","(2) Predicted N brmv (FI) (crashes/year)","(3) Proportion of Collision Type(PDO)","(4) Predicted N brmv (PDO) (crashes/year)","(5) Predicted N brmv (TOTAL) (crashes/year)","(1) Proportion of Collision Type(FI)","(2) Predicted N brmv (FI) (crashes/year)","(3) Proportion of Collision Type(PDO)","(4) Predicted N brmv (PDO) (crashes/year)","(5) Predicted N brmv (TOTAL) (crashes/year)","(1) SPF Coefficient, Intercept","(2) SPF Coefficient, AADT","(3) SPF Coefficient, Region","(4) SPF Coefficient, Commercial Vehicle Proportion","(5) Overdispersion Parameter, k","(6) Initial Nbrsv from SPF","(7) Combined CMFs","(8) Calibration Factor, Cr","(9) Predicted Nbrsv","(1) SPF Coefficient, Intercept","(2) SPF Coefficient, AADT","(3) SPF Coefficient, Region","(4) SPF Coefficient, Commercial Vehicle Proportion","(5) Overdispersion Parameter, k","(6) Initial Nbrsv from SPF","(7) Combined CMFs from Worksheet 1B","(8) Calibration Factor, Cr","(9) Predicted Nbrsv","(1) Predicted N brmv\n(9)from Worksheet 1C","(2) Predicted N brsv\n(9) from Worksheet 1E","(3) Predicted N br\n(2) + (3) + (4)","(4) f pedr","(5) Calibration Factor, Cr","(6) Predicted Npedr\n(3) * (4) * (5)","(1) Predicted N brmv\n(9)from Worksheet 1C","(2) Predicted N brsv\n(9) from Worksheet 1E","(3) Predicted N br\n(2) + (3) + (4)","(4) f biker","(5) Calibration Factor, Cr","(6) Predicted N biker\n(3) * (4) * (5)","(7) f biker-FI","(8) Calibration Factor, Cr","(9) Predicted N biker(FI)\n(6) * (7) * (8)","Rear-end collisions","Rear-end Left-turn collisions","Rear-end Right-turn collisions","Head-on collisions","Head-on Left-turn collisions","Angle collisions","Sideswipe, same direction","Sideswipe, opposite direction","Other Multiple Vehicle collisions","Subtotal","Single Vehicle",null,"Rear-end collisions","Rear-end Left-turn collisions","Rear-end Right-turn collisions","Head-on collisions","Head-on Left-turn collisions","Angle collisions","Sideswipe, same direction","Sideswipe, opposite direction","Other Multiple Vehicle collisions","Subtotal","Single Vehicle",null,"Rear-end collisions","Rear-end Left-turn collisions","Rear-end Right-turn collisions","Head-on collisions","Head-on Left-turn collisions","Angle collisions","Sideswipe, same direction","Sideswipe, opposite direction","Other Multiple Vehicle collisions","Subtotal","Single Vehicle",null,"Predicted average crash frequency\nN predicted rs (crashes/year)","Roadway segment length, L (miles)","Crash rate (crashes/mile/year)","Predicted average crash frequency\nN predicted rs (crashes/year)","Roadway segment length, L (miles)","Crash rate (crashes/mile/year)","Predicted average crash frequency\nN predicted rs (crashes/year)","Roadway segment length, L (miles)","Crash rate (crashes/mile/year)"]

{"sheet":"Urban & Suburban Ints (MI)","index":11,"n_rows":4,"n_cols":119,"rows_kept":4,"cut":false,"hidden":false,"merged":[[0,96,2,115],[0,116,2,118],[0,92,2,95],[0,89,2,91],[0,85,2,88],[1,61,2,66],[1,11,1,19],[0,81,2,84],[1,54,2,54],[0,67,2,80],[0,26,0,66],[1,26,2,31],[1,32,2,37],[1,38,2,43],[1,44,2,53],[1,55,2,60]]}
[null,null,null,null,null,null,null,null,null,null,null,null,null,null,null,null,null,null,null,null,null,null,null,null,null,null,"Empirical Bayes Analysis",null,null,null,null,null,null,null,null,null,null,null,null,null,null,null,null,null,null,null,null,null,null,null,null,null,null,null,null,null,null,null,null,null,null,null,null,null,null,null,null,"Calculations for CMFs",null,null,null,null,null,null,null,null,null,null,null,null,null,"Predicted Crashes Prior to CMF Application (crashes/year)",null,null,null,"Predicted Crashes with CMFs Applied (crashes/year)",null,null,null,"Predicted Motor Vehicle Only Crashes (crashes/year)",null,null,"Predicted Pedestrian and Bicycle Crashes (crashes/year)",null,null,null,"Predicted Distribution of Motor Vehicle Only Crashes by Manner of Collsion and Severity (crashes/year)",null,null,null,null,null,null,null,null,null,null,null,null,null,null,null,null,null,null,null,"Predicted Crashes, All Types and Severities (crashes/year)"]
[null,null,null,null,null,null,null,null,null,null,null,"Intersection Information",null,null,null,null,null,null,null,null,null,null,null,null,null,null,"Observed Crash Frequency Nobserved (crashes/year)",null,null,null,null,null,"Overdispersion Parameter, k",null,null,null,null,null,"Weighted Adjustment, w (Equation A-5 from Part C Appendix)",null,null,null,null,null,"Expected Crash Frequency, Nexpected (crashes/year) (Equation A-4 from Part C Appendix)",null,null,null,null,null,null,null,null,null,null,"Npredicted w0, Equation A-8",null,null,null,null,null,"Npredicted w1, Equation A-9"]
[null,null,null,null,"Y","Y"]
["#","Major Roadway","Minor Roadway","Jurisdiction","Intersection Type","Major Road Flow Type","Minor Road Flow Type","Major AADT","Minor AADT","Major Road Median Presence","Minor Road Median Presence","Total Major Road Through Lanes (Both Directions)","Total Minor Road Through Lanes (Both Directions)","Major Road Speed Limit","Right Turn on Red Status","Lighting Presence","Major Street Left Turn Lane on all approaches","County","1997 MDOT Region","2016 MDOT Region","Economic Prosperity Region","Intersection Type","Additional CMF - 1","Additional CMF - 2","Additional CMF - 3","Additional CMF - Numeric","Multiple-Vehicle F-I Observed Crashes","Single-Vehicle F-I Observed Crashes","Multiple-Vehicle PDO Observed Crashes","Single-Vehicle PDO Observed Crashes","Motor Vehicle Only F-I Observed Crashes","Motor Vehicle Only PDO Observed Crashes ","Multiple-Vehicle F-I Overdispersion","Single-Vehicle F-I Overdispersion","Motor Vehicle Only F-I Crashes Overdispersion","Multiple-Vehicle PDO Overdispersion","Single-Vehicle PDO Overdispersion","Motor Vehicle Only PDO Overdispersion","Multiple-Vehicle F-I Weighted Adjustment","Single-Vehicle F-I Weighted Adjustment","Motor Vehicle Only Weighted Adjustment","Multiple-Vehicle PDO Weighted Adjustment","Single-Vehicle PDO Weighted Adjustment","Motor Vehicle Only Weighted Adjustment","Multiple-Vehicle F-I Expected Crash Frequency","Single-Vehicle F-I Expected Crash Frequency","Motor Vehicle Only F-I Expected Crash Frequency","Multiple-Vehicle PDO Expected Crash Frequency","Single-Vehicle PDO Expected Crash Frequency","Motor Vehicle Only PDO Expected Crash Frequency","Multiple-Vehicle All-Severity Expected Crash Frequency","Single-Vehicle All-Severity Expected Crash Frequency","Motor Vehicle Only All-Severity Expected Crash Frequency","Total Expected Crashes (crashes/year)","Excess Expected Crashes (crashes/year)\nNexpected - Npredicted","Multiple-Vehicle F-I Npredicted w0","Single-Vehicle F-I Npredicted w0","Motor Vehicle Only F-I Npredicted w0","Multiple-Vehicle PDO Npredicted w0","Single-Vehicle PDO Npredicted w0","Motor Vehicle Only PDO  Npredicted w0","Multiple-Vehicle F-I Npredicted w1","Single-Vehicle F-I Npredicted w1","Motor Vehicle Only F-I Npredicted w1","Multiple-Vehicle F-I Npredicted w1","Single-Vehicle F-I Npredicted w1","Motor Vehicle Only F-I Npredicted w1","Pmaj","Pmin","FI Median Presence CMF","FI Lighting Presnece CMF","FI Number of Lanes CMF","FI Posted Speed Limit CMF","FI RTOR CMF","FI LTL CMF","PDO Median Presence CMF","PDO Lighting Presnece CMF","PDO Number of Lanes CMF","PDO Posted Speed Limit CMF","PDO RTOR CMF","PDO LTL CMF","FI MV Crashes Prior to CMFs","FI SV Crashes Prior to CMFs","PDO MV Crashes Prior to CMFs","PDO SV Crashes Prior to CMFs","FI MV Crashes with CMFs","FI SV Crashes with CMFs","PDO MV Crashes with CMFs","PDO SV Crashes with CMFs","Predicted FI Motor Vehicle Only Crashes","Predicted PDO Motor Vehicle Only Crashes","Predicted All Severity Motor Vehicle Only Crashes","Pedestrian Involved Crashes","Bicycle Involved Crashes","FI Bicycle Involved Crashes","PDO Bicycle Involved Crashes","FI Single-Motor Vehicle Crashes","PDO Single-Motor Vehiclce Crashes","FI Rear-end Crashes","PDO Rear-End Crashes","FI Rear-end Left-turn Crashes","PDO Rear-end Left-turn Crashes","FI Rear-end Right-turn Crashes","PDO Rear-end Right-turn Crashes","FI Head-on Crashes","PDO Head-on Crashes","FI Head-on Left-turn Crashes","PDO Head-on Left-turn Crashes","FI Angle Crashes","PDO Angle Crashes","FI Sideswipe-Same Crashes","PDO Sideswipe-Same Crashes","FI Sideswipe-Opposite Crashes","PDO Sideswipe-Opposite Crashes","FI Other Multiple-Vehicle Crashes","PDO Other Multiple-Vehicle Crashes","Predicted All Crash types and severities","Predicted All Crash types F-I","Predicted All Crash types PDO"]

{"sheet":"MI Specific Tables","index":12,"n_rows":67,"n_cols":97,"rows_kept":67,"cut":false,"hidden":true,"merged":[[1,1,1,26],[1,29,1,43],[1,46,1,58],[2,60,2,62],[3,60,10,60]]}
[null,null,null,null,1,2,3,4,5,6,7,8,9,10,11,12,13,14,15,16,17,18,19,20,21,22,23,null,null,null,null,null,1,2,3,4,5,6,7,8,9,10,11,12,null,null,null,null,null,1,2,3,4,5,6,7,8,9,10,null,null,1,2,3,4,5,6,7,8,9,10,11,12]
[null,"Two-Way Model Coefficients",null,null,null,null,null,null,null,null,null,null,null,null,null,null,null,null,null,null,null,null,null,null,null,null,null,null,null,"One-Way Model Coefficients",null,null,null,null,null,null,null,null,null,null,null,null,null,null,null,null,"Two-Way Intersection Crash Proportions",null,null,null,null,null,null,null,null,null,null,null,null,null,"One-Way Proportion of Crashes by Severity Level for Specific Intersection Types",null,null,null,null,null,null,null,null,null,null,null,null,null,"Two-Way, Pedestrian",null,null,null,null,"Two-Way, Bicycle",null,null,null,null,null,null,"One-Way, Pedestrian",null,null,null,null,"One-Way, Bicycle"]
[null,"1997 MDOT Region","Intersection Type",null,"Combined Type","MVIntercept","MVMajorAADT","MVMinorAADT","SVIntercept","SVMajorAADT","SVMinorAADT","Superior","North","Grand","Bay","Southwest","University","Metro","MajorMedian","MinorMedian","Lighting","NumberofLanes","SpeedLimit","RTOR","LeftTurn","MVInverseDisperion","SVInverseDispersion",null,null,"1997 MDOT Region","Intersection Type",null,"Combined Type","Intercept","AADT","Superior","North","Grand","Bay","Southwest","University","Metro","NumberofLanes","InverseOverdispersion",null,null,"1997 MDOT Region","Intersection Type",null,"Combined Type","Rear-end","Rear-end Left-turn","Rear-end Right-turn","Head-on","Head-on Left-turn","Angle","Sideswipe- Same","Sideswipe- Opposite","Other MV",null,"Manner of Collision",null,null,"Single-Vehicle","Rear-end","Rear-end Left-turn","Rear-end Right-turn","Head-on","Head-on Left-turn","Angle","Sideswipe- Same","Sideswipe- Opposite","Other MV",null,"Intersection Type","Total Pedestrian Crashes","Total MV and SV Crashes* ",null,null,"Intersection Type","Bicycle Crashes",null,null,"Total MV and SV Crashes* ",null,null,"Intersection Type","Total Pedestrian Crashes","Total MV and SV Crashes* ",null,null,"Intersection Type","Bicycle Crashes",null,null,"Total MV and SV Crashes* "]
[null,"Statewide","3SG","FI",{"$f":"B4&C4","v":"Statewide3SG"},-8.6110000000000007,0.71499999999999997,0.17,-8.8049999999999997,0.19400000000000001,0.44,0,0,0,0,0,0,0,-0.34699999999999998,-0.33300000000000002,0,4.3999999999999997E-2,2.1000000000000001E-2,-0.27700000000000002,-9.8000000000000004E-2,1.9650000000000001,0.72599999999999998,null,null,"Statewide","3SG","FI",{"$f":"AD4&AE4","v":"Statewide3SG"},-7.7430000000000003,0.66100000000000003,0,0,0,0,0,0,0,6.4000000000000001E-2,0.95199999999999996,null,null,"Statewide","3SG","FI",{"$f":"AU4&AV4","v":"Statewide3SG"},0.47,0.01,0.01,0.02,0.16,0.28999999999999998,0.01,0.01,0.02,null,"Statewide","3SG","FI",0.03,0.56000000000000005,0,0.06,0.01,0.01,0.24,0.04,0.01,0.02,null,"3SG",33,3486,9.4999999999999998E-3,null,null,"Total","Fatal and Injury only",null,null,null,null,"3SG",6,471,1.2699999999999999E-2,null,null,"Total","Fatal and Injury only"]
[null,"Statewide","3ST","FI","Statewide3ST",-15.372999999999999,0.97799999999999998,0.58599999999999997,-8.0690000000000008,6.0999999999999999E-2,0.29799999999999999,0,0,0,0,0,0,0,-0.34699999999999998,-0.33300000000000002,-0.308,3.5999999999999997E-2,1.0999999999999999E-2,0,-4.9000000000000002E-2,1.3420000000000001,1.2589999999999999,null,null,"Statewide","3ST","FI","Statewide3ST",-14.268000000000001,1.113,0,0,0,0,0,0,0,1.6E-2,0.35099999999999998,null,null,"Statewide","4SG","FI","Statewide4SG",0.31,0.06,0.03,0.03,0.15,0.36,0.04,0.01,0.01,null,null,"3ST","FI",0.06,0.47,0,0.06,0.12,0,0.24,0.06,0,0,null,"3ST",9,700,1.29E-2,null,"3SG",35,25,0.71,3486,0.01,null,"3ST",2,138,1.4500000000000001E-2,null,"3SG",8,6,0.75,471,1.7000000000000001E-2]
[null,"Statewide","4SG","FI","Statewide4SG",-8.5449999999999999,0.71499999999999997,0.221,-6.891,0.19400000000000001,0.20100000000000001,0,0,0,0,0,0,0,-0.34699999999999998,-0.33300000000000002,0,4.3999999999999997E-2,2.1000000000000001E-2,-0.27700000000000002,0,3.6139999999999999,4.7080000000000002,null,null,"Statewide","4SG","FI","Statewide4SG",-1.9330000000000001,0.189,0,0,0,0,0,0,0,6.4000000000000001E-2,2.718,null,null,"Statewide","3ST","FI","Statewide3ST",0.41,0.01,0.02,0.02,0.11,0.38,0.02,0.01,0.02,null,null,"4SG","FI",0.02,0.24,0.01,0.01,0.01,0.03,0.56000000000000005,0.08,0.01,0.04,null,"4SG",97,12433,7.7999999999999996E-3,null,"3ST",15,11,0.73,700,2.1399999999999999E-2,null,"4SG",33,1937,1.7000000000000001E-2,null,"3ST",3,1,0.33,138,2.1700000000000001E-2]
[null,"Statewide","4ST","FI","Statewide4ST",-10.282999999999999,0.621,0.45200000000000001,-6.7249999999999996,6.0999999999999999E-2,0.29799999999999999,0,0,0,0,0,0,0,-0.34699999999999998,-0.33300000000000002,-0.308,3.5999999999999997E-2,1.0999999999999999E-2,0,0,1.2589999999999999,1.2589999999999999,null,null,"Statewide","4ST","FI","Statewide4ST",-9.8610000000000007,0.84899999999999998,0,0,0,0,0,0,0,1.6E-2,2.4209999999999998,null,null,"Statewide","4ST","FI","Statewide4ST",0.19,0.03,0.01,0.01,0.09,0.6,0.03,0.01,0.03,null,null,"4ST","FI",0.05,0.14000000000000001,0.02,0.02,0.02,0.05,0.65,0.08,0,0,null,"4ST",16,1792,8.8999999999999999E-3,null,"4SG",140,113,0.81,12433,1.1299999999999999E-2,null,"4ST",6,313,1.9199999999999998E-2,null,"4SG",25,18,0.72,1937,1.29E-2]
[null,"Superior","3SG","FI","Superior3SG",-10.228,0.83099999999999996,0.17,-10.205,0.27900000000000003,0.45,0.59599999999999997,0,0,0,0,0,0,-0.34399999999999997,-0.32600000000000001,0,6.8000000000000005E-2,1.9E-2,-0.30099999999999999,-6.7000000000000004E-2,2.1230000000000002,0.93799999999999994,null,null,"Superior","3SG","FI","Superior3SG",-11.284000000000001,0.96599999999999997,0,0,0,0,0,0,0,5.8000000000000003E-2,1.1379999999999999,null,null,"Superior","3SG","FI","Superior3SG",0.55000000000000004,0,0,0.05,0.1,0.25,0,0.03,0.03,null,null,"3SG","PDO",0.05,0.47,0.01,0.05,0.01,0.01,0.21,0.15,0.02,0.04,null,null,null,null,null,null,"4ST",22,19,0.86,1792,1.23E-2,null,null,null,null,null,null,"4ST",9,6,0.67,313,2.8799999999999999E-2]
[null,"Superior","3ST","FI","Superior3ST",-16.763999999999999,1.0669999999999999,0.59399999999999997,-8.9529999999999994,0.108,0.29199999999999998,0.59599999999999997,0,0,0,0,0,0,-0.34399999999999997,-0.32600000000000001,-0.30499999999999999,4.5999999999999999E-2,0.01,0,-0.40400000000000003,1.4510000000000001,1.0229999999999999,null,null,"Superior","3ST","FI","Superior3ST",-16.437000000000001,1.3140000000000001,0,0,0,0,0,0,0,5.2999999999999999E-2,0.32800000000000001,null,null,"Superior","4SG","FI","Superior4SG",0.36,0.08,0.04,0,0.08,0.4,0.04,0,0,null,null,"3ST","PDO",0.03,0.52,0,0.04,0,0.01,0.19,0.17,0.02,0.02]
[null,"Superior","4SG","FI","Superior4SG",-10.3,0.83099999999999996,0.23100000000000001,-8.2040000000000006,0.27900000000000003,0.19600000000000001,0.59599999999999997,0,0,0,0,0,0,-0.34399999999999997,-0.32600000000000001,0,6.8000000000000005E-2,1.9E-2,-0.30099999999999999,0,3.8210000000000002,5.1829999999999998,null,null,"Superior","4SG","FI","Superior4SG",-4.9020000000000001,0.42699999999999999,0,0,0,0,0,0,0,5.8000000000000003E-2,3.4489999999999998,null,null,"Superior","3ST","FI","Superior3ST",0.32,0.01,0.01,0.02,0.14000000000000001,0.48,0.01,0,0.01,null,null,"4SG","PDO",0.03,0.28999999999999998,0.01,0.01,0.01,0.02,0.38,0.21,0.01,0.03]
[null,"Superior","4ST","FI","Superior4ST",-11.234999999999999,0.67700000000000005,0.44700000000000001,-7.585,0.108,0.29199999999999998,0.59599999999999997,0,0,0,0,0,0,-0.34399999999999997,-0.32600000000000001,-0.30499999999999999,4.5999999999999999E-2,0.01,0,0,1.3540000000000001,1.0229999999999999,null,null,"Superior","4ST","FI","Superior4ST",-9.7989999999999995,0.8,0,0,0,0,0,0,0,5.2999999999999999E-2,2.161,null,null,"Superior","4ST","FI","Superior4ST",0.21,0,0,0,0.03,0.65,0.03,0.03,0.06,null,null,"4ST","PDO",0.04,0.15,0.03,0,0,0.02,0.48,0.23,0.02,0.03]
[null,"North","3SG","FI","North3SG",-10.228,0.83099999999999996,0.17,-10.205,0.27900000000000003,0.45,0,0.44700000000000001,0,0,0,0,0,-0.34399999999999997,-0.32600000000000001,0,6.8000000000000005E-2,1.9E-2,-0.30099999999999999,-6.7000000000000004E-2,2.1230000000000002,0.93799999999999994,null,null,"North","3SG","FI","North3SG",-11.284000000000001,0.96599999999999997,0,0,0,0,0,0,0,5.8000000000000003E-2,1.1379999999999999,null,null,"North","3SG","FI","North3SG",0.33,0.02,0.04,0.02,0.28999999999999998,0.24,0.01,0.02,0.04]
[null,"North","3ST","FI","North3ST",-16.763999999999999,1.0669999999999999,0.59399999999999997,-8.9529999999999994,0.108,0.29199999999999998,0,0.44700000000000001,0,0,0,0,0,-0.34399999999999997,-0.32600000000000001,-0.30499999999999999,4.5999999999999999E-2,0.01,0,-0.40400000000000003,1.4510000000000001,1.0229999999999999,null,null,"North","3ST","FI","North3ST",-16.437000000000001,1.3140000000000001,0,0,0,0,0,0,0,5.2999999999999999E-2,0.32800000000000001,null,null,"North","4SG","FI","North4SG",0.21,0.04,0.04,0.04,0.33,0.25,0.04,0.04,0]
[null,"North","4SG","FI","North4SG",-10.3,0.83099999999999996,0.23100000000000001,-8.2040000000000006,0.27900000000000003,0.19600000000000001,0,0.44700000000000001,0,0,0,0,0,-0.34399999999999997,-0.32600000000000001,0,6.8000000000000005E-2,1.9E-2,-0.30099999999999999,0,3.8210000000000002,5.1829999999999998,null,null,"North","4SG","FI","North4SG",-4.9020000000000001,0.42699999999999999,0,0,0,0,0,0,0,5.8000000000000003E-2,3.4489999999999998,null,null,"North","3ST","FI","North3ST",0.4,0.02,0.01,0.01,0.17,0.36,0.01,0.01,0.01]
[null,"North","4ST","FI","North4ST",-11.234999999999999,0.67700000000000005,0.44700000000000001,-7.585,0.108,0.29199999999999998,0,0.44700000000000001,0,0,0,0,0,-0.34399999999999997,-0.32600000000000001,-0.30499999999999999,4.5999999999999999E-2,0.01,0,0,1.3540000000000001,1.0229999999999999,null,null,"North","4ST","FI","North4ST",-9.7989999999999995,0.8,0,0,0,0,0,0,0,5.2999999999999999E-2,2.161,null,null,"North","4ST","FI","North4ST",0.14000000000000001,0.02,0,0.02,0.14000000000000001,0.64,0,0.02,0.03]
[null,"Grand","3SG","FI","Grand3SG",-10.228,0.83099999999999996,0.17,-10.205,0.27900000000000003,0.45,0,0,0.44600000000000001,0,0,0,0,-0.34399999999999997,-0.32600000000000001,0,6.8000000000000005E-2,1.9E-2,-0.30099999999999999,-6.7000000000000004E-2,2.1230000000000002,0.93799999999999994,null,null,"Grand","3SG","FI","Grand3SG",-11.284000000000001,0.96599999999999997,0,0,0,0,0,0,0,5.8000000000000003E-2,1.1379999999999999,null,null,"Grand","3SG","FI","Grand3SG",0.56000000000000005,0.01,0,0.02,0.12,0.23,0.01,0.02,0.02]
[null,"Grand","3ST","FI","Grand3ST",-16.763999999999999,1.0669999999999999,0.59399999999999997,-8.9529999999999994,0.108,0.29199999999999998,0,0,0.44600000000000001,0,0,0,0,-0.34399999999999997,-0.32600000000000001,-0.30499999999999999,4.5999999999999999E-2,0.01,0,-0.40400000000000003,1.4510000000000001,1.0229999999999999,null,null,"Grand","3ST","FI","Grand3ST",-16.437000000000001,1.3140000000000001,0,0,0,0,0,0,0,5.2999999999999999E-2,0.32800000000000001,null,null,"Grand","4SG","FI","Grand4SG",0.35,0.04,0.08,0,0.19,0.27,0.04,0,0.04]
[null,"Grand","4SG","FI","Grand4SG",-10.3,0.83099999999999996,0.23100000000000001,-8.2040000000000006,0.27900000000000003,0.19600000000000001,0,0,0.44600000000000001,0,0,0,0,-0.34399999999999997,-0.32600000000000001,0,6.8000000000000005E-2,1.9E-2,-0.30099999999999999,0,3.8210000000000002,5.1829999999999998,null,null,"Grand","4SG","FI","Grand4SG",-4.9020000000000001,0.42699999999999999,0,0,0,0,0,0,0,5.8000000000000003E-2,3.4489999999999998,null,null,"Grand","3ST","FI","Grand3ST",0.39,0.01,0.02,0.01,0.1,0.43,0.01,0,0.02]
[null,"Grand","4ST","FI","Grand4ST",-11.234999999999999,0.67700000000000005,0.44700000000000001,-7.585,0.108,0.29199999999999998,0,0,0.44600000000000001,0,0,0,0,-0.34399999999999997,-0.32600000000000001,-0.30499999999999999,4.5999999999999999E-2,0.01,0,0,1.3540000000000001,1.0229999999999999,null,null,"Grand","4ST","FI","Grand4ST",-9.7989999999999995,0.8,0,0,0,0,0,0,0,5.2999999999999999E-2,2.161,null,null,"Grand","4ST","FI","Grand4ST",0.24,0.04,0.01,0,0.11,0.52,0.03,0.02,0.04]
[null,"Bay","3SG","FI","Bay3SG",-10.228,0.83099999999999996,0.17,-10.205,0.27900000000000003,0.45,0,0,0,0.44400000000000001,0,0,0,-0.34399999999999997,-0.32600000000000001,0,6.8000000000000005E-2,1.9E-2,-0.30099999999999999,-6.7000000000000004E-2,2.1230000000000002,0.93799999999999994,null,null,"Bay","3SG","FI","Bay3SG",-11.284000000000001,0.96599999999999997,0,0,0,0.64200000000000002,0,0,0,5.8000000000000003E-2,1.1379999999999999,null,null,"Bay","3SG","FI","Bay3SG",0.48,0,0.01,0.03,0.16,0.27,0.03,0.01,0]
[null,"Bay","3ST","FI","Bay3ST",-16.763999999999999,1.0669999999999999,0.59399999999999997,-8.9529999999999994,0.108,0.29199999999999998,0,0,0,0.44400000000000001,0,0,0,-0.34399999999999997,-0.32600000000000001,-0.30499999999999999,4.5999999999999999E-2,0.01,0,-0.40400000000000003,1.4510000000000001,1.0229999999999999,null,null,"Bay","3ST","FI","Bay3ST",-16.437000000000001,1.3140000000000001,0,0,0,0.64200000000000002,0,0,0,5.2999999999999999E-2,0.32800000000000001,null,null,"Bay","4SG","FI","Bay4SG",0.3,0,0,0,0.2,0.3,0.1,0,0.1]
[null,"Bay","4SG","FI","Bay4SG",-10.3,0.83099999999999996,0.23100000000000001,-8.2040000000000006,0.27900000000000003,0.19600000000000001,0,0,0,0.44400000000000001,0,0,0,-0.34399999999999997,-0.32600000000000001,0,6.8000000000000005E-2,1.9E-2,-0.30099999999999999,0,3.8210000000000002,5.1829999999999998,null,null,"Bay","4SG","FI","Bay4SG",-4.9020000000000001,0.42699999999999999,0,0,0,0.64200000000000002,0,0,0,5.8000000000000003E-2,3.4489999999999998,null,null,"Bay","3ST","FI","Bay3ST",0.35,0.03,0.01,0.01,0.13,0.4,0.03,0.02,0.01]
[null,"Bay","4ST","FI","Bay4ST",-11.234999999999999,0.67700000000000005,0.44700000000000001,-7.585,0.108,0.29199999999999998,0,0,0,0.44400000000000001,0,0,0,-0.34399999999999997,-0.32600000000000001,-0.30499999999999999,4.5999999999999999E-2,0.01,0,0,1.3540000000000001,1.0229999999999999,null,null,"Bay","4ST","FI","Bay4ST",-9.7989999999999995,0.8,0,0,0,0.64200000000000002,0,0,0,5.2999999999999999E-2,2.161,null,null,"Bay","4ST","FI","Bay4ST",0.2,0.04,0.02,0,0.08,0.6,0.04,0,0.02]
[null,"Southwest","3SG","FI","Southwest3SG",-10.228,0.83099999999999996,0.17,-10.205,0.27900000000000003,0.45,0,0,0,0,0.55900000000000005,0,0,-0.34399999999999997,-0.32600000000000001,0,6.8000000000000005E-2,1.9E-2,-0.30099999999999999,-6.7000000000000004E-2,2.1230000000000002,0.93799999999999994,null,null,"Southwest","3SG","FI","Southwest3SG",-11.284000000000001,0.96599999999999997,0,0,0,0,0.69399999999999995,0,0,5.8000000000000003E-2,1.1379999999999999,null,null,"Southwest","3SG","FI","Southwest3SG",0.42,0.01,0,0.01,0.16,0.37,0.01,0.01,0.02]
[null,"Southwest","3ST","FI","Southwest3ST",-16.763999999999999,1.0669999999999999,0.59399999999999997,-8.9529999999999994,0.108,0.29199999999999998,0,0,0,0,0.55900000000000005,0,0,-0.34399999999999997,-0.32600000000000001,-0.30499999999999999,4.5999999999999999E-2,0.01,0,-0.40400000000000003,1.4510000000000001,1.0229999999999999,null,null,"Southwest","3ST","FI","Southwest3ST",-16.437000000000001,1.3140000000000001,0,0,0,0,0.69399999999999995,0,0,5.2999999999999999E-2,0.32800000000000001,null,null,"Southwest","4SG","FI","Southwest4SG",0.24,0.12,0,0,0.16,0.44,0.04,0,0]
[null,"Southwest","4SG","FI","Southwest4SG",-10.3,0.83099999999999996,0.23100000000000001,-8.2040000000000006,0.27900000000000003,0.19600000000000001,0,0,0,0,0.55900000000000005,0,0,-0.34399999999999997,-0.32600000000000001,0,6.8000000000000005E-2,1.9E-2,-0.30099999999999999,0,3.8210000000000002,5.1829999999999998,null,null,"Southwest","4SG","FI","Southwest4SG",-4.9020000000000001,0.42699999999999999,0,0,0,0,0.69399999999999995,0,0,5.8000000000000003E-2,3.4489999999999998,null,null,"Southwest","3ST","FI","Southwest3ST",0.52,0.02,0.02,0.01,0.09,0.28999999999999998,0.01,0.01,0.04]
[null,"Southwest","4ST","FI","Southwest4ST",-11.234999999999999,0.67700000000000005,0.44700000000000001,-7.585,0.108,0.29199999999999998,0,0,0,0,0.55900000000000005,0,0,-0.34399999999999997,-0.32600000000000001,-0.30499999999999999,4.5999999999999999E-2,0.01,0,0,1.3540000000000001,1.0229999999999999,null,null,"Southwest","4ST","FI","Southwest4ST",-9.7989999999999995,0.8,0,0,0,0,0.69399999999999995,0,0,5.2999999999999999E-2,2.161,null,null,"Southwest","4ST","FI","Southwest4ST",0.19,0,0.03,0.02,7.0000000000000007E-2,0.64,0.02,0,0.03]
[null,"University","3SG","FI","University3SG",-10.228,0.83099999999999996,0.17,-10.205,0.27900000000000003,0.45,0,0,0,0,0,0.47299999999999998,0,-0.34399999999999997,-0.32600000000000001,0,6.8000000000000005E-2,1.9E-2,-0.30099999999999999,-6.7000000000000004E-2,2.1230000000000002,0.93799999999999994,null,null,"University","3SG","FI","University3SG",-11.284000000000001,0.96599999999999997,0,0,0,0,0,0.49,0,5.8000000000000003E-2,1.1379999999999999,null,null,"University","3SG","FI","University3SG",0.47,0.01,0,0.04,0.11,0.36,0.01,0,0.01]
[null,"University","3ST","FI","University3ST",-16.763999999999999,1.0669999999999999,0.59399999999999997,-8.9529999999999994,0.108,0.29199999999999998,0,0,0,0,0,0.47299999999999998,0,-0.34399999999999997,-0.32600000000000001,-0.30499999999999999,4.5999999999999999E-2,0.01,0,-0.40400000000000003,1.4510000000000001,1.0229999999999999,null,null,"University","3ST","FI","University3ST",-16.437000000000001,1.3140000000000001,0,0,0,0,0,0.49,0,5.2999999999999999E-2,0.32800000000000001,null,null,"University","4SG","FI","University4SG",0.32,0.05,0,0.11,0,0.53,0,0,0]
[null,"University","4SG","FI","University4SG",-10.3,0.83099999999999996,0.23100000000000001,-8.2040000000000006,0.27900000000000003,0.19600000000000001,0,0,0,0,0,0.47299999999999998,0,-0.34399999999999997,-0.32600000000000001,0,6.8000000000000005E-2,1.9E-2,-0.30099999999999999,0,3.8210000000000002,5.1829999999999998,null,null,"University","4SG","FI","University4SG",-4.9020000000000001,0.42699999999999999,0,0,0,0,0,0.49,0,5.8000000000000003E-2,3.4489999999999998,null,null,"University","3ST","FI","University3ST",0.39,0.01,0.02,0.03,0.08,0.43,0.01,0,0.02]
[null,"University","4ST","FI","University4ST",-11.234999999999999,0.67700000000000005,0.44700000000000001,-7.585,0.108,0.29199999999999998,0,0,0,0,0,0.47299999999999998,0,-0.34399999999999997,-0.32600000000000001,-0.30499999999999999,4.5999999999999999E-2,0.01,0,0,1.3540000000000001,1.0229999999999999,null,null,"University","4ST","FI","University4ST",-9.7989999999999995,0.8,0,0,0,0,0,0.49,0,5.2999999999999999E-2,2.161,null,null,"University","4ST","FI","University4ST",0.17,0.01,0,0,7.0000000000000007E-2,0.69,0.04,0,0.01]
[null,"Metro","3SG","FI","Metro3SG",-10.228,0.83099999999999996,0.17,-10.205,0.27900000000000003,0.45,0,0,0,0,0,0,0,-0.34399999999999997,-0.32600000000000001,0,6.8000000000000005E-2,1.9E-2,-0.30099999999999999,-6.7000000000000004E-2,2.1230000000000002,0.93799999999999994,null,null,"Metro","3SG","FI","Metro3SG",-11.284000000000001,0.96599999999999997,0,0,0,0,0,0,0,5.8000000000000003E-2,1.1379999999999999,null,null,"Metro","3SG","FI","Metro3SG",0.59,0,0.01,0.02,0.11,0.22,0.03,0.01,0.02]
[null,"Metro","3ST","FI","Metro3ST",-16.763999999999999,1.0669999999999999,0.59399999999999997,-8.9529999999999994,0.108,0.29199999999999998,0,0,0,0,0,0,0,-0.34399999999999997,-0.32600000000000001,-0.30499999999999999,4.5999999999999999E-2,0.01,0,-0.40400000000000003,1.4510000000000001,1.0229999999999999,null,null,"Metro","3ST","FI","Metro3ST",-16.437000000000001,1.3140000000000001,0,0,0,0,0,0,0,5.2999999999999999E-2,0.32800000000000001,null,null,"Metro","4SG","FI","Metro4SG",0.55000000000000004,0,0,0.09,0,0.36,0,0,0]
[null,"Metro","4SG","FI","Metro4SG",-10.3,0.83099999999999996,0.23100000000000001,-8.2040000000000006,0.27900000000000003,0.19600000000000001,0,0,0,0,0,0,0,-0.34399999999999997,-0.32600000000000001,0,6.8000000000000005E-2,1.9E-2,-0.30099999999999999,0,3.8210000000000002,5.1829999999999998,null,null,"Metro","4SG","FI","Metro4SG",-4.9020000000000001,0.42699999999999999,0,0,0,0,0,0,0,5.8000000000000003E-2,3.4489999999999998,null,null,"Metro","3ST","FI","Metro3ST",0.46,0.01,0.02,0.02,0.1,0.32,0.04,0,0.03]
[null,"Metro","4ST","FI","Metro4ST",-11.234999999999999,0.67700000000000005,0.44700000000000001,-7.585,0.108,0.29199999999999998,0,0,0,0,0,0,0,-0.34399999999999997,-0.32600000000000001,-0.30499999999999999,4.5999999999999999E-2,0.01,0,0,1.3540000000000001,1.0229999999999999,null,null,"Metro","4ST","FI","Metro4ST",-9.7989999999999995,0.8,0,0,0,0,0,0,0,5.2999999999999999E-2,2.161,null,null,"Metro","4ST","FI","Metro4ST",0.17,0.06,0,0.06,0.09,0.51,0.09,0,0.03]
[null,"Statewide","3SG","PDO","Statewide3SG",-9.1720000000000006,0.874,0.218,-5.5709999999999997,0.16,0.28599999999999998,0,0,0,0,0,0,0,-0.246,-0.32300000000000001,0,1.9E-2,0.01,-3.2000000000000001E-2,-0.14899999999999999,1.8169999999999999,1.651,null,null,"Statewide","3SG","PDO","Statewide3SG",-3.96,0.44400000000000001,0,0,0,0,0,0,0,1.9E-2,1.0349999999999999,null,null,"Statewide","3SG","PDO","Statewide3SG",0.54,0.02,0.03,0.01,0.04,0.21,0.1,0.02,0.03]
[null,"Statewide","3ST","PDO","Statewide3ST",-16.327999999999999,1.2989999999999999,0.45900000000000002,-5.8520000000000003,1E-3,0.34799999999999998,0,0,0,0,0,0,0,-0.246,-0.32300000000000001,-0.153,6.0000000000000001E-3,-0.01,0,-0.35699999999999998,0.748,0.73199999999999998,null,null,"Statewide","3ST","PDO","Statewide3ST",-9.391,0.81899999999999995,0,0,0,0,0,0,0,-0.128,0.38700000000000001,null,null,"Statewide","4SG","PDO","Statewide4SG",0.33,0.04,0.04,0.01,0.04,0.38,0.1,0.01,0.04]
[null,"Statewide","4SG","PDO","Statewide4SG",-9.2910000000000004,0.874,0.27300000000000002,-6.891,0.16,0.39500000000000002,0,0,0,0,0,0,0,-0.246,-0.32300000000000001,0,1.9E-2,0.01,-3.2000000000000001E-2,0,3.4430000000000001,8.1389999999999993,null,null,"Statewide","4SG","PDO","Statewide4SG",-2.024,0.34300000000000003,0,0,0,0,0,0,0,1.9E-2,2.6320000000000001,null,null,"Statewide","3ST","PDO","Statewide3ST",0.5,0.02,0.03,0.01,0.05,0.24,0.11,0.02,0.03]
[null,"Statewide","4ST","PDO","Statewide4ST",-8.6150000000000002,0.54800000000000004,0.46600000000000003,-5.13,1E-3,0.34799999999999998,0,0,0,0,0,0,0,-0.246,-0.32300000000000001,-0.153,6.0000000000000001E-3,-0.01,0,0,1.4550000000000001,0.73199999999999998,null,null,"Statewide","4ST","PDO","Statewide4ST",-12.769,1.2629999999999999,0,0,0,0,0,0,0,-0.128,1.08,null,null,"Statewide","4ST","PDO","Statewide4ST",0.27,0.02,0.03,0,0.04,0.46,0.1,0.02,0.05]
[null,"Superior","3SG","PDO","Superior3SG",-10.731,0.95299999999999996,0.23300000000000001,-7.5490000000000004,0.28699999999999998,0.29699999999999999,0.63300000000000001,0,0,0,0,0,0,-0.23699999999999999,-0.30099999999999999,0,5.2999999999999999E-2,6.0000000000000001E-3,-6.3E-2,-0.104,2.2109999999999999,1.6859999999999999,null,null,"Superior","3SG","PDO","Superior3SG",-9.952,0.96399999999999997,0.97199999999999998,0,0,0,0,0,0,1.9E-2,1.2749999999999999,null,null,"Superior","3SG","PDO","Superior3SG",0.54,0.01,0.05,0.01,0.05,0.2,0.1,0.02,0.02]
[null,"Superior","3ST","PDO","Superior3ST",-17.257999999999999,1.325,0.46200000000000002,-6.952,4.9000000000000002E-2,0.35,0.63300000000000001,0,0,0,0,0,0,-0.23699999999999999,-0.30099999999999999,-0.13700000000000001,1.4E-2,-0.01,0,-0.187,0.79600000000000004,0.81699999999999995,null,null,"Superior","3ST","PDO","Superior3ST",-13.749000000000001,1.2210000000000001,0.97199999999999998,0,0,0,0,0,0,-0.128,0.36199999999999999,null,null,"Superior","4SG","PDO","Superior4SG",0.42,0.04,0.11,0,0.06,0.22,0.11,0.01,0.02]
[null,"Superior","4SG","PDO","Superior4SG",-10.882,0.95299999999999996,0.28699999999999998,-8.6720000000000006,0.28699999999999998,0.377,0.63300000000000001,0,0,0,0,0,0,-0.23699999999999999,-0.30099999999999999,0,5.2999999999999999E-2,6.0000000000000001E-3,-6.3E-2,0,3.952,8.6379999999999999,null,null,"Superior","4SG","PDO","Superior4SG",-5.5380000000000003,0.60599999999999998,0.97199999999999998,0,0,0,0,0,0,1.9E-2,3.8090000000000002,null,null,"Superior","3ST","PDO","Superior3ST",0.48,0.02,0.02,0.01,0.05,0.27,0.1,0.02,0.03]
[null,"Superior","4ST","PDO","Superior4ST",-9.891,0.60699999999999998,0.48299999999999998,-6.2130000000000001,4.9000000000000002E-2,0.35,0.63300000000000001,0,0,0,0,0,0,-0.23699999999999999,-0.30099999999999999,-0.13700000000000001,1.4E-2,-0.01,0,0,1.5740000000000001,0.81699999999999995,null,null,"Superior","4ST","PDO","Superior4ST",-13.91,1.302,0.97199999999999998,0,0,0,0,0,0,-0.128,1.2569999999999999,null,null,"Superior","4ST","PDO","Superior4ST",0.25,0.03,0.02,0,0.05,0.5,0.08,0,0.05]
[null,"North","3SG","PDO","North3SG",-10.731,0.95299999999999996,0.23300000000000001,-7.5490000000000004,0.28699999999999998,0.29699999999999999,0,0.71599999999999997,0,0,0,0,0,-0.23699999999999999,-0.30099999999999999,0,5.2999999999999999E-2,6.0000000000000001E-3,-6.3E-2,-0.104,2.2109999999999999,1.6859999999999999,null,null,"North","3SG","PDO","North3SG",-9.952,0.96399999999999997,0,0,0,0,0,0,0,1.9E-2,1.2749999999999999,null,null,"North","3SG","PDO","North3SG",0.54,0.01,0.05,0.01,0.05,0.2,0.1,0.02,0.02]
[null,"North","3ST","PDO","North3ST",-17.257999999999999,1.325,0.46200000000000002,-6.952,4.9000000000000002E-2,0.35,0,0.71599999999999997,0,0,0,0,0,-0.23699999999999999,-0.30099999999999999,-0.13700000000000001,1.4E-2,-0.01,0,-0.187,0.79600000000000004,0.81699999999999995,null,null,"North","3ST","PDO","North3ST",-13.749000000000001,1.2210000000000001,0,0,0,0,0,0,0,-0.128,0.36199999999999999,null,null,"North","4SG","PDO","North4SG",0.42,0.04,0.11,0,0.06,0.22,0.11,0.01,0.02]
[null,"North","4SG","PDO","North4SG",-10.882,0.95299999999999996,0.28699999999999998,-8.6720000000000006,0.28699999999999998,0.377,0,0.71599999999999997,0,0,0,0,0,-0.23699999999999999,-0.30099999999999999,0,5.2999999999999999E-2,6.0000000000000001E-3,-6.3E-2,0,3.952,8.6379999999999999,null,null,"North","4SG","PDO","North4SG",-5.5380000000000003,0.60599999999999998,0,0,0,0,0,0,0,1.9E-2,3.8090000000000002,null,null,"North","3ST","PDO","North3ST",0.48,0.02,0.02,0.01,0.05,0.27,0.1,0.02,0.03]
[null,"North","4ST","PDO","North4ST",-9.891,0.60699999999999998,0.48299999999999998,-6.2130000000000001,4.9000000000000002E-2,0.35,0,0.71599999999999997,0,0,0,0,0,-0.23699999999999999,-0.30099999999999999,-0.13700000000000001,1.4E-2,-0.01,0,0,1.5740000000000001,0.81699999999999995,null,null,"North","4ST","PDO","North4ST",-13.91,1.302,0,0,0,0,0,0,0,-0.128,1.2569999999999999,null,null,"North","4ST","PDO","North4ST",0.25,0.03,0.02,0,0.05,0.5,0.08,0,0.05]
[null,"Grand","3SG","PDO","Grand3SG",-10.731,0.95299999999999996,0.23300000000000001,-7.5490000000000004,0.28699999999999998,0.29699999999999999,0,0,0.58899999999999997,0,0,0,0,-0.23699999999999999,-0.30099999999999999,0,5.2999999999999999E-2,6.0000000000000001E-3,-6.3E-2,-0.104,2.2109999999999999,1.6859999999999999,null,null,"Grand","3SG","PDO","Grand3SG",-9.952,0.96399999999999997,0,0,0,0,0,0,0,1.9E-2,1.2749999999999999,null,null,"Grand","3SG","PDO","Grand3SG",0.54,0.01,0.05,0.01,0.05,0.2,0.1,0.02,0.02]
[null,"Grand","3ST","PDO","Grand3ST",-17.257999999999999,1.325,0.46200000000000002,-6.952,4.9000000000000002E-2,0.35,0,0,0.58899999999999997,0,0,0,0,-0.23699999999999999,-0.30099999999999999,-0.13700000000000001,1.4E-2,-0.01,0,-0.187,0.79600000000000004,0.81699999999999995,null,null,"Grand","3ST","PDO","Grand3ST",-13.749000000000001,1.2210000000000001,0,0,0,0,0,0,0,-0.128,0.36199999999999999,null,null,"Grand","4SG","PDO","Grand4SG",0.42,0.04,0.11,0,0.06,0.22,0.11,0.01,0.02]
[null,"Grand","4SG","PDO","Grand4SG",-10.882,0.95299999999999996,0.28699999999999998,-8.6720000000000006,0.28699999999999998,0.377,0,0,0.58899999999999997,0,0,0,0,-0.23699999999999999,-0.30099999999999999,0,5.2999999999999999E-2,6.0000000000000001E-3,-6.3E-2,0,3.952,8.6379999999999999,null,null,"Grand","4SG","PDO","Grand4SG",-5.5380000000000003,0.60599999999999998,0,0,0,0,0,0,0,1.9E-2,3.8090000000000002,null,null,"Grand","3ST","PDO","Grand3ST",0.48,0.02,0.02,0.01,0.05,0.27,0.1,0.02,0.03]
[null,"Grand","4ST","PDO","Grand4ST",-9.891,0.60699999999999998,0.48299999999999998,-6.2130000000000001,4.9000000000000002E-2,0.35,0,0,0.58899999999999997,0,0,0,0,-0.23699999999999999,-0.30099999999999999,-0.13700000000000001,1.4E-2,-0.01,0,0,1.5740000000000001,0.81699999999999995,null,null,"Grand","4ST","PDO","Grand4ST",-13.91,1.302,0,0,0,0,0,0,0,-0.128,1.2569999999999999,null,null,"Grand","4ST","PDO","Grand4ST",0.25,0.03,0.02,0,0.05,0.5,0.08,0,0.05]
[null,"Bay","3SG","PDO","Bay3SG",-10.731,0.95299999999999996,0.23300000000000001,-7.5490000000000004,0.28699999999999998,0.29699999999999999,0,0,0,0.50900000000000001,0,0,0,-0.23699999999999999,-0.30099999999999999,0,5.2999999999999999E-2,6.0000000000000001E-3,-6.3E-2,-0.104,2.2109999999999999,1.6859999999999999,null,null,"Bay","3SG","PDO","Bay3SG",-9.952,0.96399999999999997,0,0,0,0.77100000000000002,0,0,0,1.9E-2,1.2749999999999999,null,null,"Bay","3SG","PDO","Bay3SG",0.54,0.01,0.05,0.01,0.05,0.2,0.1,0.02,0.02]
[null,"Bay","3ST","PDO","Bay3ST",-17.257999999999999,1.325,0.46200000000000002,-6.952,4.9000000000000002E-2,0.35,0,0,0,0.50900000000000001,0,0,0,-0.23699999999999999,-0.30099999999999999,-0.13700000000000001,1.4E-2,-0.01,0,-0.187,0.79600000000000004,0.81699999999999995,null,null,"Bay","3ST","PDO","Bay3ST",-13.749000000000001,1.2210000000000001,0,0,0,0.77100000000000002,0,0,0,-0.128,0.36199999999999999,null,null,"Bay","4SG","PDO","Bay4SG",0.42,0.04,0.11,0,0.06,0.22,0.11,0.01,0.02]
[null,"Bay","4SG","PDO","Bay4SG",-10.882,0.95299999999999996,0.28699999999999998,-8.6720000000000006,0.28699999999999998,0.377,0,0,0,0.50900000000000001,0,0,0,-0.23699999999999999,-0.30099999999999999,0,5.2999999999999999E-2,6.0000000000000001E-3,-6.3E-2,0,3.952,8.6379999999999999,null,null,"Bay","4SG","PDO","Bay4SG",-5.5380000000000003,0.60599999999999998,0,0,0,0.77100000000000002,0,0,0,1.9E-2,3.8090000000000002,null,null,"Bay","3ST","PDO","Bay3ST",0.48,0.02,0.02,0.01,0.05,0.27,0.1,0.02,0.03]
[null,"Bay","4ST","PDO","Bay4ST",-9.891,0.60699999999999998,0.48299999999999998,-6.2130000000000001,4.9000000000000002E-2,0.35,0,0,0,0.50900000000000001,0,0,0,-0.23699999999999999,-0.30099999999999999,-0.13700000000000001,1.4E-2,-0.01,0,0,1.5740000000000001,0.81699999999999995,null,null,"Bay","4ST","PDO","Bay4ST",-13.91,1.302,0,0,0,0.77100000000000002,0,0,0,-0.128,1.2569999999999999,null,null,"Bay","4ST","PDO","Bay4ST",0.25,0.03,0.02,0,0.05,0.5,0.08,0,0.05]
[null,"Southwest","3SG","PDO","Southwest3SG",-10.731,0.95299999999999996,0.23300000000000001,-7.5490000000000004,0.28699999999999998,0.29699999999999999,0,0,0,0,0.77500000000000002,0,0,-0.23699999999999999,-0.30099999999999999,0,5.2999999999999999E-2,6.0000000000000001E-3,-6.3E-2,-0.104,2.2109999999999999,1.6859999999999999,null,null,"Southwest","3SG","PDO","Southwest3SG",-9.952,0.96399999999999997,0,0,0,0,1.109,0,0,1.9E-2,1.2749999999999999,null,null,"Southwest","3SG","PDO","Southwest3SG",0.54,0.01,0.05,0.01,0.05,0.2,0.1,0.02,0.02]
[null,"Southwest","3ST","PDO","Southwest3ST",-17.257999999999999,1.325,0.46200000000000002,-6.952,4.9000000000000002E-2,0.35,0,0,0,0,0.77500000000000002,0,0,-0.23699999999999999,-0.30099999999999999,-0.13700000000000001,1.4E-2,-0.01,0,-0.187,0.79600000000000004,0.81699999999999995,null,null,"Southwest","3ST","PDO","Southwest3ST",-13.749000000000001,1.2210000000000001,0,0,0,0,1.109,0,0,-0.128,0.36199999999999999,null,null,"Southwest","4SG","PDO","Southwest4SG",0.42,0.04,0.11,0,0.06,0.22,0.11,0.01,0.02]
[null,"Southwest","4SG","PDO","Southwest4SG",-10.882,0.95299999999999996,0.28699999999999998,-8.6720000000000006,0.28699999999999998,0.377,0,0,0,0,0.77500000000000002,0,0,-0.23699999999999999,-0.30099999999999999,0,5.2999999999999999E-2,6.0000000000000001E-3,-6.3E-2,0,3.952,8.6379999999999999,null,null,"Southwest","4SG","PDO","Southwest4SG",-5.5380000000000003,0.60599999999999998,0,0,0,0,1.109,0,0,1.9E-2,3.8090000000000002,null,null,"Southwest","3ST","PDO","Southwest3ST",0.48,0.02,0.02,0.01,0.05,0.27,0.1,0.02,0.03]
[null,"Southwest","4ST","PDO","Southwest4ST",-9.891,0.60699999999999998,0.48299999999999998,-6.2130000000000001,4.9000000000000002E-2,0.35,0,0,0,0,0.77500000000000002,0,0,-0.23699999999999999,-0.30099999999999999,-0.13700000000000001,1.4E-2,-0.01,0,0,1.5740000000000001,0.81699999999999995,null,null,"Southwest","4ST","PDO","Southwest4ST",-13.91,1.302,0,0,0,0,1.109,0,0,-0.128,1.2569999999999999,null,null,"Southwest","4ST","PDO","Southwest4ST",0.25,0.03,0.02,0,0.05,0.5,0.08,0,0.05]
[null,"University","3SG","PDO","University3SG",-10.731,0.95299999999999996,0.23300000000000001,-7.5490000000000004,0.28699999999999998,0.29699999999999999,0,0,0,0,0,0.53300000000000003,0,-0.23699999999999999,-0.30099999999999999,0,5.2999999999999999E-2,6.0000000000000001E-3,-6.3E-2,-0.104,2.2109999999999999,1.6859999999999999,null,null,"University","3SG","PDO","University3SG",-9.952,0.96399999999999997,0,0,0,0,0,0.88600000000000001,0,1.9E-2,1.2749999999999999,null,null,"University","3SG","PDO","University3SG",0.54,0.01,0.05,0.01,0.05,0.2,0.1,0.02,0.02]
[null,"University","3ST","PDO","University3ST",-17.257999999999999,1.325,0.46200000000000002,-6.952,4.9000000000000002E-2,0.35,0,0,0,0,0,0.53300000000000003,0,-0.23699999999999999,-0.30099999999999999,-0.13700000000000001,1.4E-2,-0.01,0,-0.187,0.79600000000000004,0.81699999999999995,null,null,"University","3ST","PDO","University3ST",-13.749000000000001,1.2210000000000001,0,0,0,0,0,0.88600000000000001,0,-0.128,0.36199999999999999,null,null,"University","4SG","PDO","University4SG",0.42,0.04,0.11,0,0.06,0.22,0.11,0.01,0.02]
[null,"University","4SG","PDO","University4SG",-10.882,0.95299999999999996,0.28699999999999998,-8.6720000000000006,0.28699999999999998,0.377,0,0,0,0,0,0.53300000000000003,0,-0.23699999999999999,-0.30099999999999999,0,5.2999999999999999E-2,6.0000000000000001E-3,-6.3E-2,0,3.952,8.6379999999999999,null,null,"University","4SG","PDO","University4SG",-5.5380000000000003,0.60599999999999998,0,0,0,0,0,0.88600000000000001,0,1.9E-2,3.8090000000000002,null,null,"University","3ST","PDO","University3ST",0.48,0.02,0.02,0.01,0.05,0.27,0.1,0.02,0.03]
[null,"University","4ST","PDO","University4ST",-9.891,0.60699999999999998,0.48299999999999998,-6.2130000000000001,4.9000000000000002E-2,0.35,0,0,0,0,0,0.53300000000000003,0,-0.23699999999999999,-0.30099999999999999,-0.13700000000000001,1.4E-2,-0.01,0,0,1.5740000000000001,0.81699999999999995,null,null,"University","4ST","PDO","University4ST",-13.91,1.302,0,0,0,0,0,0.88600000000000001,0,-0.128,1.2569999999999999,null,null,"University","4ST","PDO","University4ST",0.25,0.03,0.02,0,0.05,0.5,0.08,0,0.05]
[null,"Metro","3SG","PDO","Metro3SG",-10.731,0.95299999999999996,0.23300000000000001,-7.5490000000000004,0.28699999999999998,0.29699999999999999,0,0,0,0,0,0,0,-0.23699999999999999,-0.30099999999999999,0,5.2999999999999999E-2,6.0000000000000001E-3,-6.3E-2,-0.104,2.2109999999999999,1.6859999999999999,null,null,"Metro","3SG","PDO","Metro3SG",-9.952,0.96399999999999997,0,0,0,0,0,0,0,1.9E-2,1.2749999999999999,null,null,"Metro","3SG","PDO","Metro3SG",0.54,0.01,0.05,0.01,0.05,0.2,0.1,0.02,0.02]
[null,"Metro","3ST","PDO","Metro3ST",-17.257999999999999,1.325,0.46200000000000002,-6.952,4.9000000000000002E-2,0.35,0,0,0,0,0,0,0,-0.23699999999999999,-0.30099999999999999,-0.13700000000000001,1.4E-2,-0.01,0,-0.187,0.79600000000000004,0.81699999999999995,null,null,"Metro","3ST","PDO","Metro3ST",-13.749000000000001,1.2210000000000001,0,0,0,0,0,0,0,-0.128,0.36199999999999999,null,null,"Metro","4SG","PDO","Metro4SG",0.42,0.04,0.11,0,0.06,0.22,0.11,0.01,0.02]
[null,"Metro","4SG","PDO","Metro4SG",-10.882,0.95299999999999996,0.28699999999999998,-8.6720000000000006,0.28699999999999998,0.377,0,0,0,0,0,0,0,-0.23699999999999999,-0.30099999999999999,0,5.2999999999999999E-2,6.0000000000000001E-3,-6.3E-2,0,3.952,8.6379999999999999,null,null,"Metro","4SG","PDO","Metro4SG",-5.5380000000000003,0.60599999999999998,0,0,0,0,0,0,0,1.9E-2,3.8090000000000002,null,null,"Metro","3ST","PDO","Metro3ST",0.48,0.02,0.02,0.01,0.05,0.27,0.1,0.02,0.03]
[null,"Metro","4ST","PDO","Metro4ST",-9.891,0.60699999999999998,0.48299999999999998,-6.2130000000000001,4.9000000000000002E-2,0.35,0,0,0,0,0,0,0,-0.23699999999999999,-0.30099999999999999,-0.13700000000000001,1.4E-2,-0.01,0,0,1.5740000000000001,0.81699999999999995,null,null,"Metro","4ST","PDO","Metro4ST",-13.91,1.302,0,0,0,0,0,0,0,-0.128,1.2569999999999999,null,null,"Metro","4ST","PDO","Metro4ST",0.25,0.03,0.02,0,0.05,0.5,0.08,0,0.05]

{"sheet":"Rural_MI_Tables","index":13,"n_rows":23,"n_cols":49,"rows_kept":23,"cut":false,"hidden":true,"merged":[[4,41,7,41],[8,41,12,41],[4,32,7,32],[8,32,12,32],[0,32,0,39],[1,32,3,32],[1,33,3,33],[1,34,1,39],[2,34,2,35],[2,36,2,37],[2,38,2,39],[0,41,0,48],[1,41,3,41],[1,42,3,42],[1,43,1,48],[2,43,2,44],[2,45,2,46],[2,47,2,48]]}
[null,"Rural 4ST Intersections",null,null,null,null,null,null,null,"Rural 3ST Intersections",null,null,null,null,null,null,null,"Coefficients for Region Unsignalized",null,null,null,null,"Coefficients for Region Signalized",null,null,null,null,"Coefficients for Region Segments",null,null,null,null,"Trunkline Segments",null,null,null,null,null,null,null,null,"NonTrunkline Segments"]
[null,null,"FI Crashes",null,null,"PDO Crashes",null,null,null,null,"FI Crashes",null,null,"PDO Crashes",null,null,null,"Type","Region","FI","PDO",null,"Type","Region","FI","PDO",null,"Type","Region","FI","PDO",null,"Category","Collision Type","Proportion of Crashes by Severity Level and Segment Type",null,null,null,null,null,null,"Category","Collision Type","Proportion of Crashes by Severity Level and Segment Type"]
[null,"Parameter","Est","Std. err","z-stat","Est","Std. err","z-stat",null,"Parameter","Est","Std. err","z-stat","Est","Std. err","z-stat",null,"3ST","Superior",0,0.13,null,"3SG","Superior",0,0,null,"2U","Superior",-0.186,0,null,null,null,"2U",null,"4U",null,"4D",null,null,null,null,"2PF",null,"2PN",null,"2GN"]
[null,"Intercept",-8.6069999999999993,0.25800000000000001,-33.305999999999997,-7.1779999999999999,0.16900000000000001,-42.548000000000002,null,"Intercept",-9.6639999999999997,0.33700000000000002,-28.67,-7.226,0.187,-38.722000000000001,null,"3ST","North",0,0.13,null,"3SG","North",-0.27300000000000002,0,null,"2U","North",-0.186,0,null,null,null,"FI","PDO","FI","PDO","FI","PDO",null,null,null,"FI","PDO","FI","PDO","FI","PDO"]
[null,"AADT Major",0.41399999999999998,3.5000000000000003E-2,11.983000000000001,0.497,2.3E-2,22.007000000000001,null,"AADT Major",0.61699999999999999,4.4999999999999998E-2,13.843,0.55000000000000004,2.5999999999999999E-2,21.289000000000001,null,"3ST","Grand",0.215,0,null,"3SG","Grand",0,0,null,"2U","Grand",0,0.14499999999999999,null,"Single Vehicle (Deer Excluded)","Bicycle",0.01,0,0.01,0,0.01,0,null,"Single Vehicle (Deer Excluded)","Bicycle",0.01,0,0.01,0,0.01,0]
[null,"AADT Minor",0.58199999999999996,3.3000000000000002E-2,17.86,0.39700000000000002,2.1000000000000001E-2,19.257000000000001,null,"AADT Minor",0.38500000000000001,3.6999999999999998E-2,10.476000000000001,0.31,2.1999999999999999E-2,14.189,null,"3ST","Bay",0,0,null,"3SG","Bay",0,0,null,"2U","Bay",0,0,null,null,"Pedestrian",0.02,0,0.05,0,0.02,0,null,null,"Pedestrian",0.01,0,0.04,0,0.01,0]
[null,"Added effect of Superior region",-0.28299999999999997,0.114,-2.484,0,"--","--",null,"Added effect of Superior region",0,"--","--",0.13,4.7E-2,2.7850000000000001,null,"3ST","Southwest",0,0,null,"3SG","Southwest",0,0,null,"2U","Southwest",0,0.14499999999999999,null,null,"Overturned",0.19,0.1,0.1,0.06,0.21,0.08,null,null,"Overturned",0.21,0.12,0.17,0.08,0.27,0.12]
[null,"Added effect of North region",0,"--","--",0,"--","--",null,"Added effect of North region",0,"--","--",0.13,4.7E-2,2.7850000000000001,null,"3ST","University",0,0,null,"3SG","University",0,0,null,"2U","University",0,0,null,null,"Fixed object/other SV",0.33,0.55000000000000004,0.21,0.47,0.32,0.53,null,null,"Fixed object/other SV",0.49,0.64,0.57999999999999996,0.64,0.6,0.65]
[null,"Added effect of Grand region",0,"--","--",0,"--","--",null,"Added effect of Grand region",0.215,8.3000000000000004E-2,2.589,0,"--","--",null,"3ST","Metro",0.215,0,null,"3SG","Metro",0,0,null,"2U","Metro",0,0,null,"Multiple Vehicle","Angle ",0.05,0.03,0.15,0.06,7.0000000000000007E-2,0.03,null,"Multiple Vehicle","Angle ",0.03,0.03,0.05,0.04,0.02,0.05]
[null,"Added effect of Bay region",0.123,5.8000000000000003E-2,2.117,0,"--","--",null,"Added effect of Bay region",0,"--","--",0,"--","--",null,"4ST","Superior",-0.28299999999999997,0,null,"4SG","Superior",0,0,null,"4D","Superior",0,0,null,null,"Head-on ",0.1,0.02,0.09,0.02,0.04,0.01,null,null,"Head-on ",7.0000000000000007E-2,0.01,0.05,0.02,0.02,0.02]
[null,"Added effect of Southwest region",0,"--","--",0,"--","--",null,"Added effect of Southwest region",0,"--","--",0,"--","--",null,"4ST","North",0,0,null,"4SG","North",-0.27300000000000002,0,null,"4D","North",0,0,null,null,"Read-end ",0.2,0.16,0.23,0.16,0.25,0.14000000000000001,null,null,"Read-end ",0.09,0.09,0.05,0.08,0.02,0.04]
[null,"Added effect of University region",0,"--","--",9.4E-2,4.1000000000000002E-2,2.254,null,"Added effect of University region",0,"--","--",0,"--","--",null,"4ST","Grand",0,0,null,"4SG","Grand",0,0,null,"4D","Grand",0,0,null,null,"Sideswipe ",7.0000000000000007E-2,0.09,0.09,0.16,0.05,0.16,null,null,"Sideswipe ",0.04,0.08,0.03,0.09,0.03,0.09]
[null,"Added effect of Metro region",0,"--","--",0.25700000000000001,0.11600000000000001,2.2170000000000001,null,"Added effect of Metro region",0.215,8.3000000000000004E-2,2.589,0,"--","--",null,"4ST","Bay",0.123,0,null,"4SG","Bay",0,0,null,"4D","Bay",0,-0.19700000000000001,null,null,"Other MV ",0.03,0.06,0.06,0.06,0.03,0.05,null,null,"Other MV ",0.02,0.04,0.02,0.05,0.01,0.03]
[null,"Added effect of intersection skew angle",9.1999999999999998E-2,6.2E-2,1.4830000000000001,0.21299999999999999,0.04,5.3070000000000004,null,"Constant inverse dispersion parameter",2.2829999999999999,0.39600000000000002,5.7649999999999997,2.5550000000000002,0.2,12.775,null,"4ST","Southwest",0,0,null,"4SG","Southwest",0,0,null,"4D","Southwest",0,0]
[null,"Added effect of number of driveways",0.11,5.1999999999999998E-2,2.113,3.4000000000000002E-2,3.5000000000000003E-2,0.97399999999999998,null,"Notes: ",null,null,null,null,null,null,null,"4ST","University",0,9.4E-2,null,"4SG","University",0,0,null,"4D","University",0.38800000000000001,0]
[null,"Constant inverse dispersion parameter",2.0569999999999999,0.18099999999999999,11.36,4.0010000000000003,0.30299999999999999,13.205,null,"a Single average estimate for both regions",null,null,null,null,null,null,null,"4ST","Metro",0,0.25700000000000001,null,"4SG","Metro",0,0,null,"4D","Metro",0,0]
[null,null,null,null,null,null,null,null,null,"b Single average estimate for both regions",null,null,null,null,null,null,null,null,null,null,null,null,null,null,null,null,null,"4U","Superior",0,0]
[null,null,null,null,null,null,null,null,null,null,null,null,null,null,null,null,null,null,null,null,null,null,null,null,null,null,null,"4U","North",0,0]
[null,null,null,null,null,null,null,null,null,null,null,null,null,null,null,null,null,null,null,null,null,null,null,null,null,null,null,"4U","Grand",0,0]
[null,null,null,null,null,null,null,null,null,null,null,null,null,null,null,null,null,null,null,null,null,null,null,null,null,null,null,"4U","Bay",0,-0.19700000000000001]
[null,null,null,null,null,null,null,null,null,null,null,null,null,null,null,null,null,null,null,null,null,null,null,null,null,null,null,"4U","Southwest",0,0]
[null,null,null,null,null,null,null,null,null,null,null,null,null,null,null,null,null,null,null,null,null,null,null,null,null,null,null,"4U","University",0.38800000000000001,0]
[null,null,null,null,null,null,null,null,null,null,null,null,null,null,null,null,null,null,null,null,null,null,null,null,null,null,null,"4U","Metro",0,0]

{"sheet":"Calibration Factors","index":14,"n_rows":9,"n_cols":31,"rows_kept":9,"cut":false,"hidden":true,"merged":[[1,29,1,30],[1,11,1,12],[1,1,1,2],[1,3,1,4],[1,5,1,6],[1,7,1,8],[1,9,1,10],[1,25,1,26],[1,27,1,28],[1,13,1,14],[1,15,1,16],[1,17,1,18],[1,19,1,20],[1,21,1,22],[1,23,1,24]]}
[]
[null,"Seg/Rur; 2-lane",null,"Seg/Rur; Multilane undivided",null,"Seg/Rur; Multilane divided",null,"Seg/Urb; 2-lane arterial",null,"Seg/Urb; Multilane divided",null,"Seg/Urb; One-way arterial",null,"Int/Rur; 3-leg minor-rd STOP",null,"Int/Rur; 3-leg signalized",null,"Int/Rur; 4-leg minor-rd STOP",null,"Int/Rur; 4-leg signalized",null,"Int/Urb; 3-leg minor-rd STOP",null,"Int/Urb; 3-leg signalized",null,"Int/Urb; 4-leg minor-rd STOP",null,"Int/Urb; 4-leg signalized",null,"Seg/Urb; Multilane undivided"]
[null,"Total","KA","Total","KA","Total","KA","Total","KA","Total","KA","Total","KA","Total","KA","Total","KA","Total","KA","Total","KA","Total","KA","Total","KA","Total","KA","Total","KA","Total","KA"]
[2005,1.394361,0.56909200000000004,1.188175,0.48576799999999998,1.3893420000000001,1.13659,2.7975240000000001,1.7752540000000001,1.4317,0.80827800000000005,0.48676900000000001,0.23272399999999999,2.0271780000000001,0.61895199999999995,1.2732920000000001,0.61895199999999995,1.7999769999999999,0.85102599999999995,2.0700539999999998,1.2092160000000001,1.54358,0.72062400000000004,1.483212,0.70472699999999999,1.6576390000000001,0.83978900000000001,1.9378340000000001,0.93662599999999996,0.88752799999999998,0.44840000000000002]
[2006,1.3584210000000001,0.52779799999999999,1.2193860000000001,0.48121900000000001,1.2937270000000001,0.86619800000000002,2.6768209999999999,1.5692710000000001,1.3509,0.75215699999999996,0.535497,0.32240099999999999,1.847823,0.74709899999999996,1.397195,0.74709899999999996,1.6802569999999999,0.78414499999999998,1.8491310000000001,1.000213,1.3918200000000001,0.67393700000000001,1.423381,0.70093000000000005,1.581931,0.81288700000000003,1.791863,0.87848099999999996,0.81150900000000004,0.4032]
[2007,1.44242,0.54601599999999995,1.3123940000000001,0.57140000000000002,1.6351640000000001,1.4054629999999999,2.722696,1.647329,1.3067,0.77094600000000002,0.52974200000000005,0.208313,1.8491280000000001,0.59655400000000003,1.204493,0.59655400000000003,1.680056,0.77562500000000001,1.8698760000000001,0.99117100000000002,1.417799,0.65689900000000001,1.3326549999999999,0.63019999999999998,1.553218,0.77364100000000002,1.7710520000000001,0.817133,0.797879,0.37569999999999998]
[2008,1.492774,0.54018699999999997,1.2371529999999999,0.53045900000000001,1.774831,1.482437,2.9491239999999999,1.5771980000000001,1.3613999999999999,0.74284600000000001,0.47636800000000001,0.27140199999999998,1.943317,0.57216900000000004,1.223622,0.57216900000000004,1.7197439999999999,0.733321,1.7616609999999999,1.017209,1.4496869999999999,0.65402199999999999,1.3830560000000001,0.624471,1.510804,0.73272599999999999,1.7345379999999999,0.77121300000000004,0.78067200000000003,0.36599999999999999]
[2009,1.419522,0.47933900000000002,1.1872940000000001,0.43267099999999997,1.656013,0.767266,2.7725590000000002,1.4668099999999999,1.3027,0.77243799999999996,0.44621699999999997,0.24233399999999999,1.826811,0.44439099999999998,1.21515,0.44439099999999998,1.63137,0.72248199999999996,1.783137,1.1433219999999999,1.347915,0.63537399999999999,1.3394189999999999,0.58084100000000005,1.4454419999999999,0.70312699999999995,1.667189,0.80193800000000004,0.74973800000000002,0.36880000000000002]
[2010,1.2780119999999999,0.42411100000000002,1.0503450000000001,0.42069699999999999,1.5128250000000001,1.035771,2.5665149999999999,1.3431230000000001,1.3017000000000001,0.69375699999999996,0.50256900000000004,0.30659399999999998,1.72489,0.51966900000000005,1.160094,0.51966900000000005,1.528896,0.72104000000000001,1.6283669999999999,1.000418,1.3021069999999999,0.633467,1.34588,0.59870800000000002,1.4249099999999999,0.707561,1.6980569999999999,0.78740900000000003,0.73256299999999996,0.37]

{"sheet":"Crash Costs","index":15,"n_rows":21,"n_cols":16,"rows_kept":21,"cut":false,"hidden":false,"merged":[[4,2,4,5],[5,2,5,5],[6,2,6,5],[7,2,7,5],[8,2,8,5],[4,8,4,12],[5,8,5,12],[6,8,6,12],[7,8,7,12],[8,8,8,12]]}
[]
[]
[null,"Crash Costs (Rural 2-Lane):",null,null,null,null,null,"Crash Costs (Urban & Suburban 2-Lane):"]
[null,null,"Segment","3ST","4ST","4SG",null,null,"Segment","3ST","3SG","4ST","4SG"]
[null,"K",{"$f":"INDIRECT(ADDRESS(ROW()+12,2+MATCH(Inputs!$B$2,$C$16:$G$16,0)))","v":{"$error":"#N/A"}},null,null,null,null,"K",{"$f":"INDIRECT(ADDRESS(31,36+MATCH(Inputs!$B$2,Tables!$AO$30:$AU$30,0),,,\"Tables\"))","v":{"$error":"#N/A"}},null,null,null,null,null,null,{"$f":"INDIRECT(ADDRESS(9,IF(Inputs!$B$3=\"HSM\",5,8),,,\"Tables\"))+INDIRECT(ADDRESS(10,IF(Inputs!$B$3=\"HSM\",5,8),,,\"Tables\"))+INDIRECT(ADDRESS(11,IF(Inputs!$B$3=\"HSM\",5,8),,,\"Tables\"))+INDIRECT(ADDRESS(12,IF(Inputs!$B$3=\"HSM\",5,8),,,\"Tables\"))","v":10.899999999999999}]
[null,"A",{"$f":"INDIRECT(ADDRESS(ROW()+12,2+MATCH(Inputs!$B$2,$C$16:$G$16,0)))","v":{"$error":"#N/A"}},null,null,null,null,"A",{"$f":"INDIRECT(ADDRESS(32,36+MATCH(Inputs!$B$2,Tables!$AO$30:$AU$30,0),,,\"Tables\"))","v":{"$error":"#N/A"}}]
[null,"B",{"$f":"INDIRECT(ADDRESS(ROW()+12,2+MATCH(Inputs!$B$2,$C$16:$G$16,0)))","v":{"$error":"#N/A"}},null,null,null,null,"B",{"$f":"INDIRECT(ADDRESS(33,36+MATCH(Inputs!$B$2,Tables!$AO$30:$AU$30,0),,,\"Tables\"))","v":{"$error":"#N/A"}}]
[null,"C",{"$f":"INDIRECT(ADDRESS(ROW()+12,2+MATCH(Inputs!$B$2,$C$16:$G$16,0)))","v":{"$error":"#N/A"}},null,null,null,null,"C",{"$f":"INDIRECT(ADDRESS(34,36+MATCH(Inputs!$B$2,Tables!$AO$30:$AU$30,0),,,\"Tables\"))","v":{"$error":"#N/A"}}]
[null,"O",{"$f":"INDIRECT(ADDRESS(ROW()+12,2+MATCH(Inputs!$B$2,$C$16:$G$16,0)))","v":{"$error":"#N/A"}},null,null,null,null,"O",{"$f":"INDIRECT(ADDRESS(35,36+MATCH(Inputs!$B$2,Tables!$AO$30:$AU$30,0),,,\"Tables\"))","v":{"$error":"#N/A"}}]
[]
[null,"KABC",{"$f":"ROUND((INDIRECT(ADDRESS(9,IF(Inputs!$B$3=\"HSM\",5,8),,,\"Tables\"))*$C5+INDIRECT(ADDRESS(10,IF(Inputs!$B$3=\"HSM\",5,8),,,\"Tables\"))*$C6+INDIRECT(ADDRESS(11,IF(Inputs!$B$3=\"HSM\",5,8),,,\"Tables\"))*$C7+INDIRECT(ADDRESS(12,IF(Inputs!$B$3=\"HSM\",5,8),,,\"Tables\"))*$C8)/(INDIRECT(ADDRESS(9,IF(Inputs!$B$3=\"HSM\",5,8),,,\"Tables\"))+INDIRECT(ADDRESS(10,IF(Inputs!$B$3=\"HSM\",5,8),,,\"Tables\"))+INDIRECT(ADDRESS(11,IF(Inputs!$B$3=\"HSM\",5,8),,,\"Tables\"))+INDIRECT(ADDRESS(12,IF(Inputs!$B$3=\"HSM\",5,8),,,\"Tables\"))),-3)","v":{"$error":"#N/A"}},{"$f":"ROUND((INDIRECT(ADDRESS(49,IF(Inputs!$B$3=\"HSM\",5,11),,,\"Tables\"))*$C5+INDIRECT(ADDRESS(50,IF(Inputs!$B$3=\"HSM\",5,11),,,\"Tables\"))*$C6+INDIRECT(ADDRESS(51,IF(Inputs!$B$3=\"HSM\",5,11),,,\"Tables\"))*$C7+INDIRECT(ADDRESS(52,IF(Inputs!$B$3=\"HSM\",5,11),,,\"Tables\"))*$C8)/(INDIRECT(ADDRESS(49,IF(Inputs!$B$3=\"HSM\",5,11),,,\"Tables\"))+INDIRECT(ADDRESS(50,IF(Inputs!$B$3=\"HSM\",5,11),,,\"Tables\"))+INDIRECT(ADDRESS(51,IF(Inputs!$B$3=\"HSM\",5,11),,,\"Tables\"))+INDIRECT(ADDRESS(52,IF(Inputs!$B$3=\"HSM\",5,11),,,\"Tables\"))),-3)","v":{"$error":"#N/A"}},{"$f":"ROUND((INDIRECT(ADDRESS(49,IF(Inputs!$B$3=\"HSM\",7,13),,,\"Tables\"))*$C5+INDIRECT(ADDRESS(50,IF(Inputs!$B$3=\"HSM\",7,13),,,\"Tables\"))*$C6+INDIRECT(ADDRESS(51,IF(Inputs!$B$3=\"HSM\",7,13),,,\"Tables\"))*$C7+INDIRECT(ADDRESS(52,IF(Inputs!$B$3=\"HSM\",7,13),,,\"Tables\"))*$C8)/(INDIRECT(ADDRESS(49,IF(Inputs!$B$3=\"HSM\",7,13),,,\"Tables\"))+INDIRECT(ADDRESS(50,IF(Inputs!$B$3=\"HSM\",7,13),,,\"Tables\"))+INDIRECT(ADDRESS(51,IF(Inputs!$B$3=\"HSM\",7,13),,,\"Tables\"))+INDIRECT(ADDRESS(52,IF(Inputs!$B$3=\"HSM\",7,13),,,\"Tables\"))),-3)","v":{"$error":"#N/A"}},{"$f":"ROUND((INDIRECT(ADDRESS(49,IF(Inputs!$B$3=\"HSM\",9,15),,,\"Tables\"))*$C5+INDIRECT(ADDRESS(50,IF(Inputs!$B$3=\"HSM\",9,15),,,\"Tables\"))*$C6+INDIRECT(ADDRESS(51,IF(Inputs!$B$3=\"HSM\",9,15),,,\"Tables\"))*$C7+INDIRECT(ADDRESS(52,IF(Inputs!$B$3=\"HSM\",9,15),,,\"Tables\"))*$C8)/(INDIRECT(ADDRESS(49,IF(Inputs!$B$3=\"HSM\",9,15),,,\"Tables\"))+INDIRECT(ADDRESS(50,IF(Inputs!$B$3=\"HSM\",9,15),,,\"Tables\"))+INDIRECT(ADDRESS(51,IF(Inputs!$B$3=\"HSM\",9,15),,,\"Tables\"))+INDIRECT(ADDRESS(52,IF(Inputs!$B$3=\"HSM\",9,15),,,\"Tables\"))),-3)","v":{"$error":"#N/A"}},null,"KABC",{"$f":"ROUND((Tables!L9*I5+Tables!L10*I6+Tables!L11*I7+Tables!L12*I8)/(Tables!L9+Tables!L10+Tables!L11+Tables!L12),-3)","v":{"$error":"#N/A"}},{"$f":"ROUND((Tables!L49*I5+Tables!L50*I6+Tables!L51*I7+Tables!L52*I8)/(Tables!L49+Tables!L50+Tables!L51+Tables!L52),-3)","v":{"$error":"#N/A"}},{"$f":"ROUND((Tables!M49*I5+Tables!M50*I6+Tables!M51*I7+Tables!M52*I8)/(Tables!M49+Tables!M50+Tables!M51+Tables!M52),-3)","v":{"$error":"#N/A"}},{"$f":"ROUND((Tables!N49*I5+Tables!N50*I6+Tables!N51*I7+Tables!N52*I8)/(Tables!N49+Tables!N50+Tables!N51+Tables!N52),-3)","v":{"$error":"#N/A"}},{"$f":"ROUND((Tables!P49*I5+Tables!P50*I6+Tables!P51*I7+Tables!P52*I8)/(Tables!P49+Tables!P50+Tables!P51+Tables!P52),-3)","v":{"$error":"#N/A"}}]
[]
[]
[null,null,null,{"$f":"\"'Tables'!$AK$30:\"&ADDRESS(30,SUMPRODUCT(MAX((Tables!$AO$30:$AU$30<>\"\")*(COLUMN(Tables!$AO$30:$AU$30)))))","v":{"$error":"#VALUE!"}}]
[]
[null,"Crash Costs:","National Safety Council","MDOT"]
[null,"K",1410000,1410000]
[null,"A",69200,69200]
[null,"B",22300,22300]
[null,"C",12600,12600]
[null,"O",2400,2400]

{"sheet":"Additional CMFs","index":16,"n_rows":23,"n_cols":9,"rows_kept":23,"cut":false,"hidden":false,"merged":[[19,0,20,0],[0,0,0,8],[15,0,15,5],[1,0,1,1],[16,0,16,1],[17,0,18,0],[2,0,4,0],[5,0,7,0],[8,0,10,0]]}
["Table 1.  CMFs for Segments"]
["Countermeasure Information",null,"All Severities (KABCO)","Fatal\nInjury\n(KABCO)","All Severities\n(KABCO)\nDay","All Severities\n(KABCO)\nNight","All Severities\n65yrs-and-Older","All Severities\n65yrs-and-Older\nDay","All Severities\n65yrs-and-Older\nNight"]
["Freeways","Clearview & Fluorescent","0.759 (0.0190)","0.930 (0.0498)","0.798 (0.0261)","0.741 (0.0281)","*0.899 (0.144)","*0.912 (0.170)","*0.902 (0.270)"]
[null,"Fluorescent Only","0.851 (0.0294)","0.963 (0.0733)","0.819 (0.0367)","0.998 (0.0534)","*0.998 (0.184)","*0.938 (0.209)","*0.913 (0.307)"]
[null,"Clearview Only",0.89200000000000002,0.96599999999999997,0.97399999999999998,0.74199999999999999,0.9,0.97199999999999998,0.98799999999999999]
["Urban Non-Freeways","Clearview & Fluorescent","0.704 (0.0288)","0.711 (0.0602)","0.73 (0.0350)","0.657 (0.0514)","0.859 (0.0854)","0.895 (0.0975)","*0.964 (0.143)"]
[null,"Fluorescent Only","0.949 (0.0288)","0.917 (0.0578)","0.932 (0.0342)","0.993 (0.0523)","0.963 (0.0675)","0.965 (0.0740)","*0.986 (0.0775)"]
[null,"Clearview Only",0.74199999999999999,0.77500000000000002,0.78300000000000003,0.66200000000000003,0.89200000000000002,0.92700000000000005,0.97799999999999998]
["Rural Non-Freeways","Clearview & Fluorescent","0.670 (0.0236)","*0.927 (0.0261)","0.716 (0.0385)","0.667 (0.0310)","0.783 (0.0741)","0.941 (0.120)","*0.977 (0.0835)"]
[null,"Fluorescent Only","0.923 (0.0264)","*0.972 (0.0185)","0.883 (0.0396)","0.973 (0.0355)","0.895 (0.0675)","0.993 (0.0977)","*0.998 (0.0547)"]
[null,"Clearview Only",0.72599999999999998,0.95399999999999996,0.81100000000000005,0.68600000000000005,0.875,0.94799999999999995,0.97899999999999998]
["Arrow-Per-Lane","All Crashes","*0.578 (0.0845)",null,null,null,"*0.319 (0.0909)"]
["* Indicates CMFs estimated with Before-After with comparison groups method"]
["Numbers in parenthesis are standard errors estimated for the CMFs"]
[]
["Table 2.  CMFs for intersections"]
["Countermeasure Information",null,"All Severities (KABCO)","Fatal\nInjury\n(KABCO)","All Severities\n65yrs-and-Older","Fatal Injury\n65yrs-and-Older"]
["Pedestrian Countdown Signal (PCS)","All Drivers","*0.946 (0.035)","*0.927 (0.072)","*0.849 (0.092)","*0.477 (0.117)"]
[null,"All Pedestrians","*0.683 (0.173)","*0.804 (0.223)","*0.353 (0.211)","*0.449 (0.266)"]
["Box Span Signal Installations","All Crashes","0.975 (0.040)","0.897 (0.079)","1.097 (0.099)","0.888 (0.164)"]
[null,"Angle Crashes","0.876 (0.070)",null,"0.841 (0.133)"]
["* Indicates CMFs estimated with Before-After with comparison groups method"]
["Numbers in parenthesis are standard errors estimated for the CMFs"]

{"sheet":"Construction - Do Not Delete","index":17,"n_rows":166,"n_cols":17,"rows_kept":166,"cut":false,"hidden":true,"merged":[]}
[]
[]
[null,"Lane Width",null,"Shoulder Width",null,"RHR"]
[null,9,null,0,null,1]
[null,9.5,null,1,null,2]
[null,10,null,2,null,3]
[null,10.5,null,3,null,4]
[null,11,null,4,null,5]
[null,11.5,null,5,null,6]
[null,12,null,6,null,7]
[null,null,null,7]
[null,null,null,8]
[]
[]
[null,null,null,null,null,null,null,"Centerline",null,"Passing",null,"Local",null,"EB",null,"Terrain"]
[null,"CDP",null,"Shoulder Type",null,"Spiral",null,"Rumble Strips",null,"Lane",null,"HSM",null,"Site",null,"Level"]
[null,"Yes",null,"Paved",null,"NP",null,"NP",null,"NP",null,"Local",null,"Project",null,"Rolling"]
[null,"No",null,"Gravel",null,"P",null,"P",null,"P1"]
[null,null,null,"Composite",null,1,null,null,null,"P2"]
[null,null,null,"Turf"]
[]
[null,"Itype4",null,null,null,"TWLTL",null,"Lighting",null,"SpEnforce"]
[null,"3SG",null,null,null,"NP",null,"NP",null,"NP"]
[null,"4SG",null,null,null,"P",null,"P",null,"P"]
[]
[]
[]
[null,"Itype2","Itype3","Itype","Itype4","Lapproach",null,"Rapproach",null,"Ilight",null,"Differ",null,"Phasing2",null,null,"Itype5"]
[null,"3ST","3ST","3ST","4U",0,null,0,null,"NP",null,"Y",null,"N/A",null,null,"Paved"]
[null,"3SG","4ST","4ST","4D",1,null,1,null,"P",null,"N",null,"Permissive",null,null,"Gravel"]
[null,"4ST",null,"4SG",null,2,null,2,null,null,null,null,null,"Protected"]
[null,"4SG",null,null,null,3,null,3,null,null,null,null,null,"Protected / Permissive"]
[null,null,null,null,null,4,null,4,null,null,null,null,null,"Permissive / Protected"]
[]
[]
[null,"Num",null,"Mwidth",null,"Division",null,"Sslope",null,"Shld2",null,"Iapproach"]
[null,1,null,10,null,"Divided",null,"1:2 or Steeper",null,0,null,0]
[null,2,null,20,null,"Undivided",null,"1:4",null,1,null,1]
[null,3,null,30,null,null,null,"1:5",null,2,null,2]
[null,4,null,40,null,null,null,"1:6",null,3]
[null,5,null,50,null,null,null,"1:7 or Flatter",null,4]
[null,6,null,60,null,null,null,null,null,5]
[null,7,null,70,null,null,null,null,null,6]
[null,8,null,80,null,null,null,null,null,7]
[null,9,null,90,null,null,null,null,null,8]
[null,10,null,100,null,null,null,null,null,9]
[null,null,null,null,null,null,null,null,null,10]
[]
[]
[null,"Urban / Suburban Fields:"]
[]
[]
[null,"Rtype",null,"UMedWidth",null,"PresOrNot",null,"OnStreetType",null,"OffsetFO",null,"Posted"]
[null,"2U55E",null,"NP",null,"NP",null,"None",null,2,null,"Posted Speed 30 mph or Lower"]
[null,"2U55L",null,10,null,"P",null,"Parallel (Residential)",null,5,null,"Posted Speed Greater than 30 mph"]
[null,"3T",null,15,null,null,null,"Parallel (Comm/Ind)",null,10]
[null,"4U",null,20,null,null,null,"Angle (Residential)",null,15]
[null,"4D",null,30,null,null,null,"Angle (Comm/Ind)",null,20]
[null,"5T",null,40,null,null,null,null,null,25]
[null,"6D",null,50,null,null,null,null,null,"≥ 30"]
[null,"8D",null,60]
[null,"2O",null,70]
[null,"3O",null,80]
[null,"4O",null,90]
[null,null,null,100]
[]
[]
[]
[null,"Tlanes",null,null,null,"Phasing",null,"UnsigApproach",null,"RtApproach",null,"Shld3"]
[null,0,null,null,null,"Permissive",null,0,null,0,null,0]
[null,1,null,null,null,"Protected",null,1,null,1,null,1]
[null,2,null,null,null,"Protected / Permissive",null,2,null,2,null,2]
[null,3,null,null,null,"Permissive / Protected",null,null,null,3,null,3]
[null,4,null,null,null,null,null,null,null,4,null,4]
[null,null,null,null,null,null,null,null,null,null,null,5]
[null,null,null,null,null,null,null,null,null,null,null,6]
[null,null,null,null,null,null,null,null,null,null,null,7]
[null,null,null,null,null,null,null,null,null,null,null,8]
[]
[]
[null,"Michigan Specific Model Construction"]
[null,"WSUIsectType","Flow Type","Major Road Speed Limit","Major Road Median Presence","Minor Road Median Presence","Lighting Presence","Right-Turn-on-Red Prohibition","Major Street Left Turn","MDOT Region","County","1997 Region","2016 Region","Economic Prosperity Region"]
[null,"3SG","Two-Way",25,"Present","Present","Present","Permitted","Present","Superior","Statewide","Statewide","Statewide","Statewide"]
[null,"3ST","One-Way",30,"Not Present","Not Present","Not Present","Prohibited","Not Present","North","Alcona","North","North","Northeast Prosperity Region"]
[null,"4SG",null,35,null,null,null,"NA",null,"Grand","Alger","Superior","Superior","Central UP Prosperity Region"]
[null,"4ST",null,40,null,null,null,null,null,"Bay","Allegan","Southwest","Grand","West Michigan Prosperity Region"]
[null,null,null,45,null,null,null,null,null,"Southwest","Alpena","North","North","Northeast Prosperity Region"]
[null,null,null,50,null,null,null,null,null,"University","Antrim","North","North","Northwest Prosperity Region"]
[null,null,null,55,null,null,null,null,null,"Metro","Arenac","Bay","Bay","East Central Michigan Prosperity Region"]
[null,null,null,60,null,null,null,null,null,null,"Baraga","Superior","Superior","Western UP Prosperity Region"]
[null,null,null,65,null,null,null,null,null,null,"Barry","Southwest","Grand","West Michigan Prosperity Region"]
[null,null,null,70,null,null,null,null,null,null,"Bay","Bay","Bay","East Central Michigan Prosperity Region"]
[null,null,null,null,null,null,null,null,null,null,"Benzie","North","North","Northwest Prosperity Region"]
[null,null,null,null,null,null,null,null,null,null,"Berrien","Southwest","Southwest","Southwest Prosperity Region"]
[null,null,null,null,null,null,null,null,null,null,"Branch","Southwest","Southwest","Southwest Prosperity Region"]
[null,null,null,null,null,null,null,null,null,null,"Calhoun","Southwest","Southwest","Southwest Prosperity Region"]
[null,null,null,null,null,null,null,null,null,null,"Cass","Southwest","Southwest","Southwest Prosperity Region"]
[null,null,null,null,null,null,null,null,null,null,"Charlevoix","North","North","Northwest Prosperity Region"]
[null,null,null,null,null,null,null,null,null,null,"Cheboygan","North","North","Northeast Prosperity Region"]
[null,null,null,null,null,null,null,null,null,null,"Chippewa","Superior","Superior","Eastern UP Prosperity Region"]
[null,null,null,null,null,null,null,null,null,null,"Clare","Bay","Bay","East Central Michigan Prosperity Region"]
[null,null,null,null,null,null,null,null,null,null,"Clinton","University","University","South Central Prosperity Region"]
[null,null,null,null,null,null,null,null,null,null,"Crawford","North","North","Northeast Prosperity Region"]
[null,null,null,null,null,null,null,null,null,null,"Delta","Superior","Superior","Central UP Prosperity Region"]
[null,null,null,null,null,null,null,null,null,null,"Dickinson","Superior","Superior","Central UP Prosperity Region"]
[null,null,null,null,null,null,null,null,null,null,"Eaton","University","University","South Central Prosperity Region"]
[null,null,null,null,null,null,null,null,null,null,"Emmet","North","North","Northwest Prosperity Region"]
[null,null,null,null,null,null,null,null,null,null,"Genesee","Bay","Bay","East Michigan Prosperity Region"]
[null,null,null,null,null,null,null,null,null,null,"Gladwin","Bay","Bay","East Central Michigan Prosperity Region"]
[null,null,null,null,null,null,null,null,null,null,"Gogebic","Superior","Superior","Western UP Prosperity Region"]
[null,null,null,null,null,null,null,null,null,null,"Grand Traverse","North","North","Northwest Prosperity Region"]
[null,null,null,null,null,null,null,null,null,null,"Gratiot","Bay","Bay","East Central Michigan Prosperity Region"]
[null,null,null,null,null,null,null,null,null,null,"Hillsdale","University","University","Southeast Michigan Prosperity Region"]
[null,null,null,null,null,null,null,null,null,null,"Houghton","Superior","Superior","Western UP Prosperity Region"]
[null,null,null,null,null,null,null,null,null,null,"Huron","Bay","Bay","East Michigan Prosperity Region"]
[null,null,null,null,null,null,null,null,null,null,"Ingham","University","University","South Central Prosperity Region"]
[null,null,null,null,null,null,null,null,null,null,"Ionia","Grand","Grand","West Michigan Prosperity Region"]
[null,null,null,null,null,null,null,null,null,null,"Iosco","North","North","Northeast Prosperity Region"]
[null,null,null,null,null,null,null,null,null,null,"Iron","Superior","Superior","Western UP Prosperity Region"]
[null,null,null,null,null,null,null,null,null,null,"Isabella","Bay","Bay","East Central Michigan Prosperity Region"]
[null,null,null,null,null,null,null,null,null,null,"Jackson","University","University","Southeast Michigan Prosperity Region"]
[null,null,null,null,null,null,null,null,null,null,"Kalamazoo","Southwest","Southwest","Southwest Prosperity Region"]
[null,null,null,null,null,null,null,null,null,null,"Kalkaska","North","North","Northwest Prosperity Region"]
[null,null,null,null,null,null,null,null,null,null,"Kent","Grand","Grand","West Michigan Prosperity Region"]
[null,null,null,null,null,null,null,null,null,null,"Keweenaw","Superior","Superior","Western UP Prosperity Region"]
[null,null,null,null,null,null,null,null,null,null,"Lake","North","Grand","West Central Prosperity Region"]
[null,null,null,null,null,null,null,null,null,null,"Lapeer","Bay","Bay","East Michigan Prosperity Region"]
[null,null,null,null,null,null,null,null,null,null,"Leelanau","North","North","Northwest Prosperity Region"]
[null,null,null,null,null,null,null,null,null,null,"Lenawee","University","University","Southeast Michigan Prosperity Region"]
[null,null,null,null,null,null,null,null,null,null,"Livingston","University","University","Southeast Michigan Prosperity Region"]
[null,null,null,null,null,null,null,null,null,null,"Luce","Superior","Superior","Eastern UP Prosperity Region"]
[null,null,null,null,null,null,null,null,null,null,"Mackinac","Superior","Superior","Eastern UP Prosperity Region"]
[null,null,null,null,null,null,null,null,null,null,"Macomb","Metro","Metro","Detroit Metro Prosperity Region"]
[null,null,null,null,null,null,null,null,null,null,"Manistee","North","North","Northwest Prosperity Region"]
[null,null,null,null,null,null,null,null,null,null,"Marquette","Superior","Superior","Central UP Prosperity Region"]
[null,null,null,null,null,null,null,null,null,null,"Mason","North","Grand","West Central Prosperity Region"]
[null,null,null,null,null,null,null,null,null,null,"Mecosta","Grand","Grand","West Central Prosperity Region"]
[null,null,null,null,null,null,null,null,null,null,"Menominee","Superior","Superior","Central UP Prosperity Region"]
[null,null,null,null,null,null,null,null,null,null,"Midland","Bay","Bay","East Central Michigan Prosperity Region"]
[null,null,null,null,null,null,null,null,null,null,"Missaukee","North","North","Northwest Prosperity Region"]
[null,null,null,null,null,null,null,null,null,null,"Monroe","University","University","Southeast Michigan Prosperity Region"]
[null,null,null,null,null,null,null,null,null,null,"Montcalm","Grand","Grand","West Michigan Prosperity Region"]
[null,null,null,null,null,null,null,null,null,null,"Montmorency","North","North","Northeast Prosperity Region"]
[null,null,null,null,null,null,null,null,null,null,"Muskegon","Grand","Grand","West Michigan Prosperity Region"]
[null,null,null,null,null,null,null,null,null,null,"Newaygo","Grand","Grand","West Central Prosperity Region"]
[null,null,null,null,null,null,null,null,null,null,"Oakland","Metro","Metro","Detroit Metro Prosperity Region"]
[null,null,null,null,null,null,null,null,null,null,"Oceana","Grand","Grand","West Central Prosperity Region"]
[null,null,null,null,null,null,null,null,null,null,"Ogemaw","North","North","Northeast Prosperity Region"]
[null,null,null,null,null,null,null,null,null,null,"Ontonagon","Superior","Superior","Western UP Prosperity Region"]
[null,null,null,null,null,null,null,null,null,null,"Osceola","North","Grand","West Central Prosperity Region"]
[null,null,null,null,null,null,null,null,null,null,"Oscoda","North","North","Northeast Prosperity Region"]
[null,null,null,null,null,null,null,null,null,null,"Otsego","North","North","Northeast Prosperity Region"]
[null,null,null,null,null,null,null,null,null,null,"Ottawa","Grand","Grand","West Michigan Prosperity Region"]
[null,null,null,null,null,null,null,null,null,null,"Presque Isle","North","North","Northeast Prosperity Region"]
[null,null,null,null,null,null,null,null,null,null,"Roscommon","North","North","Northeast Prosperity Region"]
[null,null,null,null,null,null,null,null,null,null,"Saginaw","Bay","Bay","East Central Michigan Prosperity Region"]
[null,null,null,null,null,null,null,null,null,null,"Sanilac","Bay","Bay","East Michigan Prosperity Region"]
[null,null,null,null,null,null,null,null,null,null,"Schoolcraft","Superior","Superior","Central UP Prosperity Region"]
[null,null,null,null,null,null,null,null,null,null,"Shiawassee","University","Bay","East Michigan Prosperity Region"]
[null,null,null,null,null,null,null,null,null,null,"St. Clair","Metro","Bay","East Michigan Prosperity Region"]
[null,null,null,null,null,null,null,null,null,null,"St. Joseph","Southwest","Southwest","Southwest Prosperity Region"]
[null,null,null,null,null,null,null,null,null,null,"Tuscola","Bay","Bay","East Michigan Prosperity Region"]
[null,null,null,null,null,null,null,null,null,null,"Van Buren","Southwest","Southwest","Southwest Prosperity Region"]
[null,null,null,null,null,null,null,null,null,null,"Washtenaw","University","University","Southeast Michigan Prosperity Region"]
[null,null,null,null,null,null,null,null,null,null,"Wayne","Metro","Metro","Detroit Metro Prosperity Region"]
[null,null,null,null,null,null,null,null,null,null,"Wexford","North","North","Northwest Prosperity Region"]

{"sheet":"AADTRanges","index":18,"n_rows":15,"n_cols":14,"rows_kept":15,"cut":false,"hidden":false,"merged":[[2,1,2,3]]}
[]
[null,null,null,null,null,"Rural Segment AADT Ranges (MI Data)",null,null,null,"Rural Intersection AADT Ranges (MI Data)"]
[null,"Urban/SuburbanSegment AADT Ranges",null,null,null,"Facility Type","Min AADT","Max AADT",null,"Facility Type","Min AADT Major","Max AADT Major","Min AADT Minor","Max AADT Minor"]
[null,"Facility Type","Min AADT","Max AADT",null,"2U",100,23500,null,"3ST",25,32000,25,6550]
[null,"2U55E",200,26900,null,"4U",1675,32000,null,"4ST",50,20275,25,6850]
[null,"2U55L",600,30200,null,"4D",3175,29650,null,"3SG",3725,16300,125,9750]
[null,"3T",2400,31100,null,"2PF",25,12800,null,"4SG",1275,21425,50,12150]
[null,"4U",3700,43900,null,"2PN",25,12625]
[null,"5T",4100,51300,null,"2GN",25,6300]
[null,"4D",1800,35900]
[null,"6D",3400,77600]
[null,"8D",6000,77600]
[null,"2O",1200,26200]
[null,"3O",2200,26200]
[null,"4O",2900,27100]

{"sheet":"Tables","index":19,"n_rows":728,"n_cols":62,"rows_kept":728,"cut":false,"hidden":true,"merged":[[436,49,436,50],[388,49,391,49],[388,50,391,50],[395,49,396,49],[395,50,396,50],[397,49,398,49],[397,50,398,50],[400,49,401,49],[400,50,401,50],[433,56,436,56],[433,57,436,57],[405,40,406,40],[405,41,406,41],[408,40,409,40],[408,41,409,41],[427,56,430,56],[403,56,406,56],[403,41,404,41],[423,56,426,56],[423,40,426,40],[426,49,429,49],[426,50,429,50],[430,49,431,49],[430,50,431,50],[406,49,409,49],[406,50,409,50],[410,49,410,50],[402,49,405,49],[402,50,405,50],[410,40,413,40],[411,58,411,61],[422,49,425,49],[422,50,425,50],[368,49,371,49],[368,50,371,50],[372,49,375,49],[372,50,375,50],[376,49,379,49],[385,57,388,57],[407,56,410,56],[407,57,410,57],[411,56,411,57],[381,41,384,41],[385,40,388,40],[385,41,388,41],[389,40,392,40],[389,41,392,41],[403,40,404,40],[403,57,406,57],[369,56,372,56],[369,57,372,57],[373,56,376,56],[373,57,376,57],[377,56,380,56],[377,57,380,57],[381,56,384,56],[381,57,384,57],[385,56,388,56],[423,57,426,57],[373,40,376,40],[373,41,376,41],[377,40,380,40],[366,26,366,38],[452,1,459,1],[451,1,451,3],[368,1,368,3],[440,33,443,33],[440,34,443,34],[444,33,444,34],[444,35,444,38],[389,57,392,57],[396,56,397,56],[396,57,397,57],[398,56,399,56],[398,57,399,57],[401,56,402,56],[401,57,402,57],[376,50,379,50],[380,49,383,49],[380,50,383,50],[384,49,387,49],[384,50,387,50],[389,56,392,56],[408,33,409,33],[408,34,409,34],[427,57,430,57],[431,56,432,56],[431,57,432,57],[427,33,430,33],[427,34,430,34],[432,49,435,49],[432,50,435,50],[369,41,372,41],[410,41,413,41],[377,41,380,41],[444,40,444,41],[414,40,417,40],[414,41,417,41],[418,40,418,41],[423,33,426,33],[423,34,426,34],[418,35,418,38],[423,41,426,41],[427,40,430,40],[427,41,430,41],[438,40,439,40],[438,41,439,41],[440,40,443,40],[440,41,443,41],[389,33,392,33],[389,34,392,34],[403,33,404,33],[403,34,404,34],[405,33,406,33],[405,34,406,34],[328,1,328,3],[329,1,329,3],[330,1,330,3],[331,1,331,3],[332,1,332,3],[381,34,384,34],[385,33,388,33],[385,34,388,34],[438,33,439,33],[438,34,439,34],[414,33,417,33],[414,34,417,34],[418,33,418,34],[381,40,384,40],[410,33,413,33],[410,34,413,34],[369,33,372,33],[369,34,372,34],[373,33,376,33],[373,34,376,34],[377,33,380,33],[377,34,380,34],[381,33,384,33],[369,40,372,40],[362,1,362,3],[362,6,362,7],[362,10,362,11],[333,1,333,3],[334,1,334,11],[335,1,335,3],[336,1,336,3],[337,1,337,3],[320,1,321,11],[322,1,323,3],[322,4,322,11],[323,4,323,7],[323,8,323,11],[324,1,324,2],[324,4,325,4],[324,5,325,5],[324,6,325,6],[324,7,325,7],[324,8,325,8],[324,9,325,9],[324,10,325,10],[324,11,325,11],[325,1,325,3],[326,1,326,11],[327,1,327,3],[338,1,338,3],[339,1,339,3],[340,1,340,3],[341,1,341,3],[342,1,342,11],[343,1,343,3],[344,1,344,3],[345,1,345,3],[346,1,346,3],[347,1,347,3],[348,1,348,3],[349,1,349,3],[350,1,350,11],[353,1,354,11],[355,1,356,3],[355,4,355,7],[355,8,355,11],[356,4,358,5],[356,6,358,7],[356,8,358,9],[356,10,358,11],[357,1,357,2],[358,1,360,3],[359,4,360,4],[359,5,360,5],[359,6,360,7],[359,8,360,8],[359,9,360,9],[359,10,360,11],[361,1,361,3],[361,6,361,7],[361,10,361,11],[300,29,300,30],[296,27,296,28],[296,29,296,30],[297,27,297,28],[297,29,297,30],[294,27,294,28],[294,29,294,30],[295,27,295,28],[295,29,295,30],[250,27,251,38],[301,27,301,28],[301,29,301,30],[302,27,302,28],[302,29,302,30],[298,27,298,28],[298,29,298,30],[299,27,299,28],[299,29,299,30],[300,27,300,28],[276,29,276,31],[277,27,277,28],[277,29,277,31],[274,27,274,28],[274,29,274,31],[275,27,275,28],[275,29,275,31],[282,27,282,28],[282,29,282,31],[272,27,273,28],[272,29,273,31],[270,27,271,31],[278,27,278,28],[280,27,280,28],[280,29,280,31],[281,27,281,28],[281,29,281,31],[263,1,264,11],[265,1,266,3],[265,4,265,11],[266,4,266,7],[266,8,266,11],[264,27,265,32],[292,27,292,28],[292,29,292,30],[293,27,293,28],[293,29,293,30],[289,27,291,30],[283,27,283,28],[283,29,283,31],[284,27,284,28],[284,29,284,31],[278,29,278,31],[279,27,279,28],[279,29,279,31],[276,27,276,28],[282,1,283,3],[282,4,282,11],[283,4,283,7],[283,8,283,11],[284,4,285,4],[284,5,285,5],[258,7,258,8],[258,9,258,10],[258,12,258,13],[259,1,259,3],[259,4,259,5],[259,7,259,8],[259,9,259,10],[259,12,259,13],[258,27,259,38],[252,27,253,27],[252,28,252,38],[260,1,260,3],[260,4,260,5],[260,7,260,8],[260,9,260,10],[260,12,260,13],[258,1,258,3],[258,4,258,5],[255,7,255,8],[255,9,255,10],[255,12,255,13],[268,1,268,3],[269,1,269,3],[288,1,288,3],[289,1,289,3],[284,9,285,9],[284,10,285,10],[284,6,285,6],[284,7,285,7],[284,8,285,8],[267,10,268,10],[267,11,268,11],[280,1,281,11],[276,1,276,11],[274,1,274,3],[275,1,275,3],[272,1,272,3],[273,1,273,3],[270,1,270,3],[271,1,271,3],[267,4,268,4],[267,5,268,5],[267,6,268,6],[267,7,268,7],[267,8,268,8],[267,9,268,9],[303,10,304,11],[98,4,98,5],[98,6,98,7],[101,1,102,10],[103,3,103,10],[104,3,104,10],[112,1,112,10],[127,3,127,10],[128,1,129,2],[128,3,128,4],[292,1,292,3],[293,1,293,11],[290,1,290,3],[291,1,291,3],[300,8,302,9],[300,10,302,11],[302,1,304,3],[303,4,304,4],[303,5,304,5],[303,6,304,7],[297,1,298,11],[299,1,300,3],[299,4,299,7],[299,8,299,11],[300,4,302,5],[300,6,302,7],[303,8,304,8],[303,9,304,9],[284,11,285,11],[285,1,285,3],[286,1,286,3],[287,1,287,3],[315,10,316,11],[305,1,305,3],[305,6,305,7],[305,10,305,11],[309,1,310,11],[311,1,312,3],[311,4,311,7],[311,8,311,11],[312,4,314,5],[317,1,317,3],[317,6,317,7],[317,10,317,11],[312,10,314,11],[314,1,316,3],[315,4,316,4],[315,5,316,5],[315,6,316,7],[315,8,316,8],[315,9,316,9],[312,6,314,7],[312,8,314,9],[94,4,94,7],[96,1,96,3],[96,4,96,5],[96,6,96,7],[97,1,97,3],[97,4,97,5],[97,6,97,7],[82,1,83,13],[114,27,114,28],[165,27,165,31],[154,27,154,31],[159,27,159,31],[149,27,149,31],[144,27,145,31],[146,27,148,27],[146,31,148,31],[94,1,94,3],[128,5,128,6],[128,7,128,8],[128,9,128,10],[116,1,116,2],[117,1,117,2],[118,1,118,2],[119,1,119,2],[120,1,120,2],[133,27,133,31],[128,27,128,31],[123,27,124,31],[125,27,127,27],[125,31,127,31],[113,1,115,2],[113,3,113,10],[137,3,137,10],[138,3,138,4],[138,5,138,6],[138,7,138,8],[138,9,138,10],[140,1,140,2],[141,1,141,2],[142,1,142,2],[143,1,143,2],[144,1,144,2],[145,1,145,2],[98,1,98,3],[105,1,106,2],[105,3,105,4],[105,5,105,6],[105,7,105,8],[105,9,105,10],[114,3,114,4],[124,1,125,10],[126,3,126,10],[92,1,93,7],[70,1,70,3],[71,1,71,3],[72,1,72,12],[154,1,154,2],[154,3,154,4],[154,5,154,6],[155,1,155,2],[155,3,155,4],[155,5,155,6],[156,1,156,2],[156,3,156,4],[156,5,156,6],[157,1,157,2],[157,3,157,4],[157,5,157,6],[114,5,114,6],[114,7,114,8],[114,9,114,10],[107,1,107,2],[108,1,108,2],[109,1,109,2],[110,1,110,2],[111,1,111,2],[130,1,130,2],[131,1,131,2],[132,1,132,2],[133,1,133,2],[134,1,134,2],[135,1,135,2],[136,1,136,10],[137,1,139,2],[8,7,8,9],[11,4,11,6],[9,7,9,9],[10,7,10,9],[20,8,20,11],[14,4,14,6],[57,27,57,33],[61,27,62,33],[52,28,52,29],[53,28,53,29],[54,28,54,29],[48,27,51,27],[48,28,51,29],[48,30,49,33],[50,30,51,30],[50,31,51,31],[63,27,66,27],[63,28,66,29],[63,30,64,33],[65,30,66,30],[65,31,66,31],[65,32,66,32],[65,33,66,33],[20,4,20,7],[62,4,63,4],[62,5,63,5],[62,6,63,6],[62,7,63,7],[62,8,63,8],[62,9,63,9],[39,29,40,30],[62,21,63,21],[4,27,5,36],[6,27,7,27],[6,28,6,36],[12,27,13,36],[84,8,84,13],[88,8,88,9],[33,10,33,11],[34,10,34,11],[35,10,35,11],[36,10,36,11],[9,1,9,3],[10,1,10,3],[12,4,12,6],[13,4,13,6],[8,4,8,6],[7,7,7,9],[11,1,11,3],[12,1,12,3],[4,1,5,9],[9,4,9,6],[10,4,10,6],[12,7,12,9],[13,7,13,9],[6,4,6,9],[11,7,11,9],[6,1,6,3],[7,4,7,6],[8,1,8,3],[50,32,51,32],[50,33,51,33],[55,28,55,29],[56,27,56,33],[13,1,13,3],[66,1,66,3],[67,1,67,3],[41,29,41,30],[42,28,43,34],[64,13,64,21],[65,1,65,3],[39,27,41,28],[14,1,14,3],[23,6,23,7],[17,1,18,11],[21,4,22,4],[27,6,27,7],[28,6,28,7],[25,10,25,11],[14,7,14,9],[19,4,19,11],[21,5,22,5],[26,10,26,11],[27,10,27,11],[30,6,30,7],[32,6,32,7],[62,10,63,10],[54,12,54,13],[62,20,63,20],[60,7,61,9],[60,10,61,12],[60,13,61,15],[60,16,61,18],[54,6,54,7],[54,8,54,9],[62,11,63,11],[71,27,71,33],[72,27,72,33],[67,28,67,29],[68,28,68,29],[69,28,69,29],[78,31,80,31],[78,1,78,3],[79,1,79,3],[89,11,89,13],[89,5,89,7],[89,2,89,3],[86,2,87,4],[85,8,87,10],[89,8,89,9],[84,2,84,7],[85,11,87,13],[72,13,72,21],[73,1,73,3],[74,1,74,3],[75,1,75,3],[76,1,76,3],[77,1,77,3],[85,5,87,7],[88,5,88,7],[88,11,88,13],[88,2,88,3],[68,1,68,3],[69,1,69,3],[70,28,70,29],[77,28,77,29],[77,30,77,31],[78,28,80,28],[60,19,61,21],[48,1,48,3],[48,4,48,5],[53,14,53,15],[52,1,52,3],[52,4,52,5],[52,6,52,7],[52,8,52,9],[52,10,52,11],[52,12,52,13],[51,4,51,5],[51,8,51,9],[51,10,51,11],[52,14,52,15],[53,1,53,3],[53,4,53,5],[53,6,53,7],[53,8,53,9],[53,10,53,11],[53,12,53,13],[51,6,51,7],[51,1,51,3],[49,1,49,3],[35,34,36,34],[31,27,32,34],[33,27,36,28],[33,29,36,30],[33,31,34,34],[50,1,50,3],[50,4,50,5],[50,6,50,7],[50,8,50,9],[50,10,50,11],[35,32,36,32],[35,31,36,31],[37,29,38,30],[37,31,38,31],[37,6,37,7],[35,6,35,7],[36,6,36,7],[50,12,50,13],[50,14,50,15],[49,4,49,5],[49,6,49,7],[49,8,49,9],[49,10,49,11],[49,12,49,13],[21,8,22,8],[21,9,22,9],[21,10,22,11],[26,6,26,7],[39,34,40,34],[24,6,24,7],[28,10,28,11],[29,10,29,11],[30,10,30,11],[29,6,29,7],[47,12,47,13],[45,6,46,7],[45,8,46,9],[45,10,46,11],[45,12,46,13],[41,1,42,15],[43,1,45,3],[44,10,44,15],[45,4,46,5],[39,31,40,31],[39,32,40,32],[39,33,40,33],[21,6,22,7],[44,4,44,9],[21,27,22,28],[37,27,38,28],[38,6,38,7],[47,1,47,3],[47,4,47,5],[47,6,47,7],[47,8,47,9],[47,10,47,11],[195,27,195,30],[189,27,189,30],[183,27,183,30],[178,27,179,30],[180,27,182,27],[23,10,23,11],[24,10,24,11],[23,27,25,28],[26,28,27,34],[54,10,54,11],[37,10,37,11],[31,10,31,11],[32,10,32,11],[46,27,47,33],[31,6,31,7],[33,6,33,7],[34,6,34,7],[38,10,38,11],[35,33,36,33],[37,33,38,33],[49,14,49,15],[51,12,51,13],[51,14,51,15],[54,14,54,15],[57,1,58,21],[59,1,62,3],[59,4,59,12],[59,13,59,21],[60,4,61,6],[54,1,54,3],[54,4,54,5],[180,30,182,30],[15,27,16,34],[17,27,20,28],[17,29,20,30],[17,31,18,34],[19,32,20,32],[243,27,243,28],[235,27,235,28],[236,27,236,28],[237,27,237,28],[238,27,238,33],[232,27,232,28],[233,27,233,28],[234,27,234,28],[62,18,63,18],[62,19,63,19],[64,1,64,12],[246,27,247,33],[244,27,244,33],[245,27,245,28],[239,27,239,28],[240,27,240,33],[241,27,241,28],[242,27,242,33],[62,12,63,12],[62,13,63,13],[62,14,63,14],[62,15,63,15],[62,16,63,16],[62,17,63,17],[37,34,38,34],[37,32,38,32],[48,6,48,7],[219,27,219,30],[213,27,213,30],[207,27,207,30],[202,27,203,30],[204,27,206,27],[204,30,206,30],[138,27,138,31],[173,27,173,33],[25,6,25,7],[23,34,24,34],[23,29,24,30],[23,31,24,31],[23,32,24,32],[23,33,24,33],[19,33,20,33],[19,34,20,34],[45,14,46,15],[19,31,20,31],[21,34,22,34],[21,29,22,30],[21,31,22,31],[21,32,22,32],[21,33,22,33],[25,29,25,30],[48,8,48,9],[48,10,48,11],[48,12,48,13],[48,14,48,15],[47,14,47,15],[43,4,43,15],[76,27,80,27],[76,28,76,31],[78,29,80,29],[98,27,99,30],[117,27,117,28],[118,27,118,28],[74,27,75,31],[256,1,256,3],[256,4,256,5],[256,7,256,8],[256,9,256,10],[256,12,256,13],[78,30,80,30],[96,29,96,30],[115,27,115,28],[116,27,116,28],[110,27,110,28],[111,27,111,28],[112,27,112,28],[113,27,113,28],[107,27,107,28],[108,27,108,28],[109,27,109,28],[168,27,169,33],[170,27,172,27],[170,33,172,33],[166,27,166,31],[100,27,101,30],[94,27,94,28],[89,27,89,28],[89,29,89,30],[90,27,90,28],[90,29,90,30],[103,27,106,29],[97,27,97,28],[97,29,97,30],[91,27,91,28],[91,29,91,30],[92,27,92,28],[92,29,92,30],[93,27,93,28],[93,29,93,30],[257,1,257,3],[257,4,257,5],[257,7,257,8],[87,27,88,30],[94,29,94,30],[95,27,95,28],[95,29,95,30],[96,27,96,28],[230,27,230,33],[226,27,227,33],[228,27,229,28],[228,29,228,33],[231,27,231,28],[84,1,88,1],[149,1,150,6],[151,3,151,6],[152,3,153,4],[152,5,153,6],[153,1,153,2],[257,9,257,10],[257,12,257,13],[253,12,254,13],[255,1,255,3],[255,4,255,5],[230,3,230,4],[230,5,230,6],[230,7,230,8],[231,1,232,10],[229,1,229,2],[229,3,229,4],[229,5,229,6],[229,7,229,8],[229,9,229,10],[246,1,246,3],[246,4,246,5],[246,6,246,7],[250,1,251,13],[252,1,253,3],[252,4,252,8],[252,9,252,13],[253,4,254,6],[253,7,254,8],[253,9,254,11],[243,1,243,3],[243,4,243,5],[243,6,243,7],[244,1,244,3],[244,4,244,5],[244,6,244,7],[245,1,245,3],[245,4,245,5],[245,6,245,7],[213,1,213,2],[213,3,213,4],[213,5,213,6],[213,7,213,8],[213,9,213,10],[226,1,226,2],[226,3,226,4],[226,5,226,6],[226,7,226,8],[226,9,226,10],[227,1,227,2],[227,3,227,4],[227,5,227,6],[227,7,227,8],[227,9,227,10],[242,1,242,3],[242,4,242,5],[242,6,242,7],[230,9,230,10],[225,1,225,2],[225,3,225,4],[225,5,225,6],[225,7,225,8],[225,9,225,10],[236,1,237,7],[238,1,239,3],[238,4,238,5],[238,6,238,7],[239,4,241,5],[239,6,241,7],[241,1,241,3],[230,1,230,2],[437,58,437,61],[160,1,161,12],[162,3,162,12],[163,3,163,12],[164,1,165,2],[167,1,167,2],[168,1,168,2],[169,1,169,2],[170,1,170,2],[173,1,175,2],[173,3,173,12],[174,3,174,4],[174,5,174,6],[174,7,174,8],[179,1,179,2],[210,1,210,2],[210,3,210,4],[210,5,210,6],[210,7,210,8],[210,9,210,10],[211,1,211,2],[211,3,211,4],[211,5,211,6],[211,7,211,8],[211,9,211,10],[215,1,215,2],[215,3,215,4],[215,5,215,6],[215,7,215,8],[215,9,215,10],[202,1,202,2],[206,1,207,10],[437,56,437,57],[174,9,174,10],[174,11,174,12],[209,3,209,6],[209,7,209,10],[180,1,180,2],[181,1,181,2],[176,1,176,2],[177,1,177,2],[178,1,178,2],[189,1,190,2],[189,3,189,4],[189,5,189,6],[199,1,199,2],[200,1,200,2],[201,1,201,2],[475,28,477,28],[475,29,477,29],[475,1,482,1],[475,2,482,2],[475,9,482,9],[475,10,482,10],[475,17,477,17],[475,18,477,18],[189,7,189,8],[189,9,189,10],[189,11,189,12],[185,1,186,12],[187,3,187,12],[188,3,188,12],[191,1,191,2],[192,1,192,2],[492,28,494,28],[492,29,494,29],[495,17,497,17],[495,28,497,28],[491,9,498,9],[491,10,498,10],[492,17,494,17],[171,1,171,2],[164,3,164,4],[164,5,164,6],[164,7,164,8],[164,9,164,10],[164,11,164,12],[166,1,166,2],[479,17,481,17],[479,18,481,18],[479,28,481,28],[479,29,481,29],[193,1,193,2],[196,1,198,2],[196,3,196,12],[197,3,197,4],[197,5,197,6],[197,7,197,8],[197,9,197,10],[197,11,197,12],[212,1,212,2],[212,3,212,4],[212,5,212,6],[212,7,212,8],[212,9,212,10],[208,3,208,10],[710,6,711,10],[712,6,716,6],[712,7,712,10],[713,7,713,8],[713,9,713,10],[714,7,716,7],[498,17,498,18],[498,19,498,25],[498,28,498,29],[498,30,498,33],[483,1,490,1],[483,2,490,2],[483,9,490,9],[483,10,490,10],[491,1,498,1],[491,2,498,2],[523,10,530,10],[531,1,538,1],[531,2,538,2],[531,9,538,9],[531,10,538,10],[714,8,716,8],[714,9,716,9],[714,10,716,10],[499,1,506,1],[499,2,506,2],[499,9,506,9],[499,10,506,10],[523,1,530,1],[523,2,530,2],[523,9,530,9],[492,18,494,18],[60,22,61,24],[62,22,63,22],[62,23,63,23],[62,24,63,24],[45,16,46,17]],"merged_total":1027,"flags":["merged_cut"]}
[]
[null,"Tables Affiliated with Crash Statistics:",null,null,null,null,null,null,null,null,null,null,null,null,null,null,null,null,null,null,null,null,null,null,null,null,null,"Tables Affiliated with Crash Modification Factors:",null,null,null,null,null,null,null,null,null,null,null,null,null,"Additional CMF's"]
[]
[]
[null,"Table 10-3: Distribution for Crash Severity Level on Rural Two-Lane Two-Way Roadway Segments plus Locally-Derived Values",null,null,null,null,null,null,null,null,null,null,null,null,null,null,null,null,null,null,null,null,null,null,null,null,null,"Table 10-10: Crash Modification Factors for Shoulder Types and Shoulder Widths on Roadway Segments (CMFtra)",null,null,null,null,null,null,null,null,null,null,null,null,null,"Rural 2-Lane Segments",null,"Rural Unsignalized Intersections",null,"Rural Multilane Segments",null,null,null,"Rural Signalized Intersections",null,"Urban & Suburban Segments",null,"Urban & Suburban Intersections"]
[null,null,null,null,null,null,null,null,null,null,null,null,null,null,null,null,null,null,null,null,null,null,null,null,null,null,null,null,null,null,null,null,null,null,null,null,null,null,null,null,null,"N/A (1.000)",1,"N/A (1.000)",1,"N/A (1.000)",1,null,1,"N/A (1.000)",1,"N/A (1.000)",1,"N/A (1.000)",1]
[null,"Crash severity level",null,null,"Percentage of total roadway segment crashes",null,null,null,null,null,null,null,null,null,null,null,null,null,null,null,null,null,null,null,null,null,null,"Shoulder Type","Shoulder width (ft)",null,null,null,null,null,null,null,null,null,null,null,null,"Edgelines (0.921)",0.92100000000000004,"Painted Left-turn channelization (0.670)",0.67,"Edgelines (0.921)",0.92100000000000004,null,0.92100000000000004,"Add left- or right-turn bypass lanes (0.850)",0.85,"Improve pavement friction (0.799)",0.79900000000000004,"Stop Control to Roundabout (0.560)",0.56000000000000005]
[null,null,null,null,"HSM-Provided Values",null,null,"Locally-Derived Values (Michigan)",null,null,null,null,null,null,null,null,null,null,null,null,null,null,null,null,null,null,null,null,0,1,2,3,4,5,6,7,8,null,null,null,null,"Wide (6\") Edgelines (0.929)",0.92900000000000005,"Raised/Curb Left-turn channelization (0.870)",0.87,"Wide (6\") Edgelines (0.929)",0.92900000000000005,null,0.92900000000000005,"Convert to roundabout (0.330)",0.33,"(4U) 4-lane to 3-lane Road Diet (0.71)",0.71,"Signalized Int. to Roundabout (0.520)",0.52]
[null,"Fatal",null,null,1.3,null,null,0.5,null,null,null,null,null,null,null,null,null,null,null,null,null,null,null,null,null,null,null,"Paved",1,1,1,1,1,{"$f":"+(AG9+AI9)/2","v":1},1,{"$f":"+(AI9+AK9)/2","v":1},1,null,null,null,null,"Shoulder Rumble Strips (0.840)",0.84,"Add left- or right-turn bypass lanes (0.950)",0.95,"Shoulder Rumble Strips (0.840)",0.84,null,0.84,"Improve pavement friction (3ST) (0.819)",0.81899999999999995,"(2U) Provide a raised median (0.61)",0.61,"Add 3\" Retroreflective Backplates (0.850)",0.85]
[null,"Incapacitating Injury",null,null,5.4,null,null,1.8,null,null,null,null,null,null,null,null,null,null,null,null,null,null,null,null,null,null,null,"Gravel",1,1,1.01,1.01,1.01,{"$f":"+(AG10+AI10)/2","v":1.0150000000000001},1.02,{"$f":"+(AI10+AK10)/2","v":1.02},1.02,null,null,null,null,"Improve pavement friction (0.799)",0.79900000000000004,"Install a traffic signal (0.560)",0.56000000000000005,"Improve pavement friction (0.799)",0.79900000000000004,null,0.79900000000000004,"Improve pavement friction (3SG) (0.667)",0.66700000000000004,"Upgrade signs with Clearview font only (0.742)",0.74199999999999999,"Add signal (add'l primary head) (0.720)",0.72]
[null,"Nonincapacitating Injury",null,null,10.9,null,null,3.3,null,null,null,null,null,null,null,null,null,null,null,null,null,null,null,null,null,null,null,"Composite",1,1.01,1.02,1.02,1.03,{"$f":"+(AG11+AI11)/2","v":1.0350000000000001},1.04,{"$f":"+(AI11+AK11)/2","v":1.05},1.06,null,null,null,null,"Upgrade signs with Clearview font only (0.670)",0.67,"Convert to roundabout from minor-road stop control (0.560)",0.56000000000000005,"Upgrade signs with Clearview font only (0.670)",0.67,null,0.67,"Improve pavement friction (4SG) (0.797)",0.79700000000000004,"Upgrade signs with fluorescent sheeting only (0.949)",0.97899999999999998,"Convert to roundabout from minor-road stop control (0.560)",0.56000000000000005]
[null,"Possible Injury",null,null,14.5,null,null,5.3,null,null,null,null,null,null,null,null,null,null,null,null,null,null,null,null,null,null,null,"Turf",1,1.01,1.03,1.04,1.05,{"$f":"+(AG12+AI12)/2","v":1.0649999999999999},1.08,{"$f":"+(AI12+AK12)/2","v":1.0950000000000002},1.1100000000000001,null,null,null,null,"Upgrade signs with fluorescent sheeting only (0..923)",0.92300000000000004,"Convert minor-road stop control to all-way (0.520)",0.52,"Upgrade signs with fluorescent sheeting only (0..923)",0.92300000000000004,null,0.92300000000000004,null,null,"Upgrade signs with both Clearview font and fluorescent sheeting (0.704)",0.70399999999999996,"Add flashing beacons at stop controlled intersections (0.950)",0.95]
[null,"Total Fatal Plus Injury",null,null,{"$f":"SUM(E9:E12)","v":32.1},null,null,{"$f":"SUM(H9:H12)","v":10.899999999999999},null,null,null,null,null,null,null,null,null,null,null,null,null,null,null,null,null,null,null,"Note: The values for composite shoulders in this exhibit represent a shoulder for which 50 percent of the shoulder width is paved and 50 percent of the shoulder width is turf.",null,null,null,null,null,null,null,null,null,null,null,null,null,"Upgrade signs with both Clearview font and fluorescent sheeting (0.726)",0.72599999999999998,"Add flashing beacons at stop controlled intersections (0.950)",0.95,"Upgrade signs with both Clearview font and fluorescent sheeting (0.726)",0.72599999999999998,null,0.72599999999999998,null,null,null,null,"Improve pavement friction (3ST) (0.819)",0.81899999999999995]
[null,"Property Damage Only",null,null,{"$f":"100-E13","v":67.900000000000006},null,null,{"$f":"100-H13","v":89.1},null,null,null,null,null,null,null,null,null,null,null,null,null,null,null,null,null,null,null,null,null,null,null,null,null,null,null,null,null,null,null,null,null,"Add Passing Lanes (0.670)",0.67,"Improve pavement friction (3ST) (0.819)",0.81899999999999995,null,null,null,null,null,null,null,null,"Improve pavement friction (3SG) (0.667)",0.66700000000000004]
[null,"TOTAL",null,null,{"$f":"SUM(E13:E14)","v":100},null,null,{"$f":"SUM(H13:H14)","v":100},null,null,null,null,null,null,null,null,null,null,null,null,null,null,null,null,null,null,null,null,null,null,null,null,null,null,null,null,null,null,null,null,null,"Centerline Rumble Strips (0.922)",0.92200000000000004,null,null,null,null,null,null,null,null,null,null,"Improve pavement friction (4SG) (0.797)",0.79700000000000004]
[null,"Note: HSM-provided crash severity data based on HSIS data for Washington (2002-2006)",null,null,null,null,null,null,null,null,null,null,null,null,null,null,null,null,null,null,null,null,null,null,null,null,null,"Table 10-13: CMF for Installation of Left-Turn Lanes on Intersection Approaches (CMF2i)",null,null,null,null,null,null,null,null,null,null,null,null,null,null,null,null,null,null,null,null,null,null,null,null,null,"Upgrade pedestrian signals to include countdown timer (0.946)",0.94599999999999995]
[]
[null,"Table 10-4: Default Distribution by Collision Type for Specific Crash Severity Levels on Rural Two-Lane Two-Way Roadway Segments plus Locally-Derived Values",null,null,null,null,null,null,null,null,null,null,null,null,null,null,null,null,null,null,null,null,null,null,null,null,null,"Intersection type",null,"Intersection traffic control",null,"Number of approaches with left-turn lanes a"]
[]
[null,null,null,null,"Percentage of total roadway segment crashes by crash severity level",null,null,null,null,null,null,null,null,null,null,null,null,null,null,null,null,null,null,null,null,null,null,null,null,null,null,1,2,3,4]
[null,null,null,null,"HSM-Provided Values",null,null,null,"Locally-Derived Values (Michigan)"]
[null,"Collision type",null,null,"Total fatal and injury","Property damage only","TOTAL (all severity levels combined)",null,"Total fatal and injury","Property damage only","TOTAL (all severity levels combined)",null,null,null,null,null,null,null,null,null,null,null,null,null,null,null,null,"Three-leg intersection",null,"Minor road stop control b",null,0.56000000000000005,0.31,0.31,0.31]
[]
[null,"SINGLE-VEHICLE CRASHES",null,null,null,null,null,null,null,null,null,null,null,null,null,null,null,null,null,null,null,null,null,null,null,null,null,"Four-leg intersection",null,"Minor road stop control b",null,0.72,0.52,0.52,0.52]
[null,"Collision with animal",null,null,3.8,18.399999999999999,12.1,null,14.2,74.400000000000006,68.5]
[null,"Collision with bicycle",null,null,0.4,0.1,0.2,null,0.9,0,0.1,null,null,null,null,null,null,null,null,null,null,null,null,null,null,null,null,null,null,"Traffic signal",null,0.82,0.67,0.55000000000000004,0.45]
[null,"Collision with pedestrian",null,null,0.7,0.1,0.3,null,1.3,0,0.2,null,null,null,null,null,null,null,null,null,null,null,null,null,null,null,null,"Note:","a Stop-controlled approaches are not considered in determing the number of approaches with left-turn lanes",null,null,null,null,null,null,null,null,null,null,null,null,"x",null,"x",null,"x",null,null,null,"x",null,"x"]
[null,"Overturned",null,null,3.7,1.5,2.5,null,16.2,2.5,4]
[null,"Ran off road",null,null,54.5,50.5,52.1,null,26.7,11.2,12.9,null,null,null,null,null,null,null,null,null,null,null,null,null,null,null,null,null,"b Stop signs present on minor road approaches only."]
[null,"Other single-vehicle crash",null,null,0.7,2.9,2.1,null,{"$f":"28-I29","v":1.3000000000000007},2.9,{"$f":"15.1-K29","v":2.1999999999999993}]
[null,"Total single-vehicle crashes",null,null,{"$f":"SUM(E25:E30)","v":63.800000000000004},{"$f":"SUM(F25:F30)","v":73.5},{"$f":"SUM(G25:H30)","v":69.3},null,{"$f":"SUM(I25:I30)","v":60.599999999999994},{"$f":"SUM(J25:J30)","v":91.000000000000014},{"$f":"SUM(K25:L30)","v":87.9}]
[null,"MULTIPLE-VEHICLE CRASHES",null,null,null,null,null,null,null,null,null,null,null,null,null,null,null,null,null,null,null,null,null,null,null,null,null,"Table 10-14: CMF for Installation of Right-Turn Lanes on Intersection Approaches (CMF3i)"]
[null,"Angle collision",null,null,10,7.2,8.5,null,4.3,0.8,1.1000000000000001]
[null,"Head-on collision",null,null,3.4,0.3,1.6,null,8.9,0.5,1.3,null,null,null,null,null,null,null,null,null,null,null,null,null,null,null,null,"Intersection type",null,"Intersection traffic control",null,"Number of approaches with left-turn lanes a"]
[null,"Rear-end collision",null,null,16.399999999999999,12.2,14.2,null,17.3,4,5.4]
[null,"Sideswipe collision",null,null,3.8,3.8,3.7,null,5.9,2.2000000000000002,2.6,null,null,null,null,null,null,null,null,null,null,null,null,null,null,null,null,null,null,null,null,1,2,3,4]
[null,"Other multiple-vehicle collision",null,null,2.6,3,2.7,null,3,1.5,1.7]
[null,"Total multiple-vehicle crashes",null,null,{"$f":"SUM(E33:E37)","v":36.199999999999996},{"$f":"SUM(F33:F37)","v":26.5},{"$f":"SUM(G33:H37)","v":30.699999999999996},null,{"$f":"SUM(I33:I37)","v":39.4},{"$f":"SUM(J33:J37)","v":9},{"$f":"SUM(K33:L37)","v":12.1},null,null,null,null,null,null,null,null,null,null,null,null,null,null,null,null,"Three-leg intersection",null,"Minor road stop control b",null,0.86,0.74,0.74,0.74]
[null,"TOTAL CRASHES",null,null,{"$f":"+E31+E38","v":100},{"$f":"+F31+F38","v":100},100,null,{"$f":"+I31+I38","v":100},{"$f":"+J31+J38","v":100.00000000000001},100]
[null,"Note:  HSM-provided values based on crash data for Washington (2002-2006); includes approximately 70 percent opposite-direction sideswipe and 30 percent same-direction sideswipe collisions.",null,null,null,null,null,null,null,null,null,null,null,null,null,null,null,null,null,null,null,null,null,null,null,null,null,"Four-leg intersection",null,"Minor road stop control b",null,0.86,0.74,0.74,0.74]
[]
[null,"Table 10-5: Default Distribution for Crash Severity Level at Rural Two-Lane Two-Way Intersections plus Locally-Derived Values",null,null,null,null,null,null,null,null,null,null,null,null,null,null,null,null,null,null,null,null,null,null,null,null,null,null,null,"Traffic signal",null,0.96,0.92,0.88,0.85]
[null,null,null,null,null,null,null,null,null,null,null,null,null,null,null,null,null,null,null,null,null,null,null,null,null,null,null,"Note:","a Stop-controlled approaches are not considered in determing the number of approaches with right-turn lanes"]
[null,"Collision type",null,null,"Percentage of total crashes"]
[null,null,null,null,"HSM-Provided Values",null,null,null,null,null,"Locally-Derived Values",null,null,null,null,null,null,null,null,null,null,null,null,null,null,null,null,null,"b Stop signs present on minor road approaches only."]
[null,null,null,null,"3ST",null,"4ST",null,"4SG",null,"3ST",null,"4ST",null,"4SG",null,"3SG"]
[null,null,null,null,null,null,null,null,null,null,null,null,null,null,null,null,null,null,null,null,null,null,null,null,null,null,null,"Table 12-24: Crash Modification Factor (CMF1i) for Installation of Left-Turn Lanes on Intersection Approaches"]
[]
[null,"Fatal",null,null,1.7,null,1.8,null,0.9,null,0.5,null,1.1000000000000001,null,0.3,null,0.3,null,null,null,null,null,null,null,null,null,null,"Intersection Type","Intersection traffic control",null,"Number of approaches with left-turn lanes a"]
[null,"Incapacitating injury",null,null,4,null,4.3,null,2.1,null,2.7,null,4.2,null,1.9,null,2.4]
[null,"Nonincapacitating injury",null,null,16.600000000000001,null,16.2,null,10.5,null,5.8,null,7.6,null,5.3,null,4.2,null,null,null,null,null,null,null,null,null,null,null,null,null," One  approach","Two approaches","Three approaches","Four approaches"]
[null,"Possible injury",null,null,19.2,null,20.8,null,20.5,null,11.1,null,14.6,null,15.5,null,13.9]
[null,"Total fatal plus injury",null,null,{"$f":"SUM(E49:E52)","v":41.5},null,{"$f":"SUM(G49:G52)","v":43.099999999999994},null,{"$f":"SUM(I49:I52)","v":34},null,{"$f":"SUM(K49:K52)","v":20.100000000000001},null,{"$f":"SUM(M49:M52)","v":27.5},null,{"$f":"SUM(O49:O52)","v":23},null,{"$f":"SUM(Q49:Q52)","v":20.8},null,null,null,null,null,null,null,null,null,null,"3ST","Minor-road STOP controlb",null,0.67,0.45,"--","--"]
[null,"Property damage only",null,null,{"$f":"100-E53","v":58.5},null,{"$f":"100-G53","v":56.900000000000006},null,{"$f":"100-I53","v":66},null,{"$f":"100-K53","v":79.900000000000006},null,{"$f":"100-M53","v":72.5},null,{"$f":"100-O53","v":77},null,{"$f":"100-Q53","v":79.2},null,null,null,null,null,null,null,null,null,null,"3SG","Traffic signal",null,0.93,0.86,0.8,0.8]
[null,"TOTAL",null,null,{"$f":"SUM(E53:E54)","v":100},null,{"$f":"SUM(G53:G54)","v":100},null,{"$f":"SUM(I53:I54)","v":100},null,{"$f":"SUM(K53:K54)","v":100},null,{"$f":"SUM(M53:M54)","v":100},null,{"$f":"SUM(O53:O54)","v":100},null,{"$f":"SUM(Q53:Q54)","v":100},null,null,null,null,null,null,null,null,null,null,"4ST","Minor-road STOP controla",null,0.73,0.53,"--","--"]
[null,"Note:  HSM-Provided values based on HSIS data for California (2002-2006)",null,null,null,null,null,null,null,null,null,null,null,null,null,null,null,null,null,null,null,null,null,null,null,null,null,"4SG","Traffic signal",null,0.9,0.81,0.73,0.66]
[null,null,null,null,null,null,null,null,null,null,null,null,null,null,null,null,null,null,null,null,null,null,null,null,null,null,null,"a STOP-controlled approaches are not considered in determining the number of approaches with left-turn lanes."]
[null,"Table 10-6: Default Distribution for Collision Type and Manner of Collision at Rural Two-Way Intersections plus Locally-Derived Values",null,null,null,null,null,null,null,null,null,null,null,null,null,null,null,null,null,null,null,null,null,null,null,null,null,"b Stop signs present on minor-road approaches only."]
[]
[null,"Collision type",null,null,"Percentage of total crashes by collision type ( HSM Default Values)",null,null,null,null,null,null,null,null,"Percentage of total crashes by collision type (Locally Derived Values)"]
[null,null,null,null,"Three-leg stop-controlled intersections",null,null,"Four-leg stop-controlled intersections",null,null,"Four-leg signalized intersections",null,null,"Three-leg stop-controlled intersections",null,null,"Four-leg stop-controlled intersections",null,null,"Four-leg signalized intersections",null,null,"Three-leg signalized intersections"]
[null,null,null,null,null,null,null,null,null,null,null,null,null,null,null,null,null,null,null,null,null,null,null,null,null,null,null,"Table 12-26: Crash Modification Factor (CMF3i) for Installation of Right-Turn Lanes on Intersection Approaches"]
[null,null,null,null,"Fatal and Injury","Property damage only","Total","Fatal and injury","Property damage only","Total","Fatal and injury","Property damage only","Total","Fatal and Injury","Property damage only","Total","Fatal and injury","Property damage only","Total","Fatal and injury","Property damage only","Total","Fatal and injury","Property damage only","Total"]
[null,null,null,null,null,null,null,null,null,null,null,null,null,null,null,null,null,null,null,null,null,null,null,null,null,null,null,"Intersection Type","Intersection traffic control",null,"Number of approaches with right-turn lanes a"]
[null,"SINGLE-VEHICLE CRASHES",null,null,null,null,null,null,null,null,null,null,null,"SINGLE-VEHICLE CRASHES"]
[null,"Collision with animal",null,null,0.8,2.6,1.9,0.6,1.4,1,0,0.3,0.2,2,32.299999999999997,26.1,1.2,29,21.3,0,3.9,3,0,7,5.6,null,null,null,null,null," One  approach","Two approaches","Three approaches","Four approaches"]
[null,"Collision with bicycle",null,null,0.1,0.1,0.1,0.1,0.1,0.1,0.1,0.1,0.1,0.6,0,0.1,0.3,0,0.1,2.2000000000000002,0.1,0.6,1.7,0.4,0.7]
[null,"Collision with pedestrian",null,null,0.1,0.1,0.1,0.1,0.1,0.1,0.1,0.1,0.1,0.4,0,0.1,0.8,0,0.3,4.5999999999999996,0.1,1.2,3.3,0.1,0.7,null,null,"3ST","Minor-road STOP controlb",null,0.86,0.74,"--","--"]
[null,"Overturned",null,null,2.2000000000000002,0.7,1.3,0.6,0.4,0.5,0.3,0.3,0.3,7.9,2.2000000000000002,3.4,2.6,1.5,1.8,1,0.1,0.4,0,0.9,0.7,null,null,"3SG","Traffic signal",null,0.96,0.92,"--","--"]
[null,"Ran off road",null,null,24,24.7,24.4,9.4,14.4,12.2,3.2,8.1,6.4,18.8,17.7,17.899999999999999,7,11.8,11,3.7,5,4.7,3.7,5,4.7,null,null,"4ST","Minor-road STOP controla",null,0.86,0.74,"--","--"]
[null,"Other single-vehicle crash",null,null,1.1000000000000001,2,1.6,0.4,1,0.8,0.3,1.8,0.5,{"$f":"32.9-18.8","v":14.099999999999998},{"$f":"28.1-17.7","v":10.400000000000002},{"$f":"29.1-17.9","v":11.200000000000003},0,{"$f":"14.4-R70","v":2.5999999999999996},1.4,{"$f":"3.9-T70","v":0.19999999999999973},{"$f":"6.3-U70","v":1.2999999999999998},0.9,{"$f":"6.7-W70","v":3},{"$f":"6.6-X70","v":1.5999999999999996},{"$f":"6.6-Y70","v":1.8999999999999995},null,null,"4SG","Traffic signal",null,0.96,0.92,0.88,0.85]
[null,"Total single-vehicle crashes",null,null,{"$f":"SUM(E66:E71)","v":28.3},30.2,29.4,11.200000000000001,17.399999999999999,14.7,4,10.700000000000001,7.6000000000000005,43.8,62.600000000000009,58.800000000000004,11.9,44.9,35.9,11.7,10.5,10.8,11.7,15,14.3,null,null,"a STOP-controlled approaches are not considered in determining the number of approaches with right-turn lanes."]
[null,"MULTIPLE-VEHICLE CRASHES",null,null,null,null,null,null,null,null,null,null,null,"MULTIPLE-VEHICLE CRASHES",null,null,null,null,null,null,null,null,null,null,null,null,null,"b Stop signs present on minor-road approaches only."]
[null,"Angle collision",null,null,27.5,21,23.7,53.2,35.4,43.1,33.6,24.2,27.4,19.3,8.4,10.6,53.8,21.1,30,42.2,22.5,27,16.7,10,11.5]
[null,"Head-on collision",null,null,8.1,3.2,5.2,6,2.5,4,8,4,5.4,9.3000000000000007,1.7,3.2,9.1,2,4,16.3,6.7,8.9,11.7,5.3,6.6,null,null,"Table 12-19: Values of fpk Used in Determing the CMF for On-Street Parking"]
[null,"Rear-end collision",null,null,26,29.2,27.8,21,26.6,24.2,40.299999999999997,43.8,42.6,19.600000000000001,17.899999999999999,18.3,19.3,20.100000000000001,19.8,23.8,40.6,36.700000000000003,53.3,52,52.3]
[null,"Sideswipe collision",null,null,5.0999999999999996,13.1,9.6999999999999993,4.4000000000000004,14.4,10.1,5.0999999999999996,15.3,11.8,5.3,5.7,5.6,3.4,7.4,6.3,3.1,14.3,11.7,3.3,13.7,11.5,null,null,"Road Type","Type of Parking and Land Use"]
[null,"Other multiple-vehicle collision",null,null,5,3.3,4.2,4.2,3.7,3.9,9,2,5.2,2.7,3.7,3.5,2.5,4.5,4,2.9,5.4,4.9000000000000004,3.3,4,3.8,null,null,null,"Parallel Parking",null,"Angle Parking"]
[null,"Total multiple-vehicle crashes",null,null,{"$f":"SUM(E74:E78)","v":71.7},69.8,70.600000000000009,88.800000000000011,82.600000000000009,85.3,96,89.3,92.4,56.2,37.400000000000006,41.2,88.100000000000009,55.1,64.099999999999994,88.3,89.5,89.2,{"$f":"SUM(W74:W78)","v":88.299999999999983},{"$f":"SUM(X74:X78)","v":85},{"$f":"SUM(Y74:Y78)","v":85.7},null,null,null,"Residential/  Other","Commercial or Industrial/ Institutional","Residential/  Other","Commercial or Industrial/ Institutional"]
[null,"TOTAL CRASHES",null,null,{"$f":"+E72+E79","v":100},100,100,100.00000000000001,100,100,100,100,100,100,100.00000000000001,100,100.00000000000001,100,100,100,100,100,{"$f":"+W72+W79","v":99.999999999999986},{"$f":"+X72+X79","v":100},{"$f":"+Y72+Y79","v":100}]
[null,"Note:  HSM-Provided values based on HSIS data for California (2002-2006)"]
[null,null,null,null,null,null,null,null,null,null,null,null,null,null,null,null,null,null,null,null,null,null,null,null,null,null,null,"2U",1.4650000000000001,2.0739999999999998,3.4279999999999999,4.8529999999999998]
[null,"Table 10-12: Nighttime Crash Proportions for Unlighted Roadway Segments plus Locally-Derived Values",null,null,null,null,null,null,null,null,null,null,null,null,null,null,null,null,null,null,null,null,null,null,null,null,null,"3T",1.4650000000000001,2.0739999999999998,3.4279999999999999,4.8529999999999998]
[null,null,null,null,null,null,null,null,null,null,null,null,null,null,null,null,null,null,null,null,null,null,null,null,null,null,null,"4U",1.1000000000000001,1.7090000000000001,2.5739999999999998,3.9990000000000001]
[null,"Roadway Type","HSM Default Values",null,null,null,null,null,"Locally Derived Values",null,null,null,null,null,null,null,null,null,null,null,null,null,null,null,null,null,null,"4D",1.1000000000000001,1.7090000000000001,2.5739999999999998,3.9990000000000001]
[null,null,null,null,null,"Proportion of crashes that occur at night",null,null,"Proportion of total nighttime crashes by severity level",null,null,"Proportion of crashes that occur at night",null,null,null,null,null,null,null,null,null,null,null,null,null,null,null,"5T",1.1000000000000001,1.7090000000000001,2.5739999999999998,3.9990000000000001]
[null,null,"Proportion of total nighttime crashes by severity level"]
[null,null,null,null,null,null,null,null,null,null,null,null,null,null,null,null,null,null,null,null,null,null,null,null,null,null,null,"Table 12-20: Fixed-Object Offset Factor"]
[null,null,"Fatal and Injury pinr",null,"PDO ppnr","pnr",null,null,"Fatal and Injury pinr",null,"PDO ppnr","pnr"]
[null,"2U",0.38200000000000001,null,0.61799999999999999,0.37,null,null,0.27,null,0.65,0.46300000000000002,null,null,null,null,null,null,null,null,null,null,null,null,null,null,null,"Offset to fixed objects",null,"Fixed-Object Offset Factor"]
[null,"Note:  HSM-provided values based on HSIS data for Washington (2002-2006)",null,null,null,null,null,null,null,null,null,null,null,null,null,null,null,null,null,null,null,null,null,null,null,null,null,"(Ofo) (ft)",null,"(foffset)"]
[null,null,null,null,null,null,null,null,null,null,null,null,null,null,null,null,null,null,null,null,null,null,null,null,null,null,null,2,null,0.23200000000000001]
[null,"Table 10-15: Nighttime Crash Proportions for Unlighted Intersections",null,null,null,null,null,null,null,null,null,null,null,null,null,null,null,null,null,null,null,null,null,null,null,null,null,5,null,0.13300000000000001]
[null,null,null,null,null,null,null,null,null,null,null,null,null,null,null,null,null,null,null,null,null,null,null,null,null,null,null,10,null,8.6999999999999994E-2]
[null,"Intersection Type",null,null,"Proportion of crashes that occur at night, pni",null,null,null,null,null,null,null,null,null,null,null,null,null,null,null,null,null,null,null,null,null,null,15,null,6.8000000000000005E-2]
[null,null,null,null,"HSM Provided Values",null,"Locally-Derived Values",null,null,null,null,null,null,null,null,null,null,null,null,null,null,null,null,null,null,null,null,20,null,5.7000000000000002E-2]
[null,"3ST",null,null,0.26,null,0.248,null,null,null,null,null,null,null,null,null,null,null,null,null,null,null,null,null,null,null,null,25,null,4.9000000000000002E-2]
[null,"4ST",null,null,0.24399999999999999,null,0.20799999999999999,null,null,null,null,null,null,null,null,null,null,null,null,null,null,null,null,null,null,null,null,"≥ 30",null,4.3999999999999997E-2]
[null,"4SG",null,null,0.28599999999999998,null,0.188,null,null,null,null,null,null,null,null,null,null,null,null,null,null,null,null,null,null,null,null,"Note:  Values from 2 to 30 can be estimated using the following equation:"]
[null,"Note:  HSM-Provided values based on HSIS data for California (2002-2006)"]
[null,null,null,null,null,null,null,null,null,null,null,null,null,null,null,null,null,null,null,null,null,null,null,null,null,null,null,"y=0.3566 x-0.614"]
[null,"Table 12-11: Distribution of Multiple-Vehicle Collisions for Intersections by Collision Type"]
[]
[null,null,null,"Proportion of crashes by severity level for specific intersection types",null,null,null,null,null,null,null,null,null,null,null,null,null,null,null,null,null,null,null,null,null,null,null,"Table 12-22: CMFs for Median Widths on Divided Roadway Segments without a Median Barrier (CMF3r)"]
[null,null,null,"HSM-Provided Values"]
[null,"Collision type",null,"3ST",null,"3SG",null,"4ST",null,"4SG"]
[null,null,null,"FI","PDO","FI","PDO","FI","PDO","FI","PDO"]
[null,"Rear-end collision",null,0.42099999999999999,0.44,0.54900000000000004,0.54600000000000004,0.33800000000000002,0.374,0.45,0.48299999999999998,null,null,null,null,null,null,null,null,null,null,null,null,null,null,null,null,"Median Width (ft)",null,"CMF"]
[null,"Head-on collision",null,4.4999999999999998E-2,2.3E-2,3.7999999999999999E-2,0.02,4.1000000000000002E-2,0.03,4.9000000000000002E-2,0.03,null,null,null,null,null,null,null,null,null,null,null,null,null,null,null,null,10,null,1.01]
[null,"Angle collision",null,0.34300000000000003,0.26200000000000001,0.28000000000000003,0.20399999999999999,0.44,0.33500000000000002,0.34699999999999998,0.24399999999999999,null,null,null,null,null,null,null,null,null,null,null,null,null,null,null,null,15,null,1]
[null,"Sideswipe",null,0.126,0.04,7.5999999999999998E-2,3.2000000000000001E-2,0.121,4.3999999999999997E-2,9.9000000000000005E-2,3.2000000000000001E-2,null,null,null,null,null,null,null,null,null,null,null,null,null,null,null,null,20,null,0.99]
[null,"Other multiple-vehicle collision",null,6.5000000000000002E-2,0.23499999999999999,5.7000000000000002E-2,0.19800000000000001,0.06,0.217,5.5E-2,0.21099999999999999,null,null,null,null,null,null,null,null,null,null,null,null,null,null,null,null,30,null,0.98]
[null,"Source: HSIS data for Washington (2002-2006)",null,null,null,null,null,null,null,null,null,null,null,null,null,null,null,null,null,null,null,null,null,null,null,null,null,40,null,0.97]
[null,"Collision type",null,"Locally-Derived Values",null,null,null,null,null,null,null,null,null,null,null,null,null,null,null,null,null,null,null,null,null,null,null,50,null,0.96]
[null,null,null,"3ST",null,"3SG",null,"4ST",null,"4SG",null,null,null,null,null,null,null,null,null,null,null,null,null,null,null,null,null,60,null,0.95]
[null,null,null,"FI","PDO","FI","PDO","FI","PDO","FI","PDO",null,null,null,null,null,null,null,null,null,null,null,null,null,null,null,null,70,null,0.94]
[null,"Rear-end collision",null,0.51800000000000002,0.46400000000000002,0.59799999999999998,0.57499999999999996,0.33800000000000002,0.36099999999999999,0.46899999999999997,0.49299999999999999,null,null,null,null,null,null,null,null,null,null,null,null,null,null,null,null,80,null,0.93]
[null,"Head-on collision",null,8.5000000000000006E-2,2.5999999999999999E-2,9.5000000000000001E-2,0.03,8.5999999999999993E-2,3.4000000000000002E-2,9.9000000000000005E-2,3.7999999999999999E-2,null,null,null,null,null,null,null,null,null,null,null,null,null,null,null,null,90,null,0.93]
[null,"Angle collision",null,0.24399999999999999,0.17100000000000001,0.20799999999999999,0.13900000000000001,0.44600000000000001,0.28499999999999998,0.33500000000000002,0.19400000000000001,null,null,null,null,null,null,null,null,null,null,null,null,null,null,null,null,100,null,0.92]
[null,"Sideswipe",null,9.0999999999999998E-2,0.254,6.3E-2,0.20599999999999999,7.9000000000000001E-2,0.22500000000000001,5.7000000000000002E-2,0.20899999999999999]
[null,"Other multiple-vehicle collision",null,6.0999999999999999E-2,8.5000000000000006E-2,3.6999999999999998E-2,0.05,0.05,9.5000000000000001E-2,0.04,6.5000000000000002E-2]
[null,"Note:  HSM-Provided values based on HSIS data for California (2002-2006)",null,null,null,null,null,null,null,null,null,null,null,null,null,null,null,null,null,null,null,null,null,null,null,null,null,"Tables Affiliated with SPF Computation:"]
[]
[null,null,null,null,null,null,null,null,null,null,null,null,null,null,null,null,null,null,null,null,null,null,null,null,null,null,null,"Table 12-10: SPF Coefficients for Multiple-Vehicle Collisions at Intersections"]
[null,"Table 12-13: Distribution of Single-Vehicle Crashes for Intersections by Collision Type"]
[null,null,null,null,null,null,null,null,null,null,null,null,null,null,null,null,null,null,null,null,null,null,null,null,null,null,null,"Intersection type","Coefficients use in Eqn. 12-21",null,null,"Overdispersion    parameter     (k)"]
[null,null,null,"Proportion of crashes by severity level for specific intersection types",null,null,null,null,null,null,null,null,null,null,null,null,null,null,null,null,null,null,null,null,null,null,null,null,"Intercept","AADTmaj","AADTmin"]
[null,null,null,"HSM-Provided Values",null,null,null,null,null,null,null,null,null,null,null,null,null,null,null,null,null,null,null,null,null,null,null,null,"(a)","(b)","(c)"]
[null,"Collision type",null,"3ST",null,"3SG",null,"4ST",null,"4SG",null,null,null,null,null,null,null,null,null,null,null,null,null,null,null,null,null,"Total crashes"]
[null,null,null,"FI","PDO","FI","PDO","FI","PDO","FI","PDO",null,null,null,null,null,null,null,null,null,null,null,null,null,null,null,null,"3ST",-13.36,1.1100000000000001,0.41,0.8]
[null,"Collision with parked vehicle",null,1E-3,3.0000000000000001E-3,1E-3,1E-3,1E-3,1E-3,1E-3,1E-3,null,null,null,null,null,null,null,null,null,null,null,null,null,null,null,null,"3SG",-12.13,1.1100000000000001,0.26,0.33]
[null,"Collision with animal",null,3.0000000000000001E-3,1.7999999999999999E-2,1E-3,3.0000000000000001E-3,1E-3,2.5999999999999999E-2,2E-3,2E-3,null,null,null,null,null,null,null,null,null,null,null,null,null,null,null,null,"4ST",-8.9,0.82,0.25,0.4]
[null,"Collision with fixed object",null,0.76200000000000001,0.83409999999999995,0.65300000000000002,0.89500000000000002,0.67900000000000005,0.84699999999999998,0.74399999999999999,0.87,null,null,null,null,null,null,null,null,null,null,null,null,null,null,null,null,"4SG",-10.99,1.07,0.23,0.39]
[null,"Collision with other object",null,0.09,9.1999999999999998E-2,9.0999999999999998E-2,6.9000000000000006E-2,8.8999999999999996E-2,7.0000000000000007E-2,7.1999999999999995E-2,7.0000000000000007E-2,null,null,null,null,null,null,null,null,null,null,null,null,null,null,null,null,"Fatal-and-injury crashes"]
[null,"Other single-vehicle collision",null,3.9E-2,2.3E-2,4.4999999999999998E-2,1.7999999999999999E-2,5.0999999999999997E-2,7.0000000000000001E-3,0.04,2.3E-2,null,null,null,null,null,null,null,null,null,null,null,null,null,null,null,null,"3ST",-14.01,1.1599999999999999,0.3,0.69]
[null,"Noncollision",null,0.105,0.03,0.20899999999999999,1.4E-2,0.17899999999999999,4.9000000000000002E-2,0.14099999999999999,3.4000000000000002E-2,null,null,null,null,null,null,null,null,null,null,null,null,null,null,null,null,"3SG",-11.58,1.02,0.17,0.3]
[null,"Source: HSM-Provided values base on HSIS data for California (2002-2006)",null,null,null,null,null,null,null,null,null,null,null,null,null,null,null,null,null,null,null,null,null,null,null,null,null,"4ST",-11.13,0.93,0.28000000000000003,0.48]
[null,"Collision type",null,"Locally-Derived Values",null,null,null,null,null,null,null,null,null,null,null,null,null,null,null,null,null,null,null,null,null,null,null,"4SG",-13.14,1.18,0.22,0.33]
[null,null,null,"3ST",null,"3SG",null,"4ST",null,"4SG",null,null,null,null,null,null,null,null,null,null,null,null,null,null,null,null,null,"Property-damage-only crashes"]
[null,null,null,"FI","PDO","FI","PDO","FI","PDO","FI","PDO",null,null,null,null,null,null,null,null,null,null,null,null,null,null,null,null,"3ST",-15.38,1.2,0.51,0.77]
[null,"Collision with parked vehicle",null,2E-3,1E-3,0,2E-3,2E-3,0,0,1E-3,null,null,null,null,null,null,null,null,null,null,null,null,null,null,null,null,"3SG",-13.24,1.1399999999999999,0.3,0.36]
[null,"Collision with animal",null,4.2000000000000003E-2,0.41499999999999998,1.7000000000000001E-2,0.254,3.6999999999999998E-2,0.39,0.03,0.18,null,null,null,null,null,null,null,null,null,null,null,null,null,null,null,null,"4ST",-8.74,0.77,0.23,0.4]
[null,"Collision with fixed object",null,0.70099999999999996,0.46899999999999997,0.72899999999999998,0.58899999999999997,0.69699999999999995,0.499,0.69699999999999995,0.64100000000000001,null,null,null,null,null,null,null,null,null,null,null,null,null,null,null,null,"4SG",-11.02,1.02,0.24,0.44]
[null,"Collision with other object",null,1.9E-2,3.5999999999999997E-2,8.0000000000000002E-3,0.05,2.5000000000000001E-2,0.04,8.9999999999999993E-3,5.5E-2]
[null,"Other single-vehicle collision",null,0.13300000000000001,6.0999999999999999E-2,0.158,0.08,0.126,5.3999999999999999E-2,0.17899999999999999,0.107,null,null,null,null,null,null,null,null,null,null,null,null,null,null,null,null,"Table 12-12: SPF Coefficients for Single-Vehicle Crashes at Intersections"]
[null,"Noncollision",null,0.104,1.7999999999999999E-2,8.7999999999999995E-2,2.5000000000000001E-2,0.114,1.7999999999999999E-2,8.4000000000000005E-2,1.6E-2]
[null,null,null,null,null,null,null,null,null,null,null,null,null,null,null,null,null,null,null,null,null,null,null,null,null,null,null,"Intersection type","Coefficients use in Eqn. 12-24",null,null,"Overdispersion    parameter     (k)"]
[null,null,null,null,null,null,null,null,null,null,null,null,null,null,null,null,null,null,null,null,null,null,null,null,null,null,null,null,"Intercept","AADTmaj","AADTmin"]
[null,null,null,null,null,null,null,null,null,null,null,null,null,null,null,null,null,null,null,null,null,null,null,null,null,null,null,null,"(a)","(b)","(c)"]
[null,"Table 12-27: Nighttime Crash Proportions for Unlighted Intersections",null,null,null,null,null,null,null,null,null,null,null,null,null,null,null,null,null,null,null,null,null,null,null,null,null,"Total crashes"]
[null,null,null,null,null,null,null,null,null,null,null,null,null,null,null,null,null,null,null,null,null,null,null,null,null,null,null,"3ST",-6.81,0.16,0.51,1.1399999999999999]
[null,null,null,"Proportion of crashes that occur at night, pni",null,null,null,null,null,null,null,null,null,null,null,null,null,null,null,null,null,null,null,null,null,null,null,"3SG",-9.02,0.42,0.4,0.36]
[null,null,null,"HSM-Provided Values",null,"Locally-Derived Values",null,null,null,null,null,null,null,null,null,null,null,null,null,null,null,null,null,null,null,null,null,"4ST",-5.33,0.33,0.12,0.65]
[null,"Intersection Type",null,null,null,null,null,null,null,null,null,null,null,null,null,null,null,null,null,null,null,null,null,null,null,null,null,"4SG",-10.210000000000001,0.68,0.27,0.36]
[null,"3ST",null,0.23799999999999999,null,0.23799999999999999,null,null,"Replace these values with Michigan-Specific!",null,null,null,null,null,null,null,null,null,null,null,null,null,null,null,null,null,null,"Fatal-and-injury crashes"]
[null,"4ST",null,0.22900000000000001,null,0.22900000000000001,null,null,null,null,null,null,null,null,null,null,null,null,null,null,null,null,null,null,null,null,null,"3ST","--","--","--","--"]
[null,"3SG",null,0.23499999999999999,null,0.23499999999999999,null,null,null,null,null,null,null,null,null,null,null,null,null,null,null,null,null,null,null,null,null,"3SG",-9.75,0.27,0.51,0.24]
[null,"4SG",null,0.23499999999999999,null,0.23499999999999999,null,null,null,null,null,null,null,null,null,null,null,null,null,null,null,null,null,null,null,null,null,"4ST","--","--","--","--"]
[null,null,null,null,null,null,null,null,null,null,null,null,null,null,null,null,null,null,null,null,null,null,null,null,null,null,null,"4SG",-9.25,0.43,0.28999999999999998,0.09]
[null,null,null,null,null,null,null,null,null,null,null,null,null,null,null,null,null,null,null,null,null,null,null,null,null,null,null,"Property-damage-only crashes"]
[null,"Table 12-4: Distribution of Multiple-Vehicle Nondriveway Collisions for Roadway Segments by Manner of Collision Type",null,null,null,null,null,null,null,null,null,null,null,null,null,null,null,null,null,null,null,null,null,null,null,null,null,"3ST",-8.36,0.25,0.55000000000000004,1.29]
[null,null,null,null,null,null,null,null,null,null,null,null,null,null,null,null,null,null,null,null,null,null,null,null,null,null,null,"3SG",-9.08,0.45,0.33,0.53]
[null,null,null,"Proportion of crashes by severity level for specific road types",null,null,null,null,null,null,null,null,null,null,null,null,null,null,null,null,null,null,null,null,null,null,null,"4ST",-7.04,0.36,0.25,0.54]
[null,null,null,"HSM-Provided Values",null,null,null,null,null,null,null,null,null,null,null,null,null,null,null,null,null,null,null,null,null,null,null,"4SG",-11.34,0.78,0.25,0.44]
[null,"Collision type",null,"2U",null,"3T",null,"4U",null,"4D",null,"5T",null,null,null,null,null,null,null,null,null,null,null,null,null,null,null,"Note:  Where no models are available, Equations 12-27 is used."]
[null,null,null,"FI","PDO","FI","PDO","FI","PDO","FI","PDO","FI","PDO",null,null,null,null,null,null,null,null,null,null,null,null,null,null,"Equation 12-27:"]
[null,"Rear-end collision",null,0.73,0.77800000000000002,0.84499999999999997,0.84199999999999997,0.51100000000000001,0.50600000000000001,0.83199999999999996,0.66200000000000003,0.84599999999999997,0.65100000000000002,null,null,null,null,null,null,null,null,null,null,null,null,null,null,"Nbisv(FI) = Nbisv(TOTAL) x fbisv"]
[null,"Head-on collision",null,6.8000000000000005E-2,4.0000000000000001E-3,3.4000000000000002E-2,0.02,7.6999999999999999E-2,4.0000000000000001E-3,0.02,7.0000000000000001E-3,2.1000000000000001E-2,4.0000000000000001E-3]
[null,"Angle collision",null,8.5000000000000006E-2,7.9000000000000001E-2,6.9000000000000006E-2,0.02,0.18099999999999999,0.13,0.04,3.5999999999999997E-2,0.05,5.8999999999999997E-2,null,null,null,null,null,null,null,null,null,null,null,null,null,null,"Table 12-14: SPF for Vehicle-Pedestrian Collisions at Signalized Intersections"]
[null,"Sideswipe, same direction",null,1.4999999999999999E-2,3.1E-2,1E-3,7.8E-2,9.2999999999999999E-2,0.249,0.05,0.223,6.0999999999999999E-2,0.248]
[null,"Sideswipe, opposite direction",null,7.2999999999999995E-2,5.5E-2,1.7000000000000001E-2,0.02,8.2000000000000003E-2,3.1E-2,0.01,1E-3,4.0000000000000001E-3,8.9999999999999993E-3,null,null,null,null,null,null,null,null,null,null,null,null,null,null,"Intersection type","Coefficients use in Eqn. 12-29",null,null,null,null,"Overdispersion    parameter     (k)"]
[null,"Other multiple-vehicle collision",null,2.9000000000000001E-2,5.2999999999999999E-2,3.4000000000000002E-2,0.02,5.6000000000000001E-2,0.08,4.8000000000000001E-2,7.0999999999999994E-2,1.7999999999999999E-2,2.9000000000000001E-2,null,null,null,null,null,null,null,null,null,null,null,null,null,null,null,"Intercept","AADTtot","AADTmin/AADTmaj","PedVol","nlanesx"]
[null,"Source: HSIS data for Washington (2002-2006)",null,null,null,null,null,null,null,null,null,null,null,null,null,null,null,null,null,null,null,null,null,null,null,null,null,null,"(a)","(b)","(c)","(d)","(e)"]
[null,"Collision type",null,"Locally-Derived Values",null,null,null,null,null,null,null,null,null,null,null,null,null,null,null,null,null,null,null,null,null,null,null,"Total crashes"]
[null,null,null,"2U",null,"3T",null,"4U",null,"4D",null,"5T",null,null,null,null,null,null,null,null,null,null,null,null,null,null,null,"3SG",-6.6,0.05,0.24,0.41,0.09,0.52]
[null,null,null,"FI","PDO","FI","PDO","FI","PDO","FI","PDO","FI","PDO",null,null,null,null,null,null,null,null,null,null,null,null,null,null,"4SG",-9.5299999999999994,0.4,0.26,0.45,0.04,0.24]
[null,"Rear-end collision",null,0.46800000000000003,0.53400000000000003,0.51500000000000001,0.52700000000000002,0.45500000000000002,0.47,0.58799999999999997,0.55300000000000005,0.48399999999999999,0.51500000000000001]
[null,"Head-on collision",null,0.14099999999999999,4.5999999999999999E-2,0.126,5.1999999999999998E-2,0.14499999999999999,5.6000000000000001E-2,2.3E-2,8.0000000000000002E-3,0.13400000000000001,4.9000000000000002E-2]
[null,"Angle collision",null,0.28299999999999997,0.20499999999999999,0.27800000000000002,0.215,0.30299999999999999,0.219,0.28199999999999997,0.157,0.29399999999999998,0.19400000000000001,null,null,null,null,null,null,null,null,null,null,null,null,null,null,"Table 12-3: SPF Coefficients for Multiple-Vehicle Nondriveway Collisions on Roadway Segments"]
[null,"Sideswipe, same direction",null,3.1E-2,0.125,2.7E-2,0.13500000000000001,4.3999999999999997E-2,0.192,6.9000000000000006E-2,0.23499999999999999,4.2000000000000003E-2,0.185]
[null,"Sideswipe, opposite direction",null,3.3000000000000002E-2,3.6999999999999998E-2,1.9E-2,0.03,1.6E-2,2.8000000000000001E-2,6.0000000000000001E-3,1.0999999999999999E-2,1.4999999999999999E-2,2.1999999999999999E-2,null,null,null,null,null,null,null,null,null,null,null,null,null,null,"Road type","Coefficients use in Eqn. 12-10",null,"Overdispersion    parameter     (k)"]
[null,"Other multiple-vehicle collision",null,4.3999999999999997E-2,5.2999999999999999E-2,3.5999999999999997E-2,4.1000000000000002E-2,3.5999999999999997E-2,3.5000000000000003E-2,3.3000000000000002E-2,3.5999999999999997E-2,3.1E-2,3.5000000000000003E-2,null,null,null,null,null,null,null,null,null,null,null,null,null,null,null,"Intercept","AADT"]
[null,"Note:  HSM-Provided values based on HSIS data for Washington (2002-2006)",null,null,null,null,null,null,null,null,null,null,null,null,null,null,null,null,null,null,null,null,null,null,null,null,null,null,"(a)","(b)"]
[null,null,null,null,null,null,null,null,null,null,null,null,null,null,null,null,null,null,null,null,null,null,null,null,null,null,null,"Total crashes"]
[null,null,null,null,null,null,null,null,null,null,null,null,null,null,null,null,null,null,null,null,null,null,null,null,null,null,null,"2U",-15.22,1.68,0.84]
[null,"Table 12-6: Distribution of Single-Vehicle Collisions for Roadway Segments by Collision Type",null,null,null,null,null,null,null,null,null,null,null,null,null,null,null,null,null,null,null,null,null,null,null,null,null,"3T",-12.4,1.41,0.66]
[null,null,null,null,null,null,null,null,null,null,null,null,null,null,null,null,null,null,null,null,null,null,null,null,null,null,null,"4U",-11.63,1.33,1.01]
[null,null,null,"Proportion of crashes by severity level for specific road types",null,null,null,null,null,null,null,null,null,null,null,null,null,null,null,null,null,null,null,null,null,null,null,"4D",-12.34,1.36,1.32]
[null,null,null,"HSM-Provided Values",null,null,null,null,null,null,null,null,null,null,null,null,null,null,null,null,null,null,null,null,null,null,null,"5T",-9.6999999999999993,1.17,0.81]
[null,"Collision type",null,"2U",null,"3T",null,"4U",null,"4D",null,"5T",null,null,null,null,null,null,null,null,null,null,null,null,null,null,null,"Fatal-and-injury crashes"]
[null,null,null,"FI","PDO","FI","PDO","FI","PDO","FI","PDO","FI","PDO",null,null,null,null,null,null,null,null,null,null,null,null,null,null,"2U",-16.22,1.66,0.65]
[null,"Collision with animal",null,2.5999999999999999E-2,6.6000000000000003E-2,1E-3,1E-3,1E-3,1E-3,1E-3,6.3E-2,1.6E-2,4.9000000000000002E-2,null,null,null,null,null,null,null,null,null,null,null,null,null,null,"3T",-16.45,1.69,0.59]
[null,"Collision with fixed object",null,0.72299999999999998,0.75900000000000001,0.68799999999999994,0.96299999999999997,0.61199999999999999,0.80900000000000005,0.5,0.81299999999999994,0.39800000000000002,0.76800000000000002,null,null,null,null,null,null,null,null,null,null,null,null,null,null,"4U",-12.08,1.25,0.99]
[null,"Collision with other object",null,0.01,1.2999999999999999E-2,1E-3,1E-3,0.02,2.9000000000000001E-2,2.8000000000000001E-2,1.6E-2,5.0000000000000001E-3,6.0999999999999999E-2,null,null,null,null,null,null,null,null,null,null,null,null,null,null,"4D",-12.76,1.28,1.31]
[null,"Other single-vehicle collision",null,0.24099999999999999,0.16200000000000001,0.31,3.5000000000000003E-2,0.36699999999999999,0.161,0.47099999999999997,0.108,0.58099999999999996,0.122,null,null,null,null,null,null,null,null,null,null,null,null,null,null,"5T",-10.47,1.1200000000000001,0.62]
[null,"Source: HSIS data for Washington (2002-2006)",null,null,null,null,null,null,null,null,null,null,null,null,null,null,null,null,null,null,null,null,null,null,null,null,null,"Property-damage-only crashes"]
[null,"Collision type",null,"Locally-Derived Values",null,null,null,null,null,null,null,null,null,null,null,null,null,null,null,null,null,null,null,null,null,null,null,"2U",-15.62,1.69,0.87]
[null,null,null,"2U",null,"3T",null,"4U",null,"4D",null,"5T",null,null,null,null,null,null,null,null,null,null,null,null,null,null,null,"3T",-11.95,1.33,0.59]
[null,null,null,"FI","PDO","FI","PDO","FI","PDO","FI","PDO","FI","PDO",null,null,null,null,null,null,null,null,null,null,null,null,null,null,"4U",-12.53,1.38,1.08]
[null,"Collision with animal",null,0.10299999999999999,0.68200000000000005,8.5000000000000006E-2,0.60199999999999998,5.2999999999999999E-2,0.439,6.4000000000000001E-2,0.38300000000000001,6.0999999999999999E-2,0.45700000000000002,null,null,null,null,null,null,null,null,null,null,null,null,null,null,"4D",-12.81,1.38,1.34]
[null,"Collision with fixed object",null,0.60199999999999998,0.247,0.65,0.30099999999999999,0.66800000000000004,0.439,0.64,0.47499999999999998,0.66600000000000004,0.41499999999999998,null,null,null,null,null,null,null,null,null,null,null,null,null,null,"5T",-9.9700000000000006,1.17,0.88]
[null,"Collision with other object",null,2.4E-2,2.4E-2,1.7999999999999999E-2,3.7999999999999999E-2,1.4E-2,5.1999999999999998E-2,1.2999999999999999E-2,4.5999999999999999E-2,1.7000000000000001E-2,5.6000000000000001E-2]
[null,"Other single-vehicle collision",null,0.27100000000000002,4.8000000000000001E-2,0.247,5.8999999999999997E-2,0.26500000000000001,7.0000000000000007E-2,0.28399999999999997,9.6000000000000002E-2,0.25700000000000001,7.0999999999999994E-2,null,null,null,null,null,null,null,null,null,null,null,null,null,null,"Table 12-5: SPF Coefficients for Single-Vehicle Collisions on Roadway Segments"]
[]
[null,null,null,null,null,null,null,null,null,null,null,null,null,null,null,null,null,null,null,null,null,null,null,null,null,null,null,"Road type","Coefficients use in Eqn. 12-11",null,"Overdispersion    parameter     (k)"]
[null,null,null,null,null,null,null,null,null,null,null,null,null,null,null,null,null,null,null,null,null,null,null,null,null,null,null,null,"Intercept","AADT"]
[null,"Table 12-8: Pedestrian Crash Adjustment Factor for Roadway Segments",null,null,null,null,null,null,null,null,null,null,null,null,null,null,null,null,null,null,null,null,null,null,null,null,null,null,"(a)","(b)"]
[null,null,null,null,null,null,null,null,null,null,null,null,null,null,null,null,null,null,null,null,null,null,null,null,null,null,null,"Total crashes"]
[null,null,null,"Pedestrian Crash Adjustment Factor (fpedr)",null,null,null,null,null,null,null,null,null,null,null,null,null,null,null,null,null,null,null,null,null,null,null,"2U",-5.47,0.56000000000000005,0.81]
[null,null,null,"HSM-Provided Values",null,null,null,"Locally-Derived Values",null,null,null,null,null,null,null,null,null,null,null,null,null,null,null,null,null,null,null,"3T",-5.74,0.54,1.37]
[null,"Road type",null,"Posted Speed 30 mph or Lower",null,"Posted Speed Greater than 30 mph",null,"Posted Speed 30 mph or Lower",null,"Posted Speed Greater than 30 mph",null,null,null,null,null,null,null,null,null,null,null,null,null,null,null,null,null,"4U",-7.99,0.81,0.91]
[null,"2U",null,3.5999999999999997E-2,null,5.0000000000000001E-3,null,3.5999999999999997E-2,null,5.0000000000000001E-3,null,null,"Replace these values with Michigan-Specific!",null,null,null,null,null,null,null,null,null,null,null,null,null,null,"4D",-5.05,0.47,0.86]
[null,"3T",null,4.1000000000000002E-2,null,1.2999999999999999E-2,null,4.1000000000000002E-2,null,1.2999999999999999E-2,null,null,null,null,null,null,null,null,null,null,null,null,null,null,null,null,null,"5T",-4.82,0.54,0.52]
[null,"4U",null,2.1999999999999999E-2,null,8.9999999999999993E-3,null,2.1999999999999999E-2,null,8.9999999999999993E-3,null,null,null,null,null,null,null,null,null,null,null,null,null,null,null,null,null,"Fatal-and-injury crashes"]
[null,"4D",null,6.7000000000000004E-2,null,1.9E-2,null,6.7000000000000004E-2,null,1.9E-2,null,null,null,null,null,null,null,null,null,null,null,null,null,null,null,null,null,"2U",-3.96,0.23,0.5]
[null,"5T",null,0.03,null,2.3E-2,null,0.03,null,2.3E-2,null,null,null,null,null,null,null,null,null,null,null,null,null,null,null,null,null,"3T",-6.37,0.47,1.06]
[null,"Note:  These factors apply to the methodology for predicting total crashes (all seerity levels combined). All pedestrian collisions resulting from this adjustment factor are treated as fatal-and-injury crashes and none as property-damage-only crashes.  Source:  HSIS data for Washington (2002-2006)",null,null,null,null,null,null,null,null,null,null,null,null,null,null,null,null,null,null,null,null,null,null,null,null,null,"4U",-7.37,0.61,0.54]
[null,null,null,null,null,null,null,null,null,null,null,null,null,null,null,null,null,null,null,null,null,null,null,null,null,null,null,"4D",-8.7100000000000009,0.66,0.28000000000000003]
[null,null,null,null,null,null,null,null,null,null,null,null,null,null,null,null,null,null,null,null,null,null,null,null,null,null,null,"5T",-4.43,0.35,0.36]
[null,null,null,null,null,null,null,null,null,null,null,null,null,null,null,null,null,null,null,null,null,null,null,null,null,null,null,"Property-damage-only crashes"]
[null,null,null,null,null,null,null,null,null,null,null,null,null,null,null,null,null,null,null,null,null,null,null,null,null,null,null,"2U",-6.51,0.64,0.87]
[null,"Table 12-9: Bicycle Crash Adjustment Factor for Roadway Segments",null,null,null,null,null,null,null,null,null,null,null,null,null,null,null,null,null,null,null,null,null,null,null,null,null,"3T",-6.29,0.56000000000000005,1.93]
[null,null,null,null,null,null,null,null,null,null,null,null,null,null,null,null,null,null,null,null,null,null,null,null,null,null,null,"4U",-8.5,0.84,0.97]
[null,null,null,"Bicycle Crash Adjustment Factor (fbiker)",null,null,null,null,null,null,null,null,null,null,null,null,null,null,null,null,null,null,null,null,null,null,null,"4D",-5.04,0.45,1.06]
[null,null,null,"HSM-Provided Values",null,null,null,"Locally-Derived Values",null,null,null,null,null,null,null,null,null,null,null,null,null,null,null,null,null,null,null,"5T",-5.83,0.61,0.55000000000000004]
[null,"Road type",null,"Posted Speed 30 mph or Lower",null,"Posted Speed Greater than 30 mph",null,"Posted Speed 30 mph or Lower",null,"Posted Speed Greater than 30 mph"]
[null,"2U",null,1.7999999999999999E-2,null,4.0000000000000001E-3,null,1.7999999999999999E-2,null,4.0000000000000001E-3,null,null,"Replace these values with Michigan-Specific!",null,null,null,null,null,null,null,null,null,null,null,null,null,null,"Table 12-7: SPF Coefficients for Multiple-Vehicle Driveway Related Collisions"]
[null,"3T",null,2.7E-2,null,7.0000000000000001E-3,null,2.7E-2,null,7.0000000000000001E-3]
[null,"4U",null,1.0999999999999999E-2,null,2E-3,null,1.0999999999999999E-2,null,2E-3,null,null,null,null,null,null,null,null,null,null,null,null,null,null,null,null,null,"Driveway type (j)",null,"Coefficients for specific roadway types"]
[null,"4D",null,1.2999999999999999E-2,null,5.0000000000000001E-3,null,1.2999999999999999E-2,null,5.0000000000000001E-3,null,null,null,null,null,null,null,null,null,null,null,null,null,null,null,null,null,null,null,"2U","3T","4U","4D","5T"]
[null,"5T",null,0.05,null,1.2E-2,null,0.05,null,1.2E-2,null,null,null,null,null,null,null,null,null,null,null,null,null,null,null,null,null,"Number of driveway-related collisions per driveway per year (Nj)"]
[null,"Note:  These factors apply to the methodology for predicting total crashes (all seerity levels combined). All bicycle collisions resulting from this adjustment factor are treated as fatal-and-injury crashes and none as property-damage-only crashes.  Source:  HSIS data for Washington (2002-2006)",null,null,null,null,null,null,null,null,null,null,null,null,null,null,null,null,null,null,null,null,null,null,null,null,null,"Major commercial",null,0.158,0.10199999999999999,0.182,3.3000000000000002E-2,0.16500000000000001]
[null,null,null,null,null,null,null,null,null,null,null,null,null,null,null,null,null,null,null,null,null,null,null,null,null,null,null,"Minor commercial",null,0.05,3.2000000000000001E-2,5.8000000000000003E-2,1.0999999999999999E-2,5.2999999999999999E-2]
[null,null,null,null,null,null,null,null,null,null,null,null,null,null,null,null,null,null,null,null,null,null,null,null,null,null,null,"Major industrial / industrial",null,0.17199999999999999,0.11,0.19800000000000001,3.5999999999999997E-2,0.18099999999999999]
[null,null,null,null,null,null,null,null,null,null,null,null,null,null,null,null,null,null,null,null,null,null,null,null,null,null,null,"Minor industrial / institutional",null,2.3E-2,1.4999999999999999E-2,2.5999999999999999E-2,5.0000000000000001E-3,2.4E-2]
[null,null,null,null,null,null,null,null,null,null,null,null,null,null,null,null,null,null,null,null,null,null,null,null,null,null,null,"Major residential",null,8.3000000000000004E-2,5.2999999999999999E-2,9.6000000000000002E-2,1.7999999999999999E-2,8.6999999999999994E-2]
[null,"Table 12-21: Proportion of Fixed-Object Collisions",null,null,null,null,null,null,null,null,null,null,null,null,null,null,null,null,null,null,null,null,null,null,null,null,null,"Minor residential",null,1.6E-2,0.01,1.7999999999999999E-2,3.0000000000000001E-3,1.6E-2]
[null,null,null,null,null,null,null,null,null,null,null,null,null,null,null,null,null,null,null,null,null,null,null,null,null,null,null,"Other",null,2.5000000000000001E-2,1.6E-2,2.9000000000000001E-2,5.0000000000000001E-3,2.7E-2]
[null,"Road Type",null,null,"HSM-Provided Values",null,"Locally-Derived Values",null,null,null,null,null,null,null,null,null,null,null,null,null,null,null,null,null,null,null,null,"Regression coefficient for AADT (t)"]
[null,null,null,null,"Proportion of Fixed-Object Collisions (pfo)",null,"Proportion of Fixed-Object Collisions (pfo)",null,null,null,null,null,null,null,null,null,null,null,null,null,null,null,null,null,null,null,null,"All driveways",null,1,1,1.1719999999999999,1.1060000000000001,1.1719999999999999]
[null,null,null,null,null,null,null,null,null,null,null,null,null,null,null,null,null,null,null,null,null,null,null,null,null,null,null,"Overdispersion parameter (k)"]
[null,null,null,null,null,null,null,null,null,null,null,null,null,null,null,null,null,null,null,null,null,null,null,null,null,null,null,"All driveways",null,0.81,1.1000000000000001,0.81,1.39,0.1]
[null,"2U",null,null,5.8999999999999997E-2,null,5.8999999999999997E-2,null,null,"Replace these values with Michigan-Specific!",null,null,null,null,null,null,null,null,null,null,null,null,null,null,null,null,null,"Proportion of fatal-and-injury crashes (fdwy)"]
[null,"3T",null,null,3.4000000000000002E-2,null,3.4000000000000002E-2,null,null,null,null,null,null,null,null,null,null,null,null,null,null,null,null,null,null,null,null,"All driveways",null,0.32300000000000001,0.24299999999999999,0.34200000000000003,0.28399999999999997,0.26900000000000002]
[null,"4U",null,null,3.6999999999999998E-2,null,3.6999999999999998E-2,null,null,null,null,null,null,null,null,null,null,null,null,null,null,null,null,null,null,null,null,"Proportion of property-damage-only crashes"]
[null,"4D",null,null,3.5999999999999997E-2,null,3.5999999999999997E-2,null,null,null,null,null,null,null,null,null,null,null,null,null,null,null,null,null,null,null,null,"All driveways",null,0.67700000000000005,0.75700000000000001,0.65800000000000003,0.71599999999999997,0.73099999999999998]
[null,"5T",null,null,1.6E-2,null,1.6E-2,null,null,null,null,null,null,null,null,null,null,null,null,null,null,null,null,null,null,null,null,"Note: Includes only unsignalized driveways; signalized driveways are analyzed as signalized intersections. Majjor driveways serve 50 or more parking spaces; minor driveways serve less thanh 50 parking spaces."]
[]
[]
[]
[null,"Table 12-23: Nighttime Crash Proportions for Unlighted Roadway Segments",null,null,null,null,null,null,null,null,null,null,null,null,null,null,null,null,null,null,null,null,null,null,null,null,null,"Table 11-13: CMF for Collision Types Related to Shoulder Types and Shoulder Widths (CMFTRA)"]
[]
[null,"Road Type",null,null,"HSM-Provided Values",null,null,null,null,"Locally-Derived Values",null,null,null,null,null,null,null,null,null,null,null,null,null,null,null,null,null,"Shoulder Type","Shoulder width (ft)"]
[null,null,null,null,"Proportion of Total Nighttime Crashes by Severity Level",null,null,"Proportion of Crashes that Occur at Night",null,"Proportion of Total Nighttime Crashes by Severity Level",null,null,"Proportion of Crashes that Occur at Night",null,null,null,null,null,null,null,null,null,null,null,null,null,null,null,0,1,2,3,4,5,6,7,8,9,10]
[null,null,null,null,null,null,null,null,null,null,null,null,null,null,null,null,null,null,null,null,null,null,null,null,null,null,null,"Paved",1,1,1,1,1,{"$f":"+(AG255+AI255)/2","v":1},1,{"$f":"+(AI255+AK255)/2","v":1},1,{"$f":"+(AK255+AM255)/2","v":1},1]
[null,null,null,null,"Fatal and Injury (pinr)",null,"PDO (ppnr)","(pnr)",null,"Fatal and Injury (pinr)",null,"PDO (ppnr)","(pnr)",null,null,null,null,null,null,null,null,null,null,null,null,null,null,"Gravel",1,1,1.01,1.01,1.01,{"$f":"+(AG256+AI256)/2","v":1.0150000000000001},1.02,{"$f":"+(AI256+AK256)/2","v":1.02},1.02,{"$f":"+(AK256+AM256)/2","v":1.0249999999999999},1.03]
[null,"2U",null,null,0.42399999999999999,null,0.57599999999999996,0.316,null,0.42399999999999999,null,0.57599999999999996,0.316,null,null,"Replace these values with Michigan-Specific!",null,null,null,null,null,null,null,null,null,null,null,"Composite",1,1.01,1.02,1.02,1.03,{"$f":"+(AG257+AI257)/2","v":1.0350000000000001},1.04,{"$f":"+(AI257+AK257)/2","v":1.05},1.06,{"$f":"+(AK257+AM257)/2","v":1.0649999999999999},1.07]
[null,"3T",null,null,0.42899999999999999,null,0.57099999999999995,0.30399999999999999,null,0.42899999999999999,null,0.57099999999999995,0.30399999999999999,null,null,null,null,null,null,null,null,null,null,null,null,null,null,"Turf",1,1.01,1.03,1.04,1.05,{"$f":"+(AG258+AI258)/2","v":1.0649999999999999},1.08,{"$f":"+(AI258+AK258)/2","v":1.0950000000000002},1.1100000000000001,{"$f":"+(AK258+AM258)/2","v":1.125},1.1399999999999999]
[null,"4U",null,null,0.51700000000000002,null,0.48299999999999998,0.36499999999999999,null,0.51700000000000002,null,0.48299999999999998,0.36499999999999999,null,null,null,null,null,null,null,null,null,null,null,null,null,null,"Note: The values for composite shoulders in this exhibit represent a shoulder for which 50 percent of the shoulder width is paved and 50 percent of the shoulder width is turf."]
[null,"4D",null,null,0.36399999999999999,null,0.63600000000000001,0.41,null,0.36399999999999999,null,0.63600000000000001,0.41]
[null,"5T",null,null,0.432,null,0.56799999999999995,0.27400000000000002,null,0.432,null,0.56799999999999995,0.27400000000000002]
[]
[]
[null,"Table 11-4: Distribution of Crashes by Collision Type and Crash Severity Level for Undivided Roadway Segments"]
[null,null,null,null,null,null,null,null,null,null,null,null,null,null,null,null,null,null,null,null,null,null,null,null,null,null,null,"Table 11-14: CMF for Side Slope on Undivided Roadway Segments (CMF3ru)"]
[null,"Collision type",null,null,"Proportion of crashes by collision type and crash severity level"]
[null,null,null,null,"HSM-Provided Values",null,null,null,"Locally-Derived Values",null,null,null,null,null,null,null,null,null,null,null,null,null,null,null,null,null,null,"1:2 or Steeper","1:3","1:4","1:5","1:6","1:7 or Flatter"]
[null,null,null,null,"Total","Fatal and injury","Fatal and injury a","PDO","Total","Fatal and injury","Fatal and injury a","PDO",null,null,null,null,null,null,null,null,null,null,null,null,null,null,null,1.18,1.1499999999999999,1.1200000000000001,1.0900000000000001,1.05,1]
[]
[null,"Head-on",null,null,8.9999999999999993E-3,2.9000000000000001E-2,4.2999999999999997E-2,1E-3,4.4999999999999998E-2,0.108,0.13800000000000001,2.1999999999999999E-2]
[null,"Sideswipe",null,null,9.8000000000000004E-2,4.8000000000000001E-2,4.3999999999999997E-2,0.12,0.155,6.2E-2,6.0999999999999999E-2,0.189,null,null,null,null,null,null,null,null,null,null,null,null,null,null,null,"Table 11-17: CMF for Right Shoulder Width on Divided Roadway Segments (CMF2rd)"]
[null,"Rear-end",null,null,0.246,0.30499999999999999,0.217,0.22,0.20499999999999999,0.26600000000000001,0.188,0.184]
[null,"Angle",null,null,0.35599999999999998,0.35199999999999998,0.34799999999999998,0.35799999999999998,0.14899999999999999,0.18,0.184,0.13800000000000001,null,null,null,null,null,null,null,null,null,null,null,null,null,null,null,"Average Shoulder Width (ft)",null,"CMF"]
[null,"Single",null,null,0.23799999999999999,0.23799999999999999,0.30399999999999999,0.23699999999999999,0.32100000000000001,0.24199999999999999,0.29899999999999999,0.34899999999999998]
[null,"Other",null,null,5.2999999999999999E-2,2.8000000000000001E-2,4.3999999999999997E-2,6.4000000000000001E-2,0.125,0.14299999999999999,0.13,0.11799999999999999,null,null,null,null,null,null,null,null,null,null,null,null,null,null,null,0,null,1.18]
[null,"SV run-off-rd, Head-on, Sideswipe",null,null,0.27,null,null,null,0.33,null,null,null,null,null,null,null,null,null,null,null,null,null,null,null,null,null,null,1,null,{"$f":"+(AD275+AD277)/2","v":1.1549999999999998}]
[null,"NOTE: a Using the KABCO scale, these include only KAB crashes. Crashes with severity level C (possible injury) are not included.",null,null,null,null,null,null,null,null,null,null,null,null,null,null,null,null,null,null,null,null,null,null,null,null,null,2,null,1.1299999999999999]
[null,null,null,null,null,null,null,null,null,null,null,null,null,null,null,null,null,null,null,null,null,null,null,null,null,null,null,3,null,{"$f":"+(AD277+AD279)/2","v":1.1099999999999999}]
[null,null,null,null,null,null,null,null,null,null,null,null,null,null,null,null,null,null,null,null,null,null,null,null,null,null,null,4,null,1.0900000000000001]
[null,null,null,null,null,null,null,null,null,null,null,null,null,null,null,null,null,null,null,null,null,null,null,null,null,null,null,5,null,{"$f":"+(AD279+AD281)/2","v":1.0649999999999999}]
[null,"Table 11-6: Distribution of Crashes by Collision Type and Crash Severity Level for Divided Roadway Segments",null,null,null,null,null,null,null,null,null,null,null,null,null,null,null,null,null,null,null,null,null,null,null,null,null,6,null,1.04]
[null,null,null,null,null,null,null,null,null,null,null,null,null,null,null,null,null,null,null,null,null,null,null,null,null,null,null,7,null,{"$f":"+(AD281+AD283)/2","v":1.02}]
[null,"Collision type",null,null,"Proportion of crashes by collision type and crash severity level",null,null,null,null,null,null,null,null,null,null,null,null,null,null,null,null,null,null,null,null,null,null,8,null,1]
[null,null,null,null,"HSM-Provided Values",null,null,null,"Locally-Derived Values",null,null,null,null,null,null,null,null,null,null,null,null,null,null,null,null,null,null,9,null,1]
[null,null,null,null,"Total","Fatal and injury","Fatal and injury a","PDO","Total","Fatal and injury","Fatal and injury a","PDO",null,null,null,null,null,null,null,null,null,null,null,null,null,null,null,10,null,1]
[]
[null,"Head-on",null,null,6.0000000000000001E-3,1.2999999999999999E-2,1.7999999999999999E-2,2E-3,8.9999999999999993E-3,1.7999999999999999E-2,3.3000000000000002E-2,6.0000000000000001E-3]
[null,"Sideswipe",null,null,4.2999999999999997E-2,2.7E-2,2.1999999999999999E-2,5.2999999999999999E-2,0.12,5.8999999999999997E-2,5.5E-2,0.13900000000000001]
[null,"Rear-end",null,null,0.11600000000000001,0.16300000000000001,0.114,8.7999999999999995E-2,0.13600000000000001,0.19500000000000001,0.14299999999999999,0.11799999999999999]
[null,"Angle",null,null,4.2999999999999997E-2,4.8000000000000001E-2,4.4999999999999998E-2,4.1000000000000002E-2,4.5999999999999999E-2,8.5999999999999993E-2,0.14299999999999999,3.4000000000000002E-2,null,null,null,null,null,null,null,null,null,null,null,null,null,null,null,"Table 11-18: CMF for Median Width on Divided Roadway Segments without a Median Barrier(CMF3rd)"]
[null,"Single",null,null,0.76800000000000002,0.72699999999999998,0.77800000000000002,0.79200000000000004,0.626,0.60499999999999998,0.60399999999999998,0.63300000000000001]
[null,"Other",null,null,2.4E-2,2.1999999999999999E-2,2.3E-2,2.4E-2,6.3E-2,3.5999999999999997E-2,2.1999999999999999E-2,7.1999999999999995E-2]
[null,"SV run-off-rd, Head-on, Sideswipe",null,null,0.5,null,null,null,0.33,null,null,null,null,null,null,null,null,null,null,null,null,null,null,null,null,null,null,"Median Width (ft)",null,"CMF"]
[null,"NOTE: a Using the KABCO scale, these include only KAB crashes. Crashes with severity level C (possible injury) are not included.",null,null,null,null,null,null,null,null,null,null,null,null,null,null,null,null,null,null,null,null,null,null,null,null,null,10,null,1.04]
[null,null,null,null,null,null,null,null,null,null,null,null,null,null,null,null,null,null,null,null,null,null,null,null,null,null,null,20,null,1.02]
[null,null,null,null,null,null,null,null,null,null,null,null,null,null,null,null,null,null,null,null,null,null,null,null,null,null,null,30,null,1]
[null,null,null,null,null,null,null,null,null,null,null,null,null,null,null,null,null,null,null,null,null,null,null,null,null,null,null,40,null,0.99]
[null,"Table 11-15: Night-time Crash Proportions for Unlighted Roadway Segments",null,null,null,null,null,null,null,null,null,null,null,null,null,null,null,null,null,null,null,null,null,null,null,null,null,50,null,0.97]
[null,null,null,null,null,null,null,null,null,null,null,null,null,null,null,null,null,null,null,null,null,null,null,null,null,null,null,60,null,0.96]
[null,"Roadway Type",null,null,"HSM-Provided Values",null,null,null,"Locally-Derived Values",null,null,null,null,null,null,null,null,null,null,null,null,null,null,null,null,null,null,70,null,0.96]
[null,null,null,null,"Proportion of total night-time crashes by severity level",null,"Proportion of crashes that occur at night",null,"Proportion of total night-time crashes by severity level",null,"Proportion of crashes that occur at night",null,null,null,null,null,null,null,null,null,null,null,null,null,null,null,null,80,null,0.95]
[null,null,null,null,null,null,null,null,null,null,null,null,null,null,null,null,null,null,null,null,null,null,null,null,null,null,null,90,null,0.94]
[null,null,null,null,null,null,null,null,null,null,null,null,null,null,null,null,null,null,null,null,null,null,null,null,null,null,null,100,null,0.94]
[null,null,null,null,"Fatal and injury, pinr","PDO, ppnr","pnr",null,"Fatal and injury, pinr","PDO, ppnr","pnr"]
[]
[null,"4U",null,null,0.36099999999999999,0.63900000000000001,0.255,null,0.19,0.53400000000000003,0.28999999999999998]
[]
[]
[]
[null,"Table 11-19: Night-time Crash Proportions for Unlighted Roadway Segments"]
[]
[null,"Roadway Type",null,null,"HSM-Provided Values",null,null,null,"Locally-Derived Values"]
[null,null,null,null,"Proportion of total night-time crashes by severity level",null,"Proportion of crashes that occur at night",null,"Proportion of total night-time crashes by severity level",null,"Proportion of crashes that occur at night"]
[]
[]
[null,null,null,null,"Fatal and injury, pinr","PDO, ppnr","pnr",null,"Fatal and injury, pinr","PDO, ppnr","pnr"]
[]
[null,"4D",null,null,0.32300000000000001,0.67700000000000005,0.42599999999999999,null,0.23200000000000001,0.71799999999999997,0.53300000000000003]
[]
[]
[null,"Table 11-9: Distribution of Intersection Crashes by Collision Type and Crash Severity"]
[]
[null,"Collision type",null,null,"Proportion of crashes by collision type and crash severity level"]
[null,null,null,null,"HSM-Provided Values",null,null,null,"Locally-Derived Values"]
[null,"Locally-Derived Values?",null,"No","Total","Fatal and injury","Fatal and injury a","PDO","Total","Fatal and injury","Fatal and injury a","PDO"]
[]
[null,"Three-leg intersections with minor road stop control"]
[null,"Head-on",null,null,2.9000000000000001E-2,4.2999999999999997E-2,5.1999999999999998E-2,0.02,0.05,0.10299999999999999,0.14599999999999999,2.8000000000000001E-2]
[null,"Sideswipe",null,null,0.13300000000000001,5.8000000000000003E-2,5.7000000000000002E-2,0.17899999999999999,9.6000000000000002E-2,4.9000000000000002E-2,5.0999999999999997E-2,0.115]
[null,"Rear-end",null,null,0.28899999999999998,0.247,0.14199999999999999,0.315,0.29299999999999998,0.29899999999999999,0.19800000000000001,0.29099999999999998]
[null,"Angle",null,null,0.26300000000000001,0.36899999999999999,0.38100000000000001,0.19800000000000001,0.161,0.19400000000000001,0.20599999999999999,0.14699999999999999]
[null,"Single",null,null,0.23400000000000001,0.219,0.28399999999999997,0.24399999999999999,0.307,0.26600000000000001,0.3,0.32400000000000001]
[null,"Other",null,null,5.1999999999999998E-2,6.4000000000000001E-2,8.4000000000000005E-2,4.3999999999999997E-2,9.2999999999999999E-2,8.8999999999999996E-2,9.9000000000000005E-2,9.5000000000000001E-2]
[null,"SV run-off-rd, Head-on, Sideswipe",null,null,0.5,null,null,null,0.33]
[null,"Four-leg intersections with minor road stop control"]
[null,"Head-on",null,null,1.6E-2,1.7999999999999999E-2,2.3E-2,1.4999999999999999E-2,5.6000000000000001E-2,9.4E-2,0.12,3.7999999999999999E-2]
[null,"Sideswipe",null,null,0.107,4.2000000000000003E-2,0.04,0.156,9.9000000000000005E-2,4.9000000000000002E-2,3.4000000000000002E-2,0.124]
[null,"Rear-end",null,null,0.22800000000000001,0.21299999999999999,0.108,0.24,0.23799999999999999,0.216,0.14899999999999999,0.248]
[null,"Angle",null,null,0.39500000000000002,0.53400000000000003,0.57099999999999995,0.29199999999999998,0.32,0.42599999999999999,0.46600000000000003,0.26800000000000002]
[null,"Single",null,null,0.20200000000000001,0.14799999999999999,0.19900000000000001,0.24299999999999999,0.18,0.124,0.128,0.20699999999999999]
[null,"Other",null,null,5.1999999999999998E-2,4.4999999999999998E-2,5.8999999999999997E-2,5.3999999999999999E-2,0.107,9.0999999999999998E-2,0.10299999999999999,0.115]
[null,"SV run-off-rd, Head-on, Sideswipe",null,null,0.5,null,null,null,0.33]
[null,"Four-leg signalized intersections"]
[null,"Head-on",null,null,5.3999999999999999E-2,8.3000000000000004E-2,9.2999999999999999E-2,3.4000000000000002E-2,8.6999999999999994E-2,0.14599999999999999,0.20399999999999999,6.7000000000000004E-2]
[null,"Sideswipe",null,null,0.106,4.7E-2,3.9E-2,0.14699999999999999,0.10100000000000001,2.9000000000000001E-2,1.7999999999999999E-2,0.125]
[null,"Rear-end",null,null,0.49199999999999999,0.47199999999999998,0.314,0.505,0.38,0.318,0.159,0.40300000000000002]
[null,"Angle",null,null,0.25600000000000001,0.315,0.40699999999999997,0.215,0.25,0.33300000000000002,0.40400000000000003,0.222]
[null,"Single",null,null,6.2E-2,4.1000000000000002E-2,7.8E-2,7.6999999999999999E-2,5.8000000000000003E-2,4.9000000000000002E-2,6.5000000000000002E-2,0.06]
[null,"Other",null,null,0.03,4.2000000000000003E-2,6.9000000000000006E-2,2.1999999999999999E-2,0.124,0.125,0.15,0.123]
[null,"SV run-off-rd, Head-on, Sideswipe",null,null,0.5,null,null,null,0.33]
[null,"NOTE: a Using the KABCO scale, these include only KAB crashes. Crashes with severity level C (possible injury) are not included."]
[]
[]
[null,"Table 11-24: Night-time Crash Proportions for Unlighted Intersections"]
[]
[null,"Roadway Type",null,null,"HSM-Provided Values",null,null,null,"Locally-Derived Values"]
[null,null,null,null,"Proportion of total night-time crashes by severity level",null,"Proportion of crashes that occur at night",null,"Proportion of total night-time crashes by severity level",null,"Proportion of crashes that occur at night"]
[null,"Locally-Derived Values?",null,"No"]
[]
[null,null,null,null,"Fatal and injury, pini","PDO, ppnr","pni",null,"Fatal and injury, pinr","PDO, ppnr","pnr"]
[]
[null,"3ST",null,null,null,null,0.27600000000000002,null,null,null,0.14799999999999999]
[null,"4ST",null,null,null,null,0.27300000000000002,null,null,null,0.106]
[]
[]
[]
[null,"Michigan Specific Urban and Suburban Intersections",null,null,null,null,null,null,null,null,null,null,null,null,null,null,null,null,null,null,null,null,null,null,null,null,"Equation Coefficients",null,null,null,null,null,null,null,null,null,null,null,null,null,null,null,null,null,null,null,null,null,null,"Statewide, Two-Way, F-I",null,null,null,"Std. Dev","t-statistic"]
[null,"Two-Way, Multivehicle, Proprotion of Crashes by Severity Level for Specific Intersection Types",null,null,null,null,null,null,null,null,null,null,null,null,null,null,null,null,null,null,null,null,null,null,null,null,null,null,null,null,null,null,"x","Regional Indicators, 2-Way, F-I","z","aa","ab","ac","ad","ae","Regional Indicators, 2-Way, PDO","ag","ah","ai","aj",null,null,null,null,"Coefficient","Variable",null,null,0.80700000000000005,-10.67,null,"Statewide, Two-Way, PDO"]
[null,"Manner of Collision",null,null,"Rear-end","Rear-end Left-turn","Rear-end Right-turn","Head-on","Head-on Left-turn","Angle","Sideswipe- Same","Sideswipe- Opposite","Other MV",null,null,null,null,null,null,null,null,null,null,null,null,null,null,null,null,null,null,null,null,"Coefficient","Variable","Type","Value","Std. Dev","t-statistic",null,"Coefficient","Variable","Type","Value","Std. Dev","t-statistic",null,null,null,null,"Intercept for MV crashes","Type","Value",2.3140000000000001,-6.64,null,"Coefficient","Variable","Type","Value","Std. Dev","t-statistic"]
["Statewide","3SG","FI","Statewide3SG",0.47,0.01,0.01,0.02,0.16,0.28999999999999998,0.01,0.01,0.02,null,null,null,null,null,null,null,null,null,null,null,null,null,null,null,null,null,null,null,370,null,"Intercept for MV crashes","3SG",-10.228,0.84599999999999997,-12.1,370,null,"Intercept for MV crashes","3SG",-10.731,0.71,-15.11,null,null,null,null,null,"3SG",-8.6110000000000007,0.71699999999999997,-11.92,null,null,"Intercept for MV crashes","3SG",-9.1720000000000006,0.72299999999999998,-12.68]
["Statewide","4SG","FI","Statewide4SG",0.31,0.06,0.03,0.03,0.15,0.36,0.04,0.01,0.01,null,null,null,null,null,null,null,null,null,null,null,null,null,null,null,null,null,null,null,371,null,null,"3ST",-16.763999999999999,2.33,-7.2,371,null,null,"3ST",-17.257999999999999,1.8069999999999999,-9.5500000000000007,null,null,null,null,null,"3ST",-15.372999999999999,1.48,-6.95,null,null,null,"3ST",-16.327999999999999,1.819,-8.98]
["Statewide","3ST","FI","Statewide3ST",0.41,0.01,0.02,0.02,0.11,0.38,0.02,0.01,0.02,null,null,null,null,null,null,null,null,null,null,null,null,null,null,null,null,null,null,null,372,null,null,"4SG",-10.3,0.78500000000000003,-13.13,372,null,null,"4SG",-10.882,0.65400000000000003,-16.63,null,null,null,null,null,"4SG",-8.5449999999999999,7.5999999999999998E-2,9.41,null,null,null,"4SG",-9.2910000000000004,0.64300000000000002,-14.45]
["Statewide","4ST","FI","Statewide4ST",0.19,0.03,0.01,0.01,0.09,0.6,0.03,0.01,0.03,null,null,null,null,null,null,null,null,null,null,null,null,null,null,null,null,null,null,null,373,null,null,"4ST",-11.234999999999999,1.492,-7.53,373,null,null,"4ST",-9.891,1.0269999999999999,-9.64,null,null,null,null,"Major AADT on MV crashes","4ST",-10.282999999999999,0.23899999999999999,4.09,null,null,null,"4ST",-8.6150000000000002,1.0269999999999999,-8.39]
["Superior","3SG","FI","Superior3SG",0.55000000000000004,0,0,0.05,0.1,0.25,0,0.03,0.03,null,null,null,null,null,null,null,null,null,null,null,null,null,null,null,null,null,null,null,374,null,"Major AADT on MV crashes","3SG",0.83099999999999996,7.8E-2,10.64,374,null,"Major AADT on MV crashes","3SG",0.95299999999999996,6.6000000000000003E-2,14.38,null,null,null,null,null,"3SG",0.71499999999999997,7.5999999999999998E-2,9.41,null,null,"Major AADT on MV crashes","3SG",0.874,6.8000000000000005E-2,12.77]
["Superior","4SG","FI","Superior4SG",0.36,0.08,0.04,0,0.08,0.4,0.04,0,0,null,null,null,null,null,null,null,null,null,null,null,null,null,null,null,null,null,null,null,375,null,null,"3ST",1.0669999999999999,0.23899999999999999,4.46,375,null,null,"3ST",1.325,0.188,7.07,null,null,null,null,null,"3ST",0.97799999999999998,0.15,4.1500000000000004,null,null,null,"3ST",1.2989999999999999,0.19,6.83]
["Superior","3ST","FI","Superior3ST",0.32,0.01,0.01,0.02,0.14000000000000001,0.48,0.01,0,0.01,null,null,null,null,null,null,null,null,null,null,null,null,null,null,null,null,null,null,null,376,null,null,"4SG",0.83099999999999996,7.8E-2,10.64,376,null,null,"4SG",0.95299999999999996,6.6000000000000003E-2,14.38,null,null,null,null,null,"4SG",0.71499999999999997,4.7E-2,3.64,null,null,null,"4SG",0.874,6.8000000000000005E-2,12.77]
["Superior","4ST","FI","Superior4ST",0.21,0,0,0,0.03,0.65,0.03,0.03,0.06,null,null,null,null,null,null,null,null,null,null,null,null,null,null,null,null,null,null,null,377,null,null,"4ST",0.67700000000000005,0.15,4.5199999999999996,377,null,null,"4ST",0.60699999999999998,0.10299999999999999,5.9,null,null,null,null,"Minor AADT on MV crashes","4ST",0.621,0.11899999999999999,4.92,null,null,null,"4ST",0.54800000000000004,0.104,5.26]
["North","3SG","FI","North3SG",0.33,0.02,0.04,0.02,0.28999999999999998,0.24,0.01,0.02,0.04,null,null,null,null,null,null,null,null,null,null,null,null,null,null,null,null,null,null,null,378,null,"Minor AADT on MV crashes","3SG",0.17,4.5999999999999999E-2,3.72,378,null,"Minor AADT on MV crashes","3SG",0.23300000000000001,3.9E-2,6,null,null,null,null,null,"3SG",0.17,3.5999999999999997E-2,6.21,null,null,"Minor AADT on MV crashes","3SG",0.218,4.2000000000000003E-2,5.24]
["North","4SG","FI","North4SG",0.21,0.04,0.04,0.04,0.33,0.25,0.04,0.04,0,null,null,null,null,null,null,null,null,null,null,null,null,null,null,null,null,null,null,null,379,null,null,"3ST",0.59399999999999997,0.11899999999999999,4.9800000000000004,379,null,null,"3ST",0.46200000000000002,9.1999999999999998E-2,5.01,null,null,null,null,null,"3ST",0.58599999999999997,8.4000000000000005E-2,5.39,null,null,null,"3ST",0.45900000000000002,9.2999999999999999E-2,4.92]
["North","3ST","FI","North3ST",0.4,0.02,0.01,0.01,0.17,0.36,0.01,0.01,0.01,null,null,null,null,null,null,null,null,null,null,null,null,null,null,null,null,null,null,null,380,null,null,"4SG",0.23100000000000001,3.5999999999999997E-2,6.48,380,null,null,"4SG",0.28699999999999998,2.9000000000000001E-2,9.8000000000000007,null,null,null,null,null,"4SG",0.221,2.58,-3.41,null,null,null,"4SG",0.27300000000000002,0.03,9.08]
["North","4ST","FI","North4ST",0.14000000000000001,0.02,0,0.02,0.14000000000000001,0.64,0,0.02,0.03,null,null,null,null,null,null,null,null,null,null,null,null,null,null,null,null,null,null,null,381,null,null,"4ST",0.44700000000000001,8.3000000000000004E-2,5.37,381,null,null,"4ST",0.48299999999999998,6.6000000000000003E-2,7.36,null,null,null,null,"Intercept for SV crashes","4ST",0.45200000000000001,3.798,-2.12,null,null,null,"4ST",0.46600000000000003,6.6000000000000003E-2,7.1]
["Grand","3SG","FI","Grand3SG",0.56000000000000005,0.01,0,0.02,0.12,0.23,0.01,0.02,0.02,null,null,null,null,null,null,null,null,null,null,null,null,null,null,null,null,null,null,null,382,null,"Intercept for SV crashes","3SG",-10.205,2.609,-3.91,382,null,"Intercept for SV crashes","3SG",-7.5490000000000004,1.349,-5.6,null,null,null,null,null,"3SG",-8.8049999999999997,2.0390000000000001,-3.38,null,null,"Intercept for SV crashes","3SG",-5.5709999999999997,1.306,-4.2699999999999996]
["Grand","4SG","FI","Grand4SG",0.35,0.04,0.08,0,0.19,0.27,0.04,0,0.04,null,null,null,null,null,null,null,null,null,null,null,null,null,null,null,null,null,null,null,383,null,null,"3ST",-8.9529999999999994,3.8380000000000001,-2.33,383,null,null,"3ST",-6.952,1.909,-3.64,null,null,null,null,null,"3ST",-8.0690000000000008,3.286,-2.0499999999999998,null,null,null,"3ST",-5.8520000000000003,1.9139999999999999,-3.06]
["Grand","3ST","FI","Grand3ST",0.39,0.01,0.02,0.01,0.1,0.43,0.01,0,0.02,null,null,null,null,null,null,null,null,null,null,null,null,null,null,null,null,null,null,null,384,null,null,"4SG",-8.2040000000000006,2.0990000000000002,-3.91,384,null,null,"4SG",-8.6720000000000006,1.133,-7.65,null,null,null,null,null,"4SG",-6.891,0.22,0.88,null,null,null,"4SG",-6.891,1.0780000000000001,-6.39]
["Grand","4ST","FI","Grand4ST",0.24,0.04,0.01,0,0.11,0.52,0.03,0.02,0.04,null,null,null,null,null,null,null,null,null,null,null,null,null,null,null,null,null,null,null,385,null,null,"4ST",-7.585,3.323,-2.2799999999999998,385,null,null,"4ST",-6.2130000000000001,1.6890000000000001,-3.68,null,null,null,null,"Major AADT on SV crashes","4ST",-6.7249999999999996,0.33100000000000002,0.18,null,null,null,"4ST",-5.13,1.6919999999999999,-3.03]
["Bay","3SG","FI","Bay3SG",0.48,0,0.01,0.03,0.16,0.27,0.03,0.01,0,null,null,null,null,null,null,null,null,null,null,null,null,null,null,null,null,null,null,null,386,null,"Major AADT on SV crashes","3SG",0.27900000000000003,0.224,1.24,386,null,"Major AADT on SV crashes","3SG",0.28699999999999998,0.121,2.38,null,null,null,null,null,"3SG",0.19400000000000001,0.22,0.88,null,null,"Major AADT on SV crashes","3SG",0.16,0.11700000000000001,1.36]
["Bay","4SG","FI","Bay4SG",0.3,0,0,0,0.2,0.3,0.1,0,0.1,null,null,null,null,null,null,null,null,null,null,null,null,null,null,null,null,null,null,null,387,null,null,"3ST",0.108,0.33500000000000002,0.32,387,null,null,"3ST",4.9000000000000002E-2,0.17399999999999999,0.28000000000000003,null,null,null,null,null,"3ST",6.0999999999999999E-2,0.33100000000000002,0.18,null,null,null,"3ST",1E-3,0.17499999999999999,0.01]
["Bay","3ST","FI","Bay3ST",0.35,0.03,0.01,0.01,0.13,0.4,0.03,0.02,0.01,null,null,null,null,null,null,null,null,null,null,null,null,null,null,null,null,null,null,null,388,null,null,"4SG",0.27900000000000003,0.224,1.24,388,null,null,"4SG",0.28699999999999998,0.121,2.38,null,null,null,null,null,"4SG",0.19400000000000001,0.17599999999999999,2.5099999999999998,null,null,null,"4SG",0.16,0.11700000000000001,1.36]
["Bay","4ST","FI","Bay4ST",0.2,0.04,0.02,0,0.08,0.6,0.04,0,0.02,null,null,null,null,null,null,null,null,null,null,null,null,null,null,null,null,null,null,null,389,null,null,"4ST",0.108,0.33500000000000002,0.32,389,null,null,"4ST",4.9000000000000002E-2,0.17399999999999999,0.28000000000000003,null,null,null,null,"Minor AADT on SV crashes","4ST",6.0999999999999999E-2,0.20300000000000001,1.47,null,null,null,"4ST",1E-3,0.17499999999999999,0.01]
["Southwest","3SG","FI","Southwest3SG",0.42,0.01,0,0.01,0.16,0.37,0.01,0.01,0.02,null,null,null,null,null,null,null,null,null,null,null,null,null,null,null,null,null,null,null,390,null,"Minor AADT on SV crashes","3SG",0.45,0.17299999999999999,2.59,390,null,"Minor AADT on SV crashes","3SG",0.29699999999999999,8.1000000000000003E-2,3.67,null,null,null,null,null,"3SG",0.44,0.13300000000000001,1.51,null,null,"Minor AADT on SV crashes","3SG",0.28599999999999998,8.1000000000000003E-2,3.55]
["Southwest","4SG","FI","Southwest4SG",0.24,0.12,0,0,0.16,0.44,0.04,0,0,null,null,null,null,null,null,null,null,null,null,null,null,null,null,null,null,null,null,null,391,null,null,"3ST",0.29199999999999998,0.20300000000000001,1.44,391,null,null,"3ST",0.35,0.107,3.27,null,null,null,null,null,"3ST",0.29799999999999999,0.20300000000000001,1.47,null,null,null,"3ST",0.34799999999999998,0.109,3.21]
["Southwest","3ST","FI","Southwest3ST",0.52,0.02,0.02,0.01,0.09,0.28999999999999998,0.01,0.01,0.04,null,null,null,null,null,null,null,null,null,null,null,null,null,null,null,null,null,null,null,392,null,null,"4SG",0.19600000000000001,0.13100000000000001,1.5,392,null,null,"4SG",0.377,7.6999999999999999E-2,4.87,null,null,null,null,null,"4SG",0.20100000000000001,0.105,-3.32,null,null,null,"4SG",0.39500000000000002,7.9000000000000001E-2,4.9800000000000004]
["Southwest","4ST","FI","Southwest4ST",0.19,0,0.03,0.02,7.0000000000000007E-2,0.64,0.02,0,0.03,null,null,null,null,null,null,null,null,null,null,null,null,null,null,null,null,null,null,null,393,null,null,"4ST",0.29199999999999998,0.20300000000000001,1.44,393,null,null,"4ST",0.35,0.107,3.27,null,null,null,null,"Median presence on major street","4ST",0.29799999999999999,0.13,-2.57,null,null,null,"4ST",0.34799999999999998,0.109,3.21]
["University","3SG","FI","University3SG",0.47,0.01,0,0.04,0.11,0.36,0.01,0,0.01,null,null,null,null,null,null,null,null,null,null,null,null,null,null,null,null,null,null,null,394,null,"Superior","All",0.59599999999999997,0.123,4.8600000000000003,394,null,"Superior","All",0.63300000000000001,9.6000000000000002E-2,6.58,null,null,null,null,"Median presence on minor street","All",-0.34699999999999998,0.14699999999999999,-2.09,null,null,"Median presence on major street","All",-0.246,8.6999999999999994E-2,-2.84]
["University","4SG","FI","University4SG",0.32,0.05,0,0.11,0,0.53,0,0,0,null,null,null,null,null,null,null,null,null,null,null,null,null,null,null,null,null,null,null,395,null,"North","All",0.44700000000000001,0.111,4.05,395,null,"North","All",0.71599999999999997,8.5999999999999993E-2,8.2799999999999994,null,null,null,null,"Lighting presence","All",-0.33300000000000002,1.9E-2,2.2599999999999998,null,null,"Median presence on minor street","All",-0.32300000000000001,0.106,-3.06]
["University","3ST","FI","University3ST",0.39,0.01,0.02,0.03,0.08,0.43,0.01,0,0.02,null,null,null,null,null,null,null,null,null,null,null,null,null,null,null,null,null,null,null,396,null,"Grand","All",0.44600000000000001,0.106,4.2300000000000004,396,null,"Grand","All",0.58899999999999997,8.4000000000000005E-2,7.04,null,null,null,null,"Number of lanes ","3ST/4ST",-0.308,3.6999999999999998E-2,0.97,null,null,"Lighting presence","3ST/4ST",-0.153,0.109,-1.4]
["University","4ST","FI","University4ST",0.17,0.01,0,0,7.0000000000000007E-2,0.69,0.04,0,0.01,null,null,null,null,null,null,null,null,null,null,null,null,null,null,null,null,null,null,null,397,null,"Bay","All",0.44400000000000001,0.11700000000000001,3.79,397,null,"Bay","All",0.50900000000000001,9.2999999999999999E-2,5.49,null,null,null,null,null,"3SG/4SG",4.3999999999999997E-2,4.0000000000000001E-3,5.41,null,null,"Number of lanes ","3SG/4SG",1.9E-2,1.7000000000000001E-2,1.1399999999999999]
["Metro","3SG","FI","Metro3SG",0.59,0,0.01,0.02,0.11,0.22,0.03,0.01,0.02,null,null,null,null,null,null,null,null,null,null,null,null,null,null,null,null,null,null,null,398,null,"Southwest","All",0.55900000000000005,0.113,4.97,398,null,"Southwest","All",0.77500000000000002,8.7999999999999995E-2,8.84,null,null,null,null,"Major street posted speed limit","3ST/4ST",3.5999999999999997E-2,7.0000000000000001E-3,1.46,null,null,null,"3ST/4ST",6.0000000000000001E-3,2.8000000000000001E-2,0.21]
["Metro","4SG","FI","Metro4SG",0.55000000000000004,0,0,0.09,0,0.36,0,0,0,null,null,null,null,null,null,null,null,null,null,null,null,null,null,null,null,null,null,null,399,null,"University","All",0.47299999999999998,0.111,4.26,399,null,"University","All",0.53300000000000003,8.7999999999999995E-2,6.04,null,null,null,null,null,"3SG/4SG",2.1000000000000001E-2,0.115,-2.4,null,null,"Major street posted speed limit","3SG/4SG",0.01,4.0000000000000001E-3,2.79]
["Metro","3ST","FI","Metro3ST",0.46,0.01,0.02,0.02,0.1,0.32,0.04,0,0.03,null,null,null,null,null,null,null,null,null,null,null,null,null,null,null,null,null,null,null,400,null,"Metro","All",0,null,null,400,null,"Metro","All",0,null,null,null,null,null,null,"Right-turn-on-red prohibition","3ST/4ST",1.0999999999999999E-2,0.18,-0.55000000000000004,null,null,null,"3ST/4ST",-0.01,6.0000000000000001E-3,-1.63]
["Metro","4ST","FI","Metro4ST",0.17,0.06,0,0.06,0.09,0.51,0.09,0,0.03,null,null,null,null,null,null,null,null,null,null,null,null,null,null,null,null,null,null,null,401,null,"Median presence on major street","All",-0.34399999999999997,0.107,-3.22,401,null,"Median presence on major street","All",-0.23699999999999999,8.5000000000000006E-2,-2.78,null,null,null,null,"Major street left-turn-lane","3SG/4SG",-0.27700000000000002,0.26200000000000001,-1.87,null,null,"Right-turn-on-red prohibition","3SG/4SG",-3.2000000000000001E-2,9.4E-2,-0.34]
["Statewide","3SG","PDO","Statewide3SG",0.54,0.02,0.03,0.01,0.04,0.21,0.1,0.02,0.03,null,null,null,null,null,null,null,null,null,null,null,null,null,null,null,null,null,null,null,402,null,"Median presence on minor street","All",-0.32600000000000001,0.13,-2.5099999999999998,402,null,"Median presence on minor street","All",-0.30099999999999999,0.10199999999999999,-2.94,null,null,null,null,null,"3SG",-9.8000000000000004E-2,0.34399999999999997,5.72,null,null,"Major street left-turn-lane","3SG",-0.14899999999999999,0.14499999999999999,-1.02]
["Statewide","4SG","PDO","Statewide4SG",0.33,0.04,0.04,0.01,0.04,0.38,0.1,0.01,0.04,null,null,null,null,null,null,null,null,null,null,null,null,null,null,null,null,null,null,null,403,null,"Lighting presence","3ST/4ST",-0.30499999999999999,0.14499999999999999,-2.1,403,null,"Lighting presence","3ST/4ST",-0.13700000000000001,0.108,-1.27,null,null,null,null,"Inverse dispersion parameter for MV crashes","3ST",-0.49,0.622,2.16,null,null,null,"3ST",-0.35699999999999998,0.21099999999999999,-1.69]
["Statewide","3ST","PDO","Statewide3ST",0.5,0.02,0.03,0.01,0.05,0.24,0.11,0.02,0.03,null,null,null,null,null,null,null,null,null,null,null,null,null,null,null,null,null,null,null,404,null,"Number of lanes ","3SG/4SG",6.8000000000000005E-2,1.9E-2,3.67,404,null,"Number of lanes ","3SG/4SG",5.2999999999999999E-2,1.4999999999999999E-2,3.46,null,null,null,null,null,"3SG",1.9650000000000001,0.47599999999999998,7.59,null,null,"Inverse dispersion parameter for MV crashes","3SG",1.8169999999999999,0.22600000000000001,8.0299999999999994]
["Statewide","4ST","PDO","Statewide4ST",0.27,0.02,0.03,0,0.04,0.46,0.1,0.02,0.05,null,null,null,null,null,null,null,null,null,null,null,null,null,null,null,null,null,null,null,405,null,null,"3ST/4ST",4.5999999999999999E-2,3.6999999999999998E-2,1.25,405,null,null,"3ST/4ST",1.4E-2,2.8000000000000001E-2,0.52,null,null,null,null,null,"3ST",1.3420000000000001,0.23699999999999999,5.32,null,null,null,"3ST",0.748,0.127,5.88]
["Superior","3SG","PDO","Superior3SG",0.54,0.01,0.05,0.01,0.05,0.2,0.1,0.02,0.02,null,null,null,null,null,null,null,null,null,null,null,null,null,null,null,null,null,null,null,406,null,"Major street posted speed limit","3SG/4SG",1.9E-2,4.0000000000000001E-3,4.83,406,null,"Major street posted speed limit","3SG/4SG",6.0000000000000001E-3,3.0000000000000001E-3,1.85,null,null,null,null,null,"4SG",3.6139999999999999,0.53,1.37,null,null,null,"4SG",3.4430000000000001,0.32800000000000001,10.48]
["Superior","4SG","PDO","Superior4SG",0.42,0.04,0.11,0,0.06,0.22,0.11,0.01,0.02,null,null,null,null,null,null,null,null,null,null,null,null,null,null,null,null,null,null,null,407,null,null,"3ST/4ST",0.01,7.0000000000000001E-3,1.36,407,null,null,"3ST/4ST",-0.01,6.0000000000000001E-3,-1.76,null,null,null,null,"Inverse dispersion parameter for SV crashes","4ST",1.2589999999999999,2.2810000000000001,0.55000000000000004,null,null,null,"4ST",1.4550000000000001,0.17899999999999999,8.15]
["Superior","3ST","PDO","Superior3ST",0.48,0.02,0.02,0.01,0.05,0.27,0.1,0.02,0.03,null,null,null,null,null,null,null,null,null,null,null,null,null,null,null,null,null,null,null,408,null,"Right-turn-on-red prohibition","3SG/4SG",-0.30099999999999999,0.115,-2.61,408,null,"Right-turn-on-red prohibition","3SG/4SG",-6.3E-2,9.0999999999999998E-2,-0.69,null,null,null,null,null,"3SG",0.72599999999999998,5.63,0.84,null,null,"Inverse dispersion parameter for SV crashes","3SG",1.651,0.61499999999999999,2.69]
["Superior","4ST","PDO","Superior4ST",0.25,0.03,0.02,0,0.05,0.5,0.08,0,0.05,null,null,null,null,null,null,null,null,null,null,null,null,null,null,null,null,null,null,null,409,null,"Major street left-turn-lane","3SG",-6.7000000000000004E-2,0.17799999999999999,-0.38,409,null,"Major street left-turn-lane","3SG",-0.104,0.13800000000000001,-0.75,null,null,null,null,null,"3ST",1.2589999999999999,2.2810000000000001,0.55000000000000004,null,null,null,"3ST",0.73199999999999998,0.249,2.94]
["North","3SG","PDO","North3SG",0.54,0.01,0.05,0.01,0.05,0.2,0.1,0.02,0.02,null,null,null,null,null,null,null,null,null,null,null,null,null,null,null,null,null,null,null,410,null,null,"3ST",-0.40400000000000003,0.26100000000000001,-1.55,410,null,null,"3ST",-0.187,0.21,-0.89,null,null,null,null,null,"4SG",4.7080000000000002,null,null,null,null,null,"4SG",8.1389999999999993,7.8630000000000004,1.04]
["North","4SG","PDO","North4SG",0.42,0.04,0.11,0,0.06,0.22,0.11,0.01,0.02,null,null,null,null,null,null,null,null,null,null,null,null,null,null,null,null,null,null,null,411,null,"Inverse dispersion parameter for MV crashes","3SG",2.1230000000000002,0.38700000000000001,5.48,411,null,"Inverse dispersion parameter for MV crashes","3SG",2.2109999999999999,0.29299999999999998,7.54,null,null,null,"Observations",null,"4ST",1.2589999999999999,null,null,null,null,null,"4ST",0.73199999999999998,0.249,2.94]
["North","3ST","PDO","North3ST",0.48,0.02,0.02,0.01,0.05,0.27,0.1,0.02,0.03,null,null,null,null,null,null,null,null,null,null,null,null,null,null,null,null,null,null,null,412,null,null,"3ST",1.4510000000000001,0.69099999999999995,2.1,412,null,null,"3ST",0.79600000000000004,0.14000000000000001,5.69,null,null,null,null,null,"1059 intersections (3SG=176; 3ST=299; 4SG=283;4ST=301)",null,null,null,null,"Observations",null,"1059 intersections (3SG=176; 3ST=299; 4SG=283;4ST=301)"]
["North","4ST","PDO","North4ST",0.25,0.03,0.02,0,0.05,0.5,0.08,0,0.05,null,null,null,null,null,null,null,null,null,null,null,null,null,null,null,null,null,null,null,413,null,null,"4SG",3.8210000000000002,0.51300000000000001,7.45,413,null,null,"4SG",3.952,0.39,10.14]
["Grand","3SG","PDO","Grand3SG",0.54,0.01,0.05,0.01,0.05,0.2,0.1,0.02,0.02,null,null,null,null,null,null,null,null,null,null,null,null,null,null,null,null,null,null,null,414,null,null,"4ST",1.3540000000000001,0.26400000000000001,5.13,414,null,null,"4ST",1.5740000000000001,0.20100000000000001,7.83]
["Grand","4SG","PDO","Grand4SG",0.42,0.04,0.11,0,0.06,0.22,0.11,0.01,0.02,null,null,null,null,null,null,null,null,null,null,null,null,null,null,null,null,null,null,null,415,null,"Inverse dispersion parameter for SV crashes","3SG",0.93799999999999994,0.90700000000000003,1.03,415,null,"Inverse dispersion parameter for SV crashes","3SG",1.6859999999999999,0.67800000000000005,2.4900000000000002]
["Grand","3ST","PDO","Grand3ST",0.48,0.02,0.02,0.01,0.05,0.27,0.1,0.02,0.03,null,null,null,null,null,null,null,null,null,null,null,null,null,null,null,null,null,null,null,416,null,null,"3ST",1.0229999999999999,1.5649999999999999,0.65,416,null,null,"3ST",0.81699999999999995,0.29499999999999998,2.77]
["Grand","4ST","PDO","Grand4ST",0.25,0.03,0.02,0,0.05,0.5,0.08,0,0.05,null,null,null,null,null,null,null,null,null,null,null,null,null,null,null,null,null,null,null,417,null,null,"4SG",5.1829999999999998,6.1059999999999999,0.85,417,null,null,"4SG",8.6379999999999999,8.2569999999999997,1.05]
["Bay","3SG","PDO","Bay3SG",0.54,0.01,0.05,0.01,0.05,0.2,0.1,0.02,0.02,null,null,null,null,null,null,null,null,null,null,null,null,null,null,null,null,null,null,null,418,null,null,"4ST",1.0229999999999999,1.5649999999999999,0.65,418,null,null,"4ST",0.81699999999999995,0.29499999999999998,2.77]
["Bay","4SG","PDO","Bay4SG",0.42,0.04,0.11,0,0.06,0.22,0.11,0.01,0.02,null,null,null,null,null,null,null,null,null,null,null,null,null,null,null,null,null,null,null,419,"Observations",null,"1058 intersections (3SG=176; 3ST=299; 4SG=283;4ST=300)",null,null,null,419,"Observations",null,"1058 intersections (3SG=176; 3ST=299; 4SG=283;4ST=300)"]
["Bay","3ST","PDO","Bay3ST",0.48,0.02,0.02,0.01,0.05,0.27,0.1,0.02,0.03,null,null,null,null,null,null,null,null,null,null,null,null,null,null,null,null,null,null,null,420,null,null,null,null,null,null,420]
["Bay","4ST","PDO","Bay4ST",0.25,0.03,0.02,0,0.05,0.5,0.08,0,0.05,null,null,null,null,null,null,null,null,null,null,null,null,null,null,null,null,null,null,null,421,null,null,null,null,null,null,421,null,null,null,null,null,null,null,null,null,"Statewide, One-Way, F-I",null,null,null,"Std. Dev","t-statistic"]
["Southwest","3SG","PDO","Southwest3SG",0.54,0.01,0.05,0.01,0.05,0.2,0.1,0.02,0.02,null,null,null,null,null,null,null,null,null,null,null,null,null,null,null,null,null,null,null,422,"Regional Indicators, 1-Way, F-I","y","z","aa","ab","ac","ad","Regional Indicators, 1-Way, PDO","af","ag","ah","ai","aj",null,null,null,"Coefficient","Variable",null,null,3.9209999999999998,-1.97,null,"Statewide, One-Way, PDO"]
["Southwest","4SG","PDO","Southwest4SG",0.42,0.04,0.11,0,0.06,0.22,0.11,0.01,0.02,null,null,null,null,null,null,null,null,null,null,null,null,null,null,null,null,null,null,null,423,"Coefficient","Variable","Type","Value","Std. Dev","t-statistic",423,"Coefficient","Variable","Type","Value","Std. Dev","t-statistic",null,null,null,null,"Intercept","Type","Value",7.077,-2.02,null,"Coefficient","Variable","Type","Value","Std. Dev","t-statistic"]
["Southwest","3ST","PDO","Southwest3ST",0.48,0.02,0.02,0.01,0.05,0.27,0.1,0.02,0.03,null,null,null,null,null,null,null,null,null,null,null,null,null,null,null,null,null,null,null,424,null,"Intercept","3SG",-11.284000000000001,3.8290000000000002,-2.95,424,null,"Intercept","3SG",-9.952,3.165,-3.14,null,null,null,null,null,"3SG",-7.7430000000000003,1.7649999999999999,-1.1000000000000001,null,null,"Intercept","3SG",-3.96,3.4220000000000002,-1.1599999999999999]
["Southwest","4ST","PDO","Southwest4ST",0.25,0.03,0.02,0,0.05,0.5,0.08,0,0.05,null,null,null,null,null,null,null,null,null,null,null,null,null,null,null,null,null,null,null,425,null,null,"3ST",-16.437000000000001,7.3040000000000003,-2.25,425,null,null,"3ST",-13.749000000000001,3.9249999999999998,-3.5,null,null,null,null,null,"3ST",-14.268000000000001,3.5019999999999998,-2.82,null,null,null,"3ST",-9.391,3.5489999999999999,-2.65]
["University","3SG","PDO","University3SG",0.54,0.01,0.05,0.01,0.05,0.2,0.1,0.02,0.02,null,null,null,null,null,null,null,null,null,null,null,null,null,null,null,null,null,null,null,426,null,null,"4SG",-4.9020000000000001,1.89,-2.59,426,null,null,"4SG",-5.5380000000000003,1.5409999999999999,-3.59,null,null,null,null,null,"4SG",-1.9330000000000001,0.36699999999999999,1.8,null,null,null,"4SG",-2.024,1.72,-1.18]
["University","4SG","PDO","University4SG",0.42,0.04,0.11,0,0.06,0.22,0.11,0.01,0.02,null,null,null,null,null,null,null,null,null,null,null,null,null,null,null,null,null,null,null,427,null,null,"4ST",-9.7989999999999995,3.6850000000000001,-2.66,427,null,null,"4ST",-13.91,3.552,-3.92,null,null,null,null,"Total AADT ","4ST",-9.8610000000000007,0.68,1.64,null,null,null,"4ST",-12.769,3.4340000000000002,-3.72]
["University","3ST","PDO","University3ST",0.48,0.02,0.02,0.01,0.05,0.27,0.1,0.02,0.03,null,null,null,null,null,null,null,null,null,null,null,null,null,null,null,null,null,null,null,428,null,"Total AADT ","3SG",0.96599999999999997,0.35499999999999998,2.72,428,null,"Total AADT ","3SG",0.96399999999999997,0.29499999999999998,3.26,null,null,null,null,null,"3SG",0.66100000000000003,0.17100000000000001,1.1000000000000001,null,null,"Total AADT ","3SG",0.44400000000000001,0.32200000000000001,1.38]
["University","4ST","PDO","University4ST",0.25,0.03,0.02,0,0.05,0.5,0.08,0,0.05,null,null,null,null,null,null,null,null,null,null,null,null,null,null,null,null,null,null,null,429,null,null,"3ST",1.3140000000000001,0.70199999999999996,1.87,429,null,null,"3ST",1.2210000000000001,0.38,3.22,null,null,null,null,null,"3ST",1.113,0.34799999999999998,2.44,null,null,null,"3ST",0.81899999999999995,0.34300000000000003,2.39]
["Metro","3SG","PDO","Metro3SG",0.54,0.01,0.05,0.01,0.05,0.2,0.1,0.02,0.02,null,null,null,null,null,null,null,null,null,null,null,null,null,null,null,null,null,null,null,430,null,null,"4SG",0.42699999999999999,0.17699999999999999,2.42,430,null,null,"4SG",0.60599999999999998,0.14499999999999999,4.18,null,null,null,null,null,"4SG",0.189,5.0999999999999997E-2,1.27,null,null,null,"4SG",0.34300000000000003,0.16700000000000001,2.0499999999999998]
["Metro","4SG","PDO","Metro4SG",0.42,0.04,0.11,0,0.06,0.22,0.11,0.01,0.02,null,null,null,null,null,null,null,null,null,null,null,null,null,null,null,null,null,null,null,431,null,null,"4ST",0.8,0.36699999999999999,2.1800000000000002,431,null,null,"4ST",1.302,0.35399999999999998,3.68,null,null,null,null,"Number of lanes ","4ST",0.84899999999999998,8.5000000000000006E-2,0.18,null,null,null,"4ST",1.2629999999999999,0.34300000000000003,3.69]
["Metro","3ST","PDO","Metro3ST",0.48,0.02,0.02,0.01,0.05,0.27,0.1,0.02,0.03,null,null,null,null,null,null,null,null,null,null,null,null,null,null,null,null,null,null,null,432,null,"Superior","All",0,"--","--",432,null,"Superior","All",0.97199999999999998,0.379,2.56,null,null,null,null,null,"3SG/4SG",6.4000000000000001E-2,0.34300000000000003,2.78,null,null,"Number of lanes ","3SG/4SG",1.9E-2,4.5999999999999999E-2,0.42]
["Metro","4ST","PDO","Metro4ST",0.25,0.03,0.02,0,0.05,0.5,0.08,0,0.05,null,null,null,null,null,null,null,null,null,null,null,null,null,null,null,null,null,null,null,433,null,"North","All",0,"--","--",433,null,"North","All",0,"--","--",null,null,null,null,"Inverse dispersion parameter ","3ST/4ST",1.6E-2,0.24099999999999999,1.46,null,null,null,"3ST/4ST",-0.128,0.11899999999999999,-1.08]
[null,null,null,null,null,null,null,null,null,null,null,null,null,null,null,null,null,null,null,null,null,null,null,null,null,null,null,null,null,null,null,null,434,null,"Grand","All",0,"--","--",434,null,"Grand","All",0,"--","--",null,null,null,null,null,"3SG",0.95199999999999996,0.746,3.64,null,null,"Inverse dispersion parameter ","3SG",1.0349999999999999,0.26700000000000002,3.88]
[null,null,null,null,null,null,null,null,null,null,null,null,null,null,null,null,null,null,null,null,null,null,null,null,null,null,null,null,null,null,null,null,435,null,"Bay","All",0.64200000000000002,0.23100000000000001,2.78,435,null,"Bay","All",0.77100000000000002,0.19,4.05,null,null,null,null,null,"3ST",0.35099999999999998,1.601,1.51,null,null,null,"3ST",0.38700000000000001,0.114,3.4]
[null,null,null,null,null,null,null,null,null,null,null,null,null,null,null,null,null,null,null,null,null,null,null,null,null,null,null,null,null,null,null,null,436,null,"Southwest","All",0.69399999999999995,0.219,3.17,436,null,"Southwest","All",1.109,0.17899999999999999,6.19,null,null,null,null,null,"4SG",2.718,null,null,null,null,null,"4SG",2.6320000000000001,0.495,5.32]
[null,null,null,null,null,null,null,null,null,null,null,null,null,null,null,null,null,null,null,null,null,null,null,null,null,null,null,null,null,null,null,null,437,null,"University","All",0.49,0.23100000000000001,2.13,437,null,"University","All",0.88600000000000001,0.19,4.67,null,null,null,"Observations",null,"4ST",2.4209999999999998,null,null,null,null,null,"4ST",1.08,0.28199999999999997,3.83]
[null,null,null,null,null,null,null,null,null,null,null,null,null,null,null,null,null,null,null,null,null,null,null,null,null,null,null,null,null,null,null,null,438,null,"Metro","All",0,null,null,438,null,"Metro","All",0,null,null,null,null,null,null,null,"203 intersections (3SG=34; 3ST=54; 4SG=66;4ST=49)",null,null,null,null,"Observations",null,"203 intersections (3SG=34; 3ST=54; 4SG=66;4ST=49)"]
[null,null,null,null,null,null,null,null,null,null,null,null,null,null,null,null,null,null,null,null,null,null,null,null,null,null,null,null,null,null,null,null,439,null,"Number of lanes ","3SG/4SG",5.8000000000000003E-2,4.9000000000000002E-2,1.18,439,null,"Number of lanes ","3SG/4SG",1.9E-2,0.04,0.47]
[null,null,null,null,null,null,null,null,null,null,null,null,null,null,null,null,null,null,null,null,null,null,null,null,null,null,null,null,null,null,null,null,440,null,null,"3ST/4ST",5.2999999999999999E-2,0.09,0.59,440,null,null,"3ST/4ST",-0.128,0.111,-1.1499999999999999]
[null,null,null,null,null,null,null,null,null,null,null,null,null,null,null,null,null,null,null,null,null,null,null,null,null,null,null,null,null,null,null,null,441,null,"Inverse dispersion parameter ","3SG",1.1379999999999999,0.439,2.59,441,null,"Inverse dispersion parameter ","3SG",1.2749999999999999,0.35299999999999998,3.61]
[null,null,null,null,null,null,null,null,null,null,null,null,null,null,null,null,null,null,null,null,null,null,null,null,null,null,null,null,null,null,null,null,442,null,null,"3ST",0.32800000000000001,0.224,1.47,442,null,null,"3ST",0.36199999999999999,0.104,3.49]
[null,null,null,null,null,null,null,null,null,null,null,null,null,null,null,null,null,null,null,null,null,null,null,null,null,null,null,null,null,null,null,null,443,null,null,"4SG",3.4489999999999998,1.054,3.27,443,null,null,"4SG",3.8090000000000002,0.77600000000000002,4.91]
[null,null,null,null,null,null,null,null,null,null,null,null,null,null,null,null,null,null,null,null,null,null,null,null,null,null,null,null,null,null,null,null,444,null,null,"4ST",2.161,1.4219999999999999,1.52,444,null,null,"4ST",1.2569999999999999,0.34100000000000003,3.68]
[null,null,null,null,null,null,null,null,null,null,null,null,null,null,null,null,null,null,null,null,null,null,null,null,null,null,null,null,null,null,null,null,445,"Observations",null,"204 intersections (3SG=34; 3ST=54; 4SG=66;4ST=50)",null,null,null,445,"Observations",null,"204 intersections (3SG=34; 3ST=54; 4SG=66;4ST=50)"]
[]
[]
[]
[]
[]
[null,"One-Way Proportion of Crashes by Severity Level for Specific Intersection Types"]
[null,"Manner of Collision",null,null,"Single-Vehicle","Rear-end","Rear-end Left-turn","Rear-end Right-turn","Head-on","Head-on Left-turn","Angle","Sideswipe- Same","Sideswipe- Opposite","Other MV"]
[null,"Statewide","3SG","FI",0.03,0.56000000000000005,0,0.06,0.01,0.01,0.24,0.04,0.01,0.02]
[null,null,"3ST","FI",0.06,0.47,0,0.06,0.12,0,0.24,0.06,0,0]
[null,null,"4SG","FI",0.02,0.24,0.01,0.01,0.01,0.03,0.56000000000000005,0.08,0.01,0.04]
[null,null,"4ST","FI",0.05,0.14000000000000001,0.02,0.02,0.02,0.05,0.65,0.08,0,0]
[null,null,"3SG","PDO",0.05,0.47,0.01,0.05,0.01,0.01,0.21,0.15,0.02,0.04]
[null,null,"3ST","PDO",0.03,0.52,0,0.04,0,0.01,0.19,0.17,0.02,0.02]
[null,null,"4SG","PDO",0.03,0.28999999999999998,0.01,0.01,0.01,0.02,0.38,0.21,0.01,0.03]
[null,null,"4ST","PDO",0.04,0.15,0.03,0,0,0.02,0.48,0.23,0.02,0.03]
[]
[]
[]
[]
[]
[]
[]
[]
[]
[]
[]
[]
["Segments","Fatal-Injury Two-Way",null,null,null,null,null,null,null,"PDO Two-Way",null,null,null,null,null,null,null,"Fatal-Injury One-Way",null,null,null,null,null,null,null,null,null,null,"PDO One-Way"]
[]
[null,"Coefficient","Variable","Type","Value","Std. Dev","t-statistic",null,null,"Coefficient","Variable","Type","Value","Std. Dev","t-statistic",null,null,"Coefficient","Variable","Facility","Estimate","Std. Error",null,null,null,"t-statistic",null,null,"Coefficient","Variable","Facility","Estimate","Std. Error","t-statistic"]
[null,null,"Intercept for MV crashes","2U55E",-12.025,1.151,-10.45,null,null,null,"Intercept for MV crashes","2U55E",-13.959,0.97499999999999998,-14.32,null,null,null,"Intercept for MV crashes","2O",-10.263,2.8780000000000001,null,null,null,-3.57,null,null,null,"Intercept for MV crashes","2O",-6.5030000000000001,1.236,-5.26]
[null,null,null,"2U55L",-14.183,1.286,-11.03,null,null,null,null,"2U55L",-9.4939999999999998,0.89600000000000002,-10.6,null,null,null,null,"3O",-9.7750000000000004,3.024,null,null,null,-3.23,null,null,null,null,"3O",-6.3369999999999997,1.292,-4.91]
[null,null,null,"3T",-15.855,1.931,-8.2100000000000009,null,null,null,null,"3T",-13.413,1.452,-9.24,null,null,null,null,"4O",-9.3079999999999998,3.1259999999999999,null,null,null,-2.98,null,null,null,null,"4O",-6.31,1.329,-4.75]
[null,null,null,"4U",-14.25,1.115,-12.79,null,null,null,null,"4U",-14.791,0.84,-17.61,null,null,null,"AADT on MV crashes","All",0.94299999999999995,0.32100000000000001,null,null,null,2.93,null,null,null,"AADT on MV crashes","All",0.77600000000000002,0.13900000000000001,5.6]
[null,null,null,"4D",-16.829000000000001,1.6359999999999999,-10.29,null,null,null,null,"4D",-12.67,1.1319999999999999,-11.19,null,null,null,"Intercept for SV crashes","2O",-6.46,4.4219999999999997,null,null,null,-1.46,null,null,null,"Intercept for SV crashes","2O",-3.6419999999999999,2.4769999999999999,-1.47]
[null,null,null,"5T",-16.725000000000001,1.002,-16.7,null,null,null,null,"5T",-16.187999999999999,0.88300000000000001,-18.329999999999998,null,null,null,null,"3O",-5.0940000000000003,4.6429999999999998,null,null,null,-1.1000000000000001,null,null,null,null,"3O",-3.29,2.6080000000000001,-1.26]
[null,null,null,"6D",-14.898,1.976,-7.54,null,null,null,null,"6D",-13.954000000000001,1.6080000000000001,-8.68,null,null,null,null,"4O",-5.0940000000000003,4.6429999999999998,null,null,null,-1.1000000000000001,null,null,null,null,"4O",-3.29,2.6080000000000001,-1.26]
[null,null,null,"8D",-17.367000000000001,1.93,-9,null,null,null,null,"8D",-15.673999999999999,1.4490000000000001,-10.81,null,null,null,"AADT on SV crashes","All",0.33200000000000002,0.496,null,null,null,0.67,null,null,null,"AADT on SV crashes","All",0.29599999999999999,0.28000000000000003,1.06]
[null,null,"AADT on MV crashes","2U55E",1.238,0.126,9.81,null,null,null,"AADT on MV crashes","2U55E",1.5329999999999999,0.107,14.28,null,null,null,"Major commercial driveway density on MV crashes","All",1.0999999999999999E-2,6.0000000000000001E-3,null,null,null,1.85,null,null,null,"Major commercial driveway density on MV crashes","All",5.0000000000000001E-3,3.0000000000000001E-3,1.38]
[null,null,null,"2U55L",1.4490000000000001,0.13900000000000001,10.42,null,null,null,null,"2U55L",1.071,9.8000000000000004E-2,10.9,null,null,null,"Superior","All",0,"--",null,null,null,"--",null,null,null,"Superior","All",0,"--","--"]
[null,null,null,"3T",1.61,0.20499999999999999,7.85,null,null,null,null,"3T",1.4830000000000001,0.155,9.5399999999999991,null,null,null,"North","All",0,"--",null,null,null,"--",null,null,null,"North","All",0,"--","--"]
[null,null,null,"4U",1.4259999999999999,0.11899999999999999,12.03,null,null,null,null,"4U",1.6379999999999999,0.09,18.18,null,null,null,"Grand","All",0,"--",null,null,null,"--",null,null,null,"Grand","All",0,"--","--"]
[null,null,null,"4D",1.702,0.17100000000000001,9.98,null,null,null,null,"4D",1.403,0.11899999999999999,11.81,null,null,null,"Bay","All",-0.998,0.28699999999999998,null,null,null,-3.47,null,null,null,"Bay","All",-0.67900000000000005,0.13,-5.23]
[null,null,null,"5T",1.706,0.1,17.04,null,null,null,null,"5T",1.772,8.8999999999999996E-2,19.96,null,null,null,"Southwest","All",0,"--",null,null,null,"--",null,null,null,"Southwest","All",0,"--","--"]
[null,null,null,"6D",1.486,0.19600000000000001,7.58,null,null,null,null,"6D",1.5429999999999999,0.16,9.6300000000000008,null,null,null,"Metro","All",0,"--",null,null,null,"--",null,null,null,"Metro","All",0,"--","--"]
[null,null,null,"8D",1.7170000000000001,0.19,9.0399999999999991,null,null,null,null,"8D",1.7,0.14299999999999999,11.89,null,null,null,"University","All",0,"--",null,null,null,"--",null,null,null,"University","All",0,"--","--"]
[null,null,"Intercept for SV crashes","2U55E",-4.8810000000000002,1.113,-4.3899999999999997,null,null,null,"Intercept for SV crashes","2U55E",-2.577,0.67400000000000004,-3.82,null,null,null,"Statewide","All",0,"--",null,null,null,"--",null,null,null,"Statewide","All",0,"--","--"]
[null,null,null,"2U55L",-3.8519999999999999,1.351,-2.85,null,null,null,null,"2U55L",-2.206,1.054,-2.09,null,null,null,"Inverse dispersion parameter for MV crashes","2O",0.56100000000000005,1.373,null,null,null,0.41,null,null,null,"Inverse dispersion parameter for MV crashes","2O",2.3809999999999998,0.77,3.09]
[null,null,null,"3T",-6.6040000000000001,2.89,-2.2799999999999998,null,null,null,null,"3T",-7.3109999999999999,1.7929999999999999,-4.08,null,null,null,null,"3O",3.5409999999999999,2.7869999999999999,null,null,null,1.27,null,null,null,null,"3O",2.4500000000000002,0.32,7.65]
[null,null,null,"4U",-3.8239999999999998,1.1779999999999999,-3.25,null,null,null,null,"4U",-6.36,0.99,-6.43,null,null,null,null,"4O",0.79200000000000004,0.61399999999999999,null,null,null,1.29,null,null,null,null,"4O",1.849,0.45200000000000001,4.09]
[null,null,null,"4D",-7.8470000000000004,2.6080000000000001,-3.01,null,null,null,null,"4D",-4.2489999999999997,1.9059999999999999,-2.23,null,null,null,null,"2O",4.0199999999999996,18.045000000000002,null,null,null,0.22,null,null,null,null,"2O",1.327,1.097,1.21]
[null,null,null,"5T",-4.7430000000000003,1.5649999999999999,-3.03,null,null,null,null,"5T",-3.536,1.202,-2.94,null,null,null,"Inverse dispersion parameter for SV crashes","3O",0.45900000000000002,0.75700000000000001,null,null,null,0.61,null,null,null,"Inverse dispersion parameter for SV crashes","3O",0.434,0.28399999999999997,1.53]
[null,null,null,"6D",-9.2010000000000005,3.0129999999999999,-3.05,null,null,null,null,"6D",-7.0170000000000003,1.9730000000000001,-3.56,null,null,null,null,"4O",0.45900000000000002,0.75700000000000001,null,null,null,0.61,null,null,null,null,"4O",0.434,0.28399999999999997,1.53]
[null,null,null,"8D",-7.8280000000000003,3.093,-2.5299999999999998,null,null,null,null,"8D",-8.9809999999999999,2.278,-3.94,null,null,"Observations",null,"181 segments (2O=33; 3O=117; 4O=31)",null,null,null,null,null,null,null,null,"Observations",null,"181 segments (2O=33; 3O=117; 4O=31)"]
[null,null,"AADT on SV crashes","2U55E",0.38700000000000001,0.124,3.13,null,null,null,"AADT on SV crashes","2U55E",0.38900000000000001,7.4999999999999997E-2,5.15]
[null,null,null,"2U55L",0.23300000000000001,0.14899999999999999,1.56,null,null,null,null,"2U55L",0.27400000000000002,0.11700000000000001,2.34]
[null,null,null,"3T",0.48699999999999999,0.31,1.57,null,null,null,null,"3T",0.80100000000000005,0.193,4.1500000000000004]
[null,null,null,"4U",0.20699999999999999,0.128,1.62,null,null,null,null,"4U",0.66700000000000004,0.106,6.31]
[null,null,null,"4D",0.624,0.27400000000000002,2.2799999999999998,null,null,null,null,"4D",0.44500000000000001,0.20200000000000001,2.21]
[null,null,null,"5T",0.315,0.157,2,null,null,null,null,"5T",0.36299999999999999,0.121,3]
[null,null,null,"6D",0.72099999999999997,0.29899999999999999,2.42,null,null,null,null,"6D",0.65200000000000002,0.19700000000000001,3.31]
[null,null,null,"8D",0.57499999999999996,0.30399999999999999,1.89,null,null,null,null,"8D",0.82199999999999995,0.224,3.66]
[null,null,"Commercial vehicle proportion","All",1.1439999999999999,0.65100000000000002,1.76,null,null,null,"Commercial vehicle proportion","All",1.486,0.54600000000000004,2.72]
[null,null,"Superior","All",-0.16300000000000001,7.5999999999999998E-2,-2.15,null,null,null,"Superior","All",0,"--","--"]
[null,null,"North","All",0,"--","--",null,null,null,"North","All",0.151,5.1999999999999998E-2,2.92]
[null,null,"Grand","All",0.17,5.0999999999999997E-2,3.36,null,null,null,"Grand","All",0.19900000000000001,4.1000000000000002E-2,4.8600000000000003]
[null,null,"Bay","All",0,"--","--",null,null,null,"Bay","All",0,"--","--"]
[null,null,"Southwest","All",0,"--","--",null,null,null,"Southwest","All",0,"--","--"]
[null,null,"Metro","All",0,"--","--",null,null,null,"Metro","All",0,"--","--"]
[null,null,"University","All",0,"--","--",null,null,null,"University","All",0.13500000000000001,3.7999999999999999E-2,3.53]
[null,null,"Statewide","All",0,"--","--",null,null,null,"Statewide","All",0,"--","--"]
[null,null,"Lane width","All",-2.5999999999999999E-2,6.4000000000000001E-2,-0.4,null,null,null,"Lane width","All",-1.2999999999999999E-2,4.5999999999999999E-2,-0.27]
[null,null,"Left shoulder width","4D/6D/8D",-2.1999999999999999E-2,2.4E-2,-0.91,null,null,null,"Left shoulder width","4D/6D/8D",3.5999999999999997E-2,1.7999999999999999E-2,1.96]
[null,null,"Median width","4D/6D/8D",{"$f":"-0.041+N(\"-0.138 is from a different study\")","v":-4.1000000000000002E-2},0.123,-1.1200000000000001,null,null,null,"Median width","4D/6D/8D",{"$f":"-0.041+N(\"-0.254 is from a different study\")","v":-4.1000000000000002E-2},9.6000000000000002E-2,-2.63]
[null,null,"Commercial driveway density ","All",1.4E-2,2E-3,9.36,null,null,null,"Commercial driveway density ","All",1.4E-2,1E-3,9.98]
[null,null,"Industrial driveway density ","All",5.0000000000000001E-3,4.0000000000000001E-3,1.1399999999999999,null,null,null,"Industrial driveway density ","All",8.9999999999999993E-3,3.0000000000000001E-3,2.63]
[null,null,"Residential driveway density ","All",2E-3,2E-3,1,null,null,null,"Residential driveway density ","All",-2E-3,2E-3,-1.28]
[null,null,"Other type driveway density ","All",3.0000000000000001E-3,2E-3,1.98,null,null,null,"Other type driveway density ","All",6.0000000000000001E-3,1E-3,4.2699999999999996]
[null,null,"Inverse dispersion parameter for MV crashes","2U55E",1.1080000000000001,0.26200000000000001,4.22,null,null,null,"Inverse dispersion parameter for MV crashes","2U55E",1.02,0.16400000000000001,6.23]
[null,null,null,"2U55L",1.288,0.26600000000000001,4.8499999999999996,null,null,null,null,"2U55L",0.79800000000000004,0.121,6.58]
[null,null,null,"3T",1.012,0.23899999999999999,4.24,null,null,null,null,"3T",0.89700000000000002,0.123,7.28]
[null,null,null,"4U",0.58199999999999996,0.17899999999999999,3.26,null,null,null,null,"4U",0.57499999999999996,0.10100000000000001,5.68]
[null,null,null,"4D",1.266,0.214,5.92,null,null,null,null,"4D",1.3480000000000001,0.121,11.17]
[null,null,null,"5T",1.1839999999999999,0.106,11.14,null,null,null,null,"5T",0.94799999999999995,7.3999999999999996E-2,12.83]
[null,null,null,"6D",0.91700000000000004,0.219,4.1900000000000004,null,null,null,null,"6D",0.77,0.151,5.0999999999999996]
[null,null,null,"8D",0.56599999999999995,0.154,3.68,null,null,null,null,"8D",0.79400000000000004,0.11700000000000001,6.81]
[null,null,"Inverse dispersion parameter for SV crashes","2U55E",1.4550000000000001,0.48899999999999999,2.97,null,null,null,"Inverse dispersion parameter for SV crashes","2U55E",1.2829999999999999,0.121,10.6]
[null,null,null,"2U55L",0.88700000000000001,0.44900000000000001,1.98,null,null,null,null,"2U55L",0.35,0.11799999999999999,2.95]
[null,null,null,"3T",0.23599999999999999,0.39400000000000002,0.6,null,null,null,null,"3T",0.39800000000000002,0.126,3.16]
[null,null,null,"4U",0.90800000000000003,0.36099999999999999,2.52,null,null,null,null,"4U",0.93700000000000006,0.14399999999999999,6.53]
[null,null,null,"4D",0.79200000000000004,0.45700000000000002,1.74,null,null,null,null,"4D",0.40400000000000003,0.13800000000000001,2.93]
[null,null,null,"5T",1.1970000000000001,0.35199999999999998,3.4,null,null,null,null,"5T",0.94499999999999995,0.11,8.6199999999999992]
[null,null,null,"6D",0.83199999999999996,0.59399999999999997,1.4,null,null,null,null,"6D",0.61099999999999999,0.23,2.65]
[null,null,null,"8D",0.63600000000000001,0.48599999999999999,1.31,null,null,null,null,"8D",0.53400000000000003,0.215,2.4900000000000002]
[null,"Observations",null,"2057 segments (2U55E=213; 2U55L=271; 3T=237; 4U=239; 4D=373; 5T=440; 6D=119; 8D=165)",null,null,null,null,null,"Observations",null,"2057 segments (2U55E=213; 2U55L=271; 3T=237; 4U=239; 4D=373; 5T=440; 6D=119; 8D=165)"]
[]
[]
[]
["Segments Proportion Tables",null,null,"MultiVehicle and Single Vehicle",null,null,null,null,null,null,null,null,null,null,null,"MultiVehicle Only"]
["Region/Facility/Severity","Single Vehicle","Rear-end","Rear-end Left-turn","Rear-end Right-turn","Head-on","Head-on Left-turn","Angle","Sideswipe-Same","Sideswipe-Opposite","Other MV","Pedestrian","Bicycle",null,null,"Region/Facility/Severity","Rear-end",null,null,null,null,null,null,null,null,null,"Sideswipe-Opposite","Other MV"]
["Statewide2UFI",0.31775110549589386,0.28363866077068856,3.2849020846494E-2,8.2122552116234999E-3,8.2754264055590651E-2,2.0846493998736577E-2,0.11244472520530638,3.5375868603916616E-2,4.1692987997473153E-2,3.2217308907138344E-2,1.8951358180669616E-2,1.3265950726468731E-2,null,null,"Statewide2UFI",0.43634596695821187,"Rear-end Left-turn","Rear-end Right-turn","Head-on","Head-on Left-turn","Angle",null,null,null,"Sideswipe-Same",6.4139941690962099E-2,4.9562682215743441E-2]
["Statewide2UPDO",0.64802673865535421,0.16428846895487853,1.0026995757809487E-2,4.1136392852551742E-3,5.6562540172258643E-3,7.9701761151818994E-3,5.064918369970433E-2,5.1163388610361231E-2,1.9154132921969404E-2,3.8308265843938809E-2,3.8565368299267258E-4,2.5710245532844839E-4,null,null,"Statewide2UPDO",0.46761800219538968,5.0534499514091349E-2,1.2633624878522837E-2,0.12730806608357628,3.2069970845481049E-2,0.1729834791059281,null,null,null,5.4421768707482991E-2,5.4518843761434323E-2,0.10903768752286865]
["Statewide3TFI",0.18074656188605109,0.38703339882121807,1.37524557956778E-2,2.75049115913556E-2,3.9292730844793712E-2,4.9115913555992138E-2,0.16306483300589392,2.1611001964636542E-2,2.75049115913556E-2,1.5717092337917484E-2,3.1434184675834968E-2,4.3222003929273084E-2,null,null,"Statewide3TFI",0.51978891820580475,2.8540065861690452E-2,1.1708744968898645E-2,1.6099524332235639E-2,2.2685693377241127E-2,0.14416392242956458,null,null,null,0.14562751555067691,3.6939313984168866E-2,2.1108179419525065E-2]
["Statewide3TPDO",0.38464818763326225,0.31215351812366737,3.8379530916844351E-3,1.3646055437100213E-2,8.5287846481876331E-3,1.4925373134328358E-2,0.12238805970149254,8.1449893390191902E-2,1.7057569296375266E-2,3.9658848614072498E-2,0,1.7057569296375266E-3,null,null,"Statewide3TPDO",0.50868658790826959,1.8469656992084433E-2,3.6939313984168866E-2,5.2770448548812667E-2,6.5963060686015831E-2,0.21899736147757257,null,null,null,2.9023746701846966E-2,2.7797081306462822E-2,6.4628214037526055E-2]
["Statewide4UFI",0.16604708798017348,0.32837670384138784,5.7001239157372985E-2,6.1957868649318466E-3,5.4522924411400248E-2,5.4522924411400248E-2,0.16852540272614622,4.0892193308550186E-2,2.2304832713754646E-2,2.6022304832713755E-2,4.0892193308550186E-2,3.4696406443618343E-2,null,null,"Statewide4UFI",0.43300653594771243,6.2543432939541352E-3,2.2237665045170257E-2,1.3898540653231411E-2,2.4322446143154968E-2,0.19944405837387075,null,null,null,0.13273106323835998,2.9411764705882353E-2,3.4313725490196081E-2]
["Statewide4UPDO",0.28780934922089824,0.26306141154903756,2.322028719828903E-2,1.3137794072716162E-2,5.8050717995722576E-3,2.1387106630003056E-2,0.13687748243201955,0.17567980446073939,1.9859456156431407E-2,4.857928505957837E-2,1.5276504735716467E-3,3.0553009471432934E-3,null,null,"Statewide4UPDO",0.37176165803108807,7.5163398692810454E-2,8.1699346405228763E-3,7.1895424836601302E-2,7.1895424836601302E-2,0.22222222222222221,null,null,null,5.3921568627450983E-2,2.8065630397236616E-2,6.8652849740932637E-2]
["Statewide5TFI",9.4654498044328558E-2,0.35775749674054758,6.2581486310299868E-3,8.8657105606258155E-3,4.0677966101694912E-2,7.066492829204693E-2,0.27249022164276404,4.2242503259452412E-2,1.5645371577574969E-2,3.2073011734028684E-2,3.5462842242503262E-2,2.3207301173402868E-2,null,null,"Statewide5TFI",0.42254388666461351,3.281519861830743E-2,1.8566493955094993E-2,8.2037996545768575E-3,3.0224525043177894E-2,0.19343696027633853,null,null,null,0.24827288428324698,1.8478595626732368E-2,3.7881121034801353E-2]
["Statewide5TPDO",0.17830335646508993,0.32098852853703441,5.9481659821555019E-3,1.1542274465373177E-2,9.2763064721710798E-3,3.0944625407166124E-2,0.2093896048718312,0.165415663503753,2.2022376433932872E-2,4.4115564367653307E-2,1.0621724968134826E-3,9.9136099702591706E-4,null,null,"Statewide5TPDO",0.39161987041036717,7.3914382506929475E-3,1.0471204188481676E-2,4.8044348629504158E-2,8.3461656914074533E-2,0.3218355404989221,null,null,null,4.9892208192177392E-2,2.6868250539956805E-2,5.3822894168466522E-2]
["Statewide4DFI",0.29049773755656111,0.45339366515837104,9.9547511312217188E-3,7.2398190045248872E-3,1.6289592760180997E-2,4.5248868778280547E-3,8.7782805429864247E-2,5.6108597285067875E-2,8.1447963800904983E-3,3.9819004524886875E-2,1.4479638009049774E-2,1.1764705882352941E-2,null,null,"Statewide4DFI",0.66357615894039734,7.2570194384449244E-3,1.4082073434125269E-2,1.1317494600431965E-2,3.7753779697624189E-2,0.2554643628509719,null,null,null,0.20181425485961124,1.1920529801324504E-2,5.8278145695364242E-2]
["Statewide4DPDO",0.42344497607655501,0.3286056049213944,9.3984962406015032E-3,3.246753246753247E-3,4.7846889952153108E-3,2.050580997949419E-3,4.955570745044429E-2,0.13482570061517429,6.8352699931647299E-3,3.6739576213260426E-2,1.7088174982911826E-4,3.4176349965823653E-4,null,null,"Statewide4DPDO",0.5704538712548205,1.456953642384106E-2,1.0596026490066225E-2,2.3841059602649008E-2,6.6225165562913907E-3,0.12847682119205298,null,null,null,8.211920529801324E-2,1.1865915158706615E-2,6.377929397804806E-2]
["Statewide6DFI",0.10666666666666667,0.56133333333333335,6.6666666666666671E-3,9.3333333333333341E-3,5.3333333333333332E-3,0,0.12666666666666668,7.4666666666666673E-2,4.0000000000000001E-3,3.8666666666666669E-2,3.5999999999999997E-2,3.0666666666666665E-2,null,null,"Statewide6DFI",0.67903225806451617,1.6315633343221597E-2,5.6363097003856426E-3,8.3061406110946298E-3,3.5597745476119848E-3,8.6027884900622964E-2,null,null,null,0.23405517650548799,4.8387096774193551E-3,4.6774193548387098E-2]
["Statewide6DPDO",0.11078998073217726,0.48811817597944768,1.7983301220295438E-2,9.6339113680154135E-3,2.569043031470777E-3,6.4226075786769424E-4,7.7071290944123308E-2,0.24149004495825305,4.8169556840077067E-3,4.5600513808606295E-2,6.4226075786769424E-4,6.4226075786769424E-4,null,null,"Statewide6DPDO",0.54972875226039786,8.0645161290322578E-3,1.1290322580645161E-2,6.4516129032258064E-3,0,0.15322580645161291,null,null,null,9.0322580645161285E-2,5.4249547920433997E-3,5.1356238698010849E-2]
["Statewide8DFI",9.4393186657203684E-2,0.52590489709013488,9.9361249112845992E-3,1.4194464158977998E-2,9.2264017033356991E-3,1.4194464158977999E-3,0.14549325762952448,9.5102909865152588E-2,4.2583392476933995E-3,3.5486160397444996E-2,4.4712562100780694E-2,1.9872249822569198E-2,null,null,"Statewide8DFI",0.62531645569620253,2.0253164556962026E-2,1.0849909584086799E-2,2.8933092224231465E-3,7.2332730560578662E-4,8.6799276672694395E-2,null,null,null,0.27197106690777578,5.0632911392405064E-3,4.2194092827004218E-2]
["Statewide8DPDO",8.9698538931015356E-2,0.45755502126872571,1.0911781024597743E-2,9.6171629369336039E-3,3.3290179397077861E-3,1.8494544109487701E-4,0.10911781024597744,0.25189569077122248,8.6924357314592197E-3,5.7148141298316996E-2,1.2946180876641392E-3,5.5483632328463101E-4,null,null,"Statewide8DPDO",0.50366449511400646,1.1814345991561181E-2,1.6877637130801686E-2,1.0970464135021098E-2,1.6877637130801688E-3,0.1729957805907173,null,null,null,0.11308016877637131,9.5684039087947891E-3,6.2907166123778502E-2]
["Statewide2OFI",0.11764705882352941,0.29411764705882354,0,0,0,0,0.17647058823529413,0.17647058823529413,0,0,0,0.23529411764705882,null,null,"Statewide2OFI",0.45454545454545453,1.2011400651465798E-2,1.0586319218241042E-2,3.6644951140065146E-3,2.0358306188925082E-4,0.12011400651465798,null,null,null,0.27728013029315962,0,0]
["Statewide2OPDO",0.12953367875647667,0.17616580310880828,1.5544041450777202E-2,5.1813471502590676E-3,1.5544041450777202E-2,0,8.2901554404145081E-2,0.45595854922279794,3.1088082901554404E-2,8.2901554404145081E-2,0,5.1813471502590676E-3,null,null,"Statewide2OPDO",0.20359281437125748,0,0,0,0,0.27272727272727271,null,null,null,0.27272727272727271,3.5928143712574849E-2,9.580838323353294E-2]
["Statewide3OFI",0.23584905660377359,0.34905660377358488,9.433962264150943E-3,9.433962264150943E-3,9.433962264150943E-3,0,0.13207547169811321,0.12264150943396226,9.433962264150943E-3,3.7735849056603772E-2,2.8301886792452831E-2,5.6603773584905662E-2,null,null,"Statewide3OFI",0.51388888888888884,1.7964071856287425E-2,5.9880239520958087E-3,1.7964071856287425E-2,0,9.580838323353294E-2,null,null,null,0.52694610778443118,1.3888888888888888E-2,5.5555555555555552E-2]
["Statewide3OPDO",0.17728055077452667,0.23235800344234078,1.549053356282272E-2,1.0327022375215147E-2,3.4423407917383822E-3,3.4423407917383822E-3,0.10327022375215146,0.37005163511187605,6.8846815834767644E-3,7.4010327022375214E-2,1.7211703958691911E-3,1.7211703958691911E-3,null,null,"Statewide3OPDO",0.28361344537815125,1.3888888888888888E-2,1.3888888888888888E-2,1.3888888888888888E-2,0,0.19444444444444445,null,null,null,0.18055555555555555,8.4033613445378148E-3,9.0336134453781511E-2]
["Statewide4OFI",0.10526315789473684,0.19298245614035087,0,0,3.5087719298245612E-2,0,0.14035087719298245,0.35087719298245612,0,8.771929824561403E-2,3.5087719298245612E-2,5.2631578947368418E-2,null,null,"Statewide4OFI",0.2391304347826087,1.8907563025210083E-2,1.2605042016806723E-2,4.2016806722689074E-3,4.2016806722689074E-3,0.12605042016806722,null,null,null,0.45168067226890757,0,0.10869565217391304]
["Statewide4OPDO",9.3655589123867067E-2,0.16314199395770393,1.2084592145015106E-2,9.0634441087613302E-3,3.0211480362537764E-3,6.0422960725075529E-3,0.17220543806646527,0.48338368580060426,1.2084592145015106E-2,4.5317220543806644E-2,0,0,null,null,"Statewide4OPDO",0.18,0,0,4.3478260869565216E-2,0,0.17391304347826086,null,null,null,0.43478260869565216,1.3333333333333334E-2,0.05]
["Superior2UFI",0.4777777777777778,0.22222222222222221,4.4444444444444446E-2,0,6.6666666666666666E-2,1.1111111111111112E-2,4.4444444444444446E-2,3.3333333333333333E-2,3.3333333333333333E-2,2.2222222222222223E-2,3.3333333333333333E-2,1.1111111111111112E-2,null,null,"Superior2UFI",0.46511627906976744,1.3333333333333334E-2,0.01,3.3333333333333335E-3,6.6666666666666671E-3,0.19,null,null,null,0.53333333333333333,6.9767441860465115E-2,4.6511627906976744E-2]
["Superior2UPDO",0.756140350877193,7.7192982456140355E-2,3.5087719298245615E-3,3.5087719298245615E-3,3.5087719298245615E-3,1.7543859649122807E-3,3.6842105263157891E-2,4.736842105263158E-2,1.0526315789473684E-2,5.9649122807017542E-2,0,0,null,null,"Superior2UPDO",0.31654676258992803,9.3023255813953487E-2,0,0.13953488372093023,2.3255813953488372E-2,9.3023255813953487E-2,null,null,null,6.9767441860465115E-2,4.3165467625899283E-2,0.2446043165467626]
["Superior3TFI",0,0,0,0,0,0,0,0,0,0,0,0,null,null,"Superior3TFI",0,1.4388489208633094E-2,1.4388489208633094E-2,1.4388489208633094E-2,7.1942446043165471E-3,0.15107913669064749,null,null,null,0.19424460431654678,0,0]
["Superior3TPDO",0.25,0.2857142857142857,0,3.5714285714285712E-2,3.5714285714285712E-2,0,3.5714285714285712E-2,0.21428571428571427,0,0.14285714285714285,0,0,null,null,"Superior3TPDO",0.38095238095238093,0,0,0,0,0,null,null,null,0,0,0.19047619047619047]
["Superior4UFI",9.375E-2,0.375,3.125E-2,0,6.25E-2,3.125E-2,0.28125,9.375E-2,0,3.125E-2,0,0,null,null,"Superior4UFI",0.41379310344827586,0,4.7619047619047616E-2,4.7619047619047616E-2,0,4.7619047619047616E-2,null,null,null,0.2857142857142857,0,3.4482758620689655E-2]
["Superior4UPDO",0.49044585987261147,0.12738853503184713,3.1847133757961783E-2,1.9108280254777069E-2,6.369426751592357E-3,3.1847133757961783E-2,0.15286624203821655,0.10828025477707007,6.369426751592357E-3,2.5477707006369428E-2,0,0,null,null,"Superior4UPDO",0.25,3.4482758620689655E-2,0,6.8965517241379309E-2,3.4482758620689655E-2,0.31034482758620691,null,null,null,0.10344827586206896,1.2500000000000001E-2,0.05]
["Superior5TFI",0.22388059701492538,0.21641791044776118,0,7.462686567164179E-3,0.1044776119402985,3.7313432835820892E-2,0.27611940298507465,5.9701492537313432E-2,2.2388059701492536E-2,2.9850746268656716E-2,1.4925373134328358E-2,7.462686567164179E-3,null,null,"Superior5TFI",0.28712871287128711,6.25E-2,3.7499999999999999E-2,1.2500000000000001E-2,6.25E-2,0.3,null,null,null,0.21249999999999999,2.9702970297029702E-2,3.9603960396039604E-2]
["Superior5TPDO",0.58309037900874638,9.9125364431486881E-2,4.3731778425655978E-3,8.7463556851311956E-3,1.3119533527696793E-2,1.6034985422740525E-2,0.10641399416909621,0.11516034985422741,2.0408163265306121E-2,3.2069970845481049E-2,1.4577259475218659E-3,0,null,null,"Superior5TPDO",0.23859649122807017,0,9.9009900990099011E-3,0.13861386138613863,4.9504950495049507E-2,0.36633663366336633,null,null,null,7.9207920792079209E-2,4.912280701754386E-2,7.7192982456140355E-2]
["Superior4DFI",0.42105263157894735,0.26315789473684209,0,1.3157894736842105E-2,1.3157894736842105E-2,1.3157894736842105E-2,9.2105263157894732E-2,5.2631578947368418E-2,1.3157894736842105E-2,9.2105263157894732E-2,2.6315789473684209E-2,0,null,null,"Superior4DFI",0.47619047619047616,1.0526315789473684E-2,2.1052631578947368E-2,3.1578947368421054E-2,3.8596491228070177E-2,0.256140350877193,null,null,null,0.27719298245614032,2.3809523809523808E-2,0.16666666666666666]
["Superior4DPDO",0.61052631578947369,0.15789473684210525,1.0526315789473684E-2,4.2105263157894736E-3,1.0526315789473684E-2,0,5.894736842105263E-2,9.4736842105263161E-2,1.2631578947368421E-2,0.04,0,0,null,null,"Superior4DPDO",0.40540540540540543,0,2.3809523809523808E-2,2.3809523809523808E-2,2.3809523809523808E-2,0.16666666666666666,null,null,null,9.5238095238095233E-2,3.2432432432432434E-2,0.10270270270270271]
["Superior6DFI",0,0,0,0,0,0,0,0,0,0,0,0,null,null,"Superior6DFI",0,2.7027027027027029E-2,1.0810810810810811E-2,2.7027027027027029E-2,0,0.15135135135135136,null,null,null,0.24324324324324326,0,0]
["Superior6DPDO",0,0,0,0,0,0,0,0,0,0,0,0,null,null,"Superior6DPDO",0,0,0,0,0,0,null,null,null,0,0,0]
["Superior8DFI",0,0,0,0,0,0,0,0,0,0,0,0,null,null,"Superior8DFI",0,0,0,0,0,0,null,null,null,0,0,0]
["Superior8DPDO",0,0,0,0,0,0,0,0,0,0,0,0,null,null,"Superior8DPDO",0,0,0,0,0,0,null,null,null,0,0,0]
["Superior2OFI",0.33333333333333331,0,0,0,0,0,0,0.33333333333333331,0,0,0,0.33333333333333331,null,null,"Superior2OFI",0,0,0,0,0,0,null,null,null,0,0,0]
["Superior2OPDO",6.741573033707865E-2,0.14606741573033707,0,0,3.3707865168539325E-2,0,5.6179775280898875E-2,0.5056179775280899,6.741573033707865E-2,0.11235955056179775,0,1.1235955056179775E-2,null,null,"Superior2OPDO",0.15853658536585366,0,0,0,0,0,null,null,null,1,7.3170731707317069E-2,0.12195121951219512]
["Superior3OFI",0,0,0,0,0,0,0,0,0,0,0,0,null,null,"Superior3OFI",0,0,0,3.6585365853658534E-2,0,6.097560975609756E-2,null,null,null,0.54878048780487809,0,0]
["Superior3OPDO",0,0,0,0,0,0,0,0,0,0,0,0,null,null,"Superior3OPDO",0,0,0,0,0,0,null,null,null,0,0,0]
["Superior4OFI",0,0,0,0,0,0,0,0,0,0,0,0,null,null,"Superior4OFI",0,0,0,0,0,0,null,null,null,0,0,0]
["Superior4OPDO",0,0,0,0,0,0,0,0,0,0,0,0,null,null,"Superior4OPDO",0,0,0,0,0,0,null,null,null,0,0,0]
["North2UFI",0.3971631205673759,0.26241134751773049,2.8368794326241134E-2,7.0921985815602835E-3,4.2553191489361701E-2,1.4184397163120567E-2,0.11347517730496454,2.8368794326241134E-2,4.2553191489361701E-2,1.4184397163120567E-2,2.1276595744680851E-2,2.8368794326241134E-2,null,null,"North2UFI",0.47435897435897434,0,0,0,0,0,null,null,null,0,7.6923076923076927E-2,2.564102564102564E-2]
["North2UPDO",0.70636792452830188,0.12617924528301888,2.0047169811320754E-2,4.7169811320754715E-3,3.5377358490566039E-3,9.433962264150943E-3,4.5990566037735846E-2,3.7735849056603772E-2,1.7688679245283018E-2,2.8301886792452831E-2,0,0,null,null,"North2UPDO",0.42971887550200805,5.128205128205128E-2,1.282051282051282E-2,7.6923076923076927E-2,2.564102564102564E-2,0.20512820512820512,null,null,null,5.128205128205128E-2,6.0240963855421686E-2,9.6385542168674704E-2]
["North3TFI",0.2153846153846154,0.35384615384615387,1.5384615384615385E-2,4.6153846153846156E-2,3.0769230769230771E-2,7.6923076923076927E-2,0.12307692307692308,1.5384615384615385E-2,6.1538461538461542E-2,1.5384615384615385E-2,3.0769230769230771E-2,1.5384615384615385E-2,null,null,"North3TFI",0.47916666666666669,6.8273092369477914E-2,1.6064257028112448E-2,1.2048192771084338E-2,3.2128514056224897E-2,0.15662650602409639,null,null,null,0.12851405622489959,8.3333333333333329E-2,2.0833333333333332E-2]
["North3TPDO",0.51398601398601396,0.19580419580419581,0,1.7482517482517484E-2,1.048951048951049E-2,1.048951048951049E-2,6.6433566433566432E-2,0.12237762237762238,2.7972027972027972E-2,3.4965034965034968E-2,0,0,null,null,"North3TPDO",0.40287769784172661,2.0833333333333332E-2,6.25E-2,4.1666666666666664E-2,0.10416666666666667,0.16666666666666666,null,null,null,2.0833333333333332E-2,5.7553956834532377E-2,7.1942446043165464E-2]
["North4UFI",0.16438356164383561,0.34246575342465752,6.8493150684931503E-2,1.3698630136986301E-2,2.7397260273972601E-2,1.3698630136986301E-2,0.23287671232876711,4.1095890410958902E-2,2.7397260273972601E-2,1.3698630136986301E-2,1.3698630136986301E-2,4.1095890410958902E-2,null,null,"North4UFI",0.43859649122807015,0,3.5971223021582732E-2,2.1582733812949641E-2,2.1582733812949641E-2,0.1366906474820144,null,null,null,0.25179856115107913,3.5087719298245612E-2,1.7543859649122806E-2]
["North4UPDO",0.30789473684210528,0.23157894736842105,2.1052631578947368E-2,1.5789473684210527E-2,2.631578947368421E-3,1.3157894736842105E-2,0.16842105263157894,0.19210526315789472,1.0526315789473684E-2,3.1578947368421054E-2,0,5.263157894736842E-3,null,null,"North4UPDO",0.33716475095785442,8.771929824561403E-2,1.7543859649122806E-2,3.5087719298245612E-2,1.7543859649122806E-2,0.2982456140350877,null,null,null,5.2631578947368418E-2,1.532567049808429E-2,4.5977011494252873E-2]
["North5TFI",8.7452471482889732E-2,0.2509505703422053,3.8022813688212928E-3,7.6045627376425855E-3,5.3231939163498096E-2,9.125475285171103E-2,0.37262357414448671,4.1825095057034217E-2,2.6615969581749048E-2,1.9011406844106463E-2,3.4220532319391636E-2,1.1406844106463879E-2,null,null,"North5TFI",0.28947368421052633,3.0651340996168581E-2,2.2988505747126436E-2,3.8314176245210726E-3,1.9157088122605363E-2,0.24521072796934865,null,null,null,0.27969348659003829,3.0701754385964911E-2,2.1929824561403508E-2]
["North5TPDO",0.23395270270270271,0.19172297297297297,8.4459459459459464E-3,1.266891891891892E-2,5.0675675675675678E-3,3.0405405405405407E-2,0.23057432432432431,0.22719594594594594,2.7027027027027029E-2,2.9560810810810811E-2,1.6891891891891893E-3,1.6891891891891893E-3,null,null,"North5TPDO",0.25138427464008861,4.3859649122807015E-3,8.771929824561403E-3,6.1403508771929821E-2,0.10526315789473684,0.42982456140350878,null,null,null,4.8245614035087717E-2,3.5437430786267994E-2,3.875968992248062E-2]
["North4DFI",9.0909090909090912E-2,0.54545454545454541,9.0909090909090912E-2,0,9.0909090909090912E-2,0,0,0.18181818181818182,0,0,0,0,null,null,"North4DFI",0.6,1.1074197120708749E-2,1.6611295681063124E-2,6.6445182724252493E-3,3.9867109634551492E-2,0.30232558139534882,null,null,null,0.29789590254706533,0,0]
["North4DPDO",0.16279069767441862,0.48837209302325579,0,0,2.3255813953488372E-2,0,6.9767441860465115E-2,0.13953488372093023,6.9767441860465115E-2,2.3255813953488372E-2,2.3255813953488372E-2,0,null,null,"North4DPDO",0.6,0.1,0,0.1,0,0,null,null,null,0.2,8.5714285714285715E-2,2.8571428571428571E-2]
["North6DFI",0,0,0,0,0,0,0,0,0,0,0,0,null,null,"North6DFI",0,0,0,2.8571428571428571E-2,0,8.5714285714285715E-2,null,null,null,0.17142857142857143,0,0]
["North6DPDO",0,0,0,0,0,0,0,0,0,0,0,0,null,null,"North6DPDO",0,0,0,0,0,0,null,null,null,0,0,0]
["North8DFI",0,0,0,0,0,0,0,0,0,0,0,0,null,null,"North8DFI",0,0,0,0,0,0,null,null,null,0,0,0]
["North8DPDO",0,0,0,0,0,0,0,0,0,0,0,0,null,null,"North8DPDO",0,0,0,0,0,0,null,null,null,0,0,0]
["North2OFI",0,0,0,0,0,0,0,0,0,0,0,0,null,null,"North2OFI",0,0,0,0,0,0,null,null,null,0,0,0]
["North2OPDO",0,0,0,0,0,0,0,1,0,0,0,0,null,null,"North2OPDO",0,0,0,0,0,0,null,null,null,0,0,0]
["North3OFI",0,0,0,0,0,0,0,0,0,0,0,0,null,null,"North3OFI",0,0,0,0,0,0,null,null,null,1,0,0]
["North3OPDO",0,0,0,0,0,0,0,0,0,0,0,0,null,null,"North3OPDO",0,0,0,0,0,0,null,null,null,0,0,0]
["North4OFI",0,0,0,0,0,0,0,0,0,0,0,0,null,null,"North4OFI",0,0,0,0,0,0,null,null,null,0,0,0]
["North4OPDO",0,0,0,0,0,0,0,0,0,0,0,0,null,null,"North4OPDO",0,0,0,0,0,0,null,null,null,0,0,0]
["Grand2UFI",0.30973451327433627,0.28761061946902655,3.5398230088495575E-2,8.8495575221238937E-3,9.7345132743362831E-2,2.2123893805309734E-2,9.7345132743362831E-2,3.9823008849557522E-2,3.5398230088495575E-2,2.6548672566371681E-2,2.2123893805309734E-2,1.7699115044247787E-2,null,null,"Grand2UFI",0.44217687074829931,0,0,0,0,0,null,null,null,0,5.4421768707482991E-2,4.0816326530612242E-2]
["Grand2UPDO",0.65760869565217395,0.14221014492753623,1.5398550724637682E-2,3.6231884057971015E-3,3.6231884057971015E-3,9.9637681159420281E-3,4.3478260869565216E-2,6.3405797101449279E-2,1.6304347826086956E-2,4.3478260869565216E-2,9.0579710144927537E-4,0,null,null,"Grand2UPDO",0.41644562334217505,5.4421768707482991E-2,1.3605442176870748E-2,0.14965986394557823,3.4013605442176874E-2,0.14965986394557823,null,null,null,6.1224489795918366E-2,4.7745358090185673E-2,0.1273209549071618]
["Grand3TFI",7.8431372549019607E-2,0.52941176470588236,1.9607843137254902E-2,3.9215686274509803E-2,5.8823529411764705E-2,3.9215686274509803E-2,9.8039215686274508E-2,0,1.9607843137254902E-2,3.9215686274509803E-2,1.9607843137254902E-2,5.8823529411764705E-2,null,null,"Grand3TFI",0.62790697674418605,4.5092838196286469E-2,1.0610079575596816E-2,1.0610079575596816E-2,2.9177718832891247E-2,0.1273209549071618,null,null,null,0.1856763925729443,2.3255813953488372E-2,4.6511627906976744E-2]
["Grand3TPDO",0.33716475095785442,0.38697318007662834,3.8314176245210726E-3,7.6628352490421452E-3,7.6628352490421452E-3,4.2145593869731802E-2,0.10727969348659004,6.8965517241379309E-2,7.6628352490421452E-3,3.0651340996168581E-2,0,0,null,null,"Grand3TPDO",0.58381502890173409,2.3255813953488372E-2,4.6511627906976744E-2,6.9767441860465115E-2,4.6511627906976744E-2,0.11627906976744186,null,null,null,0,1.1560693641618497E-2,4.6242774566473986E-2]
["Grand4UFI",0.14166666666666666,0.31666666666666665,5.8333333333333334E-2,8.3333333333333332E-3,2.5000000000000001E-2,0.11666666666666667,0.16666666666666666,3.3333333333333333E-2,3.3333333333333333E-2,2.5000000000000001E-2,4.1666666666666664E-2,3.3333333333333333E-2,null,null,"Grand4UFI",0.40425531914893614,5.7803468208092483E-3,1.1560693641618497E-2,1.1560693641618497E-2,6.358381502890173E-2,0.16184971098265896,null,null,null,0.10404624277456648,4.2553191489361701E-2,3.1914893617021274E-2]
["Grand4UPDO",0.20300751879699247,0.26566416040100249,2.2556390977443608E-2,1.0025062656641603E-2,1.0025062656641603E-2,3.2581453634085211E-2,0.16290726817042606,0.21052631578947367,2.2556390977443608E-2,5.5137844611528819E-2,2.5062656641604009E-3,2.5062656641604009E-3,null,null,"Grand4UPDO",0.33544303797468356,7.4468085106382975E-2,1.0638297872340425E-2,3.1914893617021274E-2,0.14893617021276595,0.21276595744680851,null,null,null,4.2553191489361701E-2,2.8481012658227847E-2,6.9620253164556958E-2]
["Grand5TFI",8.2728592162554432E-2,0.41074020319303339,2.9027576197387518E-3,8.708272859216255E-3,4.0638606676342524E-2,7.2568940493468792E-2,0.23222060957910015,3.9187227866473148E-2,1.741654571843251E-2,3.6284470246734396E-2,4.3541364296081277E-2,1.3062409288824383E-2,null,null,"Grand5TFI",0.47723440134907252,2.8481012658227847E-2,1.2658227848101266E-2,1.2658227848101266E-2,4.1139240506329111E-2,0.20569620253164558,null,null,null,0.26582278481012656,2.0236087689713321E-2,4.2158516020236091E-2]
["Grand5TPDO",0.1584203359055833,0.33953699500680889,4.9931911030413074E-3,1.0894235133908307E-2,8.1706763504312309E-3,3.2682705401724924E-2,0.21016795279164777,0.16522923286427599,2.0880617339990921E-2,4.9024058102587378E-2,0,0,null,null,"Grand5TPDO",0.40345199568500539,3.3726812816188868E-3,1.0118043844856661E-2,4.7217537942664416E-2,8.4317032040472181E-2,0.26981450252951095,null,null,null,4.5531197301854974E-2,2.4811218985976269E-2,5.8252427184466021E-2]
["Grand4DFI",0.25215517241379309,0.5431034482758621,1.0775862068965518E-2,8.6206896551724137E-3,1.2931034482758621E-2,4.3103448275862068E-3,6.6810344827586202E-2,3.8793103448275863E-2,8.6206896551724137E-3,3.2327586206896554E-2,1.0775862068965518E-2,1.0775862068965518E-2,null,null,"Grand4DFI",0.74777448071216612,5.9331175836030208E-3,1.2944983818770227E-2,9.7087378640776691E-3,3.8834951456310676E-2,0.24973031283710895,null,null,null,0.19633225458468176,1.1869436201780416E-2,4.4510385756676561E-2]
["Grand4DPDO",0.39111870196413323,0.38684884713919726,1.1101622544833475E-2,4.696840307429547E-3,5.1238257899231428E-3,4.2698548249359521E-4,4.397950469684031E-2,0.12425277540563621,4.269854824935952E-3,2.7754056362083689E-2,0,4.2698548249359521E-4,null,null,"Grand4DPDO",0.63578947368421057,1.483679525222552E-2,1.1869436201780416E-2,1.7804154302670624E-2,5.9347181008902079E-3,9.1988130563798218E-2,null,null,null,5.3412462908011868E-2,7.0175438596491229E-3,4.5614035087719301E-2]
["Grand6DFI",0.16666666666666666,0.6333333333333333,0,0,0,0,6.6666666666666666E-2,6.6666666666666666E-2,0,6.6666666666666666E-2,0,0,null,null,"Grand6DFI",0.76,1.8245614035087718E-2,7.7192982456140355E-3,8.4210526315789472E-3,7.0175438596491223E-4,7.2280701754385959E-2,null,null,null,0.20421052631578948,0,0.08]
["Grand6DPDO",0.2446043165467626,0.48201438848920863,0,1.4388489208633094E-2,0,0,7.1942446043165471E-3,0.23021582733812951,0,2.1582733812949641E-2,0,0,null,null,"Grand6DPDO",0.63809523809523805,0,0,0,0,0.08,null,null,null,0.08,0,2.8571428571428571E-2]
["Grand8DFI",0,0,0,0,0,0,0,0,0,0,0,0,null,null,"Grand8DFI",0,0,1.9047619047619049E-2,0,0,9.5238095238095247E-3,null,null,null,0.30476190476190479,0,0]
["Grand8DPDO",0.375,0.25,0,0,0,0,0,0.375,0,0,0,0,null,null,"Grand8DPDO",0.4,0,0,0,0,0,null,null,null,0,0,0]
["Grand2OFI",0,0,0,0,0,0,0,0,0,0,0,0,null,null,"Grand2OFI",0,0,0,0,0,0,null,null,null,0.6,0,0]
["Grand2OPDO",0,0,0,0,0,0,0,0,0,0,0,0,null,null,"Grand2OPDO",0,0,0,0,0,0,null,null,null,0,0,0]
["Grand3OFI",0,0,0,0,0,0,0,0,0,0,0,0,null,null,"Grand3OFI",0,0,0,0,0,0,null,null,null,0,0,0]
["Grand3OPDO",0,0,0,0,0,0,0,0,0,0,0,0,null,null,"Grand3OPDO",0,0,0,0,0,0,null,null,null,0,0,0]
["Grand4OFI",0,0,0,0,0,0,0,0,0,0,0,0,null,null,"Grand4OFI",0,0,0,0,0,0,null,null,null,0,0,0]
["Grand4OPDO",0,0,0,0,0,0,0,0,0,0,0,0,null,null,"Grand4OPDO",0,0,0,0,0,0,null,null,null,0,0,0]
["Bay2UFI",0.25609756097560976,0.32926829268292684,4.065040650406504E-2,2.032520325203252E-2,6.5040650406504072E-2,3.2520325203252036E-2,0.10975609756097561,3.6585365853658534E-2,4.065040650406504E-2,3.2520325203252036E-2,2.8455284552845527E-2,8.130081300813009E-3,null,null,"Bay2UFI",0.46551724137931033,0,0,0,0,0,null,null,null,0,5.7471264367816091E-2,4.5977011494252873E-2]
["Bay2UPDO",0.66595970307529162,0.14740190880169671,8.483563096500531E-3,7.423117709437964E-3,6.3626723223753979E-3,8.483563096500531E-3,4.2417815482502653E-2,6.8928950159066804E-2,1.6967126193001062E-2,2.7571580063626724E-2,0,0,null,null,"Bay2UPDO",0.44126984126984126,5.7471264367816091E-2,2.8735632183908046E-2,9.1954022988505746E-2,4.5977011494252873E-2,0.15517241379310345,null,null,null,5.1724137931034482E-2,5.0793650793650794E-2,8.2539682539682538E-2]
["Bay3TFI",0.20338983050847459,0.3728813559322034,0,1.6949152542372881E-2,3.3898305084745763E-2,5.0847457627118647E-2,0.15254237288135594,3.3898305084745763E-2,1.6949152542372881E-2,0,5.0847457627118647E-2,6.7796610169491525E-2,null,null,"Bay3TFI",0.55000000000000004,2.5396825396825397E-2,2.2222222222222223E-2,1.9047619047619049E-2,2.5396825396825397E-2,0.12698412698412698,null,null,null,0.20634920634920634,2.5000000000000001E-2,0]
["Bay3TPDO",0.42481203007518797,0.27443609022556392,3.7593984962406013E-3,0,7.5187969924812026E-3,3.7593984962406013E-3,0.13157894736842105,7.1428571428571425E-2,7.5187969924812026E-3,7.1428571428571425E-2,0,3.7593984962406013E-3,null,null,"Bay3TPDO",0.48026315789473684,0,2.5000000000000001E-2,0.05,7.4999999999999997E-2,0.22500000000000001,null,null,null,0.05,1.3157894736842105E-2,0.125]
["Bay4UFI",0.16666666666666666,0.375,8.3333333333333329E-2,0,8.3333333333333329E-2,4.1666666666666664E-2,0.1388888888888889,3.4722222222222224E-2,6.9444444444444441E-3,2.7777777777777776E-2,2.0833333333333332E-2,2.0833333333333332E-2,null,null,"Bay4UFI",0.47368421052631576,6.5789473684210523E-3,0,1.3157894736842105E-2,6.5789473684210523E-3,0.23026315789473684,null,null,null,0.125,8.771929824561403E-3,3.5087719298245612E-2]
["Bay4UPDO",0.47035573122529645,0.18774703557312253,2.766798418972332E-2,1.5810276679841896E-2,3.952569169960474E-3,1.9762845849802372E-2,0.12055335968379446,8.6956521739130432E-2,2.5691699604743084E-2,3.7549407114624504E-2,3.952569169960474E-3,0,null,null,"Bay4UPDO",0.35714285714285715,0.10526315789473684,0,0.10526315789473684,5.2631578947368418E-2,0.17543859649122806,null,null,null,4.3859649122807015E-2,4.8872180451127817E-2,7.1428571428571425E-2]
["Bay5TFI",0.11306532663316583,0.34422110552763818,1.0050251256281407E-2,7.537688442211055E-3,3.5175879396984924E-2,6.5326633165829151E-2,0.31155778894472363,4.0201005025125629E-2,7.537688442211055E-3,3.015075376884422E-2,1.0050251256281407E-2,2.5125628140703519E-2,null,null,"Bay5TFI",0.40412979351032446,5.2631578947368418E-2,3.007518796992481E-2,7.5187969924812026E-3,3.7593984962406013E-2,0.22932330827067668,null,null,null,0.16541353383458646,8.8495575221238937E-3,3.5398230088495575E-2]
["Bay5TPDO",0.27443837279902855,0.27504553734061932,5.4644808743169399E-3,1.0321797207043109E-2,1.0321797207043109E-2,2.7322404371584699E-2,0.2040072859744991,0.1408621736490589,1.5179113539769277E-2,3.6429872495446269E-2,6.0716454159077113E-4,0,null,null,"Bay5TPDO",0.37939698492462309,1.1799410029498525E-2,8.8495575221238937E-3,4.1297935103244837E-2,7.6696165191740412E-2,0.36578171091445427,null,null,null,4.71976401179941E-2,2.0938023450586266E-2,5.0251256281407038E-2]
["Bay4DFI",0.41463414634146339,0.29268292682926828,0,0,0,0,0.14634146341463414,7.3170731707317069E-2,2.4390243902439025E-2,2.4390243902439025E-2,2.4390243902439025E-2,0,null,null,"Bay4DFI",0.52173913043478259,7.537688442211055E-3,1.423785594639866E-2,1.423785594639866E-2,3.7688442211055273E-2,0.28140703517587939,null,null,null,0.19430485762144054,4.3478260869565216E-2,4.3478260869565216E-2]
["Bay4DPDO",0.62702702702702706,0.16216216216216217,1.6216216216216217E-2,0,0,0,4.3243243243243246E-2,0.10810810810810811,1.6216216216216217E-2,2.7027027027027029E-2,0,0,null,null,"Bay4DPDO",0.43478260869565216,0,0,0,0,0.2608695652173913,null,null,null,0.13043478260869565,4.3478260869565216E-2,7.2463768115942032E-2]
["Bay6DFI",0,0,0,0,0,0,0,0,0,0,0,0,null,null,"Bay6DFI",0,4.3478260869565216E-2,0,0,0,0.11594202898550725,null,null,null,0.28985507246376813,0,0]
["Bay6DPDO",0.5,0,0.16666666666666666,0,0,0,0.16666666666666666,0.16666666666666666,0,0,0,0,null,null,"Bay6DPDO",0,0,0,0,0,0,null,null,null,0,0,0]
["Bay8DFI",0,0,0,0,0,0,0,0,0,0,0,0,null,null,"Bay8DFI",0,0.33333333333333331,0,0,0,0.33333333333333331,null,null,null,0.33333333333333331,0,0]
["Bay8DPDO",0,0,0,0,0,0,0,0,0,0,0,0,null,null,"Bay8DPDO",0,0,0,0,0,0,null,null,null,0,0,0]
["Bay2OFI",0,1,0,0,0,0,0,0,0,0,0,0,null,null,"Bay2OFI",1,0,0,0,0,0,null,null,null,0,0,0]
["Bay2OPDO",0.18181818181818182,0.31818181818181818,0,0,0,0,9.0909090909090912E-2,0.40909090909090912,0,0,0,0,null,null,"Bay2OPDO",0.3888888888888889,0,0,0,0,0,null,null,null,0,0,0]
["Bay3OFI",0.33333333333333331,0.33333333333333331,0,0,8.3333333333333329E-2,0,8.3333333333333329E-2,8.3333333333333329E-2,8.3333333333333329E-2,0,0,0,null,null,"Bay3OFI",0.5,0,0,0,0,0.1111111111111111,null,null,null,0.5,0.125,0]
["Bay3OPDO",0.34090909090909088,0.13636363636363635,0,0,0,0,0.10227272727272728,0.35227272727272729,1.1363636363636364E-2,5.6818181818181816E-2,0,0,null,null,"Bay3OPDO",0.20689655172413793,0,0,0.125,0,0.125,null,null,null,0.125,1.7241379310344827E-2,8.6206896551724144E-2]
["Bay4OFI",0,0,0,0,0,0,0.66666666666666663,0.33333333333333331,0,0,0,0,null,null,"Bay4OFI",0,0,0,0,0,0.15517241379310345,null,null,null,0.53448275862068961,0,0]
["Bay4OPDO",0.22222222222222221,5.5555555555555552E-2,0,0,0,0,0.27777777777777779,0.44444444444444442,0,0,0,0,null,null,"Bay4OPDO",7.1428571428571425E-2,0,0,0,0,0.66666666666666663,null,null,null,0.33333333333333331,0,0]
["Southwest2UFI",0.35238095238095241,0.18571428571428572,4.2857142857142858E-2,9.5238095238095247E-3,9.0476190476190474E-2,1.9047619047619049E-2,0.11904761904761904,5.7142857142857141E-2,4.2857142857142858E-2,5.7142857142857141E-2,1.9047619047619049E-2,4.7619047619047623E-3,null,null,"Southwest2UFI",0.29770992366412213,0,0,0,0,0.35714285714285715,null,null,null,0.5714285714285714,6.8702290076335881E-2,9.1603053435114504E-2]
["Southwest2UPDO",0.73601789709172261,0.1081282624906786,1.1185682326621925E-2,2.9828486204325128E-3,5.9656972408650257E-3,5.9656972408650257E-3,4.1014168530947054E-2,3.5048471290082026E-2,1.8642803877703208E-2,3.4302759134973902E-2,7.4571215510812821E-4,0,null,null,"Southwest2UPDO",0.41076487252124644,6.8702290076335881E-2,1.5267175572519083E-2,0.14503816793893129,3.0534351145038167E-2,0.19083969465648856,null,null,null,9.1603053435114504E-2,7.0821529745042494E-2,0.13031161473087818]
["Southwest3TFI",0.21875,0.3359375,3.125E-2,3.90625E-2,4.6875E-2,3.125E-2,0.171875,1.5625E-2,2.34375E-2,1.5625E-2,2.34375E-2,4.6875E-2,null,null,"Southwest3TFI",0.47252747252747251,4.2492917847025496E-2,1.1331444759206799E-2,2.2662889518413599E-2,2.2662889518413599E-2,0.15580736543909349,null,null,null,0.13314447592067988,3.2967032967032968E-2,2.197802197802198E-2]
["Southwest3TPDO",0.38715596330275232,0.28623853211009176,1.834862385321101E-3,1.834862385321101E-2,7.3394495412844041E-3,1.6513761467889909E-2,0.14495412844036698,6.0550458715596334E-2,1.4678899082568808E-2,5.8715596330275233E-2,0,3.669724770642202E-3,null,null,"Southwest3TPDO",0.46987951807228917,4.3956043956043959E-2,5.4945054945054944E-2,6.5934065934065936E-2,4.3956043956043959E-2,0.24175824175824176,null,null,null,2.197802197802198E-2,2.4096385542168676E-2,9.6385542168674704E-2]
["Southwest4UFI",0.25242718446601942,0.3300970873786408,3.8834951456310676E-2,1.9417475728155338E-2,4.8543689320388349E-2,1.9417475728155338E-2,0.1553398058252427,2.9126213592233011E-2,1.9417475728155338E-2,1.9417475728155338E-2,3.8834951456310676E-2,2.9126213592233011E-2,null,null,"Southwest4UFI",0.48571428571428571,3.0120481927710845E-3,3.0120481927710843E-2,1.2048192771084338E-2,2.710843373493976E-2,0.23795180722891565,null,null,null,9.9397590361445784E-2,2.8571428571428571E-2,2.8571428571428571E-2]
["Southwest4UPDO",0.28658536585365851,0.30081300813008133,2.6422764227642278E-2,1.2195121951219513E-2,8.130081300813009E-3,1.4227642276422764E-2,0.10772357723577236,0.14634146341463414,1.016260162601626E-2,7.926829268292683E-2,4.0650406504065045E-3,4.0650406504065045E-3,null,null,"Southwest4UPDO",0.4265129682997118,5.7142857142857141E-2,2.8571428571428571E-2,7.1428571428571425E-2,2.8571428571428571E-2,0.22857142857142856,null,null,null,4.2857142857142858E-2,1.4409221902017291E-2,0.11239193083573487]
["Southwest5TFI",0.1,0.27500000000000002,1.1111111111111112E-2,1.1111111111111112E-2,4.4444444444444446E-2,6.3888888888888884E-2,0.32222222222222224,3.6111111111111108E-2,8.3333333333333332E-3,3.888888888888889E-2,0.05,3.888888888888889E-2,null,null,"Southwest5TFI",0.33904109589041098,3.7463976945244955E-2,1.7291066282420751E-2,1.1527377521613832E-2,2.0172910662824207E-2,0.15273775216138327,null,null,null,0.207492795389049,1.0273972602739725E-2,4.7945205479452052E-2]
["Southwest5TPDO",0.16302952503209242,0.30937098844672656,7.7021822849807449E-3,1.4762516046213094E-2,9.6277278562259313E-3,3.5301668806161743E-2,0.20474967907573813,0.1668806161745828,2.1822849807445442E-2,6.4184852374839535E-2,1.2836970474967907E-3,1.2836970474967907E-3,null,null,"Southwest5TPDO",0.3707692307692308,1.3698630136986301E-2,1.3698630136986301E-2,5.4794520547945202E-2,7.8767123287671229E-2,0.39726027397260272,null,null,null,4.4520547945205477E-2,2.6153846153846153E-2,7.6923076923076927E-2]
["Southwest4DFI",0.4,0.22500000000000001,1.2500000000000001E-2,1.2500000000000001E-2,0.05,0,0.13750000000000001,3.7499999999999999E-2,2.5000000000000001E-2,0.05,3.7499999999999999E-2,1.2500000000000001E-2,null,null,"Southwest4DFI",0.40909090909090912,9.2307692307692316E-3,1.7692307692307691E-2,1.1538461538461539E-2,4.230769230769231E-2,0.2453846153846154,null,null,null,0.2,4.5454545454545456E-2,9.0909090909090912E-2]
["Southwest4DPDO",0.66014669926650371,0.12469437652811736,4.8899755501222494E-3,2.4449877750611247E-3,4.8899755501222494E-3,2.4449877750611247E-3,5.8679706601466992E-2,9.2909535452322736E-2,7.3349633251833741E-3,4.1564792176039117E-2,0,0,null,null,"Southwest4DPDO",0.36690647482014388,2.2727272727272728E-2,2.2727272727272728E-2,9.0909090909090912E-2,0,0.25,null,null,null,6.8181818181818177E-2,2.1582733812949641E-2,0.1223021582733813]
["Southwest6DFI",0,0.5,0,0,0,0,0,0,0,0,0.5,0,null,null,"Southwest6DFI",1,1.4388489208633094E-2,7.1942446043165471E-3,1.4388489208633094E-2,7.1942446043165471E-3,0.17266187050359713,null,null,null,0.2733812949640288,0,0]
["Southwest6DPDO",0.2857142857142857,0.2857142857142857,0,0,0,0,0,0.2857142857142857,0,0.14285714285714285,0,0,null,null,"Southwest6DPDO",0.4,0,0,0,0,0,null,null,null,0,0,0.2]
["Southwest8DFI",0,0,0,0,0,0,0,0,0,0,0,0,null,null,"Southwest8DFI",0,0,0,0,0,0,null,null,null,0.4,0,0]
["Southwest8DPDO",0,0,0,0,0,0,0,0,0,0,0,0,null,null,"Southwest8DPDO",0,0,0,0,0,0,null,null,null,0,0,0]
["Southwest2OFI",0.2,0.2,0,0,0,0,0.2,0,0,0,0,0.4,null,null,"Southwest2OFI",0.5,0,0,0,0,0,null,null,null,0,0,0]
["Southwest2OPDO",0.17857142857142858,0.2857142857142857,0,0,0,0,0,0.4642857142857143,0,7.1428571428571425E-2,0,0,null,null,"Southwest2OPDO",0.34782608695652173,0,0,0,0,0.5,null,null,null,0,0,8.6956521739130432E-2]
["Southwest3OFI",0.16666666666666666,0.33333333333333331,0,0,0,0,0.16666666666666666,0.16666666666666666,0,8.3333333333333329E-2,8.3333333333333329E-2,0,null,null,"Southwest3OFI",0.44444444444444442,0,0,0,0,0,null,null,null,0.56521739130434778,0,0.1111111111111111]
["Southwest3OPDO",0.2318840579710145,0.2608695652173913,7.246376811594203E-3,7.246376811594203E-3,0,7.246376811594203E-3,4.3478260869565216E-2,0.33333333333333331,7.246376811594203E-3,9.420289855072464E-2,7.246376811594203E-3,0,null,null,"Southwest3OPDO",0.34285714285714286,0,0,0,0,0.22222222222222221,null,null,null,0.22222222222222221,9.5238095238095247E-3,0.12380952380952381]
["Southwest4OFI",0,0.5,0,0,0,0,0,0.5,0,0,0,0,null,null,"Southwest4OFI",0.5,9.5238095238095247E-3,9.5238095238095247E-3,0,9.5238095238095247E-3,5.7142857142857141E-2,null,null,null,0.43809523809523809,0,0]
["Southwest4OPDO",6.6666666666666666E-2,0.3,0,3.3333333333333333E-2,0,0,6.6666666666666666E-2,0.33333333333333331,3.3333333333333333E-2,0.16666666666666666,0,0,null,null,"Southwest4OPDO",0.32142857142857145,0,0,0,0,0,null,null,null,0.5,3.5714285714285712E-2,0.17857142857142858]
["University2UFI",0.32620320855614976,0.31818181818181818,2.6737967914438502E-2,2.6737967914438501E-3,8.8235294117647065E-2,1.6042780748663103E-2,0.10695187165775401,1.6042780748663103E-2,4.8128342245989303E-2,2.6737967914438502E-2,8.0213903743315516E-3,1.6042780748663103E-2,null,null,"University2UFI",0.48971193415637859,0,3.5714285714285712E-2,0,0,7.1428571428571425E-2,null,null,null,0.35714285714285715,7.407407407407407E-2,4.1152263374485597E-2]
["University2UPDO",0.64348785871964675,0.18874172185430463,5.5187637969094927E-3,2.7593818984547464E-3,7.1743929359823402E-3,4.4150110375275938E-3,5.518763796909492E-2,3.8079470198675497E-2,2.2626931567328919E-2,3.0905077262693158E-2,5.5187637969094923E-4,5.5187637969094923E-4,null,null,"University2UPDO",0.53105590062111796,4.1152263374485597E-2,4.11522633744856E-3,0.13580246913580246,2.4691358024691357E-2,0.16460905349794239,null,null,null,2.4691358024691357E-2,6.3664596273291921E-2,8.6956521739130432E-2]
["University3TFI",0.18279569892473119,0.39784946236559138,5.3763440860215058E-3,1.6129032258064516E-2,2.1505376344086023E-2,5.9139784946236562E-2,0.17741935483870969,2.6881720430107527E-2,2.1505376344086023E-2,1.6129032258064516E-2,3.7634408602150539E-2,3.7634408602150539E-2,null,null,"University3TFI",0.53623188405797106,1.5527950310559006E-2,7.763975155279503E-3,2.0186335403726708E-2,1.2422360248447204E-2,0.15527950310559005,null,null,null,0.10714285714285714,2.8985507246376812E-2,2.1739130434782608E-2]
["University3TPDO",0.35067873303167418,0.35407239819004527,5.6561085972850677E-3,1.2443438914027148E-2,7.9185520361990946E-3,1.2443438914027148E-2,0.12782805429864252,8.4841628959276022E-2,2.1493212669683258E-2,2.1493212669683258E-2,0,1.1312217194570137E-3,null,null,"University3TPDO",0.5462478184991274,7.246376811594203E-3,2.1739130434782608E-2,2.8985507246376812E-2,7.9710144927536225E-2,0.2391304347826087,null,null,null,3.6231884057971016E-2,3.3158813263525308E-2,3.3158813263525308E-2]
["University4UFI",0.1625615763546798,0.30049261083743845,3.9408866995073892E-2,4.9261083743842365E-3,4.9261083743842367E-2,4.9261083743842367E-2,0.19211822660098521,3.9408866995073892E-2,1.9704433497536946E-2,3.4482758620689655E-2,6.4039408866995079E-2,4.4334975369458129E-2,null,null,"University4UFI",0.41216216216216217,8.7260034904013961E-3,1.9197207678883072E-2,1.2216404886561954E-2,1.9197207678883072E-2,0.19720767888307156,null,null,null,0.13089005235602094,2.7027027027027029E-2,4.72972972972973E-2]
["University4UPDO",0.23076923076923078,0.30316742081447962,1.9230769230769232E-2,1.2443438914027148E-2,4.5248868778280547E-3,1.3574660633484163E-2,0.14140271493212669,0.20361990950226244,2.3755656108597284E-2,4.4117647058823532E-2,0,3.3936651583710408E-3,null,null,"University4UPDO",0.39586410635155095,5.4054054054054057E-2,6.7567567567567571E-3,6.7567567567567571E-2,6.7567567567567571E-2,0.26351351351351349,null,null,null,5.4054054054054057E-2,3.10192023633678E-2,5.7607090103397339E-2]
["University5TFI",9.93485342019544E-2,0.33224755700325731,6.5146579804560263E-3,1.1400651465798045E-2,2.4429967426710098E-2,7.1661237785016291E-2,0.27687296416938112,4.071661237785016E-2,2.1172638436482084E-2,2.6058631921824105E-2,4.7231270358306189E-2,4.2345276872964167E-2,null,null,"University5TFI",0.40963855421686746,2.5110782865583457E-2,1.6248153618906941E-2,5.9084194977843431E-3,1.7725258493353029E-2,0.18463810930576072,null,null,null,0.26587887740029542,2.6104417670682729E-2,3.2128514056224897E-2]
["University5TPDO",0.18696397941680962,0.29716981132075471,6.0034305317324182E-3,1.072041166380789E-2,9.433962264150943E-3,2.358490566037736E-2,0.21998284734133791,0.17838765008576329,2.4013722126929673E-2,3.9451114922813037E-2,1.2864493996569469E-3,3.0017152658662091E-3,null,null,"University5TPDO",0.36744432661717924,8.0321285140562242E-3,1.4056224899598393E-2,3.0120481927710843E-2,8.8353413654618476E-2,0.34136546184738958,null,null,null,5.0200803212851405E-2,2.9692470837751856E-2,4.878048780487805E-2]
["University4DFI",0.41772151898734178,0.22784810126582278,0,0,2.5316455696202531E-2,0,0.16455696202531644,7.5949367088607597E-2,0,3.7974683544303799E-2,2.5316455696202531E-2,2.5316455696202531E-2,null,null,"University4DFI",0.42857142857142855,7.423117709437964E-3,1.3255567338282079E-2,1.166489925768823E-2,2.9162248144220571E-2,0.27200424178154825,null,null,null,0.22057264050901379,0,7.1428571428571425E-2]
["University4DPDO",0.60822898032200357,0.17710196779964221,8.9445438282647581E-3,1.7889087656529517E-3,3.5778175313059034E-3,3.5778175313059034E-3,3.7567084078711989E-2,0.13059033989266547,5.3667262969588547E-3,2.3255813953488372E-2,0,0,null,null,"University4DPDO",0.45205479452054792,0,0,4.7619047619047616E-2,0,0.30952380952380953,null,null,null,0.14285714285714285,1.3698630136986301E-2,5.9360730593607303E-2]
["University6DFI",0.16666666666666666,0.3888888888888889,0,0,0,0,0.16666666666666666,5.5555555555555552E-2,0,0,0.16666666666666666,5.5555555555555552E-2,null,null,"University6DFI",0.63636363636363635,2.2831050228310501E-2,4.5662100456621002E-3,9.1324200913242004E-3,9.1324200913242004E-3,9.5890410958904104E-2,null,null,null,0.33333333333333331,0,0]
["University6DPDO",0.21686746987951808,0.28915662650602408,0,0,1.2048192771084338E-2,0,0.15662650602409639,0.30120481927710846,0,2.4096385542168676E-2,0,0,null,null,"University6DPDO",0.36923076923076925,0,0,0,0,0.27272727272727271,null,null,null,9.0909090909090912E-2,0,3.0769230769230771E-2]
["University8DFI",0,0,0,0,0,0,0,0,0,0,0,0,null,null,"University8DFI",0,0,0,1.5384615384615385E-2,0,0.2,null,null,null,0.38461538461538464,0,0]
["University8DPDO",0.75,0,0,0,0,0,0,0.25,0,0,0,0,null,null,"University8DPDO",0,0,0,0,0,0,null,null,null,0,0,0]
["University2OFI",0,0,0,0,0,0,0,0,0,0,0,0,null,null,"University2OFI",0,0,0,0,0,0,null,null,null,1,0,0]
["University2OPDO",8.3333333333333329E-2,0.16666666666666666,0,0,0,0,0.33333333333333331,0.33333333333333331,0,8.3333333333333329E-2,0,0,null,null,"University2OPDO",0.18181818181818182,0,0,0,0,0,null,null,null,0,0,9.0909090909090912E-2]
["University3OFI",0.21818181818181817,0.41818181818181815,0,0,0,0,0.12727272727272726,0.12727272727272726,0,0,1.8181818181818181E-2,9.0909090909090912E-2,null,null,"University3OFI",0.6216216216216216,0,0,0,0,0.36363636363636365,null,null,null,0.36363636363636365,0,0]
["University3OPDO",0.10416666666666667,0.28749999999999998,2.5000000000000001E-2,1.6666666666666666E-2,8.3333333333333332E-3,4.1666666666666666E-3,0.10833333333333334,0.36666666666666664,8.3333333333333332E-3,6.6666666666666666E-2,0,4.1666666666666666E-3,null,null,"University3OPDO",0.32242990654205606,0,0,0,0,0.1891891891891892,null,null,null,0.1891891891891892,9.3457943925233638E-3,7.476635514018691E-2]
["University4OFI",4.5454545454545456E-2,0.18181818181818182,0,0,0,0,9.0909090909090912E-2,0.5,0,9.0909090909090912E-2,4.5454545454545456E-2,4.5454545454545456E-2,null,null,"University4OFI",0.21052631578947367,2.8037383177570093E-2,1.8691588785046728E-2,9.3457943925233638E-3,4.6728971962616819E-3,0.12149532710280374,null,null,null,0.41121495327102803,0,0.10526315789473684]
["University4OPDO",1.7045454545454544E-2,0.13068181818181818,2.2727272727272728E-2,0,5.681818181818182E-3,5.681818181818182E-3,0.18181818181818182,0.59659090909090906,5.681818181818182E-3,3.4090909090909088E-2,0,0,null,null,"University4OPDO",0.13294797687861271,0,0,0,0,0.10526315789473684,null,null,null,0.57894736842105265,5.7803468208092483E-3,3.4682080924855488E-2]
["Metro2UFI",0.2533783783783784,0.29729729729729731,2.364864864864865E-2,6.7567567567567571E-3,9.7972972972972971E-2,2.364864864864865E-2,0.14864864864864866,4.3918918918918921E-2,4.0540540540540543E-2,3.7162162162162164E-2,1.6891891891891893E-2,1.0135135135135136E-2,null,null,"Metro2UFI",0.41314553990610331,2.3121387283236993E-2,0,5.7803468208092483E-3,5.7803468208092483E-3,0.18497109826589594,null,null,null,0.60693641618497107,5.6338028169014086E-2,5.1643192488262914E-2]
["Metro2UPDO",0.43410852713178294,0.29629629629629628,7.7519379844961239E-3,5.1679586563307496E-3,6.8906115417743325E-3,1.5503875968992248E-2,7.8380706287683038E-2,7.5796726959517655E-2,2.4117140396210164E-2,5.512489233419466E-2,0,8.6132644272179156E-4,null,null,"Metro2UPDO",0.52439024390243905,3.2863849765258218E-2,9.3896713615023476E-3,0.13615023474178403,3.2863849765258218E-2,0.20657276995305165,null,null,null,6.1032863849765258E-2,4.2682926829268296E-2,9.7560975609756101E-2]
["Metro3TFI",0,0.4,0,0,0.15,0,0.3,0.05,0.05,0,0,0.05,null,null,"Metro3TFI",0.42105263157894735,1.3719512195121951E-2,9.1463414634146336E-3,1.2195121951219513E-2,2.7439024390243903E-2,0.13871951219512196,null,null,null,0.13414634146341464,5.2631578947368418E-2,0]
["Metro3TPDO",0.34666666666666668,0.33333333333333331,1.3333333333333334E-2,0.04,1.3333333333333334E-2,0,0.16,6.6666666666666666E-2,1.3333333333333334E-2,1.3333333333333334E-2,0,0,null,null,"Metro3TPDO",0.51020408163265307,0,0,0.15789473684210525,0,0.31578947368421051,null,null,null,5.2631578947368418E-2,2.0408163265306121E-2,2.0408163265306121E-2]
["Metro4UFI",0.14393939393939395,0.31060606060606061,6.8181818181818177E-2,0,7.575757575757576E-2,7.575757575757576E-2,0.11363636363636363,5.3030303030303032E-2,3.787878787878788E-2,2.2727272727272728E-2,5.3030303030303032E-2,4.5454545454545456E-2,null,null,"Metro4UFI",0.41,2.0408163265306121E-2,6.1224489795918366E-2,2.0408163265306121E-2,0,0.24489795918367346,null,null,null,0.10204081632653061,0.05,0.03]
["Metro4UPDO",0.18461538461538463,0.29890109890109889,2.197802197802198E-2,1.098901098901099E-2,6.5934065934065934E-3,3.9560439560439559E-2,0.12307692307692308,0.23076923076923078,2.6373626373626374E-2,5.2747252747252747E-2,0,4.3956043956043956E-3,null,null,"Metro4UPDO",0.36856368563685638,0.09,0,0.1,0.1,0.15,null,null,null,7.0000000000000007E-2,3.2520325203252036E-2,6.5040650406504072E-2]
["Metro5TFI",8.0610021786492375E-2,0.40232389251997097,6.5359477124183009E-3,7.988380537400145E-3,3.9941902687000728E-2,7.1895424836601302E-2,0.24691358024691357,4.5025417574437183E-2,1.3798111837327523E-2,3.4132171387073348E-2,3.195352214960058E-2,1.888162672476398E-2,null,null,"Metro5TFI",0.46321070234113715,2.7100271002710029E-2,1.3550135501355014E-2,8.130081300813009E-3,4.878048780487805E-2,0.15176151761517614,null,null,null,0.28455284552845528,1.588628762541806E-2,3.9297658862876256E-2]
["Metro5TPDO",7.7570921985815597E-2,0.41267730496453903,5.5407801418439718E-3,1.1746453900709219E-2,9.7517730496453903E-3,3.6125886524822695E-2,0.21719858156028368,0.15868794326241134,2.3049645390070921E-2,4.565602836879433E-2,1.3297872340425532E-3,6.6489361702127658E-4,null,null,"Metro5TPDO",0.44835058993498678,7.525083612040134E-3,9.1973244147157199E-3,4.5986622073578592E-2,8.2775919732441472E-2,0.28428093645484948,null,null,null,5.1839464882943144E-2,2.5042138213339754E-2,4.9602696845653743E-2]
["Metro4DFI",0.25141242937853109,0.4943502824858757,1.1299435028248588E-2,5.6497175141242938E-3,1.1299435028248588E-2,5.6497175141242938E-3,8.1920903954802254E-2,7.3446327683615822E-2,2.8248587570621469E-3,3.954802259887006E-2,8.4745762711864406E-3,1.4124293785310734E-2,null,null,"Metro4DFI",0.68093385214007784,6.019744762822056E-3,1.276185889718276E-2,1.0594750782566819E-2,3.9248735853599809E-2,0.23597399470262462,null,null,null,0.17240549000722369,3.8910505836575876E-3,5.4474708171206226E-2]
["Metro4DPDO",0.29309407286568789,0.40293637846655789,7.6128330614464385E-3,2.1750951604132679E-3,3.2626427406199023E-3,4.3501903208265358E-3,5.6008700380641652E-2,0.17183251767264818,6.5252854812398045E-3,5.1658510059815116E-2,0,5.4377379010331697E-4,null,null,"Metro4DPDO",0.57043879907621242,1.556420233463035E-2,7.7821011673151752E-3,1.556420233463035E-2,7.7821011673151752E-3,0.11284046692607004,null,null,null,0.10116731517509728,9.2378752886836026E-3,7.3133179368745194E-2]
["Metro6DFI",0.10285714285714286,0.56285714285714283,7.1428571428571426E-3,0.01,5.7142857142857143E-3,0,0.12857142857142856,7.571428571428572E-2,4.2857142857142859E-3,3.8571428571428569E-2,3.2857142857142856E-2,3.1428571428571431E-2,null,null,"Metro6DFI",0.67581475128644941,1.0777521170130869E-2,3.0792917628945341E-3,4.6189376443418013E-3,6.1585835257890681E-3,7.9291762894534254E-2,null,null,null,0.24326404926866821,5.1457975986277877E-3,4.6312178387650088E-2]
["Metro6DPDO",0.10003473428273706,0.4956582146578673,1.9103855505383814E-2,9.7255991663772138E-3,2.4313997915943034E-3,6.9468565474122956E-4,7.8152136158388327E-2,0.24036123654046543,5.2101424105592221E-3,4.7238624522403613E-2,6.9468565474122956E-4,6.9468565474122956E-4,null,null,"Metro6DPDO",0.55160417471975265,8.5763293310463125E-3,1.2006861063464836E-2,6.8610634648370496E-3,0,0.15437392795883362,null,null,null,9.0909090909090912E-2,5.798221878623889E-3,5.2570545032856589E-2]
["Metro8DFI",9.4393186657203684E-2,0.52590489709013488,9.9361249112845992E-3,1.4194464158977998E-2,9.2264017033356991E-3,1.4194464158977999E-3,0.14549325762952448,9.5102909865152588E-2,4.2583392476933995E-3,3.5486160397444996E-2,4.4712562100780694E-2,1.9872249822569198E-2,null,null,"Metro8DFI",0.62531645569620253,2.1260146888287593E-2,1.0823347506764593E-2,2.7058368766911482E-3,7.7309625048318511E-4,8.6973328179358336E-2,null,null,null,0.26749130266718207,5.0632911392405064E-3,4.2194092827004218E-2]
["Metro8DPDO",8.8785912882298423E-2,0.4582020389249305,1.0936051899907321E-2,9.6385542168674707E-3,3.3364226135310471E-3,1.8535681186283596E-4,0.10936051899907322,0.25171455050973124,8.7117701575532905E-3,5.7275254865616312E-2,1.2974976830398518E-3,5.5607043558850784E-4,null,null,"Metro8DPDO",0.50387280880554419,1.1814345991561181E-2,1.6877637130801686E-2,1.0970464135021098E-2,1.6877637130801688E-3,0.1729957805907173,null,null,null,0.11308016877637131,9.5801059926620465E-3,6.2984101100693024E-2]
["Metro2OFI",0,0.375,0,0,0,0,0.25,0.25,0,0,0,0.125,null,null,"Metro2OFI",0.42857142857142855,1.2026090501426825E-2,1.059926620464737E-2,3.6689767631471666E-3,2.0383204239706482E-4,0.12026090501426824,null,null,null,0.276803913575214,0,0]
["Metro2OPDO",0.21951219512195122,9.7560975609756101E-2,7.3170731707317069E-2,2.4390243902439025E-2,0,0,0.12195121951219512,0.3902439024390244,0,7.3170731707317069E-2,0,0,null,null,"Metro2OPDO",0.125,0,0,0,0,0.2857142857142857,null,null,null,0.2857142857142857,0,9.375E-2]
["Metro3OFI",0.25925925925925924,0.22222222222222221,3.7037037037037035E-2,3.7037037037037035E-2,0,0,0.14814814814814814,0.1111111111111111,0,0.1111111111111111,3.7037037037037035E-2,3.7037037037037035E-2,null,null,"Metro3OFI",0.33333333333333331,9.375E-2,3.125E-2,0,0,0.15625,null,null,null,0.5,0,0.16666666666666666]
["Metro3OPDO",0.1391304347826087,0.15652173913043479,1.7391304347826087E-2,8.6956521739130436E-3,0,0,0.16521739130434782,0.43478260869565216,0,7.8260869565217397E-2,0,0,null,null,"Metro3OPDO",0.18181818181818182,5.5555555555555552E-2,5.5555555555555552E-2,0,0,0.22222222222222221,null,null,null,0.16666666666666666,0,9.0909090909090912E-2]
["Metro4OFI",0.16666666666666666,0.2,0,0,6.6666666666666666E-2,0,0.13333333333333333,0.23333333333333334,0,0.1,3.3333333333333333E-2,6.6666666666666666E-2,null,null,"Metro4OFI",0.27272727272727271,2.0202020202020204E-2,1.0101010101010102E-2,0,0,0.19191919191919191,null,null,null,0.50505050505050508,0,0.13636363636363635]
["Metro4OPDO",0.20560747663551401,0.19626168224299065,0,1.8691588785046728E-2,0,9.3457943925233638E-3,0.16822429906542055,0.34579439252336447,1.8691588785046728E-2,3.7383177570093455E-2,0,0,null,null,"Metro4OPDO",0.24705882352941178,0,0,9.0909090909090912E-2,0,0.18181818181818182,null,null,null,0.31818181818181818,2.3529411764705882E-2,4.7058823529411764E-2]
[null,null,null,null,null,null,null,null,null,null,null,null,null,null,null,null,null,0,2.3529411764705882E-2,0,1.1764705882352941E-2,0.21176470588235294,null,null,null,0.43529411764705883]
[]
[]
[]
[]
["Segment Type","Ped Adjustment Factor","Bike Adjustment Factor","Bike FI Percent",null,null,"Table 12-19: Values of fpk Used in Determing the CMF for On-Street Parking"]
["2U55E",1.4E-3,1.6000000000000001E-3,1]
["2U55L",6.7999999999999996E-3,3.8E-3,0.86,null,null,"Road Type","Type of Parking and Land Use"]
["3T",5.7000000000000002E-3,9.1999999999999998E-3,0.85,null,null,null,"Parallel Parking",null,"Angle Parking"]
["4U",9.4999999999999998E-3,9.4999999999999998E-3,0.74,null,null,null,"Residential/  Other","Commercial or Industrial/ Institutional","Residential/  Other","Commercial or Industrial/ Institutional"]
["4D",2.5000000000000001E-3,2.2000000000000001E-3,0.87]
["5T",8.5000000000000006E-3,5.7999999999999996E-3,0.86]
["6D",7.6E-3,6.6E-3,0.92,null,null,"2U55E",1.4650000000000001,2.0739999999999998,3.4279999999999999,4.8529999999999998]
["8D",1.04E-2,4.5999999999999999E-3,0.9,null,null,"2U55L",1.4650000000000001,2.0739999999999998,3.4279999999999999,4.8529999999999998]
["2O",0,2.4500000000000001E-2,0.8,null,null,"3T",1.4650000000000001,2.0739999999999998,3.4279999999999999,4.8529999999999998]
["3O",6.0000000000000001E-3,1.04E-2,0.88,null,null,"4U",1.1000000000000001,1.7090000000000001,2.5739999999999998,3.9990000000000001]
["4O",5.0000000000000001E-4,8.2000000000000007E-3,1,null,null,"4D",1.1000000000000001,1.7090000000000001,2.5739999999999998,3.9990000000000001]
[null,null,null,null,null,null,"5T",1.1000000000000001,1.7090000000000001,2.5739999999999998,3.9990000000000001]
[null,null,null,null,null,null,"6D",1,1,1,1]
[null,null,null,null,null,null,"8D",1,1,1,1]
[null,null,null,null,null,null,"2O",1,1,1,1]
[null,null,null,null,null,null,"3O",1,1,1,1]
[null,null,null,null,null,null,"4O",1,1,1,1]

{"sheet":"RankingExcess","index":20,"n_rows":400,"n_cols":11,"rows_kept":400,"cut":false,"hidden":true,"merged":[]}
[{"$f":"MATCH(LARGE(INDIRECT(\"'Rural 2-Lane Segments (MI)'!$AR$5:$AR$1005\"),ROW()),INDIRECT(\"'Rural 2-Lane Segments (MI)'!$AR$5:$AR$1005\"),0)+4","v":{"$error":"#NUM!"}},{"$f":"\"(SEG) \"&INDIRECT(ADDRESS($A1,2,,,\"Rural 2-Lane Segments (MI)\"))&\", \"&INDIRECT(ADDRESS($A1,3,,,\"Rural 2-Lane Segments (MI)\"))","v":{"$error":"#NUM!"}},{"$f":"INDIRECT(ADDRESS($A1,4,,,\"Rural 2-Lane Segments (MI)\"))","v":{"$error":"#NUM!"}},{"$f":"\"Length = \"&INDIRECT(ADDRESS($A1,7,,,\"Rural 2-Lane Segments (MI)\"))&\" mi\"","v":{"$error":"#NUM!"}},{"$f":"\"AADT: \"&TEXT(INDIRECT(ADDRESS($A1,8,,,\"Rural 2-Lane Segments (MI)\")),\"#,##0\")","v":{"$error":"#NUM!"}},{"$f":"IF(ISERROR(A1),\"\",INDIRECT(ADDRESS($A1,44,,,\"Rural 2-Lane Segments (MI)\")))","v":""},null,null,null,{"$f":"LARGE($F$1:$F$400,ROW())","v":{"$error":"#NUM!"}},{"$f":"MATCH(LARGE($F$1:$F$400,ROW()),$F$1:$F$400,0)","v":{"$error":"#NUM!"}}]
[{"$f":"IF(LARGE(INDIRECT(\"'Rural 2-Lane Segments (MI)'!$AR$5:$AR$1005\"),ROW())=F1,MATCH(F1,INDIRECT(\"'Rural 2-Lane Segments (MI)'!$AR$\"&A1+1&\":$AR1005\"),0)+A1,MATCH(LARGE(INDIRECT(\"'Rural 2-Lane Segments (MI)'!$AR$5:$AR$1005\"),ROW()),INDIRECT(\"'Rural 2-Lane Segments (MI)'!$AR$5:$AR$1005\"),0)+4)","v":{"$error":"#NUM!"}},{"$error":"#NUM!"},{"$error":"#NUM!"},{"$error":"#NUM!"},{"$error":"#NUM!"},"",null,null,null,{"$error":"#NUM!"},{"$error":"#NUM!"}]
[{"$error":"#NUM!"},{"$error":"#NUM!"},{"$error":"#NUM!"},{"$error":"#NUM!"},{"$error":"#NUM!"},"",null,null,null,{"$error":"#NUM!"},{"$error":"#NUM!"}]
[{"$error":"#NUM!"},{"$error":"#NUM!"},{"$error":"#NUM!"},{"$error":"#NUM!"},{"$error":"#NUM!"},"",null,null,null,{"$error":"#NUM!"},{"$error":"#NUM!"}]
[{"$error":"#NUM!"},{"$error":"#NUM!"},{"$error":"#NUM!"},{"$error":"#NUM!"},{"$error":"#NUM!"},"",null,null,null,{"$error":"#NUM!"},{"$error":"#NUM!"}]
[{"$error":"#NUM!"},{"$error":"#NUM!"},{"$error":"#NUM!"},{"$error":"#NUM!"},{"$error":"#NUM!"},"",null,null,null,{"$error":"#NUM!"},{"$error":"#NUM!"}]
[{"$error":"#NUM!"},{"$error":"#NUM!"},{"$error":"#NUM!"},{"$error":"#NUM!"},{"$error":"#NUM!"},"",null,null,null,{"$error":"#NUM!"},{"$error":"#NUM!"}]
[{"$error":"#NUM!"},{"$error":"#NUM!"},{"$error":"#NUM!"},{"$error":"#NUM!"},{"$error":"#NUM!"},"",null,null,null,{"$error":"#NUM!"},{"$error":"#NUM!"}]
[{"$error":"#NUM!"},{"$error":"#NUM!"},{"$error":"#NUM!"},{"$error":"#NUM!"},{"$error":"#NUM!"},"",null,null,null,{"$error":"#NUM!"},{"$error":"#NUM!"}]
[{"$error":"#NUM!"},{"$error":"#NUM!"},{"$error":"#NUM!"},{"$error":"#NUM!"},{"$error":"#NUM!"},"",null,null,null,{"$error":"#NUM!"},{"$error":"#NUM!"}]
[{"$error":"#NUM!"},{"$error":"#NUM!"},{"$error":"#NUM!"},{"$error":"#NUM!"},{"$error":"#NUM!"},"",null,null,null,{"$error":"#NUM!"},{"$error":"#NUM!"}]
[{"$error":"#NUM!"},{"$error":"#NUM!"},{"$error":"#NUM!"},{"$error":"#NUM!"},{"$error":"#NUM!"},"",null,null,null,{"$error":"#NUM!"},{"$error":"#NUM!"}]
[{"$error":"#NUM!"},{"$error":"#NUM!"},{"$error":"#NUM!"},{"$error":"#NUM!"},{"$error":"#NUM!"},"",null,null,null,{"$error":"#NUM!"},{"$error":"#NUM!"}]
[{"$error":"#NUM!"},{"$error":"#NUM!"},{"$error":"#NUM!"},{"$error":"#NUM!"},{"$error":"#NUM!"},"",null,null,null,{"$error":"#NUM!"},{"$error":"#NUM!"}]
[{"$error":"#NUM!"},{"$error":"#NUM!"},{"$error":"#NUM!"},{"$error":"#NUM!"},{"$error":"#NUM!"},"",null,null,null,{"$error":"#NUM!"},{"$error":"#NUM!"}]
[{"$error":"#NUM!"},{"$error":"#NUM!"},{"$error":"#NUM!"},{"$error":"#NUM!"},{"$error":"#NUM!"},"",null,null,null,{"$error":"#NUM!"},{"$error":"#NUM!"}]
[{"$error":"#NUM!"},{"$error":"#NUM!"},{"$error":"#NUM!"},{"$error":"#NUM!"},{"$error":"#NUM!"},"",null,null,null,{"$error":"#NUM!"},{"$error":"#NUM!"}]
[{"$error":"#NUM!"},{"$error":"#NUM!"},{"$error":"#NUM!"},{"$error":"#NUM!"},{"$error":"#NUM!"},"",null,null,null,{"$error":"#NUM!"},{"$error":"#NUM!"}]
[{"$error":"#NUM!"},{"$error":"#NUM!"},{"$error":"#NUM!"},{"$error":"#NUM!"},{"$error":"#NUM!"},"",null,null,null,{"$error":"#NUM!"},{"$error":"#NUM!"}]
[{"$error":"#NUM!"},{"$error":"#NUM!"},{"$error":"#NUM!"},{"$error":"#NUM!"},{"$error":"#NUM!"},"",null,null,null,{"$error":"#NUM!"},{"$error":"#NUM!"}]
[{"$error":"#NUM!"},{"$error":"#NUM!"},{"$error":"#NUM!"},{"$error":"#NUM!"},{"$error":"#NUM!"},"",null,null,null,{"$error":"#NUM!"},{"$error":"#NUM!"}]
[{"$error":"#NUM!"},{"$error":"#NUM!"},{"$error":"#NUM!"},{"$error":"#NUM!"},{"$error":"#NUM!"},"",null,null,null,{"$error":"#NUM!"},{"$error":"#NUM!"}]
[{"$error":"#NUM!"},{"$error":"#NUM!"},{"$error":"#NUM!"},{"$error":"#NUM!"},{"$error":"#NUM!"},"",null,null,null,{"$error":"#NUM!"},{"$error":"#NUM!"}]
[{"$error":"#NUM!"},{"$error":"#NUM!"},{"$error":"#NUM!"},{"$error":"#NUM!"},{"$error":"#NUM!"},"",null,null,null,{"$error":"#NUM!"},{"$error":"#NUM!"}]
[{"$error":"#NUM!"},{"$error":"#NUM!"},{"$error":"#NUM!"},{"$error":"#NUM!"},{"$error":"#NUM!"},"",null,null,null,{"$error":"#NUM!"},{"$error":"#NUM!"}]
[{"$error":"#NUM!"},{"$error":"#NUM!"},{"$error":"#NUM!"},{"$error":"#NUM!"},{"$error":"#NUM!"},"",null,null,null,{"$error":"#NUM!"},{"$error":"#NUM!"}]
[{"$error":"#NUM!"},{"$error":"#NUM!"},{"$error":"#NUM!"},{"$error":"#NUM!"},{"$error":"#NUM!"},"",null,null,null,{"$error":"#NUM!"},{"$error":"#NUM!"}]
[{"$error":"#NUM!"},{"$error":"#NUM!"},{"$error":"#NUM!"},{"$error":"#NUM!"},{"$error":"#NUM!"},"",null,null,null,{"$error":"#NUM!"},{"$error":"#NUM!"}]
[{"$error":"#NUM!"},{"$error":"#NUM!"},{"$error":"#NUM!"},{"$error":"#NUM!"},{"$error":"#NUM!"},"",null,null,null,{"$error":"#NUM!"},{"$error":"#NUM!"}]
[{"$error":"#NUM!"},{"$error":"#NUM!"},{"$error":"#NUM!"},{"$error":"#NUM!"},{"$error":"#NUM!"},"",null,null,null,{"$error":"#NUM!"},{"$error":"#NUM!"}]
[{"$error":"#NUM!"},{"$error":"#NUM!"},{"$error":"#NUM!"},{"$error":"#NUM!"},{"$error":"#NUM!"},"",null,null,null,{"$error":"#NUM!"},{"$error":"#NUM!"}]
[{"$error":"#NUM!"},{"$error":"#NUM!"},{"$error":"#NUM!"},{"$error":"#NUM!"},{"$error":"#NUM!"},"",null,null,null,{"$error":"#NUM!"},{"$error":"#NUM!"}]
[{"$error":"#NUM!"},{"$f":"\"(SEG) \"&INDIRECT(ADDRESS($A33,2,,,\"Rural 2-Lane Segments (MI)\"))&\", \"&INDIRECT(ADDRESS($A33,3,,,\"Rural 2-Lane Segments (MI)\"))","v":{"$error":"#NUM!"}},{"$f":"INDIRECT(ADDRESS($A33,4,,,\"Rural 2-Lane Segments (MI)\"))","v":{"$error":"#NUM!"}},{"$f":"\"Length = \"&INDIRECT(ADDRESS($A33,7,,,\"Rural 2-Lane Segments (MI)\"))&\" mi\"","v":{"$error":"#NUM!"}},{"$f":"\"AADT: \"&TEXT(INDIRECT(ADDRESS($A33,8,,,\"Rural 2-Lane Segments (MI)\")),\"#,##0\")","v":{"$error":"#NUM!"}},{"$f":"IF(ISERROR(A33),\"\",INDIRECT(ADDRESS($A33,44,,,\"Rural 2-Lane Segments (MI)\")))","v":""},null,null,null,{"$f":"LARGE($F$1:$F$400,ROW())","v":{"$error":"#NUM!"}},{"$f":"MATCH(LARGE($F$1:$F$400,ROW()),$F$1:$F$400,0)","v":{"$error":"#NUM!"}}]
[{"$f":"IF(LARGE(INDIRECT(\"'Rural 2-Lane Segments (MI)'!$AR$5:$AR$1005\"),ROW())=F33,MATCH(F33,INDIRECT(\"'Rural 2-Lane Segments (MI)'!$AR$\"&A33+1&\":$AR1005\"),0)+A33,MATCH(LARGE(INDIRECT(\"'Rural 2-Lane Segments (MI)'!$AR$5:$AR$1005\"),ROW()),INDIRECT(\"'Rural 2-Lane Segments (MI)'!$AR$5:$AR$1005\"),0)+4)","v":{"$error":"#NUM!"}},{"$error":"#NUM!"},{"$error":"#NUM!"},{"$error":"#NUM!"},{"$error":"#NUM!"},"",null,null,null,{"$error":"#NUM!"},{"$error":"#NUM!"}]
[{"$error":"#NUM!"},{"$error":"#NUM!"},{"$error":"#NUM!"},{"$error":"#NUM!"},{"$error":"#NUM!"},"",null,null,null,{"$error":"#NUM!"},{"$error":"#NUM!"}]
[{"$error":"#NUM!"},{"$error":"#NUM!"},{"$error":"#NUM!"},{"$error":"#NUM!"},{"$error":"#NUM!"},"",null,null,null,{"$error":"#NUM!"},{"$error":"#NUM!"}]
[{"$error":"#NUM!"},{"$error":"#NUM!"},{"$error":"#NUM!"},{"$error":"#NUM!"},{"$error":"#NUM!"},"",null,null,null,{"$error":"#NUM!"},{"$error":"#NUM!"}]
[{"$error":"#NUM!"},{"$error":"#NUM!"},{"$error":"#NUM!"},{"$error":"#NUM!"},{"$error":"#NUM!"},"",null,null,null,{"$error":"#NUM!"},{"$error":"#NUM!"}]
[{"$error":"#NUM!"},{"$error":"#NUM!"},{"$error":"#NUM!"},{"$error":"#NUM!"},{"$error":"#NUM!"},"",null,null,null,{"$error":"#NUM!"},{"$error":"#NUM!"}]
[{"$error":"#NUM!"},{"$error":"#NUM!"},{"$error":"#NUM!"},{"$error":"#NUM!"},{"$error":"#NUM!"},"",null,null,null,{"$error":"#NUM!"},{"$error":"#NUM!"}]
[{"$error":"#NUM!"},{"$error":"#NUM!"},{"$error":"#NUM!"},{"$error":"#NUM!"},{"$error":"#NUM!"},"",null,null,null,{"$error":"#NUM!"},{"$error":"#NUM!"}]
[{"$error":"#NUM!"},{"$error":"#NUM!"},{"$error":"#NUM!"},{"$error":"#NUM!"},{"$error":"#NUM!"},"",null,null,null,{"$error":"#NUM!"},{"$error":"#NUM!"}]
[{"$error":"#NUM!"},{"$error":"#NUM!"},{"$error":"#NUM!"},{"$error":"#NUM!"},{"$error":"#NUM!"},"",null,null,null,{"$error":"#NUM!"},{"$error":"#NUM!"}]
[{"$error":"#NUM!"},{"$error":"#NUM!"},{"$error":"#NUM!"},{"$error":"#NUM!"},{"$error":"#NUM!"},"",null,null,null,{"$error":"#NUM!"},{"$error":"#NUM!"}]
[{"$error":"#NUM!"},{"$error":"#NUM!"},{"$error":"#NUM!"},{"$error":"#NUM!"},{"$error":"#NUM!"},"",null,null,null,{"$error":"#NUM!"},{"$error":"#NUM!"}]
[{"$error":"#NUM!"},{"$error":"#NUM!"},{"$error":"#NUM!"},{"$error":"#NUM!"},{"$error":"#NUM!"},"",null,null,null,{"$error":"#NUM!"},{"$error":"#NUM!"}]
[{"$error":"#NUM!"},{"$error":"#NUM!"},{"$error":"#NUM!"},{"$error":"#NUM!"},{"$error":"#NUM!"},"",null,null,null,{"$error":"#NUM!"},{"$error":"#NUM!"}]
[{"$error":"#NUM!"},{"$error":"#NUM!"},{"$error":"#NUM!"},{"$error":"#NUM!"},{"$error":"#NUM!"},"",null,null,null,{"$error":"#NUM!"},{"$error":"#NUM!"}]
[{"$error":"#NUM!"},{"$error":"#NUM!"},{"$error":"#NUM!"},{"$error":"#NUM!"},{"$error":"#NUM!"},"",null,null,null,{"$error":"#NUM!"},{"$error":"#NUM!"}]
[{"$error":"#NUM!"},{"$error":"#NUM!"},{"$error":"#NUM!"},{"$error":"#NUM!"},{"$error":"#NUM!"},"",null,null,null,{"$error":"#NUM!"},{"$error":"#NUM!"}]
[{"$f":"MATCH(LARGE(INDIRECT(\"'Rural County FA Segs (MI)'!$AM$5:$AM$1005\"),ROW()-50),INDIRECT(\"'Rural County FA Segs (MI)'!$AM$5:$AM$1005\"),0)+4","v":{"$error":"#NUM!"}},{"$f":"\"(SEG) \"&INDIRECT(ADDRESS($A51,2,,,\"Rural County FA Segs (MI)\"))&\", \"&INDIRECT(ADDRESS($A51,3,,,\"Rural County FA Segs (MI)\"))","v":{"$error":"#NUM!"}},{"$f":"INDIRECT(ADDRESS($A51,4,,,\"Rural County FA Segs (MI)\"))","v":{"$error":"#NUM!"}},{"$f":"\"Length = \"&INDIRECT(ADDRESS($A51,5,,,\"Rural County FA Segs (MI)\"))&\" mi\"","v":{"$error":"#NUM!"}},{"$f":"\"AADT: \"&TEXT(INDIRECT(ADDRESS($A51,6,,,\"Rural County FA Segs (MI)\")),\"#,##0\")","v":{"$error":"#NUM!"}},{"$f":"IF(ISERROR(A51),\"\",INDIRECT(ADDRESS($A51,39,,,\"Rural County FA Segs (MI)\")))","v":""}]
[{"$f":"IF(LARGE(INDIRECT(\"'Rural County FA Segs (MI)'!$AM$5:$AM$1005\"),ROW()-50)=F51,MATCH(F51,INDIRECT(\"'Rural County FA Segs (MI)'!$AM$\"&A51+1&\":$AM1005\"),0)+A51,MATCH(LARGE(INDIRECT(\"'Rural County FA Segs (MI)'!$AM$5:$AM$1005\"),ROW()-50),INDIRECT(\"'Rural County FA Segs (MI)'!$AM$5:$AM$1005\"),0)+4)","v":{"$error":"#NUM!"}},{"$error":"#NUM!"},{"$error":"#NUM!"},{"$error":"#NUM!"},{"$error":"#NUM!"},""]
[{"$error":"#NUM!"},{"$error":"#NUM!"},{"$error":"#NUM!"},{"$error":"#NUM!"},{"$error":"#NUM!"},""]
[{"$error":"#NUM!"},{"$error":"#NUM!"},{"$error":"#NUM!"},{"$error":"#NUM!"},{"$error":"#NUM!"},""]
[{"$error":"#NUM!"},{"$error":"#NUM!"},{"$error":"#NUM!"},{"$error":"#NUM!"},{"$error":"#NUM!"},""]
[{"$error":"#NUM!"},{"$error":"#NUM!"},{"$error":"#NUM!"},{"$error":"#NUM!"},{"$error":"#NUM!"},""]
[{"$error":"#NUM!"},{"$error":"#NUM!"},{"$error":"#NUM!"},{"$error":"#NUM!"},{"$error":"#NUM!"},""]
[{"$error":"#NUM!"},{"$error":"#NUM!"},{"$error":"#NUM!"},{"$error":"#NUM!"},{"$error":"#NUM!"},""]
[{"$error":"#NUM!"},{"$error":"#NUM!"},{"$error":"#NUM!"},{"$error":"#NUM!"},{"$error":"#NUM!"},""]
[{"$error":"#NUM!"},{"$error":"#NUM!"},{"$error":"#NUM!"},{"$error":"#NUM!"},{"$error":"#NUM!"},""]
[{"$error":"#NUM!"},{"$error":"#NUM!"},{"$error":"#NUM!"},{"$error":"#NUM!"},{"$error":"#NUM!"},""]
[{"$error":"#NUM!"},{"$error":"#NUM!"},{"$error":"#NUM!"},{"$error":"#NUM!"},{"$error":"#NUM!"},""]
[{"$error":"#NUM!"},{"$error":"#NUM!"},{"$error":"#NUM!"},{"$error":"#NUM!"},{"$error":"#NUM!"},""]
[{"$error":"#NUM!"},{"$error":"#NUM!"},{"$error":"#NUM!"},{"$error":"#NUM!"},{"$error":"#NUM!"},""]
[{"$error":"#NUM!"},{"$error":"#NUM!"},{"$error":"#NUM!"},{"$error":"#NUM!"},{"$error":"#NUM!"},""]
[{"$error":"#NUM!"},{"$error":"#NUM!"},{"$error":"#NUM!"},{"$error":"#NUM!"},{"$error":"#NUM!"},""]
[{"$error":"#NUM!"},{"$error":"#NUM!"},{"$error":"#NUM!"},{"$error":"#NUM!"},{"$error":"#NUM!"},""]
[{"$error":"#NUM!"},{"$error":"#NUM!"},{"$error":"#NUM!"},{"$error":"#NUM!"},{"$error":"#NUM!"},""]
[{"$error":"#NUM!"},{"$error":"#NUM!"},{"$error":"#NUM!"},{"$error":"#NUM!"},{"$error":"#NUM!"},""]
[{"$error":"#NUM!"},{"$error":"#NUM!"},{"$error":"#NUM!"},{"$error":"#NUM!"},{"$error":"#NUM!"},""]
[{"$error":"#NUM!"},{"$error":"#NUM!"},{"$error":"#NUM!"},{"$error":"#NUM!"},{"$error":"#NUM!"},""]
[{"$error":"#NUM!"},{"$error":"#NUM!"},{"$error":"#NUM!"},{"$error":"#NUM!"},{"$error":"#NUM!"},""]
[{"$error":"#NUM!"},{"$error":"#NUM!"},{"$error":"#NUM!"},{"$error":"#NUM!"},{"$error":"#NUM!"},""]
[{"$error":"#NUM!"},{"$error":"#NUM!"},{"$error":"#NUM!"},{"$error":"#NUM!"},{"$error":"#NUM!"},""]
[{"$error":"#NUM!"},{"$error":"#NUM!"},{"$error":"#NUM!"},{"$error":"#NUM!"},{"$error":"#NUM!"},""]
[{"$error":"#NUM!"},{"$error":"#NUM!"},{"$error":"#NUM!"},{"$error":"#NUM!"},{"$error":"#NUM!"},""]
[{"$error":"#NUM!"},{"$error":"#NUM!"},{"$error":"#NUM!"},{"$error":"#NUM!"},{"$error":"#NUM!"},""]
[{"$error":"#NUM!"},{"$error":"#NUM!"},{"$error":"#NUM!"},{"$error":"#NUM!"},{"$error":"#NUM!"},""]
[{"$error":"#NUM!"},{"$error":"#NUM!"},{"$error":"#NUM!"},{"$error":"#NUM!"},{"$error":"#NUM!"},""]
[{"$error":"#NUM!"},{"$error":"#NUM!"},{"$error":"#NUM!"},{"$error":"#NUM!"},{"$error":"#NUM!"},""]
[{"$error":"#NUM!"},{"$error":"#NUM!"},{"$error":"#NUM!"},{"$error":"#NUM!"},{"$error":"#NUM!"},""]
[{"$error":"#NUM!"},{"$error":"#NUM!"},{"$error":"#NUM!"},{"$error":"#NUM!"},{"$error":"#NUM!"},""]
[{"$error":"#NUM!"},{"$f":"\"(SEG) \"&INDIRECT(ADDRESS($A83,2,,,\"Rural County FA Segs (MI)\"))&\", \"&INDIRECT(ADDRESS($A83,3,,,\"Rural County FA Segs (MI)\"))","v":{"$error":"#NUM!"}},{"$f":"INDIRECT(ADDRESS($A83,4,,,\"Rural County FA Segs (MI)\"))","v":{"$error":"#NUM!"}},{"$f":"\"Length = \"&INDIRECT(ADDRESS($A83,5,,,\"Rural County FA Segs (MI)\"))&\" mi\"","v":{"$error":"#NUM!"}},{"$f":"\"AADT: \"&TEXT(INDIRECT(ADDRESS($A83,6,,,\"Rural County FA Segs (MI)\")),\"#,##0\")","v":{"$error":"#NUM!"}},{"$f":"IF(ISERROR(A83),\"\",INDIRECT(ADDRESS($A83,39,,,\"Rural County FA Segs (MI)\")))","v":""}]
[{"$f":"IF(LARGE(INDIRECT(\"'Rural County FA Segs (MI)'!$AM$5:$AM$1005\"),ROW()-50)=F83,MATCH(F83,INDIRECT(\"'Rural County FA Segs (MI)'!$AM$\"&A83+1&\":$AM1005\"),0)+A83,MATCH(LARGE(INDIRECT(\"'Rural County FA Segs (MI)'!$AM$5:$AM$1005\"),ROW()-50),INDIRECT(\"'Rural County FA Segs (MI)'!$AM$5:$AM$1005\"),0)+4)","v":{"$error":"#NUM!"}},{"$error":"#NUM!"},{"$error":"#NUM!"},{"$error":"#NUM!"},{"$error":"#NUM!"},""]
[{"$error":"#NUM!"},{"$error":"#NUM!"},{"$error":"#NUM!"},{"$error":"#NUM!"},{"$error":"#NUM!"},""]
[{"$error":"#NUM!"},{"$error":"#NUM!"},{"$error":"#NUM!"},{"$error":"#NUM!"},{"$error":"#NUM!"},""]
[{"$error":"#NUM!"},{"$error":"#NUM!"},{"$error":"#NUM!"},{"$error":"#NUM!"},{"$error":"#NUM!"},""]
[{"$error":"#NUM!"},{"$error":"#NUM!"},{"$error":"#NUM!"},{"$error":"#NUM!"},{"$error":"#NUM!"},""]
[{"$error":"#NUM!"},{"$error":"#NUM!"},{"$error":"#NUM!"},{"$error":"#NUM!"},{"$error":"#NUM!"},""]
[{"$error":"#NUM!"},{"$error":"#NUM!"},{"$error":"#NUM!"},{"$error":"#NUM!"},{"$error":"#NUM!"},""]
[{"$error":"#NUM!"},{"$error":"#NUM!"},{"$error":"#NUM!"},{"$error":"#NUM!"},{"$error":"#NUM!"},""]
[{"$error":"#NUM!"},{"$error":"#NUM!"},{"$error":"#NUM!"},{"$error":"#NUM!"},{"$error":"#NUM!"},""]
[{"$error":"#NUM!"},{"$error":"#NUM!"},{"$error":"#NUM!"},{"$error":"#NUM!"},{"$error":"#NUM!"},""]
[{"$error":"#NUM!"},{"$error":"#NUM!"},{"$error":"#NUM!"},{"$error":"#NUM!"},{"$error":"#NUM!"},""]
[{"$error":"#NUM!"},{"$error":"#NUM!"},{"$error":"#NUM!"},{"$error":"#NUM!"},{"$error":"#NUM!"},""]
[{"$error":"#NUM!"},{"$error":"#NUM!"},{"$error":"#NUM!"},{"$error":"#NUM!"},{"$error":"#NUM!"},""]
[{"$error":"#NUM!"},{"$error":"#NUM!"},{"$error":"#NUM!"},{"$error":"#NUM!"},{"$error":"#NUM!"},""]
[{"$error":"#NUM!"},{"$error":"#NUM!"},{"$error":"#NUM!"},{"$error":"#NUM!"},{"$error":"#NUM!"},""]
[{"$error":"#NUM!"},{"$error":"#NUM!"},{"$error":"#NUM!"},{"$error":"#NUM!"},{"$error":"#NUM!"},""]
[{"$error":"#NUM!"},{"$error":"#NUM!"},{"$error":"#NUM!"},{"$error":"#NUM!"},{"$error":"#NUM!"},""]
[{"$f":"MATCH(LARGE(INDIRECT(\"'Rural County Non-FA Segs (MI)'!$Z$5:$Z$1005\"),ROW()-100),INDIRECT(\"'Rural County Non-FA Segs (MI)'!$Z$5:$Z$1005\"),0)+4","v":{"$error":"#NUM!"}},{"$f":"\"(SEG) \"&INDIRECT(ADDRESS($A101,2,,,\"Rural County Non-FA Segs (MI)\"))&\", \"&INDIRECT(ADDRESS($A101,3,,,\"Rural County Non-FA Segs (MI)\"))","v":{"$error":"#NUM!"}},{"$f":"INDIRECT(ADDRESS($A101,4,,,\"Rural County Non-FA Segs (MI)\"))","v":{"$error":"#NUM!"}},{"$f":"\"Length = \"&INDIRECT(ADDRESS($A101,6,,,\"Rural County Non-FA Segs (MI)\"))&\" mi\"","v":{"$error":"#NUM!"}},{"$f":"\"AADT: \"&TEXT(INDIRECT(ADDRESS($A101,7,,,\"Rural County Non-FA Segs (MI)\")),\"#,##0\")","v":{"$error":"#NUM!"}},{"$f":"IF(ISERROR(A101),\"\",INDIRECT(ADDRESS($A101,26,,,\"Rural County Non-FA Segs (MI)\")))","v":""}]
[{"$f":"IF(LARGE(INDIRECT(\"'Rural County Non-FA Segs (MI)'!$Z$5:$Z$1005\"),ROW()-100)=F101,MATCH(F101,INDIRECT(\"'Rural County Non-FA Segs (MI)'!$Z$\"&A101+1&\":$Z1005\"),0)+A101,MATCH(LARGE(INDIRECT(\"'Rural County Non-FA Segs (MI)'!$Z$5:$Z$1005\"),ROW()-100),INDIRECT(\"'Rural County Non-FA Segs (MI)'!$Z$5:$Z$1005\"),0)+4)","v":{"$error":"#NUM!"}},{"$error":"#NUM!"},{"$error":"#NUM!"},{"$error":"#NUM!"},{"$error":"#NUM!"},""]
[{"$error":"#NUM!"},{"$error":"#NUM!"},{"$error":"#NUM!"},{"$error":"#NUM!"},{"$error":"#NUM!"},""]
[{"$error":"#NUM!"},{"$error":"#NUM!"},{"$error":"#NUM!"},{"$error":"#NUM!"},{"$error":"#NUM!"},""]
[{"$error":"#NUM!"},{"$error":"#NUM!"},{"$error":"#NUM!"},{"$error":"#NUM!"},{"$error":"#NUM!"},""]
[{"$error":"#NUM!"},{"$error":"#NUM!"},{"$error":"#NUM!"},{"$error":"#NUM!"},{"$error":"#NUM!"},""]
[{"$error":"#NUM!"},{"$error":"#NUM!"},{"$error":"#NUM!"},{"$error":"#NUM!"},{"$error":"#NUM!"},""]
[{"$error":"#NUM!"},{"$error":"#NUM!"},{"$error":"#NUM!"},{"$error":"#NUM!"},{"$error":"#NUM!"},""]
[{"$error":"#NUM!"},{"$error":"#NUM!"},{"$error":"#NUM!"},{"$error":"#NUM!"},{"$error":"#NUM!"},""]
[{"$error":"#NUM!"},{"$error":"#NUM!"},{"$error":"#NUM!"},{"$error":"#NUM!"},{"$error":"#NUM!"},""]
[{"$error":"#NUM!"},{"$error":"#NUM!"},{"$error":"#NUM!"},{"$error":"#NUM!"},{"$error":"#NUM!"},""]
[{"$error":"#NUM!"},{"$error":"#NUM!"},{"$error":"#NUM!"},{"$error":"#NUM!"},{"$error":"#NUM!"},""]
[{"$error":"#NUM!"},{"$error":"#NUM!"},{"$error":"#NUM!"},{"$error":"#NUM!"},{"$error":"#NUM!"},""]
[{"$error":"#NUM!"},{"$error":"#NUM!"},{"$error":"#NUM!"},{"$error":"#NUM!"},{"$error":"#NUM!"},""]
[{"$error":"#NUM!"},{"$error":"#NUM!"},{"$error":"#NUM!"},{"$error":"#NUM!"},{"$error":"#NUM!"},""]
[{"$error":"#NUM!"},{"$error":"#NUM!"},{"$error":"#NUM!"},{"$error":"#NUM!"},{"$error":"#NUM!"},""]
[{"$error":"#NUM!"},{"$error":"#NUM!"},{"$error":"#NUM!"},{"$error":"#NUM!"},{"$error":"#NUM!"},""]
[{"$error":"#NUM!"},{"$error":"#NUM!"},{"$error":"#NUM!"},{"$error":"#NUM!"},{"$error":"#NUM!"},""]
[{"$error":"#NUM!"},{"$error":"#NUM!"},{"$error":"#NUM!"},{"$error":"#NUM!"},{"$error":"#NUM!"},""]
[{"$error":"#NUM!"},{"$error":"#NUM!"},{"$error":"#NUM!"},{"$error":"#NUM!"},{"$error":"#NUM!"},""]
[{"$error":"#NUM!"},{"$error":"#NUM!"},{"$error":"#NUM!"},{"$error":"#NUM!"},{"$error":"#NUM!"},""]
[{"$error":"#NUM!"},{"$error":"#NUM!"},{"$error":"#NUM!"},{"$error":"#NUM!"},{"$error":"#NUM!"},""]
[{"$error":"#NUM!"},{"$error":"#NUM!"},{"$error":"#NUM!"},{"$error":"#NUM!"},{"$error":"#NUM!"},""]
[{"$error":"#NUM!"},{"$error":"#NUM!"},{"$error":"#NUM!"},{"$error":"#NUM!"},{"$error":"#NUM!"},""]
[{"$error":"#NUM!"},{"$error":"#NUM!"},{"$error":"#NUM!"},{"$error":"#NUM!"},{"$error":"#NUM!"},""]
[{"$error":"#NUM!"},{"$error":"#NUM!"},{"$error":"#NUM!"},{"$error":"#NUM!"},{"$error":"#NUM!"},""]
[{"$error":"#NUM!"},{"$error":"#NUM!"},{"$error":"#NUM!"},{"$error":"#NUM!"},{"$error":"#NUM!"},""]
[{"$error":"#NUM!"},{"$error":"#NUM!"},{"$error":"#NUM!"},{"$error":"#NUM!"},{"$error":"#NUM!"},""]
[{"$error":"#NUM!"},{"$error":"#NUM!"},{"$error":"#NUM!"},{"$error":"#NUM!"},{"$error":"#NUM!"},""]
[{"$error":"#NUM!"},{"$error":"#NUM!"},{"$error":"#NUM!"},{"$error":"#NUM!"},{"$error":"#NUM!"},""]
[{"$error":"#NUM!"},{"$error":"#NUM!"},{"$error":"#NUM!"},{"$error":"#NUM!"},{"$error":"#NUM!"},""]
[{"$error":"#NUM!"},{"$error":"#NUM!"},{"$error":"#NUM!"},{"$error":"#NUM!"},{"$error":"#NUM!"},""]
[{"$error":"#NUM!"},{"$f":"\"(SEG) \"&INDIRECT(ADDRESS($A133,2,,,\"Rural County Non-FA Segs (MI)\"))&\", \"&INDIRECT(ADDRESS($A133,3,,,\"Rural County Non-FA Segs (MI)\"))","v":{"$error":"#NUM!"}},{"$f":"INDIRECT(ADDRESS($A133,4,,,\"Rural County Non-FA Segs (MI)\"))","v":{"$error":"#NUM!"}},{"$f":"\"Length = \"&INDIRECT(ADDRESS($A133,6,,,\"Rural County Non-FA Segs (MI)\"))&\" mi\"","v":{"$error":"#NUM!"}},{"$f":"\"AADT: \"&TEXT(INDIRECT(ADDRESS($A133,7,,,\"Rural County Non-FA Segs (MI)\")),\"#,##0\")","v":{"$error":"#NUM!"}},{"$f":"IF(ISERROR(A133),\"\",INDIRECT(ADDRESS($A133,26,,,\"Rural County Non-FA Segs (MI)\")))","v":""}]
[{"$f":"IF(LARGE(INDIRECT(\"'Rural County Non-FA Segs (MI)'!$Z$5:$Z$1005\"),ROW()-100)=F133,MATCH(F133,INDIRECT(\"'Rural County Non-FA Segs (MI)'!$Z$\"&A133+1&\":$Z1005\"),0)+A133,MATCH(LARGE(INDIRECT(\"'Rural County Non-FA Segs (MI)'!$Z$5:$Z$1005\"),ROW()-100),INDIRECT(\"'Rural County Non-FA Segs (MI)'!$Z$5:$Z$1005\"),0)+4)","v":{"$error":"#NUM!"}},{"$error":"#NUM!"},{"$error":"#NUM!"},{"$error":"#NUM!"},{"$error":"#NUM!"},""]
[{"$error":"#NUM!"},{"$error":"#NUM!"},{"$error":"#NUM!"},{"$error":"#NUM!"},{"$error":"#NUM!"},""]
[{"$error":"#NUM!"},{"$error":"#NUM!"},{"$error":"#NUM!"},{"$error":"#NUM!"},{"$error":"#NUM!"},""]
[{"$error":"#NUM!"},{"$error":"#NUM!"},{"$error":"#NUM!"},{"$error":"#NUM!"},{"$error":"#NUM!"},""]
[{"$error":"#NUM!"},{"$error":"#NUM!"},{"$error":"#NUM!"},{"$error":"#NUM!"},{"$error":"#NUM!"},""]
[{"$error":"#NUM!"},{"$error":"#NUM!"},{"$error":"#NUM!"},{"$error":"#NUM!"},{"$error":"#NUM!"},""]
[{"$error":"#NUM!"},{"$error":"#NUM!"},{"$error":"#NUM!"},{"$error":"#NUM!"},{"$error":"#NUM!"},""]
[{"$error":"#NUM!"},{"$error":"#NUM!"},{"$error":"#NUM!"},{"$error":"#NUM!"},{"$error":"#NUM!"},""]
[{"$error":"#NUM!"},{"$error":"#NUM!"},{"$error":"#NUM!"},{"$error":"#NUM!"},{"$error":"#NUM!"},""]
[{"$error":"#NUM!"},{"$error":"#NUM!"},{"$error":"#NUM!"},{"$error":"#NUM!"},{"$error":"#NUM!"},""]
[{"$error":"#NUM!"},{"$error":"#NUM!"},{"$error":"#NUM!"},{"$error":"#NUM!"},{"$error":"#NUM!"},""]
[{"$error":"#NUM!"},{"$error":"#NUM!"},{"$error":"#NUM!"},{"$error":"#NUM!"},{"$error":"#NUM!"},""]
[{"$error":"#NUM!"},{"$error":"#NUM!"},{"$error":"#NUM!"},{"$error":"#NUM!"},{"$error":"#NUM!"},""]
[{"$error":"#NUM!"},{"$error":"#NUM!"},{"$error":"#NUM!"},{"$error":"#NUM!"},{"$error":"#NUM!"},""]
[{"$error":"#NUM!"},{"$error":"#NUM!"},{"$error":"#NUM!"},{"$error":"#NUM!"},{"$error":"#NUM!"},""]
[{"$error":"#NUM!"},{"$error":"#NUM!"},{"$error":"#NUM!"},{"$error":"#NUM!"},{"$error":"#NUM!"},""]
[{"$error":"#NUM!"},{"$error":"#NUM!"},{"$error":"#NUM!"},{"$error":"#NUM!"},{"$error":"#NUM!"},""]
[{"$f":"MATCH(LARGE(INDIRECT(\"'Rural Multilane Segments (MI)'!$AQ$5:$AQ$1005\"),ROW()-150),INDIRECT(\"'Rural Multilane Segments (MI)'!$AQ$5:$AQ$1005\"),0)+4","v":{"$error":"#NUM!"}},{"$f":"\"(SEG) \"&INDIRECT(ADDRESS($A151,2,,,\"Rural Multilane Segments (MI)\"))&\", \"&INDIRECT(ADDRESS($A151,3,,,\"Rural Multilane Segments (MI)\"))","v":{"$error":"#NUM!"}},{"$f":"INDIRECT(ADDRESS($A151,4,,,\"Rural Multilane Segments (MI)\"))","v":{"$error":"#NUM!"}},{"$f":"\"Length = \"&INDIRECT(ADDRESS($A151,8,,,\"Rural Multilane Segments (MI)\"))&\" mi\"","v":{"$error":"#NUM!"}},{"$f":"\"AADT: \"&TEXT(INDIRECT(ADDRESS($A151,9,,,\"Rural Multilane Segments (MI)\")),\"#,##0\")","v":{"$error":"#NUM!"}},{"$f":"IF(ISERROR(A151),\"\",INDIRECT(ADDRESS($A151,43,,,\"Rural Multilane Segments (MI)\")))","v":""}]
[{"$f":"IF(LARGE(INDIRECT(\"'Rural Multilane Segments (MI)'!$AQ$5:$AQ$1005\"),ROW()-150)=F151,MATCH(F151,INDIRECT(\"'Rural Multilane Segments (MI)'!$AQ$\"&A151+1&\":$AQ1005\"),0)+A151,MATCH(LARGE(INDIRECT(\"'Rural Multilane Segments (MI)'!$AQ$5:$AQ$1005\"),ROW()-150),INDIRECT(\"'Rural Multilane Segments (MI)'!$AQ$5:$AQ$1005\"),0)+4)","v":{"$error":"#NUM!"}},{"$error":"#NUM!"},{"$error":"#NUM!"},{"$error":"#NUM!"},{"$error":"#NUM!"},""]
[{"$error":"#NUM!"},{"$error":"#NUM!"},{"$error":"#NUM!"},{"$error":"#NUM!"},{"$error":"#NUM!"},""]
[{"$error":"#NUM!"},{"$error":"#NUM!"},{"$error":"#NUM!"},{"$error":"#NUM!"},{"$error":"#NUM!"},""]
[{"$error":"#NUM!"},{"$error":"#NUM!"},{"$error":"#NUM!"},{"$error":"#NUM!"},{"$error":"#NUM!"},""]
[{"$error":"#NUM!"},{"$error":"#NUM!"},{"$error":"#NUM!"},{"$error":"#NUM!"},{"$error":"#NUM!"},""]
[{"$error":"#NUM!"},{"$error":"#NUM!"},{"$error":"#NUM!"},{"$error":"#NUM!"},{"$error":"#NUM!"},""]
[{"$error":"#NUM!"},{"$error":"#NUM!"},{"$error":"#NUM!"},{"$error":"#NUM!"},{"$error":"#NUM!"},""]
[{"$error":"#NUM!"},{"$error":"#NUM!"},{"$error":"#NUM!"},{"$error":"#NUM!"},{"$error":"#NUM!"},""]
[{"$error":"#NUM!"},{"$error":"#NUM!"},{"$error":"#NUM!"},{"$error":"#NUM!"},{"$error":"#NUM!"},""]
[{"$error":"#NUM!"},{"$error":"#NUM!"},{"$error":"#NUM!"},{"$error":"#NUM!"},{"$error":"#NUM!"},""]
[{"$error":"#NUM!"},{"$error":"#NUM!"},{"$error":"#NUM!"},{"$error":"#NUM!"},{"$error":"#NUM!"},""]
[{"$error":"#NUM!"},{"$error":"#NUM!"},{"$error":"#NUM!"},{"$error":"#NUM!"},{"$error":"#NUM!"},""]
[{"$error":"#NUM!"},{"$error":"#NUM!"},{"$error":"#NUM!"},{"$error":"#NUM!"},{"$error":"#NUM!"},""]
[{"$error":"#NUM!"},{"$error":"#NUM!"},{"$error":"#NUM!"},{"$error":"#NUM!"},{"$error":"#NUM!"},""]
[{"$error":"#NUM!"},{"$error":"#NUM!"},{"$error":"#NUM!"},{"$error":"#NUM!"},{"$error":"#NUM!"},""]
[{"$error":"#NUM!"},{"$error":"#NUM!"},{"$error":"#NUM!"},{"$error":"#NUM!"},{"$error":"#NUM!"},""]
[{"$error":"#NUM!"},{"$error":"#NUM!"},{"$error":"#NUM!"},{"$error":"#NUM!"},{"$error":"#NUM!"},""]
[{"$error":"#NUM!"},{"$error":"#NUM!"},{"$error":"#NUM!"},{"$error":"#NUM!"},{"$error":"#NUM!"},""]
[{"$error":"#NUM!"},{"$error":"#NUM!"},{"$error":"#NUM!"},{"$error":"#NUM!"},{"$error":"#NUM!"},""]
[{"$error":"#NUM!"},{"$error":"#NUM!"},{"$error":"#NUM!"},{"$error":"#NUM!"},{"$error":"#NUM!"},""]
[{"$error":"#NUM!"},{"$error":"#NUM!"},{"$error":"#NUM!"},{"$error":"#NUM!"},{"$error":"#NUM!"},""]
[{"$error":"#NUM!"},{"$error":"#NUM!"},{"$error":"#NUM!"},{"$error":"#NUM!"},{"$error":"#NUM!"},""]
[{"$error":"#NUM!"},{"$error":"#NUM!"},{"$error":"#NUM!"},{"$error":"#NUM!"},{"$error":"#NUM!"},""]
[{"$error":"#NUM!"},{"$error":"#NUM!"},{"$error":"#NUM!"},{"$error":"#NUM!"},{"$error":"#NUM!"},""]
[{"$error":"#NUM!"},{"$error":"#NUM!"},{"$error":"#NUM!"},{"$error":"#NUM!"},{"$error":"#NUM!"},""]
[{"$error":"#NUM!"},{"$error":"#NUM!"},{"$error":"#NUM!"},{"$error":"#NUM!"},{"$error":"#NUM!"},""]
[{"$error":"#NUM!"},{"$error":"#NUM!"},{"$error":"#NUM!"},{"$error":"#NUM!"},{"$error":"#NUM!"},""]
[{"$error":"#NUM!"},{"$error":"#NUM!"},{"$error":"#NUM!"},{"$error":"#NUM!"},{"$error":"#NUM!"},""]
[{"$error":"#NUM!"},{"$error":"#NUM!"},{"$error":"#NUM!"},{"$error":"#NUM!"},{"$error":"#NUM!"},""]
[{"$error":"#NUM!"},{"$error":"#NUM!"},{"$error":"#NUM!"},{"$error":"#NUM!"},{"$error":"#NUM!"},""]
[{"$error":"#NUM!"},{"$error":"#NUM!"},{"$error":"#NUM!"},{"$error":"#NUM!"},{"$error":"#NUM!"},""]
[{"$error":"#NUM!"},{"$f":"\"(SEG) \"&INDIRECT(ADDRESS($A183,2,,,\"Rural Multilane Segments (MI)\"))&\", \"&INDIRECT(ADDRESS($A183,3,,,\"Rural Multilane Segments (MI)\"))","v":{"$error":"#NUM!"}},{"$f":"INDIRECT(ADDRESS($A183,4,,,\"Rural Multilane Segments (MI)\"))","v":{"$error":"#NUM!"}},{"$f":"\"Length = \"&INDIRECT(ADDRESS($A183,8,,,\"Rural Multilane Segments (MI)\"))&\" mi\"","v":{"$error":"#NUM!"}},{"$f":"\"AADT: \"&TEXT(INDIRECT(ADDRESS($A183,9,,,\"Rural Multilane Segments (MI)\")),\"#,##0\")","v":{"$error":"#NUM!"}},{"$f":"IF(ISERROR(A183),\"\",INDIRECT(ADDRESS($A183,43,,,\"Rural Multilane Segments (MI)\")))","v":""}]
[{"$f":"IF(LARGE(INDIRECT(\"'Rural Multilane Segments (MI)'!$AQ$5:$AQ$1005\"),ROW()-150)=F183,MATCH(F183,INDIRECT(\"'Rural Multilane Segments (MI)'!$AQ$\"&A183+1&\":$AQ1005\"),0)+A183,MATCH(LARGE(INDIRECT(\"'Rural Multilane Segments (MI)'!$AQ$5:$AQ$1005\"),ROW()-150),INDIRECT(\"'Rural Multilane Segments (MI)'!$AQ$5:$AQ$1005\"),0)+4)","v":{"$error":"#NUM!"}},{"$error":"#NUM!"},{"$error":"#NUM!"},{"$error":"#NUM!"},{"$error":"#NUM!"},""]
[{"$error":"#NUM!"},{"$error":"#NUM!"},{"$error":"#NUM!"},{"$error":"#NUM!"},{"$error":"#NUM!"},""]
[{"$error":"#NUM!"},{"$error":"#NUM!"},{"$error":"#NUM!"},{"$error":"#NUM!"},{"$error":"#NUM!"},""]
[{"$error":"#NUM!"},{"$error":"#NUM!"},{"$error":"#NUM!"},{"$error":"#NUM!"},{"$error":"#NUM!"},""]
[{"$error":"#NUM!"},{"$error":"#NUM!"},{"$error":"#NUM!"},{"$error":"#NUM!"},{"$error":"#NUM!"},""]
[{"$error":"#NUM!"},{"$error":"#NUM!"},{"$error":"#NUM!"},{"$error":"#NUM!"},{"$error":"#NUM!"},""]
[{"$error":"#NUM!"},{"$error":"#NUM!"},{"$error":"#NUM!"},{"$error":"#NUM!"},{"$error":"#NUM!"},""]
[{"$error":"#NUM!"},{"$error":"#NUM!"},{"$error":"#NUM!"},{"$error":"#NUM!"},{"$error":"#NUM!"},""]
[{"$error":"#NUM!"},{"$error":"#NUM!"},{"$error":"#NUM!"},{"$error":"#NUM!"},{"$error":"#NUM!"},""]
[{"$error":"#NUM!"},{"$error":"#NUM!"},{"$error":"#NUM!"},{"$error":"#NUM!"},{"$error":"#NUM!"},""]
[{"$error":"#NUM!"},{"$error":"#NUM!"},{"$error":"#NUM!"},{"$error":"#NUM!"},{"$error":"#NUM!"},""]
[{"$error":"#NUM!"},{"$error":"#NUM!"},{"$error":"#NUM!"},{"$error":"#NUM!"},{"$error":"#NUM!"},""]
[{"$error":"#NUM!"},{"$error":"#NUM!"},{"$error":"#NUM!"},{"$error":"#NUM!"},{"$error":"#NUM!"},""]
[{"$error":"#NUM!"},{"$error":"#NUM!"},{"$error":"#NUM!"},{"$error":"#NUM!"},{"$error":"#NUM!"},""]
[{"$error":"#NUM!"},{"$error":"#NUM!"},{"$error":"#NUM!"},{"$error":"#NUM!"},{"$error":"#NUM!"},""]
[{"$error":"#NUM!"},{"$error":"#NUM!"},{"$error":"#NUM!"},{"$error":"#NUM!"},{"$error":"#NUM!"},""]
[{"$error":"#NUM!"},{"$error":"#NUM!"},{"$error":"#NUM!"},{"$error":"#NUM!"},{"$error":"#NUM!"},""]
[{"$f":"MATCH(LARGE(INDIRECT(\"'Rural Unsignalized Int (MI)'!$AC$5:$AC$1005\"),ROW()-200),INDIRECT(\"'Rural Unsignalized Int (MI)'!$AC$5:$AC$1005\"),0)+4","v":{"$error":"#NUM!"}},{"$f":"\"(INT) \"&INDIRECT(ADDRESS($A201,2,,,\"Rural Unsignalized Int (MI)\"))&\" / \"&INDIRECT(ADDRESS($A201,3,,,\"Rural Unsignalized Int (MI)\"))","v":{"$error":"#NUM!"}},{"$f":"INDIRECT(ADDRESS($A201,4,,,\"Rural Unsignalized Int (MI)\"))","v":{"$error":"#NUM!"}},{"$f":"\"Type = \"&INDIRECT(ADDRESS($A201,7,,,\"Rural Unsignalized Int (MI)\"))","v":{"$error":"#NUM!"}},{"$f":"\"AADT: \"&TEXT(INDIRECT(ADDRESS($A201,8,,,\"Rural Unsignalized Int (MI)\")),\"#,##0\") & \" / \" & TEXT(INDIRECT(ADDRESS($A201,9,,,\"Rural Unsignalized Int (MI)\")),\"#,##0\")","v":{"$error":"#NUM!"}},{"$f":"IF(ISERROR(A201),\"\",INDIRECT(ADDRESS($A201,29,,,\"Rural Unsignalized Int (MI)\")))","v":""}]
[{"$f":"IF(LARGE(INDIRECT(\"'Rural Unsignalized Int (MI)'!$AC$5:$AC$1005\"),ROW()-200)=F201,MATCH(F201,INDIRECT(\"'Rural Unsignalized Int (MI)'!$AC$\"&A201+1&\":$AC1005\"),0)+A201,MATCH(LARGE(INDIRECT(\"'Rural Unsignalized Int (MI)'!$AC$5:$AC$1005\"),ROW()-200),INDIRECT(\"'Rural Unsignalized Int (MI)'!$AC$5:$AC$1005\"),0)+4)","v":{"$error":"#NUM!"}},{"$error":"#NUM!"},{"$error":"#NUM!"},{"$error":"#NUM!"},{"$error":"#NUM!"},""]
[{"$error":"#NUM!"},{"$error":"#NUM!"},{"$error":"#NUM!"},{"$error":"#NUM!"},{"$error":"#NUM!"},""]
[{"$error":"#NUM!"},{"$error":"#NUM!"},{"$error":"#NUM!"},{"$error":"#NUM!"},{"$error":"#NUM!"},""]
[{"$error":"#NUM!"},{"$error":"#NUM!"},{"$error":"#NUM!"},{"$error":"#NUM!"},{"$error":"#NUM!"},""]
[{"$error":"#NUM!"},{"$error":"#NUM!"},{"$error":"#NUM!"},{"$error":"#NUM!"},{"$error":"#NUM!"},""]
[{"$error":"#NUM!"},{"$error":"#NUM!"},{"$error":"#NUM!"},{"$error":"#NUM!"},{"$error":"#NUM!"},""]
[{"$error":"#NUM!"},{"$error":"#NUM!"},{"$error":"#NUM!"},{"$error":"#NUM!"},{"$error":"#NUM!"},""]
[{"$error":"#NUM!"},{"$error":"#NUM!"},{"$error":"#NUM!"},{"$error":"#NUM!"},{"$error":"#NUM!"},""]
[{"$error":"#NUM!"},{"$error":"#NUM!"},{"$error":"#NUM!"},{"$error":"#NUM!"},{"$error":"#NUM!"},""]
[{"$error":"#NUM!"},{"$error":"#NUM!"},{"$error":"#NUM!"},{"$error":"#NUM!"},{"$error":"#NUM!"},""]
[{"$error":"#NUM!"},{"$error":"#NUM!"},{"$error":"#NUM!"},{"$error":"#NUM!"},{"$error":"#NUM!"},""]
[{"$error":"#NUM!"},{"$error":"#NUM!"},{"$error":"#NUM!"},{"$error":"#NUM!"},{"$error":"#NUM!"},""]
[{"$error":"#NUM!"},{"$error":"#NUM!"},{"$error":"#NUM!"},{"$error":"#NUM!"},{"$error":"#NUM!"},""]
[{"$error":"#NUM!"},{"$error":"#NUM!"},{"$error":"#NUM!"},{"$error":"#NUM!"},{"$error":"#NUM!"},""]
[{"$error":"#NUM!"},{"$error":"#NUM!"},{"$error":"#NUM!"},{"$error":"#NUM!"},{"$error":"#NUM!"},""]
[{"$error":"#NUM!"},{"$error":"#NUM!"},{"$error":"#NUM!"},{"$error":"#NUM!"},{"$error":"#NUM!"},""]
[{"$error":"#NUM!"},{"$error":"#NUM!"},{"$error":"#NUM!"},{"$error":"#NUM!"},{"$error":"#NUM!"},""]
[{"$error":"#NUM!"},{"$error":"#NUM!"},{"$error":"#NUM!"},{"$error":"#NUM!"},{"$error":"#NUM!"},""]
[{"$error":"#NUM!"},{"$error":"#NUM!"},{"$error":"#NUM!"},{"$error":"#NUM!"},{"$error":"#NUM!"},""]
[{"$error":"#NUM!"},{"$error":"#NUM!"},{"$error":"#NUM!"},{"$error":"#NUM!"},{"$error":"#NUM!"},""]
[{"$error":"#NUM!"},{"$error":"#NUM!"},{"$error":"#NUM!"},{"$error":"#NUM!"},{"$error":"#NUM!"},""]
[{"$error":"#NUM!"},{"$error":"#NUM!"},{"$error":"#NUM!"},{"$error":"#NUM!"},{"$error":"#NUM!"},""]
[{"$error":"#NUM!"},{"$error":"#NUM!"},{"$error":"#NUM!"},{"$error":"#NUM!"},{"$error":"#NUM!"},""]
[{"$error":"#NUM!"},{"$error":"#NUM!"},{"$error":"#NUM!"},{"$error":"#NUM!"},{"$error":"#NUM!"},""]
[{"$error":"#NUM!"},{"$error":"#NUM!"},{"$error":"#NUM!"},{"$error":"#NUM!"},{"$error":"#NUM!"},""]
[{"$error":"#NUM!"},{"$error":"#NUM!"},{"$error":"#NUM!"},{"$error":"#NUM!"},{"$error":"#NUM!"},""]
[{"$error":"#NUM!"},{"$error":"#NUM!"},{"$error":"#NUM!"},{"$error":"#NUM!"},{"$error":"#NUM!"},""]
[{"$error":"#NUM!"},{"$error":"#NUM!"},{"$error":"#NUM!"},{"$error":"#NUM!"},{"$error":"#NUM!"},""]
[{"$error":"#NUM!"},{"$error":"#NUM!"},{"$error":"#NUM!"},{"$error":"#NUM!"},{"$error":"#NUM!"},""]
[{"$error":"#NUM!"},{"$error":"#NUM!"},{"$error":"#NUM!"},{"$error":"#NUM!"},{"$error":"#NUM!"},""]
[{"$error":"#NUM!"},{"$error":"#NUM!"},{"$error":"#NUM!"},{"$error":"#NUM!"},{"$error":"#NUM!"},""]
[{"$error":"#NUM!"},{"$f":"\"(INT) \"&INDIRECT(ADDRESS($A233,2,,,\"Rural Unsignalized Int (MI)\"))&\" / \"&INDIRECT(ADDRESS($A233,3,,,\"Rural Unsignalized Int (MI)\"))","v":{"$error":"#NUM!"}},{"$f":"INDIRECT(ADDRESS($A233,4,,,\"Rural Unsignalized Int (MI)\"))","v":{"$error":"#NUM!"}},{"$f":"\"Type = \"&INDIRECT(ADDRESS($A233,7,,,\"Rural Unsignalized Int (MI)\"))","v":{"$error":"#NUM!"}},{"$f":"\"AADT: \"&TEXT(INDIRECT(ADDRESS($A233,8,,,\"Rural Unsignalized Int (MI)\")),\"#,##0\") & \" / \" & TEXT(INDIRECT(ADDRESS($A233,9,,,\"Rural Unsignalized Int (MI)\")),\"#,##0\")","v":{"$error":"#NUM!"}},{"$f":"IF(ISERROR(A233),\"\",INDIRECT(ADDRESS($A233,29,,,\"Rural Unsignalized Int (MI)\")))","v":""}]
[{"$f":"IF(LARGE(INDIRECT(\"'Rural Unsignalized Int (MI)'!$AC$5:$AC$1005\"),ROW()-200)=F233,MATCH(F233,INDIRECT(\"'Rural Unsignalized Int (MI)'!$AC$\"&A233+1&\":$AC1005\"),0)+A233,MATCH(LARGE(INDIRECT(\"'Rural Unsignalized Int (MI)'!$AC$5:$AC$1005\"),ROW()-200),INDIRECT(\"'Rural Unsignalized Int (MI)'!$AC$5:$AC$1005\"),0)+4)","v":{"$error":"#NUM!"}},{"$error":"#NUM!"},{"$error":"#NUM!"},{"$error":"#NUM!"},{"$error":"#NUM!"},""]
[{"$error":"#NUM!"},{"$error":"#NUM!"},{"$error":"#NUM!"},{"$error":"#NUM!"},{"$error":"#NUM!"},""]
[{"$error":"#NUM!"},{"$error":"#NUM!"},{"$error":"#NUM!"},{"$error":"#NUM!"},{"$error":"#NUM!"},""]
[{"$error":"#NUM!"},{"$error":"#NUM!"},{"$error":"#NUM!"},{"$error":"#NUM!"},{"$error":"#NUM!"},""]
[{"$error":"#NUM!"},{"$error":"#NUM!"},{"$error":"#NUM!"},{"$error":"#NUM!"},{"$error":"#NUM!"},""]
[{"$error":"#NUM!"},{"$error":"#NUM!"},{"$error":"#NUM!"},{"$error":"#NUM!"},{"$error":"#NUM!"},""]
[{"$error":"#NUM!"},{"$error":"#NUM!"},{"$error":"#NUM!"},{"$error":"#NUM!"},{"$error":"#NUM!"},""]
[{"$error":"#NUM!"},{"$error":"#NUM!"},{"$error":"#NUM!"},{"$error":"#NUM!"},{"$error":"#NUM!"},""]
[{"$error":"#NUM!"},{"$error":"#NUM!"},{"$error":"#NUM!"},{"$error":"#NUM!"},{"$error":"#NUM!"},""]
[{"$error":"#NUM!"},{"$error":"#NUM!"},{"$error":"#NUM!"},{"$error":"#NUM!"},{"$error":"#NUM!"},""]
[{"$error":"#NUM!"},{"$error":"#NUM!"},{"$error":"#NUM!"},{"$error":"#NUM!"},{"$error":"#NUM!"},""]
[{"$error":"#NUM!"},{"$error":"#NUM!"},{"$error":"#NUM!"},{"$error":"#NUM!"},{"$error":"#NUM!"},""]
[{"$error":"#NUM!"},{"$error":"#NUM!"},{"$error":"#NUM!"},{"$error":"#NUM!"},{"$error":"#NUM!"},""]
[{"$error":"#NUM!"},{"$error":"#NUM!"},{"$error":"#NUM!"},{"$error":"#NUM!"},{"$error":"#NUM!"},""]
[{"$error":"#NUM!"},{"$error":"#NUM!"},{"$error":"#NUM!"},{"$error":"#NUM!"},{"$error":"#NUM!"},""]
[{"$error":"#NUM!"},{"$error":"#NUM!"},{"$error":"#NUM!"},{"$error":"#NUM!"},{"$error":"#NUM!"},""]
[{"$error":"#NUM!"},{"$error":"#NUM!"},{"$error":"#NUM!"},{"$error":"#NUM!"},{"$error":"#NUM!"},""]
[{"$f":"MATCH(LARGE(INDIRECT(\"'Rural Signalized Int (MI)'!$Y$5:$Y$1005\"),ROW()-250),INDIRECT(\"'Rural Signalized Int (MI)'!$Y$5:$Y$1005\"),0)+4","v":{"$error":"#NUM!"}},{"$f":"\"(INT) \"&INDIRECT(ADDRESS($A251,2,,,\"Rural Signalized Int (MI)\"))&\" / \"&INDIRECT(ADDRESS($A251,3,,,\"Rural Signalized Int (MI)\"))","v":{"$error":"#NUM!"}},{"$f":"INDIRECT(ADDRESS($A251,4,,,\"Rural Signalized Int (MI)\"))","v":{"$error":"#NUM!"}},{"$f":"\"Type = \"&INDIRECT(ADDRESS($A251,8,,,\"Rural Signalized Int (MI)\"))","v":{"$error":"#NUM!"}},{"$f":"\"AADT: \"&TEXT(INDIRECT(ADDRESS($A251,9,,,\"Rural Signalized Int (MI)\")),\"#,##0\") & \" / \" & TEXT(INDIRECT(ADDRESS($A251,10,,,\"Rural Signalized Int (MI)\")),\"#,##0\")","v":{"$error":"#NUM!"}},{"$f":"IF(ISERROR(A251),\"\",INDIRECT(ADDRESS($A251,25,,,\"Rural Signalized Int (MI)\")))","v":""}]
[{"$f":"IF(LARGE(INDIRECT(\"'Rural Signalized Int (MI)'!$Y$5:$Y$1005\"),ROW()-250)=F251,MATCH(F251,INDIRECT(\"'Rural Signalized Int (MI)'!$Y$\"&A251+1&\":$Y1005\"),0)+A251,MATCH(LARGE(INDIRECT(\"'Rural Signalized Int (MI)'!$Y$5:$Y$1005\"),ROW()-250),INDIRECT(\"'Rural Signalized Int (MI)'!$Y$5:$Y$1005\"),0)+4)","v":{"$error":"#NUM!"}},{"$error":"#NUM!"},{"$error":"#NUM!"},{"$error":"#NUM!"},{"$error":"#NUM!"},""]
[{"$error":"#NUM!"},{"$error":"#NUM!"},{"$error":"#NUM!"},{"$error":"#NUM!"},{"$error":"#NUM!"},""]
[{"$error":"#NUM!"},{"$error":"#NUM!"},{"$error":"#NUM!"},{"$error":"#NUM!"},{"$error":"#NUM!"},""]
[{"$error":"#NUM!"},{"$error":"#NUM!"},{"$error":"#NUM!"},{"$error":"#NUM!"},{"$error":"#NUM!"},""]
[{"$error":"#NUM!"},{"$error":"#NUM!"},{"$error":"#NUM!"},{"$error":"#NUM!"},{"$error":"#NUM!"},""]
[{"$error":"#NUM!"},{"$error":"#NUM!"},{"$error":"#NUM!"},{"$error":"#NUM!"},{"$error":"#NUM!"},""]
[{"$error":"#NUM!"},{"$error":"#NUM!"},{"$error":"#NUM!"},{"$error":"#NUM!"},{"$error":"#NUM!"},""]
[{"$error":"#NUM!"},{"$error":"#NUM!"},{"$error":"#NUM!"},{"$error":"#NUM!"},{"$error":"#NUM!"},""]
[{"$error":"#NUM!"},{"$error":"#NUM!"},{"$error":"#NUM!"},{"$error":"#NUM!"},{"$error":"#NUM!"},""]
[{"$error":"#NUM!"},{"$error":"#NUM!"},{"$error":"#NUM!"},{"$error":"#NUM!"},{"$error":"#NUM!"},""]
[{"$error":"#NUM!"},{"$error":"#NUM!"},{"$error":"#NUM!"},{"$error":"#NUM!"},{"$error":"#NUM!"},""]
[{"$error":"#NUM!"},{"$error":"#NUM!"},{"$error":"#NUM!"},{"$error":"#NUM!"},{"$error":"#NUM!"},""]
[{"$error":"#NUM!"},{"$error":"#NUM!"},{"$error":"#NUM!"},{"$error":"#NUM!"},{"$error":"#NUM!"},""]
[{"$error":"#NUM!"},{"$error":"#NUM!"},{"$error":"#NUM!"},{"$error":"#NUM!"},{"$error":"#NUM!"},""]
[{"$error":"#NUM!"},{"$error":"#NUM!"},{"$error":"#NUM!"},{"$error":"#NUM!"},{"$error":"#NUM!"},""]
[{"$error":"#NUM!"},{"$error":"#NUM!"},{"$error":"#NUM!"},{"$error":"#NUM!"},{"$error":"#NUM!"},""]
[{"$error":"#NUM!"},{"$error":"#NUM!"},{"$error":"#NUM!"},{"$error":"#NUM!"},{"$error":"#NUM!"},""]
[{"$error":"#NUM!"},{"$error":"#NUM!"},{"$error":"#NUM!"},{"$error":"#NUM!"},{"$error":"#NUM!"},""]
[{"$error":"#NUM!"},{"$error":"#NUM!"},{"$error":"#NUM!"},{"$error":"#NUM!"},{"$error":"#NUM!"},""]
[{"$error":"#NUM!"},{"$error":"#NUM!"},{"$error":"#NUM!"},{"$error":"#NUM!"},{"$error":"#NUM!"},""]
[{"$error":"#NUM!"},{"$error":"#NUM!"},{"$error":"#NUM!"},{"$error":"#NUM!"},{"$error":"#NUM!"},""]
[{"$error":"#NUM!"},{"$error":"#NUM!"},{"$error":"#NUM!"},{"$error":"#NUM!"},{"$error":"#NUM!"},""]
[{"$error":"#NUM!"},{"$error":"#NUM!"},{"$error":"#NUM!"},{"$error":"#NUM!"},{"$error":"#NUM!"},""]
[{"$error":"#NUM!"},{"$error":"#NUM!"},{"$error":"#NUM!"},{"$error":"#NUM!"},{"$error":"#NUM!"},""]
[{"$error":"#NUM!"},{"$error":"#NUM!"},{"$error":"#NUM!"},{"$error":"#NUM!"},{"$error":"#NUM!"},""]
[{"$error":"#NUM!"},{"$error":"#NUM!"},{"$error":"#NUM!"},{"$error":"#NUM!"},{"$error":"#NUM!"},""]
[{"$error":"#NUM!"},{"$error":"#NUM!"},{"$error":"#NUM!"},{"$error":"#NUM!"},{"$error":"#NUM!"},""]
[{"$error":"#NUM!"},{"$error":"#NUM!"},{"$error":"#NUM!"},{"$error":"#NUM!"},{"$error":"#NUM!"},""]
[{"$error":"#NUM!"},{"$error":"#NUM!"},{"$error":"#NUM!"},{"$error":"#NUM!"},{"$error":"#NUM!"},""]
[{"$error":"#NUM!"},{"$error":"#NUM!"},{"$error":"#NUM!"},{"$error":"#NUM!"},{"$error":"#NUM!"},""]
[{"$error":"#NUM!"},{"$error":"#NUM!"},{"$error":"#NUM!"},{"$error":"#NUM!"},{"$error":"#NUM!"},""]
[{"$error":"#NUM!"},{"$f":"\"(INT) \"&INDIRECT(ADDRESS($A283,2,,,\"Rural Signalized Int (MI)\"))&\" / \"&INDIRECT(ADDRESS($A283,3,,,\"Rural Signalized Int (MI)\"))","v":{"$error":"#NUM!"}},{"$f":"INDIRECT(ADDRESS($A283,4,,,\"Rural Signalized Int (MI)\"))","v":{"$error":"#NUM!"}},{"$f":"\"Type = \"&INDIRECT(ADDRESS($A283,8,,,\"Rural Signalized Int (MI)\"))","v":{"$error":"#NUM!"}},{"$f":"\"AADT: \"&TEXT(INDIRECT(ADDRESS($A283,9,,,\"Rural Signalized Int (MI)\")),\"#,##0\") & \" / \" & TEXT(INDIRECT(ADDRESS($A283,10,,,\"Rural Signalized Int (MI)\")),\"#,##0\")","v":{"$error":"#NUM!"}},{"$f":"IF(ISERROR(A283),\"\",INDIRECT(ADDRESS($A283,25,,,\"Rural Signalized Int (MI)\")))","v":""}]
[{"$f":"IF(LARGE(INDIRECT(\"'Rural Signalized Int (MI)'!$Y$5:$Y$1005\"),ROW()-250)=F283,MATCH(F283,INDIRECT(\"'Rural Signalized Int (MI)'!$Y$\"&A283+1&\":$Y1005\"),0)+A283,MATCH(LARGE(INDIRECT(\"'Rural Signalized Int (MI)'!$Y$5:$Y$1005\"),ROW()-250),INDIRECT(\"'Rural Signalized Int (MI)'!$Y$5:$Y$1005\"),0)+4)","v":{"$error":"#NUM!"}},{"$error":"#NUM!"},{"$error":"#NUM!"},{"$error":"#NUM!"},{"$error":"#NUM!"},""]
[{"$error":"#NUM!"},{"$error":"#NUM!"},{"$error":"#NUM!"},{"$error":"#NUM!"},{"$error":"#NUM!"},""]
[{"$error":"#NUM!"},{"$error":"#NUM!"},{"$error":"#NUM!"},{"$error":"#NUM!"},{"$error":"#NUM!"},""]
[{"$error":"#NUM!"},{"$error":"#NUM!"},{"$error":"#NUM!"},{"$error":"#NUM!"},{"$error":"#NUM!"},""]
[{"$error":"#NUM!"},{"$error":"#NUM!"},{"$error":"#NUM!"},{"$error":"#NUM!"},{"$error":"#NUM!"},""]
[{"$error":"#NUM!"},{"$error":"#NUM!"},{"$error":"#NUM!"},{"$error":"#NUM!"},{"$error":"#NUM!"},""]
[{"$error":"#NUM!"},{"$error":"#NUM!"},{"$error":"#NUM!"},{"$error":"#NUM!"},{"$error":"#NUM!"},""]
[{"$error":"#NUM!"},{"$error":"#NUM!"},{"$error":"#NUM!"},{"$error":"#NUM!"},{"$error":"#NUM!"},""]
[{"$error":"#NUM!"},{"$error":"#NUM!"},{"$error":"#NUM!"},{"$error":"#NUM!"},{"$error":"#NUM!"},""]
[{"$error":"#NUM!"},{"$error":"#NUM!"},{"$error":"#NUM!"},{"$error":"#NUM!"},{"$error":"#NUM!"},""]
[{"$error":"#NUM!"},{"$error":"#NUM!"},{"$error":"#NUM!"},{"$error":"#NUM!"},{"$error":"#NUM!"},""]
[{"$error":"#NUM!"},{"$error":"#NUM!"},{"$error":"#NUM!"},{"$error":"#NUM!"},{"$error":"#NUM!"},""]
[{"$error":"#NUM!"},{"$error":"#NUM!"},{"$error":"#NUM!"},{"$error":"#NUM!"},{"$error":"#NUM!"},""]
[{"$error":"#NUM!"},{"$error":"#NUM!"},{"$error":"#NUM!"},{"$error":"#NUM!"},{"$error":"#NUM!"},""]
[{"$error":"#NUM!"},{"$error":"#NUM!"},{"$error":"#NUM!"},{"$error":"#NUM!"},{"$error":"#NUM!"},""]
[{"$error":"#NUM!"},{"$error":"#NUM!"},{"$error":"#NUM!"},{"$error":"#NUM!"},{"$error":"#NUM!"},""]
[{"$error":"#NUM!"},{"$error":"#NUM!"},{"$error":"#NUM!"},{"$error":"#NUM!"},{"$error":"#NUM!"},""]
[{"$f":"MATCH(LARGE(INDIRECT(\"'Urban & Suburban Segments (MI)'!$BC$5:$BC$1005\"),ROW()-300),INDIRECT(\"'Urban & Suburban Segments (MI)'!$BC$5:$BC$1005\"),0)+4","v":{"$error":"#NUM!"}},{"$f":"\"(SEG) \"&INDIRECT(ADDRESS($A301,2,,,\"Urban & Suburban Segments (MI)\"))&\", \"&INDIRECT(ADDRESS($A301,3,,,\"Urban & Suburban Segments (MI)\"))","v":{"$error":"#NUM!"}},{"$f":"INDIRECT(ADDRESS($A301,4,,,\"Urban & Suburban Segments (MI)\"))","v":{"$error":"#NUM!"}},{"$f":"\"Length = \"&INDIRECT(ADDRESS($A301,6,,,\"Urban & Suburban Segments (MI)\"))&\" mi\"","v":{"$error":"#NUM!"}},{"$f":"\"AADT: \"&TEXT(INDIRECT(ADDRESS($A301,7,,,\"Urban & Suburban Segments (MI)\")),\"#,##0\")","v":{"$error":"#NUM!"}},{"$f":"IF(ISERROR(A301),\"\",INDIRECT(ADDRESS($A301,55,,,\"Urban & Suburban Segments (MI)\")))","v":""}]
[{"$f":"IF(LARGE(INDIRECT(\"'Urban & Suburban Segments (MI)'!$BC$5:$BC$1005\"),ROW()-300)=F301,MATCH(F301,INDIRECT(\"'Urban & Suburban Segments (MI)'!$BC$\"&A301+1&\":$BC1005\"),0)+A301,MATCH(LARGE(INDIRECT(\"'Urban & Suburban Segments (MI)'!$BC$5:$BC$1005\"),ROW()-300),INDIRECT(\"'Urban & Suburban Segments (MI)'!$BC$5:$BC$1005\"),0)+4)","v":{"$error":"#NUM!"}},{"$error":"#NUM!"},{"$error":"#NUM!"},{"$error":"#NUM!"},{"$error":"#NUM!"},""]
[{"$error":"#NUM!"},{"$error":"#NUM!"},{"$error":"#NUM!"},{"$error":"#NUM!"},{"$error":"#NUM!"},""]
[{"$error":"#NUM!"},{"$error":"#NUM!"},{"$error":"#NUM!"},{"$error":"#NUM!"},{"$error":"#NUM!"},""]
[{"$error":"#NUM!"},{"$error":"#NUM!"},{"$error":"#NUM!"},{"$error":"#NUM!"},{"$error":"#NUM!"},""]
[{"$error":"#NUM!"},{"$error":"#NUM!"},{"$error":"#NUM!"},{"$error":"#NUM!"},{"$error":"#NUM!"},""]
[{"$error":"#NUM!"},{"$error":"#NUM!"},{"$error":"#NUM!"},{"$error":"#NUM!"},{"$error":"#NUM!"},""]
[{"$error":"#NUM!"},{"$error":"#NUM!"},{"$error":"#NUM!"},{"$error":"#NUM!"},{"$error":"#NUM!"},""]
[{"$error":"#NUM!"},{"$error":"#NUM!"},{"$error":"#NUM!"},{"$error":"#NUM!"},{"$error":"#NUM!"},""]
[{"$error":"#NUM!"},{"$error":"#NUM!"},{"$error":"#NUM!"},{"$error":"#NUM!"},{"$error":"#NUM!"},""]
[{"$error":"#NUM!"},{"$error":"#NUM!"},{"$error":"#NUM!"},{"$error":"#NUM!"},{"$error":"#NUM!"},""]
[{"$error":"#NUM!"},{"$error":"#NUM!"},{"$error":"#NUM!"},{"$error":"#NUM!"},{"$error":"#NUM!"},""]
[{"$error":"#NUM!"},{"$error":"#NUM!"},{"$error":"#NUM!"},{"$error":"#NUM!"},{"$error":"#NUM!"},""]
[{"$error":"#NUM!"},{"$error":"#NUM!"},{"$error":"#NUM!"},{"$error":"#NUM!"},{"$error":"#NUM!"},""]
[{"$error":"#NUM!"},{"$error":"#NUM!"},{"$error":"#NUM!"},{"$error":"#NUM!"},{"$error":"#NUM!"},""]
[{"$error":"#NUM!"},{"$error":"#NUM!"},{"$error":"#NUM!"},{"$error":"#NUM!"},{"$error":"#NUM!"},""]
[{"$error":"#NUM!"},{"$error":"#NUM!"},{"$error":"#NUM!"},{"$error":"#NUM!"},{"$error":"#NUM!"},""]
[{"$error":"#NUM!"},{"$error":"#NUM!"},{"$error":"#NUM!"},{"$error":"#NUM!"},{"$error":"#NUM!"},""]
[{"$error":"#NUM!"},{"$error":"#NUM!"},{"$error":"#NUM!"},{"$error":"#NUM!"},{"$error":"#NUM!"},""]
[{"$error":"#NUM!"},{"$error":"#NUM!"},{"$error":"#NUM!"},{"$error":"#NUM!"},{"$error":"#NUM!"},""]
[{"$error":"#NUM!"},{"$error":"#NUM!"},{"$error":"#NUM!"},{"$error":"#NUM!"},{"$error":"#NUM!"},""]
[{"$error":"#NUM!"},{"$error":"#NUM!"},{"$error":"#NUM!"},{"$error":"#NUM!"},{"$error":"#NUM!"},""]
[{"$error":"#NUM!"},{"$error":"#NUM!"},{"$error":"#NUM!"},{"$error":"#NUM!"},{"$error":"#NUM!"},""]
[{"$error":"#NUM!"},{"$error":"#NUM!"},{"$error":"#NUM!"},{"$error":"#NUM!"},{"$error":"#NUM!"},""]
[{"$error":"#NUM!"},{"$error":"#NUM!"},{"$error":"#NUM!"},{"$error":"#NUM!"},{"$error":"#NUM!"},""]
[{"$error":"#NUM!"},{"$error":"#NUM!"},{"$error":"#NUM!"},{"$error":"#NUM!"},{"$error":"#NUM!"},""]
[{"$error":"#NUM!"},{"$error":"#NUM!"},{"$error":"#NUM!"},{"$error":"#NUM!"},{"$error":"#NUM!"},""]
[{"$error":"#NUM!"},{"$error":"#NUM!"},{"$error":"#NUM!"},{"$error":"#NUM!"},{"$error":"#NUM!"},""]
[{"$error":"#NUM!"},{"$error":"#NUM!"},{"$error":"#NUM!"},{"$error":"#NUM!"},{"$error":"#NUM!"},""]
[{"$error":"#NUM!"},{"$error":"#NUM!"},{"$error":"#NUM!"},{"$error":"#NUM!"},{"$error":"#NUM!"},""]
[{"$error":"#NUM!"},{"$error":"#NUM!"},{"$error":"#NUM!"},{"$error":"#NUM!"},{"$error":"#NUM!"},""]
[{"$error":"#NUM!"},{"$error":"#NUM!"},{"$error":"#NUM!"},{"$error":"#NUM!"},{"$error":"#NUM!"},""]
[{"$error":"#NUM!"},{"$f":"\"(SEG) \"&INDIRECT(ADDRESS($A333,2,,,\"Urban & Suburban Segments (MI)\"))&\", \"&INDIRECT(ADDRESS($A333,3,,,\"Urban & Suburban Segments (MI)\"))","v":{"$error":"#NUM!"}},{"$f":"INDIRECT(ADDRESS($A333,4,,,\"Urban & Suburban Segments (MI)\"))","v":{"$error":"#NUM!"}},{"$f":"\"Length = \"&INDIRECT(ADDRESS($A333,6,,,\"Urban & Suburban Segments (MI)\"))&\" mi\"","v":{"$error":"#NUM!"}},{"$f":"\"AADT: \"&TEXT(INDIRECT(ADDRESS($A333,7,,,\"Urban & Suburban Segments (MI)\")),\"#,##0\")","v":{"$error":"#NUM!"}},{"$f":"IF(ISERROR(A333),\"\",INDIRECT(ADDRESS($A333,55,,,\"Urban & Suburban Segments (MI)\")))","v":""}]
[{"$f":"IF(LARGE(INDIRECT(\"'Urban & Suburban Segments (MI)'!$BC$5:$BC$1005\"),ROW()-300)=F333,MATCH(F333,INDIRECT(\"'Urban & Suburban Segments (MI)'!$BC$\"&A333+1&\":$BC1005\"),0)+A333,MATCH(LARGE(INDIRECT(\"'Urban & Suburban Segments (MI)'!$BC$5:$BC$1005\"),ROW()-300),INDIRECT(\"'Urban & Suburban Segments (MI)'!$BC$5:$BC$1005\"),0)+4)","v":{"$error":"#NUM!"}},{"$error":"#NUM!"},{"$error":"#NUM!"},{"$error":"#NUM!"},{"$error":"#NUM!"},""]
[{"$error":"#NUM!"},{"$error":"#NUM!"},{"$error":"#NUM!"},{"$error":"#NUM!"},{"$error":"#NUM!"},""]
[{"$error":"#NUM!"},{"$error":"#NUM!"},{"$error":"#NUM!"},{"$error":"#NUM!"},{"$error":"#NUM!"},""]
[{"$error":"#NUM!"},{"$error":"#NUM!"},{"$error":"#NUM!"},{"$error":"#NUM!"},{"$error":"#NUM!"},""]
[{"$error":"#NUM!"},{"$error":"#NUM!"},{"$error":"#NUM!"},{"$error":"#NUM!"},{"$error":"#NUM!"},""]
[{"$error":"#NUM!"},{"$error":"#NUM!"},{"$error":"#NUM!"},{"$error":"#NUM!"},{"$error":"#NUM!"},""]
[{"$error":"#NUM!"},{"$error":"#NUM!"},{"$error":"#NUM!"},{"$error":"#NUM!"},{"$error":"#NUM!"},""]
[{"$error":"#NUM!"},{"$error":"#NUM!"},{"$error":"#NUM!"},{"$error":"#NUM!"},{"$error":"#NUM!"},""]
[{"$error":"#NUM!"},{"$error":"#NUM!"},{"$error":"#NUM!"},{"$error":"#NUM!"},{"$error":"#NUM!"},""]
[{"$error":"#NUM!"},{"$error":"#NUM!"},{"$error":"#NUM!"},{"$error":"#NUM!"},{"$error":"#NUM!"},""]
[{"$error":"#NUM!"},{"$error":"#NUM!"},{"$error":"#NUM!"},{"$error":"#NUM!"},{"$error":"#NUM!"},""]
[{"$error":"#NUM!"},{"$error":"#NUM!"},{"$error":"#NUM!"},{"$error":"#NUM!"},{"$error":"#NUM!"},""]
[{"$error":"#NUM!"},{"$error":"#NUM!"},{"$error":"#NUM!"},{"$error":"#NUM!"},{"$error":"#NUM!"},""]
[{"$error":"#NUM!"},{"$error":"#NUM!"},{"$error":"#NUM!"},{"$error":"#NUM!"},{"$error":"#NUM!"},""]
[{"$error":"#NUM!"},{"$error":"#NUM!"},{"$error":"#NUM!"},{"$error":"#NUM!"},{"$error":"#NUM!"},""]
[{"$error":"#NUM!"},{"$error":"#NUM!"},{"$error":"#NUM!"},{"$error":"#NUM!"},{"$error":"#NUM!"},""]
[{"$error":"#NUM!"},{"$error":"#NUM!"},{"$error":"#NUM!"},{"$error":"#NUM!"},{"$error":"#NUM!"},""]
[{"$f":"MATCH(LARGE(INDIRECT(\"'Urban & Suburban Ints (MI)'!$BC$5:$BC$1005\"),ROW()-350),INDIRECT(\"'Urban & Suburban Ints (MI)'!$BC$5:$BC$1005\"),0)+4","v":{"$error":"#NUM!"}},{"$f":"\"(INT) \"&INDIRECT(ADDRESS($A351,2,,,\"Urban & Suburban Ints (MI)\"))&\" / \"&INDIRECT(ADDRESS($A351,3,,,\"Urban & Suburban Ints (MI)\"))","v":{"$error":"#NUM!"}},{"$f":"INDIRECT(ADDRESS($A351,4,,,\"Urban & Suburban Ints (MI)\"))","v":{"$error":"#NUM!"}},{"$f":"\"Type = \"&INDIRECT(ADDRESS($A351,5,,,\"Urban & Suburban Ints (MI)\"))","v":{"$error":"#NUM!"}},{"$f":"\"AADT: \"&TEXT(INDIRECT(ADDRESS($A351,8,,,\"Urban & Suburban Ints (MI)\")),\"#,##0\") & \" / \" & TEXT(INDIRECT(ADDRESS($A351,9,,,\"Urban & Suburban Ints (MI)\")),\"#,##0\")","v":{"$error":"#NUM!"}},{"$f":"IF(ISERROR(A351),\"\",INDIRECT(ADDRESS($A351,55,,,\"Urban & Suburban Ints (MI)\")))","v":""}]
[{"$f":"IF(LARGE(INDIRECT(\"'Urban & Suburban Ints (MI)'!$BC$5:$BC$1005\"),ROW()-350)=F351,MATCH(F351,INDIRECT(\"'Urban & Suburban Ints (MI)'!$BC$\"&A351+1&\":$BC1005\"),0)+A351,MATCH(LARGE(INDIRECT(\"'Urban & Suburban Ints (MI)'!$BC$5:$BC$1005\"),ROW()-350),INDIRECT(\"'Urban & Suburban Ints (MI)'!$BC$5:$BC$1005\"),0)+4)","v":{"$error":"#NUM!"}},{"$error":"#NUM!"},{"$error":"#NUM!"},{"$error":"#NUM!"},{"$error":"#NUM!"},""]
[{"$error":"#NUM!"},{"$error":"#NUM!"},{"$error":"#NUM!"},{"$error":"#NUM!"},{"$error":"#NUM!"},""]
[{"$error":"#NUM!"},{"$error":"#NUM!"},{"$error":"#NUM!"},{"$error":"#NUM!"},{"$error":"#NUM!"},""]
[{"$error":"#NUM!"},{"$error":"#NUM!"},{"$error":"#NUM!"},{"$error":"#NUM!"},{"$error":"#NUM!"},""]
[{"$error":"#NUM!"},{"$error":"#NUM!"},{"$error":"#NUM!"},{"$error":"#NUM!"},{"$error":"#NUM!"},""]
[{"$error":"#NUM!"},{"$error":"#NUM!"},{"$error":"#NUM!"},{"$error":"#NUM!"},{"$error":"#NUM!"},""]
[{"$error":"#NUM!"},{"$error":"#NUM!"},{"$error":"#NUM!"},{"$error":"#NUM!"},{"$error":"#NUM!"},""]
[{"$error":"#NUM!"},{"$error":"#NUM!"},{"$error":"#NUM!"},{"$error":"#NUM!"},{"$error":"#NUM!"},""]
[{"$error":"#NUM!"},{"$error":"#NUM!"},{"$error":"#NUM!"},{"$error":"#NUM!"},{"$error":"#NUM!"},""]
[{"$error":"#NUM!"},{"$error":"#NUM!"},{"$error":"#NUM!"},{"$error":"#NUM!"},{"$error":"#NUM!"},""]
[{"$error":"#NUM!"},{"$error":"#NUM!"},{"$error":"#NUM!"},{"$error":"#NUM!"},{"$error":"#NUM!"},""]
[{"$error":"#NUM!"},{"$error":"#NUM!"},{"$error":"#NUM!"},{"$error":"#NUM!"},{"$error":"#NUM!"},""]
[{"$error":"#NUM!"},{"$error":"#NUM!"},{"$error":"#NUM!"},{"$error":"#NUM!"},{"$error":"#NUM!"},""]
[{"$error":"#NUM!"},{"$error":"#NUM!"},{"$error":"#NUM!"},{"$error":"#NUM!"},{"$error":"#NUM!"},""]
[{"$error":"#NUM!"},{"$error":"#NUM!"},{"$error":"#NUM!"},{"$error":"#NUM!"},{"$error":"#NUM!"},""]
[{"$error":"#NUM!"},{"$error":"#NUM!"},{"$error":"#NUM!"},{"$error":"#NUM!"},{"$error":"#NUM!"},""]
[{"$error":"#NUM!"},{"$error":"#NUM!"},{"$error":"#NUM!"},{"$error":"#NUM!"},{"$error":"#NUM!"},""]
[{"$error":"#NUM!"},{"$error":"#NUM!"},{"$error":"#NUM!"},{"$error":"#NUM!"},{"$error":"#NUM!"},""]
[{"$error":"#NUM!"},{"$error":"#NUM!"},{"$error":"#NUM!"},{"$error":"#NUM!"},{"$error":"#NUM!"},""]
[{"$error":"#NUM!"},{"$error":"#NUM!"},{"$error":"#NUM!"},{"$error":"#NUM!"},{"$error":"#NUM!"},""]
[{"$error":"#NUM!"},{"$error":"#NUM!"},{"$error":"#NUM!"},{"$error":"#NUM!"},{"$error":"#NUM!"},""]
[{"$error":"#NUM!"},{"$error":"#NUM!"},{"$error":"#NUM!"},{"$error":"#NUM!"},{"$error":"#NUM!"},""]
[{"$error":"#NUM!"},{"$error":"#NUM!"},{"$error":"#NUM!"},{"$error":"#NUM!"},{"$error":"#NUM!"},""]
[{"$error":"#NUM!"},{"$error":"#NUM!"},{"$error":"#NUM!"},{"$error":"#NUM!"},{"$error":"#NUM!"},""]
[{"$error":"#NUM!"},{"$error":"#NUM!"},{"$error":"#NUM!"},{"$error":"#NUM!"},{"$error":"#NUM!"},""]
[{"$error":"#NUM!"},{"$error":"#NUM!"},{"$error":"#NUM!"},{"$error":"#NUM!"},{"$error":"#NUM!"},""]
[{"$error":"#NUM!"},{"$error":"#NUM!"},{"$error":"#NUM!"},{"$error":"#NUM!"},{"$error":"#NUM!"},""]
[{"$error":"#NUM!"},{"$error":"#NUM!"},{"$error":"#NUM!"},{"$error":"#NUM!"},{"$error":"#NUM!"},""]
[{"$error":"#NUM!"},{"$error":"#NUM!"},{"$error":"#NUM!"},{"$error":"#NUM!"},{"$error":"#NUM!"},""]
[{"$error":"#NUM!"},{"$error":"#NUM!"},{"$error":"#NUM!"},{"$error":"#NUM!"},{"$error":"#NUM!"},""]
[{"$error":"#NUM!"},{"$error":"#NUM!"},{"$error":"#NUM!"},{"$error":"#NUM!"},{"$error":"#NUM!"},""]
[{"$error":"#NUM!"},{"$f":"\"(INT) \"&INDIRECT(ADDRESS($A383,2,,,\"Urban & Suburban Ints (MI)\"))&\" / \"&INDIRECT(ADDRESS($A383,3,,,\"Urban & Suburban Ints (MI)\"))","v":{"$error":"#NUM!"}},{"$f":"INDIRECT(ADDRESS($A383,4,,,\"Urban & Suburban Ints (MI)\"))","v":{"$error":"#NUM!"}},{"$f":"\"Type = \"&INDIRECT(ADDRESS($A383,5,,,\"Urban & Suburban Ints (MI)\"))","v":{"$error":"#NUM!"}},{"$f":"\"AADT: \"&TEXT(INDIRECT(ADDRESS($A383,8,,,\"Urban & Suburban Ints (MI)\")),\"#,##0\") & \" / \" & TEXT(INDIRECT(ADDRESS($A383,9,,,\"Urban & Suburban Ints (MI)\")),\"#,##0\")","v":{"$error":"#NUM!"}},{"$f":"IF(ISERROR(A383),\"\",INDIRECT(ADDRESS($A383,55,,,\"Urban & Suburban Ints (MI)\")))","v":""}]
[{"$f":"IF(LARGE(INDIRECT(\"'Urban & Suburban Ints (MI)'!$BC$5:$BC$1005\"),ROW()-350)=F383,MATCH(F383,INDIRECT(\"'Urban & Suburban Ints (MI)'!$BC$\"&A383+1&\":$BC1005\"),0)+A383,MATCH(LARGE(INDIRECT(\"'Urban & Suburban Ints (MI)'!$BC$5:$BC$1005\"),ROW()-350),INDIRECT(\"'Urban & Suburban Ints (MI)'!$BC$5:$BC$1005\"),0)+4)","v":{"$error":"#NUM!"}},{"$error":"#NUM!"},{"$error":"#NUM!"},{"$error":"#NUM!"},{"$error":"#NUM!"},""]
[{"$error":"#NUM!"},{"$error":"#NUM!"},{"$error":"#NUM!"},{"$error":"#NUM!"},{"$error":"#NUM!"},""]
[{"$error":"#NUM!"},{"$error":"#NUM!"},{"$error":"#NUM!"},{"$error":"#NUM!"},{"$error":"#NUM!"},""]
[{"$error":"#NUM!"},{"$error":"#NUM!"},{"$error":"#NUM!"},{"$error":"#NUM!"},{"$error":"#NUM!"},""]
[{"$error":"#NUM!"},{"$error":"#NUM!"},{"$error":"#NUM!"},{"$error":"#NUM!"},{"$error":"#NUM!"},""]
[{"$error":"#NUM!"},{"$error":"#NUM!"},{"$error":"#NUM!"},{"$error":"#NUM!"},{"$error":"#NUM!"},""]
[{"$error":"#NUM!"},{"$error":"#NUM!"},{"$error":"#NUM!"},{"$error":"#NUM!"},{"$error":"#NUM!"},""]
[{"$error":"#NUM!"},{"$error":"#NUM!"},{"$error":"#NUM!"},{"$error":"#NUM!"},{"$error":"#NUM!"},""]
[{"$error":"#NUM!"},{"$error":"#NUM!"},{"$error":"#NUM!"},{"$error":"#NUM!"},{"$error":"#NUM!"},""]
[{"$error":"#NUM!"},{"$error":"#NUM!"},{"$error":"#NUM!"},{"$error":"#NUM!"},{"$error":"#NUM!"},""]
[{"$error":"#NUM!"},{"$error":"#NUM!"},{"$error":"#NUM!"},{"$error":"#NUM!"},{"$error":"#NUM!"},""]
[{"$error":"#NUM!"},{"$error":"#NUM!"},{"$error":"#NUM!"},{"$error":"#NUM!"},{"$error":"#NUM!"},""]
[{"$error":"#NUM!"},{"$error":"#NUM!"},{"$error":"#NUM!"},{"$error":"#NUM!"},{"$error":"#NUM!"},""]
[{"$error":"#NUM!"},{"$error":"#NUM!"},{"$error":"#NUM!"},{"$error":"#NUM!"},{"$error":"#NUM!"},""]
[{"$error":"#NUM!"},{"$error":"#NUM!"},{"$error":"#NUM!"},{"$error":"#NUM!"},{"$error":"#NUM!"},""]
[{"$error":"#NUM!"},{"$error":"#NUM!"},{"$error":"#NUM!"},{"$error":"#NUM!"},{"$error":"#NUM!"},""]
[{"$error":"#NUM!"},{"$error":"#NUM!"},{"$error":"#NUM!"},{"$error":"#NUM!"},{"$error":"#NUM!"},""]

{"sheet":"RankingExpectedAverage","index":21,"n_rows":400,"n_cols":14,"rows_kept":400,"cut":false,"hidden":true,"merged":[]}
[{"$f":"MATCH(LARGE(INDIRECT(\"'Rural 2-Lane Segments (MI)'!$AK$5:$AK$1005\"),ROW()),INDIRECT(\"'Rural 2-Lane Segments (MI)'!$AK$5:$AK$1005\"),0)+4","v":{"$error":"#NUM!"}},{"$f":"\"(SEG) \"&INDIRECT(ADDRESS($A1,2,,,\"Rural 2-Lane Segments (MI)\"))&\", \"&INDIRECT(ADDRESS($A1,3,,,\"Rural 2-Lane Segments (MI)\"))","v":{"$error":"#NUM!"}},{"$f":"INDIRECT(ADDRESS($A1,4,,,\"Rural 2-Lane Segments (MI)\"))","v":{"$error":"#NUM!"}},{"$f":"\"Length = \"&INDIRECT(ADDRESS($A1,7,,,\"Rural 2-Lane Segments (MI)\"))&\" mi\"","v":{"$error":"#NUM!"}},{"$f":"\"AADT: \"&TEXT(INDIRECT(ADDRESS($A1,8,,,\"Rural 2-Lane Segments (MI)\")),\"#,##0\")","v":{"$error":"#NUM!"}},{"$f":"IF(ISERROR(A1),\"\",INDIRECT(ADDRESS($A1,37,,,\"Rural 2-Lane Segments (MI)\")))","v":""},null,null,null,{"$f":"LARGE($F$1:$F$400,ROW())","v":{"$error":"#NUM!"}},{"$f":"MATCH(LARGE($F$1:$F$400,ROW()),$F$1:$F$400,0)","v":{"$error":"#NUM!"}},null,{"$f":"LARGE(#REF!,ROW())","v":{"$error":"#REF!"}},{"$f":"IF(M1>0,MATCH(LARGE(#REF!,ROW()),#REF!,0)+350,)","v":{"$error":"#REF!"}}]
[{"$f":"IF(LARGE(INDIRECT(\"'Rural 2-Lane Segments (MI)'!$AK$5:$AK$1005\"),ROW())=F1,MATCH(F1,INDIRECT(\"'Rural 2-Lane Segments (MI)'!$AK$\"&A1+1&\":$AK1005\"),0)+A1,MATCH(LARGE(INDIRECT(\"'Rural 2-Lane Segments (MI)'!$AK$5:$AK$1005\"),ROW()),INDIRECT(\"'Rural 2-Lane Segments (MI)'!$AK$5:$AK$1005\"),0)+4)","v":{"$error":"#NUM!"}},{"$error":"#NUM!"},{"$error":"#NUM!"},{"$error":"#NUM!"},{"$error":"#NUM!"},"",null,null,null,{"$error":"#NUM!"},{"$error":"#NUM!"}]
[{"$error":"#NUM!"},{"$error":"#NUM!"},{"$error":"#NUM!"},{"$error":"#NUM!"},{"$error":"#NUM!"},"",null,null,null,{"$error":"#NUM!"},{"$error":"#NUM!"}]
[{"$error":"#NUM!"},{"$error":"#NUM!"},{"$error":"#NUM!"},{"$error":"#NUM!"},{"$error":"#NUM!"},"",null,null,null,{"$error":"#NUM!"},{"$error":"#NUM!"}]
[{"$error":"#NUM!"},{"$error":"#NUM!"},{"$error":"#NUM!"},{"$error":"#NUM!"},{"$error":"#NUM!"},"",null,null,null,{"$error":"#NUM!"},{"$error":"#NUM!"}]
[{"$error":"#NUM!"},{"$error":"#NUM!"},{"$error":"#NUM!"},{"$error":"#NUM!"},{"$error":"#NUM!"},"",null,null,null,{"$error":"#NUM!"},{"$error":"#NUM!"}]
[{"$error":"#NUM!"},{"$error":"#NUM!"},{"$error":"#NUM!"},{"$error":"#NUM!"},{"$error":"#NUM!"},"",null,null,null,{"$error":"#NUM!"},{"$error":"#NUM!"}]
[{"$error":"#NUM!"},{"$error":"#NUM!"},{"$error":"#NUM!"},{"$error":"#NUM!"},{"$error":"#NUM!"},"",null,null,null,{"$error":"#NUM!"},{"$error":"#NUM!"}]
[{"$error":"#NUM!"},{"$error":"#NUM!"},{"$error":"#NUM!"},{"$error":"#NUM!"},{"$error":"#NUM!"},"",null,null,null,{"$error":"#NUM!"},{"$error":"#NUM!"}]
[{"$error":"#NUM!"},{"$error":"#NUM!"},{"$error":"#NUM!"},{"$error":"#NUM!"},{"$error":"#NUM!"},"",null,null,null,{"$error":"#NUM!"},{"$error":"#NUM!"}]
[{"$error":"#NUM!"},{"$error":"#NUM!"},{"$error":"#NUM!"},{"$error":"#NUM!"},{"$error":"#NUM!"},"",null,null,null,{"$error":"#NUM!"},{"$error":"#NUM!"}]
[{"$error":"#NUM!"},{"$error":"#NUM!"},{"$error":"#NUM!"},{"$error":"#NUM!"},{"$error":"#NUM!"},"",null,null,null,{"$error":"#NUM!"},{"$error":"#NUM!"}]
[{"$error":"#NUM!"},{"$error":"#NUM!"},{"$error":"#NUM!"},{"$error":"#NUM!"},{"$error":"#NUM!"},"",null,null,null,{"$error":"#NUM!"},{"$error":"#NUM!"}]
[{"$error":"#NUM!"},{"$error":"#NUM!"},{"$error":"#NUM!"},{"$error":"#NUM!"},{"$error":"#NUM!"},"",null,null,null,{"$error":"#NUM!"},{"$error":"#NUM!"}]
[{"$error":"#NUM!"},{"$error":"#NUM!"},{"$error":"#NUM!"},{"$error":"#NUM!"},{"$error":"#NUM!"},"",null,null,null,{"$error":"#NUM!"},{"$error":"#NUM!"}]
[{"$error":"#NUM!"},{"$error":"#NUM!"},{"$error":"#NUM!"},{"$error":"#NUM!"},{"$error":"#NUM!"},"",null,null,null,{"$error":"#NUM!"},{"$error":"#NUM!"}]
[{"$error":"#NUM!"},{"$error":"#NUM!"},{"$error":"#NUM!"},{"$error":"#NUM!"},{"$error":"#NUM!"},"",null,null,null,{"$error":"#NUM!"},{"$error":"#NUM!"}]
[{"$error":"#NUM!"},{"$error":"#NUM!"},{"$error":"#NUM!"},{"$error":"#NUM!"},{"$error":"#NUM!"},"",null,null,null,{"$error":"#NUM!"},{"$error":"#NUM!"}]
[{"$error":"#NUM!"},{"$error":"#NUM!"},{"$error":"#NUM!"},{"$error":"#NUM!"},{"$error":"#NUM!"},"",null,null,null,{"$error":"#NUM!"},{"$error":"#NUM!"}]
[{"$error":"#NUM!"},{"$error":"#NUM!"},{"$error":"#NUM!"},{"$error":"#NUM!"},{"$error":"#NUM!"},"",null,null,null,{"$error":"#NUM!"},{"$error":"#NUM!"}]
[{"$error":"#NUM!"},{"$error":"#NUM!"},{"$error":"#NUM!"},{"$error":"#NUM!"},{"$error":"#NUM!"},"",null,null,null,{"$error":"#NUM!"},{"$error":"#NUM!"}]
[{"$error":"#NUM!"},{"$error":"#NUM!"},{"$error":"#NUM!"},{"$error":"#NUM!"},{"$error":"#NUM!"},"",null,null,null,{"$error":"#NUM!"},{"$error":"#NUM!"}]
[{"$error":"#NUM!"},{"$error":"#NUM!"},{"$error":"#NUM!"},{"$error":"#NUM!"},{"$error":"#NUM!"},"",null,null,null,{"$error":"#NUM!"},{"$error":"#NUM!"}]
[{"$error":"#NUM!"},{"$error":"#NUM!"},{"$error":"#NUM!"},{"$error":"#NUM!"},{"$error":"#NUM!"},"",null,null,null,{"$error":"#NUM!"},{"$error":"#NUM!"}]
[{"$error":"#NUM!"},{"$error":"#NUM!"},{"$error":"#NUM!"},{"$error":"#NUM!"},{"$error":"#NUM!"},"",null,null,null,{"$error":"#NUM!"},{"$error":"#NUM!"}]
[{"$error":"#NUM!"},{"$error":"#NUM!"},{"$error":"#NUM!"},{"$error":"#NUM!"},{"$error":"#NUM!"},"",null,null,null,{"$error":"#NUM!"},{"$error":"#NUM!"}]
[{"$error":"#NUM!"},{"$error":"#NUM!"},{"$error":"#NUM!"},{"$error":"#NUM!"},{"$error":"#NUM!"},"",null,null,null,{"$error":"#NUM!"},{"$error":"#NUM!"}]
[{"$error":"#NUM!"},{"$error":"#NUM!"},{"$error":"#NUM!"},{"$error":"#NUM!"},{"$error":"#NUM!"},"",null,null,null,{"$error":"#NUM!"},{"$error":"#NUM!"}]
[{"$error":"#NUM!"},{"$error":"#NUM!"},{"$error":"#NUM!"},{"$error":"#NUM!"},{"$error":"#NUM!"},"",null,null,null,{"$error":"#NUM!"},{"$error":"#NUM!"}]
[{"$error":"#NUM!"},{"$error":"#NUM!"},{"$error":"#NUM!"},{"$error":"#NUM!"},{"$error":"#NUM!"},"",null,null,null,{"$error":"#NUM!"},{"$error":"#NUM!"}]
[{"$error":"#NUM!"},{"$error":"#NUM!"},{"$error":"#NUM!"},{"$error":"#NUM!"},{"$error":"#NUM!"},"",null,null,null,{"$error":"#NUM!"},{"$error":"#NUM!"}]
[{"$error":"#NUM!"},{"$error":"#NUM!"},{"$error":"#NUM!"},{"$error":"#NUM!"},{"$error":"#NUM!"},"",null,null,null,{"$error":"#NUM!"},{"$error":"#NUM!"}]
[{"$error":"#NUM!"},{"$f":"\"(SEG) \"&INDIRECT(ADDRESS($A33,2,,,\"Rural 2-Lane Segments (MI)\"))&\", \"&INDIRECT(ADDRESS($A33,3,,,\"Rural 2-Lane Segments (MI)\"))","v":{"$error":"#NUM!"}},{"$f":"INDIRECT(ADDRESS($A33,4,,,\"Rural 2-Lane Segments (MI)\"))","v":{"$error":"#NUM!"}},{"$f":"\"Length = \"&INDIRECT(ADDRESS($A33,7,,,\"Rural 2-Lane Segments (MI)\"))&\" mi\"","v":{"$error":"#NUM!"}},{"$f":"\"AADT: \"&TEXT(INDIRECT(ADDRESS($A33,8,,,\"Rural 2-Lane Segments (MI)\")),\"#,##0\")","v":{"$error":"#NUM!"}},{"$f":"IF(ISERROR(A33),\"\",INDIRECT(ADDRESS($A33,37,,,\"Rural 2-Lane Segments (MI)\")))","v":""},null,null,null,{"$f":"LARGE($F$1:$F$400,ROW())","v":{"$error":"#NUM!"}},{"$f":"MATCH(LARGE($F$1:$F$400,ROW()),$F$1:$F$400,0)","v":{"$error":"#NUM!"}}]
[{"$f":"IF(LARGE(INDIRECT(\"'Rural 2-Lane Segments (MI)'!$AK$5:$AK$1005\"),ROW())=F33,MATCH(F33,INDIRECT(\"'Rural 2-Lane Segments (MI)'!$AK$\"&A33+1&\":$AK1005\"),0)+A33,MATCH(LARGE(INDIRECT(\"'Rural 2-Lane Segments (MI)'!$AK$5:$AK$1005\"),ROW()),INDIRECT(\"'Rural 2-Lane Segments (MI)'!$AK$5:$AK$1005\"),0)+4)","v":{"$error":"#NUM!"}},{"$error":"#NUM!"},{"$error":"#NUM!"},{"$error":"#NUM!"},{"$error":"#NUM!"},"",null,null,null,{"$error":"#NUM!"},{"$error":"#NUM!"}]
[{"$error":"#NUM!"},{"$error":"#NUM!"},{"$error":"#NUM!"},{"$error":"#NUM!"},{"$error":"#NUM!"},"",null,null,null,{"$error":"#NUM!"},{"$error":"#NUM!"}]
[{"$error":"#NUM!"},{"$error":"#NUM!"},{"$error":"#NUM!"},{"$error":"#NUM!"},{"$error":"#NUM!"},"",null,null,null,{"$error":"#NUM!"},{"$error":"#NUM!"}]
[{"$error":"#NUM!"},{"$error":"#NUM!"},{"$error":"#NUM!"},{"$error":"#NUM!"},{"$error":"#NUM!"},"",null,null,null,{"$error":"#NUM!"},{"$error":"#NUM!"}]
[{"$error":"#NUM!"},{"$error":"#NUM!"},{"$error":"#NUM!"},{"$error":"#NUM!"},{"$error":"#NUM!"},"",null,null,null,{"$error":"#NUM!"},{"$error":"#NUM!"}]
[{"$error":"#NUM!"},{"$error":"#NUM!"},{"$error":"#NUM!"},{"$error":"#NUM!"},{"$error":"#NUM!"},"",null,null,null,{"$error":"#NUM!"},{"$error":"#NUM!"}]
[{"$error":"#NUM!"},{"$error":"#NUM!"},{"$error":"#NUM!"},{"$error":"#NUM!"},{"$error":"#NUM!"},"",null,null,null,{"$error":"#NUM!"},{"$error":"#NUM!"}]
[{"$error":"#NUM!"},{"$error":"#NUM!"},{"$error":"#NUM!"},{"$error":"#NUM!"},{"$error":"#NUM!"},"",null,null,null,{"$error":"#NUM!"},{"$error":"#NUM!"}]
[{"$error":"#NUM!"},{"$error":"#NUM!"},{"$error":"#NUM!"},{"$error":"#NUM!"},{"$error":"#NUM!"},"",null,null,null,{"$error":"#NUM!"},{"$error":"#NUM!"}]
[{"$error":"#NUM!"},{"$error":"#NUM!"},{"$error":"#NUM!"},{"$error":"#NUM!"},{"$error":"#NUM!"},"",null,null,null,{"$error":"#NUM!"},{"$error":"#NUM!"}]
[{"$error":"#NUM!"},{"$error":"#NUM!"},{"$error":"#NUM!"},{"$error":"#NUM!"},{"$error":"#NUM!"},"",null,null,null,{"$error":"#NUM!"},{"$error":"#NUM!"}]
[{"$error":"#NUM!"},{"$error":"#NUM!"},{"$error":"#NUM!"},{"$error":"#NUM!"},{"$error":"#NUM!"},"",null,null,null,{"$error":"#NUM!"},{"$error":"#NUM!"}]
[{"$error":"#NUM!"},{"$error":"#NUM!"},{"$error":"#NUM!"},{"$error":"#NUM!"},{"$error":"#NUM!"},"",null,null,null,{"$error":"#NUM!"},{"$error":"#NUM!"}]
[{"$error":"#NUM!"},{"$error":"#NUM!"},{"$error":"#NUM!"},{"$error":"#NUM!"},{"$error":"#NUM!"},"",null,null,null,{"$error":"#NUM!"},{"$error":"#NUM!"}]
[{"$error":"#NUM!"},{"$error":"#NUM!"},{"$error":"#NUM!"},{"$error":"#NUM!"},{"$error":"#NUM!"},"",null,null,null,{"$error":"#NUM!"},{"$error":"#NUM!"}]
[{"$error":"#NUM!"},{"$error":"#NUM!"},{"$error":"#NUM!"},{"$error":"#NUM!"},{"$error":"#NUM!"},"",null,null,null,{"$error":"#NUM!"},{"$error":"#NUM!"}]
[{"$error":"#NUM!"},{"$error":"#NUM!"},{"$error":"#NUM!"},{"$error":"#NUM!"},{"$error":"#NUM!"},"",null,null,null,{"$error":"#NUM!"},{"$error":"#NUM!"}]
[{"$f":"MATCH(LARGE(INDIRECT(\"'Rural County FA Segs (MI)'!$AF$5:$AF$1005\"),ROW()-50),INDIRECT(\"'Rural County FA Segs (MI)'!$AF$5:$AF$1005\"),0)+4","v":{"$error":"#NUM!"}},{"$f":"\"(SEG) \"&INDIRECT(ADDRESS($A51,2,,,\"Rural County FA Segs (MI)\"))&\", \"&INDIRECT(ADDRESS($A51,3,,,\"Rural County FA Segs (MI)\"))","v":{"$error":"#NUM!"}},{"$f":"INDIRECT(ADDRESS($A51,4,,,\"Rural County FA Segs (MI)\"))","v":{"$error":"#NUM!"}},{"$f":"\"Length = \"&INDIRECT(ADDRESS($A51,5,,,\"Rural County FA Segs (MI)\"))&\" mi\"","v":{"$error":"#NUM!"}},{"$f":"\"AADT: \"&TEXT(INDIRECT(ADDRESS($A51,6,,,\"Rural County FA Segs (MI)\")),\"#,##0\")","v":{"$error":"#NUM!"}},{"$f":"IF(ISERROR(A51),\"\",INDIRECT(ADDRESS($A51,32,,,\"Rural County FA Segs (MI)\")))","v":""}]
[{"$f":"IF(LARGE(INDIRECT(\"'Rural County FA Segs (MI)'!$AF$5:$AF$1005\"),ROW()-50)=F51,MATCH(F51,INDIRECT(\"'Rural County FA Segs (MI)'!$AF$\"&A51+1&\":$AF1005\"),0)+A51,MATCH(LARGE(INDIRECT(\"'Rural County FA Segs (MI)'!$AF$5:$AF$1005\"),ROW()-50),INDIRECT(\"'Rural County FA Segs (MI)'!$AF$5:$AF$1005\"),0)+4)","v":{"$error":"#NUM!"}},{"$error":"#NUM!"},{"$error":"#NUM!"},{"$error":"#NUM!"},{"$error":"#NUM!"},""]
[{"$error":"#NUM!"},{"$error":"#NUM!"},{"$error":"#NUM!"},{"$error":"#NUM!"},{"$error":"#NUM!"},""]
[{"$error":"#NUM!"},{"$error":"#NUM!"},{"$error":"#NUM!"},{"$error":"#NUM!"},{"$error":"#NUM!"},""]
[{"$error":"#NUM!"},{"$error":"#NUM!"},{"$error":"#NUM!"},{"$error":"#NUM!"},{"$error":"#NUM!"},""]
[{"$error":"#NUM!"},{"$error":"#NUM!"},{"$error":"#NUM!"},{"$error":"#NUM!"},{"$error":"#NUM!"},""]
[{"$error":"#NUM!"},{"$error":"#NUM!"},{"$error":"#NUM!"},{"$error":"#NUM!"},{"$error":"#NUM!"},""]
[{"$error":"#NUM!"},{"$error":"#NUM!"},{"$error":"#NUM!"},{"$error":"#NUM!"},{"$error":"#NUM!"},""]
[{"$error":"#NUM!"},{"$error":"#NUM!"},{"$error":"#NUM!"},{"$error":"#NUM!"},{"$error":"#NUM!"},""]
[{"$error":"#NUM!"},{"$error":"#NUM!"},{"$error":"#NUM!"},{"$error":"#NUM!"},{"$error":"#NUM!"},""]
[{"$error":"#NUM!"},{"$error":"#NUM!"},{"$error":"#NUM!"},{"$error":"#NUM!"},{"$error":"#NUM!"},""]
[{"$error":"#NUM!"},{"$error":"#NUM!"},{"$error":"#NUM!"},{"$error":"#NUM!"},{"$error":"#NUM!"},""]
[{"$error":"#NUM!"},{"$error":"#NUM!"},{"$error":"#NUM!"},{"$error":"#NUM!"},{"$error":"#NUM!"},""]
[{"$error":"#NUM!"},{"$error":"#NUM!"},{"$error":"#NUM!"},{"$error":"#NUM!"},{"$error":"#NUM!"},""]
[{"$error":"#NUM!"},{"$error":"#NUM!"},{"$error":"#NUM!"},{"$error":"#NUM!"},{"$error":"#NUM!"},""]
[{"$error":"#NUM!"},{"$error":"#NUM!"},{"$error":"#NUM!"},{"$error":"#NUM!"},{"$error":"#NUM!"},""]
[{"$error":"#NUM!"},{"$error":"#NUM!"},{"$error":"#NUM!"},{"$error":"#NUM!"},{"$error":"#NUM!"},""]
[{"$error":"#NUM!"},{"$error":"#NUM!"},{"$error":"#NUM!"},{"$error":"#NUM!"},{"$error":"#NUM!"},""]
[{"$error":"#NUM!"},{"$error":"#NUM!"},{"$error":"#NUM!"},{"$error":"#NUM!"},{"$error":"#NUM!"},""]
[{"$error":"#NUM!"},{"$error":"#NUM!"},{"$error":"#NUM!"},{"$error":"#NUM!"},{"$error":"#NUM!"},""]
[{"$error":"#NUM!"},{"$error":"#NUM!"},{"$error":"#NUM!"},{"$error":"#NUM!"},{"$error":"#NUM!"},""]
[{"$error":"#NUM!"},{"$error":"#NUM!"},{"$error":"#NUM!"},{"$error":"#NUM!"},{"$error":"#NUM!"},""]
[{"$error":"#NUM!"},{"$error":"#NUM!"},{"$error":"#NUM!"},{"$error":"#NUM!"},{"$error":"#NUM!"},""]
[{"$error":"#NUM!"},{"$error":"#NUM!"},{"$error":"#NUM!"},{"$error":"#NUM!"},{"$error":"#NUM!"},""]
[{"$error":"#NUM!"},{"$error":"#NUM!"},{"$error":"#NUM!"},{"$error":"#NUM!"},{"$error":"#NUM!"},""]
[{"$error":"#NUM!"},{"$error":"#NUM!"},{"$error":"#NUM!"},{"$error":"#NUM!"},{"$error":"#NUM!"},""]
[{"$error":"#NUM!"},{"$error":"#NUM!"},{"$error":"#NUM!"},{"$error":"#NUM!"},{"$error":"#NUM!"},""]
[{"$error":"#NUM!"},{"$error":"#NUM!"},{"$error":"#NUM!"},{"$error":"#NUM!"},{"$error":"#NUM!"},""]
[{"$error":"#NUM!"},{"$error":"#NUM!"},{"$error":"#NUM!"},{"$error":"#NUM!"},{"$error":"#NUM!"},""]
[{"$error":"#NUM!"},{"$error":"#NUM!"},{"$error":"#NUM!"},{"$error":"#NUM!"},{"$error":"#NUM!"},""]
[{"$error":"#NUM!"},{"$error":"#NUM!"},{"$error":"#NUM!"},{"$error":"#NUM!"},{"$error":"#NUM!"},""]
[{"$error":"#NUM!"},{"$error":"#NUM!"},{"$error":"#NUM!"},{"$error":"#NUM!"},{"$error":"#NUM!"},""]
[{"$error":"#NUM!"},{"$f":"\"(SEG) \"&INDIRECT(ADDRESS($A83,2,,,\"Rural County FA Segs (MI)\"))&\", \"&INDIRECT(ADDRESS($A83,3,,,\"Rural County FA Segs (MI)\"))","v":{"$error":"#NUM!"}},{"$f":"INDIRECT(ADDRESS($A83,4,,,\"Rural County FA Segs (MI)\"))","v":{"$error":"#NUM!"}},{"$f":"\"Length = \"&INDIRECT(ADDRESS($A83,5,,,\"Rural County FA Segs (MI)\"))&\" mi\"","v":{"$error":"#NUM!"}},{"$f":"\"AADT: \"&TEXT(INDIRECT(ADDRESS($A83,6,,,\"Rural County FA Segs (MI)\")),\"#,##0\")","v":{"$error":"#NUM!"}},{"$f":"IF(ISERROR(A83),\"\",INDIRECT(ADDRESS($A83,32,,,\"Rural County FA Segs (MI)\")))","v":""}]
[{"$f":"IF(LARGE(INDIRECT(\"'Rural County FA Segs (MI)'!$AF$5:$AF$1005\"),ROW()-50)=F83,MATCH(F83,INDIRECT(\"'Rural County FA Segs (MI)'!$AF$\"&A83+1&\":$AF1005\"),0)+A83,MATCH(LARGE(INDIRECT(\"'Rural County FA Segs (MI)'!$AF$5:$AF$1005\"),ROW()-50),INDIRECT(\"'Rural County FA Segs (MI)'!$AF$5:$AF$1005\"),0)+4)","v":{"$error":"#NUM!"}},{"$error":"#NUM!"},{"$error":"#NUM!"},{"$error":"#NUM!"},{"$error":"#NUM!"},""]
[{"$error":"#NUM!"},{"$error":"#NUM!"},{"$error":"#NUM!"},{"$error":"#NUM!"},{"$error":"#NUM!"},""]
[{"$error":"#NUM!"},{"$error":"#NUM!"},{"$error":"#NUM!"},{"$error":"#NUM!"},{"$error":"#NUM!"},""]
[{"$error":"#NUM!"},{"$error":"#NUM!"},{"$error":"#NUM!"},{"$error":"#NUM!"},{"$error":"#NUM!"},""]
[{"$error":"#NUM!"},{"$error":"#NUM!"},{"$error":"#NUM!"},{"$error":"#NUM!"},{"$error":"#NUM!"},""]
[{"$error":"#NUM!"},{"$error":"#NUM!"},{"$error":"#NUM!"},{"$error":"#NUM!"},{"$error":"#NUM!"},""]
[{"$error":"#NUM!"},{"$error":"#NUM!"},{"$error":"#NUM!"},{"$error":"#NUM!"},{"$error":"#NUM!"},""]
[{"$error":"#NUM!"},{"$error":"#NUM!"},{"$error":"#NUM!"},{"$error":"#NUM!"},{"$error":"#NUM!"},""]
[{"$error":"#NUM!"},{"$error":"#NUM!"},{"$error":"#NUM!"},{"$error":"#NUM!"},{"$error":"#NUM!"},""]
[{"$error":"#NUM!"},{"$error":"#NUM!"},{"$error":"#NUM!"},{"$error":"#NUM!"},{"$error":"#NUM!"},""]
[{"$error":"#NUM!"},{"$error":"#NUM!"},{"$error":"#NUM!"},{"$error":"#NUM!"},{"$error":"#NUM!"},""]
[{"$error":"#NUM!"},{"$error":"#NUM!"},{"$error":"#NUM!"},{"$error":"#NUM!"},{"$error":"#NUM!"},""]
[{"$error":"#NUM!"},{"$error":"#NUM!"},{"$error":"#NUM!"},{"$error":"#NUM!"},{"$error":"#NUM!"},""]
[{"$error":"#NUM!"},{"$error":"#NUM!"},{"$error":"#NUM!"},{"$error":"#NUM!"},{"$error":"#NUM!"},""]
[{"$error":"#NUM!"},{"$error":"#NUM!"},{"$error":"#NUM!"},{"$error":"#NUM!"},{"$error":"#NUM!"},""]
[{"$error":"#NUM!"},{"$error":"#NUM!"},{"$error":"#NUM!"},{"$error":"#NUM!"},{"$error":"#NUM!"},""]
[{"$error":"#NUM!"},{"$error":"#NUM!"},{"$error":"#NUM!"},{"$error":"#NUM!"},{"$error":"#NUM!"},""]
[{"$f":"MATCH(LARGE(INDIRECT(\"'Rural County Non-FA Segs (MI)'!$W$5:$W$1005\"),ROW()-100),INDIRECT(\"'Rural County Non-FA Segs (MI)'!$W$5:$W$1005\"),0)+4","v":{"$error":"#NUM!"}},{"$f":"\"(SEG) \"&INDIRECT(ADDRESS($A101,2,,,\"Rural County Non-FA Segs (MI)\"))&\", \"&INDIRECT(ADDRESS($A101,3,,,\"Rural County Non-FA Segs (MI)\"))","v":{"$error":"#NUM!"}},{"$f":"INDIRECT(ADDRESS($A101,4,,,\"Rural County Non-FA Segs (MI)\"))","v":{"$error":"#NUM!"}},{"$f":"\"Length = \"&INDIRECT(ADDRESS($A101,6,,,\"Rural County Non-FA Segs (MI)\"))&\" mi\"","v":{"$error":"#NUM!"}},{"$f":"\"AADT: \"&TEXT(INDIRECT(ADDRESS($A101,7,,,\"Rural County Non-FA Segs (MI)\")),\"#,##0\")","v":{"$error":"#NUM!"}},{"$f":"IF(ISERROR(A101),\"\",INDIRECT(ADDRESS($A101,23,,,\"Rural County Non-FA Segs (MI)\")))","v":""}]
[{"$f":"IF(LARGE(INDIRECT(\"'Rural County Non-FA Segs (MI)'!$W$5:$W$1005\"),ROW()-100)=F101,MATCH(F101,INDIRECT(\"'Rural County Non-FA Segs (MI)'!$W$\"&A101+1&\":$W1005\"),0)+A101,MATCH(LARGE(INDIRECT(\"'Rural County Non-FA Segs (MI)'!$W$5:$W$1005\"),ROW()-100),INDIRECT(\"'Rural County Non-FA Segs (MI)'!$W$5:$W$1005\"),0)+4)","v":{"$error":"#NUM!"}},{"$error":"#NUM!"},{"$error":"#NUM!"},{"$error":"#NUM!"},{"$error":"#NUM!"},""]
[{"$error":"#NUM!"},{"$error":"#NUM!"},{"$error":"#NUM!"},{"$error":"#NUM!"},{"$error":"#NUM!"},""]
[{"$error":"#NUM!"},{"$error":"#NUM!"},{"$error":"#NUM!"},{"$error":"#NUM!"},{"$error":"#NUM!"},""]
[{"$error":"#NUM!"},{"$error":"#NUM!"},{"$error":"#NUM!"},{"$error":"#NUM!"},{"$error":"#NUM!"},""]
[{"$error":"#NUM!"},{"$error":"#NUM!"},{"$error":"#NUM!"},{"$error":"#NUM!"},{"$error":"#NUM!"},""]
[{"$error":"#NUM!"},{"$error":"#NUM!"},{"$error":"#NUM!"},{"$error":"#NUM!"},{"$error":"#NUM!"},""]
[{"$error":"#NUM!"},{"$error":"#NUM!"},{"$error":"#NUM!"},{"$error":"#NUM!"},{"$error":"#NUM!"},""]
[{"$error":"#NUM!"},{"$error":"#NUM!"},{"$error":"#NUM!"},{"$error":"#NUM!"},{"$error":"#NUM!"},""]
[{"$error":"#NUM!"},{"$error":"#NUM!"},{"$error":"#NUM!"},{"$error":"#NUM!"},{"$error":"#NUM!"},""]
[{"$error":"#NUM!"},{"$error":"#NUM!"},{"$error":"#NUM!"},{"$error":"#NUM!"},{"$error":"#NUM!"},""]
[{"$error":"#NUM!"},{"$error":"#NUM!"},{"$error":"#NUM!"},{"$error":"#NUM!"},{"$error":"#NUM!"},""]
[{"$error":"#NUM!"},{"$error":"#NUM!"},{"$error":"#NUM!"},{"$error":"#NUM!"},{"$error":"#NUM!"},""]
[{"$error":"#NUM!"},{"$error":"#NUM!"},{"$error":"#NUM!"},{"$error":"#NUM!"},{"$error":"#NUM!"},""]
[{"$error":"#NUM!"},{"$error":"#NUM!"},{"$error":"#NUM!"},{"$error":"#NUM!"},{"$error":"#NUM!"},""]
[{"$error":"#NUM!"},{"$error":"#NUM!"},{"$error":"#NUM!"},{"$error":"#NUM!"},{"$error":"#NUM!"},""]
[{"$error":"#NUM!"},{"$error":"#NUM!"},{"$error":"#NUM!"},{"$error":"#NUM!"},{"$error":"#NUM!"},""]
[{"$error":"#NUM!"},{"$error":"#NUM!"},{"$error":"#NUM!"},{"$error":"#NUM!"},{"$error":"#NUM!"},""]
[{"$error":"#NUM!"},{"$error":"#NUM!"},{"$error":"#NUM!"},{"$error":"#NUM!"},{"$error":"#NUM!"},""]
[{"$error":"#NUM!"},{"$error":"#NUM!"},{"$error":"#NUM!"},{"$error":"#NUM!"},{"$error":"#NUM!"},""]
[{"$error":"#NUM!"},{"$error":"#NUM!"},{"$error":"#NUM!"},{"$error":"#NUM!"},{"$error":"#NUM!"},""]
[{"$error":"#NUM!"},{"$error":"#NUM!"},{"$error":"#NUM!"},{"$error":"#NUM!"},{"$error":"#NUM!"},""]
[{"$error":"#NUM!"},{"$error":"#NUM!"},{"$error":"#NUM!"},{"$error":"#NUM!"},{"$error":"#NUM!"},""]
[{"$error":"#NUM!"},{"$error":"#NUM!"},{"$error":"#NUM!"},{"$error":"#NUM!"},{"$error":"#NUM!"},""]
[{"$error":"#NUM!"},{"$error":"#NUM!"},{"$error":"#NUM!"},{"$error":"#NUM!"},{"$error":"#NUM!"},""]
[{"$error":"#NUM!"},{"$error":"#NUM!"},{"$error":"#NUM!"},{"$error":"#NUM!"},{"$error":"#NUM!"},""]
[{"$error":"#NUM!"},{"$error":"#NUM!"},{"$error":"#NUM!"},{"$error":"#NUM!"},{"$error":"#NUM!"},""]
[{"$error":"#NUM!"},{"$error":"#NUM!"},{"$error":"#NUM!"},{"$error":"#NUM!"},{"$error":"#NUM!"},""]
[{"$error":"#NUM!"},{"$error":"#NUM!"},{"$error":"#NUM!"},{"$error":"#NUM!"},{"$error":"#NUM!"},""]
[{"$error":"#NUM!"},{"$error":"#NUM!"},{"$error":"#NUM!"},{"$error":"#NUM!"},{"$error":"#NUM!"},""]
[{"$error":"#NUM!"},{"$error":"#NUM!"},{"$error":"#NUM!"},{"$error":"#NUM!"},{"$error":"#NUM!"},""]
[{"$error":"#NUM!"},{"$error":"#NUM!"},{"$error":"#NUM!"},{"$error":"#NUM!"},{"$error":"#NUM!"},""]
[{"$error":"#NUM!"},{"$f":"\"(SEG) \"&INDIRECT(ADDRESS($A133,2,,,\"Rural County Non-FA Segs (MI)\"))&\", \"&INDIRECT(ADDRESS($A133,3,,,\"Rural County Non-FA Segs (MI)\"))","v":{"$error":"#NUM!"}},{"$f":"INDIRECT(ADDRESS($A133,4,,,\"Rural County Non-FA Segs (MI)\"))","v":{"$error":"#NUM!"}},{"$f":"\"Length = \"&INDIRECT(ADDRESS($A133,6,,,\"Rural County Non-FA Segs (MI)\"))&\" mi\"","v":{"$error":"#NUM!"}},{"$f":"\"AADT: \"&TEXT(INDIRECT(ADDRESS($A133,7,,,\"Rural County Non-FA Segs (MI)\")),\"#,##0\")","v":{"$error":"#NUM!"}},{"$f":"IF(ISERROR(A133),\"\",INDIRECT(ADDRESS($A133,23,,,\"Rural County Non-FA Segs (MI)\")))","v":""}]
[{"$f":"IF(LARGE(INDIRECT(\"'Rural County Non-FA Segs (MI)'!$W$5:$W$1005\"),ROW()-100)=F133,MATCH(F133,INDIRECT(\"'Rural County Non-FA Segs (MI)'!$W$\"&A133+1&\":$W1005\"),0)+A133,MATCH(LARGE(INDIRECT(\"'Rural County Non-FA Segs (MI)'!$W$5:$W$1005\"),ROW()-100),INDIRECT(\"'Rural County Non-FA Segs (MI)'!$W$5:$W$1005\"),0)+4)","v":{"$error":"#NUM!"}},{"$error":"#NUM!"},{"$error":"#NUM!"},{"$error":"#NUM!"},{"$error":"#NUM!"},""]
[{"$error":"#NUM!"},{"$error":"#NUM!"},{"$error":"#NUM!"},{"$error":"#NUM!"},{"$error":"#NUM!"},""]
[{"$error":"#NUM!"},{"$error":"#NUM!"},{"$error":"#NUM!"},{"$error":"#NUM!"},{"$error":"#NUM!"},""]
[{"$error":"#NUM!"},{"$error":"#NUM!"},{"$error":"#NUM!"},{"$error":"#NUM!"},{"$error":"#NUM!"},""]
[{"$error":"#NUM!"},{"$error":"#NUM!"},{"$error":"#NUM!"},{"$error":"#NUM!"},{"$error":"#NUM!"},""]
[{"$error":"#NUM!"},{"$error":"#NUM!"},{"$error":"#NUM!"},{"$error":"#NUM!"},{"$error":"#NUM!"},""]
[{"$error":"#NUM!"},{"$error":"#NUM!"},{"$error":"#NUM!"},{"$error":"#NUM!"},{"$error":"#NUM!"},""]
[{"$error":"#NUM!"},{"$error":"#NUM!"},{"$error":"#NUM!"},{"$error":"#NUM!"},{"$error":"#NUM!"},""]
[{"$error":"#NUM!"},{"$error":"#NUM!"},{"$error":"#NUM!"},{"$error":"#NUM!"},{"$error":"#NUM!"},""]
[{"$error":"#NUM!"},{"$error":"#NUM!"},{"$error":"#NUM!"},{"$error":"#NUM!"},{"$error":"#NUM!"},""]
[{"$error":"#NUM!"},{"$error":"#NUM!"},{"$error":"#NUM!"},{"$error":"#NUM!"},{"$error":"#NUM!"},""]
[{"$error":"#NUM!"},{"$error":"#NUM!"},{"$error":"#NUM!"},{"$error":"#NUM!"},{"$error":"#NUM!"},""]
[{"$error":"#NUM!"},{"$error":"#NUM!"},{"$error":"#NUM!"},{"$error":"#NUM!"},{"$error":"#NUM!"},""]
[{"$error":"#NUM!"},{"$error":"#NUM!"},{"$error":"#NUM!"},{"$error":"#NUM!"},{"$error":"#NUM!"},""]
[{"$error":"#NUM!"},{"$error":"#NUM!"},{"$error":"#NUM!"},{"$error":"#NUM!"},{"$error":"#NUM!"},""]
[{"$error":"#NUM!"},{"$error":"#NUM!"},{"$error":"#NUM!"},{"$error":"#NUM!"},{"$error":"#NUM!"},""]
[{"$error":"#NUM!"},{"$error":"#NUM!"},{"$error":"#NUM!"},{"$error":"#NUM!"},{"$error":"#NUM!"},""]
[{"$f":"MATCH(LARGE(INDIRECT(\"'Rural Multilane Segments (MI)'!$AJ$5:$AJ$1005\"),ROW()-150),INDIRECT(\"'Rural Multilane Segments (MI)'!$AJ$5:$AJ$1005\"),0)+4","v":{"$error":"#NUM!"}},{"$f":"\"(SEG) \"&INDIRECT(ADDRESS($A151,2,,,\"Rural Multilane Segments (MI)\"))&\", \"&INDIRECT(ADDRESS($A151,3,,,\"Rural Multilane Segments (MI)\"))","v":{"$error":"#NUM!"}},{"$f":"INDIRECT(ADDRESS($A151,4,,,\"Rural Multilane Segments (MI)\"))","v":{"$error":"#NUM!"}},{"$f":"\"Length = \"&INDIRECT(ADDRESS($A151,8,,,\"Rural Multilane Segments (MI)\"))&\" mi\"","v":{"$error":"#NUM!"}},{"$f":"\"AADT: \"&TEXT(INDIRECT(ADDRESS($A151,9,,,\"Rural Multilane Segments (MI)\")),\"#,##0\")","v":{"$error":"#NUM!"}},{"$f":"IF(ISERROR(A151),\"\",INDIRECT(ADDRESS($A151,36,,,\"Rural Multilane Segments (MI)\")))","v":""}]
[{"$f":"IF(LARGE(INDIRECT(\"'Rural Multilane Segments (MI)'!$AJ$5:$AJ$1005\"),ROW()-150)=F151,MATCH(F151,INDIRECT(\"'Rural Multilane Segments (MI)'!$AJ$\"&A151+1&\":$AJ1005\"),0)+A151,MATCH(LARGE(INDIRECT(\"'Rural Multilane Segments (MI)'!$AJ$5:$AJ$1005\"),ROW()-150),INDIRECT(\"'Rural Multilane Segments (MI)'!$AJ$5:$AJ$1005\"),0)+4)","v":{"$error":"#NUM!"}},{"$error":"#NUM!"},{"$error":"#NUM!"},{"$error":"#NUM!"},{"$error":"#NUM!"},""]
[{"$error":"#NUM!"},{"$error":"#NUM!"},{"$error":"#NUM!"},{"$error":"#NUM!"},{"$error":"#NUM!"},""]
[{"$error":"#NUM!"},{"$error":"#NUM!"},{"$error":"#NUM!"},{"$error":"#NUM!"},{"$error":"#NUM!"},""]
[{"$error":"#NUM!"},{"$error":"#NUM!"},{"$error":"#NUM!"},{"$error":"#NUM!"},{"$error":"#NUM!"},""]
[{"$error":"#NUM!"},{"$error":"#NUM!"},{"$error":"#NUM!"},{"$error":"#NUM!"},{"$error":"#NUM!"},""]
[{"$error":"#NUM!"},{"$error":"#NUM!"},{"$error":"#NUM!"},{"$error":"#NUM!"},{"$error":"#NUM!"},""]
[{"$error":"#NUM!"},{"$error":"#NUM!"},{"$error":"#NUM!"},{"$error":"#NUM!"},{"$error":"#NUM!"},""]
[{"$error":"#NUM!"},{"$error":"#NUM!"},{"$error":"#NUM!"},{"$error":"#NUM!"},{"$error":"#NUM!"},""]
[{"$error":"#NUM!"},{"$error":"#NUM!"},{"$error":"#NUM!"},{"$error":"#NUM!"},{"$error":"#NUM!"},""]
[{"$error":"#NUM!"},{"$error":"#NUM!"},{"$error":"#NUM!"},{"$error":"#NUM!"},{"$error":"#NUM!"},""]
[{"$error":"#NUM!"},{"$error":"#NUM!"},{"$error":"#NUM!"},{"$error":"#NUM!"},{"$error":"#NUM!"},""]
[{"$error":"#NUM!"},{"$error":"#NUM!"},{"$error":"#NUM!"},{"$error":"#NUM!"},{"$error":"#NUM!"},""]
[{"$error":"#NUM!"},{"$error":"#NUM!"},{"$error":"#NUM!"},{"$error":"#NUM!"},{"$error":"#NUM!"},""]
[{"$error":"#NUM!"},{"$error":"#NUM!"},{"$error":"#NUM!"},{"$error":"#NUM!"},{"$error":"#NUM!"},""]
[{"$error":"#NUM!"},{"$error":"#NUM!"},{"$error":"#NUM!"},{"$error":"#NUM!"},{"$error":"#NUM!"},""]
[{"$error":"#NUM!"},{"$error":"#NUM!"},{"$error":"#NUM!"},{"$error":"#NUM!"},{"$error":"#NUM!"},""]
[{"$error":"#NUM!"},{"$error":"#NUM!"},{"$error":"#NUM!"},{"$error":"#NUM!"},{"$error":"#NUM!"},""]
[{"$error":"#NUM!"},{"$error":"#NUM!"},{"$error":"#NUM!"},{"$error":"#NUM!"},{"$error":"#NUM!"},""]
[{"$error":"#NUM!"},{"$error":"#NUM!"},{"$error":"#NUM!"},{"$error":"#NUM!"},{"$error":"#NUM!"},""]
[{"$error":"#NUM!"},{"$error":"#NUM!"},{"$error":"#NUM!"},{"$error":"#NUM!"},{"$error":"#NUM!"},""]
[{"$error":"#NUM!"},{"$error":"#NUM!"},{"$error":"#NUM!"},{"$error":"#NUM!"},{"$error":"#NUM!"},""]
[{"$error":"#NUM!"},{"$error":"#NUM!"},{"$error":"#NUM!"},{"$error":"#NUM!"},{"$error":"#NUM!"},""]
[{"$error":"#NUM!"},{"$error":"#NUM!"},{"$error":"#NUM!"},{"$error":"#NUM!"},{"$error":"#NUM!"},""]
[{"$error":"#NUM!"},{"$error":"#NUM!"},{"$error":"#NUM!"},{"$error":"#NUM!"},{"$error":"#NUM!"},""]
[{"$error":"#NUM!"},{"$error":"#NUM!"},{"$error":"#NUM!"},{"$error":"#NUM!"},{"$error":"#NUM!"},""]
[{"$error":"#NUM!"},{"$error":"#NUM!"},{"$error":"#NUM!"},{"$error":"#NUM!"},{"$error":"#NUM!"},""]
[{"$error":"#NUM!"},{"$error":"#NUM!"},{"$error":"#NUM!"},{"$error":"#NUM!"},{"$error":"#NUM!"},""]
[{"$error":"#NUM!"},{"$error":"#NUM!"},{"$error":"#NUM!"},{"$error":"#NUM!"},{"$error":"#NUM!"},""]
[{"$error":"#NUM!"},{"$error":"#NUM!"},{"$error":"#NUM!"},{"$error":"#NUM!"},{"$error":"#NUM!"},""]
[{"$error":"#NUM!"},{"$error":"#NUM!"},{"$error":"#NUM!"},{"$error":"#NUM!"},{"$error":"#NUM!"},""]
[{"$error":"#NUM!"},{"$error":"#NUM!"},{"$error":"#NUM!"},{"$error":"#NUM!"},{"$error":"#NUM!"},""]
[{"$error":"#NUM!"},{"$f":"\"(SEG) \"&INDIRECT(ADDRESS($A183,2,,,\"Rural Multilane Segments (MI)\"))&\", \"&INDIRECT(ADDRESS($A183,3,,,\"Rural Multilane Segments (MI)\"))","v":{"$error":"#NUM!"}},{"$f":"INDIRECT(ADDRESS($A183,4,,,\"Rural Multilane Segments (MI)\"))","v":{"$error":"#NUM!"}},{"$f":"\"Length = \"&INDIRECT(ADDRESS($A183,8,,,\"Rural Multilane Segments (MI)\"))&\" mi\"","v":{"$error":"#NUM!"}},{"$f":"\"AADT: \"&TEXT(INDIRECT(ADDRESS($A183,9,,,\"Rural Multilane Segments (MI)\")),\"#,##0\")","v":{"$error":"#NUM!"}},{"$f":"IF(ISERROR(A183),\"\",INDIRECT(ADDRESS($A183,36,,,\"Rural Multilane Segments (MI)\")))","v":""}]
[{"$f":"IF(LARGE(INDIRECT(\"'Rural Multilane Segments (MI)'!$AJ$5:$AJ$1005\"),ROW()-150)=F183,MATCH(F183,INDIRECT(\"'Rural Multilane Segments (MI)'!$AJ$\"&A183+1&\":$AJ1005\"),0)+A183,MATCH(LARGE(INDIRECT(\"'Rural Multilane Segments (MI)'!$AJ$5:$AJ$1005\"),ROW()-150),INDIRECT(\"'Rural Multilane Segments (MI)'!$AJ$5:$AJ$1005\"),0)+4)","v":{"$error":"#NUM!"}},{"$error":"#NUM!"},{"$error":"#NUM!"},{"$error":"#NUM!"},{"$error":"#NUM!"},""]
[{"$error":"#NUM!"},{"$error":"#NUM!"},{"$error":"#NUM!"},{"$error":"#NUM!"},{"$error":"#NUM!"},""]
[{"$error":"#NUM!"},{"$error":"#NUM!"},{"$error":"#NUM!"},{"$error":"#NUM!"},{"$error":"#NUM!"},""]
[{"$error":"#NUM!"},{"$error":"#NUM!"},{"$error":"#NUM!"},{"$error":"#NUM!"},{"$error":"#NUM!"},""]
[{"$error":"#NUM!"},{"$error":"#NUM!"},{"$error":"#NUM!"},{"$error":"#NUM!"},{"$error":"#NUM!"},""]
[{"$error":"#NUM!"},{"$error":"#NUM!"},{"$error":"#NUM!"},{"$error":"#NUM!"},{"$error":"#NUM!"},""]
[{"$error":"#NUM!"},{"$error":"#NUM!"},{"$error":"#NUM!"},{"$error":"#NUM!"},{"$error":"#NUM!"},""]
[{"$error":"#NUM!"},{"$error":"#NUM!"},{"$error":"#NUM!"},{"$error":"#NUM!"},{"$error":"#NUM!"},""]
[{"$error":"#NUM!"},{"$error":"#NUM!"},{"$error":"#NUM!"},{"$error":"#NUM!"},{"$error":"#NUM!"},""]
[{"$error":"#NUM!"},{"$error":"#NUM!"},{"$error":"#NUM!"},{"$error":"#NUM!"},{"$error":"#NUM!"},""]
[{"$error":"#NUM!"},{"$error":"#NUM!"},{"$error":"#NUM!"},{"$error":"#NUM!"},{"$error":"#NUM!"},""]
[{"$error":"#NUM!"},{"$error":"#NUM!"},{"$error":"#NUM!"},{"$error":"#NUM!"},{"$error":"#NUM!"},""]
[{"$error":"#NUM!"},{"$error":"#NUM!"},{"$error":"#NUM!"},{"$error":"#NUM!"},{"$error":"#NUM!"},""]
[{"$error":"#NUM!"},{"$error":"#NUM!"},{"$error":"#NUM!"},{"$error":"#NUM!"},{"$error":"#NUM!"},""]
[{"$error":"#NUM!"},{"$error":"#NUM!"},{"$error":"#NUM!"},{"$error":"#NUM!"},{"$error":"#NUM!"},""]
[{"$error":"#NUM!"},{"$error":"#NUM!"},{"$error":"#NUM!"},{"$error":"#NUM!"},{"$error":"#NUM!"},""]
[{"$error":"#NUM!"},{"$error":"#NUM!"},{"$error":"#NUM!"},{"$error":"#NUM!"},{"$error":"#NUM!"},""]
[{"$f":"MATCH(LARGE(INDIRECT(\"'Rural Unsignalized Int (MI)'!$Z$5:$Z$1005\"),ROW()-200),INDIRECT(\"'Rural Unsignalized Int (MI)'!$Z$5:$Z$1005\"),0)+4","v":{"$error":"#NUM!"}},{"$f":"\"(INT) \"&INDIRECT(ADDRESS($A201,2,,,\"Rural Unsignalized Int (MI)\"))&\" / \"&INDIRECT(ADDRESS($A201,3,,,\"Rural Unsignalized Int (MI)\"))","v":{"$error":"#NUM!"}},{"$f":"INDIRECT(ADDRESS($A201,4,,,\"Rural Unsignalized Int (MI)\"))","v":{"$error":"#NUM!"}},{"$f":"\"Type = \"&INDIRECT(ADDRESS($A201,7,,,\"Rural Unsignalized Int (MI)\"))","v":{"$error":"#NUM!"}},{"$f":"\"AADT: \"&TEXT(INDIRECT(ADDRESS($A201,8,,,\"Rural Unsignalized Int (MI)\")),\"#,##0\") & \" / \" & TEXT(INDIRECT(ADDRESS($A201,9,,,\"Rural Unsignalized Int (MI)\")),\"#,##0\")","v":{"$error":"#NUM!"}},{"$f":"IF(ISERROR(A201),\"\",INDIRECT(ADDRESS($A201,26,,,\"Rural Unsignalized Int (MI)\")))","v":""}]
[{"$f":"IF(LARGE(INDIRECT(\"'Rural Unsignalized Int (MI)'!$Z$5:$Z$1005\"),ROW()-200)=F201,MATCH(F201,INDIRECT(\"'Rural Unsignalized Int (MI)'!$Z$\"&A201+1&\":$Z1005\"),0)+A201,MATCH(LARGE(INDIRECT(\"'Rural Unsignalized Int (MI)'!$Z$5:$Z$1005\"),ROW()-200),INDIRECT(\"'Rural Unsignalized Int (MI)'!$Z$5:$Z$1005\"),0)+4)","v":{"$error":"#NUM!"}},{"$error":"#NUM!"},{"$error":"#NUM!"},{"$error":"#NUM!"},{"$error":"#NUM!"},""]
[{"$error":"#NUM!"},{"$error":"#NUM!"},{"$error":"#NUM!"},{"$error":"#NUM!"},{"$error":"#NUM!"},""]
[{"$error":"#NUM!"},{"$error":"#NUM!"},{"$error":"#NUM!"},{"$error":"#NUM!"},{"$error":"#NUM!"},""]
[{"$error":"#NUM!"},{"$error":"#NUM!"},{"$error":"#NUM!"},{"$error":"#NUM!"},{"$error":"#NUM!"},""]
[{"$error":"#NUM!"},{"$error":"#NUM!"},{"$error":"#NUM!"},{"$error":"#NUM!"},{"$error":"#NUM!"},""]
[{"$error":"#NUM!"},{"$error":"#NUM!"},{"$error":"#NUM!"},{"$error":"#NUM!"},{"$error":"#NUM!"},""]
[{"$error":"#NUM!"},{"$error":"#NUM!"},{"$error":"#NUM!"},{"$error":"#NUM!"},{"$error":"#NUM!"},""]
[{"$error":"#NUM!"},{"$error":"#NUM!"},{"$error":"#NUM!"},{"$error":"#NUM!"},{"$error":"#NUM!"},""]
[{"$error":"#NUM!"},{"$error":"#NUM!"},{"$error":"#NUM!"},{"$error":"#NUM!"},{"$error":"#NUM!"},""]
[{"$error":"#NUM!"},{"$error":"#NUM!"},{"$error":"#NUM!"},{"$error":"#NUM!"},{"$error":"#NUM!"},""]
[{"$error":"#NUM!"},{"$error":"#NUM!"},{"$error":"#NUM!"},{"$error":"#NUM!"},{"$error":"#NUM!"},""]
[{"$error":"#NUM!"},{"$error":"#NUM!"},{"$error":"#NUM!"},{"$error":"#NUM!"},{"$error":"#NUM!"},""]
[{"$error":"#NUM!"},{"$error":"#NUM!"},{"$error":"#NUM!"},{"$error":"#NUM!"},{"$error":"#NUM!"},""]
[{"$error":"#NUM!"},{"$error":"#NUM!"},{"$error":"#NUM!"},{"$error":"#NUM!"},{"$error":"#NUM!"},""]
[{"$error":"#NUM!"},{"$error":"#NUM!"},{"$error":"#NUM!"},{"$error":"#NUM!"},{"$error":"#NUM!"},""]
[{"$error":"#NUM!"},{"$error":"#NUM!"},{"$error":"#NUM!"},{"$error":"#NUM!"},{"$error":"#NUM!"},""]
[{"$error":"#NUM!"},{"$error":"#NUM!"},{"$error":"#NUM!"},{"$error":"#NUM!"},{"$error":"#NUM!"},""]
[{"$error":"#NUM!"},{"$error":"#NUM!"},{"$error":"#NUM!"},{"$error":"#NUM!"},{"$error":"#NUM!"},""]
[{"$error":"#NUM!"},{"$error":"#NUM!"},{"$error":"#NUM!"},{"$error":"#NUM!"},{"$error":"#NUM!"},""]
[{"$error":"#NUM!"},{"$error":"#NUM!"},{"$error":"#NUM!"},{"$error":"#NUM!"},{"$error":"#NUM!"},""]
[{"$error":"#NUM!"},{"$error":"#NUM!"},{"$error":"#NUM!"},{"$error":"#NUM!"},{"$error":"#NUM!"},""]
[{"$error":"#NUM!"},{"$error":"#NUM!"},{"$error":"#NUM!"},{"$error":"#NUM!"},{"$error":"#NUM!"},""]
[{"$error":"#NUM!"},{"$error":"#NUM!"},{"$error":"#NUM!"},{"$error":"#NUM!"},{"$error":"#NUM!"},""]
[{"$error":"#NUM!"},{"$error":"#NUM!"},{"$error":"#NUM!"},{"$error":"#NUM!"},{"$error":"#NUM!"},""]
[{"$error":"#NUM!"},{"$error":"#NUM!"},{"$error":"#NUM!"},{"$error":"#NUM!"},{"$error":"#NUM!"},""]
[{"$error":"#NUM!"},{"$error":"#NUM!"},{"$error":"#NUM!"},{"$error":"#NUM!"},{"$error":"#NUM!"},""]
[{"$error":"#NUM!"},{"$error":"#NUM!"},{"$error":"#NUM!"},{"$error":"#NUM!"},{"$error":"#NUM!"},""]
[{"$error":"#NUM!"},{"$error":"#NUM!"},{"$error":"#NUM!"},{"$error":"#NUM!"},{"$error":"#NUM!"},""]
[{"$error":"#NUM!"},{"$error":"#NUM!"},{"$error":"#NUM!"},{"$error":"#NUM!"},{"$error":"#NUM!"},""]
[{"$error":"#NUM!"},{"$error":"#NUM!"},{"$error":"#NUM!"},{"$error":"#NUM!"},{"$error":"#NUM!"},""]
[{"$error":"#NUM!"},{"$error":"#NUM!"},{"$error":"#NUM!"},{"$error":"#NUM!"},{"$error":"#NUM!"},""]
[{"$error":"#NUM!"},{"$f":"\"(INT) \"&INDIRECT(ADDRESS($A233,2,,,\"Rural Unsignalized Int (MI)\"))&\" / \"&INDIRECT(ADDRESS($A233,3,,,\"Rural Unsignalized Int (MI)\"))","v":{"$error":"#NUM!"}},{"$f":"INDIRECT(ADDRESS($A233,4,,,\"Rural Unsignalized Int (MI)\"))","v":{"$error":"#NUM!"}},{"$f":"\"Type = \"&INDIRECT(ADDRESS($A233,7,,,\"Rural Unsignalized Int (MI)\"))","v":{"$error":"#NUM!"}},{"$f":"\"AADT: \"&TEXT(INDIRECT(ADDRESS($A233,8,,,\"Rural Unsignalized Int (MI)\")),\"#,##0\") & \" / \" & TEXT(INDIRECT(ADDRESS($A233,9,,,\"Rural Unsignalized Int (MI)\")),\"#,##0\")","v":{"$error":"#NUM!"}},{"$f":"IF(ISERROR(A233),\"\",INDIRECT(ADDRESS($A233,26,,,\"Rural Unsignalized Int (MI)\")))","v":""}]
[{"$f":"IF(LARGE(INDIRECT(\"'Rural Unsignalized Int (MI)'!$Z$5:$Z$1005\"),ROW()-200)=F233,MATCH(F233,INDIRECT(\"'Rural Unsignalized Int (MI)'!$Z$\"&A233+1&\":$Z1005\"),0)+A233,MATCH(LARGE(INDIRECT(\"'Rural Unsignalized Int (MI)'!$Z$5:$Z$1005\"),ROW()-200),INDIRECT(\"'Rural Unsignalized Int (MI)'!$Z$5:$Z$1005\"),0)+4)","v":{"$error":"#NUM!"}},{"$error":"#NUM!"},{"$error":"#NUM!"},{"$error":"#NUM!"},{"$error":"#NUM!"},""]
[{"$error":"#NUM!"},{"$error":"#NUM!"},{"$error":"#NUM!"},{"$error":"#NUM!"},{"$error":"#NUM!"},""]
[{"$error":"#NUM!"},{"$error":"#NUM!"},{"$error":"#NUM!"},{"$error":"#NUM!"},{"$error":"#NUM!"},""]
[{"$error":"#NUM!"},{"$error":"#NUM!"},{"$error":"#NUM!"},{"$error":"#NUM!"},{"$error":"#NUM!"},""]
[{"$error":"#NUM!"},{"$error":"#NUM!"},{"$error":"#NUM!"},{"$error":"#NUM!"},{"$error":"#NUM!"},""]
[{"$error":"#NUM!"},{"$error":"#NUM!"},{"$error":"#NUM!"},{"$error":"#NUM!"},{"$error":"#NUM!"},""]
[{"$error":"#NUM!"},{"$error":"#NUM!"},{"$error":"#NUM!"},{"$error":"#NUM!"},{"$error":"#NUM!"},""]
[{"$error":"#NUM!"},{"$error":"#NUM!"},{"$error":"#NUM!"},{"$error":"#NUM!"},{"$error":"#NUM!"},""]
[{"$error":"#NUM!"},{"$error":"#NUM!"},{"$error":"#NUM!"},{"$error":"#NUM!"},{"$error":"#NUM!"},""]
[{"$error":"#NUM!"},{"$error":"#NUM!"},{"$error":"#NUM!"},{"$error":"#NUM!"},{"$error":"#NUM!"},""]
[{"$error":"#NUM!"},{"$error":"#NUM!"},{"$error":"#NUM!"},{"$error":"#NUM!"},{"$error":"#NUM!"},""]
[{"$error":"#NUM!"},{"$error":"#NUM!"},{"$error":"#NUM!"},{"$error":"#NUM!"},{"$error":"#NUM!"},""]
[{"$error":"#NUM!"},{"$error":"#NUM!"},{"$error":"#NUM!"},{"$error":"#NUM!"},{"$error":"#NUM!"},""]
[{"$error":"#NUM!"},{"$error":"#NUM!"},{"$error":"#NUM!"},{"$error":"#NUM!"},{"$error":"#NUM!"},""]
[{"$error":"#NUM!"},{"$error":"#NUM!"},{"$error":"#NUM!"},{"$error":"#NUM!"},{"$error":"#NUM!"},""]
[{"$error":"#NUM!"},{"$error":"#NUM!"},{"$error":"#NUM!"},{"$error":"#NUM!"},{"$error":"#NUM!"},""]
[{"$error":"#NUM!"},{"$error":"#NUM!"},{"$error":"#NUM!"},{"$error":"#NUM!"},{"$error":"#NUM!"},""]
[{"$f":"MATCH(LARGE(INDIRECT(\"'Rural Signalized Int (MI)'!$V$5:$V$1005\"),ROW()-250),INDIRECT(\"'Rural Signalized Int (MI)'!$V$5:$V$1005\"),0)+4","v":{"$error":"#NUM!"}},{"$f":"\"(INT) \"&INDIRECT(ADDRESS($A251,2,,,\"Rural Signalized Int (MI)\"))&\" / \"&INDIRECT(ADDRESS($A251,3,,,\"Rural Signalized Int (MI)\"))","v":{"$error":"#NUM!"}},{"$f":"INDIRECT(ADDRESS($A251,4,,,\"Rural Signalized Int (MI)\"))","v":{"$error":"#NUM!"}},{"$f":"\"Type = \"&INDIRECT(ADDRESS($A251,8,,,\"Rural Signalized Int (MI)\"))","v":{"$error":"#NUM!"}},{"$f":"\"AADT: \"&TEXT(INDIRECT(ADDRESS($A251,9,,,\"Rural Signalized Int (MI)\")),\"#,##0\") & \" / \" & TEXT(INDIRECT(ADDRESS($A251,10,,,\"Rural Signalized Int (MI)\")),\"#,##0\")","v":{"$error":"#NUM!"}},{"$f":"IF(ISERROR(A251),\"\",INDIRECT(ADDRESS($A251,22,,,\"Rural Signalized Int (MI)\")))","v":""}]
[{"$f":"IF(LARGE(INDIRECT(\"'Rural Signalized Int (MI)'!$V$5:$V$1005\"),ROW()-250)=F251,MATCH(F251,INDIRECT(\"'Rural Signalized Int (MI)'!$V$\"&A251+1&\":$V1005\"),0)+A251,MATCH(LARGE(INDIRECT(\"'Rural Signalized Int (MI)'!$V$5:$V$1005\"),ROW()-250),INDIRECT(\"'Rural Signalized Int (MI)'!$V$5:$V$1005\"),0)+4)","v":{"$error":"#NUM!"}},{"$error":"#NUM!"},{"$error":"#NUM!"},{"$error":"#NUM!"},{"$error":"#NUM!"},""]
[{"$error":"#NUM!"},{"$error":"#NUM!"},{"$error":"#NUM!"},{"$error":"#NUM!"},{"$error":"#NUM!"},""]
[{"$error":"#NUM!"},{"$error":"#NUM!"},{"$error":"#NUM!"},{"$error":"#NUM!"},{"$error":"#NUM!"},""]
[{"$error":"#NUM!"},{"$error":"#NUM!"},{"$error":"#NUM!"},{"$error":"#NUM!"},{"$error":"#NUM!"},""]
[{"$error":"#NUM!"},{"$error":"#NUM!"},{"$error":"#NUM!"},{"$error":"#NUM!"},{"$error":"#NUM!"},""]
[{"$error":"#NUM!"},{"$error":"#NUM!"},{"$error":"#NUM!"},{"$error":"#NUM!"},{"$error":"#NUM!"},""]
[{"$error":"#NUM!"},{"$error":"#NUM!"},{"$error":"#NUM!"},{"$error":"#NUM!"},{"$error":"#NUM!"},""]
[{"$error":"#NUM!"},{"$error":"#NUM!"},{"$error":"#NUM!"},{"$error":"#NUM!"},{"$error":"#NUM!"},""]
[{"$error":"#NUM!"},{"$error":"#NUM!"},{"$error":"#NUM!"},{"$error":"#NUM!"},{"$error":"#NUM!"},""]
[{"$error":"#NUM!"},{"$error":"#NUM!"},{"$error":"#NUM!"},{"$error":"#NUM!"},{"$error":"#NUM!"},""]
[{"$error":"#NUM!"},{"$error":"#NUM!"},{"$error":"#NUM!"},{"$error":"#NUM!"},{"$error":"#NUM!"},""]
[{"$error":"#NUM!"},{"$error":"#NUM!"},{"$error":"#NUM!"},{"$error":"#NUM!"},{"$error":"#NUM!"},""]
[{"$error":"#NUM!"},{"$error":"#NUM!"},{"$error":"#NUM!"},{"$error":"#NUM!"},{"$error":"#NUM!"},""]
[{"$error":"#NUM!"},{"$error":"#NUM!"},{"$error":"#NUM!"},{"$error":"#NUM!"},{"$error":"#NUM!"},""]
[{"$error":"#NUM!"},{"$error":"#NUM!"},{"$error":"#NUM!"},{"$error":"#NUM!"},{"$error":"#NUM!"},""]
[{"$error":"#NUM!"},{"$error":"#NUM!"},{"$error":"#NUM!"},{"$error":"#NUM!"},{"$error":"#NUM!"},""]
[{"$error":"#NUM!"},{"$error":"#NUM!"},{"$error":"#NUM!"},{"$error":"#NUM!"},{"$error":"#NUM!"},""]
[{"$error":"#NUM!"},{"$error":"#NUM!"},{"$error":"#NUM!"},{"$error":"#NUM!"},{"$error":"#NUM!"},""]
[{"$error":"#NUM!"},{"$error":"#NUM!"},{"$error":"#NUM!"},{"$error":"#NUM!"},{"$error":"#NUM!"},""]
[{"$error":"#NUM!"},{"$error":"#NUM!"},{"$error":"#NUM!"},{"$error":"#NUM!"},{"$error":"#NUM!"},""]
[{"$error":"#NUM!"},{"$error":"#NUM!"},{"$error":"#NUM!"},{"$error":"#NUM!"},{"$error":"#NUM!"},""]
[{"$error":"#NUM!"},{"$error":"#NUM!"},{"$error":"#NUM!"},{"$error":"#NUM!"},{"$error":"#NUM!"},""]
[{"$error":"#NUM!"},{"$error":"#NUM!"},{"$error":"#NUM!"},{"$error":"#NUM!"},{"$error":"#NUM!"},""]
[{"$error":"#NUM!"},{"$error":"#NUM!"},{"$error":"#NUM!"},{"$error":"#NUM!"},{"$error":"#NUM!"},""]
[{"$error":"#NUM!"},{"$error":"#NUM!"},{"$error":"#NUM!"},{"$error":"#NUM!"},{"$error":"#NUM!"},""]
[{"$error":"#NUM!"},{"$error":"#NUM!"},{"$error":"#NUM!"},{"$error":"#NUM!"},{"$error":"#NUM!"},""]
[{"$error":"#NUM!"},{"$error":"#NUM!"},{"$error":"#NUM!"},{"$error":"#NUM!"},{"$error":"#NUM!"},""]
[{"$error":"#NUM!"},{"$error":"#NUM!"},{"$error":"#NUM!"},{"$error":"#NUM!"},{"$error":"#NUM!"},""]
[{"$error":"#NUM!"},{"$error":"#NUM!"},{"$error":"#NUM!"},{"$error":"#NUM!"},{"$error":"#NUM!"},""]
[{"$error":"#NUM!"},{"$error":"#NUM!"},{"$error":"#NUM!"},{"$error":"#NUM!"},{"$error":"#NUM!"},""]
[{"$error":"#NUM!"},{"$error":"#NUM!"},{"$error":"#NUM!"},{"$error":"#NUM!"},{"$error":"#NUM!"},""]
[{"$error":"#NUM!"},{"$f":"\"(INT) \"&INDIRECT(ADDRESS($A283,2,,,\"Rural Signalized Int (MI)\"))&\" / \"&INDIRECT(ADDRESS($A283,3,,,\"Rural Signalized Int (MI)\"))","v":{"$error":"#NUM!"}},{"$f":"INDIRECT(ADDRESS($A283,4,,,\"Rural Signalized Int (MI)\"))","v":{"$error":"#NUM!"}},{"$f":"\"Type = \"&INDIRECT(ADDRESS($A283,8,,,\"Rural Signalized Int (MI)\"))","v":{"$error":"#NUM!"}},{"$f":"\"AADT: \"&TEXT(INDIRECT(ADDRESS($A283,9,,,\"Rural Signalized Int (MI)\")),\"#,##0\") & \" / \" & TEXT(INDIRECT(ADDRESS($A283,10,,,\"Rural Signalized Int (MI)\")),\"#,##0\")","v":{"$error":"#NUM!"}},{"$f":"IF(ISERROR(A283),\"\",INDIRECT(ADDRESS($A283,22,,,\"Rural Signalized Int (MI)\")))","v":""}]
[{"$f":"IF(LARGE(INDIRECT(\"'Rural Signalized Int (MI)'!$V$5:$V$1005\"),ROW()-250)=F283,MATCH(F283,INDIRECT(\"'Rural Signalized Int (MI)'!$V$\"&A283+1&\":$V1005\"),0)+A283,MATCH(LARGE(INDIRECT(\"'Rural Signalized Int (MI)'!$V$5:$V$1005\"),ROW()-250),INDIRECT(\"'Rural Signalized Int (MI)'!$V$5:$V$1005\"),0)+4)","v":{"$error":"#NUM!"}},{"$error":"#NUM!"},{"$error":"#NUM!"},{"$error":"#NUM!"},{"$error":"#NUM!"},""]
[{"$error":"#NUM!"},{"$error":"#NUM!"},{"$error":"#NUM!"},{"$error":"#NUM!"},{"$error":"#NUM!"},""]
[{"$error":"#NUM!"},{"$error":"#NUM!"},{"$error":"#NUM!"},{"$error":"#NUM!"},{"$error":"#NUM!"},""]
[{"$error":"#NUM!"},{"$error":"#NUM!"},{"$error":"#NUM!"},{"$error":"#NUM!"},{"$error":"#NUM!"},""]
[{"$error":"#NUM!"},{"$error":"#NUM!"},{"$error":"#NUM!"},{"$error":"#NUM!"},{"$error":"#NUM!"},""]
[{"$error":"#NUM!"},{"$error":"#NUM!"},{"$error":"#NUM!"},{"$error":"#NUM!"},{"$error":"#NUM!"},""]
[{"$error":"#NUM!"},{"$error":"#NUM!"},{"$error":"#NUM!"},{"$error":"#NUM!"},{"$error":"#NUM!"},""]
[{"$error":"#NUM!"},{"$error":"#NUM!"},{"$error":"#NUM!"},{"$error":"#NUM!"},{"$error":"#NUM!"},""]
[{"$error":"#NUM!"},{"$error":"#NUM!"},{"$error":"#NUM!"},{"$error":"#NUM!"},{"$error":"#NUM!"},""]
[{"$error":"#NUM!"},{"$error":"#NUM!"},{"$error":"#NUM!"},{"$error":"#NUM!"},{"$error":"#NUM!"},""]
[{"$error":"#NUM!"},{"$error":"#NUM!"},{"$error":"#NUM!"},{"$error":"#NUM!"},{"$error":"#NUM!"},""]
[{"$error":"#NUM!"},{"$error":"#NUM!"},{"$error":"#NUM!"},{"$error":"#NUM!"},{"$error":"#NUM!"},""]
[{"$error":"#NUM!"},{"$error":"#NUM!"},{"$error":"#NUM!"},{"$error":"#NUM!"},{"$error":"#NUM!"},""]
[{"$error":"#NUM!"},{"$error":"#NUM!"},{"$error":"#NUM!"},{"$error":"#NUM!"},{"$error":"#NUM!"},""]
[{"$error":"#NUM!"},{"$error":"#NUM!"},{"$error":"#NUM!"},{"$error":"#NUM!"},{"$error":"#NUM!"},""]
[{"$error":"#NUM!"},{"$error":"#NUM!"},{"$error":"#NUM!"},{"$error":"#NUM!"},{"$error":"#NUM!"},""]
[{"$error":"#NUM!"},{"$error":"#NUM!"},{"$error":"#NUM!"},{"$error":"#NUM!"},{"$error":"#NUM!"},""]
[{"$f":"MATCH(LARGE(INDIRECT(\"'Urban & Suburban Segments (MI)'!$BB$5:$BB$1005\"),ROW()-300),INDIRECT(\"'Urban & Suburban Segments (MI)'!$BB$5:$BB$1005\"),0)+4","v":{"$error":"#NUM!"}},{"$f":"\"(SEG) \"&INDIRECT(ADDRESS($A301,2,,,\"Urban & Suburban Segments (MI)\"))&\", \"&INDIRECT(ADDRESS($A301,3,,,\"Urban & Suburban Segments (MI)\"))","v":{"$error":"#NUM!"}},{"$f":"INDIRECT(ADDRESS($A301,4,,,\"Urban & Suburban Segments (MI)\"))","v":{"$error":"#NUM!"}},{"$f":"\"Length = \"&INDIRECT(ADDRESS($A301,6,,,\"Urban & Suburban Segments (MI)\"))&\" mi\"","v":{"$error":"#NUM!"}},{"$f":"\"AADT: \"&TEXT(INDIRECT(ADDRESS($A301,7,,,\"Urban & Suburban Segments (MI)\")),\"#,##0\")","v":{"$error":"#NUM!"}},{"$f":"IF(ISERROR(A301),\"\",INDIRECT(ADDRESS($A301,54,,,\"Urban & Suburban Segments (MI)\")))","v":""}]
[{"$f":"IF(LARGE(INDIRECT(\"'Urban & Suburban Segments (MI)'!$BB$5:$BB$1005\"),ROW()-300)=F301,MATCH(F301,INDIRECT(\"'Urban & Suburban Segments (MI)'!$BB$\"&A301+1&\":$BB1005\"),0)+A301,MATCH(LARGE(INDIRECT(\"'Urban & Suburban Segments (MI)'!$BB$5:$BB$1005\"),ROW()-300),INDIRECT(\"'Urban & Suburban Segments (MI)'!$BB$5:$BB$1005\"),0)+4)","v":{"$error":"#NUM!"}},{"$error":"#NUM!"},{"$error":"#NUM!"},{"$error":"#NUM!"},{"$error":"#NUM!"},""]
[{"$error":"#NUM!"},{"$error":"#NUM!"},{"$error":"#NUM!"},{"$error":"#NUM!"},{"$error":"#NUM!"},""]
[{"$error":"#NUM!"},{"$error":"#NUM!"},{"$error":"#NUM!"},{"$error":"#NUM!"},{"$error":"#NUM!"},""]
[{"$error":"#NUM!"},{"$error":"#NUM!"},{"$error":"#NUM!"},{"$error":"#NUM!"},{"$error":"#NUM!"},""]
[{"$error":"#NUM!"},{"$error":"#NUM!"},{"$error":"#NUM!"},{"$error":"#NUM!"},{"$error":"#NUM!"},""]
[{"$error":"#NUM!"},{"$error":"#NUM!"},{"$error":"#NUM!"},{"$error":"#NUM!"},{"$error":"#NUM!"},""]
[{"$error":"#NUM!"},{"$error":"#NUM!"},{"$error":"#NUM!"},{"$error":"#NUM!"},{"$error":"#NUM!"},""]
[{"$error":"#NUM!"},{"$error":"#NUM!"},{"$error":"#NUM!"},{"$error":"#NUM!"},{"$error":"#NUM!"},""]
[{"$error":"#NUM!"},{"$error":"#NUM!"},{"$error":"#NUM!"},{"$error":"#NUM!"},{"$error":"#NUM!"},""]
[{"$error":"#NUM!"},{"$error":"#NUM!"},{"$error":"#NUM!"},{"$error":"#NUM!"},{"$error":"#NUM!"},""]
[{"$error":"#NUM!"},{"$error":"#NUM!"},{"$error":"#NUM!"},{"$error":"#NUM!"},{"$error":"#NUM!"},""]
[{"$error":"#NUM!"},{"$error":"#NUM!"},{"$error":"#NUM!"},{"$error":"#NUM!"},{"$error":"#NUM!"},""]
[{"$error":"#NUM!"},{"$error":"#NUM!"},{"$error":"#NUM!"},{"$error":"#NUM!"},{"$error":"#NUM!"},""]
[{"$error":"#NUM!"},{"$error":"#NUM!"},{"$error":"#NUM!"},{"$error":"#NUM!"},{"$error":"#NUM!"},""]
[{"$error":"#NUM!"},{"$error":"#NUM!"},{"$error":"#NUM!"},{"$error":"#NUM!"},{"$error":"#NUM!"},""]
[{"$error":"#NUM!"},{"$error":"#NUM!"},{"$error":"#NUM!"},{"$error":"#NUM!"},{"$error":"#NUM!"},""]
[{"$error":"#NUM!"},{"$error":"#NUM!"},{"$error":"#NUM!"},{"$error":"#NUM!"},{"$error":"#NUM!"},""]
[{"$error":"#NUM!"},{"$error":"#NUM!"},{"$error":"#NUM!"},{"$error":"#NUM!"},{"$error":"#NUM!"},""]
[{"$error":"#NUM!"},{"$error":"#NUM!"},{"$error":"#NUM!"},{"$error":"#NUM!"},{"$error":"#NUM!"},""]
[{"$error":"#NUM!"},{"$error":"#NUM!"},{"$error":"#NUM!"},{"$error":"#NUM!"},{"$error":"#NUM!"},""]
[{"$error":"#NUM!"},{"$error":"#NUM!"},{"$error":"#NUM!"},{"$error":"#NUM!"},{"$error":"#NUM!"},""]
[{"$error":"#NUM!"},{"$error":"#NUM!"},{"$error":"#NUM!"},{"$error":"#NUM!"},{"$error":"#NUM!"},""]
[{"$error":"#NUM!"},{"$error":"#NUM!"},{"$error":"#NUM!"},{"$error":"#NUM!"},{"$error":"#NUM!"},""]
[{"$error":"#NUM!"},{"$error":"#NUM!"},{"$error":"#NUM!"},{"$error":"#NUM!"},{"$error":"#NUM!"},""]
[{"$error":"#NUM!"},{"$error":"#NUM!"},{"$error":"#NUM!"},{"$error":"#NUM!"},{"$error":"#NUM!"},""]
[{"$error":"#NUM!"},{"$error":"#NUM!"},{"$error":"#NUM!"},{"$error":"#NUM!"},{"$error":"#NUM!"},""]
[{"$error":"#NUM!"},{"$error":"#NUM!"},{"$error":"#NUM!"},{"$error":"#NUM!"},{"$error":"#NUM!"},""]
[{"$error":"#NUM!"},{"$error":"#NUM!"},{"$error":"#NUM!"},{"$error":"#NUM!"},{"$error":"#NUM!"},""]
[{"$error":"#NUM!"},{"$error":"#NUM!"},{"$error":"#NUM!"},{"$error":"#NUM!"},{"$error":"#NUM!"},""]
[{"$error":"#NUM!"},{"$error":"#NUM!"},{"$error":"#NUM!"},{"$error":"#NUM!"},{"$error":"#NUM!"},""]
[{"$error":"#NUM!"},{"$error":"#NUM!"},{"$error":"#NUM!"},{"$error":"#NUM!"},{"$error":"#NUM!"},""]
[{"$error":"#NUM!"},{"$f":"\"(SEG) \"&INDIRECT(ADDRESS($A333,2,,,\"Urban & Suburban Segments (MI)\"))&\", \"&INDIRECT(ADDRESS($A333,3,,,\"Urban & Suburban Segments (MI)\"))","v":{"$error":"#NUM!"}},{"$f":"INDIRECT(ADDRESS($A333,4,,,\"Urban & Suburban Segments (MI)\"))","v":{"$error":"#NUM!"}},{"$f":"\"Length = \"&INDIRECT(ADDRESS($A333,6,,,\"Urban & Suburban Segments (MI)\"))&\" mi\"","v":{"$error":"#NUM!"}},{"$f":"\"AADT: \"&TEXT(INDIRECT(ADDRESS($A333,7,,,\"Urban & Suburban Segments (MI)\")),\"#,##0\")","v":{"$error":"#NUM!"}},{"$f":"IF(ISERROR(A333),\"\",INDIRECT(ADDRESS($A333,54,,,\"Urban & Suburban Segments (MI)\")))","v":""}]
[{"$f":"IF(LARGE(INDIRECT(\"'Urban & Suburban Segments (MI)'!$BB$5:$BB$1005\"),ROW()-300)=F333,MATCH(F333,INDIRECT(\"'Urban & Suburban Segments (MI)'!$BB$\"&A333+1&\":$BB1005\"),0)+A333,MATCH(LARGE(INDIRECT(\"'Urban & Suburban Segments (MI)'!$BB$5:$BB$1005\"),ROW()-300),INDIRECT(\"'Urban & Suburban Segments (MI)'!$BB$5:$BB$1005\"),0)+4)","v":{"$error":"#NUM!"}},{"$error":"#NUM!"},{"$error":"#NUM!"},{"$error":"#NUM!"},{"$error":"#NUM!"},""]
[{"$error":"#NUM!"},{"$error":"#NUM!"},{"$error":"#NUM!"},{"$error":"#NUM!"},{"$error":"#NUM!"},""]
[{"$error":"#NUM!"},{"$error":"#NUM!"},{"$error":"#NUM!"},{"$error":"#NUM!"},{"$error":"#NUM!"},""]
[{"$error":"#NUM!"},{"$error":"#NUM!"},{"$error":"#NUM!"},{"$error":"#NUM!"},{"$error":"#NUM!"},""]
[{"$error":"#NUM!"},{"$error":"#NUM!"},{"$error":"#NUM!"},{"$error":"#NUM!"},{"$error":"#NUM!"},""]
[{"$error":"#NUM!"},{"$error":"#NUM!"},{"$error":"#NUM!"},{"$error":"#NUM!"},{"$error":"#NUM!"},""]
[{"$error":"#NUM!"},{"$error":"#NUM!"},{"$error":"#NUM!"},{"$error":"#NUM!"},{"$error":"#NUM!"},""]
[{"$error":"#NUM!"},{"$error":"#NUM!"},{"$error":"#NUM!"},{"$error":"#NUM!"},{"$error":"#NUM!"},""]
[{"$error":"#NUM!"},{"$error":"#NUM!"},{"$error":"#NUM!"},{"$error":"#NUM!"},{"$error":"#NUM!"},""]
[{"$error":"#NUM!"},{"$error":"#NUM!"},{"$error":"#NUM!"},{"$error":"#NUM!"},{"$error":"#NUM!"},""]
[{"$error":"#NUM!"},{"$error":"#NUM!"},{"$error":"#NUM!"},{"$error":"#NUM!"},{"$error":"#NUM!"},""]
[{"$error":"#NUM!"},{"$error":"#NUM!"},{"$error":"#NUM!"},{"$error":"#NUM!"},{"$error":"#NUM!"},""]
[{"$error":"#NUM!"},{"$error":"#NUM!"},{"$error":"#NUM!"},{"$error":"#NUM!"},{"$error":"#NUM!"},""]
[{"$error":"#NUM!"},{"$error":"#NUM!"},{"$error":"#NUM!"},{"$error":"#NUM!"},{"$error":"#NUM!"},""]
[{"$error":"#NUM!"},{"$error":"#NUM!"},{"$error":"#NUM!"},{"$error":"#NUM!"},{"$error":"#NUM!"},""]
[{"$error":"#NUM!"},{"$error":"#NUM!"},{"$error":"#NUM!"},{"$error":"#NUM!"},{"$error":"#NUM!"},""]
[{"$error":"#NUM!"},{"$error":"#NUM!"},{"$error":"#NUM!"},{"$error":"#NUM!"},{"$error":"#NUM!"},""]
[{"$f":"MATCH(LARGE(INDIRECT(\"'Urban & Suburban Ints (MI)'!$BB$5:$BB$1005\"),ROW()-350),INDIRECT(\"'Urban & Suburban Ints (MI)'!$BB$5:$BB$1005\"),0)+4","v":{"$error":"#NUM!"}},{"$f":"\"(INT) \"&INDIRECT(ADDRESS($A351,2,,,\"Urban & Suburban Ints (MI)\"))&\" / \"&INDIRECT(ADDRESS($A351,3,,,\"Urban & Suburban Ints (MI)\"))","v":{"$error":"#NUM!"}},{"$f":"INDIRECT(ADDRESS($A351,4,,,\"Urban & Suburban Ints (MI)\"))","v":{"$error":"#NUM!"}},{"$f":"\"Type = \"&INDIRECT(ADDRESS($A351,5,,,\"Urban & Suburban Ints (MI)\"))","v":{"$error":"#NUM!"}},{"$f":"\"AADT: \"&TEXT(INDIRECT(ADDRESS($A351,8,,,\"Urban & Suburban Ints (MI)\")),\"#,##0\") & \" / \" & TEXT(INDIRECT(ADDRESS($A351,9,,,\"Urban & Suburban Ints (MI)\")),\"#,##0\")","v":{"$error":"#NUM!"}},{"$f":"IF(ISERROR(A351),\"\",INDIRECT(ADDRESS($A351,54,,,\"Urban & Suburban Ints (MI)\")))","v":""}]
[{"$f":"IF(LARGE(INDIRECT(\"'Urban & Suburban Ints (MI)'!$BB$5:$BB$1005\"),ROW()-350)=F351,MATCH(F351,INDIRECT(\"'Urban & Suburban Ints (MI)'!$BB$\"&A351+1&\":$BB1005\"),0)+A351,MATCH(LARGE(INDIRECT(\"'Urban & Suburban Ints (MI)'!$BB$5:$BB$1005\"),ROW()-350),INDIRECT(\"'Urban & Suburban Ints (MI)'!$BB$5:$BB$1005\"),0)+4)","v":{"$error":"#NUM!"}},{"$error":"#NUM!"},{"$error":"#NUM!"},{"$error":"#NUM!"},{"$error":"#NUM!"},""]
[{"$error":"#NUM!"},{"$error":"#NUM!"},{"$error":"#NUM!"},{"$error":"#NUM!"},{"$error":"#NUM!"},""]
[{"$error":"#NUM!"},{"$error":"#NUM!"},{"$error":"#NUM!"},{"$error":"#NUM!"},{"$error":"#NUM!"},""]
[{"$error":"#NUM!"},{"$error":"#NUM!"},{"$error":"#NUM!"},{"$error":"#NUM!"},{"$error":"#NUM!"},""]
[{"$error":"#NUM!"},{"$error":"#NUM!"},{"$error":"#NUM!"},{"$error":"#NUM!"},{"$error":"#NUM!"},""]
[{"$error":"#NUM!"},{"$error":"#NUM!"},{"$error":"#NUM!"},{"$error":"#NUM!"},{"$error":"#NUM!"},""]
[{"$error":"#NUM!"},{"$error":"#NUM!"},{"$error":"#NUM!"},{"$error":"#NUM!"},{"$error":"#NUM!"},""]
[{"$error":"#NUM!"},{"$error":"#NUM!"},{"$error":"#NUM!"},{"$error":"#NUM!"},{"$error":"#NUM!"},""]
[{"$error":"#NUM!"},{"$error":"#NUM!"},{"$error":"#NUM!"},{"$error":"#NUM!"},{"$error":"#NUM!"},""]
[{"$error":"#NUM!"},{"$error":"#NUM!"},{"$error":"#NUM!"},{"$error":"#NUM!"},{"$error":"#NUM!"},""]
[{"$error":"#NUM!"},{"$error":"#NUM!"},{"$error":"#NUM!"},{"$error":"#NUM!"},{"$error":"#NUM!"},""]
[{"$error":"#NUM!"},{"$error":"#NUM!"},{"$error":"#NUM!"},{"$error":"#NUM!"},{"$error":"#NUM!"},""]
[{"$error":"#NUM!"},{"$error":"#NUM!"},{"$error":"#NUM!"},{"$error":"#NUM!"},{"$error":"#NUM!"},""]
[{"$error":"#NUM!"},{"$error":"#NUM!"},{"$error":"#NUM!"},{"$error":"#NUM!"},{"$error":"#NUM!"},""]
[{"$error":"#NUM!"},{"$error":"#NUM!"},{"$error":"#NUM!"},{"$error":"#NUM!"},{"$error":"#NUM!"},""]
[{"$error":"#NUM!"},{"$error":"#NUM!"},{"$error":"#NUM!"},{"$error":"#NUM!"},{"$error":"#NUM!"},""]
[{"$error":"#NUM!"},{"$error":"#NUM!"},{"$error":"#NUM!"},{"$error":"#NUM!"},{"$error":"#NUM!"},""]
[{"$error":"#NUM!"},{"$error":"#NUM!"},{"$error":"#NUM!"},{"$error":"#NUM!"},{"$error":"#NUM!"},""]
[{"$error":"#NUM!"},{"$error":"#NUM!"},{"$error":"#NUM!"},{"$error":"#NUM!"},{"$error":"#NUM!"},""]
[{"$error":"#NUM!"},{"$error":"#NUM!"},{"$error":"#NUM!"},{"$error":"#NUM!"},{"$error":"#NUM!"},""]
[{"$error":"#NUM!"},{"$error":"#NUM!"},{"$error":"#NUM!"},{"$error":"#NUM!"},{"$error":"#NUM!"},""]
[{"$error":"#NUM!"},{"$error":"#NUM!"},{"$error":"#NUM!"},{"$error":"#NUM!"},{"$error":"#NUM!"},""]
[{"$error":"#NUM!"},{"$error":"#NUM!"},{"$error":"#NUM!"},{"$error":"#NUM!"},{"$error":"#NUM!"},""]
[{"$error":"#NUM!"},{"$error":"#NUM!"},{"$error":"#NUM!"},{"$error":"#NUM!"},{"$error":"#NUM!"},""]
[{"$error":"#NUM!"},{"$error":"#NUM!"},{"$error":"#NUM!"},{"$error":"#NUM!"},{"$error":"#NUM!"},""]
[{"$error":"#NUM!"},{"$error":"#NUM!"},{"$error":"#NUM!"},{"$error":"#NUM!"},{"$error":"#NUM!"},""]
[{"$error":"#NUM!"},{"$error":"#NUM!"},{"$error":"#NUM!"},{"$error":"#NUM!"},{"$error":"#NUM!"},""]
[{"$error":"#NUM!"},{"$error":"#NUM!"},{"$error":"#NUM!"},{"$error":"#NUM!"},{"$error":"#NUM!"},""]
[{"$error":"#NUM!"},{"$error":"#NUM!"},{"$error":"#NUM!"},{"$error":"#NUM!"},{"$error":"#NUM!"},""]
[{"$error":"#NUM!"},{"$error":"#NUM!"},{"$error":"#NUM!"},{"$error":"#NUM!"},{"$error":"#NUM!"},""]
[{"$error":"#NUM!"},{"$error":"#NUM!"},{"$error":"#NUM!"},{"$error":"#NUM!"},{"$error":"#NUM!"},""]
[{"$error":"#NUM!"},{"$f":"\"(INT) \"&INDIRECT(ADDRESS($A383,2,,,\"Urban & Suburban Ints (MI)\"))&\" / \"&INDIRECT(ADDRESS($A383,3,,,\"Urban & Suburban Ints (MI)\"))","v":{"$error":"#NUM!"}},{"$f":"INDIRECT(ADDRESS($A383,4,,,\"Urban & Suburban Ints (MI)\"))","v":{"$error":"#NUM!"}},{"$f":"\"Type = \"&INDIRECT(ADDRESS($A383,5,,,\"Urban & Suburban Ints (MI)\"))","v":{"$error":"#NUM!"}},{"$f":"\"AADT: \"&TEXT(INDIRECT(ADDRESS($A383,8,,,\"Urban & Suburban Ints (MI)\")),\"#,##0\") & \" / \" & TEXT(INDIRECT(ADDRESS($A383,9,,,\"Urban & Suburban Ints (MI)\")),\"#,##0\")","v":{"$error":"#NUM!"}},{"$f":"IF(ISERROR(A383),\"\",INDIRECT(ADDRESS($A383,54,,,\"Urban & Suburban Ints (MI)\")))","v":""}]
[{"$f":"IF(LARGE(INDIRECT(\"'Urban & Suburban Ints (MI)'!$BB$5:$BB$1005\"),ROW()-350)=F383,MATCH(F383,INDIRECT(\"'Urban & Suburban Ints (MI)'!$BB$\"&A383+1&\":$BB1005\"),0)+A383,MATCH(LARGE(INDIRECT(\"'Urban & Suburban Ints (MI)'!$BB$5:$BB$1005\"),ROW()-350),INDIRECT(\"'Urban & Suburban Ints (MI)'!$BB$5:$BB$1005\"),0)+4)","v":{"$error":"#NUM!"}},{"$error":"#NUM!"},{"$error":"#NUM!"},{"$error":"#NUM!"},{"$error":"#NUM!"},""]
[{"$error":"#NUM!"},{"$error":"#NUM!"},{"$error":"#NUM!"},{"$error":"#NUM!"},{"$error":"#NUM!"},""]
[{"$error":"#NUM!"},{"$error":"#NUM!"},{"$error":"#NUM!"},{"$error":"#NUM!"},{"$error":"#NUM!"},""]
[{"$error":"#NUM!"},{"$error":"#NUM!"},{"$error":"#NUM!"},{"$error":"#NUM!"},{"$error":"#NUM!"},""]
[{"$error":"#NUM!"},{"$error":"#NUM!"},{"$error":"#NUM!"},{"$error":"#NUM!"},{"$error":"#NUM!"},""]
[{"$error":"#NUM!"},{"$error":"#NUM!"},{"$error":"#NUM!"},{"$error":"#NUM!"},{"$error":"#NUM!"},""]
[{"$error":"#NUM!"},{"$error":"#NUM!"},{"$error":"#NUM!"},{"$error":"#NUM!"},{"$error":"#NUM!"},""]
[{"$error":"#NUM!"},{"$error":"#NUM!"},{"$error":"#NUM!"},{"$error":"#NUM!"},{"$error":"#NUM!"},""]
[{"$error":"#NUM!"},{"$error":"#NUM!"},{"$error":"#NUM!"},{"$error":"#NUM!"},{"$error":"#NUM!"},""]
[{"$error":"#NUM!"},{"$error":"#NUM!"},{"$error":"#NUM!"},{"$error":"#NUM!"},{"$error":"#NUM!"},""]
[{"$error":"#NUM!"},{"$error":"#NUM!"},{"$error":"#NUM!"},{"$error":"#NUM!"},{"$error":"#NUM!"},""]
[{"$error":"#NUM!"},{"$error":"#NUM!"},{"$error":"#NUM!"},{"$error":"#NUM!"},{"$error":"#NUM!"},""]
[{"$error":"#NUM!"},{"$error":"#NUM!"},{"$error":"#NUM!"},{"$error":"#NUM!"},{"$error":"#NUM!"},""]
[{"$error":"#NUM!"},{"$error":"#NUM!"},{"$error":"#NUM!"},{"$error":"#NUM!"},{"$error":"#NUM!"},""]
[{"$error":"#NUM!"},{"$error":"#NUM!"},{"$error":"#NUM!"},{"$error":"#NUM!"},{"$error":"#NUM!"},""]
[{"$error":"#NUM!"},{"$error":"#NUM!"},{"$error":"#NUM!"},{"$error":"#NUM!"},{"$error":"#NUM!"},""]
[{"$error":"#NUM!"},{"$error":"#NUM!"},{"$error":"#NUM!"},{"$error":"#NUM!"},{"$error":"#NUM!"},""]

{"sheet":"RankingPredictedFI","index":22,"n_rows":400,"n_cols":14,"rows_kept":400,"cut":false,"hidden":true,"merged":[]}
[{"$f":"MATCH(LARGE(INDIRECT(\"'Rural 2-Lane Segments (MI)'!$FB$5:$FB$1005\"),ROW()),INDIRECT(\"'Rural 2-Lane Segments (MI)'!$FB$5:$FB$1005\"),0)+4","v":{"$error":"#NUM!"}},{"$f":"\"(SEG) \"&INDIRECT(ADDRESS($A1,2,,,\"Rural 2-Lane Segments (MI)\"))&\", \"&INDIRECT(ADDRESS($A1,3,,,\"Rural 2-Lane Segments (MI)\"))","v":{"$error":"#NUM!"}},{"$f":"INDIRECT(ADDRESS($A1,4,,,\"Rural 2-Lane Segments (MI)\"))","v":{"$error":"#NUM!"}},{"$f":"\"Length = \"&INDIRECT(ADDRESS($A1,7,,,\"Rural 2-Lane Segments (MI)\"))&\" mi\"","v":{"$error":"#NUM!"}},{"$f":"\"AADT: \"&TEXT(INDIRECT(ADDRESS($A1,8,,,\"Rural 2-Lane Segments (MI)\")),\"#,##0\")","v":{"$error":"#NUM!"}},{"$f":"IF(ISERROR(A1),\"\",INDIRECT(ADDRESS($A1,158,,,\"Rural 2-Lane Segments (MI)\")))","v":""},null,null,null,{"$f":"LARGE($F$1:$F$400,ROW())","v":{"$error":"#NUM!"}},{"$f":"MATCH(LARGE($F$1:$F$400,ROW()),$F$1:$F$400,0)","v":{"$error":"#NUM!"}},null,{"$f":"LARGE($F$350:$F$350,ROW())","v":{"$error":"#NUM!"}},{"$f":"IF(M1>0,MATCH(LARGE(#REF!,ROW()),#REF!,0)+350,)","v":{"$error":"#NUM!"}}]
[{"$f":"IF(LARGE(INDIRECT(\"'Rural 2-Lane Segments (MI)'!$FB$5:$FB$1005\"),ROW())=F1,MATCH(F1,INDIRECT(\"'Rural 2-Lane Segments (MI)'!$FB$\"&A1+1&\":$FB1005\"),0)+A1,MATCH(LARGE(INDIRECT(\"'Rural 2-Lane Segments (MI)'!$FB$5:$FB$1005\"),ROW()),INDIRECT(\"'Rural 2-Lane Segments (MI)'!$FB$5:$FB$1005\"),0)+4)","v":{"$error":"#NUM!"}},{"$error":"#NUM!"},{"$error":"#NUM!"},{"$error":"#NUM!"},{"$error":"#NUM!"},"",null,null,null,{"$error":"#NUM!"},{"$error":"#NUM!"}]
[{"$error":"#NUM!"},{"$error":"#NUM!"},{"$error":"#NUM!"},{"$error":"#NUM!"},{"$error":"#NUM!"},"",null,null,null,{"$error":"#NUM!"},{"$error":"#NUM!"}]
[{"$error":"#NUM!"},{"$error":"#NUM!"},{"$error":"#NUM!"},{"$error":"#NUM!"},{"$error":"#NUM!"},"",null,null,null,{"$error":"#NUM!"},{"$error":"#NUM!"}]
[{"$error":"#NUM!"},{"$error":"#NUM!"},{"$error":"#NUM!"},{"$error":"#NUM!"},{"$error":"#NUM!"},"",null,null,null,{"$error":"#NUM!"},{"$error":"#NUM!"}]
[{"$error":"#NUM!"},{"$error":"#NUM!"},{"$error":"#NUM!"},{"$error":"#NUM!"},{"$error":"#NUM!"},"",null,null,null,{"$error":"#NUM!"},{"$error":"#NUM!"}]
[{"$error":"#NUM!"},{"$error":"#NUM!"},{"$error":"#NUM!"},{"$error":"#NUM!"},{"$error":"#NUM!"},"",null,null,null,{"$error":"#NUM!"},{"$error":"#NUM!"}]
[{"$error":"#NUM!"},{"$error":"#NUM!"},{"$error":"#NUM!"},{"$error":"#NUM!"},{"$error":"#NUM!"},"",null,null,null,{"$error":"#NUM!"},{"$error":"#NUM!"}]
[{"$error":"#NUM!"},{"$error":"#NUM!"},{"$error":"#NUM!"},{"$error":"#NUM!"},{"$error":"#NUM!"},"",null,null,null,{"$error":"#NUM!"},{"$error":"#NUM!"}]
[{"$error":"#NUM!"},{"$error":"#NUM!"},{"$error":"#NUM!"},{"$error":"#NUM!"},{"$error":"#NUM!"},"",null,null,null,{"$error":"#NUM!"},{"$error":"#NUM!"}]
[{"$error":"#NUM!"},{"$error":"#NUM!"},{"$error":"#NUM!"},{"$error":"#NUM!"},{"$error":"#NUM!"},"",null,null,null,{"$error":"#NUM!"},{"$error":"#NUM!"}]
[{"$error":"#NUM!"},{"$error":"#NUM!"},{"$error":"#NUM!"},{"$error":"#NUM!"},{"$error":"#NUM!"},"",null,null,null,{"$error":"#NUM!"},{"$error":"#NUM!"}]
[{"$error":"#NUM!"},{"$error":"#NUM!"},{"$error":"#NUM!"},{"$error":"#NUM!"},{"$error":"#NUM!"},"",null,null,null,{"$error":"#NUM!"},{"$error":"#NUM!"}]
[{"$error":"#NUM!"},{"$error":"#NUM!"},{"$error":"#NUM!"},{"$error":"#NUM!"},{"$error":"#NUM!"},"",null,null,null,{"$error":"#NUM!"},{"$error":"#NUM!"}]
[{"$error":"#NUM!"},{"$error":"#NUM!"},{"$error":"#NUM!"},{"$error":"#NUM!"},{"$error":"#NUM!"},"",null,null,null,{"$error":"#NUM!"},{"$error":"#NUM!"}]
[{"$error":"#NUM!"},{"$error":"#NUM!"},{"$error":"#NUM!"},{"$error":"#NUM!"},{"$error":"#NUM!"},"",null,null,null,{"$error":"#NUM!"},{"$error":"#NUM!"}]
[{"$error":"#NUM!"},{"$error":"#NUM!"},{"$error":"#NUM!"},{"$error":"#NUM!"},{"$error":"#NUM!"},"",null,null,null,{"$error":"#NUM!"},{"$error":"#NUM!"}]
[{"$error":"#NUM!"},{"$error":"#NUM!"},{"$error":"#NUM!"},{"$error":"#NUM!"},{"$error":"#NUM!"},"",null,null,null,{"$error":"#NUM!"},{"$error":"#NUM!"}]
[{"$error":"#NUM!"},{"$error":"#NUM!"},{"$error":"#NUM!"},{"$error":"#NUM!"},{"$error":"#NUM!"},"",null,null,null,{"$error":"#NUM!"},{"$error":"#NUM!"}]
[{"$error":"#NUM!"},{"$error":"#NUM!"},{"$error":"#NUM!"},{"$error":"#NUM!"},{"$error":"#NUM!"},"",null,null,null,{"$error":"#NUM!"},{"$error":"#NUM!"}]
[{"$error":"#NUM!"},{"$error":"#NUM!"},{"$error":"#NUM!"},{"$error":"#NUM!"},{"$error":"#NUM!"},"",null,null,null,{"$error":"#NUM!"},{"$error":"#NUM!"}]
[{"$error":"#NUM!"},{"$error":"#NUM!"},{"$error":"#NUM!"},{"$error":"#NUM!"},{"$error":"#NUM!"},"",null,null,null,{"$error":"#NUM!"},{"$error":"#NUM!"}]
[{"$error":"#NUM!"},{"$error":"#NUM!"},{"$error":"#NUM!"},{"$error":"#NUM!"},{"$error":"#NUM!"},"",null,null,null,{"$error":"#NUM!"},{"$error":"#NUM!"}]
[{"$error":"#NUM!"},{"$error":"#NUM!"},{"$error":"#NUM!"},{"$error":"#NUM!"},{"$error":"#NUM!"},"",null,null,null,{"$error":"#NUM!"},{"$error":"#NUM!"}]
[{"$error":"#NUM!"},{"$error":"#NUM!"},{"$error":"#NUM!"},{"$error":"#NUM!"},{"$error":"#NUM!"},"",null,null,null,{"$error":"#NUM!"},{"$error":"#NUM!"}]
[{"$error":"#NUM!"},{"$error":"#NUM!"},{"$error":"#NUM!"},{"$error":"#NUM!"},{"$error":"#NUM!"},"",null,null,null,{"$error":"#NUM!"},{"$error":"#NUM!"}]
[{"$error":"#NUM!"},{"$error":"#NUM!"},{"$error":"#NUM!"},{"$error":"#NUM!"},{"$error":"#NUM!"},"",null,null,null,{"$error":"#NUM!"},{"$error":"#NUM!"}]
[{"$error":"#NUM!"},{"$error":"#NUM!"},{"$error":"#NUM!"},{"$error":"#NUM!"},{"$error":"#NUM!"},"",null,null,null,{"$error":"#NUM!"},{"$error":"#NUM!"}]
[{"$error":"#NUM!"},{"$error":"#NUM!"},{"$error":"#NUM!"},{"$error":"#NUM!"},{"$error":"#NUM!"},"",null,null,null,{"$error":"#NUM!"},{"$error":"#NUM!"}]
[{"$error":"#NUM!"},{"$error":"#NUM!"},{"$error":"#NUM!"},{"$error":"#NUM!"},{"$error":"#NUM!"},"",null,null,null,{"$error":"#NUM!"},{"$error":"#NUM!"}]
[{"$error":"#NUM!"},{"$error":"#NUM!"},{"$error":"#NUM!"},{"$error":"#NUM!"},{"$error":"#NUM!"},"",null,null,null,{"$error":"#NUM!"},{"$error":"#NUM!"}]
[{"$error":"#NUM!"},{"$error":"#NUM!"},{"$error":"#NUM!"},{"$error":"#NUM!"},{"$error":"#NUM!"},"",null,null,null,{"$error":"#NUM!"},{"$error":"#NUM!"}]
[{"$error":"#NUM!"},{"$f":"\"(SEG) \"&INDIRECT(ADDRESS($A33,2,,,\"Rural 2-Lane Segments (MI)\"))&\", \"&INDIRECT(ADDRESS($A33,3,,,\"Rural 2-Lane Segments (MI)\"))","v":{"$error":"#NUM!"}},{"$f":"INDIRECT(ADDRESS($A33,4,,,\"Rural 2-Lane Segments (MI)\"))","v":{"$error":"#NUM!"}},{"$f":"\"Length = \"&INDIRECT(ADDRESS($A33,7,,,\"Rural 2-Lane Segments (MI)\"))&\" mi\"","v":{"$error":"#NUM!"}},{"$f":"\"AADT: \"&TEXT(INDIRECT(ADDRESS($A33,8,,,\"Rural 2-Lane Segments (MI)\")),\"#,##0\")","v":{"$error":"#NUM!"}},{"$f":"IF(ISERROR(A33),\"\",INDIRECT(ADDRESS($A33,158,,,\"Rural 2-Lane Segments (MI)\")))","v":""},null,null,null,{"$f":"LARGE($F$1:$F$400,ROW())","v":{"$error":"#NUM!"}},{"$f":"MATCH(LARGE($F$1:$F$400,ROW()),$F$1:$F$400,0)","v":{"$error":"#NUM!"}}]
[{"$f":"IF(LARGE(INDIRECT(\"'Rural 2-Lane Segments (MI)'!$FB$5:$FB$1005\"),ROW())=F33,MATCH(F33,INDIRECT(\"'Rural 2-Lane Segments (MI)'!$FB$\"&A33+1&\":$FB1005\"),0)+A33,MATCH(LARGE(INDIRECT(\"'Rural 2-Lane Segments (MI)'!$FB$5:$FB$1005\"),ROW()),INDIRECT(\"'Rural 2-Lane Segments (MI)'!$FB$5:$FB$1005\"),0)+4)","v":{"$error":"#NUM!"}},{"$error":"#NUM!"},{"$error":"#NUM!"},{"$error":"#NUM!"},{"$error":"#NUM!"},"",null,null,null,{"$error":"#NUM!"},{"$error":"#NUM!"}]
[{"$error":"#NUM!"},{"$error":"#NUM!"},{"$error":"#NUM!"},{"$error":"#NUM!"},{"$error":"#NUM!"},"",null,null,null,{"$error":"#NUM!"},{"$error":"#NUM!"}]
[{"$error":"#NUM!"},{"$error":"#NUM!"},{"$error":"#NUM!"},{"$error":"#NUM!"},{"$error":"#NUM!"},"",null,null,null,{"$error":"#NUM!"},{"$error":"#NUM!"}]
[{"$error":"#NUM!"},{"$error":"#NUM!"},{"$error":"#NUM!"},{"$error":"#NUM!"},{"$error":"#NUM!"},"",null,null,null,{"$error":"#NUM!"},{"$error":"#NUM!"}]
[{"$error":"#NUM!"},{"$error":"#NUM!"},{"$error":"#NUM!"},{"$error":"#NUM!"},{"$error":"#NUM!"},"",null,null,null,{"$error":"#NUM!"},{"$error":"#NUM!"}]
[{"$error":"#NUM!"},{"$error":"#NUM!"},{"$error":"#NUM!"},{"$error":"#NUM!"},{"$error":"#NUM!"},"",null,null,null,{"$error":"#NUM!"},{"$error":"#NUM!"}]
[{"$error":"#NUM!"},{"$error":"#NUM!"},{"$error":"#NUM!"},{"$error":"#NUM!"},{"$error":"#NUM!"},"",null,null,null,{"$error":"#NUM!"},{"$error":"#NUM!"}]
[{"$error":"#NUM!"},{"$error":"#NUM!"},{"$error":"#NUM!"},{"$error":"#NUM!"},{"$error":"#NUM!"},"",null,null,null,{"$error":"#NUM!"},{"$error":"#NUM!"}]
[{"$error":"#NUM!"},{"$error":"#NUM!"},{"$error":"#NUM!"},{"$error":"#NUM!"},{"$error":"#NUM!"},"",null,null,null,{"$error":"#NUM!"},{"$error":"#NUM!"}]
[{"$error":"#NUM!"},{"$error":"#NUM!"},{"$error":"#NUM!"},{"$error":"#NUM!"},{"$error":"#NUM!"},"",null,null,null,{"$error":"#NUM!"},{"$error":"#NUM!"}]
[{"$error":"#NUM!"},{"$error":"#NUM!"},{"$error":"#NUM!"},{"$error":"#NUM!"},{"$error":"#NUM!"},"",null,null,null,{"$error":"#NUM!"},{"$error":"#NUM!"}]
[{"$error":"#NUM!"},{"$error":"#NUM!"},{"$error":"#NUM!"},{"$error":"#NUM!"},{"$error":"#NUM!"},"",null,null,null,{"$error":"#NUM!"},{"$error":"#NUM!"}]
[{"$error":"#NUM!"},{"$error":"#NUM!"},{"$error":"#NUM!"},{"$error":"#NUM!"},{"$error":"#NUM!"},"",null,null,null,{"$error":"#NUM!"},{"$error":"#NUM!"}]
[{"$error":"#NUM!"},{"$error":"#NUM!"},{"$error":"#NUM!"},{"$error":"#NUM!"},{"$error":"#NUM!"},"",null,null,null,{"$error":"#NUM!"},{"$error":"#NUM!"}]
[{"$error":"#NUM!"},{"$error":"#NUM!"},{"$error":"#NUM!"},{"$error":"#NUM!"},{"$error":"#NUM!"},"",null,null,null,{"$error":"#NUM!"},{"$error":"#NUM!"}]
[{"$error":"#NUM!"},{"$error":"#NUM!"},{"$error":"#NUM!"},{"$error":"#NUM!"},{"$error":"#NUM!"},"",null,null,null,{"$error":"#NUM!"},{"$error":"#NUM!"}]
[{"$error":"#NUM!"},{"$error":"#NUM!"},{"$error":"#NUM!"},{"$error":"#NUM!"},{"$error":"#NUM!"},"",null,null,null,{"$error":"#NUM!"},{"$error":"#NUM!"}]
[{"$f":"MATCH(LARGE(INDIRECT(\"'Rural County FA Segs (MI)'!$DN$5:$DN$1005\"),ROW()-50),INDIRECT(\"'Rural County FA Segs (MI)'!$DN$5:$DN$1005\"),0)+4","v":{"$error":"#NUM!"}},{"$f":"\"(SEG) \"&INDIRECT(ADDRESS($A51,2,,,\"Rural County FA Segs (MI)\"))&\", \"&INDIRECT(ADDRESS($A51,3,,,\"Rural County FA Segs (MI)\"))","v":{"$error":"#NUM!"}},{"$f":"INDIRECT(ADDRESS($A51,4,,,\"Rural County FA Segs (MI)\"))","v":{"$error":"#NUM!"}},{"$f":"\"Length = \"&INDIRECT(ADDRESS($A51,5,,,\"Rural County FA Segs (MI)\"))&\" mi\"","v":{"$error":"#NUM!"}},{"$f":"\"AADT: \"&TEXT(INDIRECT(ADDRESS($A51,6,,,\"Rural County FA Segs (MI)\")),\"#,##0\")","v":{"$error":"#NUM!"}},{"$f":"IF(ISERROR(A51),\"\",INDIRECT(ADDRESS($A51,118,,,\"Rural County FA Segs (MI)\")))","v":""}]
[{"$f":"IF(LARGE(INDIRECT(\"'Rural County FA Segs (MI)'!$DN$5:$DN$1005\"),ROW()-50)=F51,MATCH(F51,INDIRECT(\"'Rural County FA Segs (MI)'!$DN$\"&A51+1&\":$DN1005\"),0)+A51,MATCH(LARGE(INDIRECT(\"'Rural County FA Segs (MI)'!$DN$5:$DN$1005\"),ROW()-50),INDIRECT(\"'Rural County FA Segs (MI)'!$DN$5:$DN$1005\"),0)+4)","v":{"$error":"#NUM!"}},{"$error":"#NUM!"},{"$error":"#NUM!"},{"$error":"#NUM!"},{"$error":"#NUM!"},""]
[{"$error":"#NUM!"},{"$error":"#NUM!"},{"$error":"#NUM!"},{"$error":"#NUM!"},{"$error":"#NUM!"},""]
[{"$error":"#NUM!"},{"$error":"#NUM!"},{"$error":"#NUM!"},{"$error":"#NUM!"},{"$error":"#NUM!"},""]
[{"$error":"#NUM!"},{"$error":"#NUM!"},{"$error":"#NUM!"},{"$error":"#NUM!"},{"$error":"#NUM!"},""]
[{"$error":"#NUM!"},{"$error":"#NUM!"},{"$error":"#NUM!"},{"$error":"#NUM!"},{"$error":"#NUM!"},""]
[{"$error":"#NUM!"},{"$error":"#NUM!"},{"$error":"#NUM!"},{"$error":"#NUM!"},{"$error":"#NUM!"},""]
[{"$error":"#NUM!"},{"$error":"#NUM!"},{"$error":"#NUM!"},{"$error":"#NUM!"},{"$error":"#NUM!"},""]
[{"$error":"#NUM!"},{"$error":"#NUM!"},{"$error":"#NUM!"},{"$error":"#NUM!"},{"$error":"#NUM!"},""]
[{"$error":"#NUM!"},{"$error":"#NUM!"},{"$error":"#NUM!"},{"$error":"#NUM!"},{"$error":"#NUM!"},""]
[{"$error":"#NUM!"},{"$error":"#NUM!"},{"$error":"#NUM!"},{"$error":"#NUM!"},{"$error":"#NUM!"},""]
[{"$error":"#NUM!"},{"$error":"#NUM!"},{"$error":"#NUM!"},{"$error":"#NUM!"},{"$error":"#NUM!"},""]
[{"$error":"#NUM!"},{"$error":"#NUM!"},{"$error":"#NUM!"},{"$error":"#NUM!"},{"$error":"#NUM!"},""]
[{"$error":"#NUM!"},{"$error":"#NUM!"},{"$error":"#NUM!"},{"$error":"#NUM!"},{"$error":"#NUM!"},""]
[{"$error":"#NUM!"},{"$error":"#NUM!"},{"$error":"#NUM!"},{"$error":"#NUM!"},{"$error":"#NUM!"},""]
[{"$error":"#NUM!"},{"$error":"#NUM!"},{"$error":"#NUM!"},{"$error":"#NUM!"},{"$error":"#NUM!"},""]
[{"$error":"#NUM!"},{"$error":"#NUM!"},{"$error":"#NUM!"},{"$error":"#NUM!"},{"$error":"#NUM!"},""]
[{"$error":"#NUM!"},{"$error":"#NUM!"},{"$error":"#NUM!"},{"$error":"#NUM!"},{"$error":"#NUM!"},""]
[{"$error":"#NUM!"},{"$error":"#NUM!"},{"$error":"#NUM!"},{"$error":"#NUM!"},{"$error":"#NUM!"},""]
[{"$error":"#NUM!"},{"$error":"#NUM!"},{"$error":"#NUM!"},{"$error":"#NUM!"},{"$error":"#NUM!"},""]
[{"$error":"#NUM!"},{"$error":"#NUM!"},{"$error":"#NUM!"},{"$error":"#NUM!"},{"$error":"#NUM!"},""]
[{"$error":"#NUM!"},{"$error":"#NUM!"},{"$error":"#NUM!"},{"$error":"#NUM!"},{"$error":"#NUM!"},""]
[{"$error":"#NUM!"},{"$error":"#NUM!"},{"$error":"#NUM!"},{"$error":"#NUM!"},{"$error":"#NUM!"},""]
[{"$error":"#NUM!"},{"$error":"#NUM!"},{"$error":"#NUM!"},{"$error":"#NUM!"},{"$error":"#NUM!"},""]
[{"$error":"#NUM!"},{"$error":"#NUM!"},{"$error":"#NUM!"},{"$error":"#NUM!"},{"$error":"#NUM!"},""]
[{"$error":"#NUM!"},{"$error":"#NUM!"},{"$error":"#NUM!"},{"$error":"#NUM!"},{"$error":"#NUM!"},""]
[{"$error":"#NUM!"},{"$error":"#NUM!"},{"$error":"#NUM!"},{"$error":"#NUM!"},{"$error":"#NUM!"},""]
[{"$error":"#NUM!"},{"$error":"#NUM!"},{"$error":"#NUM!"},{"$error":"#NUM!"},{"$error":"#NUM!"},""]
[{"$error":"#NUM!"},{"$error":"#NUM!"},{"$error":"#NUM!"},{"$error":"#NUM!"},{"$error":"#NUM!"},""]
[{"$error":"#NUM!"},{"$error":"#NUM!"},{"$error":"#NUM!"},{"$error":"#NUM!"},{"$error":"#NUM!"},""]
[{"$error":"#NUM!"},{"$error":"#NUM!"},{"$error":"#NUM!"},{"$error":"#NUM!"},{"$error":"#NUM!"},""]
[{"$error":"#NUM!"},{"$error":"#NUM!"},{"$error":"#NUM!"},{"$error":"#NUM!"},{"$error":"#NUM!"},""]
[{"$error":"#NUM!"},{"$f":"\"(SEG) \"&INDIRECT(ADDRESS($A83,2,,,\"Rural County FA Segs (MI)\"))&\", \"&INDIRECT(ADDRESS($A83,3,,,\"Rural County FA Segs (MI)\"))","v":{"$error":"#NUM!"}},{"$f":"INDIRECT(ADDRESS($A83,4,,,\"Rural County FA Segs (MI)\"))","v":{"$error":"#NUM!"}},{"$f":"\"Length = \"&INDIRECT(ADDRESS($A83,5,,,\"Rural County FA Segs (MI)\"))&\" mi\"","v":{"$error":"#NUM!"}},{"$f":"\"AADT: \"&TEXT(INDIRECT(ADDRESS($A83,6,,,\"Rural County FA Segs (MI)\")),\"#,##0\")","v":{"$error":"#NUM!"}},{"$f":"IF(ISERROR(A83),\"\",INDIRECT(ADDRESS($A83,118,,,\"Rural County FA Segs (MI)\")))","v":""}]
[{"$f":"IF(LARGE(INDIRECT(\"'Rural County FA Segs (MI)'!$DN$5:$DN$1005\"),ROW()-50)=F83,MATCH(F83,INDIRECT(\"'Rural County FA Segs (MI)'!$DN$\"&A83+1&\":$DN1005\"),0)+A83,MATCH(LARGE(INDIRECT(\"'Rural County FA Segs (MI)'!$DN$5:$DN$1005\"),ROW()-50),INDIRECT(\"'Rural County FA Segs (MI)'!$DN$5:$DN$1005\"),0)+4)","v":{"$error":"#NUM!"}},{"$error":"#NUM!"},{"$error":"#NUM!"},{"$error":"#NUM!"},{"$error":"#NUM!"},""]
[{"$error":"#NUM!"},{"$error":"#NUM!"},{"$error":"#NUM!"},{"$error":"#NUM!"},{"$error":"#NUM!"},""]
[{"$error":"#NUM!"},{"$error":"#NUM!"},{"$error":"#NUM!"},{"$error":"#NUM!"},{"$error":"#NUM!"},""]
[{"$error":"#NUM!"},{"$error":"#NUM!"},{"$error":"#NUM!"},{"$error":"#NUM!"},{"$error":"#NUM!"},""]
[{"$error":"#NUM!"},{"$error":"#NUM!"},{"$error":"#NUM!"},{"$error":"#NUM!"},{"$error":"#NUM!"},""]
[{"$error":"#NUM!"},{"$error":"#NUM!"},{"$error":"#NUM!"},{"$error":"#NUM!"},{"$error":"#NUM!"},""]
[{"$error":"#NUM!"},{"$error":"#NUM!"},{"$error":"#NUM!"},{"$error":"#NUM!"},{"$error":"#NUM!"},""]
[{"$error":"#NUM!"},{"$error":"#NUM!"},{"$error":"#NUM!"},{"$error":"#NUM!"},{"$error":"#NUM!"},""]
[{"$error":"#NUM!"},{"$error":"#NUM!"},{"$error":"#NUM!"},{"$error":"#NUM!"},{"$error":"#NUM!"},""]
[{"$error":"#NUM!"},{"$error":"#NUM!"},{"$error":"#NUM!"},{"$error":"#NUM!"},{"$error":"#NUM!"},""]
[{"$error":"#NUM!"},{"$error":"#NUM!"},{"$error":"#NUM!"},{"$error":"#NUM!"},{"$error":"#NUM!"},""]
[{"$error":"#NUM!"},{"$error":"#NUM!"},{"$error":"#NUM!"},{"$error":"#NUM!"},{"$error":"#NUM!"},""]
[{"$error":"#NUM!"},{"$error":"#NUM!"},{"$error":"#NUM!"},{"$error":"#NUM!"},{"$error":"#NUM!"},""]
[{"$error":"#NUM!"},{"$error":"#NUM!"},{"$error":"#NUM!"},{"$error":"#NUM!"},{"$error":"#NUM!"},""]
[{"$error":"#NUM!"},{"$error":"#NUM!"},{"$error":"#NUM!"},{"$error":"#NUM!"},{"$error":"#NUM!"},""]
[{"$error":"#NUM!"},{"$error":"#NUM!"},{"$error":"#NUM!"},{"$error":"#NUM!"},{"$error":"#NUM!"},""]
[{"$error":"#NUM!"},{"$error":"#NUM!"},{"$error":"#NUM!"},{"$error":"#NUM!"},{"$error":"#NUM!"},""]
[{"$f":"MATCH(LARGE(INDIRECT(\"'Rural County Non-FA Segs (MI)'!$CP$5:$CP$1005\"),ROW()-100),INDIRECT(\"'Rural County Non-FA Segs (MI)'!$CP$5:$CP$1005\"),0)+4","v":{"$error":"#NUM!"}},{"$f":"\"(SEG) \"&INDIRECT(ADDRESS($A101,2,,,\"Rural County Non-FA Segs (MI)\"))&\", \"&INDIRECT(ADDRESS($A101,3,,,\"Rural County Non-FA Segs (MI)\"))","v":{"$error":"#NUM!"}},{"$f":"INDIRECT(ADDRESS($A101,4,,,\"Rural County Non-FA Segs (MI)\"))","v":{"$error":"#NUM!"}},{"$f":"\"Length = \"&INDIRECT(ADDRESS($A101,6,,,\"Rural County Non-FA Segs (MI)\"))&\" mi\"","v":{"$error":"#NUM!"}},{"$f":"\"AADT: \"&TEXT(INDIRECT(ADDRESS($A101,7,,,\"Rural County Non-FA Segs (MI)\")),\"#,##0\")","v":{"$error":"#NUM!"}},{"$f":"IF(ISERROR(A101),\"\",INDIRECT(ADDRESS($A101,94,,,\"Rural County Non-FA Segs (MI)\")))","v":""}]
[{"$f":"IF(LARGE(INDIRECT(\"'Rural County Non-FA Segs (MI)'!$CP$5:$CP$1005\"),ROW()-100)=F101,MATCH(F101,INDIRECT(\"'Rural County Non-FA Segs (MI)'!$CP$\"&A101+1&\":$CP1005\"),0)+A101,MATCH(LARGE(INDIRECT(\"'Rural County Non-FA Segs (MI)'!$CP$5:$CP$1005\"),ROW()-100),INDIRECT(\"'Rural County Non-FA Segs (MI)'!$CP$5:$CP$1005\"),0)+4)","v":{"$error":"#NUM!"}},{"$error":"#NUM!"},{"$error":"#NUM!"},{"$error":"#NUM!"},{"$error":"#NUM!"},""]
[{"$error":"#NUM!"},{"$error":"#NUM!"},{"$error":"#NUM!"},{"$error":"#NUM!"},{"$error":"#NUM!"},""]
[{"$error":"#NUM!"},{"$error":"#NUM!"},{"$error":"#NUM!"},{"$error":"#NUM!"},{"$error":"#NUM!"},""]
[{"$error":"#NUM!"},{"$error":"#NUM!"},{"$error":"#NUM!"},{"$error":"#NUM!"},{"$error":"#NUM!"},""]
[{"$error":"#NUM!"},{"$error":"#NUM!"},{"$error":"#NUM!"},{"$error":"#NUM!"},{"$error":"#NUM!"},""]
[{"$error":"#NUM!"},{"$error":"#NUM!"},{"$error":"#NUM!"},{"$error":"#NUM!"},{"$error":"#NUM!"},""]
[{"$error":"#NUM!"},{"$error":"#NUM!"},{"$error":"#NUM!"},{"$error":"#NUM!"},{"$error":"#NUM!"},""]
[{"$error":"#NUM!"},{"$error":"#NUM!"},{"$error":"#NUM!"},{"$error":"#NUM!"},{"$error":"#NUM!"},""]
[{"$error":"#NUM!"},{"$error":"#NUM!"},{"$error":"#NUM!"},{"$error":"#NUM!"},{"$error":"#NUM!"},""]
[{"$error":"#NUM!"},{"$error":"#NUM!"},{"$error":"#NUM!"},{"$error":"#NUM!"},{"$error":"#NUM!"},""]
[{"$error":"#NUM!"},{"$error":"#NUM!"},{"$error":"#NUM!"},{"$error":"#NUM!"},{"$error":"#NUM!"},""]
[{"$error":"#NUM!"},{"$error":"#NUM!"},{"$error":"#NUM!"},{"$error":"#NUM!"},{"$error":"#NUM!"},""]
[{"$error":"#NUM!"},{"$error":"#NUM!"},{"$error":"#NUM!"},{"$error":"#NUM!"},{"$error":"#NUM!"},""]
[{"$error":"#NUM!"},{"$error":"#NUM!"},{"$error":"#NUM!"},{"$error":"#NUM!"},{"$error":"#NUM!"},""]
[{"$error":"#NUM!"},{"$error":"#NUM!"},{"$error":"#NUM!"},{"$error":"#NUM!"},{"$error":"#NUM!"},""]
[{"$error":"#NUM!"},{"$error":"#NUM!"},{"$error":"#NUM!"},{"$error":"#NUM!"},{"$error":"#NUM!"},""]
[{"$error":"#NUM!"},{"$error":"#NUM!"},{"$error":"#NUM!"},{"$error":"#NUM!"},{"$error":"#NUM!"},""]
[{"$error":"#NUM!"},{"$error":"#NUM!"},{"$error":"#NUM!"},{"$error":"#NUM!"},{"$error":"#NUM!"},""]
[{"$error":"#NUM!"},{"$error":"#NUM!"},{"$error":"#NUM!"},{"$error":"#NUM!"},{"$error":"#NUM!"},""]
[{"$error":"#NUM!"},{"$error":"#NUM!"},{"$error":"#NUM!"},{"$error":"#NUM!"},{"$error":"#NUM!"},""]
[{"$error":"#NUM!"},{"$error":"#NUM!"},{"$error":"#NUM!"},{"$error":"#NUM!"},{"$error":"#NUM!"},""]
[{"$error":"#NUM!"},{"$error":"#NUM!"},{"$error":"#NUM!"},{"$error":"#NUM!"},{"$error":"#NUM!"},""]
[{"$error":"#NUM!"},{"$error":"#NUM!"},{"$error":"#NUM!"},{"$error":"#NUM!"},{"$error":"#NUM!"},""]
[{"$error":"#NUM!"},{"$error":"#NUM!"},{"$error":"#NUM!"},{"$error":"#NUM!"},{"$error":"#NUM!"},""]
[{"$error":"#NUM!"},{"$error":"#NUM!"},{"$error":"#NUM!"},{"$error":"#NUM!"},{"$error":"#NUM!"},""]
[{"$error":"#NUM!"},{"$error":"#NUM!"},{"$error":"#NUM!"},{"$error":"#NUM!"},{"$error":"#NUM!"},""]
[{"$error":"#NUM!"},{"$error":"#NUM!"},{"$error":"#NUM!"},{"$error":"#NUM!"},{"$error":"#NUM!"},""]
[{"$error":"#NUM!"},{"$error":"#NUM!"},{"$error":"#NUM!"},{"$error":"#NUM!"},{"$error":"#NUM!"},""]
[{"$error":"#NUM!"},{"$error":"#NUM!"},{"$error":"#NUM!"},{"$error":"#NUM!"},{"$error":"#NUM!"},""]
[{"$error":"#NUM!"},{"$error":"#NUM!"},{"$error":"#NUM!"},{"$error":"#NUM!"},{"$error":"#NUM!"},""]
[{"$error":"#NUM!"},{"$error":"#NUM!"},{"$error":"#NUM!"},{"$error":"#NUM!"},{"$error":"#NUM!"},""]
[{"$error":"#NUM!"},{"$f":"\"(SEG) \"&INDIRECT(ADDRESS($A133,2,,,\"Rural County Non-FA Segs (MI)\"))&\", \"&INDIRECT(ADDRESS($A133,3,,,\"Rural County Non-FA Segs (MI)\"))","v":{"$error":"#NUM!"}},{"$f":"INDIRECT(ADDRESS($A133,4,,,\"Rural County Non-FA Segs (MI)\"))","v":{"$error":"#NUM!"}},{"$f":"\"Length = \"&INDIRECT(ADDRESS($A133,6,,,\"Rural County Non-FA Segs (MI)\"))&\" mi\"","v":{"$error":"#NUM!"}},{"$f":"\"AADT: \"&TEXT(INDIRECT(ADDRESS($A133,7,,,\"Rural County Non-FA Segs (MI)\")),\"#,##0\")","v":{"$error":"#NUM!"}},{"$f":"IF(ISERROR(A133),\"\",INDIRECT(ADDRESS($A133,94,,,\"Rural County Non-FA Segs (MI)\")))","v":""}]
[{"$f":"IF(LARGE(INDIRECT(\"'Rural County Non-FA Segs (MI)'!$CP$5:$CP$1005\"),ROW()-100)=F133,MATCH(F133,INDIRECT(\"'Rural County Non-FA Segs (MI)'!$CP$\"&A133+1&\":$CP1005\"),0)+A133,MATCH(LARGE(INDIRECT(\"'Rural County Non-FA Segs (MI)'!$CP$5:$CP$1005\"),ROW()-100),INDIRECT(\"'Rural County Non-FA Segs (MI)'!$CP$5:$CP$1005\"),0)+4)","v":{"$error":"#NUM!"}},{"$error":"#NUM!"},{"$error":"#NUM!"},{"$error":"#NUM!"},{"$error":"#NUM!"},""]
[{"$error":"#NUM!"},{"$error":"#NUM!"},{"$error":"#NUM!"},{"$error":"#NUM!"},{"$error":"#NUM!"},""]
[{"$error":"#NUM!"},{"$error":"#NUM!"},{"$error":"#NUM!"},{"$error":"#NUM!"},{"$error":"#NUM!"},""]
[{"$error":"#NUM!"},{"$error":"#NUM!"},{"$error":"#NUM!"},{"$error":"#NUM!"},{"$error":"#NUM!"},""]
[{"$error":"#NUM!"},{"$error":"#NUM!"},{"$error":"#NUM!"},{"$error":"#NUM!"},{"$error":"#NUM!"},""]
[{"$error":"#NUM!"},{"$error":"#NUM!"},{"$error":"#NUM!"},{"$error":"#NUM!"},{"$error":"#NUM!"},""]
[{"$error":"#NUM!"},{"$error":"#NUM!"},{"$error":"#NUM!"},{"$error":"#NUM!"},{"$error":"#NUM!"},""]
[{"$error":"#NUM!"},{"$error":"#NUM!"},{"$error":"#NUM!"},{"$error":"#NUM!"},{"$error":"#NUM!"},""]
[{"$error":"#NUM!"},{"$error":"#NUM!"},{"$error":"#NUM!"},{"$error":"#NUM!"},{"$error":"#NUM!"},""]
[{"$error":"#NUM!"},{"$error":"#NUM!"},{"$error":"#NUM!"},{"$error":"#NUM!"},{"$error":"#NUM!"},""]
[{"$error":"#NUM!"},{"$error":"#NUM!"},{"$error":"#NUM!"},{"$error":"#NUM!"},{"$error":"#NUM!"},""]
[{"$error":"#NUM!"},{"$error":"#NUM!"},{"$error":"#NUM!"},{"$error":"#NUM!"},{"$error":"#NUM!"},""]
[{"$error":"#NUM!"},{"$error":"#NUM!"},{"$error":"#NUM!"},{"$error":"#NUM!"},{"$error":"#NUM!"},""]
[{"$error":"#NUM!"},{"$error":"#NUM!"},{"$error":"#NUM!"},{"$error":"#NUM!"},{"$error":"#NUM!"},""]
[{"$error":"#NUM!"},{"$error":"#NUM!"},{"$error":"#NUM!"},{"$error":"#NUM!"},{"$error":"#NUM!"},""]
[{"$error":"#NUM!"},{"$error":"#NUM!"},{"$error":"#NUM!"},{"$error":"#NUM!"},{"$error":"#NUM!"},""]
[{"$error":"#NUM!"},{"$error":"#NUM!"},{"$error":"#NUM!"},{"$error":"#NUM!"},{"$error":"#NUM!"},""]
[{"$f":"MATCH(LARGE(INDIRECT(\"'Rural Multilane Segments (MI)'!$DS$5:$DS$1005\"),ROW()-150),INDIRECT(\"'Rural Multilane Segments (MI)'!$DS$5:$DS$1005\"),0)+4","v":{"$error":"#NUM!"}},{"$f":"\"(SEG) \"&INDIRECT(ADDRESS($A151,2,,,\"Rural Multilane Segments (MI)\"))&\", \"&INDIRECT(ADDRESS($A151,3,,,\"Rural Multilane Segments (MI)\"))","v":{"$error":"#NUM!"}},{"$f":"INDIRECT(ADDRESS($A151,4,,,\"Rural Multilane Segments (MI)\"))","v":{"$error":"#NUM!"}},{"$f":"\"Length = \"&INDIRECT(ADDRESS($A151,8,,,\"Rural Multilane Segments (MI)\"))&\" mi\"","v":{"$error":"#NUM!"}},{"$f":"\"AADT: \"&TEXT(INDIRECT(ADDRESS($A151,9,,,\"Rural Multilane Segments (MI)\")),\"#,##0\")","v":{"$error":"#NUM!"}},{"$f":"IF(ISERROR(A151),\"\",INDIRECT(ADDRESS($A151,123,,,\"Rural Multilane Segments (MI)\")))","v":""}]
[{"$f":"IF(LARGE(INDIRECT(\"'Rural Multilane Segments (MI)'!$DS$5:$DS$1005\"),ROW()-150)=F151,MATCH(F151,INDIRECT(\"'Rural Multilane Segments (MI)'!$DS$\"&A151+1&\":$DS1005\"),0)+A151,MATCH(LARGE(INDIRECT(\"'Rural Multilane Segments (MI)'!$DS$5:$DS$1005\"),ROW()-150),INDIRECT(\"'Rural Multilane Segments (MI)'!$DS$5:$DS$1005\"),0)+4)","v":{"$error":"#NUM!"}},{"$error":"#NUM!"},{"$error":"#NUM!"},{"$error":"#NUM!"},{"$error":"#NUM!"},""]
[{"$error":"#NUM!"},{"$error":"#NUM!"},{"$error":"#NUM!"},{"$error":"#NUM!"},{"$error":"#NUM!"},""]
[{"$error":"#NUM!"},{"$error":"#NUM!"},{"$error":"#NUM!"},{"$error":"#NUM!"},{"$error":"#NUM!"},""]
[{"$error":"#NUM!"},{"$error":"#NUM!"},{"$error":"#NUM!"},{"$error":"#NUM!"},{"$error":"#NUM!"},""]
[{"$error":"#NUM!"},{"$error":"#NUM!"},{"$error":"#NUM!"},{"$error":"#NUM!"},{"$error":"#NUM!"},""]
[{"$error":"#NUM!"},{"$error":"#NUM!"},{"$error":"#NUM!"},{"$error":"#NUM!"},{"$error":"#NUM!"},""]
[{"$error":"#NUM!"},{"$error":"#NUM!"},{"$error":"#NUM!"},{"$error":"#NUM!"},{"$error":"#NUM!"},""]
[{"$error":"#NUM!"},{"$error":"#NUM!"},{"$error":"#NUM!"},{"$error":"#NUM!"},{"$error":"#NUM!"},""]
[{"$error":"#NUM!"},{"$error":"#NUM!"},{"$error":"#NUM!"},{"$error":"#NUM!"},{"$error":"#NUM!"},""]
[{"$error":"#NUM!"},{"$error":"#NUM!"},{"$error":"#NUM!"},{"$error":"#NUM!"},{"$error":"#NUM!"},""]
[{"$error":"#NUM!"},{"$error":"#NUM!"},{"$error":"#NUM!"},{"$error":"#NUM!"},{"$error":"#NUM!"},""]
[{"$error":"#NUM!"},{"$error":"#NUM!"},{"$error":"#NUM!"},{"$error":"#NUM!"},{"$error":"#NUM!"},""]
[{"$error":"#NUM!"},{"$error":"#NUM!"},{"$error":"#NUM!"},{"$error":"#NUM!"},{"$error":"#NUM!"},""]
[{"$error":"#NUM!"},{"$error":"#NUM!"},{"$error":"#NUM!"},{"$error":"#NUM!"},{"$error":"#NUM!"},""]
[{"$error":"#NUM!"},{"$error":"#NUM!"},{"$error":"#NUM!"},{"$error":"#NUM!"},{"$error":"#NUM!"},""]
[{"$error":"#NUM!"},{"$error":"#NUM!"},{"$error":"#NUM!"},{"$error":"#NUM!"},{"$error":"#NUM!"},""]
[{"$error":"#NUM!"},{"$error":"#NUM!"},{"$error":"#NUM!"},{"$error":"#NUM!"},{"$error":"#NUM!"},""]
[{"$error":"#NUM!"},{"$error":"#NUM!"},{"$error":"#NUM!"},{"$error":"#NUM!"},{"$error":"#NUM!"},""]
[{"$error":"#NUM!"},{"$error":"#NUM!"},{"$error":"#NUM!"},{"$error":"#NUM!"},{"$error":"#NUM!"},""]
[{"$error":"#NUM!"},{"$error":"#NUM!"},{"$error":"#NUM!"},{"$error":"#NUM!"},{"$error":"#NUM!"},""]
[{"$error":"#NUM!"},{"$error":"#NUM!"},{"$error":"#NUM!"},{"$error":"#NUM!"},{"$error":"#NUM!"},""]
[{"$error":"#NUM!"},{"$error":"#NUM!"},{"$error":"#NUM!"},{"$error":"#NUM!"},{"$error":"#NUM!"},""]
[{"$error":"#NUM!"},{"$error":"#NUM!"},{"$error":"#NUM!"},{"$error":"#NUM!"},{"$error":"#NUM!"},""]
[{"$error":"#NUM!"},{"$error":"#NUM!"},{"$error":"#NUM!"},{"$error":"#NUM!"},{"$error":"#NUM!"},""]
[{"$error":"#NUM!"},{"$error":"#NUM!"},{"$error":"#NUM!"},{"$error":"#NUM!"},{"$error":"#NUM!"},""]
[{"$error":"#NUM!"},{"$error":"#NUM!"},{"$error":"#NUM!"},{"$error":"#NUM!"},{"$error":"#NUM!"},""]
[{"$error":"#NUM!"},{"$error":"#NUM!"},{"$error":"#NUM!"},{"$error":"#NUM!"},{"$error":"#NUM!"},""]
[{"$error":"#NUM!"},{"$error":"#NUM!"},{"$error":"#NUM!"},{"$error":"#NUM!"},{"$error":"#NUM!"},""]
[{"$error":"#NUM!"},{"$error":"#NUM!"},{"$error":"#NUM!"},{"$error":"#NUM!"},{"$error":"#NUM!"},""]
[{"$error":"#NUM!"},{"$error":"#NUM!"},{"$error":"#NUM!"},{"$error":"#NUM!"},{"$error":"#NUM!"},""]
[{"$error":"#NUM!"},{"$error":"#NUM!"},{"$error":"#NUM!"},{"$error":"#NUM!"},{"$error":"#NUM!"},""]
[{"$error":"#NUM!"},{"$f":"\"(SEG) \"&INDIRECT(ADDRESS($A183,2,,,\"Rural Multilane Segments (MI)\"))&\", \"&INDIRECT(ADDRESS($A183,3,,,\"Rural Multilane Segments (MI)\"))","v":{"$error":"#NUM!"}},{"$f":"INDIRECT(ADDRESS($A183,4,,,\"Rural Multilane Segments (MI)\"))","v":{"$error":"#NUM!"}},{"$f":"\"Length = \"&INDIRECT(ADDRESS($A183,8,,,\"Rural Multilane Segments (MI)\"))&\" mi\"","v":{"$error":"#NUM!"}},{"$f":"\"AADT: \"&TEXT(INDIRECT(ADDRESS($A183,9,,,\"Rural Multilane Segments (MI)\")),\"#,##0\")","v":{"$error":"#NUM!"}},{"$f":"IF(ISERROR(A183),\"\",INDIRECT(ADDRESS($A183,123,,,\"Rural Multilane Segments (MI)\")))","v":""}]
[{"$f":"IF(LARGE(INDIRECT(\"'Rural Multilane Segments (MI)'!$DS$5:$DS$1005\"),ROW()-150)=F183,MATCH(F183,INDIRECT(\"'Rural Multilane Segments (MI)'!$DS$\"&A183+1&\":$DS1005\"),0)+A183,MATCH(LARGE(INDIRECT(\"'Rural Multilane Segments (MI)'!$DS$5:$DS$1005\"),ROW()-150),INDIRECT(\"'Rural Multilane Segments (MI)'!$DS$5:$DS$1005\"),0)+4)","v":{"$error":"#NUM!"}},{"$error":"#NUM!"},{"$error":"#NUM!"},{"$error":"#NUM!"},{"$error":"#NUM!"},""]
[{"$error":"#NUM!"},{"$error":"#NUM!"},{"$error":"#NUM!"},{"$error":"#NUM!"},{"$error":"#NUM!"},""]
[{"$error":"#NUM!"},{"$error":"#NUM!"},{"$error":"#NUM!"},{"$error":"#NUM!"},{"$error":"#NUM!"},""]
[{"$error":"#NUM!"},{"$error":"#NUM!"},{"$error":"#NUM!"},{"$error":"#NUM!"},{"$error":"#NUM!"},""]
[{"$error":"#NUM!"},{"$error":"#NUM!"},{"$error":"#NUM!"},{"$error":"#NUM!"},{"$error":"#NUM!"},""]
[{"$error":"#NUM!"},{"$error":"#NUM!"},{"$error":"#NUM!"},{"$error":"#NUM!"},{"$error":"#NUM!"},""]
[{"$error":"#NUM!"},{"$error":"#NUM!"},{"$error":"#NUM!"},{"$error":"#NUM!"},{"$error":"#NUM!"},""]
[{"$error":"#NUM!"},{"$error":"#NUM!"},{"$error":"#NUM!"},{"$error":"#NUM!"},{"$error":"#NUM!"},""]
[{"$error":"#NUM!"},{"$error":"#NUM!"},{"$error":"#NUM!"},{"$error":"#NUM!"},{"$error":"#NUM!"},""]
[{"$error":"#NUM!"},{"$error":"#NUM!"},{"$error":"#NUM!"},{"$error":"#NUM!"},{"$error":"#NUM!"},""]
[{"$error":"#NUM!"},{"$error":"#NUM!"},{"$error":"#NUM!"},{"$error":"#NUM!"},{"$error":"#NUM!"},""]
[{"$error":"#NUM!"},{"$error":"#NUM!"},{"$error":"#NUM!"},{"$error":"#NUM!"},{"$error":"#NUM!"},""]
[{"$error":"#NUM!"},{"$error":"#NUM!"},{"$error":"#NUM!"},{"$error":"#NUM!"},{"$error":"#NUM!"},""]
[{"$error":"#NUM!"},{"$error":"#NUM!"},{"$error":"#NUM!"},{"$error":"#NUM!"},{"$error":"#NUM!"},""]
[{"$error":"#NUM!"},{"$error":"#NUM!"},{"$error":"#NUM!"},{"$error":"#NUM!"},{"$error":"#NUM!"},""]
[{"$error":"#NUM!"},{"$error":"#NUM!"},{"$error":"#NUM!"},{"$error":"#NUM!"},{"$error":"#NUM!"},""]
[{"$error":"#NUM!"},{"$error":"#NUM!"},{"$error":"#NUM!"},{"$error":"#NUM!"},{"$error":"#NUM!"},""]
[{"$f":"MATCH(LARGE(INDIRECT(\"'Rural Unsignalized Int (MI)'!$EV$5:$EV$1005\"),ROW()-200),INDIRECT(\"'Rural Unsignalized Int (MI)'!$EV$5:$EV$1005\"),0)+4","v":{"$error":"#NUM!"}},{"$f":"\"(INT) \"&INDIRECT(ADDRESS($A201,2,,,\"Rural Unsignalized Int (MI)\"))&\" / \"&INDIRECT(ADDRESS($A201,3,,,\"Rural Unsignalized Int (MI)\"))","v":{"$error":"#NUM!"}},{"$f":"INDIRECT(ADDRESS($A201,4,,,\"Rural Unsignalized Int (MI)\"))","v":{"$error":"#NUM!"}},{"$f":"\"Type = \"&INDIRECT(ADDRESS($A201,7,,,\"Rural Unsignalized Int (MI)\"))","v":{"$error":"#NUM!"}},{"$f":"\"AADT: \"&TEXT(INDIRECT(ADDRESS($A201,8,,,\"Rural Unsignalized Int (MI)\")),\"#,##0\") & \" / \" & TEXT(INDIRECT(ADDRESS($A201,9,,,\"Rural Unsignalized Int (MI)\")),\"#,##0\")","v":{"$error":"#NUM!"}},{"$f":"IF(ISERROR(A201),\"\",INDIRECT(ADDRESS($A201,152,,,\"Rural Unsignalized Int (MI)\")))","v":""}]
[{"$f":"IF(LARGE(INDIRECT(\"'Rural Unsignalized Int (MI)'!$EV$5:$EV$1005\"),ROW()-200)=F201,MATCH(F201,INDIRECT(\"'Rural Unsignalized Int (MI)'!$EV$\"&A201+1&\":$EV1005\"),0)+A201,MATCH(LARGE(INDIRECT(\"'Rural Unsignalized Int (MI)'!$EV$5:$EV$1005\"),ROW()-200),INDIRECT(\"'Rural Unsignalized Int (MI)'!$EV$5:$EV$1005\"),0)+4)","v":{"$error":"#NUM!"}},{"$error":"#NUM!"},{"$error":"#NUM!"},{"$error":"#NUM!"},{"$error":"#NUM!"},""]
[{"$error":"#NUM!"},{"$error":"#NUM!"},{"$error":"#NUM!"},{"$error":"#NUM!"},{"$error":"#NUM!"},""]
[{"$error":"#NUM!"},{"$error":"#NUM!"},{"$error":"#NUM!"},{"$error":"#NUM!"},{"$error":"#NUM!"},""]
[{"$error":"#NUM!"},{"$error":"#NUM!"},{"$error":"#NUM!"},{"$error":"#NUM!"},{"$error":"#NUM!"},""]
[{"$error":"#NUM!"},{"$error":"#NUM!"},{"$error":"#NUM!"},{"$error":"#NUM!"},{"$error":"#NUM!"},""]
[{"$error":"#NUM!"},{"$error":"#NUM!"},{"$error":"#NUM!"},{"$error":"#NUM!"},{"$error":"#NUM!"},""]
[{"$error":"#NUM!"},{"$error":"#NUM!"},{"$error":"#NUM!"},{"$error":"#NUM!"},{"$error":"#NUM!"},""]
[{"$error":"#NUM!"},{"$error":"#NUM!"},{"$error":"#NUM!"},{"$error":"#NUM!"},{"$error":"#NUM!"},""]
[{"$error":"#NUM!"},{"$error":"#NUM!"},{"$error":"#NUM!"},{"$error":"#NUM!"},{"$error":"#NUM!"},""]
[{"$error":"#NUM!"},{"$error":"#NUM!"},{"$error":"#NUM!"},{"$error":"#NUM!"},{"$error":"#NUM!"},""]
[{"$error":"#NUM!"},{"$error":"#NUM!"},{"$error":"#NUM!"},{"$error":"#NUM!"},{"$error":"#NUM!"},""]
[{"$error":"#NUM!"},{"$error":"#NUM!"},{"$error":"#NUM!"},{"$error":"#NUM!"},{"$error":"#NUM!"},""]
[{"$error":"#NUM!"},{"$error":"#NUM!"},{"$error":"#NUM!"},{"$error":"#NUM!"},{"$error":"#NUM!"},""]
[{"$error":"#NUM!"},{"$error":"#NUM!"},{"$error":"#NUM!"},{"$error":"#NUM!"},{"$error":"#NUM!"},""]
[{"$error":"#NUM!"},{"$error":"#NUM!"},{"$error":"#NUM!"},{"$error":"#NUM!"},{"$error":"#NUM!"},""]
[{"$error":"#NUM!"},{"$error":"#NUM!"},{"$error":"#NUM!"},{"$error":"#NUM!"},{"$error":"#NUM!"},""]
[{"$error":"#NUM!"},{"$error":"#NUM!"},{"$error":"#NUM!"},{"$error":"#NUM!"},{"$error":"#NUM!"},""]
[{"$error":"#NUM!"},{"$error":"#NUM!"},{"$error":"#NUM!"},{"$error":"#NUM!"},{"$error":"#NUM!"},""]
[{"$error":"#NUM!"},{"$error":"#NUM!"},{"$error":"#NUM!"},{"$error":"#NUM!"},{"$error":"#NUM!"},""]
[{"$error":"#NUM!"},{"$error":"#NUM!"},{"$error":"#NUM!"},{"$error":"#NUM!"},{"$error":"#NUM!"},""]
[{"$error":"#NUM!"},{"$error":"#NUM!"},{"$error":"#NUM!"},{"$error":"#NUM!"},{"$error":"#NUM!"},""]
[{"$error":"#NUM!"},{"$error":"#NUM!"},{"$error":"#NUM!"},{"$error":"#NUM!"},{"$error":"#NUM!"},""]
[{"$error":"#NUM!"},{"$error":"#NUM!"},{"$error":"#NUM!"},{"$error":"#NUM!"},{"$error":"#NUM!"},""]
[{"$error":"#NUM!"},{"$error":"#NUM!"},{"$error":"#NUM!"},{"$error":"#NUM!"},{"$error":"#NUM!"},""]
[{"$error":"#NUM!"},{"$error":"#NUM!"},{"$error":"#NUM!"},{"$error":"#NUM!"},{"$error":"#NUM!"},""]
[{"$error":"#NUM!"},{"$error":"#NUM!"},{"$error":"#NUM!"},{"$error":"#NUM!"},{"$error":"#NUM!"},""]
[{"$error":"#NUM!"},{"$error":"#NUM!"},{"$error":"#NUM!"},{"$error":"#NUM!"},{"$error":"#NUM!"},""]
[{"$error":"#NUM!"},{"$error":"#NUM!"},{"$error":"#NUM!"},{"$error":"#NUM!"},{"$error":"#NUM!"},""]
[{"$error":"#NUM!"},{"$error":"#NUM!"},{"$error":"#NUM!"},{"$error":"#NUM!"},{"$error":"#NUM!"},""]
[{"$error":"#NUM!"},{"$error":"#NUM!"},{"$error":"#NUM!"},{"$error":"#NUM!"},{"$error":"#NUM!"},""]
[{"$error":"#NUM!"},{"$error":"#NUM!"},{"$error":"#NUM!"},{"$error":"#NUM!"},{"$error":"#NUM!"},""]
[{"$error":"#NUM!"},{"$f":"\"(INT) \"&INDIRECT(ADDRESS($A233,2,,,\"Rural Unsignalized Int (MI)\"))&\" / \"&INDIRECT(ADDRESS($A233,3,,,\"Rural Unsignalized Int (MI)\"))","v":{"$error":"#NUM!"}},{"$f":"INDIRECT(ADDRESS($A233,4,,,\"Rural Unsignalized Int (MI)\"))","v":{"$error":"#NUM!"}},{"$f":"\"Type = \"&INDIRECT(ADDRESS($A233,7,,,\"Rural Unsignalized Int (MI)\"))","v":{"$error":"#NUM!"}},{"$f":"\"AADT: \"&TEXT(INDIRECT(ADDRESS($A233,8,,,\"Rural Unsignalized Int (MI)\")),\"#,##0\") & \" / \" & TEXT(INDIRECT(ADDRESS($A233,9,,,\"Rural Unsignalized Int (MI)\")),\"#,##0\")","v":{"$error":"#NUM!"}},{"$f":"IF(ISERROR(A233),\"\",INDIRECT(ADDRESS($A233,152,,,\"Rural Unsignalized Int (MI)\")))","v":""}]
[{"$f":"IF(LARGE(INDIRECT(\"'Rural Unsignalized Int (MI)'!$EV$5:$EV$1005\"),ROW()-200)=F233,MATCH(F233,INDIRECT(\"'Rural Unsignalized Int (MI)'!$EV$\"&A233+1&\":$EV1005\"),0)+A233,MATCH(LARGE(INDIRECT(\"'Rural Unsignalized Int (MI)'!$EV$5:$EV$1005\"),ROW()-200),INDIRECT(\"'Rural Unsignalized Int (MI)'!$EV$5:$EV$1005\"),0)+4)","v":{"$error":"#NUM!"}},{"$error":"#NUM!"},{"$error":"#NUM!"},{"$error":"#NUM!"},{"$error":"#NUM!"},""]
[{"$error":"#NUM!"},{"$error":"#NUM!"},{"$error":"#NUM!"},{"$error":"#NUM!"},{"$error":"#NUM!"},""]
[{"$error":"#NUM!"},{"$error":"#NUM!"},{"$error":"#NUM!"},{"$error":"#NUM!"},{"$error":"#NUM!"},""]
[{"$error":"#NUM!"},{"$error":"#NUM!"},{"$error":"#NUM!"},{"$error":"#NUM!"},{"$error":"#NUM!"},""]
[{"$error":"#NUM!"},{"$error":"#NUM!"},{"$error":"#NUM!"},{"$error":"#NUM!"},{"$error":"#NUM!"},""]
[{"$error":"#NUM!"},{"$error":"#NUM!"},{"$error":"#NUM!"},{"$error":"#NUM!"},{"$error":"#NUM!"},""]
[{"$error":"#NUM!"},{"$error":"#NUM!"},{"$error":"#NUM!"},{"$error":"#NUM!"},{"$error":"#NUM!"},""]
[{"$error":"#NUM!"},{"$error":"#NUM!"},{"$error":"#NUM!"},{"$error":"#NUM!"},{"$error":"#NUM!"},""]
[{"$error":"#NUM!"},{"$error":"#NUM!"},{"$error":"#NUM!"},{"$error":"#NUM!"},{"$error":"#NUM!"},""]
[{"$error":"#NUM!"},{"$error":"#NUM!"},{"$error":"#NUM!"},{"$error":"#NUM!"},{"$error":"#NUM!"},""]
[{"$error":"#NUM!"},{"$error":"#NUM!"},{"$error":"#NUM!"},{"$error":"#NUM!"},{"$error":"#NUM!"},""]
[{"$error":"#NUM!"},{"$error":"#NUM!"},{"$error":"#NUM!"},{"$error":"#NUM!"},{"$error":"#NUM!"},""]
[{"$error":"#NUM!"},{"$error":"#NUM!"},{"$error":"#NUM!"},{"$error":"#NUM!"},{"$error":"#NUM!"},""]
[{"$error":"#NUM!"},{"$error":"#NUM!"},{"$error":"#NUM!"},{"$error":"#NUM!"},{"$error":"#NUM!"},""]
[{"$error":"#NUM!"},{"$error":"#NUM!"},{"$error":"#NUM!"},{"$error":"#NUM!"},{"$error":"#NUM!"},""]
[{"$error":"#NUM!"},{"$error":"#NUM!"},{"$error":"#NUM!"},{"$error":"#NUM!"},{"$error":"#NUM!"},""]
[{"$error":"#NUM!"},{"$error":"#NUM!"},{"$error":"#NUM!"},{"$error":"#NUM!"},{"$error":"#NUM!"},""]
[{"$f":"MATCH(LARGE(INDIRECT(\"'Rural Signalized Int (MI)'!$ER$5:$ER$1005\"),ROW()-250),INDIRECT(\"'Rural Signalized Int (MI)'!$ER$5:$ER$1005\"),0)+4","v":{"$error":"#NUM!"}},{"$f":"\"(INT) \"&INDIRECT(ADDRESS($A251,2,,,\"Rural Signalized Int (MI)\"))&\" / \"&INDIRECT(ADDRESS($A251,3,,,\"Rural Signalized Int (MI)\"))","v":{"$error":"#NUM!"}},{"$f":"INDIRECT(ADDRESS($A251,4,,,\"Rural Signalized Int (MI)\"))","v":{"$error":"#NUM!"}},{"$f":"\"Type = \"&INDIRECT(ADDRESS($A251,8,,,\"Rural Signalized Int (MI)\"))","v":{"$error":"#NUM!"}},{"$f":"\"AADT: \"&TEXT(INDIRECT(ADDRESS($A251,9,,,\"Rural Signalized Int (MI)\")),\"#,##0\") & \" / \" & TEXT(INDIRECT(ADDRESS($A251,10,,,\"Rural Signalized Int (MI)\")),\"#,##0\")","v":{"$error":"#NUM!"}},{"$f":"IF(ISERROR(A251),\"\",INDIRECT(ADDRESS($A251,148,,,\"Rural Signalized Int (MI)\")))","v":""}]
[{"$f":"IF(LARGE(INDIRECT(\"'Rural Signalized Int (MI)'!$ER$5:$ER$1005\"),ROW()-250)=F251,MATCH(F251,INDIRECT(\"'Rural Signalized Int (MI)'!$ER$\"&A251+1&\":$ER1005\"),0)+A251,MATCH(LARGE(INDIRECT(\"'Rural Signalized Int (MI)'!$ER$5:$ER$1005\"),ROW()-250),INDIRECT(\"'Rural Signalized Int (MI)'!$ER$5:$ER$1005\"),0)+4)","v":{"$error":"#NUM!"}},{"$error":"#NUM!"},{"$error":"#NUM!"},{"$error":"#NUM!"},{"$error":"#NUM!"},""]
[{"$error":"#NUM!"},{"$error":"#NUM!"},{"$error":"#NUM!"},{"$error":"#NUM!"},{"$error":"#NUM!"},""]
[{"$error":"#NUM!"},{"$error":"#NUM!"},{"$error":"#NUM!"},{"$error":"#NUM!"},{"$error":"#NUM!"},""]
[{"$error":"#NUM!"},{"$error":"#NUM!"},{"$error":"#NUM!"},{"$error":"#NUM!"},{"$error":"#NUM!"},""]
[{"$error":"#NUM!"},{"$error":"#NUM!"},{"$error":"#NUM!"},{"$error":"#NUM!"},{"$error":"#NUM!"},""]
[{"$error":"#NUM!"},{"$error":"#NUM!"},{"$error":"#NUM!"},{"$error":"#NUM!"},{"$error":"#NUM!"},""]
[{"$error":"#NUM!"},{"$error":"#NUM!"},{"$error":"#NUM!"},{"$error":"#NUM!"},{"$error":"#NUM!"},""]
[{"$error":"#NUM!"},{"$error":"#NUM!"},{"$error":"#NUM!"},{"$error":"#NUM!"},{"$error":"#NUM!"},""]
[{"$error":"#NUM!"},{"$error":"#NUM!"},{"$error":"#NUM!"},{"$error":"#NUM!"},{"$error":"#NUM!"},""]
[{"$error":"#NUM!"},{"$error":"#NUM!"},{"$error":"#NUM!"},{"$error":"#NUM!"},{"$error":"#NUM!"},""]
[{"$error":"#NUM!"},{"$error":"#NUM!"},{"$error":"#NUM!"},{"$error":"#NUM!"},{"$error":"#NUM!"},""]
[{"$error":"#NUM!"},{"$error":"#NUM!"},{"$error":"#NUM!"},{"$error":"#NUM!"},{"$error":"#NUM!"},""]
[{"$error":"#NUM!"},{"$error":"#NUM!"},{"$error":"#NUM!"},{"$error":"#NUM!"},{"$error":"#NUM!"},""]
[{"$error":"#NUM!"},{"$error":"#NUM!"},{"$error":"#NUM!"},{"$error":"#NUM!"},{"$error":"#NUM!"},""]
[{"$error":"#NUM!"},{"$error":"#NUM!"},{"$error":"#NUM!"},{"$error":"#NUM!"},{"$error":"#NUM!"},""]
[{"$error":"#NUM!"},{"$error":"#NUM!"},{"$error":"#NUM!"},{"$error":"#NUM!"},{"$error":"#NUM!"},""]
[{"$error":"#NUM!"},{"$error":"#NUM!"},{"$error":"#NUM!"},{"$error":"#NUM!"},{"$error":"#NUM!"},""]
[{"$error":"#NUM!"},{"$error":"#NUM!"},{"$error":"#NUM!"},{"$error":"#NUM!"},{"$error":"#NUM!"},""]
[{"$error":"#NUM!"},{"$error":"#NUM!"},{"$error":"#NUM!"},{"$error":"#NUM!"},{"$error":"#NUM!"},""]
[{"$error":"#NUM!"},{"$error":"#NUM!"},{"$error":"#NUM!"},{"$error":"#NUM!"},{"$error":"#NUM!"},""]
[{"$error":"#NUM!"},{"$error":"#NUM!"},{"$error":"#NUM!"},{"$error":"#NUM!"},{"$error":"#NUM!"},""]
[{"$error":"#NUM!"},{"$error":"#NUM!"},{"$error":"#NUM!"},{"$error":"#NUM!"},{"$error":"#NUM!"},""]
[{"$error":"#NUM!"},{"$error":"#NUM!"},{"$error":"#NUM!"},{"$error":"#NUM!"},{"$error":"#NUM!"},""]
[{"$error":"#NUM!"},{"$error":"#NUM!"},{"$error":"#NUM!"},{"$error":"#NUM!"},{"$error":"#NUM!"},""]
[{"$error":"#NUM!"},{"$error":"#NUM!"},{"$error":"#NUM!"},{"$error":"#NUM!"},{"$error":"#NUM!"},""]
[{"$error":"#NUM!"},{"$error":"#NUM!"},{"$error":"#NUM!"},{"$error":"#NUM!"},{"$error":"#NUM!"},""]
[{"$error":"#NUM!"},{"$error":"#NUM!"},{"$error":"#NUM!"},{"$error":"#NUM!"},{"$error":"#NUM!"},""]
[{"$error":"#NUM!"},{"$error":"#NUM!"},{"$error":"#NUM!"},{"$error":"#NUM!"},{"$error":"#NUM!"},""]
[{"$error":"#NUM!"},{"$error":"#NUM!"},{"$error":"#NUM!"},{"$error":"#NUM!"},{"$error":"#NUM!"},""]
[{"$error":"#NUM!"},{"$error":"#NUM!"},{"$error":"#NUM!"},{"$error":"#NUM!"},{"$error":"#NUM!"},""]
[{"$error":"#NUM!"},{"$error":"#NUM!"},{"$error":"#NUM!"},{"$error":"#NUM!"},{"$error":"#NUM!"},""]
[{"$error":"#NUM!"},{"$f":"\"(INT) \"&INDIRECT(ADDRESS($A283,2,,,\"Rural Signalized Int (MI)\"))&\" / \"&INDIRECT(ADDRESS($A283,3,,,\"Rural Signalized Int (MI)\"))","v":{"$error":"#NUM!"}},{"$f":"INDIRECT(ADDRESS($A283,4,,,\"Rural Signalized Int (MI)\"))","v":{"$error":"#NUM!"}},{"$f":"\"Type = \"&INDIRECT(ADDRESS($A283,8,,,\"Rural Signalized Int (MI)\"))","v":{"$error":"#NUM!"}},{"$f":"\"AADT: \"&TEXT(INDIRECT(ADDRESS($A283,9,,,\"Rural Signalized Int (MI)\")),\"#,##0\") & \" / \" & TEXT(INDIRECT(ADDRESS($A283,10,,,\"Rural Signalized Int (MI)\")),\"#,##0\")","v":{"$error":"#NUM!"}},{"$f":"IF(ISERROR(A283),\"\",INDIRECT(ADDRESS($A283,148,,,\"Rural Signalized Int (MI)\")))","v":""}]
[{"$f":"IF(LARGE(INDIRECT(\"'Rural Signalized Int (MI)'!$ER$5:$ER$1005\"),ROW()-250)=F283,MATCH(F283,INDIRECT(\"'Rural Signalized Int (MI)'!$ER$\"&A283+1&\":$ER1005\"),0)+A283,MATCH(LARGE(INDIRECT(\"'Rural Signalized Int (MI)'!$ER$5:$ER$1005\"),ROW()-250),INDIRECT(\"'Rural Signalized Int (MI)'!$ER$5:$ER$1005\"),0)+4)","v":{"$error":"#NUM!"}},{"$error":"#NUM!"},{"$error":"#NUM!"},{"$error":"#NUM!"},{"$error":"#NUM!"},""]
[{"$error":"#NUM!"},{"$error":"#NUM!"},{"$error":"#NUM!"},{"$error":"#NUM!"},{"$error":"#NUM!"},""]
[{"$error":"#NUM!"},{"$error":"#NUM!"},{"$error":"#NUM!"},{"$error":"#NUM!"},{"$error":"#NUM!"},""]
[{"$error":"#NUM!"},{"$error":"#NUM!"},{"$error":"#NUM!"},{"$error":"#NUM!"},{"$error":"#NUM!"},""]
[{"$error":"#NUM!"},{"$error":"#NUM!"},{"$error":"#NUM!"},{"$error":"#NUM!"},{"$error":"#NUM!"},""]
[{"$error":"#NUM!"},{"$error":"#NUM!"},{"$error":"#NUM!"},{"$error":"#NUM!"},{"$error":"#NUM!"},""]
[{"$error":"#NUM!"},{"$error":"#NUM!"},{"$error":"#NUM!"},{"$error":"#NUM!"},{"$error":"#NUM!"},""]
[{"$error":"#NUM!"},{"$error":"#NUM!"},{"$error":"#NUM!"},{"$error":"#NUM!"},{"$error":"#NUM!"},""]
[{"$error":"#NUM!"},{"$error":"#NUM!"},{"$error":"#NUM!"},{"$error":"#NUM!"},{"$error":"#NUM!"},""]
[{"$error":"#NUM!"},{"$error":"#NUM!"},{"$error":"#NUM!"},{"$error":"#NUM!"},{"$error":"#NUM!"},""]
[{"$error":"#NUM!"},{"$error":"#NUM!"},{"$error":"#NUM!"},{"$error":"#NUM!"},{"$error":"#NUM!"},""]
[{"$error":"#NUM!"},{"$error":"#NUM!"},{"$error":"#NUM!"},{"$error":"#NUM!"},{"$error":"#NUM!"},""]
[{"$error":"#NUM!"},{"$error":"#NUM!"},{"$error":"#NUM!"},{"$error":"#NUM!"},{"$error":"#NUM!"},""]
[{"$error":"#NUM!"},{"$error":"#NUM!"},{"$error":"#NUM!"},{"$error":"#NUM!"},{"$error":"#NUM!"},""]
[{"$error":"#NUM!"},{"$error":"#NUM!"},{"$error":"#NUM!"},{"$error":"#NUM!"},{"$error":"#NUM!"},""]
[{"$error":"#NUM!"},{"$error":"#NUM!"},{"$error":"#NUM!"},{"$error":"#NUM!"},{"$error":"#NUM!"},""]
[{"$error":"#NUM!"},{"$error":"#NUM!"},{"$error":"#NUM!"},{"$error":"#NUM!"},{"$error":"#NUM!"},""]
[{"$f":"MATCH(LARGE(INDIRECT(\"'Urban & Suburban Segments (MI)'!$HT$5:$HT$1005\"),ROW()-300),INDIRECT(\"'Urban & Suburban Segments (MI)'!$HT$5:$HT$1005\"),0)+4","v":{"$error":"#NUM!"}},{"$f":"\"(SEG) \"&INDIRECT(ADDRESS($A301,2,,,\"Urban & Suburban Segments (MI)\"))&\", \"&INDIRECT(ADDRESS($A301,3,,,\"Urban & Suburban Segments (MI)\"))","v":{"$error":"#NUM!"}},{"$f":"INDIRECT(ADDRESS($A301,4,,,\"Urban & Suburban Segments (MI)\"))","v":{"$error":"#NUM!"}},{"$f":"\"Length = \"&INDIRECT(ADDRESS($A301,6,,,\"Urban & Suburban Segments (MI)\"))&\" mi\"","v":{"$error":"#NUM!"}},{"$f":"\"AADT: \"&TEXT(INDIRECT(ADDRESS($A301,7,,,\"Urban & Suburban Segments (MI)\")),\"#,##0\")","v":{"$error":"#NUM!"}},{"$f":"IF(ISERROR(A301),\"\",INDIRECT(ADDRESS($A301,228,,,\"Urban & Suburban Segments (MI)\")))","v":""}]
[{"$f":"IF(LARGE(INDIRECT(\"'Urban & Suburban Segments (MI)'!$HT$5:$HT$1005\"),ROW()-300)=F301,MATCH(F301,INDIRECT(\"'Urban & Suburban Segments (MI)'!$HT$\"&A301+1&\":$HT1005\"),0)+A301,MATCH(LARGE(INDIRECT(\"'Urban & Suburban Segments (MI)'!$HT$5:$HT$1005\"),ROW()-300),INDIRECT(\"'Urban & Suburban Segments (MI)'!$HT$5:$HT$1005\"),0)+4)","v":{"$error":"#NUM!"}},{"$error":"#NUM!"},{"$error":"#NUM!"},{"$error":"#NUM!"},{"$error":"#NUM!"},""]
[{"$error":"#NUM!"},{"$error":"#NUM!"},{"$error":"#NUM!"},{"$error":"#NUM!"},{"$error":"#NUM!"},""]
[{"$error":"#NUM!"},{"$error":"#NUM!"},{"$error":"#NUM!"},{"$error":"#NUM!"},{"$error":"#NUM!"},""]
[{"$error":"#NUM!"},{"$error":"#NUM!"},{"$error":"#NUM!"},{"$error":"#NUM!"},{"$error":"#NUM!"},""]
[{"$error":"#NUM!"},{"$error":"#NUM!"},{"$error":"#NUM!"},{"$error":"#NUM!"},{"$error":"#NUM!"},""]
[{"$error":"#NUM!"},{"$error":"#NUM!"},{"$error":"#NUM!"},{"$error":"#NUM!"},{"$error":"#NUM!"},""]
[{"$error":"#NUM!"},{"$error":"#NUM!"},{"$error":"#NUM!"},{"$error":"#NUM!"},{"$error":"#NUM!"},""]
[{"$error":"#NUM!"},{"$error":"#NUM!"},{"$error":"#NUM!"},{"$error":"#NUM!"},{"$error":"#NUM!"},""]
[{"$error":"#NUM!"},{"$error":"#NUM!"},{"$error":"#NUM!"},{"$error":"#NUM!"},{"$error":"#NUM!"},""]
[{"$error":"#NUM!"},{"$error":"#NUM!"},{"$error":"#NUM!"},{"$error":"#NUM!"},{"$error":"#NUM!"},""]
[{"$error":"#NUM!"},{"$error":"#NUM!"},{"$error":"#NUM!"},{"$error":"#NUM!"},{"$error":"#NUM!"},""]
[{"$error":"#NUM!"},{"$error":"#NUM!"},{"$error":"#NUM!"},{"$error":"#NUM!"},{"$error":"#NUM!"},""]
[{"$error":"#NUM!"},{"$error":"#NUM!"},{"$error":"#NUM!"},{"$error":"#NUM!"},{"$error":"#NUM!"},""]
[{"$error":"#NUM!"},{"$error":"#NUM!"},{"$error":"#NUM!"},{"$error":"#NUM!"},{"$error":"#NUM!"},""]
[{"$error":"#NUM!"},{"$error":"#NUM!"},{"$error":"#NUM!"},{"$error":"#NUM!"},{"$error":"#NUM!"},""]
[{"$error":"#NUM!"},{"$error":"#NUM!"},{"$error":"#NUM!"},{"$error":"#NUM!"},{"$error":"#NUM!"},""]
[{"$error":"#NUM!"},{"$error":"#NUM!"},{"$error":"#NUM!"},{"$error":"#NUM!"},{"$error":"#NUM!"},""]
[{"$error":"#NUM!"},{"$error":"#NUM!"},{"$error":"#NUM!"},{"$error":"#NUM!"},{"$error":"#NUM!"},""]
[{"$error":"#NUM!"},{"$error":"#NUM!"},{"$error":"#NUM!"},{"$error":"#NUM!"},{"$error":"#NUM!"},""]
[{"$error":"#NUM!"},{"$error":"#NUM!"},{"$error":"#NUM!"},{"$error":"#NUM!"},{"$error":"#NUM!"},""]
[{"$error":"#NUM!"},{"$error":"#NUM!"},{"$error":"#NUM!"},{"$error":"#NUM!"},{"$error":"#NUM!"},""]
[{"$error":"#NUM!"},{"$error":"#NUM!"},{"$error":"#NUM!"},{"$error":"#NUM!"},{"$error":"#NUM!"},""]
[{"$error":"#NUM!"},{"$error":"#NUM!"},{"$error":"#NUM!"},{"$error":"#NUM!"},{"$error":"#NUM!"},""]
[{"$error":"#NUM!"},{"$error":"#NUM!"},{"$error":"#NUM!"},{"$error":"#NUM!"},{"$error":"#NUM!"},""]
[{"$error":"#NUM!"},{"$error":"#NUM!"},{"$error":"#NUM!"},{"$error":"#NUM!"},{"$error":"#NUM!"},""]
[{"$error":"#NUM!"},{"$error":"#NUM!"},{"$error":"#NUM!"},{"$error":"#NUM!"},{"$error":"#NUM!"},""]
[{"$error":"#NUM!"},{"$error":"#NUM!"},{"$error":"#NUM!"},{"$error":"#NUM!"},{"$error":"#NUM!"},""]
[{"$error":"#NUM!"},{"$error":"#NUM!"},{"$error":"#NUM!"},{"$error":"#NUM!"},{"$error":"#NUM!"},""]
[{"$error":"#NUM!"},{"$error":"#NUM!"},{"$error":"#NUM!"},{"$error":"#NUM!"},{"$error":"#NUM!"},""]
[{"$error":"#NUM!"},{"$error":"#NUM!"},{"$error":"#NUM!"},{"$error":"#NUM!"},{"$error":"#NUM!"},""]
[{"$error":"#NUM!"},{"$error":"#NUM!"},{"$error":"#NUM!"},{"$error":"#NUM!"},{"$error":"#NUM!"},""]
[{"$error":"#NUM!"},{"$f":"\"(SEG) \"&INDIRECT(ADDRESS($A333,2,,,\"Urban & Suburban Segments (MI)\"))&\", \"&INDIRECT(ADDRESS($A333,3,,,\"Urban & Suburban Segments (MI)\"))","v":{"$error":"#NUM!"}},{"$f":"INDIRECT(ADDRESS($A333,4,,,\"Urban & Suburban Segments (MI)\"))","v":{"$error":"#NUM!"}},{"$f":"\"Length = \"&INDIRECT(ADDRESS($A333,6,,,\"Urban & Suburban Segments (MI)\"))&\" mi\"","v":{"$error":"#NUM!"}},{"$f":"\"AADT: \"&TEXT(INDIRECT(ADDRESS($A333,7,,,\"Urban & Suburban Segments (MI)\")),\"#,##0\")","v":{"$error":"#NUM!"}},{"$f":"IF(ISERROR(A333),\"\",INDIRECT(ADDRESS($A333,228,,,\"Urban & Suburban Segments (MI)\")))","v":""}]
[{"$f":"IF(LARGE(INDIRECT(\"'Urban & Suburban Segments (MI)'!$HT$5:$HT$1005\"),ROW()-300)=F333,MATCH(F333,INDIRECT(\"'Urban & Suburban Segments (MI)'!$HT$\"&A333+1&\":$HT1005\"),0)+A333,MATCH(LARGE(INDIRECT(\"'Urban & Suburban Segments (MI)'!$HT$5:$HT$1005\"),ROW()-300),INDIRECT(\"'Urban & Suburban Segments (MI)'!$HT$5:$HT$1005\"),0)+4)","v":{"$error":"#NUM!"}},{"$error":"#NUM!"},{"$error":"#NUM!"},{"$error":"#NUM!"},{"$error":"#NUM!"},""]
[{"$error":"#NUM!"},{"$error":"#NUM!"},{"$error":"#NUM!"},{"$error":"#NUM!"},{"$error":"#NUM!"},""]
[{"$error":"#NUM!"},{"$error":"#NUM!"},{"$error":"#NUM!"},{"$error":"#NUM!"},{"$error":"#NUM!"},""]
[{"$error":"#NUM!"},{"$error":"#NUM!"},{"$error":"#NUM!"},{"$error":"#NUM!"},{"$error":"#NUM!"},""]
[{"$error":"#NUM!"},{"$error":"#NUM!"},{"$error":"#NUM!"},{"$error":"#NUM!"},{"$error":"#NUM!"},""]
[{"$error":"#NUM!"},{"$error":"#NUM!"},{"$error":"#NUM!"},{"$error":"#NUM!"},{"$error":"#NUM!"},""]
[{"$error":"#NUM!"},{"$error":"#NUM!"},{"$error":"#NUM!"},{"$error":"#NUM!"},{"$error":"#NUM!"},""]
[{"$error":"#NUM!"},{"$error":"#NUM!"},{"$error":"#NUM!"},{"$error":"#NUM!"},{"$error":"#NUM!"},""]
[{"$error":"#NUM!"},{"$error":"#NUM!"},{"$error":"#NUM!"},{"$error":"#NUM!"},{"$error":"#NUM!"},""]
[{"$error":"#NUM!"},{"$error":"#NUM!"},{"$error":"#NUM!"},{"$error":"#NUM!"},{"$error":"#NUM!"},""]
[{"$error":"#NUM!"},{"$error":"#NUM!"},{"$error":"#NUM!"},{"$error":"#NUM!"},{"$error":"#NUM!"},""]
[{"$error":"#NUM!"},{"$error":"#NUM!"},{"$error":"#NUM!"},{"$error":"#NUM!"},{"$error":"#NUM!"},""]
[{"$error":"#NUM!"},{"$error":"#NUM!"},{"$error":"#NUM!"},{"$error":"#NUM!"},{"$error":"#NUM!"},""]
[{"$error":"#NUM!"},{"$error":"#NUM!"},{"$error":"#NUM!"},{"$error":"#NUM!"},{"$error":"#NUM!"},""]
[{"$error":"#NUM!"},{"$error":"#NUM!"},{"$error":"#NUM!"},{"$error":"#NUM!"},{"$error":"#NUM!"},""]
[{"$error":"#NUM!"},{"$error":"#NUM!"},{"$error":"#NUM!"},{"$error":"#NUM!"},{"$error":"#NUM!"},""]
[{"$error":"#NUM!"},{"$error":"#NUM!"},{"$error":"#NUM!"},{"$error":"#NUM!"},{"$error":"#NUM!"},""]
[{"$f":"MATCH(LARGE(INDIRECT(\"'Urban & Suburban Ints (MI)'!$DN$5:$DN$1005\"),ROW()-350),INDIRECT(\"'Urban & Suburban Ints (MI)'!$DN$5:$DN$1005\"),0)+4","v":{"$error":"#NUM!"}},{"$f":"\"(INT) \"&INDIRECT(ADDRESS($A351,2,,,\"Urban & Suburban Ints (MI)\"))&\" / \"&INDIRECT(ADDRESS($A351,3,,,\"Urban & Suburban Ints (MI)\"))","v":{"$error":"#NUM!"}},{"$f":"INDIRECT(ADDRESS($A351,4,,,\"Urban & Suburban Ints (MI)\"))","v":{"$error":"#NUM!"}},{"$f":"\"Type = \"&INDIRECT(ADDRESS($A351,5,,,\"Urban & Suburban Ints (MI)\"))","v":{"$error":"#NUM!"}},{"$f":"\"AADT: \"&TEXT(INDIRECT(ADDRESS($A351,8,,,\"Urban & Suburban Ints (MI)\")),\"#,##0\") & \" / \" & TEXT(INDIRECT(ADDRESS($A351,9,,,\"Urban & Suburban Ints (MI)\")),\"#,##0\")","v":{"$error":"#NUM!"}},{"$f":"IF(ISERROR(A351),\"\",INDIRECT(ADDRESS($A351,118,,,\"Urban & Suburban Ints (MI)\")))","v":""}]
[{"$f":"IF(LARGE(INDIRECT(\"'Urban & Suburban Ints (MI)'!$DN$5:$DN$1005\"),ROW()-350)=F351,MATCH(F351,INDIRECT(\"'Urban & Suburban Ints (MI)'!$DN$\"&A351+1&\":$DN1005\"),0)+A351,MATCH(LARGE(INDIRECT(\"'Urban & Suburban Ints (MI)'!$DN$5:$DN$1005\"),ROW()-350),INDIRECT(\"'Urban & Suburban Ints (MI)'!$DN$5:$DN$1005\"),0)+4)","v":{"$error":"#NUM!"}},{"$error":"#NUM!"},{"$error":"#NUM!"},{"$error":"#NUM!"},{"$error":"#NUM!"},""]
[{"$error":"#NUM!"},{"$error":"#NUM!"},{"$error":"#NUM!"},{"$error":"#NUM!"},{"$error":"#NUM!"},""]
[{"$error":"#NUM!"},{"$error":"#NUM!"},{"$error":"#NUM!"},{"$error":"#NUM!"},{"$error":"#NUM!"},""]
[{"$error":"#NUM!"},{"$error":"#NUM!"},{"$error":"#NUM!"},{"$error":"#NUM!"},{"$error":"#NUM!"},""]
[{"$error":"#NUM!"},{"$error":"#NUM!"},{"$error":"#NUM!"},{"$error":"#NUM!"},{"$error":"#NUM!"},""]
[{"$error":"#NUM!"},{"$error":"#NUM!"},{"$error":"#NUM!"},{"$error":"#NUM!"},{"$error":"#NUM!"},""]
[{"$error":"#NUM!"},{"$error":"#NUM!"},{"$error":"#NUM!"},{"$error":"#NUM!"},{"$error":"#NUM!"},""]
[{"$error":"#NUM!"},{"$error":"#NUM!"},{"$error":"#NUM!"},{"$error":"#NUM!"},{"$error":"#NUM!"},""]
[{"$error":"#NUM!"},{"$error":"#NUM!"},{"$error":"#NUM!"},{"$error":"#NUM!"},{"$error":"#NUM!"},""]
[{"$error":"#NUM!"},{"$error":"#NUM!"},{"$error":"#NUM!"},{"$error":"#NUM!"},{"$error":"#NUM!"},""]
[{"$error":"#NUM!"},{"$error":"#NUM!"},{"$error":"#NUM!"},{"$error":"#NUM!"},{"$error":"#NUM!"},""]
[{"$error":"#NUM!"},{"$error":"#NUM!"},{"$error":"#NUM!"},{"$error":"#NUM!"},{"$error":"#NUM!"},""]
[{"$error":"#NUM!"},{"$error":"#NUM!"},{"$error":"#NUM!"},{"$error":"#NUM!"},{"$error":"#NUM!"},""]
[{"$error":"#NUM!"},{"$error":"#NUM!"},{"$error":"#NUM!"},{"$error":"#NUM!"},{"$error":"#NUM!"},""]
[{"$error":"#NUM!"},{"$error":"#NUM!"},{"$error":"#NUM!"},{"$error":"#NUM!"},{"$error":"#NUM!"},""]
[{"$error":"#NUM!"},{"$error":"#NUM!"},{"$error":"#NUM!"},{"$error":"#NUM!"},{"$error":"#NUM!"},""]
[{"$error":"#NUM!"},{"$error":"#NUM!"},{"$error":"#NUM!"},{"$error":"#NUM!"},{"$error":"#NUM!"},""]
[{"$error":"#NUM!"},{"$error":"#NUM!"},{"$error":"#NUM!"},{"$error":"#NUM!"},{"$error":"#NUM!"},""]
[{"$error":"#NUM!"},{"$error":"#NUM!"},{"$error":"#NUM!"},{"$error":"#NUM!"},{"$error":"#NUM!"},""]
[{"$error":"#NUM!"},{"$error":"#NUM!"},{"$error":"#NUM!"},{"$error":"#NUM!"},{"$error":"#NUM!"},""]
[{"$error":"#NUM!"},{"$error":"#NUM!"},{"$error":"#NUM!"},{"$error":"#NUM!"},{"$error":"#NUM!"},""]
[{"$error":"#NUM!"},{"$error":"#NUM!"},{"$error":"#NUM!"},{"$error":"#NUM!"},{"$error":"#NUM!"},""]
[{"$error":"#NUM!"},{"$error":"#NUM!"},{"$error":"#NUM!"},{"$error":"#NUM!"},{"$error":"#NUM!"},""]
[{"$error":"#NUM!"},{"$error":"#NUM!"},{"$error":"#NUM!"},{"$error":"#NUM!"},{"$error":"#NUM!"},""]
[{"$error":"#NUM!"},{"$error":"#NUM!"},{"$error":"#NUM!"},{"$error":"#NUM!"},{"$error":"#NUM!"},""]
[{"$error":"#NUM!"},{"$error":"#NUM!"},{"$error":"#NUM!"},{"$error":"#NUM!"},{"$error":"#NUM!"},""]
[{"$error":"#NUM!"},{"$error":"#NUM!"},{"$error":"#NUM!"},{"$error":"#NUM!"},{"$error":"#NUM!"},""]
[{"$error":"#NUM!"},{"$error":"#NUM!"},{"$error":"#NUM!"},{"$error":"#NUM!"},{"$error":"#NUM!"},""]
[{"$error":"#NUM!"},{"$error":"#NUM!"},{"$error":"#NUM!"},{"$error":"#NUM!"},{"$error":"#NUM!"},""]
[{"$error":"#NUM!"},{"$error":"#NUM!"},{"$error":"#NUM!"},{"$error":"#NUM!"},{"$error":"#NUM!"},""]
[{"$error":"#NUM!"},{"$error":"#NUM!"},{"$error":"#NUM!"},{"$error":"#NUM!"},{"$error":"#NUM!"},""]
[{"$error":"#NUM!"},{"$f":"\"(INT) \"&INDIRECT(ADDRESS($A383,2,,,\"Urban & Suburban Ints (MI)\"))&\" / \"&INDIRECT(ADDRESS($A383,3,,,\"Urban & Suburban Ints (MI)\"))","v":{"$error":"#NUM!"}},{"$f":"INDIRECT(ADDRESS($A383,4,,,\"Urban & Suburban Ints (MI)\"))","v":{"$error":"#NUM!"}},{"$f":"\"Type = \"&INDIRECT(ADDRESS($A383,5,,,\"Urban & Suburban Ints (MI)\"))","v":{"$error":"#NUM!"}},{"$f":"\"AADT: \"&TEXT(INDIRECT(ADDRESS($A383,8,,,\"Urban & Suburban Ints (MI)\")),\"#,##0\") & \" / \" & TEXT(INDIRECT(ADDRESS($A383,9,,,\"Urban & Suburban Ints (MI)\")),\"#,##0\")","v":{"$error":"#NUM!"}},{"$f":"IF(ISERROR(A383),\"\",INDIRECT(ADDRESS($A383,118,,,\"Urban & Suburban Ints (MI)\")))","v":""}]
[{"$f":"IF(LARGE(INDIRECT(\"'Urban & Suburban Ints (MI)'!$DN$5:$DN$1005\"),ROW()-350)=F383,MATCH(F383,INDIRECT(\"'Urban & Suburban Ints (MI)'!$DN$\"&A383+1&\":$DN1005\"),0)+A383,MATCH(LARGE(INDIRECT(\"'Urban & Suburban Ints (MI)'!$DN$5:$DN$1005\"),ROW()-350),INDIRECT(\"'Urban & Suburban Ints (MI)'!$DN$5:$DN$1005\"),0)+4)","v":{"$error":"#NUM!"}},{"$error":"#NUM!"},{"$error":"#NUM!"},{"$error":"#NUM!"},{"$error":"#NUM!"},""]
[{"$error":"#NUM!"},{"$error":"#NUM!"},{"$error":"#NUM!"},{"$error":"#NUM!"},{"$error":"#NUM!"},""]
[{"$error":"#NUM!"},{"$error":"#NUM!"},{"$error":"#NUM!"},{"$error":"#NUM!"},{"$error":"#NUM!"},""]
[{"$error":"#NUM!"},{"$error":"#NUM!"},{"$error":"#NUM!"},{"$error":"#NUM!"},{"$error":"#NUM!"},""]
[{"$error":"#NUM!"},{"$error":"#NUM!"},{"$error":"#NUM!"},{"$error":"#NUM!"},{"$error":"#NUM!"},""]
[{"$error":"#NUM!"},{"$error":"#NUM!"},{"$error":"#NUM!"},{"$error":"#NUM!"},{"$error":"#NUM!"},""]
[{"$error":"#NUM!"},{"$error":"#NUM!"},{"$error":"#NUM!"},{"$error":"#NUM!"},{"$error":"#NUM!"},""]
[{"$error":"#NUM!"},{"$error":"#NUM!"},{"$error":"#NUM!"},{"$error":"#NUM!"},{"$error":"#NUM!"},""]
[{"$error":"#NUM!"},{"$error":"#NUM!"},{"$error":"#NUM!"},{"$error":"#NUM!"},{"$error":"#NUM!"},""]
[{"$error":"#NUM!"},{"$error":"#NUM!"},{"$error":"#NUM!"},{"$error":"#NUM!"},{"$error":"#NUM!"},""]
[{"$error":"#NUM!"},{"$error":"#NUM!"},{"$error":"#NUM!"},{"$error":"#NUM!"},{"$error":"#NUM!"},""]
[{"$error":"#NUM!"},{"$error":"#NUM!"},{"$error":"#NUM!"},{"$error":"#NUM!"},{"$error":"#NUM!"},""]
[{"$error":"#NUM!"},{"$error":"#NUM!"},{"$error":"#NUM!"},{"$error":"#NUM!"},{"$error":"#NUM!"},""]
[{"$error":"#NUM!"},{"$error":"#NUM!"},{"$error":"#NUM!"},{"$error":"#NUM!"},{"$error":"#NUM!"},""]
[{"$error":"#NUM!"},{"$error":"#NUM!"},{"$error":"#NUM!"},{"$error":"#NUM!"},{"$error":"#NUM!"},""]
[{"$error":"#NUM!"},{"$error":"#NUM!"},{"$error":"#NUM!"},{"$error":"#NUM!"},{"$error":"#NUM!"},""]
[{"$error":"#NUM!"},{"$error":"#NUM!"},{"$error":"#NUM!"},{"$error":"#NUM!"},{"$error":"#NUM!"},""]

{"sheet":"RankingPredictedTotal","index":23,"n_rows":400,"n_cols":14,"rows_kept":400,"cut":false,"hidden":true,"merged":[]}
[{"$f":"MATCH(LARGE(INDIRECT(\"'Rural 2-Lane Segments (MI)'!$FE$5:$FE$1005\"),ROW()),INDIRECT(\"'Rural 2-Lane Segments (MI)'!$FE$5:$FE$1005\"),0)+4","v":{"$error":"#NUM!"}},{"$f":"\"(SEG) \"&INDIRECT(ADDRESS($A1,2,,,\"Rural 2-Lane Segments (MI)\"))&\", \"&INDIRECT(ADDRESS($A1,3,,,\"Rural 2-Lane Segments (MI)\"))","v":{"$error":"#NUM!"}},{"$f":"INDIRECT(ADDRESS($A1,4,,,\"Rural 2-Lane Segments (MI)\"))","v":{"$error":"#NUM!"}},{"$f":"\"Length = \"&INDIRECT(ADDRESS($A1,7,,,\"Rural 2-Lane Segments (MI)\"))&\" mi\"","v":{"$error":"#NUM!"}},{"$f":"\"AADT: \"&TEXT(INDIRECT(ADDRESS($A1,8,,,\"Rural 2-Lane Segments (MI)\")),\"#,##0\")","v":{"$error":"#NUM!"}},{"$f":"IF(ISERROR(A1),\"\",INDIRECT(ADDRESS($A1,161,,,\"Rural 2-Lane Segments (MI)\")))","v":""},null,null,null,{"$f":"LARGE($F$1:$F$400,ROW())","v":{"$error":"#NUM!"}},{"$f":"MATCH(LARGE($F$1:$F$400,ROW()),$F$1:$F$400,0)","v":{"$error":"#NUM!"}},null,{"$f":"LARGE(#REF!,ROW())","v":{"$error":"#REF!"}},{"$f":"IF(M1>0,MATCH(LARGE(#REF!,ROW()),#REF!,0)+350,)","v":{"$error":"#REF!"}}]
[{"$f":"IF(LARGE(INDIRECT(\"'Rural 2-Lane Segments (MI)'!$FE$5:$FE$1005\"),ROW())=F1,MATCH(F1,INDIRECT(\"'Rural 2-Lane Segments (MI)'!$FE$\"&A1+1&\":$FE1005\"),0)+A1,MATCH(LARGE(INDIRECT(\"'Rural 2-Lane Segments (MI)'!$FE$5:$FE$1005\"),ROW()),INDIRECT(\"'Rural 2-Lane Segments (MI)'!$FE$5:$FE$1005\"),0)+4)","v":{"$error":"#NUM!"}},{"$error":"#NUM!"},{"$error":"#NUM!"},{"$error":"#NUM!"},{"$error":"#NUM!"},"",null,null,null,{"$error":"#NUM!"},{"$error":"#NUM!"}]
[{"$error":"#NUM!"},{"$error":"#NUM!"},{"$error":"#NUM!"},{"$error":"#NUM!"},{"$error":"#NUM!"},"",null,null,null,{"$error":"#NUM!"},{"$error":"#NUM!"}]
[{"$error":"#NUM!"},{"$error":"#NUM!"},{"$error":"#NUM!"},{"$error":"#NUM!"},{"$error":"#NUM!"},"",null,null,null,{"$error":"#NUM!"},{"$error":"#NUM!"}]
[{"$error":"#NUM!"},{"$error":"#NUM!"},{"$error":"#NUM!"},{"$error":"#NUM!"},{"$error":"#NUM!"},"",null,null,null,{"$error":"#NUM!"},{"$error":"#NUM!"}]
[{"$error":"#NUM!"},{"$error":"#NUM!"},{"$error":"#NUM!"},{"$error":"#NUM!"},{"$error":"#NUM!"},"",null,null,null,{"$error":"#NUM!"},{"$error":"#NUM!"}]
[{"$error":"#NUM!"},{"$error":"#NUM!"},{"$error":"#NUM!"},{"$error":"#NUM!"},{"$error":"#NUM!"},"",null,null,null,{"$error":"#NUM!"},{"$error":"#NUM!"}]
[{"$error":"#NUM!"},{"$error":"#NUM!"},{"$error":"#NUM!"},{"$error":"#NUM!"},{"$error":"#NUM!"},"",null,null,null,{"$error":"#NUM!"},{"$error":"#NUM!"}]
[{"$error":"#NUM!"},{"$error":"#NUM!"},{"$error":"#NUM!"},{"$error":"#NUM!"},{"$error":"#NUM!"},"",null,null,null,{"$error":"#NUM!"},{"$error":"#NUM!"}]
[{"$error":"#NUM!"},{"$error":"#NUM!"},{"$error":"#NUM!"},{"$error":"#NUM!"},{"$error":"#NUM!"},"",null,null,null,{"$error":"#NUM!"},{"$error":"#NUM!"}]
[{"$error":"#NUM!"},{"$error":"#NUM!"},{"$error":"#NUM!"},{"$error":"#NUM!"},{"$error":"#NUM!"},"",null,null,null,{"$error":"#NUM!"},{"$error":"#NUM!"}]
[{"$error":"#NUM!"},{"$error":"#NUM!"},{"$error":"#NUM!"},{"$error":"#NUM!"},{"$error":"#NUM!"},"",null,null,null,{"$error":"#NUM!"},{"$error":"#NUM!"}]
[{"$error":"#NUM!"},{"$error":"#NUM!"},{"$error":"#NUM!"},{"$error":"#NUM!"},{"$error":"#NUM!"},"",null,null,null,{"$error":"#NUM!"},{"$error":"#NUM!"}]
[{"$error":"#NUM!"},{"$error":"#NUM!"},{"$error":"#NUM!"},{"$error":"#NUM!"},{"$error":"#NUM!"},"",null,null,null,{"$error":"#NUM!"},{"$error":"#NUM!"}]
[{"$error":"#NUM!"},{"$error":"#NUM!"},{"$error":"#NUM!"},{"$error":"#NUM!"},{"$error":"#NUM!"},"",null,null,null,{"$error":"#NUM!"},{"$error":"#NUM!"}]
[{"$error":"#NUM!"},{"$error":"#NUM!"},{"$error":"#NUM!"},{"$error":"#NUM!"},{"$error":"#NUM!"},"",null,null,null,{"$error":"#NUM!"},{"$error":"#NUM!"}]
[{"$error":"#NUM!"},{"$error":"#NUM!"},{"$error":"#NUM!"},{"$error":"#NUM!"},{"$error":"#NUM!"},"",null,null,null,{"$error":"#NUM!"},{"$error":"#NUM!"}]
[{"$error":"#NUM!"},{"$error":"#NUM!"},{"$error":"#NUM!"},{"$error":"#NUM!"},{"$error":"#NUM!"},"",null,null,null,{"$error":"#NUM!"},{"$error":"#NUM!"}]
[{"$error":"#NUM!"},{"$error":"#NUM!"},{"$error":"#NUM!"},{"$error":"#NUM!"},{"$error":"#NUM!"},"",null,null,null,{"$error":"#NUM!"},{"$error":"#NUM!"}]
[{"$error":"#NUM!"},{"$error":"#NUM!"},{"$error":"#NUM!"},{"$error":"#NUM!"},{"$error":"#NUM!"},"",null,null,null,{"$error":"#NUM!"},{"$error":"#NUM!"}]
[{"$error":"#NUM!"},{"$error":"#NUM!"},{"$error":"#NUM!"},{"$error":"#NUM!"},{"$error":"#NUM!"},"",null,null,null,{"$error":"#NUM!"},{"$error":"#NUM!"}]
[{"$error":"#NUM!"},{"$error":"#NUM!"},{"$error":"#NUM!"},{"$error":"#NUM!"},{"$error":"#NUM!"},"",null,null,null,{"$error":"#NUM!"},{"$error":"#NUM!"}]
[{"$error":"#NUM!"},{"$error":"#NUM!"},{"$error":"#NUM!"},{"$error":"#NUM!"},{"$error":"#NUM!"},"",null,null,null,{"$error":"#NUM!"},{"$error":"#NUM!"}]
[{"$error":"#NUM!"},{"$error":"#NUM!"},{"$error":"#NUM!"},{"$error":"#NUM!"},{"$error":"#NUM!"},"",null,null,null,{"$error":"#NUM!"},{"$error":"#NUM!"}]
[{"$error":"#NUM!"},{"$error":"#NUM!"},{"$error":"#NUM!"},{"$error":"#NUM!"},{"$error":"#NUM!"},"",null,null,null,{"$error":"#NUM!"},{"$error":"#NUM!"}]
[{"$error":"#NUM!"},{"$error":"#NUM!"},{"$error":"#NUM!"},{"$error":"#NUM!"},{"$error":"#NUM!"},"",null,null,null,{"$error":"#NUM!"},{"$error":"#NUM!"}]
[{"$error":"#NUM!"},{"$error":"#NUM!"},{"$error":"#NUM!"},{"$error":"#NUM!"},{"$error":"#NUM!"},"",null,null,null,{"$error":"#NUM!"},{"$error":"#NUM!"}]
[{"$error":"#NUM!"},{"$error":"#NUM!"},{"$error":"#NUM!"},{"$error":"#NUM!"},{"$error":"#NUM!"},"",null,null,null,{"$error":"#NUM!"},{"$error":"#NUM!"}]
[{"$error":"#NUM!"},{"$error":"#NUM!"},{"$error":"#NUM!"},{"$error":"#NUM!"},{"$error":"#NUM!"},"",null,null,null,{"$error":"#NUM!"},{"$error":"#NUM!"}]
[{"$error":"#NUM!"},{"$error":"#NUM!"},{"$error":"#NUM!"},{"$error":"#NUM!"},{"$error":"#NUM!"},"",null,null,null,{"$error":"#NUM!"},{"$error":"#NUM!"}]
[{"$error":"#NUM!"},{"$error":"#NUM!"},{"$error":"#NUM!"},{"$error":"#NUM!"},{"$error":"#NUM!"},"",null,null,null,{"$error":"#NUM!"},{"$error":"#NUM!"}]
[{"$error":"#NUM!"},{"$error":"#NUM!"},{"$error":"#NUM!"},{"$error":"#NUM!"},{"$error":"#NUM!"},"",null,null,null,{"$error":"#NUM!"},{"$error":"#NUM!"}]
[{"$error":"#NUM!"},{"$f":"\"(SEG) \"&INDIRECT(ADDRESS($A33,2,,,\"Rural 2-Lane Segments (MI)\"))&\", \"&INDIRECT(ADDRESS($A33,3,,,\"Rural 2-Lane Segments (MI)\"))","v":{"$error":"#NUM!"}},{"$f":"INDIRECT(ADDRESS($A33,4,,,\"Rural 2-Lane Segments (MI)\"))","v":{"$error":"#NUM!"}},{"$f":"\"Length = \"&INDIRECT(ADDRESS($A33,7,,,\"Rural 2-Lane Segments (MI)\"))&\" mi\"","v":{"$error":"#NUM!"}},{"$f":"\"AADT: \"&TEXT(INDIRECT(ADDRESS($A33,8,,,\"Rural 2-Lane Segments (MI)\")),\"#,##0\")","v":{"$error":"#NUM!"}},{"$f":"IF(ISERROR(A33),\"\",INDIRECT(ADDRESS($A33,161,,,\"Rural 2-Lane Segments (MI)\")))","v":""},null,null,null,{"$f":"LARGE($F$1:$F$400,ROW())","v":{"$error":"#NUM!"}},{"$f":"MATCH(LARGE($F$1:$F$400,ROW()),$F$1:$F$400,0)","v":{"$error":"#NUM!"}}]
[{"$f":"IF(LARGE(INDIRECT(\"'Rural 2-Lane Segments (MI)'!$FE$5:$FE$1005\"),ROW())=F33,MATCH(F33,INDIRECT(\"'Rural 2-Lane Segments (MI)'!$FE$\"&A33+1&\":$FE1005\"),0)+A33,MATCH(LARGE(INDIRECT(\"'Rural 2-Lane Segments (MI)'!$FE$5:$FE$1005\"),ROW()),INDIRECT(\"'Rural 2-Lane Segments (MI)'!$FE$5:$FE$1005\"),0)+4)","v":{"$error":"#NUM!"}},{"$error":"#NUM!"},{"$error":"#NUM!"},{"$error":"#NUM!"},{"$error":"#NUM!"},"",null,null,null,{"$error":"#NUM!"},{"$error":"#NUM!"}]
[{"$error":"#NUM!"},{"$error":"#NUM!"},{"$error":"#NUM!"},{"$error":"#NUM!"},{"$error":"#NUM!"},"",null,null,null,{"$error":"#NUM!"},{"$error":"#NUM!"}]
[{"$error":"#NUM!"},{"$error":"#NUM!"},{"$error":"#NUM!"},{"$error":"#NUM!"},{"$error":"#NUM!"},"",null,null,null,{"$error":"#NUM!"},{"$error":"#NUM!"}]
[{"$error":"#NUM!"},{"$error":"#NUM!"},{"$error":"#NUM!"},{"$error":"#NUM!"},{"$error":"#NUM!"},"",null,null,null,{"$error":"#NUM!"},{"$error":"#NUM!"}]
[{"$error":"#NUM!"},{"$error":"#NUM!"},{"$error":"#NUM!"},{"$error":"#NUM!"},{"$error":"#NUM!"},"",null,null,null,{"$error":"#NUM!"},{"$error":"#NUM!"}]
[{"$error":"#NUM!"},{"$error":"#NUM!"},{"$error":"#NUM!"},{"$error":"#NUM!"},{"$error":"#NUM!"},"",null,null,null,{"$error":"#NUM!"},{"$error":"#NUM!"}]
[{"$error":"#NUM!"},{"$error":"#NUM!"},{"$error":"#NUM!"},{"$error":"#NUM!"},{"$error":"#NUM!"},"",null,null,null,{"$error":"#NUM!"},{"$error":"#NUM!"}]
[{"$error":"#NUM!"},{"$error":"#NUM!"},{"$error":"#NUM!"},{"$error":"#NUM!"},{"$error":"#NUM!"},"",null,null,null,{"$error":"#NUM!"},{"$error":"#NUM!"}]
[{"$error":"#NUM!"},{"$error":"#NUM!"},{"$error":"#NUM!"},{"$error":"#NUM!"},{"$error":"#NUM!"},"",null,null,null,{"$error":"#NUM!"},{"$error":"#NUM!"}]
[{"$error":"#NUM!"},{"$error":"#NUM!"},{"$error":"#NUM!"},{"$error":"#NUM!"},{"$error":"#NUM!"},"",null,null,null,{"$error":"#NUM!"},{"$error":"#NUM!"}]
[{"$error":"#NUM!"},{"$error":"#NUM!"},{"$error":"#NUM!"},{"$error":"#NUM!"},{"$error":"#NUM!"},"",null,null,null,{"$error":"#NUM!"},{"$error":"#NUM!"}]
[{"$error":"#NUM!"},{"$error":"#NUM!"},{"$error":"#NUM!"},{"$error":"#NUM!"},{"$error":"#NUM!"},"",null,null,null,{"$error":"#NUM!"},{"$error":"#NUM!"}]
[{"$error":"#NUM!"},{"$error":"#NUM!"},{"$error":"#NUM!"},{"$error":"#NUM!"},{"$error":"#NUM!"},"",null,null,null,{"$error":"#NUM!"},{"$error":"#NUM!"}]
[{"$error":"#NUM!"},{"$error":"#NUM!"},{"$error":"#NUM!"},{"$error":"#NUM!"},{"$error":"#NUM!"},"",null,null,null,{"$error":"#NUM!"},{"$error":"#NUM!"}]
[{"$error":"#NUM!"},{"$error":"#NUM!"},{"$error":"#NUM!"},{"$error":"#NUM!"},{"$error":"#NUM!"},"",null,null,null,{"$error":"#NUM!"},{"$error":"#NUM!"}]
[{"$error":"#NUM!"},{"$error":"#NUM!"},{"$error":"#NUM!"},{"$error":"#NUM!"},{"$error":"#NUM!"},"",null,null,null,{"$error":"#NUM!"},{"$error":"#NUM!"}]
[{"$error":"#NUM!"},{"$error":"#NUM!"},{"$error":"#NUM!"},{"$error":"#NUM!"},{"$error":"#NUM!"},"",null,null,null,{"$error":"#NUM!"},{"$error":"#NUM!"}]
[{"$f":"MATCH(LARGE(INDIRECT(\"'Rural County FA Segs (MI)'!$DQ$5:$DQ$1005\"),ROW()-50),INDIRECT(\"'Rural County FA Segs (MI)'!$DQ$5:$DQ$1005\"),0)+4","v":{"$error":"#NUM!"}},{"$f":"\"(SEG) \"&INDIRECT(ADDRESS($A51,2,,,\"Rural County FA Segs (MI)\"))&\", \"&INDIRECT(ADDRESS($A51,3,,,\"Rural County FA Segs (MI)\"))","v":{"$error":"#NUM!"}},{"$f":"INDIRECT(ADDRESS($A51,4,,,\"Rural County FA Segs (MI)\"))","v":{"$error":"#NUM!"}},{"$f":"\"Length = \"&INDIRECT(ADDRESS($A51,5,,,\"Rural County FA Segs (MI)\"))&\" mi\"","v":{"$error":"#NUM!"}},{"$f":"\"AADT: \"&TEXT(INDIRECT(ADDRESS($A51,6,,,\"Rural County FA Segs (MI)\")),\"#,##0\")","v":{"$error":"#NUM!"}},{"$f":"IF(ISERROR(A51),\"\",INDIRECT(ADDRESS($A51,121,,,\"Rural County FA Segs (MI)\")))","v":""}]
[{"$f":"IF(LARGE(INDIRECT(\"'Rural County FA Segs (MI)'!$DQ$5:$DQ$1005\"),ROW()-50)=F51,MATCH(F51,INDIRECT(\"'Rural County FA Segs (MI)'!$DQ$\"&A51+1&\":$DQ1005\"),0)+A51,MATCH(LARGE(INDIRECT(\"'Rural County FA Segs (MI)'!$DQ$5:$DQ$1005\"),ROW()-50),INDIRECT(\"'Rural County FA Segs (MI)'!$DQ$5:$DQ$1005\"),0)+4)","v":{"$error":"#NUM!"}},{"$error":"#NUM!"},{"$error":"#NUM!"},{"$error":"#NUM!"},{"$error":"#NUM!"},""]
[{"$error":"#NUM!"},{"$error":"#NUM!"},{"$error":"#NUM!"},{"$error":"#NUM!"},{"$error":"#NUM!"},""]
[{"$error":"#NUM!"},{"$error":"#NUM!"},{"$error":"#NUM!"},{"$error":"#NUM!"},{"$error":"#NUM!"},""]
[{"$error":"#NUM!"},{"$error":"#NUM!"},{"$error":"#NUM!"},{"$error":"#NUM!"},{"$error":"#NUM!"},""]
[{"$error":"#NUM!"},{"$error":"#NUM!"},{"$error":"#NUM!"},{"$error":"#NUM!"},{"$error":"#NUM!"},""]
[{"$error":"#NUM!"},{"$error":"#NUM!"},{"$error":"#NUM!"},{"$error":"#NUM!"},{"$error":"#NUM!"},""]
[{"$error":"#NUM!"},{"$error":"#NUM!"},{"$error":"#NUM!"},{"$error":"#NUM!"},{"$error":"#NUM!"},""]
[{"$error":"#NUM!"},{"$error":"#NUM!"},{"$error":"#NUM!"},{"$error":"#NUM!"},{"$error":"#NUM!"},""]
[{"$error":"#NUM!"},{"$error":"#NUM!"},{"$error":"#NUM!"},{"$error":"#NUM!"},{"$error":"#NUM!"},""]
[{"$error":"#NUM!"},{"$error":"#NUM!"},{"$error":"#NUM!"},{"$error":"#NUM!"},{"$error":"#NUM!"},""]
[{"$error":"#NUM!"},{"$error":"#NUM!"},{"$error":"#NUM!"},{"$error":"#NUM!"},{"$error":"#NUM!"},""]
[{"$error":"#NUM!"},{"$error":"#NUM!"},{"$error":"#NUM!"},{"$error":"#NUM!"},{"$error":"#NUM!"},""]
[{"$error":"#NUM!"},{"$error":"#NUM!"},{"$error":"#NUM!"},{"$error":"#NUM!"},{"$error":"#NUM!"},""]
[{"$error":"#NUM!"},{"$error":"#NUM!"},{"$error":"#NUM!"},{"$error":"#NUM!"},{"$error":"#NUM!"},""]
[{"$error":"#NUM!"},{"$error":"#NUM!"},{"$error":"#NUM!"},{"$error":"#NUM!"},{"$error":"#NUM!"},""]
[{"$error":"#NUM!"},{"$error":"#NUM!"},{"$error":"#NUM!"},{"$error":"#NUM!"},{"$error":"#NUM!"},""]
[{"$error":"#NUM!"},{"$error":"#NUM!"},{"$error":"#NUM!"},{"$error":"#NUM!"},{"$error":"#NUM!"},""]
[{"$error":"#NUM!"},{"$error":"#NUM!"},{"$error":"#NUM!"},{"$error":"#NUM!"},{"$error":"#NUM!"},""]
[{"$error":"#NUM!"},{"$error":"#NUM!"},{"$error":"#NUM!"},{"$error":"#NUM!"},{"$error":"#NUM!"},""]
[{"$error":"#NUM!"},{"$error":"#NUM!"},{"$error":"#NUM!"},{"$error":"#NUM!"},{"$error":"#NUM!"},""]
[{"$error":"#NUM!"},{"$error":"#NUM!"},{"$error":"#NUM!"},{"$error":"#NUM!"},{"$error":"#NUM!"},""]
[{"$error":"#NUM!"},{"$error":"#NUM!"},{"$error":"#NUM!"},{"$error":"#NUM!"},{"$error":"#NUM!"},""]
[{"$error":"#NUM!"},{"$error":"#NUM!"},{"$error":"#NUM!"},{"$error":"#NUM!"},{"$error":"#NUM!"},""]
[{"$error":"#NUM!"},{"$error":"#NUM!"},{"$error":"#NUM!"},{"$error":"#NUM!"},{"$error":"#NUM!"},""]
[{"$error":"#NUM!"},{"$error":"#NUM!"},{"$error":"#NUM!"},{"$error":"#NUM!"},{"$error":"#NUM!"},""]
[{"$error":"#NUM!"},{"$error":"#NUM!"},{"$error":"#NUM!"},{"$error":"#NUM!"},{"$error":"#NUM!"},""]
[{"$error":"#NUM!"},{"$error":"#NUM!"},{"$error":"#NUM!"},{"$error":"#NUM!"},{"$error":"#NUM!"},""]
[{"$error":"#NUM!"},{"$error":"#NUM!"},{"$error":"#NUM!"},{"$error":"#NUM!"},{"$error":"#NUM!"},""]
[{"$error":"#NUM!"},{"$error":"#NUM!"},{"$error":"#NUM!"},{"$error":"#NUM!"},{"$error":"#NUM!"},""]
[{"$error":"#NUM!"},{"$error":"#NUM!"},{"$error":"#NUM!"},{"$error":"#NUM!"},{"$error":"#NUM!"},""]
[{"$error":"#NUM!"},{"$error":"#NUM!"},{"$error":"#NUM!"},{"$error":"#NUM!"},{"$error":"#NUM!"},""]
[{"$error":"#NUM!"},{"$f":"\"(SEG) \"&INDIRECT(ADDRESS($A83,2,,,\"Rural County FA Segs (MI)\"))&\", \"&INDIRECT(ADDRESS($A83,3,,,\"Rural County FA Segs (MI)\"))","v":{"$error":"#NUM!"}},{"$f":"INDIRECT(ADDRESS($A83,4,,,\"Rural County FA Segs (MI)\"))","v":{"$error":"#NUM!"}},{"$f":"\"Length = \"&INDIRECT(ADDRESS($A83,5,,,\"Rural County FA Segs (MI)\"))&\" mi\"","v":{"$error":"#NUM!"}},{"$f":"\"AADT: \"&TEXT(INDIRECT(ADDRESS($A83,6,,,\"Rural County FA Segs (MI)\")),\"#,##0\")","v":{"$error":"#NUM!"}},{"$f":"IF(ISERROR(A83),\"\",INDIRECT(ADDRESS($A83,121,,,\"Rural County FA Segs (MI)\")))","v":""}]
[{"$f":"IF(LARGE(INDIRECT(\"'Rural County FA Segs (MI)'!$DQ$5:$DQ$1005\"),ROW()-50)=F83,MATCH(F83,INDIRECT(\"'Rural County FA Segs (MI)'!$DQ$\"&A83+1&\":$DQ1005\"),0)+A83,MATCH(LARGE(INDIRECT(\"'Rural County FA Segs (MI)'!$DQ$5:$DQ$1005\"),ROW()-50),INDIRECT(\"'Rural County FA Segs (MI)'!$DQ$5:$DQ$1005\"),0)+4)","v":{"$error":"#NUM!"}},{"$error":"#NUM!"},{"$error":"#NUM!"},{"$error":"#NUM!"},{"$error":"#NUM!"},""]
[{"$error":"#NUM!"},{"$error":"#NUM!"},{"$error":"#NUM!"},{"$error":"#NUM!"},{"$error":"#NUM!"},""]
[{"$error":"#NUM!"},{"$error":"#NUM!"},{"$error":"#NUM!"},{"$error":"#NUM!"},{"$error":"#NUM!"},""]
[{"$error":"#NUM!"},{"$error":"#NUM!"},{"$error":"#NUM!"},{"$error":"#NUM!"},{"$error":"#NUM!"},""]
[{"$error":"#NUM!"},{"$error":"#NUM!"},{"$error":"#NUM!"},{"$error":"#NUM!"},{"$error":"#NUM!"},""]
[{"$error":"#NUM!"},{"$error":"#NUM!"},{"$error":"#NUM!"},{"$error":"#NUM!"},{"$error":"#NUM!"},""]
[{"$error":"#NUM!"},{"$error":"#NUM!"},{"$error":"#NUM!"},{"$error":"#NUM!"},{"$error":"#NUM!"},""]
[{"$error":"#NUM!"},{"$error":"#NUM!"},{"$error":"#NUM!"},{"$error":"#NUM!"},{"$error":"#NUM!"},""]
[{"$error":"#NUM!"},{"$error":"#NUM!"},{"$error":"#NUM!"},{"$error":"#NUM!"},{"$error":"#NUM!"},""]
[{"$error":"#NUM!"},{"$error":"#NUM!"},{"$error":"#NUM!"},{"$error":"#NUM!"},{"$error":"#NUM!"},""]
[{"$error":"#NUM!"},{"$error":"#NUM!"},{"$error":"#NUM!"},{"$error":"#NUM!"},{"$error":"#NUM!"},""]
[{"$error":"#NUM!"},{"$error":"#NUM!"},{"$error":"#NUM!"},{"$error":"#NUM!"},{"$error":"#NUM!"},""]
[{"$error":"#NUM!"},{"$error":"#NUM!"},{"$error":"#NUM!"},{"$error":"#NUM!"},{"$error":"#NUM!"},""]
[{"$error":"#NUM!"},{"$error":"#NUM!"},{"$error":"#NUM!"},{"$error":"#NUM!"},{"$error":"#NUM!"},""]
[{"$error":"#NUM!"},{"$error":"#NUM!"},{"$error":"#NUM!"},{"$error":"#NUM!"},{"$error":"#NUM!"},""]
[{"$error":"#NUM!"},{"$error":"#NUM!"},{"$error":"#NUM!"},{"$error":"#NUM!"},{"$error":"#NUM!"},""]
[{"$error":"#NUM!"},{"$error":"#NUM!"},{"$error":"#NUM!"},{"$error":"#NUM!"},{"$error":"#NUM!"},""]
[{"$f":"MATCH(LARGE(INDIRECT(\"'Rural County Non-FA Segs (MI)'!$CS$5:$CS$1005\"),ROW()-100),INDIRECT(\"'Rural County Non-FA Segs (MI)'!$CS$5:$CS$1005\"),0)+4","v":{"$error":"#NUM!"}},{"$f":"\"(SEG) \"&INDIRECT(ADDRESS($A101,2,,,\"Rural County Non-FA Segs (MI)\"))&\", \"&INDIRECT(ADDRESS($A101,3,,,\"Rural County Non-FA Segs (MI)\"))","v":{"$error":"#NUM!"}},{"$f":"INDIRECT(ADDRESS($A101,4,,,\"Rural County Non-FA Segs (MI)\"))","v":{"$error":"#NUM!"}},{"$f":"\"Length = \"&INDIRECT(ADDRESS($A101,6,,,\"Rural County Non-FA Segs (MI)\"))&\" mi\"","v":{"$error":"#NUM!"}},{"$f":"\"AADT: \"&TEXT(INDIRECT(ADDRESS($A101,7,,,\"Rural County Non-FA Segs (MI)\")),\"#,##0\")","v":{"$error":"#NUM!"}},{"$f":"IF(ISERROR(A101),\"\",INDIRECT(ADDRESS($A101,97,,,\"Rural County Non-FA Segs (MI)\")))","v":""}]
[{"$f":"IF(LARGE(INDIRECT(\"'Rural County Non-FA Segs (MI)'!$CS$5:$CS$1005\"),ROW()-100)=F101,MATCH(F101,INDIRECT(\"'Rural County Non-FA Segs (MI)'!$CS$\"&A101+1&\":$CS1005\"),0)+A101,MATCH(LARGE(INDIRECT(\"'Rural County Non-FA Segs (MI)'!$CS$5:$CS$1005\"),ROW()-100),INDIRECT(\"'Rural County Non-FA Segs (MI)'!$CS$5:$CS$1005\"),0)+4)","v":{"$error":"#NUM!"}},{"$error":"#NUM!"},{"$error":"#NUM!"},{"$error":"#NUM!"},{"$error":"#NUM!"},""]
[{"$error":"#NUM!"},{"$error":"#NUM!"},{"$error":"#NUM!"},{"$error":"#NUM!"},{"$error":"#NUM!"},""]
[{"$error":"#NUM!"},{"$error":"#NUM!"},{"$error":"#NUM!"},{"$error":"#NUM!"},{"$error":"#NUM!"},""]
[{"$error":"#NUM!"},{"$error":"#NUM!"},{"$error":"#NUM!"},{"$error":"#NUM!"},{"$error":"#NUM!"},""]
[{"$error":"#NUM!"},{"$error":"#NUM!"},{"$error":"#NUM!"},{"$error":"#NUM!"},{"$error":"#NUM!"},""]
[{"$error":"#NUM!"},{"$error":"#NUM!"},{"$error":"#NUM!"},{"$error":"#NUM!"},{"$error":"#NUM!"},""]
[{"$error":"#NUM!"},{"$error":"#NUM!"},{"$error":"#NUM!"},{"$error":"#NUM!"},{"$error":"#NUM!"},""]
[{"$error":"#NUM!"},{"$error":"#NUM!"},{"$error":"#NUM!"},{"$error":"#NUM!"},{"$error":"#NUM!"},""]
[{"$error":"#NUM!"},{"$error":"#NUM!"},{"$error":"#NUM!"},{"$error":"#NUM!"},{"$error":"#NUM!"},""]
[{"$error":"#NUM!"},{"$error":"#NUM!"},{"$error":"#NUM!"},{"$error":"#NUM!"},{"$error":"#NUM!"},""]
[{"$error":"#NUM!"},{"$error":"#NUM!"},{"$error":"#NUM!"},{"$error":"#NUM!"},{"$error":"#NUM!"},""]
[{"$error":"#NUM!"},{"$error":"#NUM!"},{"$error":"#NUM!"},{"$error":"#NUM!"},{"$error":"#NUM!"},""]
[{"$error":"#NUM!"},{"$error":"#NUM!"},{"$error":"#NUM!"},{"$error":"#NUM!"},{"$error":"#NUM!"},""]
[{"$error":"#NUM!"},{"$error":"#NUM!"},{"$error":"#NUM!"},{"$error":"#NUM!"},{"$error":"#NUM!"},""]
[{"$error":"#NUM!"},{"$error":"#NUM!"},{"$error":"#NUM!"},{"$error":"#NUM!"},{"$error":"#NUM!"},""]
[{"$error":"#NUM!"},{"$error":"#NUM!"},{"$error":"#NUM!"},{"$error":"#NUM!"},{"$error":"#NUM!"},""]
[{"$error":"#NUM!"},{"$error":"#NUM!"},{"$error":"#NUM!"},{"$error":"#NUM!"},{"$error":"#NUM!"},""]
[{"$error":"#NUM!"},{"$error":"#NUM!"},{"$error":"#NUM!"},{"$error":"#NUM!"},{"$error":"#NUM!"},""]
[{"$error":"#NUM!"},{"$error":"#NUM!"},{"$error":"#NUM!"},{"$error":"#NUM!"},{"$error":"#NUM!"},""]
[{"$error":"#NUM!"},{"$error":"#NUM!"},{"$error":"#NUM!"},{"$error":"#NUM!"},{"$error":"#NUM!"},""]
[{"$error":"#NUM!"},{"$error":"#NUM!"},{"$error":"#NUM!"},{"$error":"#NUM!"},{"$error":"#NUM!"},""]
[{"$error":"#NUM!"},{"$error":"#NUM!"},{"$error":"#NUM!"},{"$error":"#NUM!"},{"$error":"#NUM!"},""]
[{"$error":"#NUM!"},{"$error":"#NUM!"},{"$error":"#NUM!"},{"$error":"#NUM!"},{"$error":"#NUM!"},""]
[{"$error":"#NUM!"},{"$error":"#NUM!"},{"$error":"#NUM!"},{"$error":"#NUM!"},{"$error":"#NUM!"},""]
[{"$error":"#NUM!"},{"$error":"#NUM!"},{"$error":"#NUM!"},{"$error":"#NUM!"},{"$error":"#NUM!"},""]
[{"$error":"#NUM!"},{"$error":"#NUM!"},{"$error":"#NUM!"},{"$error":"#NUM!"},{"$error":"#NUM!"},""]
[{"$error":"#NUM!"},{"$error":"#NUM!"},{"$error":"#NUM!"},{"$error":"#NUM!"},{"$error":"#NUM!"},""]
[{"$error":"#NUM!"},{"$error":"#NUM!"},{"$error":"#NUM!"},{"$error":"#NUM!"},{"$error":"#NUM!"},""]
[{"$error":"#NUM!"},{"$error":"#NUM!"},{"$error":"#NUM!"},{"$error":"#NUM!"},{"$error":"#NUM!"},""]
[{"$error":"#NUM!"},{"$error":"#NUM!"},{"$error":"#NUM!"},{"$error":"#NUM!"},{"$error":"#NUM!"},""]
[{"$error":"#NUM!"},{"$error":"#NUM!"},{"$error":"#NUM!"},{"$error":"#NUM!"},{"$error":"#NUM!"},""]
[{"$error":"#NUM!"},{"$f":"\"(SEG) \"&INDIRECT(ADDRESS($A133,2,,,\"Rural County Non-FA Segs (MI)\"))&\", \"&INDIRECT(ADDRESS($A133,3,,,\"Rural County Non-FA Segs (MI)\"))","v":{"$error":"#NUM!"}},{"$f":"INDIRECT(ADDRESS($A133,4,,,\"Rural County Non-FA Segs (MI)\"))","v":{"$error":"#NUM!"}},{"$f":"\"Length = \"&INDIRECT(ADDRESS($A133,6,,,\"Rural County Non-FA Segs (MI)\"))&\" mi\"","v":{"$error":"#NUM!"}},{"$f":"\"AADT: \"&TEXT(INDIRECT(ADDRESS($A133,7,,,\"Rural County Non-FA Segs (MI)\")),\"#,##0\")","v":{"$error":"#NUM!"}},{"$f":"IF(ISERROR(A133),\"\",INDIRECT(ADDRESS($A133,97,,,\"Rural County Non-FA Segs (MI)\")))","v":""}]
[{"$f":"IF(LARGE(INDIRECT(\"'Rural County Non-FA Segs (MI)'!$CS$5:$CS$1005\"),ROW()-100)=F133,MATCH(F133,INDIRECT(\"'Rural County Non-FA Segs (MI)'!$CS$\"&A133+1&\":$CS1005\"),0)+A133,MATCH(LARGE(INDIRECT(\"'Rural County Non-FA Segs (MI)'!$CS$5:$CS$1005\"),ROW()-100),INDIRECT(\"'Rural County Non-FA Segs (MI)'!$CS$5:$CS$1005\"),0)+4)","v":{"$error":"#NUM!"}},{"$error":"#NUM!"},{"$error":"#NUM!"},{"$error":"#NUM!"},{"$error":"#NUM!"},""]
[{"$error":"#NUM!"},{"$error":"#NUM!"},{"$error":"#NUM!"},{"$error":"#NUM!"},{"$error":"#NUM!"},""]
[{"$error":"#NUM!"},{"$error":"#NUM!"},{"$error":"#NUM!"},{"$error":"#NUM!"},{"$error":"#NUM!"},""]
[{"$error":"#NUM!"},{"$error":"#NUM!"},{"$error":"#NUM!"},{"$error":"#NUM!"},{"$error":"#NUM!"},""]
[{"$error":"#NUM!"},{"$error":"#NUM!"},{"$error":"#NUM!"},{"$error":"#NUM!"},{"$error":"#NUM!"},""]
[{"$error":"#NUM!"},{"$error":"#NUM!"},{"$error":"#NUM!"},{"$error":"#NUM!"},{"$error":"#NUM!"},""]
[{"$error":"#NUM!"},{"$error":"#NUM!"},{"$error":"#NUM!"},{"$error":"#NUM!"},{"$error":"#NUM!"},""]
[{"$error":"#NUM!"},{"$error":"#NUM!"},{"$error":"#NUM!"},{"$error":"#NUM!"},{"$error":"#NUM!"},""]
[{"$error":"#NUM!"},{"$error":"#NUM!"},{"$error":"#NUM!"},{"$error":"#NUM!"},{"$error":"#NUM!"},""]
[{"$error":"#NUM!"},{"$error":"#NUM!"},{"$error":"#NUM!"},{"$error":"#NUM!"},{"$error":"#NUM!"},""]
[{"$error":"#NUM!"},{"$error":"#NUM!"},{"$error":"#NUM!"},{"$error":"#NUM!"},{"$error":"#NUM!"},""]
[{"$error":"#NUM!"},{"$error":"#NUM!"},{"$error":"#NUM!"},{"$error":"#NUM!"},{"$error":"#NUM!"},""]
[{"$error":"#NUM!"},{"$error":"#NUM!"},{"$error":"#NUM!"},{"$error":"#NUM!"},{"$error":"#NUM!"},""]
[{"$error":"#NUM!"},{"$error":"#NUM!"},{"$error":"#NUM!"},{"$error":"#NUM!"},{"$error":"#NUM!"},""]
[{"$error":"#NUM!"},{"$error":"#NUM!"},{"$error":"#NUM!"},{"$error":"#NUM!"},{"$error":"#NUM!"},""]
[{"$error":"#NUM!"},{"$error":"#NUM!"},{"$error":"#NUM!"},{"$error":"#NUM!"},{"$error":"#NUM!"},""]
[{"$error":"#NUM!"},{"$error":"#NUM!"},{"$error":"#NUM!"},{"$error":"#NUM!"},{"$error":"#NUM!"},""]
[{"$f":"MATCH(LARGE(INDIRECT(\"'Rural Multilane Segments (MI)'!$DV$5:$DV$1005\"),ROW()-150),INDIRECT(\"'Rural Multilane Segments (MI)'!$DV$5:$DV$1005\"),0)+4","v":{"$error":"#NUM!"}},{"$f":"\"(SEG) \"&INDIRECT(ADDRESS($A151,2,,,\"Rural Multilane Segments (MI)\"))&\", \"&INDIRECT(ADDRESS($A151,3,,,\"Rural Multilane Segments (MI)\"))","v":{"$error":"#NUM!"}},{"$f":"INDIRECT(ADDRESS($A151,4,,,\"Rural Multilane Segments (MI)\"))","v":{"$error":"#NUM!"}},{"$f":"\"Length = \"&INDIRECT(ADDRESS($A151,8,,,\"Rural Multilane Segments (MI)\"))&\" mi\"","v":{"$error":"#NUM!"}},{"$f":"\"AADT: \"&TEXT(INDIRECT(ADDRESS($A151,9,,,\"Rural Multilane Segments (MI)\")),\"#,##0\")","v":{"$error":"#NUM!"}},{"$f":"IF(ISERROR(A151),\"\",INDIRECT(ADDRESS($A151,126,,,\"Rural Multilane Segments (MI)\")))","v":""}]
[{"$f":"IF(LARGE(INDIRECT(\"'Rural Multilane Segments (MI)'!$DV$5:$DV$1005\"),ROW()-150)=F151,MATCH(F151,INDIRECT(\"'Rural Multilane Segments (MI)'!$DV$\"&A151+1&\":$DV1005\"),0)+A151,MATCH(LARGE(INDIRECT(\"'Rural Multilane Segments (MI)'!$DV$5:$DV$1005\"),ROW()-150),INDIRECT(\"'Rural Multilane Segments (MI)'!$DV$5:$DV$1005\"),0)+4)","v":{"$error":"#NUM!"}},{"$error":"#NUM!"},{"$error":"#NUM!"},{"$error":"#NUM!"},{"$error":"#NUM!"},""]
[{"$error":"#NUM!"},{"$error":"#NUM!"},{"$error":"#NUM!"},{"$error":"#NUM!"},{"$error":"#NUM!"},""]
[{"$error":"#NUM!"},{"$error":"#NUM!"},{"$error":"#NUM!"},{"$error":"#NUM!"},{"$error":"#NUM!"},""]
[{"$error":"#NUM!"},{"$error":"#NUM!"},{"$error":"#NUM!"},{"$error":"#NUM!"},{"$error":"#NUM!"},""]
[{"$error":"#NUM!"},{"$error":"#NUM!"},{"$error":"#NUM!"},{"$error":"#NUM!"},{"$error":"#NUM!"},""]
[{"$error":"#NUM!"},{"$error":"#NUM!"},{"$error":"#NUM!"},{"$error":"#NUM!"},{"$error":"#NUM!"},""]
[{"$error":"#NUM!"},{"$error":"#NUM!"},{"$error":"#NUM!"},{"$error":"#NUM!"},{"$error":"#NUM!"},""]
[{"$error":"#NUM!"},{"$error":"#NUM!"},{"$error":"#NUM!"},{"$error":"#NUM!"},{"$error":"#NUM!"},""]
[{"$error":"#NUM!"},{"$error":"#NUM!"},{"$error":"#NUM!"},{"$error":"#NUM!"},{"$error":"#NUM!"},""]
[{"$error":"#NUM!"},{"$error":"#NUM!"},{"$error":"#NUM!"},{"$error":"#NUM!"},{"$error":"#NUM!"},""]
[{"$error":"#NUM!"},{"$error":"#NUM!"},{"$error":"#NUM!"},{"$error":"#NUM!"},{"$error":"#NUM!"},""]
[{"$error":"#NUM!"},{"$error":"#NUM!"},{"$error":"#NUM!"},{"$error":"#NUM!"},{"$error":"#NUM!"},""]
[{"$error":"#NUM!"},{"$error":"#NUM!"},{"$error":"#NUM!"},{"$error":"#NUM!"},{"$error":"#NUM!"},""]
[{"$error":"#NUM!"},{"$error":"#NUM!"},{"$error":"#NUM!"},{"$error":"#NUM!"},{"$error":"#NUM!"},""]
[{"$error":"#NUM!"},{"$error":"#NUM!"},{"$error":"#NUM!"},{"$error":"#NUM!"},{"$error":"#NUM!"},""]
[{"$error":"#NUM!"},{"$error":"#NUM!"},{"$error":"#NUM!"},{"$error":"#NUM!"},{"$error":"#NUM!"},""]
[{"$error":"#NUM!"},{"$error":"#NUM!"},{"$error":"#NUM!"},{"$error":"#NUM!"},{"$error":"#NUM!"},""]
[{"$error":"#NUM!"},{"$error":"#NUM!"},{"$error":"#NUM!"},{"$error":"#NUM!"},{"$error":"#NUM!"},""]
[{"$error":"#NUM!"},{"$error":"#NUM!"},{"$error":"#NUM!"},{"$error":"#NUM!"},{"$error":"#NUM!"},""]
[{"$error":"#NUM!"},{"$error":"#NUM!"},{"$error":"#NUM!"},{"$error":"#NUM!"},{"$error":"#NUM!"},""]
[{"$error":"#NUM!"},{"$error":"#NUM!"},{"$error":"#NUM!"},{"$error":"#NUM!"},{"$error":"#NUM!"},""]
[{"$error":"#NUM!"},{"$error":"#NUM!"},{"$error":"#NUM!"},{"$error":"#NUM!"},{"$error":"#NUM!"},""]
[{"$error":"#NUM!"},{"$error":"#NUM!"},{"$error":"#NUM!"},{"$error":"#NUM!"},{"$error":"#NUM!"},""]
[{"$error":"#NUM!"},{"$error":"#NUM!"},{"$error":"#NUM!"},{"$error":"#NUM!"},{"$error":"#NUM!"},""]
[{"$error":"#NUM!"},{"$error":"#NUM!"},{"$error":"#NUM!"},{"$error":"#NUM!"},{"$error":"#NUM!"},""]
[{"$error":"#NUM!"},{"$error":"#NUM!"},{"$error":"#NUM!"},{"$error":"#NUM!"},{"$error":"#NUM!"},""]
[{"$error":"#NUM!"},{"$error":"#NUM!"},{"$error":"#NUM!"},{"$error":"#NUM!"},{"$error":"#NUM!"},""]
[{"$error":"#NUM!"},{"$error":"#NUM!"},{"$error":"#NUM!"},{"$error":"#NUM!"},{"$error":"#NUM!"},""]
[{"$error":"#NUM!"},{"$error":"#NUM!"},{"$error":"#NUM!"},{"$error":"#NUM!"},{"$error":"#NUM!"},""]
[{"$error":"#NUM!"},{"$error":"#NUM!"},{"$error":"#NUM!"},{"$error":"#NUM!"},{"$error":"#NUM!"},""]
[{"$error":"#NUM!"},{"$error":"#NUM!"},{"$error":"#NUM!"},{"$error":"#NUM!"},{"$error":"#NUM!"},""]
[{"$error":"#NUM!"},{"$f":"\"(SEG) \"&INDIRECT(ADDRESS($A183,2,,,\"Rural Multilane Segments (MI)\"))&\", \"&INDIRECT(ADDRESS($A183,3,,,\"Rural Multilane Segments (MI)\"))","v":{"$error":"#NUM!"}},{"$f":"INDIRECT(ADDRESS($A183,4,,,\"Rural Multilane Segments (MI)\"))","v":{"$error":"#NUM!"}},{"$f":"\"Length = \"&INDIRECT(ADDRESS($A183,8,,,\"Rural Multilane Segments (MI)\"))&\" mi\"","v":{"$error":"#NUM!"}},{"$f":"\"AADT: \"&TEXT(INDIRECT(ADDRESS($A183,9,,,\"Rural Multilane Segments (MI)\")),\"#,##0\")","v":{"$error":"#NUM!"}},{"$f":"IF(ISERROR(A183),\"\",INDIRECT(ADDRESS($A183,126,,,\"Rural Multilane Segments (MI)\")))","v":""}]
[{"$f":"IF(LARGE(INDIRECT(\"'Rural Multilane Segments (MI)'!$DV$5:$DV$1005\"),ROW()-150)=F183,MATCH(F183,INDIRECT(\"'Rural Multilane Segments (MI)'!$DV$\"&A183+1&\":$DV1005\"),0)+A183,MATCH(LARGE(INDIRECT(\"'Rural Multilane Segments (MI)'!$DV$5:$DV$1005\"),ROW()-150),INDIRECT(\"'Rural Multilane Segments (MI)'!$DV$5:$DV$1005\"),0)+4)","v":{"$error":"#NUM!"}},{"$error":"#NUM!"},{"$error":"#NUM!"},{"$error":"#NUM!"},{"$error":"#NUM!"},""]
[{"$error":"#NUM!"},{"$error":"#NUM!"},{"$error":"#NUM!"},{"$error":"#NUM!"},{"$error":"#NUM!"},""]
[{"$error":"#NUM!"},{"$error":"#NUM!"},{"$error":"#NUM!"},{"$error":"#NUM!"},{"$error":"#NUM!"},""]
[{"$error":"#NUM!"},{"$error":"#NUM!"},{"$error":"#NUM!"},{"$error":"#NUM!"},{"$error":"#NUM!"},""]
[{"$error":"#NUM!"},{"$error":"#NUM!"},{"$error":"#NUM!"},{"$error":"#NUM!"},{"$error":"#NUM!"},""]
[{"$error":"#NUM!"},{"$error":"#NUM!"},{"$error":"#NUM!"},{"$error":"#NUM!"},{"$error":"#NUM!"},""]
[{"$error":"#NUM!"},{"$error":"#NUM!"},{"$error":"#NUM!"},{"$error":"#NUM!"},{"$error":"#NUM!"},""]
[{"$error":"#NUM!"},{"$error":"#NUM!"},{"$error":"#NUM!"},{"$error":"#NUM!"},{"$error":"#NUM!"},""]
[{"$error":"#NUM!"},{"$error":"#NUM!"},{"$error":"#NUM!"},{"$error":"#NUM!"},{"$error":"#NUM!"},""]
[{"$error":"#NUM!"},{"$error":"#NUM!"},{"$error":"#NUM!"},{"$error":"#NUM!"},{"$error":"#NUM!"},""]
[{"$error":"#NUM!"},{"$error":"#NUM!"},{"$error":"#NUM!"},{"$error":"#NUM!"},{"$error":"#NUM!"},""]
[{"$error":"#NUM!"},{"$error":"#NUM!"},{"$error":"#NUM!"},{"$error":"#NUM!"},{"$error":"#NUM!"},""]
[{"$error":"#NUM!"},{"$error":"#NUM!"},{"$error":"#NUM!"},{"$error":"#NUM!"},{"$error":"#NUM!"},""]
[{"$error":"#NUM!"},{"$error":"#NUM!"},{"$error":"#NUM!"},{"$error":"#NUM!"},{"$error":"#NUM!"},""]
[{"$error":"#NUM!"},{"$error":"#NUM!"},{"$error":"#NUM!"},{"$error":"#NUM!"},{"$error":"#NUM!"},""]
[{"$error":"#NUM!"},{"$error":"#NUM!"},{"$error":"#NUM!"},{"$error":"#NUM!"},{"$error":"#NUM!"},""]
[{"$error":"#NUM!"},{"$error":"#NUM!"},{"$error":"#NUM!"},{"$error":"#NUM!"},{"$error":"#NUM!"},""]
[{"$f":"MATCH(LARGE(INDIRECT(\"'Rural Unsignalized Int (MI)'!$EW$5:$EW$1005\"),ROW()-200),INDIRECT(\"'Rural Unsignalized Int (MI)'!$EW$5:$EW$1005\"),0)+4","v":{"$error":"#NUM!"}},{"$f":"\"(INT) \"&INDIRECT(ADDRESS($A201,2,,,\"Rural Unsignalized Int (MI)\"))&\" / \"&INDIRECT(ADDRESS($A201,3,,,\"Rural Unsignalized Int (MI)\"))","v":{"$error":"#NUM!"}},{"$f":"INDIRECT(ADDRESS($A201,4,,,\"Rural Unsignalized Int (MI)\"))","v":{"$error":"#NUM!"}},{"$f":"\"Type = \"&INDIRECT(ADDRESS($A201,7,,,\"Rural Unsignalized Int (MI)\"))","v":{"$error":"#NUM!"}},{"$f":"\"AADT: \"&TEXT(INDIRECT(ADDRESS($A201,8,,,\"Rural Unsignalized Int (MI)\")),\"#,##0\") & \" / \" & TEXT(INDIRECT(ADDRESS($A201,9,,,\"Rural Unsignalized Int (MI)\")),\"#,##0\")","v":{"$error":"#NUM!"}},{"$f":"IF(ISERROR(A201),\"\",INDIRECT(ADDRESS($A201,153,,,\"Rural Unsignalized Int (MI)\")))","v":""}]
[{"$f":"IF(LARGE(INDIRECT(\"'Rural Unsignalized Int (MI)'!$EW$5:$EW$1005\"),ROW()-200)=F201,MATCH(F201,INDIRECT(\"'Rural Unsignalized Int (MI)'!$EW$\"&A201+1&\":$EW1005\"),0)+A201,MATCH(LARGE(INDIRECT(\"'Rural Unsignalized Int (MI)'!$EW$5:$EW$1005\"),ROW()-200),INDIRECT(\"'Rural Unsignalized Int (MI)'!$EW$5:$EW$1005\"),0)+4)","v":{"$error":"#NUM!"}},{"$error":"#NUM!"},{"$error":"#NUM!"},{"$error":"#NUM!"},{"$error":"#NUM!"},""]
[{"$error":"#NUM!"},{"$error":"#NUM!"},{"$error":"#NUM!"},{"$error":"#NUM!"},{"$error":"#NUM!"},""]
[{"$error":"#NUM!"},{"$error":"#NUM!"},{"$error":"#NUM!"},{"$error":"#NUM!"},{"$error":"#NUM!"},""]
[{"$error":"#NUM!"},{"$error":"#NUM!"},{"$error":"#NUM!"},{"$error":"#NUM!"},{"$error":"#NUM!"},""]
[{"$error":"#NUM!"},{"$error":"#NUM!"},{"$error":"#NUM!"},{"$error":"#NUM!"},{"$error":"#NUM!"},""]
[{"$error":"#NUM!"},{"$error":"#NUM!"},{"$error":"#NUM!"},{"$error":"#NUM!"},{"$error":"#NUM!"},""]
[{"$error":"#NUM!"},{"$error":"#NUM!"},{"$error":"#NUM!"},{"$error":"#NUM!"},{"$error":"#NUM!"},""]
[{"$error":"#NUM!"},{"$error":"#NUM!"},{"$error":"#NUM!"},{"$error":"#NUM!"},{"$error":"#NUM!"},""]
[{"$error":"#NUM!"},{"$error":"#NUM!"},{"$error":"#NUM!"},{"$error":"#NUM!"},{"$error":"#NUM!"},""]
[{"$error":"#NUM!"},{"$error":"#NUM!"},{"$error":"#NUM!"},{"$error":"#NUM!"},{"$error":"#NUM!"},""]
[{"$error":"#NUM!"},{"$error":"#NUM!"},{"$error":"#NUM!"},{"$error":"#NUM!"},{"$error":"#NUM!"},""]
[{"$error":"#NUM!"},{"$error":"#NUM!"},{"$error":"#NUM!"},{"$error":"#NUM!"},{"$error":"#NUM!"},""]
[{"$error":"#NUM!"},{"$error":"#NUM!"},{"$error":"#NUM!"},{"$error":"#NUM!"},{"$error":"#NUM!"},""]
[{"$error":"#NUM!"},{"$error":"#NUM!"},{"$error":"#NUM!"},{"$error":"#NUM!"},{"$error":"#NUM!"},""]
[{"$error":"#NUM!"},{"$error":"#NUM!"},{"$error":"#NUM!"},{"$error":"#NUM!"},{"$error":"#NUM!"},""]
[{"$error":"#NUM!"},{"$error":"#NUM!"},{"$error":"#NUM!"},{"$error":"#NUM!"},{"$error":"#NUM!"},""]
[{"$error":"#NUM!"},{"$error":"#NUM!"},{"$error":"#NUM!"},{"$error":"#NUM!"},{"$error":"#NUM!"},""]
[{"$error":"#NUM!"},{"$error":"#NUM!"},{"$error":"#NUM!"},{"$error":"#NUM!"},{"$error":"#NUM!"},""]
[{"$error":"#NUM!"},{"$error":"#NUM!"},{"$error":"#NUM!"},{"$error":"#NUM!"},{"$error":"#NUM!"},""]
[{"$error":"#NUM!"},{"$error":"#NUM!"},{"$error":"#NUM!"},{"$error":"#NUM!"},{"$error":"#NUM!"},""]
[{"$error":"#NUM!"},{"$error":"#NUM!"},{"$error":"#NUM!"},{"$error":"#NUM!"},{"$error":"#NUM!"},""]
[{"$error":"#NUM!"},{"$error":"#NUM!"},{"$error":"#NUM!"},{"$error":"#NUM!"},{"$error":"#NUM!"},""]
[{"$error":"#NUM!"},{"$error":"#NUM!"},{"$error":"#NUM!"},{"$error":"#NUM!"},{"$error":"#NUM!"},""]
[{"$error":"#NUM!"},{"$error":"#NUM!"},{"$error":"#NUM!"},{"$error":"#NUM!"},{"$error":"#NUM!"},""]
[{"$error":"#NUM!"},{"$error":"#NUM!"},{"$error":"#NUM!"},{"$error":"#NUM!"},{"$error":"#NUM!"},""]
[{"$error":"#NUM!"},{"$error":"#NUM!"},{"$error":"#NUM!"},{"$error":"#NUM!"},{"$error":"#NUM!"},""]
[{"$error":"#NUM!"},{"$error":"#NUM!"},{"$error":"#NUM!"},{"$error":"#NUM!"},{"$error":"#NUM!"},""]
[{"$error":"#NUM!"},{"$error":"#NUM!"},{"$error":"#NUM!"},{"$error":"#NUM!"},{"$error":"#NUM!"},""]
[{"$error":"#NUM!"},{"$error":"#NUM!"},{"$error":"#NUM!"},{"$error":"#NUM!"},{"$error":"#NUM!"},""]
[{"$error":"#NUM!"},{"$error":"#NUM!"},{"$error":"#NUM!"},{"$error":"#NUM!"},{"$error":"#NUM!"},""]
[{"$error":"#NUM!"},{"$error":"#NUM!"},{"$error":"#NUM!"},{"$error":"#NUM!"},{"$error":"#NUM!"},""]
[{"$error":"#NUM!"},{"$f":"\"(INT) \"&INDIRECT(ADDRESS($A233,2,,,\"Rural Unsignalized Int (MI)\"))&\" / \"&INDIRECT(ADDRESS($A233,3,,,\"Rural Unsignalized Int (MI)\"))","v":{"$error":"#NUM!"}},{"$f":"INDIRECT(ADDRESS($A233,4,,,\"Rural Unsignalized Int (MI)\"))","v":{"$error":"#NUM!"}},{"$f":"\"Type = \"&INDIRECT(ADDRESS($A233,7,,,\"Rural Unsignalized Int (MI)\"))","v":{"$error":"#NUM!"}},{"$f":"\"AADT: \"&TEXT(INDIRECT(ADDRESS($A233,8,,,\"Rural Unsignalized Int (MI)\")),\"#,##0\") & \" / \" & TEXT(INDIRECT(ADDRESS($A233,9,,,\"Rural Unsignalized Int (MI)\")),\"#,##0\")","v":{"$error":"#NUM!"}},{"$f":"IF(ISERROR(A233),\"\",INDIRECT(ADDRESS($A233,153,,,\"Rural Unsignalized Int (MI)\")))","v":""}]
[{"$f":"IF(LARGE(INDIRECT(\"'Rural Unsignalized Int (MI)'!$EW$5:$EW$1005\"),ROW()-200)=F233,MATCH(F233,INDIRECT(\"'Rural Unsignalized Int (MI)'!$EW$\"&A233+1&\":$EW1005\"),0)+A233,MATCH(LARGE(INDIRECT(\"'Rural Unsignalized Int (MI)'!$EW$5:$EW$1005\"),ROW()-200),INDIRECT(\"'Rural Unsignalized Int (MI)'!$EW$5:$EW$1005\"),0)+4)","v":{"$error":"#NUM!"}},{"$error":"#NUM!"},{"$error":"#NUM!"},{"$error":"#NUM!"},{"$error":"#NUM!"},""]
[{"$error":"#NUM!"},{"$error":"#NUM!"},{"$error":"#NUM!"},{"$error":"#NUM!"},{"$error":"#NUM!"},""]
[{"$error":"#NUM!"},{"$error":"#NUM!"},{"$error":"#NUM!"},{"$error":"#NUM!"},{"$error":"#NUM!"},""]
[{"$error":"#NUM!"},{"$error":"#NUM!"},{"$error":"#NUM!"},{"$error":"#NUM!"},{"$error":"#NUM!"},""]
[{"$error":"#NUM!"},{"$error":"#NUM!"},{"$error":"#NUM!"},{"$error":"#NUM!"},{"$error":"#NUM!"},""]
[{"$error":"#NUM!"},{"$error":"#NUM!"},{"$error":"#NUM!"},{"$error":"#NUM!"},{"$error":"#NUM!"},""]
[{"$error":"#NUM!"},{"$error":"#NUM!"},{"$error":"#NUM!"},{"$error":"#NUM!"},{"$error":"#NUM!"},""]
[{"$error":"#NUM!"},{"$error":"#NUM!"},{"$error":"#NUM!"},{"$error":"#NUM!"},{"$error":"#NUM!"},""]
[{"$error":"#NUM!"},{"$error":"#NUM!"},{"$error":"#NUM!"},{"$error":"#NUM!"},{"$error":"#NUM!"},""]
[{"$error":"#NUM!"},{"$error":"#NUM!"},{"$error":"#NUM!"},{"$error":"#NUM!"},{"$error":"#NUM!"},""]
[{"$error":"#NUM!"},{"$error":"#NUM!"},{"$error":"#NUM!"},{"$error":"#NUM!"},{"$error":"#NUM!"},""]
[{"$error":"#NUM!"},{"$error":"#NUM!"},{"$error":"#NUM!"},{"$error":"#NUM!"},{"$error":"#NUM!"},""]
[{"$error":"#NUM!"},{"$error":"#NUM!"},{"$error":"#NUM!"},{"$error":"#NUM!"},{"$error":"#NUM!"},""]
[{"$error":"#NUM!"},{"$error":"#NUM!"},{"$error":"#NUM!"},{"$error":"#NUM!"},{"$error":"#NUM!"},""]
[{"$error":"#NUM!"},{"$error":"#NUM!"},{"$error":"#NUM!"},{"$error":"#NUM!"},{"$error":"#NUM!"},""]
[{"$error":"#NUM!"},{"$error":"#NUM!"},{"$error":"#NUM!"},{"$error":"#NUM!"},{"$error":"#NUM!"},""]
[{"$error":"#NUM!"},{"$error":"#NUM!"},{"$error":"#NUM!"},{"$error":"#NUM!"},{"$error":"#NUM!"},""]
[{"$f":"MATCH(LARGE(INDIRECT(\"'Rural Signalized Int (MI)'!$ES$5:$ES$1005\"),ROW()-250),INDIRECT(\"'Rural Signalized Int (MI)'!$ES$5:$ES$1005\"),0)+4","v":{"$error":"#NUM!"}},{"$f":"\"(INT) \"&INDIRECT(ADDRESS($A251,2,,,\"Rural Signalized Int (MI)\"))&\" / \"&INDIRECT(ADDRESS($A251,3,,,\"Rural Signalized Int (MI)\"))","v":{"$error":"#NUM!"}},{"$f":"INDIRECT(ADDRESS($A251,4,,,\"Rural Signalized Int (MI)\"))","v":{"$error":"#NUM!"}},{"$f":"\"Type = \"&INDIRECT(ADDRESS($A251,8,,,\"Rural Signalized Int (MI)\"))","v":{"$error":"#NUM!"}},{"$f":"\"AADT: \"&TEXT(INDIRECT(ADDRESS($A251,9,,,\"Rural Signalized Int (MI)\")),\"#,##0\") & \" / \" & TEXT(INDIRECT(ADDRESS($A251,10,,,\"Rural Signalized Int (MI)\")),\"#,##0\")","v":{"$error":"#NUM!"}},{"$f":"IF(ISERROR(A251),\"\",INDIRECT(ADDRESS($A251,149,,,\"Rural Signalized Int (MI)\")))","v":""}]
[{"$f":"IF(LARGE(INDIRECT(\"'Rural Signalized Int (MI)'!$ES$5:$ES$1005\"),ROW()-250)=F251,MATCH(F251,INDIRECT(\"'Rural Signalized Int (MI)'!$ES$\"&A251+1&\":$ES1005\"),0)+A251,MATCH(LARGE(INDIRECT(\"'Rural Signalized Int (MI)'!$ES$5:$ES$1005\"),ROW()-250),INDIRECT(\"'Rural Signalized Int (MI)'!$ES$5:$ES$1005\"),0)+4)","v":{"$error":"#NUM!"}},{"$error":"#NUM!"},{"$error":"#NUM!"},{"$error":"#NUM!"},{"$error":"#NUM!"},""]
[{"$error":"#NUM!"},{"$error":"#NUM!"},{"$error":"#NUM!"},{"$error":"#NUM!"},{"$error":"#NUM!"},""]
[{"$error":"#NUM!"},{"$error":"#NUM!"},{"$error":"#NUM!"},{"$error":"#NUM!"},{"$error":"#NUM!"},""]
[{"$error":"#NUM!"},{"$error":"#NUM!"},{"$error":"#NUM!"},{"$error":"#NUM!"},{"$error":"#NUM!"},""]
[{"$error":"#NUM!"},{"$error":"#NUM!"},{"$error":"#NUM!"},{"$error":"#NUM!"},{"$error":"#NUM!"},""]
[{"$error":"#NUM!"},{"$error":"#NUM!"},{"$error":"#NUM!"},{"$error":"#NUM!"},{"$error":"#NUM!"},""]
[{"$error":"#NUM!"},{"$error":"#NUM!"},{"$error":"#NUM!"},{"$error":"#NUM!"},{"$error":"#NUM!"},""]
[{"$error":"#NUM!"},{"$error":"#NUM!"},{"$error":"#NUM!"},{"$error":"#NUM!"},{"$error":"#NUM!"},""]
[{"$error":"#NUM!"},{"$error":"#NUM!"},{"$error":"#NUM!"},{"$error":"#NUM!"},{"$error":"#NUM!"},""]
[{"$error":"#NUM!"},{"$error":"#NUM!"},{"$error":"#NUM!"},{"$error":"#NUM!"},{"$error":"#NUM!"},""]
[{"$error":"#NUM!"},{"$error":"#NUM!"},{"$error":"#NUM!"},{"$error":"#NUM!"},{"$error":"#NUM!"},""]
[{"$error":"#NUM!"},{"$error":"#NUM!"},{"$error":"#NUM!"},{"$error":"#NUM!"},{"$error":"#NUM!"},""]
[{"$error":"#NUM!"},{"$error":"#NUM!"},{"$error":"#NUM!"},{"$error":"#NUM!"},{"$error":"#NUM!"},""]
[{"$error":"#NUM!"},{"$error":"#NUM!"},{"$error":"#NUM!"},{"$error":"#NUM!"},{"$error":"#NUM!"},""]
[{"$error":"#NUM!"},{"$error":"#NUM!"},{"$error":"#NUM!"},{"$error":"#NUM!"},{"$error":"#NUM!"},""]
[{"$error":"#NUM!"},{"$error":"#NUM!"},{"$error":"#NUM!"},{"$error":"#NUM!"},{"$error":"#NUM!"},""]
[{"$error":"#NUM!"},{"$error":"#NUM!"},{"$error":"#NUM!"},{"$error":"#NUM!"},{"$error":"#NUM!"},""]
[{"$error":"#NUM!"},{"$error":"#NUM!"},{"$error":"#NUM!"},{"$error":"#NUM!"},{"$error":"#NUM!"},""]
[{"$error":"#NUM!"},{"$error":"#NUM!"},{"$error":"#NUM!"},{"$error":"#NUM!"},{"$error":"#NUM!"},""]
[{"$error":"#NUM!"},{"$error":"#NUM!"},{"$error":"#NUM!"},{"$error":"#NUM!"},{"$error":"#NUM!"},""]
[{"$error":"#NUM!"},{"$error":"#NUM!"},{"$error":"#NUM!"},{"$error":"#NUM!"},{"$error":"#NUM!"},""]
[{"$error":"#NUM!"},{"$error":"#NUM!"},{"$error":"#NUM!"},{"$error":"#NUM!"},{"$error":"#NUM!"},""]
[{"$error":"#NUM!"},{"$error":"#NUM!"},{"$error":"#NUM!"},{"$error":"#NUM!"},{"$error":"#NUM!"},""]
[{"$error":"#NUM!"},{"$error":"#NUM!"},{"$error":"#NUM!"},{"$error":"#NUM!"},{"$error":"#NUM!"},""]
[{"$error":"#NUM!"},{"$error":"#NUM!"},{"$error":"#NUM!"},{"$error":"#NUM!"},{"$error":"#NUM!"},""]
[{"$error":"#NUM!"},{"$error":"#NUM!"},{"$error":"#NUM!"},{"$error":"#NUM!"},{"$error":"#NUM!"},""]
[{"$error":"#NUM!"},{"$error":"#NUM!"},{"$error":"#NUM!"},{"$error":"#NUM!"},{"$error":"#NUM!"},""]
[{"$error":"#NUM!"},{"$error":"#NUM!"},{"$error":"#NUM!"},{"$error":"#NUM!"},{"$error":"#NUM!"},""]
[{"$error":"#NUM!"},{"$error":"#NUM!"},{"$error":"#NUM!"},{"$error":"#NUM!"},{"$error":"#NUM!"},""]
[{"$error":"#NUM!"},{"$error":"#NUM!"},{"$error":"#NUM!"},{"$error":"#NUM!"},{"$error":"#NUM!"},""]
[{"$error":"#NUM!"},{"$error":"#NUM!"},{"$error":"#NUM!"},{"$error":"#NUM!"},{"$error":"#NUM!"},""]
[{"$error":"#NUM!"},{"$f":"\"(INT) \"&INDIRECT(ADDRESS($A283,2,,,\"Rural Signalized Int (MI)\"))&\" / \"&INDIRECT(ADDRESS($A283,3,,,\"Rural Signalized Int (MI)\"))","v":{"$error":"#NUM!"}},{"$f":"INDIRECT(ADDRESS($A283,4,,,\"Rural Signalized Int (MI)\"))","v":{"$error":"#NUM!"}},{"$f":"\"Type = \"&INDIRECT(ADDRESS($A283,8,,,\"Rural Signalized Int (MI)\"))","v":{"$error":"#NUM!"}},{"$f":"\"AADT: \"&TEXT(INDIRECT(ADDRESS($A283,9,,,\"Rural Signalized Int (MI)\")),\"#,##0\") & \" / \" & TEXT(INDIRECT(ADDRESS($A283,10,,,\"Rural Signalized Int (MI)\")),\"#,##0\")","v":{"$error":"#NUM!"}},{"$f":"IF(ISERROR(A283),\"\",INDIRECT(ADDRESS($A283,149,,,\"Rural Signalized Int (MI)\")))","v":""}]
[{"$f":"IF(LARGE(INDIRECT(\"'Rural Signalized Int (MI)'!$ES$5:$ES$1005\"),ROW()-250)=F283,MATCH(F283,INDIRECT(\"'Rural Signalized Int (MI)'!$ES$\"&A283+1&\":$ES1005\"),0)+A283,MATCH(LARGE(INDIRECT(\"'Rural Signalized Int (MI)'!$ES$5:$ES$1005\"),ROW()-250),INDIRECT(\"'Rural Signalized Int (MI)'!$ES$5:$ES$1005\"),0)+4)","v":{"$error":"#NUM!"}},{"$error":"#NUM!"},{"$error":"#NUM!"},{"$error":"#NUM!"},{"$error":"#NUM!"},""]
[{"$error":"#NUM!"},{"$error":"#NUM!"},{"$error":"#NUM!"},{"$error":"#NUM!"},{"$error":"#NUM!"},""]
[{"$error":"#NUM!"},{"$error":"#NUM!"},{"$error":"#NUM!"},{"$error":"#NUM!"},{"$error":"#NUM!"},""]
[{"$error":"#NUM!"},{"$error":"#NUM!"},{"$error":"#NUM!"},{"$error":"#NUM!"},{"$error":"#NUM!"},""]
[{"$error":"#NUM!"},{"$error":"#NUM!"},{"$error":"#NUM!"},{"$error":"#NUM!"},{"$error":"#NUM!"},""]
[{"$error":"#NUM!"},{"$error":"#NUM!"},{"$error":"#NUM!"},{"$error":"#NUM!"},{"$error":"#NUM!"},""]
[{"$error":"#NUM!"},{"$error":"#NUM!"},{"$error":"#NUM!"},{"$error":"#NUM!"},{"$error":"#NUM!"},""]
[{"$error":"#NUM!"},{"$error":"#NUM!"},{"$error":"#NUM!"},{"$error":"#NUM!"},{"$error":"#NUM!"},""]
[{"$error":"#NUM!"},{"$error":"#NUM!"},{"$error":"#NUM!"},{"$error":"#NUM!"},{"$error":"#NUM!"},""]
[{"$error":"#NUM!"},{"$error":"#NUM!"},{"$error":"#NUM!"},{"$error":"#NUM!"},{"$error":"#NUM!"},""]
[{"$error":"#NUM!"},{"$error":"#NUM!"},{"$error":"#NUM!"},{"$error":"#NUM!"},{"$error":"#NUM!"},""]
[{"$error":"#NUM!"},{"$error":"#NUM!"},{"$error":"#NUM!"},{"$error":"#NUM!"},{"$error":"#NUM!"},""]
[{"$error":"#NUM!"},{"$error":"#NUM!"},{"$error":"#NUM!"},{"$error":"#NUM!"},{"$error":"#NUM!"},""]
[{"$error":"#NUM!"},{"$error":"#NUM!"},{"$error":"#NUM!"},{"$error":"#NUM!"},{"$error":"#NUM!"},""]
[{"$error":"#NUM!"},{"$error":"#NUM!"},{"$error":"#NUM!"},{"$error":"#NUM!"},{"$error":"#NUM!"},""]
[{"$error":"#NUM!"},{"$error":"#NUM!"},{"$error":"#NUM!"},{"$error":"#NUM!"},{"$error":"#NUM!"},""]
[{"$error":"#NUM!"},{"$error":"#NUM!"},{"$error":"#NUM!"},{"$error":"#NUM!"},{"$error":"#NUM!"},""]
[{"$f":"MATCH(LARGE(INDIRECT(\"'Urban & Suburban Segments (MI)'!$HW$5:$HW$1005\"),ROW()-300),INDIRECT(\"'Urban & Suburban Segments (MI)'!$HW$5:$HW$1005\"),0)+4","v":{"$error":"#NUM!"}},{"$f":"\"(SEG) \"&INDIRECT(ADDRESS($A301,2,,,\"Urban & Suburban Segments (MI)\"))&\", \"&INDIRECT(ADDRESS($A301,3,,,\"Urban & Suburban Segments (MI)\"))","v":{"$error":"#NUM!"}},{"$f":"INDIRECT(ADDRESS($A301,4,,,\"Urban & Suburban Segments (MI)\"))","v":{"$error":"#NUM!"}},{"$f":"\"Length = \"&INDIRECT(ADDRESS($A301,6,,,\"Urban & Suburban Segments (MI)\"))&\" mi\"","v":{"$error":"#NUM!"}},{"$f":"\"AADT: \"&TEXT(INDIRECT(ADDRESS($A301,7,,,\"Urban & Suburban Segments (MI)\")),\"#,##0\")","v":{"$error":"#NUM!"}},{"$f":"IF(ISERROR(A301),\"\",INDIRECT(ADDRESS($A301,231,,,\"Urban & Suburban Segments (MI)\")))","v":""}]
[{"$f":"IF(LARGE(INDIRECT(\"'Urban & Suburban Segments (MI)'!$HW$5:$HW$1005\"),ROW()-300)=F301,MATCH(F301,INDIRECT(\"'Urban & Suburban Segments (MI)'!$HW$\"&A301+1&\":$HW1005\"),0)+A301,MATCH(LARGE(INDIRECT(\"'Urban & Suburban Segments (MI)'!$HW$5:$HW$1005\"),ROW()-300),INDIRECT(\"'Urban & Suburban Segments (MI)'!$HW$5:$HW$1005\"),0)+4)","v":{"$error":"#NUM!"}},{"$error":"#NUM!"},{"$error":"#NUM!"},{"$error":"#NUM!"},{"$error":"#NUM!"},""]
[{"$error":"#NUM!"},{"$error":"#NUM!"},{"$error":"#NUM!"},{"$error":"#NUM!"},{"$error":"#NUM!"},""]
[{"$error":"#NUM!"},{"$error":"#NUM!"},{"$error":"#NUM!"},{"$error":"#NUM!"},{"$error":"#NUM!"},""]
[{"$error":"#NUM!"},{"$error":"#NUM!"},{"$error":"#NUM!"},{"$error":"#NUM!"},{"$error":"#NUM!"},""]
[{"$error":"#NUM!"},{"$error":"#NUM!"},{"$error":"#NUM!"},{"$error":"#NUM!"},{"$error":"#NUM!"},""]
[{"$error":"#NUM!"},{"$error":"#NUM!"},{"$error":"#NUM!"},{"$error":"#NUM!"},{"$error":"#NUM!"},""]
[{"$error":"#NUM!"},{"$error":"#NUM!"},{"$error":"#NUM!"},{"$error":"#NUM!"},{"$error":"#NUM!"},""]
[{"$error":"#NUM!"},{"$error":"#NUM!"},{"$error":"#NUM!"},{"$error":"#NUM!"},{"$error":"#NUM!"},""]
[{"$error":"#NUM!"},{"$error":"#NUM!"},{"$error":"#NUM!"},{"$error":"#NUM!"},{"$error":"#NUM!"},""]
[{"$error":"#NUM!"},{"$error":"#NUM!"},{"$error":"#NUM!"},{"$error":"#NUM!"},{"$error":"#NUM!"},""]
[{"$error":"#NUM!"},{"$error":"#NUM!"},{"$error":"#NUM!"},{"$error":"#NUM!"},{"$error":"#NUM!"},""]
[{"$error":"#NUM!"},{"$error":"#NUM!"},{"$error":"#NUM!"},{"$error":"#NUM!"},{"$error":"#NUM!"},""]
[{"$error":"#NUM!"},{"$error":"#NUM!"},{"$error":"#NUM!"},{"$error":"#NUM!"},{"$error":"#NUM!"},""]
[{"$error":"#NUM!"},{"$error":"#NUM!"},{"$error":"#NUM!"},{"$error":"#NUM!"},{"$error":"#NUM!"},""]
[{"$error":"#NUM!"},{"$error":"#NUM!"},{"$error":"#NUM!"},{"$error":"#NUM!"},{"$error":"#NUM!"},""]
[{"$error":"#NUM!"},{"$error":"#NUM!"},{"$error":"#NUM!"},{"$error":"#NUM!"},{"$error":"#NUM!"},""]
[{"$error":"#NUM!"},{"$error":"#NUM!"},{"$error":"#NUM!"},{"$error":"#NUM!"},{"$error":"#NUM!"},""]
[{"$error":"#NUM!"},{"$error":"#NUM!"},{"$error":"#NUM!"},{"$error":"#NUM!"},{"$error":"#NUM!"},""]
[{"$error":"#NUM!"},{"$error":"#NUM!"},{"$error":"#NUM!"},{"$error":"#NUM!"},{"$error":"#NUM!"},""]
[{"$error":"#NUM!"},{"$error":"#NUM!"},{"$error":"#NUM!"},{"$error":"#NUM!"},{"$error":"#NUM!"},""]
[{"$error":"#NUM!"},{"$error":"#NUM!"},{"$error":"#NUM!"},{"$error":"#NUM!"},{"$error":"#NUM!"},""]
[{"$error":"#NUM!"},{"$error":"#NUM!"},{"$error":"#NUM!"},{"$error":"#NUM!"},{"$error":"#NUM!"},""]
[{"$error":"#NUM!"},{"$error":"#NUM!"},{"$error":"#NUM!"},{"$error":"#NUM!"},{"$error":"#NUM!"},""]
[{"$error":"#NUM!"},{"$error":"#NUM!"},{"$error":"#NUM!"},{"$error":"#NUM!"},{"$error":"#NUM!"},""]
[{"$error":"#NUM!"},{"$error":"#NUM!"},{"$error":"#NUM!"},{"$error":"#NUM!"},{"$error":"#NUM!"},""]
[{"$error":"#NUM!"},{"$error":"#NUM!"},{"$error":"#NUM!"},{"$error":"#NUM!"},{"$error":"#NUM!"},""]
[{"$error":"#NUM!"},{"$error":"#NUM!"},{"$error":"#NUM!"},{"$error":"#NUM!"},{"$error":"#NUM!"},""]
[{"$error":"#NUM!"},{"$error":"#NUM!"},{"$error":"#NUM!"},{"$error":"#NUM!"},{"$error":"#NUM!"},""]
[{"$error":"#NUM!"},{"$error":"#NUM!"},{"$error":"#NUM!"},{"$error":"#NUM!"},{"$error":"#NUM!"},""]
[{"$error":"#NUM!"},{"$error":"#NUM!"},{"$error":"#NUM!"},{"$error":"#NUM!"},{"$error":"#NUM!"},""]
[{"$error":"#NUM!"},{"$error":"#NUM!"},{"$error":"#NUM!"},{"$error":"#NUM!"},{"$error":"#NUM!"},""]
[{"$error":"#NUM!"},{"$f":"\"(SEG) \"&INDIRECT(ADDRESS($A333,2,,,\"Urban & Suburban Segments (MI)\"))&\", \"&INDIRECT(ADDRESS($A333,3,,,\"Urban & Suburban Segments (MI)\"))","v":{"$error":"#NUM!"}},{"$f":"INDIRECT(ADDRESS($A333,4,,,\"Urban & Suburban Segments (MI)\"))","v":{"$error":"#NUM!"}},{"$f":"\"Length = \"&INDIRECT(ADDRESS($A333,6,,,\"Urban & Suburban Segments (MI)\"))&\" mi\"","v":{"$error":"#NUM!"}},{"$f":"\"AADT: \"&TEXT(INDIRECT(ADDRESS($A333,7,,,\"Urban & Suburban Segments (MI)\")),\"#,##0\")","v":{"$error":"#NUM!"}},{"$f":"IF(ISERROR(A333),\"\",INDIRECT(ADDRESS($A333,231,,,\"Urban & Suburban Segments (MI)\")))","v":""}]
[{"$f":"IF(LARGE(INDIRECT(\"'Urban & Suburban Segments (MI)'!$HW$5:$HW$1005\"),ROW()-300)=F333,MATCH(F333,INDIRECT(\"'Urban & Suburban Segments (MI)'!$HW$\"&A333+1&\":$HW1005\"),0)+A333,MATCH(LARGE(INDIRECT(\"'Urban & Suburban Segments (MI)'!$HW$5:$HW$1005\"),ROW()-300),INDIRECT(\"'Urban & Suburban Segments (MI)'!$HW$5:$HW$1005\"),0)+4)","v":{"$error":"#NUM!"}},{"$error":"#NUM!"},{"$error":"#NUM!"},{"$error":"#NUM!"},{"$error":"#NUM!"},""]
[{"$error":"#NUM!"},{"$error":"#NUM!"},{"$error":"#NUM!"},{"$error":"#NUM!"},{"$error":"#NUM!"},""]
[{"$error":"#NUM!"},{"$error":"#NUM!"},{"$error":"#NUM!"},{"$error":"#NUM!"},{"$error":"#NUM!"},""]
[{"$error":"#NUM!"},{"$error":"#NUM!"},{"$error":"#NUM!"},{"$error":"#NUM!"},{"$error":"#NUM!"},""]
[{"$error":"#NUM!"},{"$error":"#NUM!"},{"$error":"#NUM!"},{"$error":"#NUM!"},{"$error":"#NUM!"},""]
[{"$error":"#NUM!"},{"$error":"#NUM!"},{"$error":"#NUM!"},{"$error":"#NUM!"},{"$error":"#NUM!"},""]
[{"$error":"#NUM!"},{"$error":"#NUM!"},{"$error":"#NUM!"},{"$error":"#NUM!"},{"$error":"#NUM!"},""]
[{"$error":"#NUM!"},{"$error":"#NUM!"},{"$error":"#NUM!"},{"$error":"#NUM!"},{"$error":"#NUM!"},""]
[{"$error":"#NUM!"},{"$error":"#NUM!"},{"$error":"#NUM!"},{"$error":"#NUM!"},{"$error":"#NUM!"},""]
[{"$error":"#NUM!"},{"$error":"#NUM!"},{"$error":"#NUM!"},{"$error":"#NUM!"},{"$error":"#NUM!"},""]
[{"$error":"#NUM!"},{"$error":"#NUM!"},{"$error":"#NUM!"},{"$error":"#NUM!"},{"$error":"#NUM!"},""]
[{"$error":"#NUM!"},{"$error":"#NUM!"},{"$error":"#NUM!"},{"$error":"#NUM!"},{"$error":"#NUM!"},""]
[{"$error":"#NUM!"},{"$error":"#NUM!"},{"$error":"#NUM!"},{"$error":"#NUM!"},{"$error":"#NUM!"},""]
[{"$error":"#NUM!"},{"$error":"#NUM!"},{"$error":"#NUM!"},{"$error":"#NUM!"},{"$error":"#NUM!"},""]
[{"$error":"#NUM!"},{"$error":"#NUM!"},{"$error":"#NUM!"},{"$error":"#NUM!"},{"$error":"#NUM!"},""]
[{"$error":"#NUM!"},{"$error":"#NUM!"},{"$error":"#NUM!"},{"$error":"#NUM!"},{"$error":"#NUM!"},""]
[{"$error":"#NUM!"},{"$error":"#NUM!"},{"$error":"#NUM!"},{"$error":"#NUM!"},{"$error":"#NUM!"},""]
[{"$f":"MATCH(LARGE(INDIRECT(\"'Urban & Suburban Ints (MI)'!$DM$5:$DM$1005\"),ROW()-350),INDIRECT(\"'Urban & Suburban Ints (MI)'!$DM$5:$DM$1005\"),0)+4","v":{"$error":"#NUM!"}},{"$f":"\"(INT) \"&INDIRECT(ADDRESS($A351,2,,,\"Urban & Suburban Ints (MI)\"))&\" / \"&INDIRECT(ADDRESS($A351,3,,,\"Urban & Suburban Ints (MI)\"))","v":{"$error":"#NUM!"}},{"$f":"INDIRECT(ADDRESS($A351,4,,,\"Urban & Suburban Ints (MI)\"))","v":{"$error":"#NUM!"}},{"$f":"\"Type = \"&INDIRECT(ADDRESS($A351,5,,,\"Urban & Suburban Ints (MI)\"))","v":{"$error":"#NUM!"}},{"$f":"\"AADT: \"&TEXT(INDIRECT(ADDRESS($A351,8,,,\"Urban & Suburban Ints (MI)\")),\"#,##0\") & \" / \" & TEXT(INDIRECT(ADDRESS($A351,9,,,\"Urban & Suburban Ints (MI)\")),\"#,##0\")","v":{"$error":"#NUM!"}},{"$f":"IF(ISERROR(A351),\"\",INDIRECT(ADDRESS($A351,117,,,\"Urban & Suburban Ints (MI)\")))","v":""}]
[{"$f":"IF(LARGE(INDIRECT(\"'Urban & Suburban Ints (MI)'!$DM$5:$DM$1005\"),ROW()-350)=F351,MATCH(F351,INDIRECT(\"'Urban & Suburban Ints (MI)'!$DM$\"&A351+1&\":$DM1005\"),0)+A351,MATCH(LARGE(INDIRECT(\"'Urban & Suburban Ints (MI)'!$DM$5:$DM$1005\"),ROW()-350),INDIRECT(\"'Urban & Suburban Ints (MI)'!$DM$5:$DM$1005\"),0)+4)","v":{"$error":"#NUM!"}},{"$error":"#NUM!"},{"$error":"#NUM!"},{"$error":"#NUM!"},{"$error":"#NUM!"},""]
[{"$error":"#NUM!"},{"$error":"#NUM!"},{"$error":"#NUM!"},{"$error":"#NUM!"},{"$error":"#NUM!"},""]
[{"$error":"#NUM!"},{"$error":"#NUM!"},{"$error":"#NUM!"},{"$error":"#NUM!"},{"$error":"#NUM!"},""]
[{"$error":"#NUM!"},{"$error":"#NUM!"},{"$error":"#NUM!"},{"$error":"#NUM!"},{"$error":"#NUM!"},""]
[{"$error":"#NUM!"},{"$error":"#NUM!"},{"$error":"#NUM!"},{"$error":"#NUM!"},{"$error":"#NUM!"},""]
[{"$error":"#NUM!"},{"$error":"#NUM!"},{"$error":"#NUM!"},{"$error":"#NUM!"},{"$error":"#NUM!"},""]
[{"$error":"#NUM!"},{"$error":"#NUM!"},{"$error":"#NUM!"},{"$error":"#NUM!"},{"$error":"#NUM!"},""]
[{"$error":"#NUM!"},{"$error":"#NUM!"},{"$error":"#NUM!"},{"$error":"#NUM!"},{"$error":"#NUM!"},""]
[{"$error":"#NUM!"},{"$error":"#NUM!"},{"$error":"#NUM!"},{"$error":"#NUM!"},{"$error":"#NUM!"},""]
[{"$error":"#NUM!"},{"$error":"#NUM!"},{"$error":"#NUM!"},{"$error":"#NUM!"},{"$error":"#NUM!"},""]
[{"$error":"#NUM!"},{"$error":"#NUM!"},{"$error":"#NUM!"},{"$error":"#NUM!"},{"$error":"#NUM!"},""]
[{"$error":"#NUM!"},{"$error":"#NUM!"},{"$error":"#NUM!"},{"$error":"#NUM!"},{"$error":"#NUM!"},""]
[{"$error":"#NUM!"},{"$error":"#NUM!"},{"$error":"#NUM!"},{"$error":"#NUM!"},{"$error":"#NUM!"},""]
[{"$error":"#NUM!"},{"$error":"#NUM!"},{"$error":"#NUM!"},{"$error":"#NUM!"},{"$error":"#NUM!"},""]
[{"$error":"#NUM!"},{"$error":"#NUM!"},{"$error":"#NUM!"},{"$error":"#NUM!"},{"$error":"#NUM!"},""]
[{"$error":"#NUM!"},{"$error":"#NUM!"},{"$error":"#NUM!"},{"$error":"#NUM!"},{"$error":"#NUM!"},""]
[{"$error":"#NUM!"},{"$error":"#NUM!"},{"$error":"#NUM!"},{"$error":"#NUM!"},{"$error":"#NUM!"},""]
[{"$error":"#NUM!"},{"$error":"#NUM!"},{"$error":"#NUM!"},{"$error":"#NUM!"},{"$error":"#NUM!"},""]
[{"$error":"#NUM!"},{"$error":"#NUM!"},{"$error":"#NUM!"},{"$error":"#NUM!"},{"$error":"#NUM!"},""]
[{"$error":"#NUM!"},{"$error":"#NUM!"},{"$error":"#NUM!"},{"$error":"#NUM!"},{"$error":"#NUM!"},""]
[{"$error":"#NUM!"},{"$error":"#NUM!"},{"$error":"#NUM!"},{"$error":"#NUM!"},{"$error":"#NUM!"},""]
[{"$error":"#NUM!"},{"$error":"#NUM!"},{"$error":"#NUM!"},{"$error":"#NUM!"},{"$error":"#NUM!"},""]
[{"$error":"#NUM!"},{"$error":"#NUM!"},{"$error":"#NUM!"},{"$error":"#NUM!"},{"$error":"#NUM!"},""]
[{"$error":"#NUM!"},{"$error":"#NUM!"},{"$error":"#NUM!"},{"$error":"#NUM!"},{"$error":"#NUM!"},""]
[{"$error":"#NUM!"},{"$error":"#NUM!"},{"$error":"#NUM!"},{"$error":"#NUM!"},{"$error":"#NUM!"},""]
[{"$error":"#NUM!"},{"$error":"#NUM!"},{"$error":"#NUM!"},{"$error":"#NUM!"},{"$error":"#NUM!"},""]
[{"$error":"#NUM!"},{"$error":"#NUM!"},{"$error":"#NUM!"},{"$error":"#NUM!"},{"$error":"#NUM!"},""]
[{"$error":"#NUM!"},{"$error":"#NUM!"},{"$error":"#NUM!"},{"$error":"#NUM!"},{"$error":"#NUM!"},""]
[{"$error":"#NUM!"},{"$error":"#NUM!"},{"$error":"#NUM!"},{"$error":"#NUM!"},{"$error":"#NUM!"},""]
[{"$error":"#NUM!"},{"$error":"#NUM!"},{"$error":"#NUM!"},{"$error":"#NUM!"},{"$error":"#NUM!"},""]
[{"$error":"#NUM!"},{"$error":"#NUM!"},{"$error":"#NUM!"},{"$error":"#NUM!"},{"$error":"#NUM!"},""]
[{"$error":"#NUM!"},{"$f":"\"(INT) \"&INDIRECT(ADDRESS($A383,2,,,\"Urban & Suburban Ints (MI)\"))&\" / \"&INDIRECT(ADDRESS($A383,3,,,\"Urban & Suburban Ints (MI)\"))","v":{"$error":"#NUM!"}},{"$f":"INDIRECT(ADDRESS($A383,4,,,\"Urban & Suburban Ints (MI)\"))","v":{"$error":"#NUM!"}},{"$f":"\"Type = \"&INDIRECT(ADDRESS($A383,5,,,\"Urban & Suburban Ints (MI)\"))","v":{"$error":"#NUM!"}},{"$f":"\"AADT: \"&TEXT(INDIRECT(ADDRESS($A383,8,,,\"Urban & Suburban Ints (MI)\")),\"#,##0\") & \" / \" & TEXT(INDIRECT(ADDRESS($A383,9,,,\"Urban & Suburban Ints (MI)\")),\"#,##0\")","v":{"$error":"#NUM!"}},{"$f":"IF(ISERROR(A383),\"\",INDIRECT(ADDRESS($A383,117,,,\"Urban & Suburban Ints (MI)\")))","v":""}]
[{"$f":"IF(LARGE(INDIRECT(\"'Urban & Suburban Ints (MI)'!$DM$5:$DM$1005\"),ROW()-350)=F383,MATCH(F383,INDIRECT(\"'Urban & Suburban Ints (MI)'!$DM$\"&A383+1&\":$DM1005\"),0)+A383,MATCH(LARGE(INDIRECT(\"'Urban & Suburban Ints (MI)'!$DM$5:$DM$1005\"),ROW()-350),INDIRECT(\"'Urban & Suburban Ints (MI)'!$DM$5:$DM$1005\"),0)+4)","v":{"$error":"#NUM!"}},{"$error":"#NUM!"},{"$error":"#NUM!"},{"$error":"#NUM!"},{"$error":"#NUM!"},""]
[{"$error":"#NUM!"},{"$error":"#NUM!"},{"$error":"#NUM!"},{"$error":"#NUM!"},{"$error":"#NUM!"},""]
[{"$error":"#NUM!"},{"$error":"#NUM!"},{"$error":"#NUM!"},{"$error":"#NUM!"},{"$error":"#NUM!"},""]
[{"$error":"#NUM!"},{"$error":"#NUM!"},{"$error":"#NUM!"},{"$error":"#NUM!"},{"$error":"#NUM!"},""]
[{"$error":"#NUM!"},{"$error":"#NUM!"},{"$error":"#NUM!"},{"$error":"#NUM!"},{"$error":"#NUM!"},""]
[{"$error":"#NUM!"},{"$error":"#NUM!"},{"$error":"#NUM!"},{"$error":"#NUM!"},{"$error":"#NUM!"},""]
[{"$error":"#NUM!"},{"$error":"#NUM!"},{"$error":"#NUM!"},{"$error":"#NUM!"},{"$error":"#NUM!"},""]
[{"$error":"#NUM!"},{"$error":"#NUM!"},{"$error":"#NUM!"},{"$error":"#NUM!"},{"$error":"#NUM!"},""]
[{"$error":"#NUM!"},{"$error":"#NUM!"},{"$error":"#NUM!"},{"$error":"#NUM!"},{"$error":"#NUM!"},""]
[{"$error":"#NUM!"},{"$error":"#NUM!"},{"$error":"#NUM!"},{"$error":"#NUM!"},{"$error":"#NUM!"},""]
[{"$error":"#NUM!"},{"$error":"#NUM!"},{"$error":"#NUM!"},{"$error":"#NUM!"},{"$error":"#NUM!"},""]
[{"$error":"#NUM!"},{"$error":"#NUM!"},{"$error":"#NUM!"},{"$error":"#NUM!"},{"$error":"#NUM!"},""]
[{"$error":"#NUM!"},{"$error":"#NUM!"},{"$error":"#NUM!"},{"$error":"#NUM!"},{"$error":"#NUM!"},""]
[{"$error":"#NUM!"},{"$error":"#NUM!"},{"$error":"#NUM!"},{"$error":"#NUM!"},{"$error":"#NUM!"},""]
[{"$error":"#NUM!"},{"$error":"#NUM!"},{"$error":"#NUM!"},{"$error":"#NUM!"},{"$error":"#NUM!"},""]
[{"$error":"#NUM!"},{"$error":"#NUM!"},{"$error":"#NUM!"},{"$error":"#NUM!"},{"$error":"#NUM!"},""]
[{"$error":"#NUM!"},{"$error":"#NUM!"},{"$error":"#NUM!"},{"$error":"#NUM!"},{"$error":"#NUM!"},""]

{"sheet":"Summaries (Top 10)","index":24,"n_rows":100,"n_cols":27,"rows_kept":100,"cut":false,"hidden":false,"merged":[[0,0,0,26],[29,1,29,4],[41,1,41,4],[53,1,53,4],[65,1,65,4],[65,22,65,25],[29,8,29,11],[41,8,41,11],[3,0,3,5],[5,1,5,4],[17,1,17,4],[17,15,17,18],[17,8,17,11],[3,7,3,12],[53,22,53,25],[53,8,53,11],[65,8,65,11],[5,8,5,11],[3,14,3,19],[5,15,5,18],[29,22,29,25],[41,22,41,25],[3,21,3,26],[5,22,5,25],[17,22,17,25],[29,15,29,18],[41,15,41,18],[53,15,53,18],[65,15,65,18],[77,15,77,18],[89,1,89,4],[89,8,89,11],[89,15,89,18],[89,22,89,25],[77,8,77,11],[77,22,77,25],[77,1,77,4]]}
[{"$f":"Inputs!B18&\" - Summaries\"","v":"Example - Summaries"}]
[{"$f":"\"Control Section(s): \"&Inputs!B22","v":"Control Section(s): Example Project"},null,null,null,null,null,null,{"$f":"\"Control Section(s): \"&Inputs!B19","v":"Control Section(s): "},null,null,null,null,null,null,{"$f":"\"PR Number(s): \"&Inputs!B20","v":"PR Number(s): "},null,null,null,null,null,null,{"$f":"\"Job Number(s): \"&Inputs!B21","v":"Job Number(s): "}]
[]
["Highest Expected Average Crashes",null,null,null,null,null,null,"Highest Excess Expected Crashes",null,null,null,null,null,null,"Highest Predicted Total Crashes",null,null,null,null,null,null,"Highest Predicted Fatal and Injury Crashes"]
[]
["Rank","Rural 2-Lane Segments",null,null,null,"Average",null,"Rank","Rural 2-Lane Segments",null,null,null,"Excess",null,"Rank","Rural 2-Lane Segments",null,null,null,"Number",null,"Rank","Rural 2-Lane Segments",null,null,null,"Number"]
[1,{"$f":"IF(ISERROR(RankingExpectedAverage!$A1),\"--\",RankingExpectedAverage!B1)","v":"--"},{"$f":"IF(ISERROR(RankingExpectedAverage!$A1),\"--\",RankingExpectedAverage!C1)","v":"--"},{"$f":"IF(ISERROR(RankingExpectedAverage!$A1),\"--\",RankingExpectedAverage!D1)","v":"--"},{"$f":"IF(ISERROR(RankingExpectedAverage!$A1),\"--\",RankingExpectedAverage!E1)","v":"--"},{"$f":"IF(ISERROR(RankingExpectedAverage!$A1),\"--\",RankingExpectedAverage!F1)","v":"--"},null,1,{"$f":"IF(ISERROR(RankingExcess!$A1),\"--\",RankingExcess!B1)","v":"--"},{"$f":"IF(ISERROR(RankingExcess!$A1),\"--\",RankingExcess!C1)","v":"--"},{"$f":"IF(ISERROR(RankingExcess!$A1),\"--\",RankingExcess!D1)","v":"--"},{"$f":"IF(ISERROR(RankingExcess!$A1),\"--\",RankingExcess!E1)","v":"--"},{"$f":"IF(ISERROR(RankingExcess!$A1),\"--\",RankingExcess!F1)","v":"--"},null,1,{"$f":"IF(ISERROR(RankingPredictedTotal!$A1),\"--\",RankingPredictedTotal!B1)","v":"--"},{"$f":"IF(ISERROR(RankingPredictedTotal!$A1),\"--\",RankingPredictedTotal!C1)","v":"--"},{"$f":"IF(ISERROR(RankingPredictedTotal!$A1),\"--\",RankingPredictedTotal!D1)","v":"--"},{"$f":"IF(ISERROR(RankingPredictedTotal!$A1),\"--\",RankingPredictedTotal!E1)","v":"--"},{"$f":"IF(ISERROR(RankingPredictedTotal!$A1),\"--\",RankingPredictedTotal!F1)","v":"--"},null,1,{"$f":"IF(ISERROR(RankingPredictedFI!$A1),\"--\",RankingPredictedFI!B1)","v":"--"},{"$f":"IF(ISERROR(RankingPredictedFI!$A1),\"--\",RankingPredictedFI!C1)","v":"--"},{"$f":"IF(ISERROR(RankingPredictedFI!$A1),\"--\",RankingPredictedFI!D1)","v":"--"},{"$f":"IF(ISERROR(RankingPredictedFI!$A1),\"--\",RankingPredictedFI!E1)","v":"--"},{"$f":"IF(ISERROR(RankingPredictedFI!$A1),\"--\",RankingPredictedFI!F1)","v":"--"}]
[2,{"$f":"IF(ISERROR(RankingExpectedAverage!$A2),\"--\",RankingExpectedAverage!B2)","v":"--"},{"$f":"IF(ISERROR(RankingExpectedAverage!$A2),\"--\",RankingExpectedAverage!C2)","v":"--"},{"$f":"IF(ISERROR(RankingExpectedAverage!$A2),\"--\",RankingExpectedAverage!D2)","v":"--"},{"$f":"IF(ISERROR(RankingExpectedAverage!$A2),\"--\",RankingExpectedAverage!E2)","v":"--"},{"$f":"IF(ISERROR(RankingExpectedAverage!$A2),\"--\",RankingExpectedAverage!F2)","v":"--"},null,2,{"$f":"IF(ISERROR(RankingExcess!$A2),\"--\",RankingExcess!B2)","v":"--"},{"$f":"IF(ISERROR(RankingExcess!$A2),\"--\",RankingExcess!C2)","v":"--"},{"$f":"IF(ISERROR(RankingExcess!$A2),\"--\",RankingExcess!D2)","v":"--"},{"$f":"IF(ISERROR(RankingExcess!$A2),\"--\",RankingExcess!E2)","v":"--"},{"$f":"IF(ISERROR(RankingExcess!$A2),\"--\",RankingExcess!F2)","v":"--"},null,2,{"$f":"IF(ISERROR(RankingPredictedTotal!$A2),\"--\",RankingPredictedTotal!B2)","v":"--"},{"$f":"IF(ISERROR(RankingPredictedTotal!$A2),\"--\",RankingPredictedTotal!C2)","v":"--"},{"$f":"IF(ISERROR(RankingPredictedTotal!$A2),\"--\",RankingPredictedTotal!D2)","v":"--"},{"$f":"IF(ISERROR(RankingPredictedTotal!$A2),\"--\",RankingPredictedTotal!E2)","v":"--"},{"$f":"IF(ISERROR(RankingPredictedTotal!$A2),\"--\",RankingPredictedTotal!F2)","v":"--"},null,2,{"$f":"IF(ISERROR(RankingPredictedFI!$A2),\"--\",RankingPredictedFI!B2)","v":"--"},{"$f":"IF(ISERROR(RankingPredictedFI!$A2),\"--\",RankingPredictedFI!C2)","v":"--"},{"$f":"IF(ISERROR(RankingPredictedFI!$A2),\"--\",RankingPredictedFI!D2)","v":"--"},{"$f":"IF(ISERROR(RankingPredictedFI!$A2),\"--\",RankingPredictedFI!E2)","v":"--"},{"$f":"IF(ISERROR(RankingPredictedFI!$A2),\"--\",RankingPredictedFI!F2)","v":"--"}]
[3,{"$f":"IF(ISERROR(RankingExpectedAverage!$A3),\"--\",RankingExpectedAverage!B3)","v":"--"},{"$f":"IF(ISERROR(RankingExpectedAverage!$A3),\"--\",RankingExpectedAverage!C3)","v":"--"},{"$f":"IF(ISERROR(RankingExpectedAverage!$A3),\"--\",RankingExpectedAverage!D3)","v":"--"},{"$f":"IF(ISERROR(RankingExpectedAverage!$A3),\"--\",RankingExpectedAverage!E3)","v":"--"},{"$f":"IF(ISERROR(RankingExpectedAverage!$A3),\"--\",RankingExpectedAverage!F3)","v":"--"},null,3,{"$f":"IF(ISERROR(RankingExcess!$A3),\"--\",RankingExcess!B3)","v":"--"},{"$f":"IF(ISERROR(RankingExcess!$A3),\"--\",RankingExcess!C3)","v":"--"},{"$f":"IF(ISERROR(RankingExcess!$A3),\"--\",RankingExcess!D3)","v":"--"},{"$f":"IF(ISERROR(RankingExcess!$A3),\"--\",RankingExcess!E3)","v":"--"},{"$f":"IF(ISERROR(RankingExcess!$A3),\"--\",RankingExcess!F3)","v":"--"},null,3,{"$f":"IF(ISERROR(RankingPredictedTotal!$A3),\"--\",RankingPredictedTotal!B3)","v":"--"},{"$f":"IF(ISERROR(RankingPredictedTotal!$A3),\"--\",RankingPredictedTotal!C3)","v":"--"},{"$f":"IF(ISERROR(RankingPredictedTotal!$A3),\"--\",RankingPredictedTotal!D3)","v":"--"},{"$f":"IF(ISERROR(RankingPredictedTotal!$A3),\"--\",RankingPredictedTotal!E3)","v":"--"},{"$f":"IF(ISERROR(RankingPredictedTotal!$A3),\"--\",RankingPredictedTotal!F3)","v":"--"},null,3,{"$f":"IF(ISERROR(RankingPredictedFI!$A3),\"--\",RankingPredictedFI!B3)","v":"--"},{"$f":"IF(ISERROR(RankingPredictedFI!$A3),\"--\",RankingPredictedFI!C3)","v":"--"},{"$f":"IF(ISERROR(RankingPredictedFI!$A3),\"--\",RankingPredictedFI!D3)","v":"--"},{"$f":"IF(ISERROR(RankingPredictedFI!$A3),\"--\",RankingPredictedFI!E3)","v":"--"},{"$f":"IF(ISERROR(RankingPredictedFI!$A3),\"--\",RankingPredictedFI!F3)","v":"--"}]
[4,{"$f":"IF(ISERROR(RankingExpectedAverage!$A4),\"--\",RankingExpectedAverage!B4)","v":"--"},{"$f":"IF(ISERROR(RankingExpectedAverage!$A4),\"--\",RankingExpectedAverage!C4)","v":"--"},{"$f":"IF(ISERROR(RankingExpectedAverage!$A4),\"--\",RankingExpectedAverage!D4)","v":"--"},{"$f":"IF(ISERROR(RankingExpectedAverage!$A4),\"--\",RankingExpectedAverage!E4)","v":"--"},{"$f":"IF(ISERROR(RankingExpectedAverage!$A4),\"--\",RankingExpectedAverage!F4)","v":"--"},null,4,{"$f":"IF(ISERROR(RankingExcess!$A4),\"--\",RankingExcess!B4)","v":"--"},{"$f":"IF(ISERROR(RankingExcess!$A4),\"--\",RankingExcess!C4)","v":"--"},{"$f":"IF(ISERROR(RankingExcess!$A4),\"--\",RankingExcess!D4)","v":"--"},{"$f":"IF(ISERROR(RankingExcess!$A4),\"--\",RankingExcess!E4)","v":"--"},{"$f":"IF(ISERROR(RankingExcess!$A4),\"--\",RankingExcess!F4)","v":"--"},null,4,{"$f":"IF(ISERROR(RankingPredictedTotal!$A4),\"--\",RankingPredictedTotal!B4)","v":"--"},{"$f":"IF(ISERROR(RankingPredictedTotal!$A4),\"--\",RankingPredictedTotal!C4)","v":"--"},{"$f":"IF(ISERROR(RankingPredictedTotal!$A4),\"--\",RankingPredictedTotal!D4)","v":"--"},{"$f":"IF(ISERROR(RankingPredictedTotal!$A4),\"--\",RankingPredictedTotal!E4)","v":"--"},{"$f":"IF(ISERROR(RankingPredictedTotal!$A4),\"--\",RankingPredictedTotal!F4)","v":"--"},null,4,{"$f":"IF(ISERROR(RankingPredictedFI!$A4),\"--\",RankingPredictedFI!B4)","v":"--"},{"$f":"IF(ISERROR(RankingPredictedFI!$A4),\"--\",RankingPredictedFI!C4)","v":"--"},{"$f":"IF(ISERROR(RankingPredictedFI!$A4),\"--\",RankingPredictedFI!D4)","v":"--"},{"$f":"IF(ISERROR(RankingPredictedFI!$A4),\"--\",RankingPredictedFI!E4)","v":"--"},{"$f":"IF(ISERROR(RankingPredictedFI!$A4),\"--\",RankingPredictedFI!F4)","v":"--"}]
[5,{"$f":"IF(ISERROR(RankingExpectedAverage!$A5),\"--\",RankingExpectedAverage!B5)","v":"--"},{"$f":"IF(ISERROR(RankingExpectedAverage!$A5),\"--\",RankingExpectedAverage!C5)","v":"--"},{"$f":"IF(ISERROR(RankingExpectedAverage!$A5),\"--\",RankingExpectedAverage!D5)","v":"--"},{"$f":"IF(ISERROR(RankingExpectedAverage!$A5),\"--\",RankingExpectedAverage!E5)","v":"--"},{"$f":"IF(ISERROR(RankingExpectedAverage!$A5),\"--\",RankingExpectedAverage!F5)","v":"--"},null,5,{"$f":"IF(ISERROR(RankingExcess!$A5),\"--\",RankingExcess!B5)","v":"--"},{"$f":"IF(ISERROR(RankingExcess!$A5),\"--\",RankingExcess!C5)","v":"--"},{"$f":"IF(ISERROR(RankingExcess!$A5),\"--\",RankingExcess!D5)","v":"--"},{"$f":"IF(ISERROR(RankingExcess!$A5),\"--\",RankingExcess!E5)","v":"--"},{"$f":"IF(ISERROR(RankingExcess!$A5),\"--\",RankingExcess!F5)","v":"--"},null,5,{"$f":"IF(ISERROR(RankingPredictedTotal!$A5),\"--\",RankingPredictedTotal!B5)","v":"--"},{"$f":"IF(ISERROR(RankingPredictedTotal!$A5),\"--\",RankingPredictedTotal!C5)","v":"--"},{"$f":"IF(ISERROR(RankingPredictedTotal!$A5),\"--\",RankingPredictedTotal!D5)","v":"--"},{"$f":"IF(ISERROR(RankingPredictedTotal!$A5),\"--\",RankingPredictedTotal!E5)","v":"--"},{"$f":"IF(ISERROR(RankingPredictedTotal!$A5),\"--\",RankingPredictedTotal!F5)","v":"--"},null,5,{"$f":"IF(ISERROR(RankingPredictedFI!$A5),\"--\",RankingPredictedFI!B5)","v":"--"},{"$f":"IF(ISERROR(RankingPredictedFI!$A5),\"--\",RankingPredictedFI!C5)","v":"--"},{"$f":"IF(ISERROR(RankingPredictedFI!$A5),\"--\",RankingPredictedFI!D5)","v":"--"},{"$f":"IF(ISERROR(RankingPredictedFI!$A5),\"--\",RankingPredictedFI!E5)","v":"--"},{"$f":"IF(ISERROR(RankingPredictedFI!$A5),\"--\",RankingPredictedFI!F5)","v":"--"}]
[6,{"$f":"IF(ISERROR(RankingExpectedAverage!$A6),\"--\",RankingExpectedAverage!B6)","v":"--"},{"$f":"IF(ISERROR(RankingExpectedAverage!$A6),\"--\",RankingExpectedAverage!C6)","v":"--"},{"$f":"IF(ISERROR(RankingExpectedAverage!$A6),\"--\",RankingExpectedAverage!D6)","v":"--"},{"$f":"IF(ISERROR(RankingExpectedAverage!$A6),\"--\",RankingExpectedAverage!E6)","v":"--"},{"$f":"IF(ISERROR(RankingExpectedAverage!$A6),\"--\",RankingExpectedAverage!F6)","v":"--"},null,6,{"$f":"IF(ISERROR(RankingExcess!$A6),\"--\",RankingExcess!B6)","v":"--"},{"$f":"IF(ISERROR(RankingExcess!$A6),\"--\",RankingExcess!C6)","v":"--"},{"$f":"IF(ISERROR(RankingExcess!$A6),\"--\",RankingExcess!D6)","v":"--"},{"$f":"IF(ISERROR(RankingExcess!$A6),\"--\",RankingExcess!E6)","v":"--"},{"$f":"IF(ISERROR(RankingExcess!$A6),\"--\",RankingExcess!F6)","v":"--"},null,6,{"$f":"IF(ISERROR(RankingPredictedTotal!$A6),\"--\",RankingPredictedTotal!B6)","v":"--"},{"$f":"IF(ISERROR(RankingPredictedTotal!$A6),\"--\",RankingPredictedTotal!C6)","v":"--"},{"$f":"IF(ISERROR(RankingPredictedTotal!$A6),\"--\",RankingPredictedTotal!D6)","v":"--"},{"$f":"IF(ISERROR(RankingPredictedTotal!$A6),\"--\",RankingPredictedTotal!E6)","v":"--"},{"$f":"IF(ISERROR(RankingPredictedTotal!$A6),\"--\",RankingPredictedTotal!F6)","v":"--"},null,6,{"$f":"IF(ISERROR(RankingPredictedFI!$A6),\"--\",RankingPredictedFI!B6)","v":"--"},{"$f":"IF(ISERROR(RankingPredictedFI!$A6),\"--\",RankingPredictedFI!C6)","v":"--"},{"$f":"IF(ISERROR(RankingPredictedFI!$A6),\"--\",RankingPredictedFI!D6)","v":"--"},{"$f":"IF(ISERROR(RankingPredictedFI!$A6),\"--\",RankingPredictedFI!E6)","v":"--"},{"$f":"IF(ISERROR(RankingPredictedFI!$A6),\"--\",RankingPredictedFI!F6)","v":"--"}]
[7,{"$f":"IF(ISERROR(RankingExpectedAverage!$A7),\"--\",RankingExpectedAverage!B7)","v":"--"},{"$f":"IF(ISERROR(RankingExpectedAverage!$A7),\"--\",RankingExpectedAverage!C7)","v":"--"},{"$f":"IF(ISERROR(RankingExpectedAverage!$A7),\"--\",RankingExpectedAverage!D7)","v":"--"},{"$f":"IF(ISERROR(RankingExpectedAverage!$A7),\"--\",RankingExpectedAverage!E7)","v":"--"},{"$f":"IF(ISERROR(RankingExpectedAverage!$A7),\"--\",RankingExpectedAverage!F7)","v":"--"},null,7,{"$f":"IF(ISERROR(RankingExcess!$A7),\"--\",RankingExcess!B7)","v":"--"},{"$f":"IF(ISERROR(RankingExcess!$A7),\"--\",RankingExcess!C7)","v":"--"},{"$f":"IF(ISERROR(RankingExcess!$A7),\"--\",RankingExcess!D7)","v":"--"},{"$f":"IF(ISERROR(RankingExcess!$A7),\"--\",RankingExcess!E7)","v":"--"},{"$f":"IF(ISERROR(RankingExcess!$A7),\"--\",RankingExcess!F7)","v":"--"},null,7,{"$f":"IF(ISERROR(RankingPredictedTotal!$A7),\"--\",RankingPredictedTotal!B7)","v":"--"},{"$f":"IF(ISERROR(RankingPredictedTotal!$A7),\"--\",RankingPredictedTotal!C7)","v":"--"},{"$f":"IF(ISERROR(RankingPredictedTotal!$A7),\"--\",RankingPredictedTotal!D7)","v":"--"},{"$f":"IF(ISERROR(RankingPredictedTotal!$A7),\"--\",RankingPredictedTotal!E7)","v":"--"},{"$f":"IF(ISERROR(RankingPredictedTotal!$A7),\"--\",RankingPredictedTotal!F7)","v":"--"},null,7,{"$f":"IF(ISERROR(RankingPredictedFI!$A7),\"--\",RankingPredictedFI!B7)","v":"--"},{"$f":"IF(ISERROR(RankingPredictedFI!$A7),\"--\",RankingPredictedFI!C7)","v":"--"},{"$f":"IF(ISERROR(RankingPredictedFI!$A7),\"--\",RankingPredictedFI!D7)","v":"--"},{"$f":"IF(ISERROR(RankingPredictedFI!$A7),\"--\",RankingPredictedFI!E7)","v":"--"},{"$f":"IF(ISERROR(RankingPredictedFI!$A7),\"--\",RankingPredictedFI!F7)","v":"--"}]
[8,{"$f":"IF(ISERROR(RankingExpectedAverage!$A8),\"--\",RankingExpectedAverage!B8)","v":"--"},{"$f":"IF(ISERROR(RankingExpectedAverage!$A8),\"--\",RankingExpectedAverage!C8)","v":"--"},{"$f":"IF(ISERROR(RankingExpectedAverage!$A8),\"--\",RankingExpectedAverage!D8)","v":"--"},{"$f":"IF(ISERROR(RankingExpectedAverage!$A8),\"--\",RankingExpectedAverage!E8)","v":"--"},{"$f":"IF(ISERROR(RankingExpectedAverage!$A8),\"--\",RankingExpectedAverage!F8)","v":"--"},null,8,{"$f":"IF(ISERROR(RankingExcess!$A8),\"--\",RankingExcess!B8)","v":"--"},{"$f":"IF(ISERROR(RankingExcess!$A8),\"--\",RankingExcess!C8)","v":"--"},{"$f":"IF(ISERROR(RankingExcess!$A8),\"--\",RankingExcess!D8)","v":"--"},{"$f":"IF(ISERROR(RankingExcess!$A8),\"--\",RankingExcess!E8)","v":"--"},{"$f":"IF(ISERROR(RankingExcess!$A8),\"--\",RankingExcess!F8)","v":"--"},null,8,{"$f":"IF(ISERROR(RankingPredictedTotal!$A8),\"--\",RankingPredictedTotal!B8)","v":"--"},{"$f":"IF(ISERROR(RankingPredictedTotal!$A8),\"--\",RankingPredictedTotal!C8)","v":"--"},{"$f":"IF(ISERROR(RankingPredictedTotal!$A8),\"--\",RankingPredictedTotal!D8)","v":"--"},{"$f":"IF(ISERROR(RankingPredictedTotal!$A8),\"--\",RankingPredictedTotal!E8)","v":"--"},{"$f":"IF(ISERROR(RankingPredictedTotal!$A8),\"--\",RankingPredictedTotal!F8)","v":"--"},null,8,{"$f":"IF(ISERROR(RankingPredictedFI!$A8),\"--\",RankingPredictedFI!B8)","v":"--"},{"$f":"IF(ISERROR(RankingPredictedFI!$A8),\"--\",RankingPredictedFI!C8)","v":"--"},{"$f":"IF(ISERROR(RankingPredictedFI!$A8),\"--\",RankingPredictedFI!D8)","v":"--"},{"$f":"IF(ISERROR(RankingPredictedFI!$A8),\"--\",RankingPredictedFI!E8)","v":"--"},{"$f":"IF(ISERROR(RankingPredictedFI!$A8),\"--\",RankingPredictedFI!F8)","v":"--"}]
[9,{"$f":"IF(ISERROR(RankingExpectedAverage!$A9),\"--\",RankingExpectedAverage!B9)","v":"--"},{"$f":"IF(ISERROR(RankingExpectedAverage!$A9),\"--\",RankingExpectedAverage!C9)","v":"--"},{"$f":"IF(ISERROR(RankingExpectedAverage!$A9),\"--\",RankingExpectedAverage!D9)","v":"--"},{"$f":"IF(ISERROR(RankingExpectedAverage!$A9),\"--\",RankingExpectedAverage!E9)","v":"--"},{"$f":"IF(ISERROR(RankingExpectedAverage!$A9),\"--\",RankingExpectedAverage!F9)","v":"--"},null,9,{"$f":"IF(ISERROR(RankingExcess!$A9),\"--\",RankingExcess!B9)","v":"--"},{"$f":"IF(ISERROR(RankingExcess!$A9),\"--\",RankingExcess!C9)","v":"--"},{"$f":"IF(ISERROR(RankingExcess!$A9),\"--\",RankingExcess!D9)","v":"--"},{"$f":"IF(ISERROR(RankingExcess!$A9),\"--\",RankingExcess!E9)","v":"--"},{"$f":"IF(ISERROR(RankingExcess!$A9),\"--\",RankingExcess!F9)","v":"--"},null,9,{"$f":"IF(ISERROR(RankingPredictedTotal!$A9),\"--\",RankingPredictedTotal!B9)","v":"--"},{"$f":"IF(ISERROR(RankingPredictedTotal!$A9),\"--\",RankingPredictedTotal!C9)","v":"--"},{"$f":"IF(ISERROR(RankingPredictedTotal!$A9),\"--\",RankingPredictedTotal!D9)","v":"--"},{"$f":"IF(ISERROR(RankingPredictedTotal!$A9),\"--\",RankingPredictedTotal!E9)","v":"--"},{"$f":"IF(ISERROR(RankingPredictedTotal!$A9),\"--\",RankingPredictedTotal!F9)","v":"--"},null,9,{"$f":"IF(ISERROR(RankingPredictedFI!$A9),\"--\",RankingPredictedFI!B9)","v":"--"},{"$f":"IF(ISERROR(RankingPredictedFI!$A9),\"--\",RankingPredictedFI!C9)","v":"--"},{"$f":"IF(ISERROR(RankingPredictedFI!$A9),\"--\",RankingPredictedFI!D9)","v":"--"},{"$f":"IF(ISERROR(RankingPredictedFI!$A9),\"--\",RankingPredictedFI!E9)","v":"--"},{"$f":"IF(ISERROR(RankingPredictedFI!$A9),\"--\",RankingPredictedFI!F9)","v":"--"}]
[10,{"$f":"IF(ISERROR(RankingExpectedAverage!$A10),\"--\",RankingExpectedAverage!B10)","v":"--"},{"$f":"IF(ISERROR(RankingExpectedAverage!$A10),\"--\",RankingExpectedAverage!C10)","v":"--"},{"$f":"IF(ISERROR(RankingExpectedAverage!$A10),\"--\",RankingExpectedAverage!D10)","v":"--"},{"$f":"IF(ISERROR(RankingExpectedAverage!$A10),\"--\",RankingExpectedAverage!E10)","v":"--"},{"$f":"IF(ISERROR(RankingExpectedAverage!$A10),\"--\",RankingExpectedAverage!F10)","v":"--"},null,10,{"$f":"IF(ISERROR(RankingExcess!$A10),\"--\",RankingExcess!B10)","v":"--"},{"$f":"IF(ISERROR(RankingExcess!$A10),\"--\",RankingExcess!C10)","v":"--"},{"$f":"IF(ISERROR(RankingExcess!$A10),\"--\",RankingExcess!D10)","v":"--"},{"$f":"IF(ISERROR(RankingExcess!$A10),\"--\",RankingExcess!E10)","v":"--"},{"$f":"IF(ISERROR(RankingExcess!$A10),\"--\",RankingExcess!F10)","v":"--"},null,10,{"$f":"IF(ISERROR(RankingPredictedTotal!$A10),\"--\",RankingPredictedTotal!B10)","v":"--"},{"$f":"IF(ISERROR(RankingPredictedTotal!$A10),\"--\",RankingPredictedTotal!C10)","v":"--"},{"$f":"IF(ISERROR(RankingPredictedTotal!$A10),\"--\",RankingPredictedTotal!D10)","v":"--"},{"$f":"IF(ISERROR(RankingPredictedTotal!$A10),\"--\",RankingPredictedTotal!E10)","v":"--"},{"$f":"IF(ISERROR(RankingPredictedTotal!$A10),\"--\",RankingPredictedTotal!F10)","v":"--"},null,10,{"$f":"IF(ISERROR(RankingPredictedFI!$A10),\"--\",RankingPredictedFI!B10)","v":"--"},{"$f":"IF(ISERROR(RankingPredictedFI!$A10),\"--\",RankingPredictedFI!C10)","v":"--"},{"$f":"IF(ISERROR(RankingPredictedFI!$A10),\"--\",RankingPredictedFI!D10)","v":"--"},{"$f":"IF(ISERROR(RankingPredictedFI!$A10),\"--\",RankingPredictedFI!E10)","v":"--"},{"$f":"IF(ISERROR(RankingPredictedFI!$A10),\"--\",RankingPredictedFI!F10)","v":"--"}]
[]
["Rank","Rural County Federal Aid Segments",null,null,null,"Average",null,"Rank","Rural County Federal Aid Segments",null,null,null,"Excess",null,"Rank","Rural County Federal Aid Segments",null,null,null,"Number",null,"Rank","Rural County Federal Aid Segments",null,null,null,"Number"]
[1,{"$f":"IF(ISERROR(RankingExpectedAverage!$A51),\"--\",RankingExpectedAverage!B51)","v":"--"},{"$f":"IF(ISERROR(RankingExpectedAverage!$A51),\"--\",RankingExpectedAverage!C51)","v":"--"},{"$f":"IF(ISERROR(RankingExpectedAverage!$A51),\"--\",RankingExpectedAverage!D51)","v":"--"},{"$f":"IF(ISERROR(RankingExpectedAverage!$A51),\"--\",RankingExpectedAverage!E51)","v":"--"},{"$f":"IF(ISERROR(RankingExpectedAverage!$A51),\"--\",RankingExpectedAverage!F51)","v":"--"},null,1,{"$f":"IF(ISERROR(RankingExcess!$A51),\"--\",RankingExcess!B51)","v":"--"},{"$f":"IF(ISERROR(RankingExcess!$A51),\"--\",RankingExcess!C51)","v":"--"},{"$f":"IF(ISERROR(RankingExcess!$A51),\"--\",RankingExcess!D51)","v":"--"},{"$f":"IF(ISERROR(RankingExcess!$A51),\"--\",RankingExcess!E51)","v":"--"},{"$f":"IF(ISERROR(RankingExcess!$A51),\"--\",RankingExcess!F51)","v":"--"},null,1,{"$f":"IF(ISERROR(RankingPredictedTotal!$A51),\"--\",RankingPredictedTotal!B51)","v":"--"},{"$f":"IF(ISERROR(RankingPredictedTotal!$A51),\"--\",RankingPredictedTotal!C51)","v":"--"},{"$f":"IF(ISERROR(RankingPredictedTotal!$A51),\"--\",RankingPredictedTotal!D51)","v":"--"},{"$f":"IF(ISERROR(RankingPredictedTotal!$A51),\"--\",RankingPredictedTotal!E51)","v":"--"},{"$f":"IF(ISERROR(RankingPredictedTotal!$A51),\"--\",RankingPredictedTotal!F51)","v":"--"},null,1,{"$f":"IF(ISERROR(RankingPredictedFI!$A51),\"--\",RankingPredictedFI!B51)","v":"--"},{"$f":"IF(ISERROR(RankingPredictedFI!$A51),\"--\",RankingPredictedFI!C51)","v":"--"},{"$f":"IF(ISERROR(RankingPredictedFI!$A51),\"--\",RankingPredictedFI!D51)","v":"--"},{"$f":"IF(ISERROR(RankingPredictedFI!$A51),\"--\",RankingPredictedFI!E51)","v":"--"},{"$f":"IF(ISERROR(RankingPredictedFI!$A51),\"--\",RankingPredictedFI!F51)","v":"--"}]
[2,{"$f":"IF(ISERROR(RankingExpectedAverage!$A52),\"--\",RankingExpectedAverage!B52)","v":"--"},{"$f":"IF(ISERROR(RankingExpectedAverage!$A52),\"--\",RankingExpectedAverage!C52)","v":"--"},{"$f":"IF(ISERROR(RankingExpectedAverage!$A52),\"--\",RankingExpectedAverage!D52)","v":"--"},{"$f":"IF(ISERROR(RankingExpectedAverage!$A52),\"--\",RankingExpectedAverage!E52)","v":"--"},{"$f":"IF(ISERROR(RankingExpectedAverage!$A52),\"--\",RankingExpectedAverage!F52)","v":"--"},null,2,{"$f":"IF(ISERROR(RankingExcess!$A52),\"--\",RankingExcess!B52)","v":"--"},{"$f":"IF(ISERROR(RankingExcess!$A52),\"--\",RankingExcess!C52)","v":"--"},{"$f":"IF(ISERROR(RankingExcess!$A52),\"--\",RankingExcess!D52)","v":"--"},{"$f":"IF(ISERROR(RankingExcess!$A52),\"--\",RankingExcess!E52)","v":"--"},{"$f":"IF(ISERROR(RankingExcess!$A52),\"--\",RankingExcess!F52)","v":"--"},null,2,{"$f":"IF(ISERROR(RankingPredictedTotal!$A52),\"--\",RankingPredictedTotal!B52)","v":"--"},{"$f":"IF(ISERROR(RankingPredictedTotal!$A52),\"--\",RankingPredictedTotal!C52)","v":"--"},{"$f":"IF(ISERROR(RankingPredictedTotal!$A52),\"--\",RankingPredictedTotal!D52)","v":"--"},{"$f":"IF(ISERROR(RankingPredictedTotal!$A52),\"--\",RankingPredictedTotal!E52)","v":"--"},{"$f":"IF(ISERROR(RankingPredictedTotal!$A52),\"--\",RankingPredictedTotal!F52)","v":"--"},null,2,{"$f":"IF(ISERROR(RankingPredictedFI!$A52),\"--\",RankingPredictedFI!B52)","v":"--"},{"$f":"IF(ISERROR(RankingPredictedFI!$A52),\"--\",RankingPredictedFI!C52)","v":"--"},{"$f":"IF(ISERROR(RankingPredictedFI!$A52),\"--\",RankingPredictedFI!D52)","v":"--"},{"$f":"IF(ISERROR(RankingPredictedFI!$A52),\"--\",RankingPredictedFI!E52)","v":"--"},{"$f":"IF(ISERROR(RankingPredictedFI!$A52),\"--\",RankingPredictedFI!F52)","v":"--"}]
[3,{"$f":"IF(ISERROR(RankingExpectedAverage!$A53),\"--\",RankingExpectedAverage!B53)","v":"--"},{"$f":"IF(ISERROR(RankingExpectedAverage!$A53),\"--\",RankingExpectedAverage!C53)","v":"--"},{"$f":"IF(ISERROR(RankingExpectedAverage!$A53),\"--\",RankingExpectedAverage!D53)","v":"--"},{"$f":"IF(ISERROR(RankingExpectedAverage!$A53),\"--\",RankingExpectedAverage!E53)","v":"--"},{"$f":"IF(ISERROR(RankingExpectedAverage!$A53),\"--\",RankingExpectedAverage!F53)","v":"--"},null,3,{"$f":"IF(ISERROR(RankingExcess!$A53),\"--\",RankingExcess!B53)","v":"--"},{"$f":"IF(ISERROR(RankingExcess!$A53),\"--\",RankingExcess!C53)","v":"--"},{"$f":"IF(ISERROR(RankingExcess!$A53),\"--\",RankingExcess!D53)","v":"--"},{"$f":"IF(ISERROR(RankingExcess!$A53),\"--\",RankingExcess!E53)","v":"--"},{"$f":"IF(ISERROR(RankingExcess!$A53),\"--\",RankingExcess!F53)","v":"--"},null,3,{"$f":"IF(ISERROR(RankingPredictedTotal!$A53),\"--\",RankingPredictedTotal!B53)","v":"--"},{"$f":"IF(ISERROR(RankingPredictedTotal!$A53),\"--\",RankingPredictedTotal!C53)","v":"--"},{"$f":"IF(ISERROR(RankingPredictedTotal!$A53),\"--\",RankingPredictedTotal!D53)","v":"--"},{"$f":"IF(ISERROR(RankingPredictedTotal!$A53),\"--\",RankingPredictedTotal!E53)","v":"--"},{"$f":"IF(ISERROR(RankingPredictedTotal!$A53),\"--\",RankingPredictedTotal!F53)","v":"--"},null,3,{"$f":"IF(ISERROR(RankingPredictedFI!$A53),\"--\",RankingPredictedFI!B53)","v":"--"},{"$f":"IF(ISERROR(RankingPredictedFI!$A53),\"--\",RankingPredictedFI!C53)","v":"--"},{"$f":"IF(ISERROR(RankingPredictedFI!$A53),\"--\",RankingPredictedFI!D53)","v":"--"},{"$f":"IF(ISERROR(RankingPredictedFI!$A53),\"--\",RankingPredictedFI!E53)","v":"--"},{"$f":"IF(ISERROR(RankingPredictedFI!$A53),\"--\",RankingPredictedFI!F53)","v":"--"}]
[4,{"$f":"IF(ISERROR(RankingExpectedAverage!$A54),\"--\",RankingExpectedAverage!B54)","v":"--"},{"$f":"IF(ISERROR(RankingExpectedAverage!$A54),\"--\",RankingExpectedAverage!C54)","v":"--"},{"$f":"IF(ISERROR(RankingExpectedAverage!$A54),\"--\",RankingExpectedAverage!D54)","v":"--"},{"$f":"IF(ISERROR(RankingExpectedAverage!$A54),\"--\",RankingExpectedAverage!E54)","v":"--"},{"$f":"IF(ISERROR(RankingExpectedAverage!$A54),\"--\",RankingExpectedAverage!F54)","v":"--"},null,4,{"$f":"IF(ISERROR(RankingExcess!$A54),\"--\",RankingExcess!B54)","v":"--"},{"$f":"IF(ISERROR(RankingExcess!$A54),\"--\",RankingExcess!C54)","v":"--"},{"$f":"IF(ISERROR(RankingExcess!$A54),\"--\",RankingExcess!D54)","v":"--"},{"$f":"IF(ISERROR(RankingExcess!$A54),\"--\",RankingExcess!E54)","v":"--"},{"$f":"IF(ISERROR(RankingExcess!$A54),\"--\",RankingExcess!F54)","v":"--"},null,4,{"$f":"IF(ISERROR(RankingPredictedTotal!$A54),\"--\",RankingPredictedTotal!B54)","v":"--"},{"$f":"IF(ISERROR(RankingPredictedTotal!$A54),\"--\",RankingPredictedTotal!C54)","v":"--"},{"$f":"IF(ISERROR(RankingPredictedTotal!$A54),\"--\",RankingPredictedTotal!D54)","v":"--"},{"$f":"IF(ISERROR(RankingPredictedTotal!$A54),\"--\",RankingPredictedTotal!E54)","v":"--"},{"$f":"IF(ISERROR(RankingPredictedTotal!$A54),\"--\",RankingPredictedTotal!F54)","v":"--"},null,4,{"$f":"IF(ISERROR(RankingPredictedFI!$A54),\"--\",RankingPredictedFI!B54)","v":"--"},{"$f":"IF(ISERROR(RankingPredictedFI!$A54),\"--\",RankingPredictedFI!C54)","v":"--"},{"$f":"IF(ISERROR(RankingPredictedFI!$A54),\"--\",RankingPredictedFI!D54)","v":"--"},{"$f":"IF(ISERROR(RankingPredictedFI!$A54),\"--\",RankingPredictedFI!E54)","v":"--"},{"$f":"IF(ISERROR(RankingPredictedFI!$A54),\"--\",RankingPredictedFI!F54)","v":"--"}]
[5,{"$f":"IF(ISERROR(RankingExpectedAverage!$A55),\"--\",RankingExpectedAverage!B55)","v":"--"},{"$f":"IF(ISERROR(RankingExpectedAverage!$A55),\"--\",RankingExpectedAverage!C55)","v":"--"},{"$f":"IF(ISERROR(RankingExpectedAverage!$A55),\"--\",RankingExpectedAverage!D55)","v":"--"},{"$f":"IF(ISERROR(RankingExpectedAverage!$A55),\"--\",RankingExpectedAverage!E55)","v":"--"},{"$f":"IF(ISERROR(RankingExpectedAverage!$A55),\"--\",RankingExpectedAverage!F55)","v":"--"},null,5,{"$f":"IF(ISERROR(RankingExcess!$A55),\"--\",RankingExcess!B55)","v":"--"},{"$f":"IF(ISERROR(RankingExcess!$A55),\"--\",RankingExcess!C55)","v":"--"},{"$f":"IF(ISERROR(RankingExcess!$A55),\"--\",RankingExcess!D55)","v":"--"},{"$f":"IF(ISERROR(RankingExcess!$A55),\"--\",RankingExcess!E55)","v":"--"},{"$f":"IF(ISERROR(RankingExcess!$A55),\"--\",RankingExcess!F55)","v":"--"},null,5,{"$f":"IF(ISERROR(RankingPredictedTotal!$A55),\"--\",RankingPredictedTotal!B55)","v":"--"},{"$f":"IF(ISERROR(RankingPredictedTotal!$A55),\"--\",RankingPredictedTotal!C55)","v":"--"},{"$f":"IF(ISERROR(RankingPredictedTotal!$A55),\"--\",RankingPredictedTotal!D55)","v":"--"},{"$f":"IF(ISERROR(RankingPredictedTotal!$A55),\"--\",RankingPredictedTotal!E55)","v":"--"},{"$f":"IF(ISERROR(RankingPredictedTotal!$A55),\"--\",RankingPredictedTotal!F55)","v":"--"},null,5,{"$f":"IF(ISERROR(RankingPredictedFI!$A55),\"--\",RankingPredictedFI!B55)","v":"--"},{"$f":"IF(ISERROR(RankingPredictedFI!$A55),\"--\",RankingPredictedFI!C55)","v":"--"},{"$f":"IF(ISERROR(RankingPredictedFI!$A55),\"--\",RankingPredictedFI!D55)","v":"--"},{"$f":"IF(ISERROR(RankingPredictedFI!$A55),\"--\",RankingPredictedFI!E55)","v":"--"},{"$f":"IF(ISERROR(RankingPredictedFI!$A55),\"--\",RankingPredictedFI!F55)","v":"--"}]
[6,{"$f":"IF(ISERROR(RankingExpectedAverage!$A56),\"--\",RankingExpectedAverage!B56)","v":"--"},{"$f":"IF(ISERROR(RankingExpectedAverage!$A56),\"--\",RankingExpectedAverage!C56)","v":"--"},{"$f":"IF(ISERROR(RankingExpectedAverage!$A56),\"--\",RankingExpectedAverage!D56)","v":"--"},{"$f":"IF(ISERROR(RankingExpectedAverage!$A56),\"--\",RankingExpectedAverage!E56)","v":"--"},{"$f":"IF(ISERROR(RankingExpectedAverage!$A56),\"--\",RankingExpectedAverage!F56)","v":"--"},null,6,{"$f":"IF(ISERROR(RankingExcess!$A56),\"--\",RankingExcess!B56)","v":"--"},{"$f":"IF(ISERROR(RankingExcess!$A56),\"--\",RankingExcess!C56)","v":"--"},{"$f":"IF(ISERROR(RankingExcess!$A56),\"--\",RankingExcess!D56)","v":"--"},{"$f":"IF(ISERROR(RankingExcess!$A56),\"--\",RankingExcess!E56)","v":"--"},{"$f":"IF(ISERROR(RankingExcess!$A56),\"--\",RankingExcess!F56)","v":"--"},null,6,{"$f":"IF(ISERROR(RankingPredictedTotal!$A56),\"--\",RankingPredictedTotal!B56)","v":"--"},{"$f":"IF(ISERROR(RankingPredictedTotal!$A56),\"--\",RankingPredictedTotal!C56)","v":"--"},{"$f":"IF(ISERROR(RankingPredictedTotal!$A56),\"--\",RankingPredictedTotal!D56)","v":"--"},{"$f":"IF(ISERROR(RankingPredictedTotal!$A56),\"--\",RankingPredictedTotal!E56)","v":"--"},{"$f":"IF(ISERROR(RankingPredictedTotal!$A56),\"--\",RankingPredictedTotal!F56)","v":"--"},null,6,{"$f":"IF(ISERROR(RankingPredictedFI!$A56),\"--\",RankingPredictedFI!B56)","v":"--"},{"$f":"IF(ISERROR(RankingPredictedFI!$A56),\"--\",RankingPredictedFI!C56)","v":"--"},{"$f":"IF(ISERROR(RankingPredictedFI!$A56),\"--\",RankingPredictedFI!D56)","v":"--"},{"$f":"IF(ISERROR(RankingPredictedFI!$A56),\"--\",RankingPredictedFI!E56)","v":"--"},{"$f":"IF(ISERROR(RankingPredictedFI!$A56),\"--\",RankingPredictedFI!F56)","v":"--"}]
[7,{"$f":"IF(ISERROR(RankingExpectedAverage!$A57),\"--\",RankingExpectedAverage!B57)","v":"--"},{"$f":"IF(ISERROR(RankingExpectedAverage!$A57),\"--\",RankingExpectedAverage!C57)","v":"--"},{"$f":"IF(ISERROR(RankingExpectedAverage!$A57),\"--\",RankingExpectedAverage!D57)","v":"--"},{"$f":"IF(ISERROR(RankingExpectedAverage!$A57),\"--\",RankingExpectedAverage!E57)","v":"--"},{"$f":"IF(ISERROR(RankingExpectedAverage!$A57),\"--\",RankingExpectedAverage!F57)","v":"--"},null,7,{"$f":"IF(ISERROR(RankingExcess!$A57),\"--\",RankingExcess!B57)","v":"--"},{"$f":"IF(ISERROR(RankingExcess!$A57),\"--\",RankingExcess!C57)","v":"--"},{"$f":"IF(ISERROR(RankingExcess!$A57),\"--\",RankingExcess!D57)","v":"--"},{"$f":"IF(ISERROR(RankingExcess!$A57),\"--\",RankingExcess!E57)","v":"--"},{"$f":"IF(ISERROR(RankingExcess!$A57),\"--\",RankingExcess!F57)","v":"--"},null,7,{"$f":"IF(ISERROR(RankingPredictedTotal!$A57),\"--\",RankingPredictedTotal!B57)","v":"--"},{"$f":"IF(ISERROR(RankingPredictedTotal!$A57),\"--\",RankingPredictedTotal!C57)","v":"--"},{"$f":"IF(ISERROR(RankingPredictedTotal!$A57),\"--\",RankingPredictedTotal!D57)","v":"--"},{"$f":"IF(ISERROR(RankingPredictedTotal!$A57),\"--\",RankingPredictedTotal!E57)","v":"--"},{"$f":"IF(ISERROR(RankingPredictedTotal!$A57),\"--\",RankingPredictedTotal!F57)","v":"--"},null,7,{"$f":"IF(ISERROR(RankingPredictedFI!$A57),\"--\",RankingPredictedFI!B57)","v":"--"},{"$f":"IF(ISERROR(RankingPredictedFI!$A57),\"--\",RankingPredictedFI!C57)","v":"--"},{"$f":"IF(ISERROR(RankingPredictedFI!$A57),\"--\",RankingPredictedFI!D57)","v":"--"},{"$f":"IF(ISERROR(RankingPredictedFI!$A57),\"--\",RankingPredictedFI!E57)","v":"--"},{"$f":"IF(ISERROR(RankingPredictedFI!$A57),\"--\",RankingPredictedFI!F57)","v":"--"}]
[8,{"$f":"IF(ISERROR(RankingExpectedAverage!$A58),\"--\",RankingExpectedAverage!B58)","v":"--"},{"$f":"IF(ISERROR(RankingExpectedAverage!$A58),\"--\",RankingExpectedAverage!C58)","v":"--"},{"$f":"IF(ISERROR(RankingExpectedAverage!$A58),\"--\",RankingExpectedAverage!D58)","v":"--"},{"$f":"IF(ISERROR(RankingExpectedAverage!$A58),\"--\",RankingExpectedAverage!E58)","v":"--"},{"$f":"IF(ISERROR(RankingExpectedAverage!$A58),\"--\",RankingExpectedAverage!F58)","v":"--"},null,8,{"$f":"IF(ISERROR(RankingExcess!$A58),\"--\",RankingExcess!B58)","v":"--"},{"$f":"IF(ISERROR(RankingExcess!$A58),\"--\",RankingExcess!C58)","v":"--"},{"$f":"IF(ISERROR(RankingExcess!$A58),\"--\",RankingExcess!D58)","v":"--"},{"$f":"IF(ISERROR(RankingExcess!$A58),\"--\",RankingExcess!E58)","v":"--"},{"$f":"IF(ISERROR(RankingExcess!$A58),\"--\",RankingExcess!F58)","v":"--"},null,8,{"$f":"IF(ISERROR(RankingPredictedTotal!$A58),\"--\",RankingPredictedTotal!B58)","v":"--"},{"$f":"IF(ISERROR(RankingPredictedTotal!$A58),\"--\",RankingPredictedTotal!C58)","v":"--"},{"$f":"IF(ISERROR(RankingPredictedTotal!$A58),\"--\",RankingPredictedTotal!D58)","v":"--"},{"$f":"IF(ISERROR(RankingPredictedTotal!$A58),\"--\",RankingPredictedTotal!E58)","v":"--"},{"$f":"IF(ISERROR(RankingPredictedTotal!$A58),\"--\",RankingPredictedTotal!F58)","v":"--"},null,8,{"$f":"IF(ISERROR(RankingPredictedFI!$A58),\"--\",RankingPredictedFI!B58)","v":"--"},{"$f":"IF(ISERROR(RankingPredictedFI!$A58),\"--\",RankingPredictedFI!C58)","v":"--"},{"$f":"IF(ISERROR(RankingPredictedFI!$A58),\"--\",RankingPredictedFI!D58)","v":"--"},{"$f":"IF(ISERROR(RankingPredictedFI!$A58),\"--\",RankingPredictedFI!E58)","v":"--"},{"$f":"IF(ISERROR(RankingPredictedFI!$A58),\"--\",RankingPredictedFI!F58)","v":"--"}]
[9,{"$f":"IF(ISERROR(RankingExpectedAverage!$A59),\"--\",RankingExpectedAverage!B59)","v":"--"},{"$f":"IF(ISERROR(RankingExpectedAverage!$A59),\"--\",RankingExpectedAverage!C59)","v":"--"},{"$f":"IF(ISERROR(RankingExpectedAverage!$A59),\"--\",RankingExpectedAverage!D59)","v":"--"},{"$f":"IF(ISERROR(RankingExpectedAverage!$A59),\"--\",RankingExpectedAverage!E59)","v":"--"},{"$f":"IF(ISERROR(RankingExpectedAverage!$A59),\"--\",RankingExpectedAverage!F59)","v":"--"},null,9,{"$f":"IF(ISERROR(RankingExcess!$A59),\"--\",RankingExcess!B59)","v":"--"},{"$f":"IF(ISERROR(RankingExcess!$A59),\"--\",RankingExcess!C59)","v":"--"},{"$f":"IF(ISERROR(RankingExcess!$A59),\"--\",RankingExcess!D59)","v":"--"},{"$f":"IF(ISERROR(RankingExcess!$A59),\"--\",RankingExcess!E59)","v":"--"},{"$f":"IF(ISERROR(RankingExcess!$A59),\"--\",RankingExcess!F59)","v":"--"},null,9,{"$f":"IF(ISERROR(RankingPredictedTotal!$A59),\"--\",RankingPredictedTotal!B59)","v":"--"},{"$f":"IF(ISERROR(RankingPredictedTotal!$A59),\"--\",RankingPredictedTotal!C59)","v":"--"},{"$f":"IF(ISERROR(RankingPredictedTotal!$A59),\"--\",RankingPredictedTotal!D59)","v":"--"},{"$f":"IF(ISERROR(RankingPredictedTotal!$A59),\"--\",RankingPredictedTotal!E59)","v":"--"},{"$f":"IF(ISERROR(RankingPredictedTotal!$A59),\"--\",RankingPredictedTotal!F59)","v":"--"},null,9,{"$f":"IF(ISERROR(RankingPredictedFI!$A59),\"--\",RankingPredictedFI!B59)","v":"--"},{"$f":"IF(ISERROR(RankingPredictedFI!$A59),\"--\",RankingPredictedFI!C59)","v":"--"},{"$f":"IF(ISERROR(RankingPredictedFI!$A59),\"--\",RankingPredictedFI!D59)","v":"--"},{"$f":"IF(ISERROR(RankingPredictedFI!$A59),\"--\",RankingPredictedFI!E59)","v":"--"},{"$f":"IF(ISERROR(RankingPredictedFI!$A59),\"--\",RankingPredictedFI!F59)","v":"--"}]
[10,{"$f":"IF(ISERROR(RankingExpectedAverage!$A60),\"--\",RankingExpectedAverage!B60)","v":"--"},{"$f":"IF(ISERROR(RankingExpectedAverage!$A60),\"--\",RankingExpectedAverage!C60)","v":"--"},{"$f":"IF(ISERROR(RankingExpectedAverage!$A60),\"--\",RankingExpectedAverage!D60)","v":"--"},{"$f":"IF(ISERROR(RankingExpectedAverage!$A60),\"--\",RankingExpectedAverage!E60)","v":"--"},{"$f":"IF(ISERROR(RankingExpectedAverage!$A60),\"--\",RankingExpectedAverage!F60)","v":"--"},null,10,{"$f":"IF(ISERROR(RankingExcess!$A60),\"--\",RankingExcess!B60)","v":"--"},{"$f":"IF(ISERROR(RankingExcess!$A60),\"--\",RankingExcess!C60)","v":"--"},{"$f":"IF(ISERROR(RankingExcess!$A60),\"--\",RankingExcess!D60)","v":"--"},{"$f":"IF(ISERROR(RankingExcess!$A60),\"--\",RankingExcess!E60)","v":"--"},{"$f":"IF(ISERROR(RankingExcess!$A60),\"--\",RankingExcess!F60)","v":"--"},null,10,{"$f":"IF(ISERROR(RankingPredictedTotal!$A60),\"--\",RankingPredictedTotal!B60)","v":"--"},{"$f":"IF(ISERROR(RankingPredictedTotal!$A60),\"--\",RankingPredictedTotal!C60)","v":"--"},{"$f":"IF(ISERROR(RankingPredictedTotal!$A60),\"--\",RankingPredictedTotal!D60)","v":"--"},{"$f":"IF(ISERROR(RankingPredictedTotal!$A60),\"--\",RankingPredictedTotal!E60)","v":"--"},{"$f":"IF(ISERROR(RankingPredictedTotal!$A60),\"--\",RankingPredictedTotal!F60)","v":"--"},null,10,{"$f":"IF(ISERROR(RankingPredictedFI!$A60),\"--\",RankingPredictedFI!B60)","v":"--"},{"$f":"IF(ISERROR(RankingPredictedFI!$A60),\"--\",RankingPredictedFI!C60)","v":"--"},{"$f":"IF(ISERROR(RankingPredictedFI!$A60),\"--\",RankingPredictedFI!D60)","v":"--"},{"$f":"IF(ISERROR(RankingPredictedFI!$A60),\"--\",RankingPredictedFI!E60)","v":"--"},{"$f":"IF(ISERROR(RankingPredictedFI!$A60),\"--\",RankingPredictedFI!F60)","v":"--"}]
[]
["Rank","Rural County Non-Federal Aid Segments",null,null,null,"Average",null,"Rank","Rural County Non-Federal Aid Segments",null,null,null,"Excess",null,"Rank","Rural County Non-Federal Aid Segments",null,null,null,"Number",null,"Rank","Rural County Non-Federal Aid Segments",null,null,null,"Number"]
[1,{"$f":"IF(ISERROR(RankingExpectedAverage!$A101),\"--\",RankingExpectedAverage!B101)","v":"--"},{"$f":"IF(ISERROR(RankingExpectedAverage!$A101),\"--\",RankingExpectedAverage!C101)","v":"--"},{"$f":"IF(ISERROR(RankingExpectedAverage!$A101),\"--\",RankingExpectedAverage!D101)","v":"--"},{"$f":"IF(ISERROR(RankingExpectedAverage!$A101),\"--\",RankingExpectedAverage!E101)","v":"--"},{"$f":"IF(ISERROR(RankingExpectedAverage!$A101),\"--\",RankingExpectedAverage!F101)","v":"--"},null,1,{"$f":"IF(ISERROR(RankingExcess!$A101),\"--\",RankingExcess!B101)","v":"--"},{"$f":"IF(ISERROR(RankingExcess!$A101),\"--\",RankingExcess!C101)","v":"--"},{"$f":"IF(ISERROR(RankingExcess!$A101),\"--\",RankingExcess!D101)","v":"--"},{"$f":"IF(ISERROR(RankingExcess!$A101),\"--\",RankingExcess!E101)","v":"--"},{"$f":"IF(ISERROR(RankingExcess!$A101),\"--\",RankingExcess!F101)","v":"--"},null,1,{"$f":"IF(ISERROR(RankingPredictedTotal!$A101),\"--\",RankingPredictedTotal!B101)","v":"--"},{"$f":"IF(ISERROR(RankingPredictedTotal!$A101),\"--\",RankingPredictedTotal!C101)","v":"--"},{"$f":"IF(ISERROR(RankingPredictedTotal!$A101),\"--\",RankingPredictedTotal!D101)","v":"--"},{"$f":"IF(ISERROR(RankingPredictedTotal!$A101),\"--\",RankingPredictedTotal!E101)","v":"--"},{"$f":"IF(ISERROR(RankingPredictedTotal!$A101),\"--\",RankingPredictedTotal!F101)","v":"--"},null,1,{"$f":"IF(ISERROR(RankingPredictedFI!$A101),\"--\",RankingPredictedFI!B101)","v":"--"},{"$f":"IF(ISERROR(RankingPredictedFI!$A101),\"--\",RankingPredictedFI!C101)","v":"--"},{"$f":"IF(ISERROR(RankingPredictedFI!$A101),\"--\",RankingPredictedFI!D101)","v":"--"},{"$f":"IF(ISERROR(RankingPredictedFI!$A101),\"--\",RankingPredictedFI!E101)","v":"--"},{"$f":"IF(ISERROR(RankingPredictedFI!$A101),\"--\",RankingPredictedFI!F101)","v":"--"}]
[2,{"$f":"IF(ISERROR(RankingExpectedAverage!$A102),\"--\",RankingExpectedAverage!B102)","v":"--"},{"$f":"IF(ISERROR(RankingExpectedAverage!$A102),\"--\",RankingExpectedAverage!C102)","v":"--"},{"$f":"IF(ISERROR(RankingExpectedAverage!$A102),\"--\",RankingExpectedAverage!D102)","v":"--"},{"$f":"IF(ISERROR(RankingExpectedAverage!$A102),\"--\",RankingExpectedAverage!E102)","v":"--"},{"$f":"IF(ISERROR(RankingExpectedAverage!$A102),\"--\",RankingExpectedAverage!F102)","v":"--"},null,2,{"$f":"IF(ISERROR(RankingExcess!$A102),\"--\",RankingExcess!B102)","v":"--"},{"$f":"IF(ISERROR(RankingExcess!$A102),\"--\",RankingExcess!C102)","v":"--"},{"$f":"IF(ISERROR(RankingExcess!$A102),\"--\",RankingExcess!D102)","v":"--"},{"$f":"IF(ISERROR(RankingExcess!$A102),\"--\",RankingExcess!E102)","v":"--"},{"$f":"IF(ISERROR(RankingExcess!$A102),\"--\",RankingExcess!F102)","v":"--"},null,2,{"$f":"IF(ISERROR(RankingPredictedTotal!$A102),\"--\",RankingPredictedTotal!B102)","v":"--"},{"$f":"IF(ISERROR(RankingPredictedTotal!$A102),\"--\",RankingPredictedTotal!C102)","v":"--"},{"$f":"IF(ISERROR(RankingPredictedTotal!$A102),\"--\",RankingPredictedTotal!D102)","v":"--"},{"$f":"IF(ISERROR(RankingPredictedTotal!$A102),\"--\",RankingPredictedTotal!E102)","v":"--"},{"$f":"IF(ISERROR(RankingPredictedTotal!$A102),\"--\",RankingPredictedTotal!F102)","v":"--"},null,2,{"$f":"IF(ISERROR(RankingPredictedFI!$A102),\"--\",RankingPredictedFI!B102)","v":"--"},{"$f":"IF(ISERROR(RankingPredictedFI!$A102),\"--\",RankingPredictedFI!C102)","v":"--"},{"$f":"IF(ISERROR(RankingPredictedFI!$A102),\"--\",RankingPredictedFI!D102)","v":"--"},{"$f":"IF(ISERROR(RankingPredictedFI!$A102),\"--\",RankingPredictedFI!E102)","v":"--"},{"$f":"IF(ISERROR(RankingPredictedFI!$A102),\"--\",RankingPredictedFI!F102)","v":"--"}]
[3,{"$f":"IF(ISERROR(RankingExpectedAverage!$A103),\"--\",RankingExpectedAverage!B103)","v":"--"},{"$f":"IF(ISERROR(RankingExpectedAverage!$A103),\"--\",RankingExpectedAverage!C103)","v":"--"},{"$f":"IF(ISERROR(RankingExpectedAverage!$A103),\"--\",RankingExpectedAverage!D103)","v":"--"},{"$f":"IF(ISERROR(RankingExpectedAverage!$A103),\"--\",RankingExpectedAverage!E103)","v":"--"},{"$f":"IF(ISERROR(RankingExpectedAverage!$A103),\"--\",RankingExpectedAverage!F103)","v":"--"},null,3,{"$f":"IF(ISERROR(RankingExcess!$A103),\"--\",RankingExcess!B103)","v":"--"},{"$f":"IF(ISERROR(RankingExcess!$A103),\"--\",RankingExcess!C103)","v":"--"},{"$f":"IF(ISERROR(RankingExcess!$A103),\"--\",RankingExcess!D103)","v":"--"},{"$f":"IF(ISERROR(RankingExcess!$A103),\"--\",RankingExcess!E103)","v":"--"},{"$f":"IF(ISERROR(RankingExcess!$A103),\"--\",RankingExcess!F103)","v":"--"},null,3,{"$f":"IF(ISERROR(RankingPredictedTotal!$A103),\"--\",RankingPredictedTotal!B103)","v":"--"},{"$f":"IF(ISERROR(RankingPredictedTotal!$A103),\"--\",RankingPredictedTotal!C103)","v":"--"},{"$f":"IF(ISERROR(RankingPredictedTotal!$A103),\"--\",RankingPredictedTotal!D103)","v":"--"},{"$f":"IF(ISERROR(RankingPredictedTotal!$A103),\"--\",RankingPredictedTotal!E103)","v":"--"},{"$f":"IF(ISERROR(RankingPredictedTotal!$A103),\"--\",RankingPredictedTotal!F103)","v":"--"},null,3,{"$f":"IF(ISERROR(RankingPredictedFI!$A103),\"--\",RankingPredictedFI!B103)","v":"--"},{"$f":"IF(ISERROR(RankingPredictedFI!$A103),\"--\",RankingPredictedFI!C103)","v":"--"},{"$f":"IF(ISERROR(RankingPredictedFI!$A103),\"--\",RankingPredictedFI!D103)","v":"--"},{"$f":"IF(ISERROR(RankingPredictedFI!$A103),\"--\",RankingPredictedFI!E103)","v":"--"},{"$f":"IF(ISERROR(RankingPredictedFI!$A103),\"--\",RankingPredictedFI!F103)","v":"--"}]
[4,{"$f":"IF(ISERROR(RankingExpectedAverage!$A104),\"--\",RankingExpectedAverage!B104)","v":"--"},{"$f":"IF(ISERROR(RankingExpectedAverage!$A104),\"--\",RankingExpectedAverage!C104)","v":"--"},{"$f":"IF(ISERROR(RankingExpectedAverage!$A104),\"--\",RankingExpectedAverage!D104)","v":"--"},{"$f":"IF(ISERROR(RankingExpectedAverage!$A104),\"--\",RankingExpectedAverage!E104)","v":"--"},{"$f":"IF(ISERROR(RankingExpectedAverage!$A104),\"--\",RankingExpectedAverage!F104)","v":"--"},null,4,{"$f":"IF(ISERROR(RankingExcess!$A104),\"--\",RankingExcess!B104)","v":"--"},{"$f":"IF(ISERROR(RankingExcess!$A104),\"--\",RankingExcess!C104)","v":"--"},{"$f":"IF(ISERROR(RankingExcess!$A104),\"--\",RankingExcess!D104)","v":"--"},{"$f":"IF(ISERROR(RankingExcess!$A104),\"--\",RankingExcess!E104)","v":"--"},{"$f":"IF(ISERROR(RankingExcess!$A104),\"--\",RankingExcess!F104)","v":"--"},null,4,{"$f":"IF(ISERROR(RankingPredictedTotal!$A104),\"--\",RankingPredictedTotal!B104)","v":"--"},{"$f":"IF(ISERROR(RankingPredictedTotal!$A104),\"--\",RankingPredictedTotal!C104)","v":"--"},{"$f":"IF(ISERROR(RankingPredictedTotal!$A104),\"--\",RankingPredictedTotal!D104)","v":"--"},{"$f":"IF(ISERROR(RankingPredictedTotal!$A104),\"--\",RankingPredictedTotal!E104)","v":"--"},{"$f":"IF(ISERROR(RankingPredictedTotal!$A104),\"--\",RankingPredictedTotal!F104)","v":"--"},null,4,{"$f":"IF(ISERROR(RankingPredictedFI!$A104),\"--\",RankingPredictedFI!B104)","v":"--"},{"$f":"IF(ISERROR(RankingPredictedFI!$A104),\"--\",RankingPredictedFI!C104)","v":"--"},{"$f":"IF(ISERROR(RankingPredictedFI!$A104),\"--\",RankingPredictedFI!D104)","v":"--"},{"$f":"IF(ISERROR(RankingPredictedFI!$A104),\"--\",RankingPredictedFI!E104)","v":"--"},{"$f":"IF(ISERROR(RankingPredictedFI!$A104),\"--\",RankingPredictedFI!F104)","v":"--"}]
[5,{"$f":"IF(ISERROR(RankingExpectedAverage!$A105),\"--\",RankingExpectedAverage!B105)","v":"--"},{"$f":"IF(ISERROR(RankingExpectedAverage!$A105),\"--\",RankingExpectedAverage!C105)","v":"--"},{"$f":"IF(ISERROR(RankingExpectedAverage!$A105),\"--\",RankingExpectedAverage!D105)","v":"--"},{"$f":"IF(ISERROR(RankingExpectedAverage!$A105),\"--\",RankingExpectedAverage!E105)","v":"--"},{"$f":"IF(ISERROR(RankingExpectedAverage!$A105),\"--\",RankingExpectedAverage!F105)","v":"--"},null,5,{"$f":"IF(ISERROR(RankingExcess!$A105),\"--\",RankingExcess!B105)","v":"--"},{"$f":"IF(ISERROR(RankingExcess!$A105),\"--\",RankingExcess!C105)","v":"--"},{"$f":"IF(ISERROR(RankingExcess!$A105),\"--\",RankingExcess!D105)","v":"--"},{"$f":"IF(ISERROR(RankingExcess!$A105),\"--\",RankingExcess!E105)","v":"--"},{"$f":"IF(ISERROR(RankingExcess!$A105),\"--\",RankingExcess!F105)","v":"--"},null,5,{"$f":"IF(ISERROR(RankingPredictedTotal!$A105),\"--\",RankingPredictedTotal!B105)","v":"--"},{"$f":"IF(ISERROR(RankingPredictedTotal!$A105),\"--\",RankingPredictedTotal!C105)","v":"--"},{"$f":"IF(ISERROR(RankingPredictedTotal!$A105),\"--\",RankingPredictedTotal!D105)","v":"--"},{"$f":"IF(ISERROR(RankingPredictedTotal!$A105),\"--\",RankingPredictedTotal!E105)","v":"--"},{"$f":"IF(ISERROR(RankingPredictedTotal!$A105),\"--\",RankingPredictedTotal!F105)","v":"--"},null,5,{"$f":"IF(ISERROR(RankingPredictedFI!$A105),\"--\",RankingPredictedFI!B105)","v":"--"},{"$f":"IF(ISERROR(RankingPredictedFI!$A105),\"--\",RankingPredictedFI!C105)","v":"--"},{"$f":"IF(ISERROR(RankingPredictedFI!$A105),\"--\",RankingPredictedFI!D105)","v":"--"},{"$f":"IF(ISERROR(RankingPredictedFI!$A105),\"--\",RankingPredictedFI!E105)","v":"--"},{"$f":"IF(ISERROR(RankingPredictedFI!$A105),\"--\",RankingPredictedFI!F105)","v":"--"}]
[6,{"$f":"IF(ISERROR(RankingExpectedAverage!$A106),\"--\",RankingExpectedAverage!B106)","v":"--"},{"$f":"IF(ISERROR(RankingExpectedAverage!$A106),\"--\",RankingExpectedAverage!C106)","v":"--"},{"$f":"IF(ISERROR(RankingExpectedAverage!$A106),\"--\",RankingExpectedAverage!D106)","v":"--"},{"$f":"IF(ISERROR(RankingExpectedAverage!$A106),\"--\",RankingExpectedAverage!E106)","v":"--"},{"$f":"IF(ISERROR(RankingExpectedAverage!$A106),\"--\",RankingExpectedAverage!F106)","v":"--"},null,6,{"$f":"IF(ISERROR(RankingExcess!$A106),\"--\",RankingExcess!B106)","v":"--"},{"$f":"IF(ISERROR(RankingExcess!$A106),\"--\",RankingExcess!C106)","v":"--"},{"$f":"IF(ISERROR(RankingExcess!$A106),\"--\",RankingExcess!D106)","v":"--"},{"$f":"IF(ISERROR(RankingExcess!$A106),\"--\",RankingExcess!E106)","v":"--"},{"$f":"IF(ISERROR(RankingExcess!$A106),\"--\",RankingExcess!F106)","v":"--"},null,6,{"$f":"IF(ISERROR(RankingPredictedTotal!$A106),\"--\",RankingPredictedTotal!B106)","v":"--"},{"$f":"IF(ISERROR(RankingPredictedTotal!$A106),\"--\",RankingPredictedTotal!C106)","v":"--"},{"$f":"IF(ISERROR(RankingPredictedTotal!$A106),\"--\",RankingPredictedTotal!D106)","v":"--"},{"$f":"IF(ISERROR(RankingPredictedTotal!$A106),\"--\",RankingPredictedTotal!E106)","v":"--"},{"$f":"IF(ISERROR(RankingPredictedTotal!$A106),\"--\",RankingPredictedTotal!F106)","v":"--"},null,6,{"$f":"IF(ISERROR(RankingPredictedFI!$A106),\"--\",RankingPredictedFI!B106)","v":"--"},{"$f":"IF(ISERROR(RankingPredictedFI!$A106),\"--\",RankingPredictedFI!C106)","v":"--"},{"$f":"IF(ISERROR(RankingPredictedFI!$A106),\"--\",RankingPredictedFI!D106)","v":"--"},{"$f":"IF(ISERROR(RankingPredictedFI!$A106),\"--\",RankingPredictedFI!E106)","v":"--"},{"$f":"IF(ISERROR(RankingPredictedFI!$A106),\"--\",RankingPredictedFI!F106)","v":"--"}]
[7,{"$f":"IF(ISERROR(RankingExpectedAverage!$A107),\"--\",RankingExpectedAverage!B107)","v":"--"},{"$f":"IF(ISERROR(RankingExpectedAverage!$A107),\"--\",RankingExpectedAverage!C107)","v":"--"},{"$f":"IF(ISERROR(RankingExpectedAverage!$A107),\"--\",RankingExpectedAverage!D107)","v":"--"},{"$f":"IF(ISERROR(RankingExpectedAverage!$A107),\"--\",RankingExpectedAverage!E107)","v":"--"},{"$f":"IF(ISERROR(RankingExpectedAverage!$A107),\"--\",RankingExpectedAverage!F107)","v":"--"},null,7,{"$f":"IF(ISERROR(RankingExcess!$A107),\"--\",RankingExcess!B107)","v":"--"},{"$f":"IF(ISERROR(RankingExcess!$A107),\"--\",RankingExcess!C107)","v":"--"},{"$f":"IF(ISERROR(RankingExcess!$A107),\"--\",RankingExcess!D107)","v":"--"},{"$f":"IF(ISERROR(RankingExcess!$A107),\"--\",RankingExcess!E107)","v":"--"},{"$f":"IF(ISERROR(RankingExcess!$A107),\"--\",RankingExcess!F107)","v":"--"},null,7,{"$f":"IF(ISERROR(RankingPredictedTotal!$A107),\"--\",RankingPredictedTotal!B107)","v":"--"},{"$f":"IF(ISERROR(RankingPredictedTotal!$A107),\"--\",RankingPredictedTotal!C107)","v":"--"},{"$f":"IF(ISERROR(RankingPredictedTotal!$A107),\"--\",RankingPredictedTotal!D107)","v":"--"},{"$f":"IF(ISERROR(RankingPredictedTotal!$A107),\"--\",RankingPredictedTotal!E107)","v":"--"},{"$f":"IF(ISERROR(RankingPredictedTotal!$A107),\"--\",RankingPredictedTotal!F107)","v":"--"},null,7,{"$f":"IF(ISERROR(RankingPredictedFI!$A107),\"--\",RankingPredictedFI!B107)","v":"--"},{"$f":"IF(ISERROR(RankingPredictedFI!$A107),\"--\",RankingPredictedFI!C107)","v":"--"},{"$f":"IF(ISERROR(RankingPredictedFI!$A107),\"--\",RankingPredictedFI!D107)","v":"--"},{"$f":"IF(ISERROR(RankingPredictedFI!$A107),\"--\",RankingPredictedFI!E107)","v":"--"},{"$f":"IF(ISERROR(RankingPredictedFI!$A107),\"--\",RankingPredictedFI!F107)","v":"--"}]
[8,{"$f":"IF(ISERROR(RankingExpectedAverage!$A108),\"--\",RankingExpectedAverage!B108)","v":"--"},{"$f":"IF(ISERROR(RankingExpectedAverage!$A108),\"--\",RankingExpectedAverage!C108)","v":"--"},{"$f":"IF(ISERROR(RankingExpectedAverage!$A108),\"--\",RankingExpectedAverage!D108)","v":"--"},{"$f":"IF(ISERROR(RankingExpectedAverage!$A108),\"--\",RankingExpectedAverage!E108)","v":"--"},{"$f":"IF(ISERROR(RankingExpectedAverage!$A108),\"--\",RankingExpectedAverage!F108)","v":"--"},null,8,{"$f":"IF(ISERROR(RankingExcess!$A108),\"--\",RankingExcess!B108)","v":"--"},{"$f":"IF(ISERROR(RankingExcess!$A108),\"--\",RankingExcess!C108)","v":"--"},{"$f":"IF(ISERROR(RankingExcess!$A108),\"--\",RankingExcess!D108)","v":"--"},{"$f":"IF(ISERROR(RankingExcess!$A108),\"--\",RankingExcess!E108)","v":"--"},{"$f":"IF(ISERROR(RankingExcess!$A108),\"--\",RankingExcess!F108)","v":"--"},null,8,{"$f":"IF(ISERROR(RankingPredictedTotal!$A108),\"--\",RankingPredictedTotal!B108)","v":"--"},{"$f":"IF(ISERROR(RankingPredictedTotal!$A108),\"--\",RankingPredictedTotal!C108)","v":"--"},{"$f":"IF(ISERROR(RankingPredictedTotal!$A108),\"--\",RankingPredictedTotal!D108)","v":"--"},{"$f":"IF(ISERROR(RankingPredictedTotal!$A108),\"--\",RankingPredictedTotal!E108)","v":"--"},{"$f":"IF(ISERROR(RankingPredictedTotal!$A108),\"--\",RankingPredictedTotal!F108)","v":"--"},null,8,{"$f":"IF(ISERROR(RankingPredictedFI!$A108),\"--\",RankingPredictedFI!B108)","v":"--"},{"$f":"IF(ISERROR(RankingPredictedFI!$A108),\"--\",RankingPredictedFI!C108)","v":"--"},{"$f":"IF(ISERROR(RankingPredictedFI!$A108),\"--\",RankingPredictedFI!D108)","v":"--"},{"$f":"IF(ISERROR(RankingPredictedFI!$A108),\"--\",RankingPredictedFI!E108)","v":"--"},{"$f":"IF(ISERROR(RankingPredictedFI!$A108),\"--\",RankingPredictedFI!F108)","v":"--"}]
[9,{"$f":"IF(ISERROR(RankingExpectedAverage!$A109),\"--\",RankingExpectedAverage!B109)","v":"--"},{"$f":"IF(ISERROR(RankingExpectedAverage!$A109),\"--\",RankingExpectedAverage!C109)","v":"--"},{"$f":"IF(ISERROR(RankingExpectedAverage!$A109),\"--\",RankingExpectedAverage!D109)","v":"--"},{"$f":"IF(ISERROR(RankingExpectedAverage!$A109),\"--\",RankingExpectedAverage!E109)","v":"--"},{"$f":"IF(ISERROR(RankingExpectedAverage!$A109),\"--\",RankingExpectedAverage!F109)","v":"--"},null,9,{"$f":"IF(ISERROR(RankingExcess!$A109),\"--\",RankingExcess!B109)","v":"--"},{"$f":"IF(ISERROR(RankingExcess!$A109),\"--\",RankingExcess!C109)","v":"--"},{"$f":"IF(ISERROR(RankingExcess!$A109),\"--\",RankingExcess!D109)","v":"--"},{"$f":"IF(ISERROR(RankingExcess!$A109),\"--\",RankingExcess!E109)","v":"--"},{"$f":"IF(ISERROR(RankingExcess!$A109),\"--\",RankingExcess!F109)","v":"--"},null,9,{"$f":"IF(ISERROR(RankingPredictedTotal!$A109),\"--\",RankingPredictedTotal!B109)","v":"--"},{"$f":"IF(ISERROR(RankingPredictedTotal!$A109),\"--\",RankingPredictedTotal!C109)","v":"--"},{"$f":"IF(ISERROR(RankingPredictedTotal!$A109),\"--\",RankingPredictedTotal!D109)","v":"--"},{"$f":"IF(ISERROR(RankingPredictedTotal!$A109),\"--\",RankingPredictedTotal!E109)","v":"--"},{"$f":"IF(ISERROR(RankingPredictedTotal!$A109),\"--\",RankingPredictedTotal!F109)","v":"--"},null,9,{"$f":"IF(ISERROR(RankingPredictedFI!$A109),\"--\",RankingPredictedFI!B109)","v":"--"},{"$f":"IF(ISERROR(RankingPredictedFI!$A109),\"--\",RankingPredictedFI!C109)","v":"--"},{"$f":"IF(ISERROR(RankingPredictedFI!$A109),\"--\",RankingPredictedFI!D109)","v":"--"},{"$f":"IF(ISERROR(RankingPredictedFI!$A109),\"--\",RankingPredictedFI!E109)","v":"--"},{"$f":"IF(ISERROR(RankingPredictedFI!$A109),\"--\",RankingPredictedFI!F109)","v":"--"}]
[10,{"$f":"IF(ISERROR(RankingExpectedAverage!$A110),\"--\",RankingExpectedAverage!B110)","v":"--"},{"$f":"IF(ISERROR(RankingExpectedAverage!$A110),\"--\",RankingExpectedAverage!C110)","v":"--"},{"$f":"IF(ISERROR(RankingExpectedAverage!$A110),\"--\",RankingExpectedAverage!D110)","v":"--"},{"$f":"IF(ISERROR(RankingExpectedAverage!$A110),\"--\",RankingExpectedAverage!E110)","v":"--"},{"$f":"IF(ISERROR(RankingExpectedAverage!$A110),\"--\",RankingExpectedAverage!F110)","v":"--"},null,10,{"$f":"IF(ISERROR(RankingExcess!$A110),\"--\",RankingExcess!B110)","v":"--"},{"$f":"IF(ISERROR(RankingExcess!$A110),\"--\",RankingExcess!C110)","v":"--"},{"$f":"IF(ISERROR(RankingExcess!$A110),\"--\",RankingExcess!D110)","v":"--"},{"$f":"IF(ISERROR(RankingExcess!$A110),\"--\",RankingExcess!E110)","v":"--"},{"$f":"IF(ISERROR(RankingExcess!$A110),\"--\",RankingExcess!F110)","v":"--"},null,10,{"$f":"IF(ISERROR(RankingPredictedTotal!$A110),\"--\",RankingPredictedTotal!B110)","v":"--"},{"$f":"IF(ISERROR(RankingPredictedTotal!$A110),\"--\",RankingPredictedTotal!C110)","v":"--"},{"$f":"IF(ISERROR(RankingPredictedTotal!$A110),\"--\",RankingPredictedTotal!D110)","v":"--"},{"$f":"IF(ISERROR(RankingPredictedTotal!$A110),\"--\",RankingPredictedTotal!E110)","v":"--"},{"$f":"IF(ISERROR(RankingPredictedTotal!$A110),\"--\",RankingPredictedTotal!F110)","v":"--"},null,10,{"$f":"IF(ISERROR(RankingPredictedFI!$A110),\"--\",RankingPredictedFI!B110)","v":"--"},{"$f":"IF(ISERROR(RankingPredictedFI!$A110),\"--\",RankingPredictedFI!C110)","v":"--"},{"$f":"IF(ISERROR(RankingPredictedFI!$A110),\"--\",RankingPredictedFI!D110)","v":"--"},{"$f":"IF(ISERROR(RankingPredictedFI!$A110),\"--\",RankingPredictedFI!E110)","v":"--"},{"$f":"IF(ISERROR(RankingPredictedFI!$A110),\"--\",RankingPredictedFI!F110)","v":"--"}]
[]
["Rank","Rural Multilane Segments",null,null,null,"Average",null,"Rank","Rural Multilane Segments",null,null,null,"Excess",null,"Rank","Rural Multilane Segments",null,null,null,"Number",null,"Rank","Rural Multilane Segments",null,null,null,"Number"]
[1,{"$f":"IF(ISERROR(RankingExpectedAverage!$A151),\"--\",RankingExpectedAverage!B151)","v":"--"},{"$f":"IF(ISERROR(RankingExpectedAverage!$A151),\"--\",RankingExpectedAverage!C151)","v":"--"},{"$f":"IF(ISERROR(RankingExpectedAverage!$A151),\"--\",RankingExpectedAverage!D151)","v":"--"},{"$f":"IF(ISERROR(RankingExpectedAverage!$A151),\"--\",RankingExpectedAverage!E151)","v":"--"},{"$f":"IF(ISERROR(RankingExpectedAverage!$A151),\"--\",RankingExpectedAverage!F151)","v":"--"},null,1,{"$f":"IF(ISERROR(RankingExcess!$A151),\"--\",RankingExcess!B151)","v":"--"},{"$f":"IF(ISERROR(RankingExcess!$A151),\"--\",RankingExcess!C151)","v":"--"},{"$f":"IF(ISERROR(RankingExcess!$A151),\"--\",RankingExcess!D151)","v":"--"},{"$f":"IF(ISERROR(RankingExcess!$A151),\"--\",RankingExcess!E151)","v":"--"},{"$f":"IF(ISERROR(RankingExcess!$A151),\"--\",RankingExcess!F151)","v":"--"},null,1,{"$f":"IF(ISERROR(RankingPredictedTotal!$A151),\"--\",RankingPredictedTotal!B151)","v":"--"},{"$f":"IF(ISERROR(RankingPredictedTotal!$A151),\"--\",RankingPredictedTotal!C151)","v":"--"},{"$f":"IF(ISERROR(RankingPredictedTotal!$A151),\"--\",RankingPredictedTotal!D151)","v":"--"},{"$f":"IF(ISERROR(RankingPredictedTotal!$A151),\"--\",RankingPredictedTotal!E151)","v":"--"},{"$f":"IF(ISERROR(RankingPredictedTotal!$A151),\"--\",RankingPredictedTotal!F151)","v":"--"},null,1,{"$f":"IF(ISERROR(RankingPredictedFI!$A151),\"--\",RankingPredictedFI!B151)","v":"--"},{"$f":"IF(ISERROR(RankingPredictedFI!$A151),\"--\",RankingPredictedFI!C151)","v":"--"},{"$f":"IF(ISERROR(RankingPredictedFI!$A151),\"--\",RankingPredictedFI!D151)","v":"--"},{"$f":"IF(ISERROR(RankingPredictedFI!$A151),\"--\",RankingPredictedFI!E151)","v":"--"},{"$f":"IF(ISERROR(RankingPredictedFI!$A151),\"--\",RankingPredictedFI!F151)","v":"--"}]
[2,{"$f":"IF(ISERROR(RankingExpectedAverage!$A152),\"--\",RankingExpectedAverage!B152)","v":"--"},{"$f":"IF(ISERROR(RankingExpectedAverage!$A152),\"--\",RankingExpectedAverage!C152)","v":"--"},{"$f":"IF(ISERROR(RankingExpectedAverage!$A152),\"--\",RankingExpectedAverage!D152)","v":"--"},{"$f":"IF(ISERROR(RankingExpectedAverage!$A152),\"--\",RankingExpectedAverage!E152)","v":"--"},{"$f":"IF(ISERROR(RankingExpectedAverage!$A152),\"--\",RankingExpectedAverage!F152)","v":"--"},null,2,{"$f":"IF(ISERROR(RankingExcess!$A152),\"--\",RankingExcess!B152)","v":"--"},{"$f":"IF(ISERROR(RankingExcess!$A152),\"--\",RankingExcess!C152)","v":"--"},{"$f":"IF(ISERROR(RankingExcess!$A152),\"--\",RankingExcess!D152)","v":"--"},{"$f":"IF(ISERROR(RankingExcess!$A152),\"--\",RankingExcess!E152)","v":"--"},{"$f":"IF(ISERROR(RankingExcess!$A152),\"--\",RankingExcess!F152)","v":"--"},null,2,{"$f":"IF(ISERROR(RankingPredictedTotal!$A152),\"--\",RankingPredictedTotal!B152)","v":"--"},{"$f":"IF(ISERROR(RankingPredictedTotal!$A152),\"--\",RankingPredictedTotal!C152)","v":"--"},{"$f":"IF(ISERROR(RankingPredictedTotal!$A152),\"--\",RankingPredictedTotal!D152)","v":"--"},{"$f":"IF(ISERROR(RankingPredictedTotal!$A152),\"--\",RankingPredictedTotal!E152)","v":"--"},{"$f":"IF(ISERROR(RankingPredictedTotal!$A152),\"--\",RankingPredictedTotal!F152)","v":"--"},null,2,{"$f":"IF(ISERROR(RankingPredictedFI!$A152),\"--\",RankingPredictedFI!B152)","v":"--"},{"$f":"IF(ISERROR(RankingPredictedFI!$A152),\"--\",RankingPredictedFI!C152)","v":"--"},{"$f":"IF(ISERROR(RankingPredictedFI!$A152),\"--\",RankingPredictedFI!D152)","v":"--"},{"$f":"IF(ISERROR(RankingPredictedFI!$A152),\"--\",RankingPredictedFI!E152)","v":"--"},{"$f":"IF(ISERROR(RankingPredictedFI!$A152),\"--\",RankingPredictedFI!F152)","v":"--"}]
[3,{"$f":"IF(ISERROR(RankingExpectedAverage!$A153),\"--\",RankingExpectedAverage!B153)","v":"--"},{"$f":"IF(ISERROR(RankingExpectedAverage!$A153),\"--\",RankingExpectedAverage!C153)","v":"--"},{"$f":"IF(ISERROR(RankingExpectedAverage!$A153),\"--\",RankingExpectedAverage!D153)","v":"--"},{"$f":"IF(ISERROR(RankingExpectedAverage!$A153),\"--\",RankingExpectedAverage!E153)","v":"--"},{"$f":"IF(ISERROR(RankingExpectedAverage!$A153),\"--\",RankingExpectedAverage!F153)","v":"--"},null,3,{"$f":"IF(ISERROR(RankingExcess!$A153),\"--\",RankingExcess!B153)","v":"--"},{"$f":"IF(ISERROR(RankingExcess!$A153),\"--\",RankingExcess!C153)","v":"--"},{"$f":"IF(ISERROR(RankingExcess!$A153),\"--\",RankingExcess!D153)","v":"--"},{"$f":"IF(ISERROR(RankingExcess!$A153),\"--\",RankingExcess!E153)","v":"--"},{"$f":"IF(ISERROR(RankingExcess!$A153),\"--\",RankingExcess!F153)","v":"--"},null,3,{"$f":"IF(ISERROR(RankingPredictedTotal!$A153),\"--\",RankingPredictedTotal!B153)","v":"--"},{"$f":"IF(ISERROR(RankingPredictedTotal!$A153),\"--\",RankingPredictedTotal!C153)","v":"--"},{"$f":"IF(ISERROR(RankingPredictedTotal!$A153),\"--\",RankingPredictedTotal!D153)","v":"--"},{"$f":"IF(ISERROR(RankingPredictedTotal!$A153),\"--\",RankingPredictedTotal!E153)","v":"--"},{"$f":"IF(ISERROR(RankingPredictedTotal!$A153),\"--\",RankingPredictedTotal!F153)","v":"--"},null,3,{"$f":"IF(ISERROR(RankingPredictedFI!$A153),\"--\",RankingPredictedFI!B153)","v":"--"},{"$f":"IF(ISERROR(RankingPredictedFI!$A153),\"--\",RankingPredictedFI!C153)","v":"--"},{"$f":"IF(ISERROR(RankingPredictedFI!$A153),\"--\",RankingPredictedFI!D153)","v":"--"},{"$f":"IF(ISERROR(RankingPredictedFI!$A153),\"--\",RankingPredictedFI!E153)","v":"--"},{"$f":"IF(ISERROR(RankingPredictedFI!$A153),\"--\",RankingPredictedFI!F153)","v":"--"}]
[4,{"$f":"IF(ISERROR(RankingExpectedAverage!$A154),\"--\",RankingExpectedAverage!B154)","v":"--"},{"$f":"IF(ISERROR(RankingExpectedAverage!$A154),\"--\",RankingExpectedAverage!C154)","v":"--"},{"$f":"IF(ISERROR(RankingExpectedAverage!$A154),\"--\",RankingExpectedAverage!D154)","v":"--"},{"$f":"IF(ISERROR(RankingExpectedAverage!$A154),\"--\",RankingExpectedAverage!E154)","v":"--"},{"$f":"IF(ISERROR(RankingExpectedAverage!$A154),\"--\",RankingExpectedAverage!F154)","v":"--"},null,4,{"$f":"IF(ISERROR(RankingExcess!$A154),\"--\",RankingExcess!B154)","v":"--"},{"$f":"IF(ISERROR(RankingExcess!$A154),\"--\",RankingExcess!C154)","v":"--"},{"$f":"IF(ISERROR(RankingExcess!$A154),\"--\",RankingExcess!D154)","v":"--"},{"$f":"IF(ISERROR(RankingExcess!$A154),\"--\",RankingExcess!E154)","v":"--"},{"$f":"IF(ISERROR(RankingExcess!$A154),\"--\",RankingExcess!F154)","v":"--"},null,4,{"$f":"IF(ISERROR(RankingPredictedTotal!$A154),\"--\",RankingPredictedTotal!B154)","v":"--"},{"$f":"IF(ISERROR(RankingPredictedTotal!$A154),\"--\",RankingPredictedTotal!C154)","v":"--"},{"$f":"IF(ISERROR(RankingPredictedTotal!$A154),\"--\",RankingPredictedTotal!D154)","v":"--"},{"$f":"IF(ISERROR(RankingPredictedTotal!$A154),\"--\",RankingPredictedTotal!E154)","v":"--"},{"$f":"IF(ISERROR(RankingPredictedTotal!$A154),\"--\",RankingPredictedTotal!F154)","v":"--"},null,4,{"$f":"IF(ISERROR(RankingPredictedFI!$A154),\"--\",RankingPredictedFI!B154)","v":"--"},{"$f":"IF(ISERROR(RankingPredictedFI!$A154),\"--\",RankingPredictedFI!C154)","v":"--"},{"$f":"IF(ISERROR(RankingPredictedFI!$A154),\"--\",RankingPredictedFI!D154)","v":"--"},{"$f":"IF(ISERROR(RankingPredictedFI!$A154),\"--\",RankingPredictedFI!E154)","v":"--"},{"$f":"IF(ISERROR(RankingPredictedFI!$A154),\"--\",RankingPredictedFI!F154)","v":"--"}]
[5,{"$f":"IF(ISERROR(RankingExpectedAverage!$A155),\"--\",RankingExpectedAverage!B155)","v":"--"},{"$f":"IF(ISERROR(RankingExpectedAverage!$A155),\"--\",RankingExpectedAverage!C155)","v":"--"},{"$f":"IF(ISERROR(RankingExpectedAverage!$A155),\"--\",RankingExpectedAverage!D155)","v":"--"},{"$f":"IF(ISERROR(RankingExpectedAverage!$A155),\"--\",RankingExpectedAverage!E155)","v":"--"},{"$f":"IF(ISERROR(RankingExpectedAverage!$A155),\"--\",RankingExpectedAverage!F155)","v":"--"},null,5,{"$f":"IF(ISERROR(RankingExcess!$A155),\"--\",RankingExcess!B155)","v":"--"},{"$f":"IF(ISERROR(RankingExcess!$A155),\"--\",RankingExcess!C155)","v":"--"},{"$f":"IF(ISERROR(RankingExcess!$A155),\"--\",RankingExcess!D155)","v":"--"},{"$f":"IF(ISERROR(RankingExcess!$A155),\"--\",RankingExcess!E155)","v":"--"},{"$f":"IF(ISERROR(RankingExcess!$A155),\"--\",RankingExcess!F155)","v":"--"},null,5,{"$f":"IF(ISERROR(RankingPredictedTotal!$A155),\"--\",RankingPredictedTotal!B155)","v":"--"},{"$f":"IF(ISERROR(RankingPredictedTotal!$A155),\"--\",RankingPredictedTotal!C155)","v":"--"},{"$f":"IF(ISERROR(RankingPredictedTotal!$A155),\"--\",RankingPredictedTotal!D155)","v":"--"},{"$f":"IF(ISERROR(RankingPredictedTotal!$A155),\"--\",RankingPredictedTotal!E155)","v":"--"},{"$f":"IF(ISERROR(RankingPredictedTotal!$A155),\"--\",RankingPredictedTotal!F155)","v":"--"},null,5,{"$f":"IF(ISERROR(RankingPredictedFI!$A155),\"--\",RankingPredictedFI!B155)","v":"--"},{"$f":"IF(ISERROR(RankingPredictedFI!$A155),\"--\",RankingPredictedFI!C155)","v":"--"},{"$f":"IF(ISERROR(RankingPredictedFI!$A155),\"--\",RankingPredictedFI!D155)","v":"--"},{"$f":"IF(ISERROR(RankingPredictedFI!$A155),\"--\",RankingPredictedFI!E155)","v":"--"},{"$f":"IF(ISERROR(RankingPredictedFI!$A155),\"--\",RankingPredictedFI!F155)","v":"--"}]
[6,{"$f":"IF(ISERROR(RankingExpectedAverage!$A156),\"--\",RankingExpectedAverage!B156)","v":"--"},{"$f":"IF(ISERROR(RankingExpectedAverage!$A156),\"--\",RankingExpectedAverage!C156)","v":"--"},{"$f":"IF(ISERROR(RankingExpectedAverage!$A156),\"--\",RankingExpectedAverage!D156)","v":"--"},{"$f":"IF(ISERROR(RankingExpectedAverage!$A156),\"--\",RankingExpectedAverage!E156)","v":"--"},{"$f":"IF(ISERROR(RankingExpectedAverage!$A156),\"--\",RankingExpectedAverage!F156)","v":"--"},null,6,{"$f":"IF(ISERROR(RankingExcess!$A156),\"--\",RankingExcess!B156)","v":"--"},{"$f":"IF(ISERROR(RankingExcess!$A156),\"--\",RankingExcess!C156)","v":"--"},{"$f":"IF(ISERROR(RankingExcess!$A156),\"--\",RankingExcess!D156)","v":"--"},{"$f":"IF(ISERROR(RankingExcess!$A156),\"--\",RankingExcess!E156)","v":"--"},{"$f":"IF(ISERROR(RankingExcess!$A156),\"--\",RankingExcess!F156)","v":"--"},null,6,{"$f":"IF(ISERROR(RankingPredictedTotal!$A156),\"--\",RankingPredictedTotal!B156)","v":"--"},{"$f":"IF(ISERROR(RankingPredictedTotal!$A156),\"--\",RankingPredictedTotal!C156)","v":"--"},{"$f":"IF(ISERROR(RankingPredictedTotal!$A156),\"--\",RankingPredictedTotal!D156)","v":"--"},{"$f":"IF(ISERROR(RankingPredictedTotal!$A156),\"--\",RankingPredictedTotal!E156)","v":"--"},{"$f":"IF(ISERROR(RankingPredictedTotal!$A156),\"--\",RankingPredictedTotal!F156)","v":"--"},null,6,{"$f":"IF(ISERROR(RankingPredictedFI!$A156),\"--\",RankingPredictedFI!B156)","v":"--"},{"$f":"IF(ISERROR(RankingPredictedFI!$A156),\"--\",RankingPredictedFI!C156)","v":"--"},{"$f":"IF(ISERROR(RankingPredictedFI!$A156),\"--\",RankingPredictedFI!D156)","v":"--"},{"$f":"IF(ISERROR(RankingPredictedFI!$A156),\"--\",RankingPredictedFI!E156)","v":"--"},{"$f":"IF(ISERROR(RankingPredictedFI!$A156),\"--\",RankingPredictedFI!F156)","v":"--"}]
[7,{"$f":"IF(ISERROR(RankingExpectedAverage!$A157),\"--\",RankingExpectedAverage!B157)","v":"--"},{"$f":"IF(ISERROR(RankingExpectedAverage!$A157),\"--\",RankingExpectedAverage!C157)","v":"--"},{"$f":"IF(ISERROR(RankingExpectedAverage!$A157),\"--\",RankingExpectedAverage!D157)","v":"--"},{"$f":"IF(ISERROR(RankingExpectedAverage!$A157),\"--\",RankingExpectedAverage!E157)","v":"--"},{"$f":"IF(ISERROR(RankingExpectedAverage!$A157),\"--\",RankingExpectedAverage!F157)","v":"--"},null,7,{"$f":"IF(ISERROR(RankingExcess!$A157),\"--\",RankingExcess!B157)","v":"--"},{"$f":"IF(ISERROR(RankingExcess!$A157),\"--\",RankingExcess!C157)","v":"--"},{"$f":"IF(ISERROR(RankingExcess!$A157),\"--\",RankingExcess!D157)","v":"--"},{"$f":"IF(ISERROR(RankingExcess!$A157),\"--\",RankingExcess!E157)","v":"--"},{"$f":"IF(ISERROR(RankingExcess!$A157),\"--\",RankingExcess!F157)","v":"--"},null,7,{"$f":"IF(ISERROR(RankingPredictedTotal!$A157),\"--\",RankingPredictedTotal!B157)","v":"--"},{"$f":"IF(ISERROR(RankingPredictedTotal!$A157),\"--\",RankingPredictedTotal!C157)","v":"--"},{"$f":"IF(ISERROR(RankingPredictedTotal!$A157),\"--\",RankingPredictedTotal!D157)","v":"--"},{"$f":"IF(ISERROR(RankingPredictedTotal!$A157),\"--\",RankingPredictedTotal!E157)","v":"--"},{"$f":"IF(ISERROR(RankingPredictedTotal!$A157),\"--\",RankingPredictedTotal!F157)","v":"--"},null,7,{"$f":"IF(ISERROR(RankingPredictedFI!$A157),\"--\",RankingPredictedFI!B157)","v":"--"},{"$f":"IF(ISERROR(RankingPredictedFI!$A157),\"--\",RankingPredictedFI!C157)","v":"--"},{"$f":"IF(ISERROR(RankingPredictedFI!$A157),\"--\",RankingPredictedFI!D157)","v":"--"},{"$f":"IF(ISERROR(RankingPredictedFI!$A157),\"--\",RankingPredictedFI!E157)","v":"--"},{"$f":"IF(ISERROR(RankingPredictedFI!$A157),\"--\",RankingPredictedFI!F157)","v":"--"}]
[8,{"$f":"IF(ISERROR(RankingExpectedAverage!$A158),\"--\",RankingExpectedAverage!B158)","v":"--"},{"$f":"IF(ISERROR(RankingExpectedAverage!$A158),\"--\",RankingExpectedAverage!C158)","v":"--"},{"$f":"IF(ISERROR(RankingExpectedAverage!$A158),\"--\",RankingExpectedAverage!D158)","v":"--"},{"$f":"IF(ISERROR(RankingExpectedAverage!$A158),\"--\",RankingExpectedAverage!E158)","v":"--"},{"$f":"IF(ISERROR(RankingExpectedAverage!$A158),\"--\",RankingExpectedAverage!F158)","v":"--"},null,8,{"$f":"IF(ISERROR(RankingExcess!$A158),\"--\",RankingExcess!B158)","v":"--"},{"$f":"IF(ISERROR(RankingExcess!$A158),\"--\",RankingExcess!C158)","v":"--"},{"$f":"IF(ISERROR(RankingExcess!$A158),\"--\",RankingExcess!D158)","v":"--"},{"$f":"IF(ISERROR(RankingExcess!$A158),\"--\",RankingExcess!E158)","v":"--"},{"$f":"IF(ISERROR(RankingExcess!$A158),\"--\",RankingExcess!F158)","v":"--"},null,8,{"$f":"IF(ISERROR(RankingPredictedTotal!$A158),\"--\",RankingPredictedTotal!B158)","v":"--"},{"$f":"IF(ISERROR(RankingPredictedTotal!$A158),\"--\",RankingPredictedTotal!C158)","v":"--"},{"$f":"IF(ISERROR(RankingPredictedTotal!$A158),\"--\",RankingPredictedTotal!D158)","v":"--"},{"$f":"IF(ISERROR(RankingPredictedTotal!$A158),\"--\",RankingPredictedTotal!E158)","v":"--"},{"$f":"IF(ISERROR(RankingPredictedTotal!$A158),\"--\",RankingPredictedTotal!F158)","v":"--"},null,8,{"$f":"IF(ISERROR(RankingPredictedFI!$A158),\"--\",RankingPredictedFI!B158)","v":"--"},{"$f":"IF(ISERROR(RankingPredictedFI!$A158),\"--\",RankingPredictedFI!C158)","v":"--"},{"$f":"IF(ISERROR(RankingPredictedFI!$A158),\"--\",RankingPredictedFI!D158)","v":"--"},{"$f":"IF(ISERROR(RankingPredictedFI!$A158),\"--\",RankingPredictedFI!E158)","v":"--"},{"$f":"IF(ISERROR(RankingPredictedFI!$A158),\"--\",RankingPredictedFI!F158)","v":"--"}]
[9,{"$f":"IF(ISERROR(RankingExpectedAverage!$A159),\"--\",RankingExpectedAverage!B159)","v":"--"},{"$f":"IF(ISERROR(RankingExpectedAverage!$A159),\"--\",RankingExpectedAverage!C159)","v":"--"},{"$f":"IF(ISERROR(RankingExpectedAverage!$A159),\"--\",RankingExpectedAverage!D159)","v":"--"},{"$f":"IF(ISERROR(RankingExpectedAverage!$A159),\"--\",RankingExpectedAverage!E159)","v":"--"},{"$f":"IF(ISERROR(RankingExpectedAverage!$A159),\"--\",RankingExpectedAverage!F159)","v":"--"},null,9,{"$f":"IF(ISERROR(RankingExcess!$A159),\"--\",RankingExcess!B159)","v":"--"},{"$f":"IF(ISERROR(RankingExcess!$A159),\"--\",RankingExcess!C159)","v":"--"},{"$f":"IF(ISERROR(RankingExcess!$A159),\"--\",RankingExcess!D159)","v":"--"},{"$f":"IF(ISERROR(RankingExcess!$A159),\"--\",RankingExcess!E159)","v":"--"},{"$f":"IF(ISERROR(RankingExcess!$A159),\"--\",RankingExcess!F159)","v":"--"},null,9,{"$f":"IF(ISERROR(RankingPredictedTotal!$A159),\"--\",RankingPredictedTotal!B159)","v":"--"},{"$f":"IF(ISERROR(RankingPredictedTotal!$A159),\"--\",RankingPredictedTotal!C159)","v":"--"},{"$f":"IF(ISERROR(RankingPredictedTotal!$A159),\"--\",RankingPredictedTotal!D159)","v":"--"},{"$f":"IF(ISERROR(RankingPredictedTotal!$A159),\"--\",RankingPredictedTotal!E159)","v":"--"},{"$f":"IF(ISERROR(RankingPredictedTotal!$A159),\"--\",RankingPredictedTotal!F159)","v":"--"},null,9,{"$f":"IF(ISERROR(RankingPredictedFI!$A159),\"--\",RankingPredictedFI!B159)","v":"--"},{"$f":"IF(ISERROR(RankingPredictedFI!$A159),\"--\",RankingPredictedFI!C159)","v":"--"},{"$f":"IF(ISERROR(RankingPredictedFI!$A159),\"--\",RankingPredictedFI!D159)","v":"--"},{"$f":"IF(ISERROR(RankingPredictedFI!$A159),\"--\",RankingPredictedFI!E159)","v":"--"},{"$f":"IF(ISERROR(RankingPredictedFI!$A159),\"--\",RankingPredictedFI!F159)","v":"--"}]
[10,{"$f":"IF(ISERROR(RankingExpectedAverage!$A160),\"--\",RankingExpectedAverage!B160)","v":"--"},{"$f":"IF(ISERROR(RankingExpectedAverage!$A160),\"--\",RankingExpectedAverage!C160)","v":"--"},{"$f":"IF(ISERROR(RankingExpectedAverage!$A160),\"--\",RankingExpectedAverage!D160)","v":"--"},{"$f":"IF(ISERROR(RankingExpectedAverage!$A160),\"--\",RankingExpectedAverage!E160)","v":"--"},{"$f":"IF(ISERROR(RankingExpectedAverage!$A160),\"--\",RankingExpectedAverage!F160)","v":"--"},null,10,{"$f":"IF(ISERROR(RankingExcess!$A160),\"--\",RankingExcess!B160)","v":"--"},{"$f":"IF(ISERROR(RankingExcess!$A160),\"--\",RankingExcess!C160)","v":"--"},{"$f":"IF(ISERROR(RankingExcess!$A160),\"--\",RankingExcess!D160)","v":"--"},{"$f":"IF(ISERROR(RankingExcess!$A160),\"--\",RankingExcess!E160)","v":"--"},{"$f":"IF(ISERROR(RankingExcess!$A160),\"--\",RankingExcess!F160)","v":"--"},null,10,{"$f":"IF(ISERROR(RankingPredictedTotal!$A160),\"--\",RankingPredictedTotal!B160)","v":"--"},{"$f":"IF(ISERROR(RankingPredictedTotal!$A160),\"--\",RankingPredictedTotal!C160)","v":"--"},{"$f":"IF(ISERROR(RankingPredictedTotal!$A160),\"--\",RankingPredictedTotal!D160)","v":"--"},{"$f":"IF(ISERROR(RankingPredictedTotal!$A160),\"--\",RankingPredictedTotal!E160)","v":"--"},{"$f":"IF(ISERROR(RankingPredictedTotal!$A160),\"--\",RankingPredictedTotal!F160)","v":"--"},null,10,{"$f":"IF(ISERROR(RankingPredictedFI!$A160),\"--\",RankingPredictedFI!B160)","v":"--"},{"$f":"IF(ISERROR(RankingPredictedFI!$A160),\"--\",RankingPredictedFI!C160)","v":"--"},{"$f":"IF(ISERROR(RankingPredictedFI!$A160),\"--\",RankingPredictedFI!D160)","v":"--"},{"$f":"IF(ISERROR(RankingPredictedFI!$A160),\"--\",RankingPredictedFI!E160)","v":"--"},{"$f":"IF(ISERROR(RankingPredictedFI!$A160),\"--\",RankingPredictedFI!F160)","v":"--"}]
[]
["Rank","Rural Unsignalized Intersections",null,null,null,"Average",null,"Rank","Rural Unsignalized Intersections",null,null,null,"Excess",null,"Rank","Rural Unsignalized Intersections",null,null,null,"Number",null,"Rank","Rural Unsignalized Intersections",null,null,null,"Number"]
[1,{"$f":"IF(ISERROR(RankingExpectedAverage!$A201),\"--\",RankingExpectedAverage!B201)","v":"--"},{"$f":"IF(ISERROR(RankingExpectedAverage!$A201),\"--\",RankingExpectedAverage!C201)","v":"--"},{"$f":"IF(ISERROR(RankingExpectedAverage!$A201),\"--\",RankingExpectedAverage!D201)","v":"--"},{"$f":"IF(ISERROR(RankingExpectedAverage!$A201),\"--\",RankingExpectedAverage!E201)","v":"--"},{"$f":"IF(ISERROR(RankingExpectedAverage!$A201),\"--\",RankingExpectedAverage!F201)","v":"--"},null,1,{"$f":"IF(ISERROR(RankingExcess!$A201),\"--\",RankingExcess!B201)","v":"--"},{"$f":"IF(ISERROR(RankingExcess!$A201),\"--\",RankingExcess!C201)","v":"--"},{"$f":"IF(ISERROR(RankingExcess!$A201),\"--\",RankingExcess!D201)","v":"--"},{"$f":"IF(ISERROR(RankingExcess!$A201),\"--\",RankingExcess!E201)","v":"--"},{"$f":"IF(ISERROR(RankingExcess!$A201),\"--\",RankingExcess!F201)","v":"--"},null,1,{"$f":"IF(ISERROR(RankingPredictedTotal!$A201),\"--\",RankingPredictedTotal!B201)","v":"--"},{"$f":"IF(ISERROR(RankingPredictedTotal!$A201),\"--\",RankingPredictedTotal!C201)","v":"--"},{"$f":"IF(ISERROR(RankingPredictedTotal!$A201),\"--\",RankingPredictedTotal!D201)","v":"--"},{"$f":"IF(ISERROR(RankingPredictedTotal!$A201),\"--\",RankingPredictedTotal!E201)","v":"--"},{"$f":"IF(ISERROR(RankingPredictedTotal!$A201),\"--\",RankingPredictedTotal!F201)","v":"--"},null,1,{"$f":"IF(ISERROR(RankingPredictedFI!$A201),\"--\",RankingPredictedFI!B201)","v":"--"},{"$f":"IF(ISERROR(RankingPredictedFI!$A201),\"--\",RankingPredictedFI!C201)","v":"--"},{"$f":"IF(ISERROR(RankingPredictedFI!$A201),\"--\",RankingPredictedFI!D201)","v":"--"},{"$f":"IF(ISERROR(RankingPredictedFI!$A201),\"--\",RankingPredictedFI!E201)","v":"--"},{"$f":"IF(ISERROR(RankingPredictedFI!$A201),\"--\",RankingPredictedFI!F201)","v":"--"}]
[2,{"$f":"IF(ISERROR(RankingExpectedAverage!$A202),\"--\",RankingExpectedAverage!B202)","v":"--"},{"$f":"IF(ISERROR(RankingExpectedAverage!$A202),\"--\",RankingExpectedAverage!C202)","v":"--"},{"$f":"IF(ISERROR(RankingExpectedAverage!$A202),\"--\",RankingExpectedAverage!D202)","v":"--"},{"$f":"IF(ISERROR(RankingExpectedAverage!$A202),\"--\",RankingExpectedAverage!E202)","v":"--"},{"$f":"IF(ISERROR(RankingExpectedAverage!$A202),\"--\",RankingExpectedAverage!F202)","v":"--"},null,2,{"$f":"IF(ISERROR(RankingExcess!$A202),\"--\",RankingExcess!B202)","v":"--"},{"$f":"IF(ISERROR(RankingExcess!$A202),\"--\",RankingExcess!C202)","v":"--"},{"$f":"IF(ISERROR(RankingExcess!$A202),\"--\",RankingExcess!D202)","v":"--"},{"$f":"IF(ISERROR(RankingExcess!$A202),\"--\",RankingExcess!E202)","v":"--"},{"$f":"IF(ISERROR(RankingExcess!$A202),\"--\",RankingExcess!F202)","v":"--"},null,2,{"$f":"IF(ISERROR(RankingPredictedTotal!$A202),\"--\",RankingPredictedTotal!B202)","v":"--"},{"$f":"IF(ISERROR(RankingPredictedTotal!$A202),\"--\",RankingPredictedTotal!C202)","v":"--"},{"$f":"IF(ISERROR(RankingPredictedTotal!$A202),\"--\",RankingPredictedTotal!D202)","v":"--"},{"$f":"IF(ISERROR(RankingPredictedTotal!$A202),\"--\",RankingPredictedTotal!E202)","v":"--"},{"$f":"IF(ISERROR(RankingPredictedTotal!$A202),\"--\",RankingPredictedTotal!F202)","v":"--"},null,2,{"$f":"IF(ISERROR(RankingPredictedFI!$A202),\"--\",RankingPredictedFI!B202)","v":"--"},{"$f":"IF(ISERROR(RankingPredictedFI!$A202),\"--\",RankingPredictedFI!C202)","v":"--"},{"$f":"IF(ISERROR(RankingPredictedFI!$A202),\"--\",RankingPredictedFI!D202)","v":"--"},{"$f":"IF(ISERROR(RankingPredictedFI!$A202),\"--\",RankingPredictedFI!E202)","v":"--"},{"$f":"IF(ISERROR(RankingPredictedFI!$A202),\"--\",RankingPredictedFI!F202)","v":"--"}]
[3,{"$f":"IF(ISERROR(RankingExpectedAverage!$A203),\"--\",RankingExpectedAverage!B203)","v":"--"},{"$f":"IF(ISERROR(RankingExpectedAverage!$A203),\"--\",RankingExpectedAverage!C203)","v":"--"},{"$f":"IF(ISERROR(RankingExpectedAverage!$A203),\"--\",RankingExpectedAverage!D203)","v":"--"},{"$f":"IF(ISERROR(RankingExpectedAverage!$A203),\"--\",RankingExpectedAverage!E203)","v":"--"},{"$f":"IF(ISERROR(RankingExpectedAverage!$A203),\"--\",RankingExpectedAverage!F203)","v":"--"},null,3,{"$f":"IF(ISERROR(RankingExcess!$A203),\"--\",RankingExcess!B203)","v":"--"},{"$f":"IF(ISERROR(RankingExcess!$A203),\"--\",RankingExcess!C203)","v":"--"},{"$f":"IF(ISERROR(RankingExcess!$A203),\"--\",RankingExcess!D203)","v":"--"},{"$f":"IF(ISERROR(RankingExcess!$A203),\"--\",RankingExcess!E203)","v":"--"},{"$f":"IF(ISERROR(RankingExcess!$A203),\"--\",RankingExcess!F203)","v":"--"},null,3,{"$f":"IF(ISERROR(RankingPredictedTotal!$A203),\"--\",RankingPredictedTotal!B203)","v":"--"},{"$f":"IF(ISERROR(RankingPredictedTotal!$A203),\"--\",RankingPredictedTotal!C203)","v":"--"},{"$f":"IF(ISERROR(RankingPredictedTotal!$A203),\"--\",RankingPredictedTotal!D203)","v":"--"},{"$f":"IF(ISERROR(RankingPredictedTotal!$A203),\"--\",RankingPredictedTotal!E203)","v":"--"},{"$f":"IF(ISERROR(RankingPredictedTotal!$A203),\"--\",RankingPredictedTotal!F203)","v":"--"},null,3,{"$f":"IF(ISERROR(RankingPredictedFI!$A203),\"--\",RankingPredictedFI!B203)","v":"--"},{"$f":"IF(ISERROR(RankingPredictedFI!$A203),\"--\",RankingPredictedFI!C203)","v":"--"},{"$f":"IF(ISERROR(RankingPredictedFI!$A203),\"--\",RankingPredictedFI!D203)","v":"--"},{"$f":"IF(ISERROR(RankingPredictedFI!$A203),\"--\",RankingPredictedFI!E203)","v":"--"},{"$f":"IF(ISERROR(RankingPredictedFI!$A203),\"--\",RankingPredictedFI!F203)","v":"--"}]
[4,{"$f":"IF(ISERROR(RankingExpectedAverage!$A204),\"--\",RankingExpectedAverage!B204)","v":"--"},{"$f":"IF(ISERROR(RankingExpectedAverage!$A204),\"--\",RankingExpectedAverage!C204)","v":"--"},{"$f":"IF(ISERROR(RankingExpectedAverage!$A204),\"--\",RankingExpectedAverage!D204)","v":"--"},{"$f":"IF(ISERROR(RankingExpectedAverage!$A204),\"--\",RankingExpectedAverage!E204)","v":"--"},{"$f":"IF(ISERROR(RankingExpectedAverage!$A204),\"--\",RankingExpectedAverage!F204)","v":"--"},null,4,{"$f":"IF(ISERROR(RankingExcess!$A204),\"--\",RankingExcess!B204)","v":"--"},{"$f":"IF(ISERROR(RankingExcess!$A204),\"--\",RankingExcess!C204)","v":"--"},{"$f":"IF(ISERROR(RankingExcess!$A204),\"--\",RankingExcess!D204)","v":"--"},{"$f":"IF(ISERROR(RankingExcess!$A204),\"--\",RankingExcess!E204)","v":"--"},{"$f":"IF(ISERROR(RankingExcess!$A204),\"--\",RankingExcess!F204)","v":"--"},null,4,{"$f":"IF(ISERROR(RankingPredictedTotal!$A204),\"--\",RankingPredictedTotal!B204)","v":"--"},{"$f":"IF(ISERROR(RankingPredictedTotal!$A204),\"--\",RankingPredictedTotal!C204)","v":"--"},{"$f":"IF(ISERROR(RankingPredictedTotal!$A204),\"--\",RankingPredictedTotal!D204)","v":"--"},{"$f":"IF(ISERROR(RankingPredictedTotal!$A204),\"--\",RankingPredictedTotal!E204)","v":"--"},{"$f":"IF(ISERROR(RankingPredictedTotal!$A204),\"--\",RankingPredictedTotal!F204)","v":"--"},null,4,{"$f":"IF(ISERROR(RankingPredictedFI!$A204),\"--\",RankingPredictedFI!B204)","v":"--"},{"$f":"IF(ISERROR(RankingPredictedFI!$A204),\"--\",RankingPredictedFI!C204)","v":"--"},{"$f":"IF(ISERROR(RankingPredictedFI!$A204),\"--\",RankingPredictedFI!D204)","v":"--"},{"$f":"IF(ISERROR(RankingPredictedFI!$A204),\"--\",RankingPredictedFI!E204)","v":"--"},{"$f":"IF(ISERROR(RankingPredictedFI!$A204),\"--\",RankingPredictedFI!F204)","v":"--"}]
[5,{"$f":"IF(ISERROR(RankingExpectedAverage!$A205),\"--\",RankingExpectedAverage!B205)","v":"--"},{"$f":"IF(ISERROR(RankingExpectedAverage!$A205),\"--\",RankingExpectedAverage!C205)","v":"--"},{"$f":"IF(ISERROR(RankingExpectedAverage!$A205),\"--\",RankingExpectedAverage!D205)","v":"--"},{"$f":"IF(ISERROR(RankingExpectedAverage!$A205),\"--\",RankingExpectedAverage!E205)","v":"--"},{"$f":"IF(ISERROR(RankingExpectedAverage!$A205),\"--\",RankingExpectedAverage!F205)","v":"--"},null,5,{"$f":"IF(ISERROR(RankingExcess!$A205),\"--\",RankingExcess!B205)","v":"--"},{"$f":"IF(ISERROR(RankingExcess!$A205),\"--\",RankingExcess!C205)","v":"--"},{"$f":"IF(ISERROR(RankingExcess!$A205),\"--\",RankingExcess!D205)","v":"--"},{"$f":"IF(ISERROR(RankingExcess!$A205),\"--\",RankingExcess!E205)","v":"--"},{"$f":"IF(ISERROR(RankingExcess!$A205),\"--\",RankingExcess!F205)","v":"--"},null,5,{"$f":"IF(ISERROR(RankingPredictedTotal!$A205),\"--\",RankingPredictedTotal!B205)","v":"--"},{"$f":"IF(ISERROR(RankingPredictedTotal!$A205),\"--\",RankingPredictedTotal!C205)","v":"--"},{"$f":"IF(ISERROR(RankingPredictedTotal!$A205),\"--\",RankingPredictedTotal!D205)","v":"--"},{"$f":"IF(ISERROR(RankingPredictedTotal!$A205),\"--\",RankingPredictedTotal!E205)","v":"--"},{"$f":"IF(ISERROR(RankingPredictedTotal!$A205),\"--\",RankingPredictedTotal!F205)","v":"--"},null,5,{"$f":"IF(ISERROR(RankingPredictedFI!$A205),\"--\",RankingPredictedFI!B205)","v":"--"},{"$f":"IF(ISERROR(RankingPredictedFI!$A205),\"--\",RankingPredictedFI!C205)","v":"--"},{"$f":"IF(ISERROR(RankingPredictedFI!$A205),\"--\",RankingPredictedFI!D205)","v":"--"},{"$f":"IF(ISERROR(RankingPredictedFI!$A205),\"--\",RankingPredictedFI!E205)","v":"--"},{"$f":"IF(ISERROR(RankingPredictedFI!$A205),\"--\",RankingPredictedFI!F205)","v":"--"}]
[6,{"$f":"IF(ISERROR(RankingExpectedAverage!$A206),\"--\",RankingExpectedAverage!B206)","v":"--"},{"$f":"IF(ISERROR(RankingExpectedAverage!$A206),\"--\",RankingExpectedAverage!C206)","v":"--"},{"$f":"IF(ISERROR(RankingExpectedAverage!$A206),\"--\",RankingExpectedAverage!D206)","v":"--"},{"$f":"IF(ISERROR(RankingExpectedAverage!$A206),\"--\",RankingExpectedAverage!E206)","v":"--"},{"$f":"IF(ISERROR(RankingExpectedAverage!$A206),\"--\",RankingExpectedAverage!F206)","v":"--"},null,6,{"$f":"IF(ISERROR(RankingExcess!$A206),\"--\",RankingExcess!B206)","v":"--"},{"$f":"IF(ISERROR(RankingExcess!$A206),\"--\",RankingExcess!C206)","v":"--"},{"$f":"IF(ISERROR(RankingExcess!$A206),\"--\",RankingExcess!D206)","v":"--"},{"$f":"IF(ISERROR(RankingExcess!$A206),\"--\",RankingExcess!E206)","v":"--"},{"$f":"IF(ISERROR(RankingExcess!$A206),\"--\",RankingExcess!F206)","v":"--"},null,6,{"$f":"IF(ISERROR(RankingPredictedTotal!$A206),\"--\",RankingPredictedTotal!B206)","v":"--"},{"$f":"IF(ISERROR(RankingPredictedTotal!$A206),\"--\",RankingPredictedTotal!C206)","v":"--"},{"$f":"IF(ISERROR(RankingPredictedTotal!$A206),\"--\",RankingPredictedTotal!D206)","v":"--"},{"$f":"IF(ISERROR(RankingPredictedTotal!$A206),\"--\",RankingPredictedTotal!E206)","v":"--"},{"$f":"IF(ISERROR(RankingPredictedTotal!$A206),\"--\",RankingPredictedTotal!F206)","v":"--"},null,6,{"$f":"IF(ISERROR(RankingPredictedFI!$A206),\"--\",RankingPredictedFI!B206)","v":"--"},{"$f":"IF(ISERROR(RankingPredictedFI!$A206),\"--\",RankingPredictedFI!C206)","v":"--"},{"$f":"IF(ISERROR(RankingPredictedFI!$A206),\"--\",RankingPredictedFI!D206)","v":"--"},{"$f":"IF(ISERROR(RankingPredictedFI!$A206),\"--\",RankingPredictedFI!E206)","v":"--"},{"$f":"IF(ISERROR(RankingPredictedFI!$A206),\"--\",RankingPredictedFI!F206)","v":"--"}]
[7,{"$f":"IF(ISERROR(RankingExpectedAverage!$A207),\"--\",RankingExpectedAverage!B207)","v":"--"},{"$f":"IF(ISERROR(RankingExpectedAverage!$A207),\"--\",RankingExpectedAverage!C207)","v":"--"},{"$f":"IF(ISERROR(RankingExpectedAverage!$A207),\"--\",RankingExpectedAverage!D207)","v":"--"},{"$f":"IF(ISERROR(RankingExpectedAverage!$A207),\"--\",RankingExpectedAverage!E207)","v":"--"},{"$f":"IF(ISERROR(RankingExpectedAverage!$A207),\"--\",RankingExpectedAverage!F207)","v":"--"},null,7,{"$f":"IF(ISERROR(RankingExcess!$A207),\"--\",RankingExcess!B207)","v":"--"},{"$f":"IF(ISERROR(RankingExcess!$A207),\"--\",RankingExcess!C207)","v":"--"},{"$f":"IF(ISERROR(RankingExcess!$A207),\"--\",RankingExcess!D207)","v":"--"},{"$f":"IF(ISERROR(RankingExcess!$A207),\"--\",RankingExcess!E207)","v":"--"},{"$f":"IF(ISERROR(RankingExcess!$A207),\"--\",RankingExcess!F207)","v":"--"},null,7,{"$f":"IF(ISERROR(RankingPredictedTotal!$A207),\"--\",RankingPredictedTotal!B207)","v":"--"},{"$f":"IF(ISERROR(RankingPredictedTotal!$A207),\"--\",RankingPredictedTotal!C207)","v":"--"},{"$f":"IF(ISERROR(RankingPredictedTotal!$A207),\"--\",RankingPredictedTotal!D207)","v":"--"},{"$f":"IF(ISERROR(RankingPredictedTotal!$A207),\"--\",RankingPredictedTotal!E207)","v":"--"},{"$f":"IF(ISERROR(RankingPredictedTotal!$A207),\"--\",RankingPredictedTotal!F207)","v":"--"},null,7,{"$f":"IF(ISERROR(RankingPredictedFI!$A207),\"--\",RankingPredictedFI!B207)","v":"--"},{"$f":"IF(ISERROR(RankingPredictedFI!$A207),\"--\",RankingPredictedFI!C207)","v":"--"},{"$f":"IF(ISERROR(RankingPredictedFI!$A207),\"--\",RankingPredictedFI!D207)","v":"--"},{"$f":"IF(ISERROR(RankingPredictedFI!$A207),\"--\",RankingPredictedFI!E207)","v":"--"},{"$f":"IF(ISERROR(RankingPredictedFI!$A207),\"--\",RankingPredictedFI!F207)","v":"--"}]
[8,{"$f":"IF(ISERROR(RankingExpectedAverage!$A208),\"--\",RankingExpectedAverage!B208)","v":"--"},{"$f":"IF(ISERROR(RankingExpectedAverage!$A208),\"--\",RankingExpectedAverage!C208)","v":"--"},{"$f":"IF(ISERROR(RankingExpectedAverage!$A208),\"--\",RankingExpectedAverage!D208)","v":"--"},{"$f":"IF(ISERROR(RankingExpectedAverage!$A208),\"--\",RankingExpectedAverage!E208)","v":"--"},{"$f":"IF(ISERROR(RankingExpectedAverage!$A208),\"--\",RankingExpectedAverage!F208)","v":"--"},null,8,{"$f":"IF(ISERROR(RankingExcess!$A208),\"--\",RankingExcess!B208)","v":"--"},{"$f":"IF(ISERROR(RankingExcess!$A208),\"--\",RankingExcess!C208)","v":"--"},{"$f":"IF(ISERROR(RankingExcess!$A208),\"--\",RankingExcess!D208)","v":"--"},{"$f":"IF(ISERROR(RankingExcess!$A208),\"--\",RankingExcess!E208)","v":"--"},{"$f":"IF(ISERROR(RankingExcess!$A208),\"--\",RankingExcess!F208)","v":"--"},null,8,{"$f":"IF(ISERROR(RankingPredictedTotal!$A208),\"--\",RankingPredictedTotal!B208)","v":"--"},{"$f":"IF(ISERROR(RankingPredictedTotal!$A208),\"--\",RankingPredictedTotal!C208)","v":"--"},{"$f":"IF(ISERROR(RankingPredictedTotal!$A208),\"--\",RankingPredictedTotal!D208)","v":"--"},{"$f":"IF(ISERROR(RankingPredictedTotal!$A208),\"--\",RankingPredictedTotal!E208)","v":"--"},{"$f":"IF(ISERROR(RankingPredictedTotal!$A208),\"--\",RankingPredictedTotal!F208)","v":"--"},null,8,{"$f":"IF(ISERROR(RankingPredictedFI!$A208),\"--\",RankingPredictedFI!B208)","v":"--"},{"$f":"IF(ISERROR(RankingPredictedFI!$A208),\"--\",RankingPredictedFI!C208)","v":"--"},{"$f":"IF(ISERROR(RankingPredictedFI!$A208),\"--\",RankingPredictedFI!D208)","v":"--"},{"$f":"IF(ISERROR(RankingPredictedFI!$A208),\"--\",RankingPredictedFI!E208)","v":"--"},{"$f":"IF(ISERROR(RankingPredictedFI!$A208),\"--\",RankingPredictedFI!F208)","v":"--"}]
[9,{"$f":"IF(ISERROR(RankingExpectedAverage!$A209),\"--\",RankingExpectedAverage!B209)","v":"--"},{"$f":"IF(ISERROR(RankingExpectedAverage!$A209),\"--\",RankingExpectedAverage!C209)","v":"--"},{"$f":"IF(ISERROR(RankingExpectedAverage!$A209),\"--\",RankingExpectedAverage!D209)","v":"--"},{"$f":"IF(ISERROR(RankingExpectedAverage!$A209),\"--\",RankingExpectedAverage!E209)","v":"--"},{"$f":"IF(ISERROR(RankingExpectedAverage!$A209),\"--\",RankingExpectedAverage!F209)","v":"--"},null,9,{"$f":"IF(ISERROR(RankingExcess!$A209),\"--\",RankingExcess!B209)","v":"--"},{"$f":"IF(ISERROR(RankingExcess!$A209),\"--\",RankingExcess!C209)","v":"--"},{"$f":"IF(ISERROR(RankingExcess!$A209),\"--\",RankingExcess!D209)","v":"--"},{"$f":"IF(ISERROR(RankingExcess!$A209),\"--\",RankingExcess!E209)","v":"--"},{"$f":"IF(ISERROR(RankingExcess!$A209),\"--\",RankingExcess!F209)","v":"--"},null,9,{"$f":"IF(ISERROR(RankingPredictedTotal!$A209),\"--\",RankingPredictedTotal!B209)","v":"--"},{"$f":"IF(ISERROR(RankingPredictedTotal!$A209),\"--\",RankingPredictedTotal!C209)","v":"--"},{"$f":"IF(ISERROR(RankingPredictedTotal!$A209),\"--\",RankingPredictedTotal!D209)","v":"--"},{"$f":"IF(ISERROR(RankingPredictedTotal!$A209),\"--\",RankingPredictedTotal!E209)","v":"--"},{"$f":"IF(ISERROR(RankingPredictedTotal!$A209),\"--\",RankingPredictedTotal!F209)","v":"--"},null,9,{"$f":"IF(ISERROR(RankingPredictedFI!$A209),\"--\",RankingPredictedFI!B209)","v":"--"},{"$f":"IF(ISERROR(RankingPredictedFI!$A209),\"--\",RankingPredictedFI!C209)","v":"--"},{"$f":"IF(ISERROR(RankingPredictedFI!$A209),\"--\",RankingPredictedFI!D209)","v":"--"},{"$f":"IF(ISERROR(RankingPredictedFI!$A209),\"--\",RankingPredictedFI!E209)","v":"--"},{"$f":"IF(ISERROR(RankingPredictedFI!$A209),\"--\",RankingPredictedFI!F209)","v":"--"}]
[10,{"$f":"IF(ISERROR(RankingExpectedAverage!$A210),\"--\",RankingExpectedAverage!B210)","v":"--"},{"$f":"IF(ISERROR(RankingExpectedAverage!$A210),\"--\",RankingExpectedAverage!C210)","v":"--"},{"$f":"IF(ISERROR(RankingExpectedAverage!$A210),\"--\",RankingExpectedAverage!D210)","v":"--"},{"$f":"IF(ISERROR(RankingExpectedAverage!$A210),\"--\",RankingExpectedAverage!E210)","v":"--"},{"$f":"IF(ISERROR(RankingExpectedAverage!$A210),\"--\",RankingExpectedAverage!F210)","v":"--"},null,10,{"$f":"IF(ISERROR(RankingExcess!$A210),\"--\",RankingExcess!B210)","v":"--"},{"$f":"IF(ISERROR(RankingExcess!$A210),\"--\",RankingExcess!C210)","v":"--"},{"$f":"IF(ISERROR(RankingExcess!$A210),\"--\",RankingExcess!D210)","v":"--"},{"$f":"IF(ISERROR(RankingExcess!$A210),\"--\",RankingExcess!E210)","v":"--"},{"$f":"IF(ISERROR(RankingExcess!$A210),\"--\",RankingExcess!F210)","v":"--"},null,10,{"$f":"IF(ISERROR(RankingPredictedTotal!$A210),\"--\",RankingPredictedTotal!B210)","v":"--"},{"$f":"IF(ISERROR(RankingPredictedTotal!$A210),\"--\",RankingPredictedTotal!C210)","v":"--"},{"$f":"IF(ISERROR(RankingPredictedTotal!$A210),\"--\",RankingPredictedTotal!D210)","v":"--"},{"$f":"IF(ISERROR(RankingPredictedTotal!$A210),\"--\",RankingPredictedTotal!E210)","v":"--"},{"$f":"IF(ISERROR(RankingPredictedTotal!$A210),\"--\",RankingPredictedTotal!F210)","v":"--"},null,10,{"$f":"IF(ISERROR(RankingPredictedFI!$A210),\"--\",RankingPredictedFI!B210)","v":"--"},{"$f":"IF(ISERROR(RankingPredictedFI!$A210),\"--\",RankingPredictedFI!C210)","v":"--"},{"$f":"IF(ISERROR(RankingPredictedFI!$A210),\"--\",RankingPredictedFI!D210)","v":"--"},{"$f":"IF(ISERROR(RankingPredictedFI!$A210),\"--\",RankingPredictedFI!E210)","v":"--"},{"$f":"IF(ISERROR(RankingPredictedFI!$A210),\"--\",RankingPredictedFI!F210)","v":"--"}]
[]
["Rank","Rural Signalized Intersections",null,null,null,"Average",null,"Rank","Rural Signalized Intersections",null,null,null,"Excess",null,"Rank","Rural Signalized Intersections",null,null,null,"Number",null,"Rank","Rural Signalized Intersections",null,null,null,"Number"]
[1,{"$f":"IF(ISERROR(RankingExpectedAverage!$A251),\"--\",RankingExpectedAverage!B251)","v":"--"},{"$f":"IF(ISERROR(RankingExpectedAverage!$A251),\"--\",RankingExpectedAverage!C251)","v":"--"},{"$f":"IF(ISERROR(RankingExpectedAverage!$A251),\"--\",RankingExpectedAverage!D251)","v":"--"},{"$f":"IF(ISERROR(RankingExpectedAverage!$A251),\"--\",RankingExpectedAverage!E251)","v":"--"},{"$f":"IF(ISERROR(RankingExpectedAverage!$A251),\"--\",RankingExpectedAverage!F251)","v":"--"},null,1,{"$f":"IF(ISERROR(RankingExcess!$A251),\"--\",RankingExcess!B251)","v":"--"},{"$f":"IF(ISERROR(RankingExcess!$A251),\"--\",RankingExcess!C251)","v":"--"},{"$f":"IF(ISERROR(RankingExcess!$A251),\"--\",RankingExcess!D251)","v":"--"},{"$f":"IF(ISERROR(RankingExcess!$A251),\"--\",RankingExcess!E251)","v":"--"},{"$f":"IF(ISERROR(RankingExcess!$A251),\"--\",RankingExcess!F251)","v":"--"},null,1,{"$f":"IF(ISERROR(RankingPredictedTotal!$A251),\"--\",RankingPredictedTotal!B251)","v":"--"},{"$f":"IF(ISERROR(RankingPredictedTotal!$A251),\"--\",RankingPredictedTotal!C251)","v":"--"},{"$f":"IF(ISERROR(RankingPredictedTotal!$A251),\"--\",RankingPredictedTotal!D251)","v":"--"},{"$f":"IF(ISERROR(RankingPredictedTotal!$A251),\"--\",RankingPredictedTotal!E251)","v":"--"},{"$f":"IF(ISERROR(RankingPredictedTotal!$A251),\"--\",RankingPredictedTotal!F251)","v":"--"},null,1,{"$f":"IF(ISERROR(RankingPredictedFI!$A251),\"--\",RankingPredictedFI!B251)","v":"--"},{"$f":"IF(ISERROR(RankingPredictedFI!$A251),\"--\",RankingPredictedFI!C251)","v":"--"},{"$f":"IF(ISERROR(RankingPredictedFI!$A251),\"--\",RankingPredictedFI!D251)","v":"--"},{"$f":"IF(ISERROR(RankingPredictedFI!$A251),\"--\",RankingPredictedFI!E251)","v":"--"},{"$f":"IF(ISERROR(RankingPredictedFI!$A251),\"--\",RankingPredictedFI!F251)","v":"--"}]
[2,{"$f":"IF(ISERROR(RankingExpectedAverage!$A252),\"--\",RankingExpectedAverage!B252)","v":"--"},{"$f":"IF(ISERROR(RankingExpectedAverage!$A252),\"--\",RankingExpectedAverage!C252)","v":"--"},{"$f":"IF(ISERROR(RankingExpectedAverage!$A252),\"--\",RankingExpectedAverage!D252)","v":"--"},{"$f":"IF(ISERROR(RankingExpectedAverage!$A252),\"--\",RankingExpectedAverage!E252)","v":"--"},{"$f":"IF(ISERROR(RankingExpectedAverage!$A252),\"--\",RankingExpectedAverage!F252)","v":"--"},null,2,{"$f":"IF(ISERROR(RankingExcess!$A252),\"--\",RankingExcess!B252)","v":"--"},{"$f":"IF(ISERROR(RankingExcess!$A252),\"--\",RankingExcess!C252)","v":"--"},{"$f":"IF(ISERROR(RankingExcess!$A252),\"--\",RankingExcess!D252)","v":"--"},{"$f":"IF(ISERROR(RankingExcess!$A252),\"--\",RankingExcess!E252)","v":"--"},{"$f":"IF(ISERROR(RankingExcess!$A252),\"--\",RankingExcess!F252)","v":"--"},null,2,{"$f":"IF(ISERROR(RankingPredictedTotal!$A252),\"--\",RankingPredictedTotal!B252)","v":"--"},{"$f":"IF(ISERROR(RankingPredictedTotal!$A252),\"--\",RankingPredictedTotal!C252)","v":"--"},{"$f":"IF(ISERROR(RankingPredictedTotal!$A252),\"--\",RankingPredictedTotal!D252)","v":"--"},{"$f":"IF(ISERROR(RankingPredictedTotal!$A252),\"--\",RankingPredictedTotal!E252)","v":"--"},{"$f":"IF(ISERROR(RankingPredictedTotal!$A252),\"--\",RankingPredictedTotal!F252)","v":"--"},null,2,{"$f":"IF(ISERROR(RankingPredictedFI!$A252),\"--\",RankingPredictedFI!B252)","v":"--"},{"$f":"IF(ISERROR(RankingPredictedFI!$A252),\"--\",RankingPredictedFI!C252)","v":"--"},{"$f":"IF(ISERROR(RankingPredictedFI!$A252),\"--\",RankingPredictedFI!D252)","v":"--"},{"$f":"IF(ISERROR(RankingPredictedFI!$A252),\"--\",RankingPredictedFI!E252)","v":"--"},{"$f":"IF(ISERROR(RankingPredictedFI!$A252),\"--\",RankingPredictedFI!F252)","v":"--"}]
[3,{"$f":"IF(ISERROR(RankingExpectedAverage!$A253),\"--\",RankingExpectedAverage!B253)","v":"--"},{"$f":"IF(ISERROR(RankingExpectedAverage!$A253),\"--\",RankingExpectedAverage!C253)","v":"--"},{"$f":"IF(ISERROR(RankingExpectedAverage!$A253),\"--\",RankingExpectedAverage!D253)","v":"--"},{"$f":"IF(ISERROR(RankingExpectedAverage!$A253),\"--\",RankingExpectedAverage!E253)","v":"--"},{"$f":"IF(ISERROR(RankingExpectedAverage!$A253),\"--\",RankingExpectedAverage!F253)","v":"--"},null,3,{"$f":"IF(ISERROR(RankingExcess!$A253),\"--\",RankingExcess!B253)","v":"--"},{"$f":"IF(ISERROR(RankingExcess!$A253),\"--\",RankingExcess!C253)","v":"--"},{"$f":"IF(ISERROR(RankingExcess!$A253),\"--\",RankingExcess!D253)","v":"--"},{"$f":"IF(ISERROR(RankingExcess!$A253),\"--\",RankingExcess!E253)","v":"--"},{"$f":"IF(ISERROR(RankingExcess!$A253),\"--\",RankingExcess!F253)","v":"--"},null,3,{"$f":"IF(ISERROR(RankingPredictedTotal!$A253),\"--\",RankingPredictedTotal!B253)","v":"--"},{"$f":"IF(ISERROR(RankingPredictedTotal!$A253),\"--\",RankingPredictedTotal!C253)","v":"--"},{"$f":"IF(ISERROR(RankingPredictedTotal!$A253),\"--\",RankingPredictedTotal!D253)","v":"--"},{"$f":"IF(ISERROR(RankingPredictedTotal!$A253),\"--\",RankingPredictedTotal!E253)","v":"--"},{"$f":"IF(ISERROR(RankingPredictedTotal!$A253),\"--\",RankingPredictedTotal!F253)","v":"--"},null,3,{"$f":"IF(ISERROR(RankingPredictedFI!$A253),\"--\",RankingPredictedFI!B253)","v":"--"},{"$f":"IF(ISERROR(RankingPredictedFI!$A253),\"--\",RankingPredictedFI!C253)","v":"--"},{"$f":"IF(ISERROR(RankingPredictedFI!$A253),\"--\",RankingPredictedFI!D253)","v":"--"},{"$f":"IF(ISERROR(RankingPredictedFI!$A253),\"--\",RankingPredictedFI!E253)","v":"--"},{"$f":"IF(ISERROR(RankingPredictedFI!$A253),\"--\",RankingPredictedFI!F253)","v":"--"}]
[4,{"$f":"IF(ISERROR(RankingExpectedAverage!$A254),\"--\",RankingExpectedAverage!B254)","v":"--"},{"$f":"IF(ISERROR(RankingExpectedAverage!$A254),\"--\",RankingExpectedAverage!C254)","v":"--"},{"$f":"IF(ISERROR(RankingExpectedAverage!$A254),\"--\",RankingExpectedAverage!D254)","v":"--"},{"$f":"IF(ISERROR(RankingExpectedAverage!$A254),\"--\",RankingExpectedAverage!E254)","v":"--"},{"$f":"IF(ISERROR(RankingExpectedAverage!$A254),\"--\",RankingExpectedAverage!F254)","v":"--"},null,4,{"$f":"IF(ISERROR(RankingExcess!$A254),\"--\",RankingExcess!B254)","v":"--"},{"$f":"IF(ISERROR(RankingExcess!$A254),\"--\",RankingExcess!C254)","v":"--"},{"$f":"IF(ISERROR(RankingExcess!$A254),\"--\",RankingExcess!D254)","v":"--"},{"$f":"IF(ISERROR(RankingExcess!$A254),\"--\",RankingExcess!E254)","v":"--"},{"$f":"IF(ISERROR(RankingExcess!$A254),\"--\",RankingExcess!F254)","v":"--"},null,4,{"$f":"IF(ISERROR(RankingPredictedTotal!$A254),\"--\",RankingPredictedTotal!B254)","v":"--"},{"$f":"IF(ISERROR(RankingPredictedTotal!$A254),\"--\",RankingPredictedTotal!C254)","v":"--"},{"$f":"IF(ISERROR(RankingPredictedTotal!$A254),\"--\",RankingPredictedTotal!D254)","v":"--"},{"$f":"IF(ISERROR(RankingPredictedTotal!$A254),\"--\",RankingPredictedTotal!E254)","v":"--"},{"$f":"IF(ISERROR(RankingPredictedTotal!$A254),\"--\",RankingPredictedTotal!F254)","v":"--"},null,4,{"$f":"IF(ISERROR(RankingPredictedFI!$A254),\"--\",RankingPredictedFI!B254)","v":"--"},{"$f":"IF(ISERROR(RankingPredictedFI!$A254),\"--\",RankingPredictedFI!C254)","v":"--"},{"$f":"IF(ISERROR(RankingPredictedFI!$A254),\"--\",RankingPredictedFI!D254)","v":"--"},{"$f":"IF(ISERROR(RankingPredictedFI!$A254),\"--\",RankingPredictedFI!E254)","v":"--"},{"$f":"IF(ISERROR(RankingPredictedFI!$A254),\"--\",RankingPredictedFI!F254)","v":"--"}]
[5,{"$f":"IF(ISERROR(RankingExpectedAverage!$A255),\"--\",RankingExpectedAverage!B255)","v":"--"},{"$f":"IF(ISERROR(RankingExpectedAverage!$A255),\"--\",RankingExpectedAverage!C255)","v":"--"},{"$f":"IF(ISERROR(RankingExpectedAverage!$A255),\"--\",RankingExpectedAverage!D255)","v":"--"},{"$f":"IF(ISERROR(RankingExpectedAverage!$A255),\"--\",RankingExpectedAverage!E255)","v":"--"},{"$f":"IF(ISERROR(RankingExpectedAverage!$A255),\"--\",RankingExpectedAverage!F255)","v":"--"},null,5,{"$f":"IF(ISERROR(RankingExcess!$A255),\"--\",RankingExcess!B255)","v":"--"},{"$f":"IF(ISERROR(RankingExcess!$A255),\"--\",RankingExcess!C255)","v":"--"},{"$f":"IF(ISERROR(RankingExcess!$A255),\"--\",RankingExcess!D255)","v":"--"},{"$f":"IF(ISERROR(RankingExcess!$A255),\"--\",RankingExcess!E255)","v":"--"},{"$f":"IF(ISERROR(RankingExcess!$A255),\"--\",RankingExcess!F255)","v":"--"},null,5,{"$f":"IF(ISERROR(RankingPredictedTotal!$A255),\"--\",RankingPredictedTotal!B255)","v":"--"},{"$f":"IF(ISERROR(RankingPredictedTotal!$A255),\"--\",RankingPredictedTotal!C255)","v":"--"},{"$f":"IF(ISERROR(RankingPredictedTotal!$A255),\"--\",RankingPredictedTotal!D255)","v":"--"},{"$f":"IF(ISERROR(RankingPredictedTotal!$A255),\"--\",RankingPredictedTotal!E255)","v":"--"},{"$f":"IF(ISERROR(RankingPredictedTotal!$A255),\"--\",RankingPredictedTotal!F255)","v":"--"},null,5,{"$f":"IF(ISERROR(RankingPredictedFI!$A255),\"--\",RankingPredictedFI!B255)","v":"--"},{"$f":"IF(ISERROR(RankingPredictedFI!$A255),\"--\",RankingPredictedFI!C255)","v":"--"},{"$f":"IF(ISERROR(RankingPredictedFI!$A255),\"--\",RankingPredictedFI!D255)","v":"--"},{"$f":"IF(ISERROR(RankingPredictedFI!$A255),\"--\",RankingPredictedFI!E255)","v":"--"},{"$f":"IF(ISERROR(RankingPredictedFI!$A255),\"--\",RankingPredictedFI!F255)","v":"--"}]
[6,{"$f":"IF(ISERROR(RankingExpectedAverage!$A256),\"--\",RankingExpectedAverage!B256)","v":"--"},{"$f":"IF(ISERROR(RankingExpectedAverage!$A256),\"--\",RankingExpectedAverage!C256)","v":"--"},{"$f":"IF(ISERROR(RankingExpectedAverage!$A256),\"--\",RankingExpectedAverage!D256)","v":"--"},{"$f":"IF(ISERROR(RankingExpectedAverage!$A256),\"--\",RankingExpectedAverage!E256)","v":"--"},{"$f":"IF(ISERROR(RankingExpectedAverage!$A256),\"--\",RankingExpectedAverage!F256)","v":"--"},null,6,{"$f":"IF(ISERROR(RankingExcess!$A256),\"--\",RankingExcess!B256)","v":"--"},{"$f":"IF(ISERROR(RankingExcess!$A256),\"--\",RankingExcess!C256)","v":"--"},{"$f":"IF(ISERROR(RankingExcess!$A256),\"--\",RankingExcess!D256)","v":"--"},{"$f":"IF(ISERROR(RankingExcess!$A256),\"--\",RankingExcess!E256)","v":"--"},{"$f":"IF(ISERROR(RankingExcess!$A256),\"--\",RankingExcess!F256)","v":"--"},null,6,{"$f":"IF(ISERROR(RankingPredictedTotal!$A256),\"--\",RankingPredictedTotal!B256)","v":"--"},{"$f":"IF(ISERROR(RankingPredictedTotal!$A256),\"--\",RankingPredictedTotal!C256)","v":"--"},{"$f":"IF(ISERROR(RankingPredictedTotal!$A256),\"--\",RankingPredictedTotal!D256)","v":"--"},{"$f":"IF(ISERROR(RankingPredictedTotal!$A256),\"--\",RankingPredictedTotal!E256)","v":"--"},{"$f":"IF(ISERROR(RankingPredictedTotal!$A256),\"--\",RankingPredictedTotal!F256)","v":"--"},null,6,{"$f":"IF(ISERROR(RankingPredictedFI!$A256),\"--\",RankingPredictedFI!B256)","v":"--"},{"$f":"IF(ISERROR(RankingPredictedFI!$A256),\"--\",RankingPredictedFI!C256)","v":"--"},{"$f":"IF(ISERROR(RankingPredictedFI!$A256),\"--\",RankingPredictedFI!D256)","v":"--"},{"$f":"IF(ISERROR(RankingPredictedFI!$A256),\"--\",RankingPredictedFI!E256)","v":"--"},{"$f":"IF(ISERROR(RankingPredictedFI!$A256),\"--\",RankingPredictedFI!F256)","v":"--"}]
[7,{"$f":"IF(ISERROR(RankingExpectedAverage!$A257),\"--\",RankingExpectedAverage!B257)","v":"--"},{"$f":"IF(ISERROR(RankingExpectedAverage!$A257),\"--\",RankingExpectedAverage!C257)","v":"--"},{"$f":"IF(ISERROR(RankingExpectedAverage!$A257),\"--\",RankingExpectedAverage!D257)","v":"--"},{"$f":"IF(ISERROR(RankingExpectedAverage!$A257),\"--\",RankingExpectedAverage!E257)","v":"--"},{"$f":"IF(ISERROR(RankingExpectedAverage!$A257),\"--\",RankingExpectedAverage!F257)","v":"--"},null,7,{"$f":"IF(ISERROR(RankingExcess!$A257),\"--\",RankingExcess!B257)","v":"--"},{"$f":"IF(ISERROR(RankingExcess!$A257),\"--\",RankingExcess!C257)","v":"--"},{"$f":"IF(ISERROR(RankingExcess!$A257),\"--\",RankingExcess!D257)","v":"--"},{"$f":"IF(ISERROR(RankingExcess!$A257),\"--\",RankingExcess!E257)","v":"--"},{"$f":"IF(ISERROR(RankingExcess!$A257),\"--\",RankingExcess!F257)","v":"--"},null,7,{"$f":"IF(ISERROR(RankingPredictedTotal!$A257),\"--\",RankingPredictedTotal!B257)","v":"--"},{"$f":"IF(ISERROR(RankingPredictedTotal!$A257),\"--\",RankingPredictedTotal!C257)","v":"--"},{"$f":"IF(ISERROR(RankingPredictedTotal!$A257),\"--\",RankingPredictedTotal!D257)","v":"--"},{"$f":"IF(ISERROR(RankingPredictedTotal!$A257),\"--\",RankingPredictedTotal!E257)","v":"--"},{"$f":"IF(ISERROR(RankingPredictedTotal!$A257),\"--\",RankingPredictedTotal!F257)","v":"--"},null,7,{"$f":"IF(ISERROR(RankingPredictedFI!$A257),\"--\",RankingPredictedFI!B257)","v":"--"},{"$f":"IF(ISERROR(RankingPredictedFI!$A257),\"--\",RankingPredictedFI!C257)","v":"--"},{"$f":"IF(ISERROR(RankingPredictedFI!$A257),\"--\",RankingPredictedFI!D257)","v":"--"},{"$f":"IF(ISERROR(RankingPredictedFI!$A257),\"--\",RankingPredictedFI!E257)","v":"--"},{"$f":"IF(ISERROR(RankingPredictedFI!$A257),\"--\",RankingPredictedFI!F257)","v":"--"}]
[8,{"$f":"IF(ISERROR(RankingExpectedAverage!$A258),\"--\",RankingExpectedAverage!B258)","v":"--"},{"$f":"IF(ISERROR(RankingExpectedAverage!$A258),\"--\",RankingExpectedAverage!C258)","v":"--"},{"$f":"IF(ISERROR(RankingExpectedAverage!$A258),\"--\",RankingExpectedAverage!D258)","v":"--"},{"$f":"IF(ISERROR(RankingExpectedAverage!$A258),\"--\",RankingExpectedAverage!E258)","v":"--"},{"$f":"IF(ISERROR(RankingExpectedAverage!$A258),\"--\",RankingExpectedAverage!F258)","v":"--"},null,8,{"$f":"IF(ISERROR(RankingExcess!$A258),\"--\",RankingExcess!B258)","v":"--"},{"$f":"IF(ISERROR(RankingExcess!$A258),\"--\",RankingExcess!C258)","v":"--"},{"$f":"IF(ISERROR(RankingExcess!$A258),\"--\",RankingExcess!D258)","v":"--"},{"$f":"IF(ISERROR(RankingExcess!$A258),\"--\",RankingExcess!E258)","v":"--"},{"$f":"IF(ISERROR(RankingExcess!$A258),\"--\",RankingExcess!F258)","v":"--"},null,8,{"$f":"IF(ISERROR(RankingPredictedTotal!$A258),\"--\",RankingPredictedTotal!B258)","v":"--"},{"$f":"IF(ISERROR(RankingPredictedTotal!$A258),\"--\",RankingPredictedTotal!C258)","v":"--"},{"$f":"IF(ISERROR(RankingPredictedTotal!$A258),\"--\",RankingPredictedTotal!D258)","v":"--"},{"$f":"IF(ISERROR(RankingPredictedTotal!$A258),\"--\",RankingPredictedTotal!E258)","v":"--"},{"$f":"IF(ISERROR(RankingPredictedTotal!$A258),\"--\",RankingPredictedTotal!F258)","v":"--"},null,8,{"$f":"IF(ISERROR(RankingPredictedFI!$A258),\"--\",RankingPredictedFI!B258)","v":"--"},{"$f":"IF(ISERROR(RankingPredictedFI!$A258),\"--\",RankingPredictedFI!C258)","v":"--"},{"$f":"IF(ISERROR(RankingPredictedFI!$A258),\"--\",RankingPredictedFI!D258)","v":"--"},{"$f":"IF(ISERROR(RankingPredictedFI!$A258),\"--\",RankingPredictedFI!E258)","v":"--"},{"$f":"IF(ISERROR(RankingPredictedFI!$A258),\"--\",RankingPredictedFI!F258)","v":"--"}]
[9,{"$f":"IF(ISERROR(RankingExpectedAverage!$A259),\"--\",RankingExpectedAverage!B259)","v":"--"},{"$f":"IF(ISERROR(RankingExpectedAverage!$A259),\"--\",RankingExpectedAverage!C259)","v":"--"},{"$f":"IF(ISERROR(RankingExpectedAverage!$A259),\"--\",RankingExpectedAverage!D259)","v":"--"},{"$f":"IF(ISERROR(RankingExpectedAverage!$A259),\"--\",RankingExpectedAverage!E259)","v":"--"},{"$f":"IF(ISERROR(RankingExpectedAverage!$A259),\"--\",RankingExpectedAverage!F259)","v":"--"},null,9,{"$f":"IF(ISERROR(RankingExcess!$A259),\"--\",RankingExcess!B259)","v":"--"},{"$f":"IF(ISERROR(RankingExcess!$A259),\"--\",RankingExcess!C259)","v":"--"},{"$f":"IF(ISERROR(RankingExcess!$A259),\"--\",RankingExcess!D259)","v":"--"},{"$f":"IF(ISERROR(RankingExcess!$A259),\"--\",RankingExcess!E259)","v":"--"},{"$f":"IF(ISERROR(RankingExcess!$A259),\"--\",RankingExcess!F259)","v":"--"},null,9,{"$f":"IF(ISERROR(RankingPredictedTotal!$A259),\"--\",RankingPredictedTotal!B259)","v":"--"},{"$f":"IF(ISERROR(RankingPredictedTotal!$A259),\"--\",RankingPredictedTotal!C259)","v":"--"},{"$f":"IF(ISERROR(RankingPredictedTotal!$A259),\"--\",RankingPredictedTotal!D259)","v":"--"},{"$f":"IF(ISERROR(RankingPredictedTotal!$A259),\"--\",RankingPredictedTotal!E259)","v":"--"},{"$f":"IF(ISERROR(RankingPredictedTotal!$A259),\"--\",RankingPredictedTotal!F259)","v":"--"},null,9,{"$f":"IF(ISERROR(RankingPredictedFI!$A259),\"--\",RankingPredictedFI!B259)","v":"--"},{"$f":"IF(ISERROR(RankingPredictedFI!$A259),\"--\",RankingPredictedFI!C259)","v":"--"},{"$f":"IF(ISERROR(RankingPredictedFI!$A259),\"--\",RankingPredictedFI!D259)","v":"--"},{"$f":"IF(ISERROR(RankingPredictedFI!$A259),\"--\",RankingPredictedFI!E259)","v":"--"},{"$f":"IF(ISERROR(RankingPredictedFI!$A259),\"--\",RankingPredictedFI!F259)","v":"--"}]
[10,{"$f":"IF(ISERROR(RankingExpectedAverage!$A260),\"--\",RankingExpectedAverage!B260)","v":"--"},{"$f":"IF(ISERROR(RankingExpectedAverage!$A260),\"--\",RankingExpectedAverage!C260)","v":"--"},{"$f":"IF(ISERROR(RankingExpectedAverage!$A260),\"--\",RankingExpectedAverage!D260)","v":"--"},{"$f":"IF(ISERROR(RankingExpectedAverage!$A260),\"--\",RankingExpectedAverage!E260)","v":"--"},{"$f":"IF(ISERROR(RankingExpectedAverage!$A260),\"--\",RankingExpectedAverage!F260)","v":"--"},null,10,{"$f":"IF(ISERROR(RankingExcess!$A260),\"--\",RankingExcess!B260)","v":"--"},{"$f":"IF(ISERROR(RankingExcess!$A260),\"--\",RankingExcess!C260)","v":"--"},{"$f":"IF(ISERROR(RankingExcess!$A260),\"--\",RankingExcess!D260)","v":"--"},{"$f":"IF(ISERROR(RankingExcess!$A260),\"--\",RankingExcess!E260)","v":"--"},{"$f":"IF(ISERROR(RankingExcess!$A260),\"--\",RankingExcess!F260)","v":"--"},null,10,{"$f":"IF(ISERROR(RankingPredictedTotal!$A260),\"--\",RankingPredictedTotal!B260)","v":"--"},{"$f":"IF(ISERROR(RankingPredictedTotal!$A260),\"--\",RankingPredictedTotal!C260)","v":"--"},{"$f":"IF(ISERROR(RankingPredictedTotal!$A260),\"--\",RankingPredictedTotal!D260)","v":"--"},{"$f":"IF(ISERROR(RankingPredictedTotal!$A260),\"--\",RankingPredictedTotal!E260)","v":"--"},{"$f":"IF(ISERROR(RankingPredictedTotal!$A260),\"--\",RankingPredictedTotal!F260)","v":"--"},null,10,{"$f":"IF(ISERROR(RankingPredictedFI!$A260),\"--\",RankingPredictedFI!B260)","v":"--"},{"$f":"IF(ISERROR(RankingPredictedFI!$A260),\"--\",RankingPredictedFI!C260)","v":"--"},{"$f":"IF(ISERROR(RankingPredictedFI!$A260),\"--\",RankingPredictedFI!D260)","v":"--"},{"$f":"IF(ISERROR(RankingPredictedFI!$A260),\"--\",RankingPredictedFI!E260)","v":"--"},{"$f":"IF(ISERROR(RankingPredictedFI!$A260),\"--\",RankingPredictedFI!F260)","v":"--"}]
[]
["Rank","Urban and Suburban Segments",null,null,null,"Average",null,"Rank","Urban and Suburban Segments",null,null,null,"Excess",null,"Rank","Urban and Suburban Segments",null,null,null,"Number",null,"Rank","Urban and Suburban Segments",null,null,null,"Number"]
[1,{"$f":"IF(ISERROR(RankingExpectedAverage!$A301),\"--\",RankingExpectedAverage!B301)","v":"--"},{"$f":"IF(ISERROR(RankingExpectedAverage!$A301),\"--\",RankingExpectedAverage!C301)","v":"--"},{"$f":"IF(ISERROR(RankingExpectedAverage!$A301),\"--\",RankingExpectedAverage!D301)","v":"--"},{"$f":"IF(ISERROR(RankingExpectedAverage!$A301),\"--\",RankingExpectedAverage!E301)","v":"--"},{"$f":"IF(ISERROR(RankingExpectedAverage!$A301),\"--\",RankingExpectedAverage!F301)","v":"--"},null,1,{"$f":"IF(ISERROR(RankingExcess!$A301),\"--\",RankingExcess!B301)","v":"--"},{"$f":"IF(ISERROR(RankingExcess!$A301),\"--\",RankingExcess!C301)","v":"--"},{"$f":"IF(ISERROR(RankingExcess!$A301),\"--\",RankingExcess!D301)","v":"--"},{"$f":"IF(ISERROR(RankingExcess!$A301),\"--\",RankingExcess!E301)","v":"--"},{"$f":"IF(ISERROR(RankingExcess!$A301),\"--\",RankingExcess!F301)","v":"--"},null,1,{"$f":"IF(ISERROR(RankingPredictedTotal!$A301),\"--\",RankingPredictedTotal!B301)","v":"--"},{"$f":"IF(ISERROR(RankingPredictedTotal!$A301),\"--\",RankingPredictedTotal!C301)","v":"--"},{"$f":"IF(ISERROR(RankingPredictedTotal!$A301),\"--\",RankingPredictedTotal!D301)","v":"--"},{"$f":"IF(ISERROR(RankingPredictedTotal!$A301),\"--\",RankingPredictedTotal!E301)","v":"--"},{"$f":"IF(ISERROR(RankingPredictedTotal!$A301),\"--\",RankingPredictedTotal!F301)","v":"--"},null,1,{"$f":"IF(ISERROR(RankingPredictedFI!$A301),\"--\",RankingPredictedFI!B301)","v":"--"},{"$f":"IF(ISERROR(RankingPredictedFI!$A301),\"--\",RankingPredictedFI!C301)","v":"--"},{"$f":"IF(ISERROR(RankingPredictedFI!$A301),\"--\",RankingPredictedFI!D301)","v":"--"},{"$f":"IF(ISERROR(RankingPredictedFI!$A301),\"--\",RankingPredictedFI!E301)","v":"--"},{"$f":"IF(ISERROR(RankingPredictedFI!$A301),\"--\",RankingPredictedFI!F301)","v":"--"}]
[2,{"$f":"IF(ISERROR(RankingExpectedAverage!$A302),\"--\",RankingExpectedAverage!B302)","v":"--"},{"$f":"IF(ISERROR(RankingExpectedAverage!$A302),\"--\",RankingExpectedAverage!C302)","v":"--"},{"$f":"IF(ISERROR(RankingExpectedAverage!$A302),\"--\",RankingExpectedAverage!D302)","v":"--"},{"$f":"IF(ISERROR(RankingExpectedAverage!$A302),\"--\",RankingExpectedAverage!E302)","v":"--"},{"$f":"IF(ISERROR(RankingExpectedAverage!$A302),\"--\",RankingExpectedAverage!F302)","v":"--"},null,2,{"$f":"IF(ISERROR(RankingExcess!$A302),\"--\",RankingExcess!B302)","v":"--"},{"$f":"IF(ISERROR(RankingExcess!$A302),\"--\",RankingExcess!C302)","v":"--"},{"$f":"IF(ISERROR(RankingExcess!$A302),\"--\",RankingExcess!D302)","v":"--"},{"$f":"IF(ISERROR(RankingExcess!$A302),\"--\",RankingExcess!E302)","v":"--"},{"$f":"IF(ISERROR(RankingExcess!$A302),\"--\",RankingExcess!F302)","v":"--"},null,2,{"$f":"IF(ISERROR(RankingPredictedTotal!$A302),\"--\",RankingPredictedTotal!B302)","v":"--"},{"$f":"IF(ISERROR(RankingPredictedTotal!$A302),\"--\",RankingPredictedTotal!C302)","v":"--"},{"$f":"IF(ISERROR(RankingPredictedTotal!$A302),\"--\",RankingPredictedTotal!D302)","v":"--"},{"$f":"IF(ISERROR(RankingPredictedTotal!$A302),\"--\",RankingPredictedTotal!E302)","v":"--"},{"$f":"IF(ISERROR(RankingPredictedTotal!$A302),\"--\",RankingPredictedTotal!F302)","v":"--"},null,2,{"$f":"IF(ISERROR(RankingPredictedFI!$A302),\"--\",RankingPredictedFI!B302)","v":"--"},{"$f":"IF(ISERROR(RankingPredictedFI!$A302),\"--\",RankingPredictedFI!C302)","v":"--"},{"$f":"IF(ISERROR(RankingPredictedFI!$A302),\"--\",RankingPredictedFI!D302)","v":"--"},{"$f":"IF(ISERROR(RankingPredictedFI!$A302),\"--\",RankingPredictedFI!E302)","v":"--"},{"$f":"IF(ISERROR(RankingPredictedFI!$A302),\"--\",RankingPredictedFI!F302)","v":"--"}]
[3,{"$f":"IF(ISERROR(RankingExpectedAverage!$A303),\"--\",RankingExpectedAverage!B303)","v":"--"},{"$f":"IF(ISERROR(RankingExpectedAverage!$A303),\"--\",RankingExpectedAverage!C303)","v":"--"},{"$f":"IF(ISERROR(RankingExpectedAverage!$A303),\"--\",RankingExpectedAverage!D303)","v":"--"},{"$f":"IF(ISERROR(RankingExpectedAverage!$A303),\"--\",RankingExpectedAverage!E303)","v":"--"},{"$f":"IF(ISERROR(RankingExpectedAverage!$A303),\"--\",RankingExpectedAverage!F303)","v":"--"},null,3,{"$f":"IF(ISERROR(RankingExcess!$A303),\"--\",RankingExcess!B303)","v":"--"},{"$f":"IF(ISERROR(RankingExcess!$A303),\"--\",RankingExcess!C303)","v":"--"},{"$f":"IF(ISERROR(RankingExcess!$A303),\"--\",RankingExcess!D303)","v":"--"},{"$f":"IF(ISERROR(RankingExcess!$A303),\"--\",RankingExcess!E303)","v":"--"},{"$f":"IF(ISERROR(RankingExcess!$A303),\"--\",RankingExcess!F303)","v":"--"},null,3,{"$f":"IF(ISERROR(RankingPredictedTotal!$A303),\"--\",RankingPredictedTotal!B303)","v":"--"},{"$f":"IF(ISERROR(RankingPredictedTotal!$A303),\"--\",RankingPredictedTotal!C303)","v":"--"},{"$f":"IF(ISERROR(RankingPredictedTotal!$A303),\"--\",RankingPredictedTotal!D303)","v":"--"},{"$f":"IF(ISERROR(RankingPredictedTotal!$A303),\"--\",RankingPredictedTotal!E303)","v":"--"},{"$f":"IF(ISERROR(RankingPredictedTotal!$A303),\"--\",RankingPredictedTotal!F303)","v":"--"},null,3,{"$f":"IF(ISERROR(RankingPredictedFI!$A303),\"--\",RankingPredictedFI!B303)","v":"--"},{"$f":"IF(ISERROR(RankingPredictedFI!$A303),\"--\",RankingPredictedFI!C303)","v":"--"},{"$f":"IF(ISERROR(RankingPredictedFI!$A303),\"--\",RankingPredictedFI!D303)","v":"--"},{"$f":"IF(ISERROR(RankingPredictedFI!$A303),\"--\",RankingPredictedFI!E303)","v":"--"},{"$f":"IF(ISERROR(RankingPredictedFI!$A303),\"--\",RankingPredictedFI!F303)","v":"--"}]
[4,{"$f":"IF(ISERROR(RankingExpectedAverage!$A304),\"--\",RankingExpectedAverage!B304)","v":"--"},{"$f":"IF(ISERROR(RankingExpectedAverage!$A304),\"--\",RankingExpectedAverage!C304)","v":"--"},{"$f":"IF(ISERROR(RankingExpectedAverage!$A304),\"--\",RankingExpectedAverage!D304)","v":"--"},{"$f":"IF(ISERROR(RankingExpectedAverage!$A304),\"--\",RankingExpectedAverage!E304)","v":"--"},{"$f":"IF(ISERROR(RankingExpectedAverage!$A304),\"--\",RankingExpectedAverage!F304)","v":"--"},null,4,{"$f":"IF(ISERROR(RankingExcess!$A304),\"--\",RankingExcess!B304)","v":"--"},{"$f":"IF(ISERROR(RankingExcess!$A304),\"--\",RankingExcess!C304)","v":"--"},{"$f":"IF(ISERROR(RankingExcess!$A304),\"--\",RankingExcess!D304)","v":"--"},{"$f":"IF(ISERROR(RankingExcess!$A304),\"--\",RankingExcess!E304)","v":"--"},{"$f":"IF(ISERROR(RankingExcess!$A304),\"--\",RankingExcess!F304)","v":"--"},null,4,{"$f":"IF(ISERROR(RankingPredictedTotal!$A304),\"--\",RankingPredictedTotal!B304)","v":"--"},{"$f":"IF(ISERROR(RankingPredictedTotal!$A304),\"--\",RankingPredictedTotal!C304)","v":"--"},{"$f":"IF(ISERROR(RankingPredictedTotal!$A304),\"--\",RankingPredictedTotal!D304)","v":"--"},{"$f":"IF(ISERROR(RankingPredictedTotal!$A304),\"--\",RankingPredictedTotal!E304)","v":"--"},{"$f":"IF(ISERROR(RankingPredictedTotal!$A304),\"--\",RankingPredictedTotal!F304)","v":"--"},null,4,{"$f":"IF(ISERROR(RankingPredictedFI!$A304),\"--\",RankingPredictedFI!B304)","v":"--"},{"$f":"IF(ISERROR(RankingPredictedFI!$A304),\"--\",RankingPredictedFI!C304)","v":"--"},{"$f":"IF(ISERROR(RankingPredictedFI!$A304),\"--\",RankingPredictedFI!D304)","v":"--"},{"$f":"IF(ISERROR(RankingPredictedFI!$A304),\"--\",RankingPredictedFI!E304)","v":"--"},{"$f":"IF(ISERROR(RankingPredictedFI!$A304),\"--\",RankingPredictedFI!F304)","v":"--"}]
[5,{"$f":"IF(ISERROR(RankingExpectedAverage!$A305),\"--\",RankingExpectedAverage!B305)","v":"--"},{"$f":"IF(ISERROR(RankingExpectedAverage!$A305),\"--\",RankingExpectedAverage!C305)","v":"--"},{"$f":"IF(ISERROR(RankingExpectedAverage!$A305),\"--\",RankingExpectedAverage!D305)","v":"--"},{"$f":"IF(ISERROR(RankingExpectedAverage!$A305),\"--\",RankingExpectedAverage!E305)","v":"--"},{"$f":"IF(ISERROR(RankingExpectedAverage!$A305),\"--\",RankingExpectedAverage!F305)","v":"--"},null,5,{"$f":"IF(ISERROR(RankingExcess!$A305),\"--\",RankingExcess!B305)","v":"--"},{"$f":"IF(ISERROR(RankingExcess!$A305),\"--\",RankingExcess!C305)","v":"--"},{"$f":"IF(ISERROR(RankingExcess!$A305),\"--\",RankingExcess!D305)","v":"--"},{"$f":"IF(ISERROR(RankingExcess!$A305),\"--\",RankingExcess!E305)","v":"--"},{"$f":"IF(ISERROR(RankingExcess!$A305),\"--\",RankingExcess!F305)","v":"--"},null,5,{"$f":"IF(ISERROR(RankingPredictedTotal!$A305),\"--\",RankingPredictedTotal!B305)","v":"--"},{"$f":"IF(ISERROR(RankingPredictedTotal!$A305),\"--\",RankingPredictedTotal!C305)","v":"--"},{"$f":"IF(ISERROR(RankingPredictedTotal!$A305),\"--\",RankingPredictedTotal!D305)","v":"--"},{"$f":"IF(ISERROR(RankingPredictedTotal!$A305),\"--\",RankingPredictedTotal!E305)","v":"--"},{"$f":"IF(ISERROR(RankingPredictedTotal!$A305),\"--\",RankingPredictedTotal!F305)","v":"--"},null,5,{"$f":"IF(ISERROR(RankingPredictedFI!$A305),\"--\",RankingPredictedFI!B305)","v":"--"},{"$f":"IF(ISERROR(RankingPredictedFI!$A305),\"--\",RankingPredictedFI!C305)","v":"--"},{"$f":"IF(ISERROR(RankingPredictedFI!$A305),\"--\",RankingPredictedFI!D305)","v":"--"},{"$f":"IF(ISERROR(RankingPredictedFI!$A305),\"--\",RankingPredictedFI!E305)","v":"--"},{"$f":"IF(ISERROR(RankingPredictedFI!$A305),\"--\",RankingPredictedFI!F305)","v":"--"}]
[6,{"$f":"IF(ISERROR(RankingExpectedAverage!$A306),\"--\",RankingExpectedAverage!B306)","v":"--"},{"$f":"IF(ISERROR(RankingExpectedAverage!$A306),\"--\",RankingExpectedAverage!C306)","v":"--"},{"$f":"IF(ISERROR(RankingExpectedAverage!$A306),\"--\",RankingExpectedAverage!D306)","v":"--"},{"$f":"IF(ISERROR(RankingExpectedAverage!$A306),\"--\",RankingExpectedAverage!E306)","v":"--"},{"$f":"IF(ISERROR(RankingExpectedAverage!$A306),\"--\",RankingExpectedAverage!F306)","v":"--"},null,6,{"$f":"IF(ISERROR(RankingExcess!$A306),\"--\",RankingExcess!B306)","v":"--"},{"$f":"IF(ISERROR(RankingExcess!$A306),\"--\",RankingExcess!C306)","v":"--"},{"$f":"IF(ISERROR(RankingExcess!$A306),\"--\",RankingExcess!D306)","v":"--"},{"$f":"IF(ISERROR(RankingExcess!$A306),\"--\",RankingExcess!E306)","v":"--"},{"$f":"IF(ISERROR(RankingExcess!$A306),\"--\",RankingExcess!F306)","v":"--"},null,6,{"$f":"IF(ISERROR(RankingPredictedTotal!$A306),\"--\",RankingPredictedTotal!B306)","v":"--"},{"$f":"IF(ISERROR(RankingPredictedTotal!$A306),\"--\",RankingPredictedTotal!C306)","v":"--"},{"$f":"IF(ISERROR(RankingPredictedTotal!$A306),\"--\",RankingPredictedTotal!D306)","v":"--"},{"$f":"IF(ISERROR(RankingPredictedTotal!$A306),\"--\",RankingPredictedTotal!E306)","v":"--"},{"$f":"IF(ISERROR(RankingPredictedTotal!$A306),\"--\",RankingPredictedTotal!F306)","v":"--"},null,6,{"$f":"IF(ISERROR(RankingPredictedFI!$A306),\"--\",RankingPredictedFI!B306)","v":"--"},{"$f":"IF(ISERROR(RankingPredictedFI!$A306),\"--\",RankingPredictedFI!C306)","v":"--"},{"$f":"IF(ISERROR(RankingPredictedFI!$A306),\"--\",RankingPredictedFI!D306)","v":"--"},{"$f":"IF(ISERROR(RankingPredictedFI!$A306),\"--\",RankingPredictedFI!E306)","v":"--"},{"$f":"IF(ISERROR(RankingPredictedFI!$A306),\"--\",RankingPredictedFI!F306)","v":"--"}]
[7,{"$f":"IF(ISERROR(RankingExpectedAverage!$A307),\"--\",RankingExpectedAverage!B307)","v":"--"},{"$f":"IF(ISERROR(RankingExpectedAverage!$A307),\"--\",RankingExpectedAverage!C307)","v":"--"},{"$f":"IF(ISERROR(RankingExpectedAverage!$A307),\"--\",RankingExpectedAverage!D307)","v":"--"},{"$f":"IF(ISERROR(RankingExpectedAverage!$A307),\"--\",RankingExpectedAverage!E307)","v":"--"},{"$f":"IF(ISERROR(RankingExpectedAverage!$A307),\"--\",RankingExpectedAverage!F307)","v":"--"},null,7,{"$f":"IF(ISERROR(RankingExcess!$A307),\"--\",RankingExcess!B307)","v":"--"},{"$f":"IF(ISERROR(RankingExcess!$A307),\"--\",RankingExcess!C307)","v":"--"},{"$f":"IF(ISERROR(RankingExcess!$A307),\"--\",RankingExcess!D307)","v":"--"},{"$f":"IF(ISERROR(RankingExcess!$A307),\"--\",RankingExcess!E307)","v":"--"},{"$f":"IF(ISERROR(RankingExcess!$A307),\"--\",RankingExcess!F307)","v":"--"},null,7,{"$f":"IF(ISERROR(RankingPredictedTotal!$A307),\"--\",RankingPredictedTotal!B307)","v":"--"},{"$f":"IF(ISERROR(RankingPredictedTotal!$A307),\"--\",RankingPredictedTotal!C307)","v":"--"},{"$f":"IF(ISERROR(RankingPredictedTotal!$A307),\"--\",RankingPredictedTotal!D307)","v":"--"},{"$f":"IF(ISERROR(RankingPredictedTotal!$A307),\"--\",RankingPredictedTotal!E307)","v":"--"},{"$f":"IF(ISERROR(RankingPredictedTotal!$A307),\"--\",RankingPredictedTotal!F307)","v":"--"},null,7,{"$f":"IF(ISERROR(RankingPredictedFI!$A307),\"--\",RankingPredictedFI!B307)","v":"--"},{"$f":"IF(ISERROR(RankingPredictedFI!$A307),\"--\",RankingPredictedFI!C307)","v":"--"},{"$f":"IF(ISERROR(RankingPredictedFI!$A307),\"--\",RankingPredictedFI!D307)","v":"--"},{"$f":"IF(ISERROR(RankingPredictedFI!$A307),\"--\",RankingPredictedFI!E307)","v":"--"},{"$f":"IF(ISERROR(RankingPredictedFI!$A307),\"--\",RankingPredictedFI!F307)","v":"--"}]
[8,{"$f":"IF(ISERROR(RankingExpectedAverage!$A308),\"--\",RankingExpectedAverage!B308)","v":"--"},{"$f":"IF(ISERROR(RankingExpectedAverage!$A308),\"--\",RankingExpectedAverage!C308)","v":"--"},{"$f":"IF(ISERROR(RankingExpectedAverage!$A308),\"--\",RankingExpectedAverage!D308)","v":"--"},{"$f":"IF(ISERROR(RankingExpectedAverage!$A308),\"--\",RankingExpectedAverage!E308)","v":"--"},{"$f":"IF(ISERROR(RankingExpectedAverage!$A308),\"--\",RankingExpectedAverage!F308)","v":"--"},null,8,{"$f":"IF(ISERROR(RankingExcess!$A308),\"--\",RankingExcess!B308)","v":"--"},{"$f":"IF(ISERROR(RankingExcess!$A308),\"--\",RankingExcess!C308)","v":"--"},{"$f":"IF(ISERROR(RankingExcess!$A308),\"--\",RankingExcess!D308)","v":"--"},{"$f":"IF(ISERROR(RankingExcess!$A308),\"--\",RankingExcess!E308)","v":"--"},{"$f":"IF(ISERROR(RankingExcess!$A308),\"--\",RankingExcess!F308)","v":"--"},null,8,{"$f":"IF(ISERROR(RankingPredictedTotal!$A308),\"--\",RankingPredictedTotal!B308)","v":"--"},{"$f":"IF(ISERROR(RankingPredictedTotal!$A308),\"--\",RankingPredictedTotal!C308)","v":"--"},{"$f":"IF(ISERROR(RankingPredictedTotal!$A308),\"--\",RankingPredictedTotal!D308)","v":"--"},{"$f":"IF(ISERROR(RankingPredictedTotal!$A308),\"--\",RankingPredictedTotal!E308)","v":"--"},{"$f":"IF(ISERROR(RankingPredictedTotal!$A308),\"--\",RankingPredictedTotal!F308)","v":"--"},null,8,{"$f":"IF(ISERROR(RankingPredictedFI!$A308),\"--\",RankingPredictedFI!B308)","v":"--"},{"$f":"IF(ISERROR(RankingPredictedFI!$A308),\"--\",RankingPredictedFI!C308)","v":"--"},{"$f":"IF(ISERROR(RankingPredictedFI!$A308),\"--\",RankingPredictedFI!D308)","v":"--"},{"$f":"IF(ISERROR(RankingPredictedFI!$A308),\"--\",RankingPredictedFI!E308)","v":"--"},{"$f":"IF(ISERROR(RankingPredictedFI!$A308),\"--\",RankingPredictedFI!F308)","v":"--"}]
[9,{"$f":"IF(ISERROR(RankingExpectedAverage!$A309),\"--\",RankingExpectedAverage!B309)","v":"--"},{"$f":"IF(ISERROR(RankingExpectedAverage!$A309),\"--\",RankingExpectedAverage!C309)","v":"--"},{"$f":"IF(ISERROR(RankingExpectedAverage!$A309),\"--\",RankingExpectedAverage!D309)","v":"--"},{"$f":"IF(ISERROR(RankingExpectedAverage!$A309),\"--\",RankingExpectedAverage!E309)","v":"--"},{"$f":"IF(ISERROR(RankingExpectedAverage!$A309),\"--\",RankingExpectedAverage!F309)","v":"--"},null,9,{"$f":"IF(ISERROR(RankingExcess!$A309),\"--\",RankingExcess!B309)","v":"--"},{"$f":"IF(ISERROR(RankingExcess!$A309),\"--\",RankingExcess!C309)","v":"--"},{"$f":"IF(ISERROR(RankingExcess!$A309),\"--\",RankingExcess!D309)","v":"--"},{"$f":"IF(ISERROR(RankingExcess!$A309),\"--\",RankingExcess!E309)","v":"--"},{"$f":"IF(ISERROR(RankingExcess!$A309),\"--\",RankingExcess!F309)","v":"--"},null,9,{"$f":"IF(ISERROR(RankingPredictedTotal!$A309),\"--\",RankingPredictedTotal!B309)","v":"--"},{"$f":"IF(ISERROR(RankingPredictedTotal!$A309),\"--\",RankingPredictedTotal!C309)","v":"--"},{"$f":"IF(ISERROR(RankingPredictedTotal!$A309),\"--\",RankingPredictedTotal!D309)","v":"--"},{"$f":"IF(ISERROR(RankingPredictedTotal!$A309),\"--\",RankingPredictedTotal!E309)","v":"--"},{"$f":"IF(ISERROR(RankingPredictedTotal!$A309),\"--\",RankingPredictedTotal!F309)","v":"--"},null,9,{"$f":"IF(ISERROR(RankingPredictedFI!$A309),\"--\",RankingPredictedFI!B309)","v":"--"},{"$f":"IF(ISERROR(RankingPredictedFI!$A309),\"--\",RankingPredictedFI!C309)","v":"--"},{"$f":"IF(ISERROR(RankingPredictedFI!$A309),\"--\",RankingPredictedFI!D309)","v":"--"},{"$f":"IF(ISERROR(RankingPredictedFI!$A309),\"--\",RankingPredictedFI!E309)","v":"--"},{"$f":"IF(ISERROR(RankingPredictedFI!$A309),\"--\",RankingPredictedFI!F309)","v":"--"}]
[10,{"$f":"IF(ISERROR(RankingExpectedAverage!$A310),\"--\",RankingExpectedAverage!B310)","v":"--"},{"$f":"IF(ISERROR(RankingExpectedAverage!$A310),\"--\",RankingExpectedAverage!C310)","v":"--"},{"$f":"IF(ISERROR(RankingExpectedAverage!$A310),\"--\",RankingExpectedAverage!D310)","v":"--"},{"$f":"IF(ISERROR(RankingExpectedAverage!$A310),\"--\",RankingExpectedAverage!E310)","v":"--"},{"$f":"IF(ISERROR(RankingExpectedAverage!$A310),\"--\",RankingExpectedAverage!F310)","v":"--"},null,10,{"$f":"IF(ISERROR(RankingExcess!$A310),\"--\",RankingExcess!B310)","v":"--"},{"$f":"IF(ISERROR(RankingExcess!$A310),\"--\",RankingExcess!C310)","v":"--"},{"$f":"IF(ISERROR(RankingExcess!$A310),\"--\",RankingExcess!D310)","v":"--"},{"$f":"IF(ISERROR(RankingExcess!$A310),\"--\",RankingExcess!E310)","v":"--"},{"$f":"IF(ISERROR(RankingExcess!$A310),\"--\",RankingExcess!F310)","v":"--"},null,10,{"$f":"IF(ISERROR(RankingPredictedTotal!$A310),\"--\",RankingPredictedTotal!B310)","v":"--"},{"$f":"IF(ISERROR(RankingPredictedTotal!$A310),\"--\",RankingPredictedTotal!C310)","v":"--"},{"$f":"IF(ISERROR(RankingPredictedTotal!$A310),\"--\",RankingPredictedTotal!D310)","v":"--"},{"$f":"IF(ISERROR(RankingPredictedTotal!$A310),\"--\",RankingPredictedTotal!E310)","v":"--"},{"$f":"IF(ISERROR(RankingPredictedTotal!$A310),\"--\",RankingPredictedTotal!F310)","v":"--"},null,10,{"$f":"IF(ISERROR(RankingPredictedFI!$A310),\"--\",RankingPredictedFI!B310)","v":"--"},{"$f":"IF(ISERROR(RankingPredictedFI!$A310),\"--\",RankingPredictedFI!C310)","v":"--"},{"$f":"IF(ISERROR(RankingPredictedFI!$A310),\"--\",RankingPredictedFI!D310)","v":"--"},{"$f":"IF(ISERROR(RankingPredictedFI!$A310),\"--\",RankingPredictedFI!E310)","v":"--"},{"$f":"IF(ISERROR(RankingPredictedFI!$A310),\"--\",RankingPredictedFI!F310)","v":"--"}]
[]
["Rank","Urban and Suburban Intersections",null,null,null,"Average",null,"Rank","Urban and Suburban Intersections",null,null,null,"Excess",null,"Rank","Urban and Suburban Intersections",null,null,null,"Number",null,"Rank","Urban and Suburban Intersections",null,null,null,"Number"]
[1,{"$f":"IF(ISERROR(RankingExpectedAverage!$A351),\"--\",RankingExpectedAverage!B351)","v":"--"},{"$f":"IF(ISERROR(RankingExpectedAverage!$A351),\"--\",RankingExpectedAverage!C351)","v":"--"},{"$f":"IF(ISERROR(RankingExpectedAverage!$A351),\"--\",RankingExpectedAverage!D351)","v":"--"},{"$f":"IF(ISERROR(RankingExpectedAverage!$A351),\"--\",RankingExpectedAverage!E351)","v":"--"},{"$f":"IF(ISERROR(RankingExpectedAverage!$A351),\"--\",RankingExpectedAverage!F351)","v":"--"},null,1,{"$f":"IF(ISERROR(RankingExcess!$A351),\"--\",RankingExcess!B351)","v":"--"},{"$f":"IF(ISERROR(RankingExcess!$A351),\"--\",RankingExcess!C351)","v":"--"},{"$f":"IF(ISERROR(RankingExcess!$A351),\"--\",RankingExcess!D351)","v":"--"},{"$f":"IF(ISERROR(RankingExcess!$A351),\"--\",RankingExcess!E351)","v":"--"},{"$f":"IF(ISERROR(RankingExcess!$A351),\"--\",RankingExcess!F351)","v":"--"},null,1,{"$f":"IF(ISERROR(RankingPredictedTotal!$A351),\"--\",RankingPredictedTotal!B351)","v":"--"},{"$f":"IF(ISERROR(RankingPredictedTotal!$A351),\"--\",RankingPredictedTotal!C351)","v":"--"},{"$f":"IF(ISERROR(RankingPredictedTotal!$A351),\"--\",RankingPredictedTotal!D351)","v":"--"},{"$f":"IF(ISERROR(RankingPredictedTotal!$A351),\"--\",RankingPredictedTotal!E351)","v":"--"},{"$f":"IF(ISERROR(RankingPredictedTotal!$A351),\"--\",RankingPredictedTotal!F351)","v":"--"},null,1,{"$f":"IF(ISERROR(RankingPredictedFI!$A351),\"--\",RankingPredictedFI!B351)","v":"--"},{"$f":"IF(ISERROR(RankingPredictedFI!$A351),\"--\",RankingPredictedFI!C351)","v":"--"},{"$f":"IF(ISERROR(RankingPredictedFI!$A351),\"--\",RankingPredictedFI!D351)","v":"--"},{"$f":"IF(ISERROR(RankingPredictedFI!$A351),\"--\",RankingPredictedFI!E351)","v":"--"},{"$f":"IF(ISERROR(RankingPredictedFI!$A351),\"--\",RankingPredictedFI!F351)","v":"--"}]
[2,{"$f":"IF(ISERROR(RankingExpectedAverage!$A352),\"--\",RankingExpectedAverage!B352)","v":"--"},{"$f":"IF(ISERROR(RankingExpectedAverage!$A352),\"--\",RankingExpectedAverage!C352)","v":"--"},{"$f":"IF(ISERROR(RankingExpectedAverage!$A352),\"--\",RankingExpectedAverage!D352)","v":"--"},{"$f":"IF(ISERROR(RankingExpectedAverage!$A352),\"--\",RankingExpectedAverage!E352)","v":"--"},{"$f":"IF(ISERROR(RankingExpectedAverage!$A352),\"--\",RankingExpectedAverage!F352)","v":"--"},null,2,{"$f":"IF(ISERROR(RankingExcess!$A352),\"--\",RankingExcess!B352)","v":"--"},{"$f":"IF(ISERROR(RankingExcess!$A352),\"--\",RankingExcess!C352)","v":"--"},{"$f":"IF(ISERROR(RankingExcess!$A352),\"--\",RankingExcess!D352)","v":"--"},{"$f":"IF(ISERROR(RankingExcess!$A352),\"--\",RankingExcess!E352)","v":"--"},{"$f":"IF(ISERROR(RankingExcess!$A352),\"--\",RankingExcess!F352)","v":"--"},null,2,{"$f":"IF(ISERROR(RankingPredictedTotal!$A352),\"--\",RankingPredictedTotal!B352)","v":"--"},{"$f":"IF(ISERROR(RankingPredictedTotal!$A352),\"--\",RankingPredictedTotal!C352)","v":"--"},{"$f":"IF(ISERROR(RankingPredictedTotal!$A352),\"--\",RankingPredictedTotal!D352)","v":"--"},{"$f":"IF(ISERROR(RankingPredictedTotal!$A352),\"--\",RankingPredictedTotal!E352)","v":"--"},{"$f":"IF(ISERROR(RankingPredictedTotal!$A352),\"--\",RankingPredictedTotal!F352)","v":"--"},null,2,{"$f":"IF(ISERROR(RankingPredictedFI!$A352),\"--\",RankingPredictedFI!B352)","v":"--"},{"$f":"IF(ISERROR(RankingPredictedFI!$A352),\"--\",RankingPredictedFI!C352)","v":"--"},{"$f":"IF(ISERROR(RankingPredictedFI!$A352),\"--\",RankingPredictedFI!D352)","v":"--"},{"$f":"IF(ISERROR(RankingPredictedFI!$A352),\"--\",RankingPredictedFI!E352)","v":"--"},{"$f":"IF(ISERROR(RankingPredictedFI!$A352),\"--\",RankingPredictedFI!F352)","v":"--"}]
[3,{"$f":"IF(ISERROR(RankingExpectedAverage!$A353),\"--\",RankingExpectedAverage!B353)","v":"--"},{"$f":"IF(ISERROR(RankingExpectedAverage!$A353),\"--\",RankingExpectedAverage!C353)","v":"--"},{"$f":"IF(ISERROR(RankingExpectedAverage!$A353),\"--\",RankingExpectedAverage!D353)","v":"--"},{"$f":"IF(ISERROR(RankingExpectedAverage!$A353),\"--\",RankingExpectedAverage!E353)","v":"--"},{"$f":"IF(ISERROR(RankingExpectedAverage!$A353),\"--\",RankingExpectedAverage!F353)","v":"--"},null,3,{"$f":"IF(ISERROR(RankingExcess!$A353),\"--\",RankingExcess!B353)","v":"--"},{"$f":"IF(ISERROR(RankingExcess!$A353),\"--\",RankingExcess!C353)","v":"--"},{"$f":"IF(ISERROR(RankingExcess!$A353),\"--\",RankingExcess!D353)","v":"--"},{"$f":"IF(ISERROR(RankingExcess!$A353),\"--\",RankingExcess!E353)","v":"--"},{"$f":"IF(ISERROR(RankingExcess!$A353),\"--\",RankingExcess!F353)","v":"--"},null,3,{"$f":"IF(ISERROR(RankingPredictedTotal!$A353),\"--\",RankingPredictedTotal!B353)","v":"--"},{"$f":"IF(ISERROR(RankingPredictedTotal!$A353),\"--\",RankingPredictedTotal!C353)","v":"--"},{"$f":"IF(ISERROR(RankingPredictedTotal!$A353),\"--\",RankingPredictedTotal!D353)","v":"--"},{"$f":"IF(ISERROR(RankingPredictedTotal!$A353),\"--\",RankingPredictedTotal!E353)","v":"--"},{"$f":"IF(ISERROR(RankingPredictedTotal!$A353),\"--\",RankingPredictedTotal!F353)","v":"--"},null,3,{"$f":"IF(ISERROR(RankingPredictedFI!$A353),\"--\",RankingPredictedFI!B353)","v":"--"},{"$f":"IF(ISERROR(RankingPredictedFI!$A353),\"--\",RankingPredictedFI!C353)","v":"--"},{"$f":"IF(ISERROR(RankingPredictedFI!$A353),\"--\",RankingPredictedFI!D353)","v":"--"},{"$f":"IF(ISERROR(RankingPredictedFI!$A353),\"--\",RankingPredictedFI!E353)","v":"--"},{"$f":"IF(ISERROR(RankingPredictedFI!$A353),\"--\",RankingPredictedFI!F353)","v":"--"}]
[4,{"$f":"IF(ISERROR(RankingExpectedAverage!$A354),\"--\",RankingExpectedAverage!B354)","v":"--"},{"$f":"IF(ISERROR(RankingExpectedAverage!$A354),\"--\",RankingExpectedAverage!C354)","v":"--"},{"$f":"IF(ISERROR(RankingExpectedAverage!$A354),\"--\",RankingExpectedAverage!D354)","v":"--"},{"$f":"IF(ISERROR(RankingExpectedAverage!$A354),\"--\",RankingExpectedAverage!E354)","v":"--"},{"$f":"IF(ISERROR(RankingExpectedAverage!$A354),\"--\",RankingExpectedAverage!F354)","v":"--"},null,4,{"$f":"IF(ISERROR(RankingExcess!$A354),\"--\",RankingExcess!B354)","v":"--"},{"$f":"IF(ISERROR(RankingExcess!$A354),\"--\",RankingExcess!C354)","v":"--"},{"$f":"IF(ISERROR(RankingExcess!$A354),\"--\",RankingExcess!D354)","v":"--"},{"$f":"IF(ISERROR(RankingExcess!$A354),\"--\",RankingExcess!E354)","v":"--"},{"$f":"IF(ISERROR(RankingExcess!$A354),\"--\",RankingExcess!F354)","v":"--"},null,4,{"$f":"IF(ISERROR(RankingPredictedTotal!$A354),\"--\",RankingPredictedTotal!B354)","v":"--"},{"$f":"IF(ISERROR(RankingPredictedTotal!$A354),\"--\",RankingPredictedTotal!C354)","v":"--"},{"$f":"IF(ISERROR(RankingPredictedTotal!$A354),\"--\",RankingPredictedTotal!D354)","v":"--"},{"$f":"IF(ISERROR(RankingPredictedTotal!$A354),\"--\",RankingPredictedTotal!E354)","v":"--"},{"$f":"IF(ISERROR(RankingPredictedTotal!$A354),\"--\",RankingPredictedTotal!F354)","v":"--"},null,4,{"$f":"IF(ISERROR(RankingPredictedFI!$A354),\"--\",RankingPredictedFI!B354)","v":"--"},{"$f":"IF(ISERROR(RankingPredictedFI!$A354),\"--\",RankingPredictedFI!C354)","v":"--"},{"$f":"IF(ISERROR(RankingPredictedFI!$A354),\"--\",RankingPredictedFI!D354)","v":"--"},{"$f":"IF(ISERROR(RankingPredictedFI!$A354),\"--\",RankingPredictedFI!E354)","v":"--"},{"$f":"IF(ISERROR(RankingPredictedFI!$A354),\"--\",RankingPredictedFI!F354)","v":"--"}]
[5,{"$f":"IF(ISERROR(RankingExpectedAverage!$A355),\"--\",RankingExpectedAverage!B355)","v":"--"},{"$f":"IF(ISERROR(RankingExpectedAverage!$A355),\"--\",RankingExpectedAverage!C355)","v":"--"},{"$f":"IF(ISERROR(RankingExpectedAverage!$A355),\"--\",RankingExpectedAverage!D355)","v":"--"},{"$f":"IF(ISERROR(RankingExpectedAverage!$A355),\"--\",RankingExpectedAverage!E355)","v":"--"},{"$f":"IF(ISERROR(RankingExpectedAverage!$A355),\"--\",RankingExpectedAverage!F355)","v":"--"},null,5,{"$f":"IF(ISERROR(RankingExcess!$A355),\"--\",RankingExcess!B355)","v":"--"},{"$f":"IF(ISERROR(RankingExcess!$A355),\"--\",RankingExcess!C355)","v":"--"},{"$f":"IF(ISERROR(RankingExcess!$A355),\"--\",RankingExcess!D355)","v":"--"},{"$f":"IF(ISERROR(RankingExcess!$A355),\"--\",RankingExcess!E355)","v":"--"},{"$f":"IF(ISERROR(RankingExcess!$A355),\"--\",RankingExcess!F355)","v":"--"},null,5,{"$f":"IF(ISERROR(RankingPredictedTotal!$A355),\"--\",RankingPredictedTotal!B355)","v":"--"},{"$f":"IF(ISERROR(RankingPredictedTotal!$A355),\"--\",RankingPredictedTotal!C355)","v":"--"},{"$f":"IF(ISERROR(RankingPredictedTotal!$A355),\"--\",RankingPredictedTotal!D355)","v":"--"},{"$f":"IF(ISERROR(RankingPredictedTotal!$A355),\"--\",RankingPredictedTotal!E355)","v":"--"},{"$f":"IF(ISERROR(RankingPredictedTotal!$A355),\"--\",RankingPredictedTotal!F355)","v":"--"},null,5,{"$f":"IF(ISERROR(RankingPredictedFI!$A355),\"--\",RankingPredictedFI!B355)","v":"--"},{"$f":"IF(ISERROR(RankingPredictedFI!$A355),\"--\",RankingPredictedFI!C355)","v":"--"},{"$f":"IF(ISERROR(RankingPredictedFI!$A355),\"--\",RankingPredictedFI!D355)","v":"--"},{"$f":"IF(ISERROR(RankingPredictedFI!$A355),\"--\",RankingPredictedFI!E355)","v":"--"},{"$f":"IF(ISERROR(RankingPredictedFI!$A355),\"--\",RankingPredictedFI!F355)","v":"--"}]
[6,{"$f":"IF(ISERROR(RankingExpectedAverage!$A356),\"--\",RankingExpectedAverage!B356)","v":"--"},{"$f":"IF(ISERROR(RankingExpectedAverage!$A356),\"--\",RankingExpectedAverage!C356)","v":"--"},{"$f":"IF(ISERROR(RankingExpectedAverage!$A356),\"--\",RankingExpectedAverage!D356)","v":"--"},{"$f":"IF(ISERROR(RankingExpectedAverage!$A356),\"--\",RankingExpectedAverage!E356)","v":"--"},{"$f":"IF(ISERROR(RankingExpectedAverage!$A356),\"--\",RankingExpectedAverage!F356)","v":"--"},null,6,{"$f":"IF(ISERROR(RankingExcess!$A356),\"--\",RankingExcess!B356)","v":"--"},{"$f":"IF(ISERROR(RankingExcess!$A356),\"--\",RankingExcess!C356)","v":"--"},{"$f":"IF(ISERROR(RankingExcess!$A356),\"--\",RankingExcess!D356)","v":"--"},{"$f":"IF(ISERROR(RankingExcess!$A356),\"--\",RankingExcess!E356)","v":"--"},{"$f":"IF(ISERROR(RankingExcess!$A356),\"--\",RankingExcess!F356)","v":"--"},null,6,{"$f":"IF(ISERROR(RankingPredictedTotal!$A356),\"--\",RankingPredictedTotal!B356)","v":"--"},{"$f":"IF(ISERROR(RankingPredictedTotal!$A356),\"--\",RankingPredictedTotal!C356)","v":"--"},{"$f":"IF(ISERROR(RankingPredictedTotal!$A356),\"--\",RankingPredictedTotal!D356)","v":"--"},{"$f":"IF(ISERROR(RankingPredictedTotal!$A356),\"--\",RankingPredictedTotal!E356)","v":"--"},{"$f":"IF(ISERROR(RankingPredictedTotal!$A356),\"--\",RankingPredictedTotal!F356)","v":"--"},null,6,{"$f":"IF(ISERROR(RankingPredictedFI!$A356),\"--\",RankingPredictedFI!B356)","v":"--"},{"$f":"IF(ISERROR(RankingPredictedFI!$A356),\"--\",RankingPredictedFI!C356)","v":"--"},{"$f":"IF(ISERROR(RankingPredictedFI!$A356),\"--\",RankingPredictedFI!D356)","v":"--"},{"$f":"IF(ISERROR(RankingPredictedFI!$A356),\"--\",RankingPredictedFI!E356)","v":"--"},{"$f":"IF(ISERROR(RankingPredictedFI!$A356),\"--\",RankingPredictedFI!F356)","v":"--"}]
[7,{"$f":"IF(ISERROR(RankingExpectedAverage!$A357),\"--\",RankingExpectedAverage!B357)","v":"--"},{"$f":"IF(ISERROR(RankingExpectedAverage!$A357),\"--\",RankingExpectedAverage!C357)","v":"--"},{"$f":"IF(ISERROR(RankingExpectedAverage!$A357),\"--\",RankingExpectedAverage!D357)","v":"--"},{"$f":"IF(ISERROR(RankingExpectedAverage!$A357),\"--\",RankingExpectedAverage!E357)","v":"--"},{"$f":"IF(ISERROR(RankingExpectedAverage!$A357),\"--\",RankingExpectedAverage!F357)","v":"--"},null,7,{"$f":"IF(ISERROR(RankingExcess!$A357),\"--\",RankingExcess!B357)","v":"--"},{"$f":"IF(ISERROR(RankingExcess!$A357),\"--\",RankingExcess!C357)","v":"--"},{"$f":"IF(ISERROR(RankingExcess!$A357),\"--\",RankingExcess!D357)","v":"--"},{"$f":"IF(ISERROR(RankingExcess!$A357),\"--\",RankingExcess!E357)","v":"--"},{"$f":"IF(ISERROR(RankingExcess!$A357),\"--\",RankingExcess!F357)","v":"--"},null,7,{"$f":"IF(ISERROR(RankingPredictedTotal!$A357),\"--\",RankingPredictedTotal!B357)","v":"--"},{"$f":"IF(ISERROR(RankingPredictedTotal!$A357),\"--\",RankingPredictedTotal!C357)","v":"--"},{"$f":"IF(ISERROR(RankingPredictedTotal!$A357),\"--\",RankingPredictedTotal!D357)","v":"--"},{"$f":"IF(ISERROR(RankingPredictedTotal!$A357),\"--\",RankingPredictedTotal!E357)","v":"--"},{"$f":"IF(ISERROR(RankingPredictedTotal!$A357),\"--\",RankingPredictedTotal!F357)","v":"--"},null,7,{"$f":"IF(ISERROR(RankingPredictedFI!$A357),\"--\",RankingPredictedFI!B357)","v":"--"},{"$f":"IF(ISERROR(RankingPredictedFI!$A357),\"--\",RankingPredictedFI!C357)","v":"--"},{"$f":"IF(ISERROR(RankingPredictedFI!$A357),\"--\",RankingPredictedFI!D357)","v":"--"},{"$f":"IF(ISERROR(RankingPredictedFI!$A357),\"--\",RankingPredictedFI!E357)","v":"--"},{"$f":"IF(ISERROR(RankingPredictedFI!$A357),\"--\",RankingPredictedFI!F357)","v":"--"}]
[8,{"$f":"IF(ISERROR(RankingExpectedAverage!$A358),\"--\",RankingExpectedAverage!B358)","v":"--"},{"$f":"IF(ISERROR(RankingExpectedAverage!$A358),\"--\",RankingExpectedAverage!C358)","v":"--"},{"$f":"IF(ISERROR(RankingExpectedAverage!$A358),\"--\",RankingExpectedAverage!D358)","v":"--"},{"$f":"IF(ISERROR(RankingExpectedAverage!$A358),\"--\",RankingExpectedAverage!E358)","v":"--"},{"$f":"IF(ISERROR(RankingExpectedAverage!$A358),\"--\",RankingExpectedAverage!F358)","v":"--"},null,8,{"$f":"IF(ISERROR(RankingExcess!$A358),\"--\",RankingExcess!B358)","v":"--"},{"$f":"IF(ISERROR(RankingExcess!$A358),\"--\",RankingExcess!C358)","v":"--"},{"$f":"IF(ISERROR(RankingExcess!$A358),\"--\",RankingExcess!D358)","v":"--"},{"$f":"IF(ISERROR(RankingExcess!$A358),\"--\",RankingExcess!E358)","v":"--"},{"$f":"IF(ISERROR(RankingExcess!$A358),\"--\",RankingExcess!F358)","v":"--"},null,8,{"$f":"IF(ISERROR(RankingPredictedTotal!$A358),\"--\",RankingPredictedTotal!B358)","v":"--"},{"$f":"IF(ISERROR(RankingPredictedTotal!$A358),\"--\",RankingPredictedTotal!C358)","v":"--"},{"$f":"IF(ISERROR(RankingPredictedTotal!$A358),\"--\",RankingPredictedTotal!D358)","v":"--"},{"$f":"IF(ISERROR(RankingPredictedTotal!$A358),\"--\",RankingPredictedTotal!E358)","v":"--"},{"$f":"IF(ISERROR(RankingPredictedTotal!$A358),\"--\",RankingPredictedTotal!F358)","v":"--"},null,8,{"$f":"IF(ISERROR(RankingPredictedFI!$A358),\"--\",RankingPredictedFI!B358)","v":"--"},{"$f":"IF(ISERROR(RankingPredictedFI!$A358),\"--\",RankingPredictedFI!C358)","v":"--"},{"$f":"IF(ISERROR(RankingPredictedFI!$A358),\"--\",RankingPredictedFI!D358)","v":"--"},{"$f":"IF(ISERROR(RankingPredictedFI!$A358),\"--\",RankingPredictedFI!E358)","v":"--"},{"$f":"IF(ISERROR(RankingPredictedFI!$A358),\"--\",RankingPredictedFI!F358)","v":"--"}]
[9,{"$f":"IF(ISERROR(RankingExpectedAverage!$A359),\"--\",RankingExpectedAverage!B359)","v":"--"},{"$f":"IF(ISERROR(RankingExpectedAverage!$A359),\"--\",RankingExpectedAverage!C359)","v":"--"},{"$f":"IF(ISERROR(RankingExpectedAverage!$A359),\"--\",RankingExpectedAverage!D359)","v":"--"},{"$f":"IF(ISERROR(RankingExpectedAverage!$A359),\"--\",RankingExpectedAverage!E359)","v":"--"},{"$f":"IF(ISERROR(RankingExpectedAverage!$A359),\"--\",RankingExpectedAverage!F359)","v":"--"},null,9,{"$f":"IF(ISERROR(RankingExcess!$A359),\"--\",RankingExcess!B359)","v":"--"},{"$f":"IF(ISERROR(RankingExcess!$A359),\"--\",RankingExcess!C359)","v":"--"},{"$f":"IF(ISERROR(RankingExcess!$A359),\"--\",RankingExcess!D359)","v":"--"},{"$f":"IF(ISERROR(RankingExcess!$A359),\"--\",RankingExcess!E359)","v":"--"},{"$f":"IF(ISERROR(RankingExcess!$A359),\"--\",RankingExcess!F359)","v":"--"},null,9,{"$f":"IF(ISERROR(RankingPredictedTotal!$A359),\"--\",RankingPredictedTotal!B359)","v":"--"},{"$f":"IF(ISERROR(RankingPredictedTotal!$A359),\"--\",RankingPredictedTotal!C359)","v":"--"},{"$f":"IF(ISERROR(RankingPredictedTotal!$A359),\"--\",RankingPredictedTotal!D359)","v":"--"},{"$f":"IF(ISERROR(RankingPredictedTotal!$A359),\"--\",RankingPredictedTotal!E359)","v":"--"},{"$f":"IF(ISERROR(RankingPredictedTotal!$A359),\"--\",RankingPredictedTotal!F359)","v":"--"},null,9,{"$f":"IF(ISERROR(RankingPredictedFI!$A359),\"--\",RankingPredictedFI!B359)","v":"--"},{"$f":"IF(ISERROR(RankingPredictedFI!$A359),\"--\",RankingPredictedFI!C359)","v":"--"},{"$f":"IF(ISERROR(RankingPredictedFI!$A359),\"--\",RankingPredictedFI!D359)","v":"--"},{"$f":"IF(ISERROR(RankingPredictedFI!$A359),\"--\",RankingPredictedFI!E359)","v":"--"},{"$f":"IF(ISERROR(RankingPredictedFI!$A359),\"--\",RankingPredictedFI!F359)","v":"--"}]
[10,{"$f":"IF(ISERROR(RankingExpectedAverage!$A360),\"--\",RankingExpectedAverage!B360)","v":"--"},{"$f":"IF(ISERROR(RankingExpectedAverage!$A360),\"--\",RankingExpectedAverage!C360)","v":"--"},{"$f":"IF(ISERROR(RankingExpectedAverage!$A360),\"--\",RankingExpectedAverage!D360)","v":"--"},{"$f":"IF(ISERROR(RankingExpectedAverage!$A360),\"--\",RankingExpectedAverage!E360)","v":"--"},{"$f":"IF(ISERROR(RankingExpectedAverage!$A360),\"--\",RankingExpectedAverage!F360)","v":"--"},null,10,{"$f":"IF(ISERROR(RankingExcess!$A360),\"--\",RankingExcess!B360)","v":"--"},{"$f":"IF(ISERROR(RankingExcess!$A360),\"--\",RankingExcess!C360)","v":"--"},{"$f":"IF(ISERROR(RankingExcess!$A360),\"--\",RankingExcess!D360)","v":"--"},{"$f":"IF(ISERROR(RankingExcess!$A360),\"--\",RankingExcess!E360)","v":"--"},{"$f":"IF(ISERROR(RankingExcess!$A360),\"--\",RankingExcess!F360)","v":"--"},null,10,{"$f":"IF(ISERROR(RankingPredictedTotal!$A360),\"--\",RankingPredictedTotal!B360)","v":"--"},{"$f":"IF(ISERROR(RankingPredictedTotal!$A360),\"--\",RankingPredictedTotal!C360)","v":"--"},{"$f":"IF(ISERROR(RankingPredictedTotal!$A360),\"--\",RankingPredictedTotal!D360)","v":"--"},{"$f":"IF(ISERROR(RankingPredictedTotal!$A360),\"--\",RankingPredictedTotal!E360)","v":"--"},{"$f":"IF(ISERROR(RankingPredictedTotal!$A360),\"--\",RankingPredictedTotal!F360)","v":"--"},null,10,{"$f":"IF(ISERROR(RankingPredictedFI!$A360),\"--\",RankingPredictedFI!B360)","v":"--"},{"$f":"IF(ISERROR(RankingPredictedFI!$A360),\"--\",RankingPredictedFI!C360)","v":"--"},{"$f":"IF(ISERROR(RankingPredictedFI!$A360),\"--\",RankingPredictedFI!D360)","v":"--"},{"$f":"IF(ISERROR(RankingPredictedFI!$A360),\"--\",RankingPredictedFI!E360)","v":"--"},{"$f":"IF(ISERROR(RankingPredictedFI!$A360),\"--\",RankingPredictedFI!F360)","v":"--"}]

{"sheet":"Outputs","index":25,"n_rows":235,"n_cols":57,"rows_kept":235,"cut":false,"hidden":false,"merged":[[76,2,76,4],[76,5,76,11],[76,12,76,24],[76,25,76,47],[76,48,76,56],[77,2,77,4],[77,5,77,11],[77,12,77,24],[77,25,77,47],[77,48,77,56],[78,2,78,4],[78,5,78,11],[78,12,78,24],[78,25,78,47],[78,48,78,56],[72,2,72,4],[72,5,72,11],[72,12,72,24],[72,25,72,47],[72,48,72,56],[73,2,73,4],[73,5,73,11],[73,12,73,24],[73,25,73,47],[73,48,73,56],[74,2,74,4],[74,5,74,11],[74,12,74,24],[74,25,74,47],[74,48,74,56],[75,2,75,4],[75,5,75,11],[75,12,75,24],[75,25,75,47],[75,48,75,56],[68,2,68,4],[68,5,68,11],[68,12,68,24],[68,25,68,47],[68,48,68,56],[69,2,69,4],[69,5,69,11],[69,12,69,24],[69,25,69,47],[69,48,69,56],[70,2,70,4],[70,5,70,11],[70,12,70,24],[70,25,70,47],[70,48,70,56],[71,2,71,4],[71,5,71,11],[71,12,71,24],[71,25,71,47],[71,48,71,56],[64,2,64,4],[64,5,64,11],[64,12,64,24],[64,25,64,47],[64,48,64,56],[65,2,65,4],[65,5,65,11],[65,12,65,24],[65,25,65,47],[65,48,65,56],[66,2,66,4],[66,5,66,11],[66,12,66,24],[66,25,66,47],[66,48,66,56],[67,2,67,4],[67,5,67,11],[67,12,67,24],[67,25,67,47],[67,48,67,56],[60,2,60,4],[60,5,60,11],[60,12,60,24],[60,25,60,47],[60,48,60,56],[61,2,61,4],[61,5,61,11],[61,12,61,24],[61,25,61,47],[61,48,61,56],[62,2,62,4],[62,5,62,11],[62,12,62,24],[62,25,62,47],[62,48,62,56],[63,2,63,4],[63,5,63,11],[63,12,63,24],[63,25,63,47],[63,48,63,56],[56,2,56,4],[56,5,56,11],[56,12,56,24],[56,25,56,47],[56,48,56,56],[57,2,57,4],[57,5,57,11],[57,12,57,24],[57,25,57,47],[57,48,57,56],[58,2,58,4],[58,5,58,11],[58,12,58,24],[58,25,58,47],[58,48,58,56],[59,2,59,4],[59,5,59,11],[59,12,59,24],[59,25,59,47],[59,48,59,56],[52,2,52,4],[52,5,52,11],[52,12,52,24],[52,25,52,47],[52,48,52,56],[53,2,53,4],[53,5,53,11],[53,12,53,24],[53,25,53,47],[53,48,53,56],[54,2,54,4],[54,5,54,11],[54,12,54,24],[54,25,54,47],[54,48,54,56],[55,2,55,4],[55,5,55,11],[55,12,55,24],[55,25,55,47],[55,48,55,56],[48,2,48,4],[48,5,48,11],[48,12,48,24],[48,25,48,47],[48,48,48,56],[49,2,49,4],[49,5,49,11],[49,12,49,24],[49,25,49,47],[49,48,49,56],[50,2,50,4],[50,5,50,11],[50,12,50,24],[50,25,50,47],[50,48,50,56],[51,2,51,4],[51,5,51,11],[51,12,51,24],[51,25,51,47],[51,48,51,56],[44,2,44,4],[44,5,44,11],[44,12,44,24],[44,25,44,47],[44,48,44,56],[45,2,45,4],[45,5,45,11],[45,12,45,24],[45,25,45,47],[45,48,45,56],[46,2,46,4],[46,5,46,11],[46,12,46,24],[46,25,46,47],[46,48,46,56],[47,2,47,4],[47,5,47,11],[47,12,47,24],[47,25,47,47],[47,48,47,56],[40,12,40,24],[40,25,40,47],[40,48,40,56],[41,2,41,4],[41,5,41,11],[41,12,41,24],[41,25,41,47],[41,48,41,56],[42,2,42,4],[42,5,42,11],[42,12,42,24],[42,25,42,47],[42,48,42,56],[43,2,43,4],[43,5,43,11],[43,12,43,24],[43,25,43,47],[43,48,43,56],[40,2,40,4],[40,5,40,11],[37,2,37,4],[37,5,37,11],[37,12,37,24],[37,25,37,47],[37,48,37,56],[38,2,38,4],[38,5,38,11],[38,12,38,24],[38,25,38,47],[38,48,38,56],[39,2,39,4],[39,5,39,11],[39,12,39,24],[39,25,39,47],[39,48,39,56],[35,2,35,4],[35,5,35,11],[35,12,35,24],[35,25,35,47],[33,5,33,11],[33,12,33,24],[33,25,33,47],[33,48,33,56],[34,2,34,4],[34,5,34,11],[34,12,34,24],[34,25,34,47],[34,48,34,56],[29,5,29,11],[29,12,29,24],[29,25,29,47],[35,48,35,56],[36,2,36,4],[36,5,36,11],[36,12,36,24],[36,25,36,47],[36,48,36,56],[230,2,230,4],[230,5,230,11],[230,12,230,24],[230,25,230,47],[230,48,230,56],[231,2,231,4],[231,5,231,11],[231,12,231,24],[231,25,231,47],[231,48,231,56],[232,2,232,4],[232,5,232,11],[232,12,232,24],[232,25,232,47],[232,48,232,56],[233,2,233,4],[233,5,233,11],[233,12,233,24],[233,25,233,47],[233,48,233,56],[226,2,226,4],[226,5,226,11],[226,12,226,24],[226,25,226,47],[226,48,226,56],[227,2,227,4],[227,5,227,11],[227,12,227,24],[227,25,227,47],[227,48,227,56],[228,2,228,4],[228,5,228,11],[228,12,228,24],[228,25,228,47],[228,48,228,56],[229,2,229,4],[229,5,229,11],[229,12,229,24],[229,25,229,47],[229,48,229,56],[222,2,222,4],[222,5,222,11],[222,12,222,24],[222,25,222,47],[222,48,222,56],[223,2,223,4],[223,5,223,11],[223,12,223,24],[223,25,223,47],[223,48,223,56],[224,2,224,4],[224,5,224,11],[224,12,224,24],[224,25,224,47],[224,48,224,56],[225,2,225,4],[225,5,225,11],[225,12,225,24],[225,25,225,47],[225,48,225,56],[218,2,218,4],[218,5,218,11],[218,12,218,24],[218,25,218,47],[218,48,218,56],[219,2,219,4],[219,5,219,11],[219,12,219,24],[219,25,219,47],[219,48,219,56],[220,2,220,4],[220,5,220,11],[220,12,220,24],[220,25,220,47],[220,48,220,56],[221,2,221,4],[221,5,221,11],[221,12,221,24],[221,25,221,47],[221,48,221,56],[214,2,214,4],[214,5,214,11],[214,12,214,24],[214,25,214,47],[214,48,214,56],[215,2,215,4],[215,5,215,11],[215,12,215,24],[215,25,215,47],[215,48,215,56],[216,2,216,4],[216,5,216,11],[216,12,216,24],[216,25,216,47],[216,48,216,56],[217,2,217,4],[217,5,217,11],[217,12,217,24],[217,25,217,47],[217,48,217,56],[210,2,210,4],[210,5,210,11],[210,12,210,24],[210,25,210,47],[210,48,210,56],[211,2,211,4],[211,5,211,11],[211,12,211,24],[211,25,211,47],[211,48,211,56],[212,2,212,4],[212,5,212,11],[212,12,212,24],[212,25,212,47],[212,48,212,56],[213,2,213,4],[213,5,213,11],[213,12,213,24],[213,25,213,47],[213,48,213,56],[206,2,206,4],[206,5,206,11],[206,12,206,24],[206,25,206,47],[206,48,206,56],[207,2,207,4],[207,5,207,11],[207,12,207,24],[207,25,207,47],[207,48,207,56],[208,2,208,4],[208,5,208,11],[208,12,208,24],[208,25,208,47],[208,48,208,56],[209,2,209,4],[209,5,209,11],[209,12,209,24],[209,25,209,47],[209,48,209,56],[202,2,202,4],[202,5,202,11],[202,12,202,24],[202,25,202,47],[202,48,202,56],[203,2,203,4],[203,5,203,11],[203,12,203,24],[203,25,203,47],[203,48,203,56],[204,2,204,4],[204,5,204,11],[204,12,204,24],[204,25,204,47],[204,48,204,56],[205,2,205,4],[205,5,205,11],[205,12,205,24],[205,25,205,47],[205,48,205,56],[198,2,198,4],[198,5,198,11],[198,12,198,24],[198,25,198,47],[198,48,198,56],[199,2,199,4],[199,5,199,11],[199,12,199,24],[199,25,199,47],[199,48,199,56],[200,2,200,4],[200,5,200,11],[200,12,200,24],[200,25,200,47],[200,48,200,56],[201,2,201,4],[201,5,201,11],[201,12,201,24],[201,25,201,47],[201,48,201,56],[181,25,181,47],[181,48,181,56],[195,12,195,24],[195,25,195,47],[190,2,190,4],[190,5,190,11],[190,12,190,24],[197,2,197,4],[197,5,197,11],[197,12,197,24],[197,25,197,47],[197,48,197,56],[180,2,180,4],[180,5,180,11],[180,12,180,24],[180,25,180,47],[180,48,180,56],[196,2,196,4],[196,5,196,11],[196,12,196,24],[196,25,196,47],[196,48,196,56],[191,48,191,56],[192,2,192,4],[192,5,192,11],[192,12,192,24],[192,25,192,47],[193,12,193,24],[193,25,193,47],[193,48,193,56],[185,25,185,47],[185,48,185,56],[177,2,177,4],[177,5,177,11],[177,12,177,24],[177,25,177,47],[177,48,177,56],[195,48,195,56],[188,2,188,4],[188,5,188,11],[188,12,188,24],[188,25,188,47],[179,2,179,4],[179,5,179,11],[179,12,179,24],[179,25,179,47],[179,48,179,56],[186,2,186,4],[186,5,186,11],[186,12,186,24],[186,25,186,47],[186,48,186,56],[187,2,187,4],[187,5,187,11],[178,2,178,4],[178,5,178,11],[178,12,178,24],[178,25,178,47],[178,48,178,56],[195,2,195,4],[195,5,195,11],[192,48,192,56],[193,2,193,4],[193,5,193,11],[175,2,175,4],[175,5,175,11],[175,12,175,24],[175,25,175,47],[175,48,175,56],[172,2,172,4],[172,5,172,11],[172,12,172,24],[172,25,172,47],[172,48,172,56],[188,48,188,56],[189,2,189,4],[189,5,189,11],[189,12,189,24],[189,25,189,47],[189,48,189,56],[176,2,176,4],[176,5,176,11],[176,12,176,24],[176,25,176,47],[176,48,176,56],[187,12,187,24],[187,25,187,47],[187,48,187,56],[181,2,181,4],[181,5,181,11],[181,12,181,24],[174,2,174,4],[174,5,174,11],[174,12,174,24],[174,25,174,47],[174,48,174,56],[171,2,171,4],[171,5,171,11],[171,12,171,24],[171,25,171,47],[171,48,171,56],[168,2,168,4],[168,5,168,11],[168,12,168,24],[168,25,168,47],[168,48,168,56],[173,2,173,4],[173,5,173,11],[173,12,173,24],[173,25,173,47],[173,48,173,56],[170,2,170,4],[170,5,170,11],[170,12,170,24],[170,25,170,47],[170,48,170,56],[167,2,167,4],[167,5,167,11],[167,12,167,24],[167,25,167,47],[167,48,167,56],[164,2,164,4],[164,5,164,11],[164,12,164,24],[164,25,164,47],[164,48,164,56],[169,2,169,4],[169,5,169,11],[169,12,169,24],[169,25,169,47],[169,48,169,56],[166,2,166,4],[166,5,166,11],[166,12,166,24],[166,25,166,47],[166,48,166,56],[163,2,163,4],[163,5,163,11],[163,12,163,24],[163,25,163,47],[163,48,163,56],[160,2,160,4],[160,5,160,11],[160,12,160,24],[160,25,160,47],[160,48,160,56],[165,2,165,4],[165,5,165,11],[165,12,165,24],[165,25,165,47],[165,48,165,56],[162,2,162,4],[162,5,162,11],[162,12,162,24],[162,25,162,47],[162,48,162,56],[159,2,159,4],[159,5,159,11],[159,12,159,24],[159,25,159,47],[159,48,159,56],[156,2,156,4],[156,5,156,11],[156,12,156,24],[156,25,156,47],[156,48,156,56],[161,2,161,4],[161,5,161,11],[161,12,161,24],[161,25,161,47],[161,48,161,56],[153,12,153,24],[153,25,153,47],[153,48,153,56],[158,2,158,4],[158,5,158,11],[158,12,158,24],[158,25,158,47],[158,48,158,56],[155,2,155,4],[155,5,155,11],[155,12,155,24],[155,25,155,47],[155,48,155,56],[157,2,157,4],[157,5,157,11],[157,12,157,24],[157,25,157,47],[157,48,157,56],[150,5,150,11],[150,12,150,24],[150,25,150,47],[150,48,150,56],[140,2,140,4],[140,5,140,11],[140,12,140,24],[140,25,140,47],[140,48,140,56],[146,2,146,4],[149,2,149,4],[149,5,149,11],[149,12,149,24],[149,25,149,47],[149,48,149,56],[154,2,154,4],[154,5,154,11],[154,12,154,24],[154,25,154,47],[154,48,154,56],[151,2,151,4],[151,5,151,11],[151,12,151,24],[151,25,151,47],[151,48,151,56],[148,2,148,4],[148,5,148,11],[148,12,148,24],[148,25,148,47],[148,48,148,56],[153,2,153,4],[153,5,153,11],[144,2,144,4],[144,5,144,11],[144,12,144,24],[144,25,144,47],[144,48,144,56],[145,2,145,4],[145,5,145,11],[145,12,145,24],[145,25,145,47],[145,48,145,56],[146,5,146,11],[146,12,146,24],[146,25,146,47],[146,48,146,56],[147,2,147,4],[147,5,147,11],[147,12,147,24],[147,25,147,47],[147,48,147,56],[152,2,152,4],[152,5,152,11],[152,12,152,24],[152,25,152,47],[152,48,152,56],[137,48,137,56],[138,2,138,4],[138,5,138,11],[138,12,138,24],[138,25,138,47],[138,48,138,56],[132,2,132,47],[132,48,132,56],[139,2,139,4],[139,5,139,11],[139,12,139,24],[139,25,139,47],[139,48,139,56],[137,2,137,4],[137,5,137,11],[137,12,137,24],[128,2,128,4],[128,5,128,11],[128,12,128,24],[128,25,128,47],[128,48,128,56],[129,2,129,4],[129,5,129,11],[129,12,129,24],[129,25,129,47],[129,48,129,56],[127,2,127,4],[127,5,127,11],[127,12,127,24],[127,25,127,47],[127,48,127,56],[124,2,124,4],[124,5,124,11],[124,12,124,24],[124,25,124,47],[124,48,124,56],[135,2,135,4],[135,5,135,11],[135,12,135,24],[135,25,135,47],[135,48,135,56],[126,2,126,4],[126,5,126,11],[126,12,126,24],[126,25,126,47],[126,48,126,56],[123,2,123,4],[123,5,123,11],[123,12,123,24],[123,25,123,47],[123,48,123,56],[120,2,120,4],[120,5,120,11],[120,12,120,24],[120,25,120,47],[120,48,120,56],[125,2,125,4],[125,5,125,11],[125,12,125,24],[125,25,125,47],[125,48,125,56],[122,2,122,4],[122,5,122,11],[122,12,122,24],[122,25,122,47],[122,48,122,56],[119,2,119,4],[119,5,119,11],[119,12,119,24],[119,25,119,47],[119,48,119,56],[116,2,116,4],[116,5,116,11],[116,12,116,24],[116,25,116,47],[116,48,116,56],[121,2,121,4],[121,5,121,11],[121,12,121,24],[121,25,121,47],[121,48,121,56],[118,2,118,4],[118,5,118,11],[118,12,118,24],[118,25,118,47],[118,48,118,56],[115,2,115,4],[115,5,115,11],[115,12,115,24],[115,25,115,47],[115,48,115,56],[112,2,112,4],[112,5,112,11],[112,12,112,24],[112,25,112,47],[112,48,112,56],[117,2,117,4],[117,5,117,11],[117,12,117,24],[117,25,117,47],[117,48,117,56],[114,2,114,4],[114,5,114,11],[114,12,114,24],[114,25,114,47],[114,48,114,56],[111,2,111,4],[111,5,111,11],[111,12,111,24],[111,25,111,47],[111,48,111,56],[108,2,108,4],[108,5,108,11],[108,12,108,24],[108,25,108,47],[108,48,108,56],[113,2,113,4],[113,5,113,11],[113,12,113,24],[113,25,113,47],[113,48,113,56],[110,2,110,4],[110,5,110,11],[110,12,110,24],[110,25,110,47],[110,48,110,56],[107,2,107,4],[107,5,107,11],[107,12,107,24],[107,25,107,47],[107,48,107,56],[104,2,104,4],[104,5,104,11],[104,12,104,24],[104,25,104,47],[104,48,104,56],[109,2,109,4],[109,5,109,11],[109,12,109,24],[109,25,109,47],[109,48,109,56],[106,2,106,4],[106,5,106,11],[106,12,106,24],[106,25,106,47],[106,48,106,56],[101,48,101,56],[98,2,98,4],[98,5,98,11],[98,12,98,24],[98,25,98,47],[98,48,98,56],[103,2,103,4],[103,5,103,11],[103,12,103,24],[103,25,103,47],[103,48,103,56],[100,2,100,4],[100,5,100,11],[100,12,100,24],[100,25,100,47],[100,48,100,56],[105,2,105,4],[105,5,105,11],[105,12,105,24],[105,25,105,47],[105,48,105,56],[102,2,102,4],[102,5,102,11],[102,12,102,24],[102,25,102,47],[102,48,102,56],[90,2,90,4],[90,5,90,11],[90,12,90,24],[90,25,90,47],[90,48,90,56],[95,2,95,4],[95,5,95,11],[95,12,95,24],[95,25,95,47],[95,48,95,56],[92,2,92,4],[92,5,92,11],[92,12,92,24],[92,25,92,47],[92,48,92,56],[97,2,97,4],[97,5,97,11],[97,12,97,24],[97,25,97,47],[97,48,97,56],[94,2,94,4],[94,5,94,11],[94,12,94,24],[94,25,94,47],[94,48,94,56],[96,2,96,4],[96,5,96,11],[96,12,96,24],[96,25,96,47],[96,48,96,56],[91,2,91,4],[91,5,91,11],[91,12,91,24],[91,25,91,47],[91,48,91,56],[234,2,234,4],[234,5,234,11],[234,12,234,24],[234,25,234,47],[234,48,234,56],[93,2,93,4],[93,5,93,11],[93,12,93,24],[93,25,93,47],[93,48,93,56],[99,2,99,4],[99,5,99,11],[99,12,99,24],[99,25,99,47],[99,48,99,56],[101,2,101,4],[101,5,101,11],[101,12,101,24],[101,25,101,47],[182,2,182,4],[182,5,182,11],[182,12,182,24],[182,25,182,47],[182,48,182,56],[184,2,184,47],[184,48,184,56],[185,2,185,4],[185,5,185,11],[185,12,185,24],[194,2,194,4],[194,5,194,11],[194,12,194,24],[194,25,194,47],[194,48,194,56],[190,25,190,47],[190,48,190,56],[191,2,191,4],[191,5,191,11],[191,12,191,24],[191,25,191,47],[133,2,133,4],[133,5,133,11],[133,12,133,24],[133,25,133,47],[133,48,133,56],[134,2,134,4],[134,5,134,11],[134,12,134,24],[134,25,134,47],[134,48,134,56],[150,2,150,4],[136,2,136,4],[136,5,136,11],[136,12,136,24],[136,25,136,47],[136,48,136,56],[142,2,142,4],[142,5,142,11],[142,12,142,24],[142,25,142,47],[142,48,142,56],[143,2,143,4],[143,5,143,11],[143,12,143,24],[143,25,143,47],[143,48,143,56],[141,2,141,4],[141,5,141,11],[141,12,141,24],[141,25,141,47],[141,48,141,56],[137,25,137,47],[2,2,2,5],[2,6,2,12],[3,6,3,12],[4,6,4,12],[2,13,2,56],[3,13,3,56],[4,13,4,56],[25,12,25,14],[25,15,25,17],[25,18,25,20],[25,21,25,23],[12,6,12,12],[12,24,12,39],[16,40,16,56],[24,6,24,8],[24,9,24,11],[4,2,4,5],[3,2,3,5],[24,21,24,23],[24,24,24,26],[24,27,24,36],[18,5,18,7],[15,5,15,7],[9,24,9,39],[9,13,9,23],[9,6,9,12],[11,6,11,12],[11,13,11,23],[11,24,11,39],[11,40,11,56],[24,12,24,14],[24,15,24,17],[24,18,24,20],[25,24,25,26],[25,27,25,36],[25,37,25,46],[24,47,24,56],[14,1,14,56],[12,13,12,23],[17,24,17,39],[17,40,17,56],[18,24,18,39],[18,40,18,56],[20,1,20,56],[16,24,16,39],[15,16,15,23],[16,8,16,15],[17,8,17,15],[15,8,15,15],[85,48,85,56],[86,48,86,56],[84,2,84,4],[85,2,85,4],[81,5,81,11],[82,5,82,11],[83,5,83,11],[84,5,84,11],[85,5,85,11],[86,5,86,11],[81,12,81,24],[82,12,82,24],[83,12,83,24],[84,12,84,24],[85,12,85,24]],"merged_total":1113,"flags":["merged_cut"]}
[]
[null,{"$f":"Inputs!$B$18","v":"Example"}]
[null,"Date:",{"$f":"Inputs!B16","v":"2019-12-11"},null,null,null,{"$f":"Inputs!A19","v":"Control Section(s):"},null,null,null,null,null,null,{"$f":"Inputs!B19","v":0}]
[null,"Agency:",{"$f":"Inputs!B15","v":"MDOT"},null,null,null,{"$f":"Inputs!A20","v":"PR Number(s):"},null,null,null,null,null,null,{"$f":"Inputs!B20","v":0}]
[null,"Analyst:",{"$f":"Inputs!B14","v":"John Doe"},null,null,null,{"$f":"Inputs!A21","v":"Job Number(s):"},null,null,null,null,null,null,{"$f":"Inputs!B21","v":0}]
[null,"Description:",{"$f":"Inputs!B22","v":"Example Project"}]
[]
[null,"Empirical Bayes Analysis (Site-Specific)"]
[null,"Predicted average crash frequency\n(crashes/year)",null,null,null,null,null,null,null,null,null,null,null,"Observed Crashes\n(crashes/year)"]
[null,null,"Npredicted (TOTAL)","Npredicted (FI)","Npredicted (PDO)","Npredicted (ped)","Npredicted (bike)",null,null,null,null,null,null,"Nobserved (TOTAL)",null,null,null,null,null,null,null,null,null,null,"Nobserved (segment)",null,null,null,null,null,null,null,null,null,null,null,null,null,null,null,"Nobserved (intersection)"]
[null,"Rural",{"$f":"SUM(\n'Rural 2-Lane Segments (MI)'!FE:FE,\n'Rural County FA Segs (MI)'!DQ:DQ,\n'Rural County Non-FA Segs (MI)'!CS:CS,\n'Rural Multilane Segments (MI)'!DV:DV,\n'Rural Unsignalized Int (MI)'!EW:EW,\n'Rural Signalized Int (MI)'!ES:ES\n)","v":0},{"$f":"SUM(\n'Rural 2-Lane Segments (MI)'!FB:FB,\n'Rural County FA Segs (MI)'!DN:DN,\n'Rural County Non-FA Segs (MI)'!CP:CP,\n'Rural Multilane Segments (MI)'!DS:DS,\n'Rural Unsignalized Int (MI)'!EV:EV,\n'Rural Signalized Int (MI)'!ER:ER\n)","v":0},{"$f":"SUM(\n'Rural 2-Lane Segments (MI)'!EY:EY,\n'Rural County FA Segs (MI)'!DK:DK,\n'Rural County Non-FA Segs (MI)'!CM:CM,\n'Rural Multilane Segments (MI)'!DP:DP,\n'Rural Unsignalized Int (MI)'!EU:EU,\n'Rural Signalized Int (MI)'!EQ:EQ\n)","v":0},"--","--",null,null,null,null,null,null,{"$f":"IF(C11=0,\"--\",Y11+AO11)","v":"--"},null,null,null,null,null,null,null,null,null,null,{"$f":"IF(C11=0,\"--\",SUM(\n'Rural 2-Lane Segments (MI)'!S:V,\n'Rural County FA Segs (MI)'!N:Q,\n'Rural County Non-FA Segs (MI)'!O:P,\n'Rural Multilane Segments (MI)'!R:U,\n))","v":"--"},null,null,null,null,null,null,null,null,null,null,null,null,null,null,null,{"$f":"IF(C11=0,\"--\",SUM(\n'Rural Unsignalized Int (MI)'!R:S,\n'Rural Signalized Int (MI)'!N:O\n))","v":"--"}]
[null,"Urban/\nSuburban",{"$f":"SUM(\n'Urban & Suburban Segments (MI)'!HW:HW,\n'Urban & Suburban Ints (MI)'!DM:DM\n)","v":0},{"$f":"SUM(\n'Urban & Suburban Segments (MI)'!HT:HT,\n'Urban & Suburban Ints (MI)'!DN:DN\n)","v":0},{"$f":"SUM(\n'Urban & Suburban Segments (MI)'!HQ:HQ,\n'Urban & Suburban Ints (MI)'!DO:DO\n)","v":0},{"$f":"SUM(\n'Urban & Suburban Segments (MI)'!FW:FW,\n'Urban & Suburban Ints (MI)'!CO:CO\n)","v":0},{"$f":"SUM(\n'Urban & Suburban Segments (MI)'!GC:GC,\n'Urban & Suburban Ints (MI)'!CP:CP\n)","v":0},null,null,null,null,null,null,{"$f":"IF(C12=0,\"--\",Y12+AO12)","v":"--"},null,null,null,null,null,null,null,null,null,null,{"$f":"IF(C12=0,\"--\",SUM(\n'Urban & Suburban Segments (MI)'!AH:AK,\n))","v":"--"},null,null,null,null,null,null,null,null,null,null,null,null,null,null,null,{"$f":"IF(C12=0,\"--\",SUM(\n'Urban & Suburban Ints (MI)'!AA:AD\n))","v":"--"}]
[null,"Total",{"$f":"SUM(C11:C12)","v":0},{"$f":"SUM(D11:D12)","v":0},{"$f":"SUM(E11:E12)","v":0},{"$f":"SUM(F11:F12)","v":0},{"$f":"SUM(G11:M12)","v":0},null,null,null,null,null,null,{"$f":"SUM(N11:X12)","v":0},null,null,null,null,null,null,null,null,null,null,{"$f":"SUM(Y11:AN12)","v":0},null,null,null,null,null,null,null,null,null,null,null,null,null,null,null,{"$f":"SUM(AO11:BE12)","v":0}]
[]
[null,"Expected Crashes\n(crashes/year)"]
[null,null,"Nexpected (TOTAL)","Nexpected (FI)","Nexpected (PDO)","Nexpected (vehicle)",null,null,"Nexpected (ped)",null,null,null,null,null,null,null,"Nexpected (bike)",null,null,null,null,null,null,null,"Nexpected (segment)",null,null,null,null,null,null,null,null,null,null,null,null,null,null,null,"Nexpected (intersection)"]
[null,"Rural",{"$f":"IF(C11=0,0,SUM('Rural Unsignalized Int (MI)'!Z:Z,'Rural Signalized Int (MI)'!V:V,'Rural 2-Lane Segments (MI)'!AK:AK,'Rural Multilane Segments (MI)'!AJ:AJ,'Rural County FA Segs (MI)'!AF:AF,'Rural County Non-FA Segs (MI)'!W:W))","v":0},{"$f":"IF(C11=0,0,SUM('Rural Unsignalized Int (MI)'!X:X,'Rural Signalized Int (MI)'!T:T,'Rural 2-Lane Segments (MI)'!AI:AI,'Rural Multilane Segments (MI)'!AH:AH,'Rural County FA Segs (MI)'!AD:AD,'Rural County Non-FA Segs (MI)'!U:U))","v":0},{"$f":"IF(C11=0,0,SUM('Rural Unsignalized Int (MI)'!Y:Y,'Rural Signalized Int (MI)'!U:U,'Rural 2-Lane Segments (MI)'!AJ:AJ,'Rural Multilane Segments (MI)'!AI:AI,'Rural County FA Segs (MI)'!AE:AE,'Rural County Non-FA Segs (MI)'!V:V))","v":0},{"$f":"C17","v":0},null,null,"--",null,null,null,null,null,null,null,"--",null,null,null,null,null,null,null,{"$f":"IF(D17=0,0,SUM('Rural 2-Lane Segments (MI)'!AK:AK,'Rural Multilane Segments (MI)'!AJ:AJ,'Rural County FA Segs (MI)'!AF:AF,'Rural County Non-FA Segs (MI)'!W:W))","v":0},null,null,null,null,null,null,null,null,null,null,null,null,null,null,null,{"$f":"IF(D17=0,0,SUM('Rural Unsignalized Int (MI)'!Z:Z,'Rural Signalized Int (MI)'!V:V))","v":0}]
[null,"Urban/\nSuburban",{"$f":"+Y18+AO18","v":0},{"$f":"IF(C12=0,0,SUM('Urban & Suburban Segments (MI)'!$AV:$AV,'Urban & Suburban Ints (MI)'!$AS:$AS,'Urban & Suburban Ints (MI)'!$AT:$AT,'Urban & Suburban Ints (MI)'!$AU:$AU))","v":0},{"$f":"IF(C12=0,0,SUM('Urban & Suburban Segments (MI)'!$AZ:$AZ,'Urban & Suburban Ints (MI)'!$AV:$AV,'Urban & Suburban Ints (MI)'!$AW:$AW,'Urban & Suburban Ints (MI)'!$AX:$AX))","v":0},{"$f":"SUM('Urban & Suburban Segments (MI)'!$BB:$BB,'Urban & Suburban Ints (MI)'!$BB:$BB)","v":0},null,null,{"$f":"IF(SUM('Urban & Suburban Segments (MI)'!$AH:$AK,'Urban & Suburban Ints (MI)'!$AA:$AD)=0,0,F12/D12*D18)","v":0},null,null,null,null,null,null,null,{"$f":"IF(SUM('Urban & Suburban Segments (MI)'!$AH:$AK,'Urban & Suburban Ints (MI)'!$AA:$AD)=0,0,G12/C12*C18)","v":0},null,null,null,null,null,null,null,{"$f":"IF(D18=0,0,SUM('Rural 2-Lane Segments (MI)'!$AK:$AK, 'Rural County FA Segs (MI)'!$AF:$AF,'Rural County Non-FA Segs (MI)'!$W:$W,'Rural Multilane Segments (MI)'!$AJ:$AJ,'Urban & Suburban Segments (MI)'!$BB:$BB))","v":0},null,null,null,null,null,null,null,null,null,null,null,null,null,null,null,{"$f":"IF(D18=0,0,SUM('Rural Unsignalized Int (MI)'!$Z:$Z,'Rural Signalized Int (MI)'!$V:$V,'Urban & Suburban Ints (MI)'!$BB:$BB))","v":0}]
[null,"Total",{"$f":"SUM(C17:C18)","v":0},{"$f":"SUM(D17:D18)","v":0},{"$f":"SUM(E17:E18)","v":0},{"$f":"SUM(F17:F18)","v":0},null,null,{"$f":"SUM(I17:P18)","v":0},null,null,null,null,null,null,null,{"$f":"SUM(N17:X18)","v":0},null,null,null,null,null,null,null,{"$f":"SUM(Y17:AN18)","v":0},null,null,null,null,null,null,null,null,null,null,null,null,null,null,null,{"$f":"SUM(AO17:BE18)","v":0}]
[]
[null,"Empirical Bayes Analysis (Project-Level)"]
[null,null,"Predicted average crash frequency\n(crashes/year)",null,null,"Observed Crashes\n(crashes/year)","Coefficients",null,null,null,null,null,null,null,null,null,null,null,null,null,null,null,null,null,null,null,null,"Expected Crashes\n(crashes/year)"]
[null,null,"Npredicted (TOTAL)","Npredicted (FI)","Npredicted (PDO)","Nobserved","Nw0",null,null,"Nw1",null,null,"W0",null,null,"N0",null,null,"W1",null,null,"N1",null,null,"Np/comb",null,null,"Nexpected (TOTAL)",null,null,null,null,null,null,null,null,null,"Nexpected (FI)",null,null,null,null,null,null,null,null,null,"Nexpected (pdo)"]
[null,"Rural\n2-Lane",{"$f":"SUM(#REF!,#REF!)","v":{"$error":"#REF!"}},{"$f":"SUM(#REF!,#REF!)","v":{"$error":"#REF!"}},{"$f":"SUM(#REF!,#REF!)","v":{"$error":"#REF!"}},{"$f":"Inputs!E4","v":0},{"$f":"IF(OR(C24=0,F24=0),0,SUM(#REF!,#REF!))","v":{"$error":"#REF!"}},null,null,{"$f":"IF(OR(C24=0,F24=0),0,SUM(#REF!,#REF!))","v":{"$error":"#REF!"}},null,null,{"$f":"IF(OR(C24=0,F24=0),0,1/(1+G24/C24))","v":{"$error":"#REF!"}},null,null,{"$f":"IF(OR(C24=0,F24=0),0,M24*C24+((1-M24)*F24))","v":{"$error":"#REF!"}},null,null,{"$f":"IF(OR(C24=0,F24=0),0,1/(1+(J24/C24)))","v":{"$error":"#REF!"}},null,null,{"$f":"IF(C24=0,0,S24*C24+(1-S24)*F24)","v":{"$error":"#REF!"}},null,null,{"$f":"(P24+V24)/2","v":{"$error":"#REF!"}},null,null,{"$f":"Y24","v":{"$error":"#REF!"}},null,null,null,null,null,null,null,null,null,{"$f":"IF(OR(C24=0,F24=0),0,Y24*D24/C24)","v":{"$error":"#REF!"}},null,null,null,null,null,null,null,null,null,{"$f":"IF(OR(C24=0,F24=0),0,Y24*E24/C24)","v":{"$error":"#REF!"}}]
[null,"Rural\nMultilane",{"$f":"SUM(#REF!,#REF!,#REF!)","v":{"$error":"#REF!"}},{"$f":"SUM(#REF!,#REF!,#REF!)","v":{"$error":"#REF!"}},{"$f":"SUM(#REF!,#REF!,#REF!)","v":{"$error":"#REF!"}},{"$f":"Inputs!F4","v":0},{"$f":"IF(OR(C25=0,F25=0),0,SUM(#REF!,#REF!,#REF!))","v":{"$error":"#REF!"}},null,null,{"$f":"IF(OR(C25=0,F25=0),0,SUM(#REF!,#REF!,#REF!))","v":{"$error":"#REF!"}},null,null,{"$f":"IF(OR(C25=0,F25=0),0,1/(1+G25/C25))","v":{"$error":"#REF!"}},null,null,{"$f":"IF(OR(C25=0,F25=0),0,M25*C25+((1-M25)*F25))","v":{"$error":"#REF!"}},null,null,{"$f":"IF(OR(C25=0,F25=0),0,1/(1+(J25/C25)))","v":{"$error":"#REF!"}},null,null,{"$f":"IF(C25=0,0,S25*C25+(1-S25)*F25)","v":{"$error":"#REF!"}},null,null,{"$f":"(P25+V25)/2","v":{"$error":"#REF!"}},null,null,{"$f":"Y25","v":{"$error":"#REF!"}},null,null,null,null,null,null,null,null,null,{"$f":"IF(OR(C25=0,F25=0),0,Y25*D25/C25)","v":{"$error":"#REF!"}},null,null,null,null,null,null,null,null,null,{"$f":"IF(OR(C25=0,F25=0),0,Y25*E25/C25)","v":{"$error":"#REF!"}}]
[null,"Urban/\nSuburban",{"$f":"SUM('Urban & Suburban Segments (MI)'!$BV:$BV,'Urban & Suburban Segments (MI)'!$EF:$EF,'Urban & Suburban Segments (MI)'!$HJ:$HJ,'Urban & Suburban Ints (MI)'!$CN:$CN)","v":0},{"$f":"SUM('Urban & Suburban Segments (MI)'!$CE:$CE,'Urban & Suburban Segments (MI)'!$EO:$EO,'Urban & Suburban Segments (MI)'!$HP:$HP,'Urban & Suburban Ints (MI)'!$CL:$CL)","v":0},{"$f":"SUM('Urban & Suburban Segments (MI)'!$CN:$CN,'Urban & Suburban Segments (MI)'!$EX:$EX,'Urban & Suburban Segments (MI)'!$HV:$HV,'Urban & Suburban Ints (MI)'!$CM:$CM)","v":0},{"$f":"Inputs!G4","v":0},{"$f":"IF(OR(C26=0,F26=0),0,SUM('Urban & Suburban Segments (MI)'!$AP:$AR,'Urban & Suburban Ints (MI)'!$BD:$BI))","v":0},null,null,{"$f":"IF(OR(C26=0,F26=0),0,SUM('Urban & Suburban Segments (MI)'!$AS:$AU,'Urban & Suburban Ints (MI)'!$BJ:$BO))","v":0},null,null,{"$f":"IF(OR(C26=0,F26=0),0,1/(1+G26/C26))","v":0},null,null,{"$f":"IF(OR(C26=0,F26=0),0,M26*C26+((1-M26)*F26))","v":0},null,null,{"$f":"IF(OR(C26=0,F26=0),0,1/(1+(J26/C26)))","v":0},null,null,{"$f":"IF(OR(C26=0,F26=0),0,S26*C26+(1-S26)*F26)","v":0},null,null,{"$f":"IF(F26=0,0,(P26+V26)/2)","v":0},null,null,{"$f":"IF(F26=0,0,Y26+SUM('Urban & Suburban Segments (MI)'!#REF!,'Urban & Suburban Segments (MI)'!#REF!,'Urban & Suburban Ints (MI)'!$CO:$CP))","v":0},null,null,null,null,null,null,null,null,null,{"$f":"IF(OR(C26=0,F26=0),0,Y26*D26/C26+SUM('Urban & Suburban Segments (MI)'!#REF!,'Urban & Suburban Segments (MI)'!#REF!,'Urban & Suburban Ints (MI)'!$CO:$CO,'Urban & Suburban Ints (MI)'!$CQ:$CQ))","v":0},null,null,null,null,null,null,null,null,null,{"$f":"IF(OR(C26=0,F26=0),0,Y26*E26/C26)","v":0}]
[null,"Total",{"$f":"SUM(C24:C26)","v":{"$error":"#REF!"}},{"$f":"SUM(D24:D26)","v":{"$error":"#REF!"}},{"$f":"SUM(E24:E26)","v":{"$error":"#REF!"}},{"$f":"SUM(F24:F26)","v":0},"--",null,null,"--",null,null,"--",null,null,"--",null,null,"--",null,null,"--",null,null,"--",null,null,{"$f":"SUM(AB24:AB26)","v":{"$error":"#REF!"}},0,0,0,0,0,0,0,0,0,{"$error":"#REF!"},0,0,0,0,0,0,0,0,0,{"$error":"#REF!"},0,0,0,0,0,0,0,0,0]
[]
[null,"Rank","Highest Expected Average Crashes (crashes/year)",null,null,null,null,null,null,null,null,null,null,null,null,null,null,null,null,null,null,null,null,null,null,null,null,null,null,null,null,null,null,null,null,null,null,null,null,null,null,null,null,null,null,null,null,null,"Expected"]
[null,1]
[null,2]
[null,3]
[null,4]
[null,5]
[null,6]
[null,7]
[null,8]
[null,9]
[null,10]
[null,11]
[null,12]
[null,13]
[null,14]
[null,15]
[null,16]
[null,17]
[null,18]
[null,19]
[null,20]
[null,21]
[null,22]
[null,23]
[null,24]
[null,25]
[null,26]
[null,27]
[null,28]
[null,29]
[null,30]
[null,31]
[null,32]
[null,33]
[null,34]
[null,35]
[null,36]
[null,37]
[null,38]
[null,39]
[null,40]
[null,41]
[null,42]
[null,43]
[null,44]
[null,45]
[null,46]
[null,47]
[null,48]
[null,49]
[null,50]
[]
[null,"Rank","Highest Excess Expected Crashes (crashes/year)",null,null,null,null,null,null,null,null,null,null,null,null,null,null,null,null,null,null,null,null,null,null,null,null,null,null,null,null,null,null,null,null,null,null,null,null,null,null,null,null,null,null,null,null,null,"Excess"]
[null,1]
[null,2]
[null,3]
[null,4]
[null,5]
[null,6]
[null,7]
[null,8]
[null,9]
[null,10]
[null,11]
[null,12]
[null,13]
[null,14]
[null,15]
[null,16]
[null,17]
[null,18]
[null,19]
[null,20]
[null,21]
[null,22]
[null,23]
[null,24]
[null,25]
[null,26]
[null,27]
[null,28]
[null,29]
[null,30]
[null,31]
[null,32]
[null,33]
[null,34]
[null,35]
[null,36]
[null,37]
[null,38]
[null,39]
[null,40]
[null,41]
[null,42]
[null,43]
[null,44]
[null,45]
[null,46]
[null,47]
[null,48]
[null,49]
[null,50]
[]
[null,"Rank","Highest Predicted Total Crashes (crashes/year)",null,null,null,null,null,null,null,null,null,null,null,null,null,null,null,null,null,null,null,null,null,null,null,null,null,null,null,null,null,null,null,null,null,null,null,null,null,null,null,null,null,null,null,null,null,"Predicted"]
[null,1]
[null,2]
[null,3]
[null,4]
[null,5]
[null,6]
[null,7]
[null,8]
[null,9]
[null,10]
[null,11]
[null,12]
[null,13]
[null,14]
[null,15]
[null,16]
[null,17]
[null,18]
[null,19]
[null,20]
[null,21]
[null,22]
[null,23]
[null,24]
[null,25]
[null,26]
[null,27]
[null,28]
[null,29]
[null,30]
[null,31]
[null,32]
[null,33]
[null,34]
[null,35]
[null,36]
[null,37]
[null,38]
[null,39]
[null,40]
[null,41]
[null,42]
[null,43]
[null,44]
[null,45]
[null,46]
[null,47]
[null,48]
[null,49]
[null,50]
[]
[null,"Rank","Highest Predicted Fatal & Injury Crashes (crashes/year)",null,null,null,null,null,null,null,null,null,null,null,null,null,null,null,null,null,null,null,null,null,null,null,null,null,null,null,null,null,null,null,null,null,null,null,null,null,null,null,null,null,null,null,null,null,"Predicted"]
[null,1]
[null,2]
[null,3]
[null,4]
[null,5]
[null,6]
[null,7]
[null,8]
[null,9]
[null,10]
[null,11]
[null,12]
[null,13]
[null,14]
[null,15]
[null,16]
[null,17]
[null,18]
[null,19]
[null,20]
[null,21]
[null,22]
[null,23]
[null,24]
[null,25]
[null,26]
[null,27]
[null,28]
[null,29]
[null,30]
[null,31]
[null,32]
[null,33]
[null,34]
[null,35]
[null,36]
[null,37]
[null,38]
[null,39]
[null,40]
[null,41]
[null,42]
[null,43]
[null,44]
[null,45]
[null,46]
[null,47]
[null,48]
[null,49]
[null,50]