{"text_format":"1","workbook":"xlsx","n_sheets":19,"sheets":["Preamble","Change Log","Instructions","Span Configuration","Equipment Wt & Ht","Work Authorization Costs","Conduit Sizing","Cables","L.E.D. Wattages","Merc Vap Case Signs","Incandescent State Wide","Detroit ","Others","Design Constants","Sample Configurations","Main Span Template","TO1 Span Template","TO2 Span Template","Macro Controls"],"not_rendered":{"charts":4,"images":5,"macros":1,"external_links":0,"defined_names":24,"comments":0,"pivot_tables":0},"unopened":[],"bounds":{"document_bytes":16777216,"sheet_cells":100000,"rows_first":2000,"rows_last":500,"rows_between":2000,"halvings":0,"cell_chars":16384,"cell_head_chars":4096},"cells_cut":0,"cells_raw":0,"read":"whole","date_system":"1900"}

{"sheet":"Preamble","index":0,"n_rows":19,"n_cols":2,"rows_kept":19,"cut":false,"hidden":false,"merged":[[16,1,16,9],[17,1,17,9],[18,1,18,9],[3,0,12,9],[13,1,13,9],[14,1,14,9],[15,1,15,9]]}
["Engineering Manual Preamble"]
["Revised","2023-02-27"]
[]
["This manual provides guidance to administrative, engineering, and technical staff. Engineering practice requires that professionals use a combination of technical skills and judgment in decision making. Engineering judgment is necessary to allow decisions to account for unique site-specific conditions and considerations to provide high quality products, within budget, and to protect the public health, safety, and welfare. This manual provides the general operational guidelines; however, it is understood that adaptation, adjustments, and deviations are sometimes necessary. Innovation is a key foundational element to advance the state of engineering practice and develop more effective and efficient engineering solutions and materials. As such, it is essential that our engineering manuals provide a vehicle to promote, pilot, or implement technologies or practices that provide efficiencies and quality products, while maintaining the safety, health, and welfare of the public. It is expected when making significant or impactful deviations from the technical information from these guidance materials, that reasonable consultations with experts, technical committees, and/or policy setting bodies occur prior to actions within the timeframes allowed. It is also expected that these consultations will eliminate any potential conflicts of interest, perceived or otherwise. MDOT Leadership is committed to a culture of innovation to optimize engineering solutions. The National Society of Professional Engineers Code of Ethics for Engineering is founded on six fundamental canons. Those canons are provided below. Engineers, in the fulfillment of their professional duties, shall:"]
[]
[]
[]
[]
[]
[]
[]
[]
[]
["1.","Hold paramount the safety, health, and welfare of the public."]
["2.","Perform services only in areas of their competence."]
["3.","Issue public statement only in an objective and truthful manner."]
["4.","Act for each employer or client as faithful agents or trustees."]
["5.","Avoid deceptive acts."]
["6.","Conduct themselves honorably, reasonably, ethically and lawfully so as to enhance the honor, reputation, and usefulness of the profession."]

{"sheet":"Change Log","index":1,"n_rows":142,"n_cols":2,"rows_kept":142,"cut":false,"hidden":false,"merged":[[81,1,82,10],[88,1,89,10],[103,1,104,10],[107,1,108,10],[114,1,115,10]]}
["MDOT Signal Span Calculation Program - Change Log"]
[]
["v1.0","2015-03-11"]
[]
[]
["v2.0","2023-02-27"]
[]
[null,"Preamble"]
["•","Tab created"]
[]
[null,"Instructions"]
["•","Tab created"]
["•","Revised old instructions for updates made to the program"]
["•","Added cell style legend which applies throughout the program tabs"]
[]
[null,"Span Configuration"]
["•","Tab created"]
["•","Added coordinate and span inputs to allow designers to utilize the program for any span configuration"]
["•","Added macro functionality to populate pre-loaded sample configuration inputs for a variety of scenarios"]
["•","Added macro functionality to generate tabs for span design as-needed"]
[]
[null,"Equipment Wt & Ht"]
["•","Updated layout of signal head and signal part tables"]
["•","Converted tables to excel table objects for more robust formulas"]
["•","Added variants of each piece of equipment with backplates to tables"]
[]
[null,"Cables"]
["•","Table of cable types updated for revised MDOT standard CAD cell"]
[]
[null,"Design Constants"]
["•","Tab created"]
["•","Hardcoded constants used throughout the design referenced from this tab instead to facilitate easier and more reliable updates in the future"]
[]
[null,"Sample Configurations"]
["•","Tab created"]
["•","Tab populated with sample configurations based on sample plans and figures provided by MDOT"]
[]
[null,"Main Span Design Tabs"]
["•","Tab based on existing span design worksheets, modified to serve as the main span design worksheet for all scenarios"]
["•","Span elevation plot consolidated from other tab"]
["•","Added a check for generalized dead load and wind area load (per proposed standards)"]
["•","Added a check for the minimum cable sag (sag must be at least 5% for simple spans, for tie-off spans it must be 6.5% at minimum)."]
["•","Adjusted the check for minimum vertical clearance – if the span is bottom tethered, the minimum is 18’-0” not 17’-0”"]
["•","Added cells reporting bending moments at the bottom of shafts, shown in lbs-ft and kip-ft"]
["•","Reported stem heights and POCHs updated to be shown in XX'-YY\" format"]
["•","Updated minimum stem length to 10\""]
["•","Updated stem length calculations to align top of signal heads and allow the designer to choose the minimum stem used in the design"]
["•","Reorganized calculation cells at top of page to be organized by general span and span endpoint values"]
[]
[null,"Tie-off Span Design Tabs"]
["•","Tab based on existing span design worksheets, modified to serve as the tie-off span design worksheet for all scenarios"]
["•","Span elevation plot consolidated from other tab"]
["•","3-way and 4-way tie-off functionality consolidated to this single worksheet"]
["•","Updated calculation of equilibrium at tie-off junction to apply for scenarios with 1-2 spans and 1-2 tie-offs at the junction"]
["•","Added functionality for box span tie-offs"]
["•","Added a check for generalized dead load and wind area load (per proposed standards)"]
["•","Adjusted the check for minimum vertical clearance – if the span is bottom tethered, the minimum is 18’-0” not 17’-0”"]
["•","Added cells reporting bending moments at the bottom of shafts, shown in lbs-ft and kip-ft"]
["•","Reported stem heights and POCHs updated to be shown in XX'-YY\" format"]
["•","Updated minimum stem length to 10\""]
["•","Updated stem length calculations to align top of signal heads and allow the designer to choose the minimum stem used in the design"]
["•","Reorganized calculation cells at top of page to be organized by general span and span endpoint values"]
[]
[null,"Macro Controls"]
["•","Tab created"]
["•","Added setting to control color of generated span calculation tabs, which is used by the macros to identify the tabs when the tab deletion macro is used"]
[]
[]
["v2.01","2023-06-02"]
[]
[null,"Instructions"]
["•","Added step 0, which details how to unlock macro functionality if it is blocked by Excel"]
[]
[null,"Equipment Wt & Ht"]
["•","Updated errors in various equipment heights"]
["•","PED signals removed as they are not placed on wire spans in practice, they are still available in an inactive table on the side"]
[]
[null,"Main Span Design Tabs"]
["•","The lowest signal on the span is now adjusted downward to the minimum clearance, the other signals are aligned with the top of the lowest signal"]
["•","Stem height calculations adjusted to give stem lengths that align the signals as described above and account for the wire hanger height and entrance head"]
["•","Stem heights are now rounded down to the nearest inch"]
["•","Minimum stem height is no longer an input, but instead reports the minimum stem currently on the span. The check cell to the right ensures that the stem meets the required minimum length"]
[]
[]
[null,"Tie-off Span Design Tabs"]
["•","The lowest signal on the span is now adjusted downward to the minimum clearance, the other signals are aligned with the top of the lowest signal"]
["•","Stem height calculations adjusted to give stem lengths that align the signals as described above and account for the wire hanger height and entrance head"]
["•","Stem heights are now rounded down to the nearest inch"]
["•","Minimum stem height is no longer an input, but instead reports the minimum stem currently on the span. The check cell to the right ensures that the stem meets the required minimum length"]
[]
[]
[]
["v2.02","2024-09-13"]
[]
[null,"Instructions"]
["•","Added General Assumption 7"]
["•","Included selection of SIG-020/021 or SIG-022 and field drilled hole size for span weight and wind area checks in step 5a."]
[]
[null,"Equipment Wt & Ht"]
["•","Updated equipment weights to most recent available data"]
["•","Added revision column to track when equipment weights were last updated"]
[]
[null,"Main Span Design Tabs"]
["•","Addressed Excel version compatibility issue with VALUETOTEXT function only being available to Office 365 versions of Excel. This function has been replaced with the TEXT function."]
[]
["•","Added note: Span weight and wind area checks are applicable only for steel strain poles included in standards SIG-020, SIG-021, and SIG-022"]
["•","Stem heights adjusted to report full distance from top of signal to wire, previously reported the length of pipe (subtracted hanger height)"]
["•","Added span weight and wind area check per SIG-022. Inputs added to specify which standard is used for the design, along with field hole size (applicable for SIG-022 only)"]
[]
["•","Set default horizontal force input to 1000 lbs, and default tether condition to \"NOT TETHERED\""]
[]
[null,"Tie-off Span Design Tabs"]
["•","Added note: Span weight and wind area checks are applicable only for steel strain poles included in standards SIG-020, SIG-021, and SIG-022"]
["•","Stem heights adjusted to report full distance from top of signal to wire, previously reported the length of pipe (subtracted hanger height)"]
["•","Added span weight and wind area check per SIG-022. Inputs added to specify which standard is used for the design, along with field hole size (applicable for SIG-022 only)"]
[]
["•","Set default tether condition to \"NOT TETHERED\""]
["•","Set equilibrium tolerances to 10 lbs"]
[]
[]
["v2.03","2025-01-30"]
[]
[null,"Main Span Design Tabs"]
["•","Fixed formula in total attachment weight and perpendicular wind area check cells which incorrectly reported weight/wind area as too large for some configurations"]
[]
[null,"Tie-off Span Design Tabs"]
["•","Fixed formula in total attachment weight and perpendicular wind area check cells which incorrectly reported weight/wind area as too large for some configurations"]
[]
[]
["v2.04","2025-05-07"]
[]
[null,"Main Span Design Tabs"]
["•","Previously the program was set to a minimum clearance of 18 ft for the no tether condition. This has been updated to 17 ft."]
[]
[null,"Tie-off Span Design Tabs"]
["•","Previously the program was set to a minimum clearance of 18 ft for the no tether condition. This has been updated to 17 ft."]
[]
[]
["v2.05","2025-10-10"]
[]
[null,"Equipment Wt & Ht"]
["•","Added traffic signal heads utilizing Aeroflex Backplates as options for 1W-3C, 1W-4C, 1W-5C (Doghouse), and Hawk signal types"]

{"sheet":"Instructions","index":2,"n_rows":176,"n_cols":9,"rows_kept":176,"cut":false,"hidden":false,"merged":[[184,0,184,9],[178,0,178,9],[179,0,179,9],[180,0,180,9],[181,0,181,9],[182,0,182,9],[183,0,183,9],[161,0,161,9],[162,0,162,9],[167,0,167,9],[168,0,168,9],[163,0,163,9],[177,0,177,9],[154,0,154,9],[155,0,155,9],[146,0,146,9],[147,0,147,9],[148,0,148,9],[133,0,133,9],[134,0,134,9],[135,0,135,9],[139,0,139,9],[136,0,137,9],[149,0,149,9],[150,0,150,9],[151,0,151,9],[152,0,152,9],[138,0,138,9],[156,0,156,9],[140,0,140,9],[141,0,141,9],[142,0,142,9],[143,0,143,9],[144,0,144,9],[145,0,145,9],[185,0,185,9],[171,0,171,9],[172,0,172,9],[173,0,173,9],[174,0,174,9],[175,0,175,9],[176,0,176,9],[164,0,164,9],[157,0,157,9],[158,0,158,9],[159,0,159,9],[170,0,170,9],[160,0,160,9],[165,0,165,9],[166,0,166,9],[169,0,169,9],[153,0,153,9],[131,0,131,9],[120,0,120,9],[121,0,121,9],[122,0,122,9],[123,0,123,9],[124,0,124,9],[125,0,125,9],[114,0,114,9],[115,0,115,9],[116,0,116,9],[117,0,117,9],[118,0,118,9],[119,0,119,9],[126,0,126,9],[127,0,127,9],[128,0,128,9],[129,0,129,9],[108,0,108,9],[109,0,109,9],[110,0,110,9],[111,0,111,9],[112,0,112,9],[113,0,113,9],[102,0,102,9],[103,0,103,9],[104,0,104,9],[105,0,105,9],[106,0,106,9],[107,0,107,9],[96,0,96,9],[97,0,97,9],[98,0,98,9],[99,0,99,9],[100,0,100,9],[101,0,101,9],[90,0,90,9],[91,0,91,9],[92,0,92,9],[93,0,93,9],[94,0,94,9],[95,0,95,9],[86,0,86,9],[87,0,87,9],[88,0,88,9],[89,0,89,9],[78,0,78,9],[79,0,79,9],[80,0,80,9],[81,0,81,9],[82,0,82,9],[83,0,83,9],[72,0,72,9],[71,0,71,9],[73,0,73,9],[74,0,74,9],[75,0,75,9],[76,0,76,9],[77,0,77,9],[84,0,84,9],[85,0,85,9],[66,0,66,9],[68,0,68,9],[69,0,69,9],[52,0,52,9],[53,0,53,9],[54,0,54,9],[58,0,58,9],[60,0,60,9],[64,0,64,9],[62,0,62,9],[67,0,67,9],[55,0,55,9],[56,0,56,9],[47,0,47,9],[48,0,48,9],[49,0,49,9],[50,0,50,9],[51,0,51,9],[40,0,40,9],[41,0,41,9],[42,0,42,9],[43,0,43,9],[44,0,44,9],[45,0,45,9],[24,8,24,9],[25,0,25,7],[25,8,25,9],[26,0,26,7],[30,0,30,7],[27,8,27,9],[34,1,35,9],[27,0,28,7],[46,0,46,9],[29,0,29,9],[132,0,132,9],[130,0,130,9],[0,0,0,9],[1,0,1,9],[3,0,3,9],[11,0,11,9],[20,0,20,9],[14,0,14,9],[4,0,6,9],[12,0,13,9],[16,0,17,9],[21,0,21,9],[22,0,22,7],[22,8,22,9],[15,0,15,9],[18,0,18,9],[19,0,19,9],[26,8,26,9],[37,0,37,9],[38,0,38,9],[39,0,39,9],[23,0,23,7],[23,8,23,9],[24,0,24,7]]}
["MDOT Signal Span Calculation Program - Instructions"]
["MDOT Traffic and Safety Support Area"]
["Revised","2023-06-02"]
[]
["Introduction: The MDOT span calculation program was created to facilitate faster and more reliable signal span design, and has been maintained and updated to add functionality and remain current on all MDOT signal design standards. The use of this program is an iterative process in which the designer will enter a best guess and then adjust the inputs depending on the results. Several checks are included to ensure that the proper POCHs and stem lengths are calculated to be transferred to the plan sheets."]
[]
[]
[]
[]
["Program Features and Benefits"]
[]
["1)       It is a Microsoft Excel spreadsheet, so all the formulas are readily visible. This allows new users the ability to better understand the calculations."]
["2)       It has a graphic component to provide a visual image of what the proposed span(s) will look like in plan and elevation views to help ensure inputs are properly added to the worksheets and the program produces the expected results."]
[]
["3)       It can model most, if not all, span configurations that are encountered in design."]
["4)       It can model tie-off junctions with 1 or 2 main spans and 1 or 2 tie-off spans at the junction."]
["5)       Weights may be hung on any of the spans. Individual signals may be modeled according to standard signal head properties or as a combination of signal parts."]
[]
["6)       The POCH is defined as the height from the top of the pole foundation rather than from the grade centerline."]
[]
[]
["General Assumptions:"]
["1)       Tension on spans is generally limited to 1500 pounds.",null,null,null,null,null,null,null,"Legend"]
["2)       In the program Yellow cells are those that require data to be entered by the user.",null,null,null,null,null,null,null,"Inputs"]
["3)       In the program Green cells are key calculated values that must be verified.",null,null,null,null,null,null,null,"Referenced Value"]
["4)       In the program Blue cells are calculated values.",null,null,null,null,null,null,null,"Calculated Values"]
["5)       In the program Gray cells are values which are linked to the value of an input or calculation cell.",null,null,null,null,null,null,null,"Key Values "]
["6)       Blue tabs are span calculation tabs generated by the program. IMPORTANT: No other tabs may use this color in order to avoid accidental deletion of tabs.",null,null,null,null,null,null,null,"Design Issue"]
[]
["7)       The design checks included in this tool are intended to streamline the designer's process for developing a suitable signal span configuration, but are not a substitute for the designer's responsibility to ensure all requirements of the applicable design standard are met. Not all requirements included in the MDOT signal span standards are checked in this tool. The \"Total Attachment Weight\" and \" Perpendicular Wind Area\" design checks are applicable only for steel strain poles included in standards SIG-020, SIG-021, and SIG-022."]
["8)       Naming conventions within the program (as shown in Figure 1):"]
["•","Pole and tie-off junction locations are designated by a point number"]
["•","Main spans will be designated by a span number"]
["•","Tie-off span names must be \"TOX-Y\", where X is the ID of the tie-off at that point (may be either 1 or 2) and Y is the tie-off junction point."]
["•","Examples showing use of the naming conventions are shown below for suspended diagonal and box spans, but the same principles apply to all configurations."]
[]
[]
[]
[]
[]
[]
[]
[]
[]
[]
[]
[]
[]
[]
[]
[]
[]
["Figure 1: Naming Convention for Span Configurations"]
[]
[]
["Instructions:"]
["0) If you have an issue with Excel not allowing you to run the macros in this file: close the file, right-click on the file and select \"Properties\". At the bottom of the \"General\" tab, there should be a checkbox for \"Unblock\", which will allow you to enable macros in the file when it is reopened. For additional information, see the Microsoft help page: https://learn.microsoft.com/en-us/deployoffice/security/internet-macros-blocked."]
[]
["1) Go to the “Span Configuration” tab in the spreadsheet. \n\nOPTIONAL: Sample configurations are available to be automatically populated by an Excel Macro to show program functionality or serve as a starting point for a new design. These samples can be populated by selecting the desired configuration in the drop-down menu on the right side of the page and pressing the \"Populate Sample Configuration\" button. The tables may also be cleared using the \"Clear Input Tables\" button."]
[]
["2) In the \"Coordinate Input\" section, enter/modify the properties of each pole and tie-off junction location to be used in the design. The \"Item\" and \"Quadrant\" inputs are optional and do not affect the calculations but may serve to aid the designer in more easily identifying the points. Point coordinates are entered as Northing and Easting values by the user, then are automatically converted to design X and Y coordinates for the purposes of the program. The \"Top of Foundation\" input is used later on in the design of the individual spans. For tie-off junctions, \"Top of Foundation\" should be entered as \"-\" since it does not apply. If for any reason the designer would like to adjust the design coordinates, there are optional offset inputs available to the right of the Coordinate Input table. By default, the design coordinates are generated relative to the average of the Northing/Easting inputs."]
[]
["3) In the \"Span Configuration\" section, enter the span names. Span names must follow the conventions given in the General Assumptions section above. For each span enter the points A and B, where Point A is the span start and Point B is the span end. For Tie-off spans, Point A must be the tie-off junction point and Point B must be the pole location. For Tie-off spans only, the user must also enter the main spans at that tie-off junction. Based on the design, there may be either 1 or 2 main spans at the junction. For main spans and tie-offs with only one main span at the junction, \"-\" should be entered for the inputs that do not apply. The grade centerline for each span must also be entered. The grade centerline elevation is taken as the highest point passing under the span. Based on the user's input, the design coordinates and the pole elevations at the span endpoints are referenced from the Coordinate Input table. In addition, the span lengths and span angles with respect to the design coordinates at each endpoint are calculated. Ensure that these cells display the expected values. The span configuration may be visually checked by the user on the graph showing a plan view below the table. "]
[]
["4) When the designer has finished verifying that the inputs have been entered and represented by the program correctly, press the \"Generate Span Calculation Tabs\" button. This macro will generate a span design worksheet for each span entered in the Span Configuration table. If the span configuration changes, the designer can remove the current set of span calculation tabs by pressing \"Delete Span Calculation Tabs\" and generate new tabs. WARNING: this will clear all changes to the inputs made to the current set of tabs. \n\nOPTIONAL: If it is desirable to keep an old span calculation tab, \n      a) Change the color of the tab so it will not be deleted when \"Delete Span Calculation Tabs\" is pressed.\n      b) To ensure there are no conflicts when generating a new set of tabs, rename the old calculation tab(s) so that they do not have the same name as a span that will be generated in the next set. \n      c) Additionally, some previously referenced values (e.g. span length) will need to be manually re-entered after the tab is renamed."]
[]
["5) For each span being designed, navigate to the corresponding tab and:"]
["      a) Select the signal heads or parts to be mounted on the span at the desired distance along the span, which is measured from Point A for all spans. If there is not a head at a particular distance, leave that cell blank. Select the MDOT signal standard that is being followed for design in the \"Design Standard\" cell and the field drilled hole size if SIG-022 is used. Check that the span is not overloaded by inspecting the \"Total Attachment Weight\" and \"Perpendicular Wind Area\" outputs at the top of the tab. \n\nOPTIONAL: Additional signal heads and parts may be added to the Equipment tables. Subsequently, they will be selectable in the drop-down menus in each span design tab."]
["      b) Set the span tether condition and adjust the horizontal force and POCH inputs until span clearance, minimum stem length, and sag requirements are met. If an endpoint of the span is a tie-off junction enter \"-\" for the POCH input, as it does not apply. The POCH on the corresponding tie-off span(s) need to be entered for the current span outputs to properly populate. The horizontal force differs from the tension in that it does not include the vertical component of the force on the span wire, but typically they are very similar in magnitude. Actual tension on the span will vary as you travel across the span. The horizontal tension should be a constant assuming no wind or other dynamic loads. Horizontal forces for tie off spans are calculated by the spreadsheet to satisfy equilibrium. By default, the minimum stem length is set to the minimum stem required by MDOT, but this input may be adjusted to a larger value if it is beneficial to the design. Note that the connection height at a tie-off junction must be the same for both main spans at the junction, if there are two at that point. This is handled automatically for the tie-off spans. For tie-off junctions with one tie-off span (for example, a suspended box span), it may be necessary to change the angle of the tie-off span by moving the pole location and adjust the junction connection height in order to achieve equilibrium. For tie-off junctions with two tie-off spans, the two will be able to adjust tensions and POCH of the second tie-off in order to achieve equilibrium in most cases. The designer should also check the design to ensure that it is reasonable."]
["     c) Review the span elevation graph provided at the top of the tab and all of the green key output cells. The span elevation graph shows the applicable minimum vertical clearance and the span height along the span, with downward spikes shown at each head. Ensure the values are as expected and that none of the check cells are highlighted in red, signifying an issue with the design. Additionally, keep the following guidelines in mind for a good design: \n            • The tension at points A & B is the actual tension at the POCHs and includes the vertical and horizontal components of force on the span wire. If it exceeds 1500 pounds, adjust the connection heights or horizontal force until the tension is at a reasonable level. \n               • The minimum vertical clearance should equal or exceed 17 feet, unless if the span is bottom tethered the minimum vertical clearance should equal or exceed 18 feet.\n           • The stem lengths should be kept as short and even as reasonably possible. Tilting the span one way or the other will often reduce the variation in stem lengths. Increasing the tension may also help. \n           • The minimum required pole length should be a pole length utilized by MDOT and shown in the Statewide Signal Details (i.e. 30 ft, 36 ft, or 40 ft).\n           • The POCH must be a minimum of 1.5 ft below the top of the pole."]
[]
["6) Record the POCHs, and stem lengths for each head. This information can then be transferred to the signal plan."]
[]
[]
["Appendix of calculations"]
[]
["Primary Span Forces: These calculations define the horizontal and vertical forces at the ends of the span, as shown in Figure 2."]
[]
[]
[]
[]
[]
[]
[]
[]
[]
[]
[]
[]
[]
[]
[]
[]
[]
[]
[]
["Figure 2: Forces at Ends of Span"]
[]
["FHA = User defined"]
["FHB = FHA (assumes static loading, no wind or other dynamic loads)"]
["WX = User defined (loads placed across the span including the weight of the span wire.) "]
["XWX = User defined (based on the distance from point A to each load)"]
["YA-B = User defined (difference in height between the ends of the span.) "]
["FVB = (FHB x YA-B + W1 x XW1 + … + WX x XWX) / Xspan"]
["FVA = W1 + … + WX – FVB "]
["TensionA = (FHA^2 + FVA^2)^0.5 "]
["TensionB = (FHB^2 + FVB^2)^0.5"]
[]
[]
["Link Calculations: Once the forces at the ends of the spans are determined, the span is divided into 1 foot links to determine how it sags, as shown in Figure 3. Starting at point A, FVX is equal to FVA. The horizontal forces are, by definition, always constant and defined by the horizontal tension selected. After the first link, use the vertical forces calculated from the previous link. The same methodology is used for the tie-off spans."]
[]
[]
[]
[]
[]
[]
[]
[]
[]
[]
[]
[]
[]
[]
[]
["Figure 3: Forces at 1 ft Links"]
[]
[]
["FHX = FHA = FHX+1"]
["FVX = FVX+1 (from previous link) or FVA (if first link) "]
["Fwire = span wire unit weight given in the design constants tab (lb/ft)"]
["Fhead = user defined (only applies if there is a head on the link in question) "]
["FVX+1 = FVX – Fwire – Fhead"]
["YX = (0.5 x Fwire + 1.0 x Fhead + 1.0 x FVX+1) / FHX+1"]
[]
[]
["Division of Forces at a Tie-off: At a tie-off point the horizontal forces in the primary and tie-off spans must sum to 0 in both the X and Y directions in order for the tie-off point to remain stationary. Figure 4 is based on a generic tie-off junction. Any spans which are not in use for a particular tie-off junction will have forces equal to 0."]
[]
[]
[]
[]
[]
[]
[]
[]
[]
[]
[]
[]
[]
[]
[]
[]
[]
[]
[]
[]
["Figure 4: Forces at Tie-off Junction"]
[]
["FHA = Horizontal force in Span A = known from span calculation"]
["FHB = Horizontal force in Span B = known from span calculation (reduces to 0 if second span not in use)"]
["FHTO1 = Horizontal force in Tie-off Span 1"]
["FHTO2 = Horizontal force in Tie-off Span 2 (reduces to 0 if second tie-off span not in use)"]
[]
["θx = Angle of each span with respect to local X axis parallel to Span 1"]
["θA = Span A angle with respect to global X axis = known from span calculation"]
["θB = Span B angle with respect to global X axis = known from span calculation"]
["θTO1 = Tie-off Span 1 angle with respect to global X axis = known from span configuration"]
["θTO2 = Tie-off Span 2 angle with respect to global X axis = known from span configuration"]
[]
["FHTO1X = (FHAX + FHBX) x tan( θTO1 - 90) / [tan(θTO1 - 90) + tan(θTO2 - 90)] "]
["FHTO1Y = FHTO1X x tan(θTO1)"]
["FHTO1 = (FHTO1X^2 + FHTO1Y^2)^0.5"]
["FHTO2X = FHAX - FHBX – FHTO1X"]
["FHTO2Y = FHTO2X x tan(θTO2)"]
["FHTO2 = (FHTO2X^2 + FHTO2Y^2)^0.5"]

{"sheet":"Span Configuration","index":3,"n_rows":68,"n_cols":15,"rows_kept":68,"cut":false,"hidden":false,"merged":[[28,9,35,14],[9,11,9,14],[9,9,9,10],[17,9,25,14]]}
["MDOT Signal Span Calculation Program - Span Configuration"]
["MDOT Traffic and Safety Support Area"]
[]
["Coordinate Input"]
[]
["Point Name","Item","Quadrant","Northing","Easting","Top of Foundation","Design X Coordinate (ft)","Design Y Coordinate (Y)",null,"Average Northing","Average Easting","Design X Coordinate Offset (ft)","Design Y Coordinate Offset (ft)"]
[null,null,null,null,null,null,{"$f":"IF(CoordinateInput[[#This Row],[Easting]]=\"\",1000000,CoordinateInput[[#This Row],[Easting]]-$K$7+$L$7)","v":1000000},{"$f":"IF(CoordinateInput[[#This Row],[Northing]]=\"\",1000000,CoordinateInput[[#This Row],[Northing]]-$J$7+$M$7)","v":1000000},null,{"$f":"IFERROR(AVERAGE(CoordinateInput[Northing]),\"\")","v":""},{"$f":"IFERROR(AVERAGE(CoordinateInput[Easting]),\"\")","v":""},0,0]
[null,null,null,null,null,null,{"$f":"IF(CoordinateInput[[#This Row],[Easting]]=\"\",1000000,CoordinateInput[[#This Row],[Easting]]-$K$7+$L$7)","v":1000000},{"$f":"IF(CoordinateInput[[#This Row],[Northing]]=\"\",1000000,CoordinateInput[[#This Row],[Northing]]-$J$7+$M$7)","v":1000000}]
[null,null,null,null,null,null,{"$f":"IF(CoordinateInput[[#This Row],[Easting]]=\"\",1000000,CoordinateInput[[#This Row],[Easting]]-$K$7+$L$7)","v":1000000},{"$f":"IF(CoordinateInput[[#This Row],[Northing]]=\"\",1000000,CoordinateInput[[#This Row],[Northing]]-$J$7+$M$7)","v":1000000}]
[null,null,null,null,null,null,{"$f":"IF(CoordinateInput[[#This Row],[Easting]]=\"\",1000000,CoordinateInput[[#This Row],[Easting]]-$K$7+$L$7)","v":1000000},{"$f":"IF(CoordinateInput[[#This Row],[Northing]]=\"\",1000000,CoordinateInput[[#This Row],[Northing]]-$J$7+$M$7)","v":1000000},null,"Sample Configuration",null,"Box Span"]
[null,null,null,null,null,null,{"$f":"IF(CoordinateInput[[#This Row],[Easting]]=\"\",1000000,CoordinateInput[[#This Row],[Easting]]-$K$7+$L$7)","v":1000000},{"$f":"IF(CoordinateInput[[#This Row],[Northing]]=\"\",1000000,CoordinateInput[[#This Row],[Northing]]-$J$7+$M$7)","v":1000000}]
[null,null,null,null,null,null,{"$f":"IF(CoordinateInput[[#This Row],[Easting]]=\"\",1000000,CoordinateInput[[#This Row],[Easting]]-$K$7+$L$7)","v":1000000},{"$f":"IF(CoordinateInput[[#This Row],[Northing]]=\"\",1000000,CoordinateInput[[#This Row],[Northing]]-$J$7+$M$7)","v":1000000}]
[null,null,null,null,null,null,{"$f":"IF(CoordinateInput[[#This Row],[Easting]]=\"\",1000000,CoordinateInput[[#This Row],[Easting]]-$K$7+$L$7)","v":1000000},{"$f":"IF(CoordinateInput[[#This Row],[Northing]]=\"\",1000000,CoordinateInput[[#This Row],[Northing]]-$J$7+$M$7)","v":1000000}]
[null,null,null,null,null,null,{"$f":"IF(CoordinateInput[[#This Row],[Easting]]=\"\",1000000,CoordinateInput[[#This Row],[Easting]]-$K$7+$L$7)","v":1000000},{"$f":"IF(CoordinateInput[[#This Row],[Northing]]=\"\",1000000,CoordinateInput[[#This Row],[Northing]]-$J$7+$M$7)","v":1000000}]
[null,null,null,null,null,null,{"$f":"IF(CoordinateInput[[#This Row],[Easting]]=\"\",1000000,CoordinateInput[[#This Row],[Easting]]-$K$7+$L$7)","v":1000000},{"$f":"IF(CoordinateInput[[#This Row],[Northing]]=\"\",1000000,CoordinateInput[[#This Row],[Northing]]-$J$7+$M$7)","v":1000000}]
[null,null,null,null,null,null,{"$f":"IF(CoordinateInput[[#This Row],[Easting]]=\"\",1000000,CoordinateInput[[#This Row],[Easting]]-$K$7+$L$7)","v":1000000},{"$f":"IF(CoordinateInput[[#This Row],[Northing]]=\"\",1000000,CoordinateInput[[#This Row],[Northing]]-$J$7+$M$7)","v":1000000}]
[null,null,null,null,null,null,{"$f":"IF(CoordinateInput[[#This Row],[Easting]]=\"\",1000000,CoordinateInput[[#This Row],[Easting]]-$K$7+$L$7)","v":1000000},{"$f":"IF(CoordinateInput[[#This Row],[Northing]]=\"\",1000000,CoordinateInput[[#This Row],[Northing]]-$J$7+$M$7)","v":1000000},null,"Steps:"]
[null,null,null,null,null,null,{"$f":"IF(CoordinateInput[[#This Row],[Easting]]=\"\",1000000,CoordinateInput[[#This Row],[Easting]]-$K$7+$L$7)","v":1000000},{"$f":"IF(CoordinateInput[[#This Row],[Northing]]=\"\",1000000,CoordinateInput[[#This Row],[Northing]]-$J$7+$M$7)","v":1000000},null,"1. Enter all pole and tie-off junction locations as points in the Coordinate Input table. \"Item\" and \"Quadrant\" inputs are optional.\n2. In the Span Configuration table, for each span to be designed input the span name, the endpoints of the span, and the grade centerline elevation.\n3. Confirm that the Northing/Easting and span endpoint inputs have been entered correctly by examining the plotted plan view of the span configuration.\n4. Generate the span design tabs and continue to those sheets to complete the design."]
[null,null,null,null,null,null,{"$f":"IF(CoordinateInput[[#This Row],[Easting]]=\"\",1000000,CoordinateInput[[#This Row],[Easting]]-$K$7+$L$7)","v":1000000},{"$f":"IF(CoordinateInput[[#This Row],[Northing]]=\"\",1000000,CoordinateInput[[#This Row],[Northing]]-$J$7+$M$7)","v":1000000}]
[null,null,null,null,null,null,{"$f":"IF(CoordinateInput[[#This Row],[Easting]]=\"\",1000000,CoordinateInput[[#This Row],[Easting]]-$K$7+$L$7)","v":1000000},{"$f":"IF(CoordinateInput[[#This Row],[Northing]]=\"\",1000000,CoordinateInput[[#This Row],[Northing]]-$J$7+$M$7)","v":1000000}]
[null,null,null,null,null,null,{"$f":"IF(CoordinateInput[[#This Row],[Easting]]=\"\",1000000,CoordinateInput[[#This Row],[Easting]]-$K$7+$L$7)","v":1000000},{"$f":"IF(CoordinateInput[[#This Row],[Northing]]=\"\",1000000,CoordinateInput[[#This Row],[Northing]]-$J$7+$M$7)","v":1000000}]
[null,null,null,null,null,null,{"$f":"IF(CoordinateInput[[#This Row],[Easting]]=\"\",1000000,CoordinateInput[[#This Row],[Easting]]-$K$7+$L$7)","v":1000000},{"$f":"IF(CoordinateInput[[#This Row],[Northing]]=\"\",1000000,CoordinateInput[[#This Row],[Northing]]-$J$7+$M$7)","v":1000000}]
[null,null,null,null,null,null,{"$f":"IF(CoordinateInput[[#This Row],[Easting]]=\"\",1000000,CoordinateInput[[#This Row],[Easting]]-$K$7+$L$7)","v":1000000},{"$f":"IF(CoordinateInput[[#This Row],[Northing]]=\"\",1000000,CoordinateInput[[#This Row],[Northing]]-$J$7+$M$7)","v":1000000}]
[null,null,null,null,null,null,{"$f":"IF(CoordinateInput[[#This Row],[Easting]]=\"\",1000000,CoordinateInput[[#This Row],[Easting]]-$K$7+$L$7)","v":1000000},{"$f":"IF(CoordinateInput[[#This Row],[Northing]]=\"\",1000000,CoordinateInput[[#This Row],[Northing]]-$J$7+$M$7)","v":1000000}]
[null,null,null,null,null,null,{"$f":"IF(CoordinateInput[[#This Row],[Easting]]=\"\",1000000,CoordinateInput[[#This Row],[Easting]]-$K$7+$L$7)","v":1000000},{"$f":"IF(CoordinateInput[[#This Row],[Northing]]=\"\",1000000,CoordinateInput[[#This Row],[Northing]]-$J$7+$M$7)","v":1000000}]
[null,null,null,null,null,null,{"$f":"IF(CoordinateInput[[#This Row],[Easting]]=\"\",1000000,CoordinateInput[[#This Row],[Easting]]-$K$7+$L$7)","v":1000000},{"$f":"IF(CoordinateInput[[#This Row],[Northing]]=\"\",1000000,CoordinateInput[[#This Row],[Northing]]-$J$7+$M$7)","v":1000000}]
[null,null,null,null,null,null,{"$f":"IF(CoordinateInput[[#This Row],[Easting]]=\"\",1000000,CoordinateInput[[#This Row],[Easting]]-$K$7+$L$7)","v":1000000},{"$f":"IF(CoordinateInput[[#This Row],[Northing]]=\"\",1000000,CoordinateInput[[#This Row],[Northing]]-$J$7+$M$7)","v":1000000}]
[null,null,null,null,null,null,{"$f":"IF(CoordinateInput[[#This Row],[Easting]]=\"\",1000000,CoordinateInput[[#This Row],[Easting]]-$K$7+$L$7)","v":1000000},{"$f":"IF(CoordinateInput[[#This Row],[Northing]]=\"\",1000000,CoordinateInput[[#This Row],[Northing]]-$J$7+$M$7)","v":1000000},null,"Notes:"]
[null,null,null,null,null,null,{"$f":"IF(CoordinateInput[[#This Row],[Easting]]=\"\",1000000,CoordinateInput[[#This Row],[Easting]]-$K$7+$L$7)","v":1000000},{"$f":"IF(CoordinateInput[[#This Row],[Northing]]=\"\",1000000,CoordinateInput[[#This Row],[Northing]]-$J$7+$M$7)","v":1000000},null,"1. Main span names should be a number. Tie-off span names must be \"TOX-Y\", where X is the ID of the tie-off at that point (may be either 1 or 2) and Y is the tie-off junction point.\n2. For tie-off spans, Point A must always be the tie-off junction point, and Point B is the pole location."]
[null,null,null,null,null,null,{"$f":"IF(CoordinateInput[[#This Row],[Easting]]=\"\",1000000,CoordinateInput[[#This Row],[Easting]]-$K$7+$L$7)","v":1000000},{"$f":"IF(CoordinateInput[[#This Row],[Northing]]=\"\",1000000,CoordinateInput[[#This Row],[Northing]]-$J$7+$M$7)","v":1000000}]
[null,null,null,null,null,null,{"$f":"IF(CoordinateInput[[#This Row],[Easting]]=\"\",1000000,CoordinateInput[[#This Row],[Easting]]-$K$7+$L$7)","v":1000000},{"$f":"IF(CoordinateInput[[#This Row],[Northing]]=\"\",1000000,CoordinateInput[[#This Row],[Northing]]-$J$7+$M$7)","v":1000000}]
[null,null,null,null,null,null,{"$f":"IF(CoordinateInput[[#This Row],[Easting]]=\"\",1000000,CoordinateInput[[#This Row],[Easting]]-$K$7+$L$7)","v":1000000},{"$f":"IF(CoordinateInput[[#This Row],[Northing]]=\"\",1000000,CoordinateInput[[#This Row],[Northing]]-$J$7+$M$7)","v":1000000}]
[null,null,null,null,null,null,{"$f":"IF(CoordinateInput[[#This Row],[Easting]]=\"\",1000000,CoordinateInput[[#This Row],[Easting]]-$K$7+$L$7)","v":1000000},{"$f":"IF(CoordinateInput[[#This Row],[Northing]]=\"\",1000000,CoordinateInput[[#This Row],[Northing]]-$J$7+$M$7)","v":1000000}]
[null,null,null,null,null,null,{"$f":"IF(CoordinateInput[[#This Row],[Easting]]=\"\",1000000,CoordinateInput[[#This Row],[Easting]]-$K$7+$L$7)","v":1000000},{"$f":"IF(CoordinateInput[[#This Row],[Northing]]=\"\",1000000,CoordinateInput[[#This Row],[Northing]]-$J$7+$M$7)","v":1000000}]
[null,null,null,null,null,null,{"$f":"IF(CoordinateInput[[#This Row],[Easting]]=\"\",1000000,CoordinateInput[[#This Row],[Easting]]-$K$7+$L$7)","v":1000000},{"$f":"IF(CoordinateInput[[#This Row],[Northing]]=\"\",1000000,CoordinateInput[[#This Row],[Northing]]-$J$7+$M$7)","v":1000000}]
[null,null,null,null,null,null,{"$f":"IF(CoordinateInput[[#This Row],[Easting]]=\"\",1000000,CoordinateInput[[#This Row],[Easting]]-$K$7+$L$7)","v":1000000},{"$f":"IF(CoordinateInput[[#This Row],[Northing]]=\"\",1000000,CoordinateInput[[#This Row],[Northing]]-$J$7+$M$7)","v":1000000}]
[]
[]
["Span Configuration"]
["Ensure the cells in the Span column below use the \"General\" cell format"]
["Span","Point A","Point B","Main Span A (TO Span only)","Main Span B (TO Span only)","Grade Centerline Elevation (ft)","X Point A (ft)","X Point B (ft)","Y Point A (ft)","Y Point B (ft)","Span Length (ft)","Span Angle w.r.t Point A (deg)","Span Angle w.r.t Point B (deg)","Pole A Base Elevation (ft)","Pole B Base Elevation (ft)"]
[null,null,null,null,null,null,{"$f":"IF(SpanConfig[[#This Row],[Point A]]=\"\",1000000,VLOOKUP(SpanConfig[[#This Row],[Point A]],CoordinateInput[],7,FALSE))","v":1000000},{"$f":"IF(SpanConfig[[#This Row],[Point B]]=\"\",1000000,VLOOKUP(SpanConfig[[#This Row],[Point B]],CoordinateInput[],7,FALSE))","v":1000000},{"$f":"IF(SpanConfig[[#This Row],[Point A]]=\"\",1000000,VLOOKUP(SpanConfig[[#This Row],[Point A]],CoordinateInput[],8,FALSE))","v":1000000},{"$f":"IF(SpanConfig[[#This Row],[Point B]]=\"\",1000000,VLOOKUP(SpanConfig[[#This Row],[Point B]],CoordinateInput[],8,FALSE))","v":1000000},{"$f":"SQRT((SpanConfig[[#This Row],[X Point A (ft)]]-SpanConfig[[#This Row],[X Point B (ft)]])^2+(SpanConfig[[#This Row],[Y Point A (ft)]]-SpanConfig[[#This Row],[Y Point B (ft)]])^2)","v":0},{"$f":"IFERROR(DEGREES(ATAN2((SpanConfig[[#This Row],[X Point B (ft)]]-SpanConfig[[#This Row],[X Point A (ft)]]),(SpanConfig[[#This Row],[Y Point B (ft)]]-SpanConfig[[#This Row],[Y Point A (ft)]]))),\"\")","v":""},{"$f":"IFERROR(DEGREES(ATAN2((SpanConfig[[#This Row],[X Point A (ft)]]-SpanConfig[[#This Row],[X Point B (ft)]]),(SpanConfig[[#This Row],[Y Point A (ft)]]-SpanConfig[[#This Row],[Y Point B (ft)]]))),\"\")","v":""},{"$f":"IF(SpanConfig[[#This Row],[Point A]]=\"\",\"\",VLOOKUP(SpanConfig[[#This Row],[Point A]],CoordinateInput[],6))","v":""},{"$f":"IF(SpanConfig[[#This Row],[Point B]]=\"\",\"\",VLOOKUP(SpanConfig[[#This Row],[Point B]],CoordinateInput[],6))","v":""}]
[null,null,null,null,null,null,{"$f":"IF(SpanConfig[[#This Row],[Point A]]=\"\",1000000,VLOOKUP(SpanConfig[[#This Row],[Point A]],CoordinateInput[],7,FALSE))","v":1000000},{"$f":"IF(SpanConfig[[#This Row],[Point B]]=\"\",1000000,VLOOKUP(SpanConfig[[#This Row],[Point B]],CoordinateInput[],7,FALSE))","v":1000000},{"$f":"IF(SpanConfig[[#This Row],[Point A]]=\"\",1000000,VLOOKUP(SpanConfig[[#This Row],[Point A]],CoordinateInput[],8,FALSE))","v":1000000},{"$f":"IF(SpanConfig[[#This Row],[Point B]]=\"\",1000000,VLOOKUP(SpanConfig[[#This Row],[Point B]],CoordinateInput[],8,FALSE))","v":1000000},{"$f":"SQRT((SpanConfig[[#This Row],[X Point A (ft)]]-SpanConfig[[#This Row],[X Point B (ft)]])^2+(SpanConfig[[#This Row],[Y Point A (ft)]]-SpanConfig[[#This Row],[Y Point B (ft)]])^2)","v":0},{"$f":"IFERROR(DEGREES(ATAN2((SpanConfig[[#This Row],[X Point B (ft)]]-SpanConfig[[#This Row],[X Point A (ft)]]),(SpanConfig[[#This Row],[Y Point B (ft)]]-SpanConfig[[#This Row],[Y Point A (ft)]]))),\"\")","v":""},{"$f":"IFERROR(DEGREES(ATAN2((SpanConfig[[#This Row],[X Point A (ft)]]-SpanConfig[[#This Row],[X Point B (ft)]]),(SpanConfig[[#This Row],[Y Point A (ft)]]-SpanConfig[[#This Row],[Y Point B (ft)]]))),\"\")","v":""},{"$f":"IF(SpanConfig[[#This Row],[Point A]]=\"\",\"\",VLOOKUP(SpanConfig[[#This Row],[Point A]],CoordinateInput[],6))","v":""},{"$f":"IF(SpanConfig[[#This Row],[Point B]]=\"\",\"\",VLOOKUP(SpanConfig[[#This Row],[Point B]],CoordinateInput[],6))","v":""}]
[null,null,null,null,null,null,{"$f":"IF(SpanConfig[[#This Row],[Point A]]=\"\",1000000,VLOOKUP(SpanConfig[[#This Row],[Point A]],CoordinateInput[],7,FALSE))","v":1000000},{"$f":"IF(SpanConfig[[#This Row],[Point B]]=\"\",1000000,VLOOKUP(SpanConfig[[#This Row],[Point B]],CoordinateInput[],7,FALSE))","v":1000000},{"$f":"IF(SpanConfig[[#This Row],[Point A]]=\"\",1000000,VLOOKUP(SpanConfig[[#This Row],[Point A]],CoordinateInput[],8,FALSE))","v":1000000},{"$f":"IF(SpanConfig[[#This Row],[Point B]]=\"\",1000000,VLOOKUP(SpanConfig[[#This Row],[Point B]],CoordinateInput[],8,FALSE))","v":1000000},{"$f":"SQRT((SpanConfig[[#This Row],[X Point A (ft)]]-SpanConfig[[#This Row],[X Point B (ft)]])^2+(SpanConfig[[#This Row],[Y Point A (ft)]]-SpanConfig[[#This Row],[Y Point B (ft)]])^2)","v":0},{"$f":"IFERROR(DEGREES(ATAN2((SpanConfig[[#This Row],[X Point B (ft)]]-SpanConfig[[#This Row],[X Point A (ft)]]),(SpanConfig[[#This Row],[Y Point B (ft)]]-SpanConfig[[#This Row],[Y Point A (ft)]]))),\"\")","v":""},{"$f":"IFERROR(DEGREES(ATAN2((SpanConfig[[#This Row],[X Point A (ft)]]-SpanConfig[[#This Row],[X Point B (ft)]]),(SpanConfig[[#This Row],[Y Point A (ft)]]-SpanConfig[[#This Row],[Y Point B (ft)]]))),\"\")","v":""},{"$f":"IF(SpanConfig[[#This Row],[Point A]]=\"\",\"\",VLOOKUP(SpanConfig[[#This Row],[Point A]],CoordinateInput[],6))","v":""},{"$f":"IF(SpanConfig[[#This Row],[Point B]]=\"\",\"\",VLOOKUP(SpanConfig[[#This Row],[Point B]],CoordinateInput[],6))","v":""}]
[null,null,null,null,null,null,{"$f":"IF(SpanConfig[[#This Row],[Point A]]=\"\",1000000,VLOOKUP(SpanConfig[[#This Row],[Point A]],CoordinateInput[],7,FALSE))","v":1000000},{"$f":"IF(SpanConfig[[#This Row],[Point B]]=\"\",1000000,VLOOKUP(SpanConfig[[#This Row],[Point B]],CoordinateInput[],7,FALSE))","v":1000000},{"$f":"IF(SpanConfig[[#This Row],[Point A]]=\"\",1000000,VLOOKUP(SpanConfig[[#This Row],[Point A]],CoordinateInput[],8,FALSE))","v":1000000},{"$f":"IF(SpanConfig[[#This Row],[Point B]]=\"\",1000000,VLOOKUP(SpanConfig[[#This Row],[Point B]],CoordinateInput[],8,FALSE))","v":1000000},{"$f":"SQRT((SpanConfig[[#This Row],[X Point A (ft)]]-SpanConfig[[#This Row],[X Point B (ft)]])^2+(SpanConfig[[#This Row],[Y Point A (ft)]]-SpanConfig[[#This Row],[Y Point B (ft)]])^2)","v":0},{"$f":"IFERROR(DEGREES(ATAN2((SpanConfig[[#This Row],[X Point B (ft)]]-SpanConfig[[#This Row],[X Point A (ft)]]),(SpanConfig[[#This Row],[Y Point B (ft)]]-SpanConfig[[#This Row],[Y Point A (ft)]]))),\"\")","v":""},{"$f":"IFERROR(DEGREES(ATAN2((SpanConfig[[#This Row],[X Point A (ft)]]-SpanConfig[[#This Row],[X Point B (ft)]]),(SpanConfig[[#This Row],[Y Point A (ft)]]-SpanConfig[[#This Row],[Y Point B (ft)]]))),\"\")","v":""},{"$f":"IF(SpanConfig[[#This Row],[Point A]]=\"\",\"\",VLOOKUP(SpanConfig[[#This Row],[Point A]],CoordinateInput[],6))","v":""},{"$f":"IF(SpanConfig[[#This Row],[Point B]]=\"\",\"\",VLOOKUP(SpanConfig[[#This Row],[Point B]],CoordinateInput[],6))","v":""}]
[null,null,null,null,null,null,{"$f":"IF(SpanConfig[[#This Row],[Point A]]=\"\",1000000,VLOOKUP(SpanConfig[[#This Row],[Point A]],CoordinateInput[],7,FALSE))","v":1000000},{"$f":"IF(SpanConfig[[#This Row],[Point B]]=\"\",1000000,VLOOKUP(SpanConfig[[#This Row],[Point B]],CoordinateInput[],7,FALSE))","v":1000000},{"$f":"IF(SpanConfig[[#This Row],[Point A]]=\"\",1000000,VLOOKUP(SpanConfig[[#This Row],[Point A]],CoordinateInput[],8,FALSE))","v":1000000},{"$f":"IF(SpanConfig[[#This Row],[Point B]]=\"\",1000000,VLOOKUP(SpanConfig[[#This Row],[Point B]],CoordinateInput[],8,FALSE))","v":1000000},{"$f":"SQRT((SpanConfig[[#This Row],[X Point A (ft)]]-SpanConfig[[#This Row],[X Point B (ft)]])^2+(SpanConfig[[#This Row],[Y Point A (ft)]]-SpanConfig[[#This Row],[Y Point B (ft)]])^2)","v":0},{"$f":"IFERROR(DEGREES(ATAN2((SpanConfig[[#This Row],[X Point B (ft)]]-SpanConfig[[#This Row],[X Point A (ft)]]),(SpanConfig[[#This Row],[Y Point B (ft)]]-SpanConfig[[#This Row],[Y Point A (ft)]]))),\"\")","v":""},{"$f":"IFERROR(DEGREES(ATAN2((SpanConfig[[#This Row],[X Point A (ft)]]-SpanConfig[[#This Row],[X Point B (ft)]]),(SpanConfig[[#This Row],[Y Point A (ft)]]-SpanConfig[[#This Row],[Y Point B (ft)]]))),\"\")","v":""},{"$f":"IF(SpanConfig[[#This Row],[Point A]]=\"\",\"\",VLOOKUP(SpanConfig[[#This Row],[Point A]],CoordinateInput[],6))","v":""},{"$f":"IF(SpanConfig[[#This Row],[Point B]]=\"\",\"\",VLOOKUP(SpanConfig[[#This Row],[Point B]],CoordinateInput[],6))","v":""}]
[null,null,null,null,null,null,{"$f":"IF(SpanConfig[[#This Row],[Point A]]=\"\",1000000,VLOOKUP(SpanConfig[[#This Row],[Point A]],CoordinateInput[],7,FALSE))","v":1000000},{"$f":"IF(SpanConfig[[#This Row],[Point B]]=\"\",1000000,VLOOKUP(SpanConfig[[#This Row],[Point B]],CoordinateInput[],7,FALSE))","v":1000000},{"$f":"IF(SpanConfig[[#This Row],[Point A]]=\"\",1000000,VLOOKUP(SpanConfig[[#This Row],[Point A]],CoordinateInput[],8,FALSE))","v":1000000},{"$f":"IF(SpanConfig[[#This Row],[Point B]]=\"\",1000000,VLOOKUP(SpanConfig[[#This Row],[Point B]],CoordinateInput[],8,FALSE))","v":1000000},{"$f":"SQRT((SpanConfig[[#This Row],[X Point A (ft)]]-SpanConfig[[#This Row],[X Point B (ft)]])^2+(SpanConfig[[#This Row],[Y Point A (ft)]]-SpanConfig[[#This Row],[Y Point B (ft)]])^2)","v":0},{"$f":"IFERROR(DEGREES(ATAN2((SpanConfig[[#This Row],[X Point B (ft)]]-SpanConfig[[#This Row],[X Point A (ft)]]),(SpanConfig[[#This Row],[Y Point B (ft)]]-SpanConfig[[#This Row],[Y Point A (ft)]]))),\"\")","v":""},{"$f":"IFERROR(DEGREES(ATAN2((SpanConfig[[#This Row],[X Point A (ft)]]-SpanConfig[[#This Row],[X Point B (ft)]]),(SpanConfig[[#This Row],[Y Point A (ft)]]-SpanConfig[[#This Row],[Y Point B (ft)]]))),\"\")","v":""},{"$f":"IF(SpanConfig[[#This Row],[Point A]]=\"\",\"\",VLOOKUP(SpanConfig[[#This Row],[Point A]],CoordinateInput[],6))","v":""},{"$f":"IF(SpanConfig[[#This Row],[Point B]]=\"\",\"\",VLOOKUP(SpanConfig[[#This Row],[Point B]],CoordinateInput[],6))","v":""}]
[null,null,null,null,null,null,{"$f":"IF(SpanConfig[[#This Row],[Point A]]=\"\",1000000,VLOOKUP(SpanConfig[[#This Row],[Point A]],CoordinateInput[],7,FALSE))","v":1000000},{"$f":"IF(SpanConfig[[#This Row],[Point B]]=\"\",1000000,VLOOKUP(SpanConfig[[#This Row],[Point B]],CoordinateInput[],7,FALSE))","v":1000000},{"$f":"IF(SpanConfig[[#This Row],[Point A]]=\"\",1000000,VLOOKUP(SpanConfig[[#This Row],[Point A]],CoordinateInput[],8,FALSE))","v":1000000},{"$f":"IF(SpanConfig[[#This Row],[Point B]]=\"\",1000000,VLOOKUP(SpanConfig[[#This Row],[Point B]],CoordinateInput[],8,FALSE))","v":1000000},{"$f":"SQRT((SpanConfig[[#This Row],[X Point A (ft)]]-SpanConfig[[#This Row],[X Point B (ft)]])^2+(SpanConfig[[#This Row],[Y Point A (ft)]]-SpanConfig[[#This Row],[Y Point B (ft)]])^2)","v":0},{"$f":"IFERROR(DEGREES(ATAN2((SpanConfig[[#This Row],[X Point B (ft)]]-SpanConfig[[#This Row],[X Point A (ft)]]),(SpanConfig[[#This Row],[Y Point B (ft)]]-SpanConfig[[#This Row],[Y Point A (ft)]]))),\"\")","v":""},{"$f":"IFERROR(DEGREES(ATAN2((SpanConfig[[#This Row],[X Point A (ft)]]-SpanConfig[[#This Row],[X Point B (ft)]]),(SpanConfig[[#This Row],[Y Point A (ft)]]-SpanConfig[[#This Row],[Y Point B (ft)]]))),\"\")","v":""},{"$f":"IF(SpanConfig[[#This Row],[Point A]]=\"\",\"\",VLOOKUP(SpanConfig[[#This Row],[Point A]],CoordinateInput[],6))","v":""},{"$f":"IF(SpanConfig[[#This Row],[Point B]]=\"\",\"\",VLOOKUP(SpanConfig[[#This Row],[Point B]],CoordinateInput[],6))","v":""}]
[null,null,null,null,null,null,{"$f":"IF(SpanConfig[[#This Row],[Point A]]=\"\",1000000,VLOOKUP(SpanConfig[[#This Row],[Point A]],CoordinateInput[],7,FALSE))","v":1000000},{"$f":"IF(SpanConfig[[#This Row],[Point B]]=\"\",1000000,VLOOKUP(SpanConfig[[#This Row],[Point B]],CoordinateInput[],7,FALSE))","v":1000000},{"$f":"IF(SpanConfig[[#This Row],[Point A]]=\"\",1000000,VLOOKUP(SpanConfig[[#This Row],[Point A]],CoordinateInput[],8,FALSE))","v":1000000},{"$f":"IF(SpanConfig[[#This Row],[Point B]]=\"\",1000000,VLOOKUP(SpanConfig[[#This Row],[Point B]],CoordinateInput[],8,FALSE))","v":1000000},{"$f":"SQRT((SpanConfig[[#This Row],[X Point A (ft)]]-SpanConfig[[#This Row],[X Point B (ft)]])^2+(SpanConfig[[#This Row],[Y Point A (ft)]]-SpanConfig[[#This Row],[Y Point B (ft)]])^2)","v":0},{"$f":"IFERROR(DEGREES(ATAN2((SpanConfig[[#This Row],[X Point B (ft)]]-SpanConfig[[#This Row],[X Point A (ft)]]),(SpanConfig[[#This Row],[Y Point B (ft)]]-SpanConfig[[#This Row],[Y Point A (ft)]]))),\"\")","v":""},{"$f":"IFERROR(DEGREES(ATAN2((SpanConfig[[#This Row],[X Point A (ft)]]-SpanConfig[[#This Row],[X Point B (ft)]]),(SpanConfig[[#This Row],[Y Point A (ft)]]-SpanConfig[[#This Row],[Y Point B (ft)]]))),\"\")","v":""},{"$f":"IF(SpanConfig[[#This Row],[Point A]]=\"\",\"\",VLOOKUP(SpanConfig[[#This Row],[Point A]],CoordinateInput[],6))","v":""},{"$f":"IF(SpanConfig[[#This Row],[Point B]]=\"\",\"\",VLOOKUP(SpanConfig[[#This Row],[Point B]],CoordinateInput[],6))","v":""}]
[null,null,null,null,null,null,{"$f":"IF(SpanConfig[[#This Row],[Point A]]=\"\",1000000,VLOOKUP(SpanConfig[[#This Row],[Point A]],CoordinateInput[],7,FALSE))","v":1000000},{"$f":"IF(SpanConfig[[#This Row],[Point B]]=\"\",1000000,VLOOKUP(SpanConfig[[#This Row],[Point B]],CoordinateInput[],7,FALSE))","v":1000000},{"$f":"IF(SpanConfig[[#This Row],[Point A]]=\"\",1000000,VLOOKUP(SpanConfig[[#This Row],[Point A]],CoordinateInput[],8,FALSE))","v":1000000},{"$f":"IF(SpanConfig[[#This Row],[Point B]]=\"\",1000000,VLOOKUP(SpanConfig[[#This Row],[Point B]],CoordinateInput[],8,FALSE))","v":1000000},{"$f":"SQRT((SpanConfig[[#This Row],[X Point A (ft)]]-SpanConfig[[#This Row],[X Point B (ft)]])^2+(SpanConfig[[#This Row],[Y Point A (ft)]]-SpanConfig[[#This Row],[Y Point B (ft)]])^2)","v":0},{"$f":"IFERROR(DEGREES(ATAN2((SpanConfig[[#This Row],[X Point B (ft)]]-SpanConfig[[#This Row],[X Point A (ft)]]),(SpanConfig[[#This Row],[Y Point B (ft)]]-SpanConfig[[#This Row],[Y Point A (ft)]]))),\"\")","v":""},{"$f":"IFERROR(DEGREES(ATAN2((SpanConfig[[#This Row],[X Point A (ft)]]-SpanConfig[[#This Row],[X Point B (ft)]]),(SpanConfig[[#This Row],[Y Point A (ft)]]-SpanConfig[[#This Row],[Y Point B (ft)]]))),\"\")","v":""},{"$f":"IF(SpanConfig[[#This Row],[Point A]]=\"\",\"\",VLOOKUP(SpanConfig[[#This Row],[Point A]],CoordinateInput[],6))","v":""},{"$f":"IF(SpanConfig[[#This Row],[Point B]]=\"\",\"\",VLOOKUP(SpanConfig[[#This Row],[Point B]],CoordinateInput[],6))","v":""}]
[null,null,null,null,null,null,{"$f":"IF(SpanConfig[[#This Row],[Point A]]=\"\",1000000,VLOOKUP(SpanConfig[[#This Row],[Point A]],CoordinateInput[],7,FALSE))","v":1000000},{"$f":"IF(SpanConfig[[#This Row],[Point B]]=\"\",1000000,VLOOKUP(SpanConfig[[#This Row],[Point B]],CoordinateInput[],7,FALSE))","v":1000000},{"$f":"IF(SpanConfig[[#This Row],[Point A]]=\"\",1000000,VLOOKUP(SpanConfig[[#This Row],[Point A]],CoordinateInput[],8,FALSE))","v":1000000},{"$f":"IF(SpanConfig[[#This Row],[Point B]]=\"\",1000000,VLOOKUP(SpanConfig[[#This Row],[Point B]],CoordinateInput[],8,FALSE))","v":1000000},{"$f":"SQRT((SpanConfig[[#This Row],[X Point A (ft)]]-SpanConfig[[#This Row],[X Point B (ft)]])^2+(SpanConfig[[#This Row],[Y Point A (ft)]]-SpanConfig[[#This Row],[Y Point B (ft)]])^2)","v":0},{"$f":"IFERROR(DEGREES(ATAN2((SpanConfig[[#This Row],[X Point B (ft)]]-SpanConfig[[#This Row],[X Point A (ft)]]),(SpanConfig[[#This Row],[Y Point B (ft)]]-SpanConfig[[#This Row],[Y Point A (ft)]]))),\"\")","v":""},{"$f":"IFERROR(DEGREES(ATAN2((SpanConfig[[#This Row],[X Point A (ft)]]-SpanConfig[[#This Row],[X Point B (ft)]]),(SpanConfig[[#This Row],[Y Point A (ft)]]-SpanConfig[[#This Row],[Y Point B (ft)]]))),\"\")","v":""},{"$f":"IF(SpanConfig[[#This Row],[Point A]]=\"\",\"\",VLOOKUP(SpanConfig[[#This Row],[Point A]],CoordinateInput[],6))","v":""},{"$f":"IF(SpanConfig[[#This Row],[Point B]]=\"\",\"\",VLOOKUP(SpanConfig[[#This Row],[Point B]],CoordinateInput[],6))","v":""}]
[null,null,null,null,null,null,{"$f":"IF(SpanConfig[[#This Row],[Point A]]=\"\",1000000,VLOOKUP(SpanConfig[[#This Row],[Point A]],CoordinateInput[],7,FALSE))","v":1000000},{"$f":"IF(SpanConfig[[#This Row],[Point B]]=\"\",1000000,VLOOKUP(SpanConfig[[#This Row],[Point B]],CoordinateInput[],7,FALSE))","v":1000000},{"$f":"IF(SpanConfig[[#This Row],[Point A]]=\"\",1000000,VLOOKUP(SpanConfig[[#This Row],[Point A]],CoordinateInput[],8,FALSE))","v":1000000},{"$f":"IF(SpanConfig[[#This Row],[Point B]]=\"\",1000000,VLOOKUP(SpanConfig[[#This Row],[Point B]],CoordinateInput[],8,FALSE))","v":1000000},{"$f":"SQRT((SpanConfig[[#This Row],[X Point A (ft)]]-SpanConfig[[#This Row],[X Point B (ft)]])^2+(SpanConfig[[#This Row],[Y Point A (ft)]]-SpanConfig[[#This Row],[Y Point B (ft)]])^2)","v":0},{"$f":"IFERROR(DEGREES(ATAN2((SpanConfig[[#This Row],[X Point B (ft)]]-SpanConfig[[#This Row],[X Point A (ft)]]),(SpanConfig[[#This Row],[Y Point B (ft)]]-SpanConfig[[#This Row],[Y Point A (ft)]]))),\"\")","v":""},{"$f":"IFERROR(DEGREES(ATAN2((SpanConfig[[#This Row],[X Point A (ft)]]-SpanConfig[[#This Row],[X Point B (ft)]]),(SpanConfig[[#This Row],[Y Point A (ft)]]-SpanConfig[[#This Row],[Y Point B (ft)]]))),\"\")","v":""},{"$f":"IF(SpanConfig[[#This Row],[Point A]]=\"\",\"\",VLOOKUP(SpanConfig[[#This Row],[Point A]],CoordinateInput[],6))","v":""},{"$f":"IF(SpanConfig[[#This Row],[Point B]]=\"\",\"\",VLOOKUP(SpanConfig[[#This Row],[Point B]],CoordinateInput[],6))","v":""}]
[null,null,null,null,null,null,{"$f":"IF(SpanConfig[[#This Row],[Point A]]=\"\",1000000,VLOOKUP(SpanConfig[[#This Row],[Point A]],CoordinateInput[],7,FALSE))","v":1000000},{"$f":"IF(SpanConfig[[#This Row],[Point B]]=\"\",1000000,VLOOKUP(SpanConfig[[#This Row],[Point B]],CoordinateInput[],7,FALSE))","v":1000000},{"$f":"IF(SpanConfig[[#This Row],[Point A]]=\"\",1000000,VLOOKUP(SpanConfig[[#This Row],[Point A]],CoordinateInput[],8,FALSE))","v":1000000},{"$f":"IF(SpanConfig[[#This Row],[Point B]]=\"\",1000000,VLOOKUP(SpanConfig[[#This Row],[Point B]],CoordinateInput[],8,FALSE))","v":1000000},{"$f":"SQRT((SpanConfig[[#This Row],[X Point A (ft)]]-SpanConfig[[#This Row],[X Point B (ft)]])^2+(SpanConfig[[#This Row],[Y Point A (ft)]]-SpanConfig[[#This Row],[Y Point B (ft)]])^2)","v":0},{"$f":"IFERROR(DEGREES(ATAN2((SpanConfig[[#This Row],[X Point B (ft)]]-SpanConfig[[#This Row],[X Point A (ft)]]),(SpanConfig[[#This Row],[Y Point B (ft)]]-SpanConfig[[#This Row],[Y Point A (ft)]]))),\"\")","v":""},{"$f":"IFERROR(DEGREES(ATAN2((SpanConfig[[#This Row],[X Point A (ft)]]-SpanConfig[[#This Row],[X Point B (ft)]]),(SpanConfig[[#This Row],[Y Point A (ft)]]-SpanConfig[[#This Row],[Y Point B (ft)]]))),\"\")","v":""},{"$f":"IF(SpanConfig[[#This Row],[Point A]]=\"\",\"\",VLOOKUP(SpanConfig[[#This Row],[Point A]],CoordinateInput[],6))","v":""},{"$f":"IF(SpanConfig[[#This Row],[Point B]]=\"\",\"\",VLOOKUP(SpanConfig[[#This Row],[Point B]],CoordinateInput[],6))","v":""}]
[null,null,null,null,null,null,{"$f":"IF(SpanConfig[[#This Row],[Point A]]=\"\",1000000,VLOOKUP(SpanConfig[[#This Row],[Point A]],CoordinateInput[],7,FALSE))","v":1000000},{"$f":"IF(SpanConfig[[#This Row],[Point B]]=\"\",1000000,VLOOKUP(SpanConfig[[#This Row],[Point B]],CoordinateInput[],7,FALSE))","v":1000000},{"$f":"IF(SpanConfig[[#This Row],[Point A]]=\"\",1000000,VLOOKUP(SpanConfig[[#This Row],[Point A]],CoordinateInput[],8,FALSE))","v":1000000},{"$f":"IF(SpanConfig[[#This Row],[Point B]]=\"\",1000000,VLOOKUP(SpanConfig[[#This Row],[Point B]],CoordinateInput[],8,FALSE))","v":1000000},{"$f":"SQRT((SpanConfig[[#This Row],[X Point A (ft)]]-SpanConfig[[#This Row],[X Point B (ft)]])^2+(SpanConfig[[#This Row],[Y Point A (ft)]]-SpanConfig[[#This Row],[Y Point B (ft)]])^2)","v":0},{"$f":"IFERROR(DEGREES(ATAN2((SpanConfig[[#This Row],[X Point B (ft)]]-SpanConfig[[#This Row],[X Point A (ft)]]),(SpanConfig[[#This Row],[Y Point B (ft)]]-SpanConfig[[#This Row],[Y Point A (ft)]]))),\"\")","v":""},{"$f":"IFERROR(DEGREES(ATAN2((SpanConfig[[#This Row],[X Point A (ft)]]-SpanConfig[[#This Row],[X Point B (ft)]]),(SpanConfig[[#This Row],[Y Point A (ft)]]-SpanConfig[[#This Row],[Y Point B (ft)]]))),\"\")","v":""},{"$f":"IF(SpanConfig[[#This Row],[Point A]]=\"\",\"\",VLOOKUP(SpanConfig[[#This Row],[Point A]],CoordinateInput[],6))","v":""},{"$f":"IF(SpanConfig[[#This Row],[Point B]]=\"\",\"\",VLOOKUP(SpanConfig[[#This Row],[Point B]],CoordinateInput[],6))","v":""}]
[null,null,null,null,null,null,{"$f":"IF(SpanConfig[[#This Row],[Point A]]=\"\",1000000,VLOOKUP(SpanConfig[[#This Row],[Point A]],CoordinateInput[],7,FALSE))","v":1000000},{"$f":"IF(SpanConfig[[#This Row],[Point B]]=\"\",1000000,VLOOKUP(SpanConfig[[#This Row],[Point B]],CoordinateInput[],7,FALSE))","v":1000000},{"$f":"IF(SpanConfig[[#This Row],[Point A]]=\"\",1000000,VLOOKUP(SpanConfig[[#This Row],[Point A]],CoordinateInput[],8,FALSE))","v":1000000},{"$f":"IF(SpanConfig[[#This Row],[Point B]]=\"\",1000000,VLOOKUP(SpanConfig[[#This Row],[Point B]],CoordinateInput[],8,FALSE))","v":1000000},{"$f":"SQRT((SpanConfig[[#This Row],[X Point A (ft)]]-SpanConfig[[#This Row],[X Point B (ft)]])^2+(SpanConfig[[#This Row],[Y Point A (ft)]]-SpanConfig[[#This Row],[Y Point B (ft)]])^2)","v":0},{"$f":"IFERROR(DEGREES(ATAN2((SpanConfig[[#This Row],[X Point B (ft)]]-SpanConfig[[#This Row],[X Point A (ft)]]),(SpanConfig[[#This Row],[Y Point B (ft)]]-SpanConfig[[#This Row],[Y Point A (ft)]]))),\"\")","v":""},{"$f":"IFERROR(DEGREES(ATAN2((SpanConfig[[#This Row],[X Point A (ft)]]-SpanConfig[[#This Row],[X Point B (ft)]]),(SpanConfig[[#This Row],[Y Point A (ft)]]-SpanConfig[[#This Row],[Y Point B (ft)]]))),\"\")","v":""},{"$f":"IF(SpanConfig[[#This Row],[Point A]]=\"\",\"\",VLOOKUP(SpanConfig[[#This Row],[Point A]],CoordinateInput[],6))","v":""},{"$f":"IF(SpanConfig[[#This Row],[Point B]]=\"\",\"\",VLOOKUP(SpanConfig[[#This Row],[Point B]],CoordinateInput[],6))","v":""}]
[null,null,null,null,null,null,{"$f":"IF(SpanConfig[[#This Row],[Point A]]=\"\",1000000,VLOOKUP(SpanConfig[[#This Row],[Point A]],CoordinateInput[],7,FALSE))","v":1000000},{"$f":"IF(SpanConfig[[#This Row],[Point B]]=\"\",1000000,VLOOKUP(SpanConfig[[#This Row],[Point B]],CoordinateInput[],7,FALSE))","v":1000000},{"$f":"IF(SpanConfig[[#This Row],[Point A]]=\"\",1000000,VLOOKUP(SpanConfig[[#This Row],[Point A]],CoordinateInput[],8,FALSE))","v":1000000},{"$f":"IF(SpanConfig[[#This Row],[Point B]]=\"\",1000000,VLOOKUP(SpanConfig[[#This Row],[Point B]],CoordinateInput[],8,FALSE))","v":1000000},{"$f":"SQRT((SpanConfig[[#This Row],[X Point A (ft)]]-SpanConfig[[#This Row],[X Point B (ft)]])^2+(SpanConfig[[#This Row],[Y Point A (ft)]]-SpanConfig[[#This Row],[Y Point B (ft)]])^2)","v":0},{"$f":"IFERROR(DEGREES(ATAN2((SpanConfig[[#This Row],[X Point B (ft)]]-SpanConfig[[#This Row],[X Point A (ft)]]),(SpanConfig[[#This Row],[Y Point B (ft)]]-SpanConfig[[#This Row],[Y Point A (ft)]]))),\"\")","v":""},{"$f":"IFERROR(DEGREES(ATAN2((SpanConfig[[#This Row],[X Point A (ft)]]-SpanConfig[[#This Row],[X Point B (ft)]]),(SpanConfig[[#This Row],[Y Point A (ft)]]-SpanConfig[[#This Row],[Y Point B (ft)]]))),\"\")","v":""},{"$f":"IF(SpanConfig[[#This Row],[Point A]]=\"\",\"\",VLOOKUP(SpanConfig[[#This Row],[Point A]],CoordinateInput[],6))","v":""},{"$f":"IF(SpanConfig[[#This Row],[Point B]]=\"\",\"\",VLOOKUP(SpanConfig[[#This Row],[Point B]],CoordinateInput[],6))","v":""}]
[null,null,null,null,null,null,{"$f":"IF(SpanConfig[[#This Row],[Point A]]=\"\",1000000,VLOOKUP(SpanConfig[[#This Row],[Point A]],CoordinateInput[],7,FALSE))","v":1000000},{"$f":"IF(SpanConfig[[#This Row],[Point B]]=\"\",1000000,VLOOKUP(SpanConfig[[#This Row],[Point B]],CoordinateInput[],7,FALSE))","v":1000000},{"$f":"IF(SpanConfig[[#This Row],[Point A]]=\"\",1000000,VLOOKUP(SpanConfig[[#This Row],[Point A]],CoordinateInput[],8,FALSE))","v":1000000},{"$f":"IF(SpanConfig[[#This Row],[Point B]]=\"\",1000000,VLOOKUP(SpanConfig[[#This Row],[Point B]],CoordinateInput[],8,FALSE))","v":1000000},{"$f":"SQRT((SpanConfig[[#This Row],[X Point A (ft)]]-SpanConfig[[#This Row],[X Point B (ft)]])^2+(SpanConfig[[#This Row],[Y Point A (ft)]]-SpanConfig[[#This Row],[Y Point B (ft)]])^2)","v":0},{"$f":"IFERROR(DEGREES(ATAN2((SpanConfig[[#This Row],[X Point B (ft)]]-SpanConfig[[#This Row],[X Point A (ft)]]),(SpanConfig[[#This Row],[Y Point B (ft)]]-SpanConfig[[#This Row],[Y Point A (ft)]]))),\"\")","v":""},{"$f":"IFERROR(DEGREES(ATAN2((SpanConfig[[#This Row],[X Point A (ft)]]-SpanConfig[[#This Row],[X Point B (ft)]]),(SpanConfig[[#This Row],[Y Point A (ft)]]-SpanConfig[[#This Row],[Y Point B (ft)]]))),\"\")","v":""},{"$f":"IF(SpanConfig[[#This Row],[Point A]]=\"\",\"\",VLOOKUP(SpanConfig[[#This Row],[Point A]],CoordinateInput[],6))","v":""},{"$f":"IF(SpanConfig[[#This Row],[Point B]]=\"\",\"\",VLOOKUP(SpanConfig[[#This Row],[Point B]],CoordinateInput[],6))","v":""}]
[null,null,null,null,null,null,{"$f":"IF(SpanConfig[[#This Row],[Point A]]=\"\",1000000,VLOOKUP(SpanConfig[[#This Row],[Point A]],CoordinateInput[],7,FALSE))","v":1000000},{"$f":"IF(SpanConfig[[#This Row],[Point B]]=\"\",1000000,VLOOKUP(SpanConfig[[#This Row],[Point B]],CoordinateInput[],7,FALSE))","v":1000000},{"$f":"IF(SpanConfig[[#This Row],[Point A]]=\"\",1000000,VLOOKUP(SpanConfig[[#This Row],[Point A]],CoordinateInput[],8,FALSE))","v":1000000},{"$f":"IF(SpanConfig[[#This Row],[Point B]]=\"\",1000000,VLOOKUP(SpanConfig[[#This Row],[Point B]],CoordinateInput[],8,FALSE))","v":1000000},{"$f":"SQRT((SpanConfig[[#This Row],[X Point A (ft)]]-SpanConfig[[#This Row],[X Point B (ft)]])^2+(SpanConfig[[#This Row],[Y Point A (ft)]]-SpanConfig[[#This Row],[Y Point B (ft)]])^2)","v":0},{"$f":"IFERROR(DEGREES(ATAN2((SpanConfig[[#This Row],[X Point B (ft)]]-SpanConfig[[#This Row],[X Point A (ft)]]),(SpanConfig[[#This Row],[Y Point B (ft)]]-SpanConfig[[#This Row],[Y Point A (ft)]]))),\"\")","v":""},{"$f":"IFERROR(DEGREES(ATAN2((SpanConfig[[#This Row],[X Point A (ft)]]-SpanConfig[[#This Row],[X Point B (ft)]]),(SpanConfig[[#This Row],[Y Point A (ft)]]-SpanConfig[[#This Row],[Y Point B (ft)]]))),\"\")","v":""},{"$f":"IF(SpanConfig[[#This Row],[Point A]]=\"\",\"\",VLOOKUP(SpanConfig[[#This Row],[Point A]],CoordinateInput[],6))","v":""},{"$f":"IF(SpanConfig[[#This Row],[Point B]]=\"\",\"\",VLOOKUP(SpanConfig[[#This Row],[Point B]],CoordinateInput[],6))","v":""}]
[null,null,null,null,null,null,{"$f":"IF(SpanConfig[[#This Row],[Point A]]=\"\",1000000,VLOOKUP(SpanConfig[[#This Row],[Point A]],CoordinateInput[],7,FALSE))","v":1000000},{"$f":"IF(SpanConfig[[#This Row],[Point B]]=\"\",1000000,VLOOKUP(SpanConfig[[#This Row],[Point B]],CoordinateInput[],7,FALSE))","v":1000000},{"$f":"IF(SpanConfig[[#This Row],[Point A]]=\"\",1000000,VLOOKUP(SpanConfig[[#This Row],[Point A]],CoordinateInput[],8,FALSE))","v":1000000},{"$f":"IF(SpanConfig[[#This Row],[Point B]]=\"\",1000000,VLOOKUP(SpanConfig[[#This Row],[Point B]],CoordinateInput[],8,FALSE))","v":1000000},{"$f":"SQRT((SpanConfig[[#This Row],[X Point A (ft)]]-SpanConfig[[#This Row],[X Point B (ft)]])^2+(SpanConfig[[#This Row],[Y Point A (ft)]]-SpanConfig[[#This Row],[Y Point B (ft)]])^2)","v":0},{"$f":"IFERROR(DEGREES(ATAN2((SpanConfig[[#This Row],[X Point B (ft)]]-SpanConfig[[#This Row],[X Point A (ft)]]),(SpanConfig[[#This Row],[Y Point B (ft)]]-SpanConfig[[#This Row],[Y Point A (ft)]]))),\"\")","v":""},{"$f":"IFERROR(DEGREES(ATAN2((SpanConfig[[#This Row],[X Point A (ft)]]-SpanConfig[[#This Row],[X Point B (ft)]]),(SpanConfig[[#This Row],[Y Point A (ft)]]-SpanConfig[[#This Row],[Y Point B (ft)]]))),\"\")","v":""},{"$f":"IF(SpanConfig[[#This Row],[Point A]]=\"\",\"\",VLOOKUP(SpanConfig[[#This Row],[Point A]],CoordinateInput[],6))","v":""},{"$f":"IF(SpanConfig[[#This Row],[Point B]]=\"\",\"\",VLOOKUP(SpanConfig[[#This Row],[Point B]],CoordinateInput[],6))","v":""}]
[null,null,null,null,null,null,{"$f":"IF(SpanConfig[[#This Row],[Point A]]=\"\",1000000,VLOOKUP(SpanConfig[[#This Row],[Point A]],CoordinateInput[],7,FALSE))","v":1000000},{"$f":"IF(SpanConfig[[#This Row],[Point B]]=\"\",1000000,VLOOKUP(SpanConfig[[#This Row],[Point B]],CoordinateInput[],7,FALSE))","v":1000000},{"$f":"IF(SpanConfig[[#This Row],[Point A]]=\"\",1000000,VLOOKUP(SpanConfig[[#This Row],[Point A]],CoordinateInput[],8,FALSE))","v":1000000},{"$f":"IF(SpanConfig[[#This Row],[Point B]]=\"\",1000000,VLOOKUP(SpanConfig[[#This Row],[Point B]],CoordinateInput[],8,FALSE))","v":1000000},{"$f":"SQRT((SpanConfig[[#This Row],[X Point A (ft)]]-SpanConfig[[#This Row],[X Point B (ft)]])^2+(SpanConfig[[#This Row],[Y Point A (ft)]]-SpanConfig[[#This Row],[Y Point B (ft)]])^2)","v":0},{"$f":"IFERROR(DEGREES(ATAN2((SpanConfig[[#This Row],[X Point B (ft)]]-SpanConfig[[#This Row],[X Point A (ft)]]),(SpanConfig[[#This Row],[Y Point B (ft)]]-SpanConfig[[#This Row],[Y Point A (ft)]]))),\"\")","v":""},{"$f":"IFERROR(DEGREES(ATAN2((SpanConfig[[#This Row],[X Point A (ft)]]-SpanConfig[[#This Row],[X Point B (ft)]]),(SpanConfig[[#This Row],[Y Point A (ft)]]-SpanConfig[[#This Row],[Y Point B (ft)]]))),\"\")","v":""},{"$f":"IF(SpanConfig[[#This Row],[Point A]]=\"\",\"\",VLOOKUP(SpanConfig[[#This Row],[Point A]],CoordinateInput[],6))","v":""},{"$f":"IF(SpanConfig[[#This Row],[Point B]]=\"\",\"\",VLOOKUP(SpanConfig[[#This Row],[Point B]],CoordinateInput[],6))","v":""}]
[null,null,null,null,null,null,{"$f":"IF(SpanConfig[[#This Row],[Point A]]=\"\",1000000,VLOOKUP(SpanConfig[[#This Row],[Point A]],CoordinateInput[],7,FALSE))","v":1000000},{"$f":"IF(SpanConfig[[#This Row],[Point B]]=\"\",1000000,VLOOKUP(SpanConfig[[#This Row],[Point B]],CoordinateInput[],7,FALSE))","v":1000000},{"$f":"IF(SpanConfig[[#This Row],[Point A]]=\"\",1000000,VLOOKUP(SpanConfig[[#This Row],[Point A]],CoordinateInput[],8,FALSE))","v":1000000},{"$f":"IF(SpanConfig[[#This Row],[Point B]]=\"\",1000000,VLOOKUP(SpanConfig[[#This Row],[Point B]],CoordinateInput[],8,FALSE))","v":1000000},{"$f":"SQRT((SpanConfig[[#This Row],[X Point A (ft)]]-SpanConfig[[#This Row],[X Point B (ft)]])^2+(SpanConfig[[#This Row],[Y Point A (ft)]]-SpanConfig[[#This Row],[Y Point B (ft)]])^2)","v":0},{"$f":"IFERROR(DEGREES(ATAN2((SpanConfig[[#This Row],[X Point B (ft)]]-SpanConfig[[#This Row],[X Point A (ft)]]),(SpanConfig[[#This Row],[Y Point B (ft)]]-SpanConfig[[#This Row],[Y Point A (ft)]]))),\"\")","v":""},{"$f":"IFERROR(DEGREES(ATAN2((SpanConfig[[#This Row],[X Point A (ft)]]-SpanConfig[[#This Row],[X Point B (ft)]]),(SpanConfig[[#This Row],[Y Point A (ft)]]-SpanConfig[[#This Row],[Y Point B (ft)]]))),\"\")","v":""},{"$f":"IF(SpanConfig[[#This Row],[Point A]]=\"\",\"\",VLOOKUP(SpanConfig[[#This Row],[Point A]],CoordinateInput[],6))","v":""},{"$f":"IF(SpanConfig[[#This Row],[Point B]]=\"\",\"\",VLOOKUP(SpanConfig[[#This Row],[Point B]],CoordinateInput[],6))","v":""}]
[]
[]
[]
[]
[]
[]
["Span Configuration Plan View"]

{"sheet":"Equipment Wt & Ht","index":4,"n_rows":145,"n_cols":16,"rows_kept":145,"cut":false,"hidden":false,"merged":[]}
[]
[]
[null,null,"* includes brackets, hangers, regular lens, fitting, entrance heads, and span wire hanger"]
[null,null,"** includes height of sign or signal including fittings, measured from top of signal head"]
["Signal Heads",null,"*** If building a fixture with \"PARTS\", add \"ent head\" and \"span wire hanger\" weights to combination.",null,null,null,null,null,null,"Legacy Signal Heads (Inactive)"]
[]
["Code","Description","Comment/Detail","Weight*** (lbs)","Height ** (inches)","Height ** (feet)","Perp. Wind Area (sft)","Last Revised",null,"Code","Description","Comment/Detail","Weight*** (lbs)","Height ** (inches)","Height ** (feet)","Perp. Wind Area (sft)"]
[]
["1w-1c","led",null,17,14,{"$f":"SignalHeads[[#This Row],[Height ** (inches)]]/12","v":1.1666666666666667},1.36,null,null,"1w-2c PED",null,null,27,28,{"$f":"SignalHeads[[#This Row],[Height ** (inches)]]/12","v":1.1666666666666667},2.72]
["1w-1c w/BP",null,null,21,{"$f":"E9+5","v":19},{"$f":"SignalHeads[[#This Row],[Height ** (inches)]]/12","v":1.5833333333333333},4,null,null,"1w-2c PED w/BP",null,null,32,{"$f":"N9+5","v":33},{"$f":"SignalHeads[[#This Row],[Height ** (inches)]]/12","v":1.5833333333333333},6.33]
["1w-1c w/CS",null,"1w 12x27CS",49,{"$f":"E9+12","v":26},{"$f":"SignalHeads[[#This Row],[Height ** (inches)]]/12","v":2.1666666666666665},3.61,null,null,"1w-2c PED w/CS",null,"1w 12x27CS",59,{"$f":"N9+12","v":40},{"$f":"SignalHeads[[#This Row],[Height ** (inches)]]/12","v":2.1666666666666665},4.97]
["1w-1c w/CS w/BP",null,"1w 12x27CS",53,{"$f":"E10+12","v":31},{"$f":"SignalHeads[[#This Row],[Height ** (inches)]]/12","v":2.5833333333333335},6.25,null,null,"1w-2c PED w/CS w/BP",null,"1w 12x27CS",64,{"$f":"N10+12","v":45},{"$f":"SignalHeads[[#This Row],[Height ** (inches)]]/12","v":2.5833333333333335},8.58]
["1w-3c",null,null,37,42,{"$f":"SignalHeads[[#This Row],[Height ** (inches)]]/12","v":3.5},4.08,null,null,"2w-2c PED",null,null,54,28,{"$f":"SignalHeads[[#This Row],[Height ** (inches)]]/12","v":3.5},6.69]
["1w-3c w/BP",null,null,43,{"$f":"E13+5","v":47},{"$f":"SignalHeads[[#This Row],[Height ** (inches)]]/12","v":3.9166666666666665},8.67,null,null,"2w-2c PED w/BP",null,null,64,{"$f":"N13+5","v":33},{"$f":"SignalHeads[[#This Row],[Height ** (inches)]]/12","v":3.9166666666666665},10.47]
["1w-3c w/Aeroflex BP",null,null,42.35,52.125,{"$f":"SignalHeads[[#This Row],[Height ** (inches)]]/12","v":4.34375},7.71,"v2.05",null,"2w-2c PED w/CS",null,"1w 12x27CS",118,{"$f":"N13+12","v":40},{"$f":"SignalHeads[[#This Row],[Height ** (inches)]]/12","v":4.34375},9.61]
["1w-3c w/CS",null,"1w 12x27CS",69,{"$f":"E13+12","v":54},{"$f":"SignalHeads[[#This Row],[Height ** (inches)]]/12","v":4.5},6.33,null,null,"2w-2c PED w/CS w/BP",null,"1w 12x27CS",128,{"$f":"N14+12","v":45},{"$f":"SignalHeads[[#This Row],[Height ** (inches)]]/12","v":4.5},13.39]
["1w-3c w/CS w/BP",null,"1w 12x27CS",75,{"$f":"E14+12","v":59},{"$f":"SignalHeads[[#This Row],[Height ** (inches)]]/12","v":4.916666666666667},10.92,null,null,"3w-2c PED",null,null,81,28,{"$f":"SignalHeads[[#This Row],[Height ** (inches)]]/12","v":4.916666666666667},10.67]
["1w-4c",null,null,43,56,{"$f":"SignalHeads[[#This Row],[Height ** (inches)]]/12","v":4.666666666666667},{"$f":"4/3*G13","v":5.4399999999999995},null,null,"3w-2c PED w/BP",null,null,96,{"$f":"N17+5","v":33},{"$f":"SignalHeads[[#This Row],[Height ** (inches)]]/12","v":4.666666666666667},14.61]
["1w-4c w/BP",null,null,50,{"$f":"E18+5","v":61},{"$f":"SignalHeads[[#This Row],[Height ** (inches)]]/12","v":5.083333333333333},11,null,null,"3w-2c PED w/CS",null,"1w 12x27CS",177,{"$f":"N17+12","v":40},{"$f":"SignalHeads[[#This Row],[Height ** (inches)]]/12","v":5.083333333333333},14.25]
["1w-4c w/Aeroflex BP",null,null,50.54,{"$f":"E15+14","v":66.125},{"$f":"SignalHeads[[#This Row],[Height ** (inches)]]/12","v":5.510416666666667},9.8000000000000007,"v2.05",null,"3w-2c PED w/CS w/BP",null,"1w 12x27CS",192,{"$f":"N18+12","v":45},{"$f":"SignalHeads[[#This Row],[Height ** (inches)]]/12","v":5.510416666666667},18.190000000000001]
["1w-4c w/CS",null,"1w 12x27CS",75,{"$f":"E18+12","v":68},{"$f":"SignalHeads[[#This Row],[Height ** (inches)]]/12","v":5.666666666666667},7.69,null,null,"4w-2c PED",null,null,108,28,{"$f":"SignalHeads[[#This Row],[Height ** (inches)]]/12","v":5.666666666666667},10.67]
["1w-4c w/CS w/BP",null,"1w 12x27CS",82,{"$f":"E19+12","v":73},{"$f":"SignalHeads[[#This Row],[Height ** (inches)]]/12","v":6.083333333333333},13.25,null,null,"4w-2c PED w/BP",null,null,128,{"$f":"N21+5","v":33},{"$f":"SignalHeads[[#This Row],[Height ** (inches)]]/12","v":6.083333333333333},14.61]
["1w-5c (doghouse)",null,null,61,42,{"$f":"SignalHeads[[#This Row],[Height ** (inches)]]/12","v":3.5},6.81,null,null,"4w-2c PED w/CS",null,"1w 12x27CS",236,{"$f":"N21+12","v":40},{"$f":"SignalHeads[[#This Row],[Height ** (inches)]]/12","v":3.5},14.25]
["1w-5c (doghouse) w/BP",null,null,69,{"$f":"E23+5","v":47},{"$f":"SignalHeads[[#This Row],[Height ** (inches)]]/12","v":3.9166666666666665},13.72,null,null,"4w-2c PED w/CS w/BP",null,"1w 12x27CS",256,{"$f":"N22+12","v":45},{"$f":"SignalHeads[[#This Row],[Height ** (inches)]]/12","v":3.9166666666666665},18.190000000000001]
["1w-5c (doghouse) w/Aeroflex BP",null,null,67.540000000000006,{"$f":"E15","v":52.125},{"$f":"SignalHeads[[#This Row],[Height ** (inches)]]/12","v":4.34375},11.61,"v2.05"]
["1w-5c (doghouse) w/CS",null,"1w 12x27CS",93,{"$f":"E23+12","v":54},{"$f":"SignalHeads[[#This Row],[Height ** (inches)]]/12","v":4.5},9.06]
["1w-5c (doghouse) w/CS w/BP",null,"1w 12x27CS",101,{"$f":"E24+12","v":59},{"$f":"SignalHeads[[#This Row],[Height ** (inches)]]/12","v":4.916666666666667},15.97]
["1w-Hawk",null,null,37.200000000000003,34.5,{"$f":"SignalHeads[[#This Row],[Height ** (inches)]]/12","v":2.875},4.67]
["1w-Hawk w/BP",null,null,47,40.4,{"$f":"SignalHeads[[#This Row],[Height ** (inches)]]/12","v":3.3666666666666667},11.53]
["1w-Hawk w/Aeroflex BP",null,null,42.47,{"$f":"E15-14","v":38.125},{"$f":"SignalHeads[[#This Row],[Height ** (inches)]]/12","v":3.1770833333333335},8.51,"v2.05"]
["1w 12x27 Non-iLL CS",null,null,22.7,27,{"$f":"SignalHeads[[#This Row],[Height ** (inches)]]/12","v":2.25},2.25,"v2.02"]
["1w 12x27 LED CS",null,null,23.55,27,{"$f":"SignalHeads[[#This Row],[Height ** (inches)]]/12","v":2.25},2.25,"v2.02"]
["1w 24x30 Non-iLL CS",null,null,24,{"$f":"E34","v":32.875},{"$f":"SignalHeads[[#This Row],[Height ** (inches)]]/12","v":2.7395833333333335},{"$f":"G34","v":6.1355251736111116},"v2.02"]
["1w 24x30 LED CS",null,null,26.7,32.875,{"$f":"SignalHeads[[#This Row],[Height ** (inches)]]/12","v":2.7395833333333335},{"$f":"SignalHeads[[#This Row],[Height ** (feet)]]*26.875/12","v":6.1355251736111116},"v2.02"]
["1w 24X36 2MFO CS",null,"2 message fiber optic",100,38.875,{"$f":"SignalHeads[[#This Row],[Height ** (inches)]]/12","v":3.2395833333333335},{"$f":"SignalHeads[[#This Row],[Height ** (feet)]]*26.875/12","v":7.2553168402777786},"v2.02"]
["1w 36x36 Non-iLL CS",null,null,35.799999999999997,36,{"$f":"SignalHeads[[#This Row],[Height ** (inches)]]/12","v":3},9,"v2.02"]
["1w 36x36 LED CS",null,"1 way LED",34,36,{"$f":"SignalHeads[[#This Row],[Height ** (inches)]]/12","v":3},{"$f":"36*36/144","v":9},"v2.02"]
["1w 24x72 street name sign",null,null,75,{"$f":"22+5/16","v":22.3125},{"$f":"SignalHeads[[#This Row],[Height ** (inches)]]/12","v":1.859375},{"$f":"SignalHeads[[#This Row],[Height ** (feet)]]*(6+0.375/12)","v":11.21435546875},"v2.02"]
["1w 24x96 street name sign",null,null,90,{"$f":"22+5/16","v":22.3125},{"$f":"SignalHeads[[#This Row],[Height ** (inches)]]/12","v":1.859375},{"$f":"SignalHeads[[#This Row],[Height ** (feet)]]*(8+13/16/12)","v":15.000895182291668},"v2.02"]
["2w-1c",null,null,34,14,{"$f":"SignalHeads[[#This Row],[Height ** (inches)]]/12","v":1.1666666666666667},2.85]
["2w-1c w/BP",null,null,42,{"$f":"E40+5","v":19},{"$f":"SignalHeads[[#This Row],[Height ** (inches)]]/12","v":1.5833333333333333},5.59]
["2w-1c w/CS",null,"2w 12x27 CS",98,{"$f":"E40+12","v":26},{"$f":"SignalHeads[[#This Row],[Height ** (inches)]]/12","v":2.1666666666666665},5.76]
["2w-1c w/CS w/BP",null,"2w 12x27 CS",106,{"$f":"E41+12","v":31},{"$f":"SignalHeads[[#This Row],[Height ** (inches)]]/12","v":2.5833333333333335},8.51]
["2w-3c",null,null,76,42,{"$f":"SignalHeads[[#This Row],[Height ** (inches)]]/12","v":3.5},8.5399999999999991]
["2w-3c w/BP",null,null,86,{"$f":"E44+5","v":47},{"$f":"SignalHeads[[#This Row],[Height ** (inches)]]/12","v":3.9166666666666665},13.35]
["2w-3c w/CS",null,"2w 12x27 CS",138,{"$f":"E44+12","v":54},{"$f":"SignalHeads[[#This Row],[Height ** (inches)]]/12","v":4.5},11.46]
["2w-3c w/CS w/BP",null,"2w 12x27 CS",150,{"$f":"E45+12","v":59},{"$f":"SignalHeads[[#This Row],[Height ** (inches)]]/12","v":4.916666666666667},16.27]
["2w-4c",null,null,86,56,{"$f":"SignalHeads[[#This Row],[Height ** (inches)]]/12","v":4.666666666666667},11.39]
["2w-4c w/BP",null,null,100,{"$f":"E48+5","v":61},{"$f":"SignalHeads[[#This Row],[Height ** (inches)]]/12","v":5.083333333333333},17.23]
["2w-4c w/CS",null,"2w 12x27 CS",150,{"$f":"E48+12","v":68},{"$f":"SignalHeads[[#This Row],[Height ** (inches)]]/12","v":5.666666666666667},14.31]
["2w-4c w/CS w/BP",null,"2w 12x27 CS",164,{"$f":"E49+12","v":73},{"$f":"SignalHeads[[#This Row],[Height ** (inches)]]/12","v":6.083333333333333},20.149999999999999]
["2w-5c (doghouse)",null,null,122,42,{"$f":"SignalHeads[[#This Row],[Height ** (inches)]]/12","v":3.5},11.26]
["2w-5c (doghouse) w/BP",null,null,138,{"$f":"E52+5","v":47},{"$f":"SignalHeads[[#This Row],[Height ** (inches)]]/12","v":3.9166666666666665},18.41]
["2w-5c (doghouse) w/CS",null,"2w 12x27 CS",186,{"$f":"E52+12","v":54},{"$f":"SignalHeads[[#This Row],[Height ** (inches)]]/12","v":4.5},14.18]
["2w-5c (doghouse) w/CS w/BP",null,"2w 12x27 CS",202,{"$f":"E53+12","v":59},{"$f":"SignalHeads[[#This Row],[Height ** (inches)]]/12","v":4.916666666666667},21.32]
["2w 12x27 Non-iLL CS",null,null,25.4,27,{"$f":"SignalHeads[[#This Row],[Height ** (inches)]]/12","v":2.25},2.25,"v2.02"]
["2w 12x27 LED CS",null,null,25.15,27,{"$f":"SignalHeads[[#This Row],[Height ** (inches)]]/12","v":2.25},2.25,"v2.02"]
["2w 24x30 Non-iLL CS",null,null,30,30,{"$f":"SignalHeads[[#This Row],[Height ** (inches)]]/12","v":2.5},5,"v2.02"]
["2w 24x30 LED CS",null,null,27.7,30,{"$f":"SignalHeads[[#This Row],[Height ** (inches)]]/12","v":2.5},5,"v2.02"]
["2w 36x36 Non-iLL CS",null,null,46.6,36,{"$f":"SignalHeads[[#This Row],[Height ** (inches)]]/12","v":3},9,"v2.02"]
["2w 36x36 LED CS",null,null,40.299999999999997,36,{"$f":"SignalHeads[[#This Row],[Height ** (inches)]]/12","v":3},9,"v2.02"]
["2w 24x72 street name sign Non-iLL",null,null,88,{"$f":"22+5/16","v":22.3125},{"$f":"SignalHeads[[#This Row],[Height ** (inches)]]/12","v":1.859375},{"$f":"SignalHeads[[#This Row],[Height ** (feet)]]*(6+0.375/12)","v":11.21435546875},"v2.02"]
["2w 24x72 street name sign LEXAN",null,null,83.1,{"$f":"E62","v":22.3125},{"$f":"SignalHeads[[#This Row],[Height ** (inches)]]/12","v":1.859375},{"$f":"G62","v":11.21435546875},"v2.02"]
["2w 24x96 street name sign Non-iLL",null,null,112.8,{"$f":"22+5/16","v":22.3125},{"$f":"SignalHeads[[#This Row],[Height ** (inches)]]/12","v":1.859375},{"$f":"SignalHeads[[#This Row],[Height ** (feet)]]*(8+13/16/12)","v":15.000895182291668},"v2.02"]
["2w 24x96 street name sign LEXAN",null,null,105.5,{"$f":"E64","v":22.3125},{"$f":"SignalHeads[[#This Row],[Height ** (inches)]]/12","v":1.859375},{"$f":"G64","v":15.000895182291668},"v2.02"]
["2w 24x120 street name sign Non-iLL",null,null,138.6,{"$f":"22+5/16","v":22.3125},{"$f":"SignalHeads[[#This Row],[Height ** (inches)]]/12","v":1.859375},{"$f":"SignalHeads[[#This Row],[Height ** (feet)]]*10","v":18.59375},"v2.02"]
["2w 24x120 street name sign LEXAN",null,null,128.69999999999999,{"$f":"E66","v":22.3125},{"$f":"SignalHeads[[#This Row],[Height ** (inches)]]/12","v":1.859375},{"$f":"SignalHeads[[#This Row],[Height ** (feet)]]*10","v":18.59375},"v2.02"]
["3w-1c",null,null,51,14,{"$f":"SignalHeads[[#This Row],[Height ** (inches)]]/12","v":1.1666666666666667},4.33]
["3w-1c w/BP",null,null,63,{"$f":"E68+5","v":19},{"$f":"SignalHeads[[#This Row],[Height ** (inches)]]/12","v":1.5833333333333333},7.18]
["3w-1c w/CS",null,"3w 12x27 CS",147,{"$f":"E68+12","v":26},{"$f":"SignalHeads[[#This Row],[Height ** (inches)]]/12","v":2.1666666666666665},7.92]
["3w-1c w/CS w/BP",null,"3w 12x27 CS",159,{"$f":"E69+12","v":31},{"$f":"SignalHeads[[#This Row],[Height ** (inches)]]/12","v":2.5833333333333335},10.76]
["3w-3c",null,null,111,42,{"$f":"SignalHeads[[#This Row],[Height ** (inches)]]/12","v":3.5},13]
["3w-3c w/BP",null,null,129,{"$f":"E72+5","v":47},{"$f":"SignalHeads[[#This Row],[Height ** (inches)]]/12","v":3.9166666666666665},18.03]
["3w-3c w/CS",null,"3w 12x27 CS",207,{"$f":"E72+12","v":54},{"$f":"SignalHeads[[#This Row],[Height ** (inches)]]/12","v":4.5},16.579999999999998]
["3w-3c w/CS w/BP",null,"3w 12x27 CS",225,{"$f":"E73+12","v":59},{"$f":"SignalHeads[[#This Row],[Height ** (inches)]]/12","v":4.916666666666667},21.62]
["3w-4c",null,null,129,56,{"$f":"SignalHeads[[#This Row],[Height ** (inches)]]/12","v":4.666666666666667},17.329999999999998]
["3w-4c w/BP",null,null,150,{"$f":"E76+5","v":61},{"$f":"SignalHeads[[#This Row],[Height ** (inches)]]/12","v":5.083333333333333},23.46]
["3w-4c w/CS",null,"3w 12x27 CS",225,{"$f":"E76+12","v":68},{"$f":"SignalHeads[[#This Row],[Height ** (inches)]]/12","v":5.666666666666667},20.92]
["3w-4c w/CS w/BP",null,"3w 12x27 CS",246,{"$f":"E77+12","v":73},{"$f":"SignalHeads[[#This Row],[Height ** (inches)]]/12","v":6.083333333333333},27.05]
["3w-5c (doghouse)",null,null,183,42,{"$f":"SignalHeads[[#This Row],[Height ** (inches)]]/12","v":3.5},15.72]
["3w-5c (doghouse) w/BP",null,null,207,{"$f":"E80+5","v":47},{"$f":"SignalHeads[[#This Row],[Height ** (inches)]]/12","v":3.9166666666666665},23.09]
["3w-5c (doghouse) w/CS",null,"3w 12x27 CS",279,{"$f":"E80+12","v":54},{"$f":"SignalHeads[[#This Row],[Height ** (inches)]]/12","v":4.5},19.309999999999999]
["3w-5c (doghouse) w/CS w/BP",null,"3w 12x27 CS",303,{"$f":"E81+12","v":59},{"$f":"SignalHeads[[#This Row],[Height ** (inches)]]/12","v":4.916666666666667},26.67]
["4w-1c",null,null,68,14,{"$f":"SignalHeads[[#This Row],[Height ** (inches)]]/12","v":1.1666666666666667},4.33]
["4w-1c w/BP",null,null,84,{"$f":"E84+5","v":19},{"$f":"SignalHeads[[#This Row],[Height ** (inches)]]/12","v":1.5833333333333333},7.18]
["4w-1c w/CS",null,"4w 12x27 CS",196,{"$f":"E84+12","v":26},{"$f":"SignalHeads[[#This Row],[Height ** (inches)]]/12","v":2.1666666666666665},7.92]
["4w-1c w/CS w/BP",null,"4w 12x27 CS",212,{"$f":"E85+12","v":31},{"$f":"SignalHeads[[#This Row],[Height ** (inches)]]/12","v":2.5833333333333335},10.76]
["4w-3c",null,null,148,42,{"$f":"SignalHeads[[#This Row],[Height ** (inches)]]/12","v":3.5},13]
["4w-3c w/BP",null,null,172,{"$f":"E88+5","v":47},{"$f":"SignalHeads[[#This Row],[Height ** (inches)]]/12","v":3.9166666666666665},18.03]
["4w-3c w/CS",null,"4w 12x27 CS",276,{"$f":"E88+12","v":54},{"$f":"SignalHeads[[#This Row],[Height ** (inches)]]/12","v":4.5},16.579999999999998]
["4w-3c w/CS w/BP",null,"4w 12x27 CS",300,{"$f":"E89+12","v":59},{"$f":"SignalHeads[[#This Row],[Height ** (inches)]]/12","v":4.916666666666667},21.62]
["4w-4c",null,null,172,56,{"$f":"SignalHeads[[#This Row],[Height ** (inches)]]/12","v":4.666666666666667},17.329999999999998]
["4w-4c w/BP",null,null,200,{"$f":"E92+5","v":61},{"$f":"SignalHeads[[#This Row],[Height ** (inches)]]/12","v":5.083333333333333},23.46]
["4w-4c w/CS",null,"4w 12x27 CS",300,{"$f":"E92+12","v":68},{"$f":"SignalHeads[[#This Row],[Height ** (inches)]]/12","v":5.666666666666667},20.92]
["4w-4c w/CS w/BP",null,"4w 12x27 CS",328,{"$f":"E93+12","v":73},{"$f":"SignalHeads[[#This Row],[Height ** (inches)]]/12","v":6.083333333333333},27.05]
["4w-5c (doghouse)",null,null,244,42,{"$f":"SignalHeads[[#This Row],[Height ** (inches)]]/12","v":3.5},15.72]
["4w-5c (doghouse) w/BP",null,null,276,{"$f":"E96+5","v":47},{"$f":"SignalHeads[[#This Row],[Height ** (inches)]]/12","v":3.9166666666666665},23.09]
["4w-5c (doghouse) w/CS",null,"4w 12x27 CS",372,{"$f":"E96+12","v":54},{"$f":"SignalHeads[[#This Row],[Height ** (inches)]]/12","v":4.5},19.309999999999999]
["4w-5c (doghouse) w/CS w/BP",null,"4w 12x27 CS",404,{"$f":"E97+12","v":59},{"$f":"SignalHeads[[#This Row],[Height ** (inches)]]/12","v":4.916666666666667},26.67]
["4w 12x27 Non-iLL CS",null,null,51,27,{"$f":"SignalHeads[[#This Row],[Height ** (inches)]]/12","v":2.25},2.25]
["4w 12x27 LED CS",null,null,67,27,{"$f":"SignalHeads[[#This Row],[Height ** (inches)]]/12","v":2.25},9]
["4w 24x30 Non-iLL CS",null,null,59,{"$f":"E103","v":31.5},{"$f":"F103","v":2.625},{"$f":"G103","v":5.7421875},"v2.02"]
["4w 24x30 LED CS",null,null,53.55,31.5,{"$f":"SignalHeads[[#This Row],[Height ** (inches)]]/12","v":2.625},{"$f":"SignalHeads[[#This Row],[Height ** (feet)]]*26.25/12","v":5.7421875},"v2.02"]
["4w 36x36 Non-iLL CS",null,null,102,36,{"$f":"SignalHeads[[#This Row],[Height ** (inches)]]/12","v":3},14.93]
["4w 36x36 LED CS",null,null,134,36,{"$f":"SignalHeads[[#This Row],[Height ** (inches)]]/12","v":3},5]
[]
[]
["Signal Parts"]
[]
["Code","Description","Comment/Detail","Weight*** (lbs)","Height ** (inches)","Height ** (feet)","Perp. Wind Area (sft)","Last Revised"]
[]
["1w-1c alum",null,"Static Sign",12,14,{"$f":"SignalParts[[#This Row],[Height ** (inches)]]/12","v":1.1666666666666667},1.36]
["1w-1c alum w/BP",null,null,{"$f":"D112+4","v":16},{"$f":"E112","v":14},{"$f":"SignalParts[[#This Row],[Height ** (inches)]]/12","v":1.1666666666666667},4]
["1w-1c led",null,null,7,14,{"$f":"SignalParts[[#This Row],[Height ** (inches)]]/12","v":1.1666666666666667},1.36]
["1w-1c led w/BP",null,null,{"$f":"D114+4","v":11},{"$f":"E114","v":14},{"$f":"SignalParts[[#This Row],[Height ** (inches)]]/12","v":1.1666666666666667},4]
["1w-3c led",null,null,22,42,{"$f":"SignalParts[[#This Row],[Height ** (inches)]]/12","v":3.5},4.08]
["1w-3c led w/BP",null,null,{"$f":"D116+6","v":28},{"$f":"E116","v":42},{"$f":"SignalParts[[#This Row],[Height ** (inches)]]/12","v":3.5},8.67]
["1w 12x27 CS",null,null,32,27,{"$f":"SignalParts[[#This Row],[Height ** (inches)]]/12","v":2.25},{"$f":"12*27/144","v":2.25}]
["1w 12x27 CS compact florescent",null,null,22,27,{"$f":"SignalParts[[#This Row],[Height ** (inches)]]/12","v":2.25},{"$f":"12*27/144","v":2.25}]
["1w 24x30 SS",null,null,17,30,{"$f":"SignalParts[[#This Row],[Height ** (inches)]]/12","v":2.5},{"$f":"24*30/144","v":5}]
["2w 24x30 CS",null,null,70,30,{"$f":"SignalParts[[#This Row],[Height ** (inches)]]/12","v":2.5},{"$f":"24*30/144","v":5}]
["2w 24x30 CS compact fluorescent",null,null,42,30,{"$f":"SignalParts[[#This Row],[Height ** (inches)]]/12","v":2.5},5]
["2w bottom ",null,null,2,1,{"$f":"SignalParts[[#This Row],[Height ** (inches)]]/12","v":8.3333333333333329E-2},{"$f":"14*SignalParts[[#This Row],[Height ** (inches)]]/144","v":9.7222222222222224E-2}]
["2w bottom  w/BP",null,null,{"$f":"D123*D117/D116","v":2.5454545454545454},{"$f":"E123+5","v":6},{"$f":"SignalParts[[#This Row],[Height ** (inches)]]/12","v":0.5},{"$f":"14*SignalParts[[#This Row],[Height ** (inches)]]/144","v":0.58333333333333337}]
["2w doghouse bottom",null,null,3,1.5,{"$f":"SignalParts[[#This Row],[Height ** (inches)]]/12","v":0.125},{"$f":"28*SignalParts[[#This Row],[Height ** (inches)]]/144","v":0.29166666666666669}]
["2w doghouse bottom w/BP",null,null,{"$f":"D125*D117/D116","v":3.8181818181818183},{"$f":"E125+5","v":6.5},{"$f":"SignalParts[[#This Row],[Height ** (inches)]]/12","v":0.54166666666666663},{"$f":"(28+10)*SignalParts[[#This Row],[Height ** (inches)]]/144","v":1.7152777777777777}]
["2w doghouse top",null,null,4,2.25,{"$f":"SignalParts[[#This Row],[Height ** (inches)]]/12","v":0.1875},{"$f":"28*SignalParts[[#This Row],[Height ** (inches)]]/144","v":0.4375}]
["2w doghouse top w/BP",null,null,{"$f":"D127*D117/D116","v":5.0909090909090908},{"$f":"E127+5","v":7.25},{"$f":"SignalParts[[#This Row],[Height ** (inches)]]/12","v":0.60416666666666663},{"$f":"(28+10)*SignalParts[[#This Row],[Height ** (inches)]]/144","v":1.9131944444444444}]
["2w top bracket",null,null,15,4.25,{"$f":"SignalParts[[#This Row],[Height ** (inches)]]/12","v":0.35416666666666669},{"$f":"14*SignalParts[[#This Row],[Height ** (inches)]]/144","v":0.41319444444444442}]
["2w top bracket w/BP",null,null,{"$f":"D129*D117/D116","v":19.09090909090909},{"$f":"E129+5","v":9.25},{"$f":"SignalParts[[#This Row],[Height ** (inches)]]/12","v":0.77083333333333337},{"$f":"14*SignalParts[[#This Row],[Height ** (inches)]]/144","v":0.89930555555555558}]
["3w bottom",null,null,3,1,{"$f":"SignalParts[[#This Row],[Height ** (inches)]]/12","v":8.3333333333333329E-2},{"$f":"14*SignalParts[[#This Row],[Height ** (inches)]]/144","v":9.7222222222222224E-2}]
["3w bottom w/BP",null,null,{"$f":"D131*D117/D116","v":3.8181818181818183},{"$f":"E131+5","v":6},{"$f":"SignalParts[[#This Row],[Height ** (inches)]]/12","v":0.5},{"$f":"14*SignalParts[[#This Row],[Height ** (inches)]]/144","v":0.58333333333333337}]
["3w top bracket",null,null,20,4.25,{"$f":"SignalParts[[#This Row],[Height ** (inches)]]/12","v":0.35416666666666669},{"$f":"14*SignalParts[[#This Row],[Height ** (inches)]]/144","v":0.41319444444444442}]
["3w top bracket w/BP",null,null,{"$f":"D133*D117/D116","v":25.454545454545453},{"$f":"E133+5","v":9.25},{"$f":"SignalParts[[#This Row],[Height ** (inches)]]/12","v":0.77083333333333337},{"$f":"14*SignalParts[[#This Row],[Height ** (inches)]]/144","v":0.89930555555555558}]
["4w 12x27 CS",null,null,45,12,{"$f":"SignalParts[[#This Row],[Height ** (inches)]]/12","v":1},{"$f":"12*27/144","v":2.25}]
["4w 24x30 CS",null,null,62,24,{"$f":"SignalParts[[#This Row],[Height ** (inches)]]/12","v":2},{"$f":"24*30/144","v":5}]
["4w 24x30 CS compact florescent",null,null,52,24,{"$f":"SignalParts[[#This Row],[Height ** (inches)]]/12","v":2},{"$f":"24*30/144","v":5}]
["4w bottom",null,null,4,1,{"$f":"SignalParts[[#This Row],[Height ** (inches)]]/12","v":8.3333333333333329E-2},{"$f":"14*SignalParts[[#This Row],[Height ** (inches)]]/144","v":9.7222222222222224E-2}]
["4w bottom w/BP",null,null,{"$f":"D138*D117/D116","v":5.0909090909090908},{"$f":"E138+5","v":6},{"$f":"SignalParts[[#This Row],[Height ** (inches)]]/12","v":0.5},{"$f":"14*SignalParts[[#This Row],[Height ** (inches)]]/144","v":0.58333333333333337}]
["4w top bracket",null,null,25,4.25,{"$f":"SignalParts[[#This Row],[Height ** (inches)]]/12","v":0.35416666666666669},{"$f":"14*SignalParts[[#This Row],[Height ** (inches)]]/144","v":0.41319444444444442}]
["4w top bracket w/BP",null,null,{"$f":"D140*D117/D116","v":31.818181818181817},{"$f":"E140+5","v":9.25},{"$f":"SignalParts[[#This Row],[Height ** (inches)]]/12","v":0.77083333333333337},{"$f":"14*SignalParts[[#This Row],[Height ** (inches)]]/144","v":0.89930555555555558}]
["BP bottom",null,"Add as last part when using parts w/ BP",0,5,{"$f":"SignalParts[[#This Row],[Height ** (inches)]]/12","v":0.41666666666666669},0]
["ent head",null,null,5,6.5,{"$f":"SignalParts[[#This Row],[Height ** (inches)]]/12","v":0.54166666666666663},"-"]
["span wire hanger",null,null,5,3,{"$f":"SignalParts[[#This Row],[Height ** (inches)]]/12","v":0.25},"-"]
["stem pipe",null,"Stem pipe weight is per foot",2.5,"-","-","-"]

{"sheet":"Work Authorization Costs","index":5,"n_rows":73,"n_cols":5,"rows_kept":73,"cut":false,"hidden":false,"merged":[]}
["ESTIMATING COSTS FOR WORK AUTHORIZATIONS"]
[]
[null,25,"$/hr basic wage"]
[null,null,"Then use 1.88 labor multiplier"]
[]
[5,"Crew size for signal modernizations"]
[null,15,"Estimated days to modernize complicated box span (directional boring, medians):  Assume 3 weeks x 5 days per week"]
[null,null,"Rate/Hr =",{"$f":"B3*A6","v":125},"This is now the hourly rate for a 5 person crew"]
[null,null,"Est Hrs=",{"$f":"8*B7","v":120},"This is now the crew hour estimate"]
[null,10,"Estimated days to modernize less complicated box span (no directional boring but ped pushbuttons and loops):  Assume 2 weeks x 5 days per week"]
[null,null,"Rate/Hr =",{"$f":"B3*A6","v":125},"This is now the hourly rate for a 5 person crew"]
[null,null,"Est Hrs=",{"$f":"8*B10","v":80},"This is now the crew hour estimate"]
[]
[5,"Crew size to modernize flashing signal"]
[null,3,"Estimated days to modernize flashing signal with steel poles"]
[null,null,"Rate/Hr =",{"$f":"B3*A14","v":125},"This is now the hourly rate for a 5 person crew"]
[null,null,"Est Hrs=",{"$f":"8*B15","v":24},"This is now the crew hour estimate"]
[null,2,"Estimated days to modernize flashing signal with wood poles"]
[null,null,"Rate/Hr =",{"$f":"B3*A14","v":125},"This is now the hourly rate for a 5 person crew"]
[null,null,"Est Hrs=",16,"This is now the crew hour estimate"]
[]
[2,"Crew size to modernize sign beacon "]
[null,2,"Estimated days to modernize sign mounted beacon"]
[null,null,"Rate/Hr =",{"$f":"B3*A22","v":50},"This is now the hourly rate for a 2 person crew"]
[null,null,"Est Hrs=",{"$f":"8*B23","v":16},"This is now the crew hour estimate"]
[]
[2,"Crew size to remove sign beacon "]
[null,1,"Estimated days to modernize sign mounted beacon"]
[null,null,"Rate/Hr =",{"$f":"B3*A27","v":50},"This is now the hourly rate for a 2 person crew"]
[null,null,"Est Hrs=",{"$f":"8*B28","v":8},"This is now the crew hour estimate"]
[]
["60 $/hr equipment for 5 man crew"]
[null,"Assumes equipment includes 3 vehicles (2 bucket trucks, one rack stack truck) at 18$/hr and one pickup truck at 5$/hr: (3*18+1*5)"]
[null,"Applies to travel time as well as work time"]
[]
["42 $/hr equipment for 3 man crew"]
[null,"Assumes equipment includes 3 vehicles (1 bucket truck, one rack stack truck) at 18$/hr and one pickup truck at 5$/hr: (2*18+1*5)"]
[null,"Applies to travel time as well as work time"]
[]
["36 $/hr equipment for 2 man crew"]
[null,"Assumes equipment includes 2 vehicles (1 bucket truck, one rack stack truck) at 18$/hr: (2*18)"]
[null,"Applies to travel time as well as work time"]
[]
["110$/day/man travel expense (80+14+7+7):  Assumes overnight stay (more than 25 miles from Lansing)"]
["28$/day/man travel expense (14+7+7):  Assumes no overnight stay (within 25 mile of Lansing)"]
[]
["Additional equipment:"]
[null,"Excavator at $650 per week ($2500 per month)"]
[null,"Hydro-Vac for foundations:  ($700 per strain pole fdtn);  ($200 per hour miscellaneous fdtns)"]
[]
["Sign Crew for signs and sign post installations"]
[null,"Add time for 3 man sign crew separately (labor and travel)"]
[]
[">>> Judy Arens 12/13/2006 7:52AM >>>"]
["Doug,"]
[]
["The vehicles are charged out the same hours as the crews time to work authorizations. If they work a full week on the job the vehicles are charged 40 hours. "]
["If a full day, 10 hours etc. The pickup trucks are $4.53 per hour, the buckets, cages and stake racks are all in the same category at 17.93 per hour. "]
["There are additonal charges for some of the smaller pieces such as the concrete saw, compressor etc."]
[" The current (changes annually) prices for vehicles is listed on the interchange under A&E's section I believe."]
[]
["Yes, they charge for travel time. $25 an hour is a little higher than most of the guys make but is probably a good round number to use."]
[]
["All materials are charged to the work authorization. The signals, controllers etc are charged out directly on a purchase order from Carrier & Gable. "]
["All of the small items such as wire, conduit, lashing etc. are charged out after the job is done on a Sign & Signal Transfer. "]
["(Materials are bought under our overhead fund and then charged out as they are used - credit our overhead and charged to the TWA)."]
[]
["Also, don't forget travel expenses. (Meals and hotels)"]
[]
["Judy Arens"]
["Administrative Support"]
["Statewide Signal Shop"]
["517-322-3360"]

{"sheet":"Conduit Sizing","index":6,"n_rows":61,"n_cols":7,"rows_kept":61,"cut":false,"hidden":false,"merged":[[14,0,15,0],[28,0,29,0],[42,0,43,0],[47,0,48,0]]}
["Pole Mounted Controller Conduit Sizing Check"]
["3\" conduit area",6.4420000000000002,"in^2",null,"4\" conduit area",11.26,"in^2"]
["31% full",1.9970000000000001,"in^2",null,"31% full",3.49,"in^2"]
["40% full",2.577,"in^2",null,"40% full",4.5,"in^2"]
["53021-01-003"]
["12 Gauge wire Conductors","AREA (SQ IN)",null,"DIAMETER","Number of Cables Entering Duct","AREA (SQ IN)"]
[2,{"$f":"(D7/2)^2*3.14","v":0.12875962500000002},"in^2",0.40500000000000003,null,{"$f":"B7*E7","v":0},"in^2"]
[3,{"$f":"(D8/2)^2*3.14","v":0.141790625},"in^2",0.42499999999999999,null,{"$f":"B8*E8","v":0},"in^2"]
[4,0.180864,"in^2",0.48,null,0,"in^2"]
[5,0.20019462500000001,"in^2",0.505,null,0,"in^2"]
[7,0.25954062499999997,"in^2",0.57499999999999996,null,0,"in^2"]
[9,0.41261562500000004,"in^2",0.72499999999999998,null,0,"in^2"]
[12,0.435694625,"in^2",0.745,null,0,"in^2"]
[]
["14 Gauge Wire Conductors"]
[]
[2,9.3434624999999993E-2,"in^2",0.34499999999999997,null,{"$f":"B17*E17","v":0},"in^2"]
[3,0.10458162499999998,"in^2",0.36499999999999999,null,{"$f":"B18*E18","v":0},"in^2"]
[4,0.12247962500000002,"in^2",0.39500000000000002,null,0,"in^2"]
[5,0.141790625,"in^2",0.42499999999999999,null,0,"in^2"]
[7,0.16973662500000003,"in^2",0.46500000000000002,null,0,"in^2"]
[9,0.29690662499999998,"in^2",0.61499999999999999,null,0,"in^2"]
[10,0.29690662499999998,"in^2",0.61499999999999999,null,0,"in^2"]
[12,0.31653162500000004,"in^2",0.63500000000000001,null,0,"in^2"]
[16,0.40131162499999995,"in^2",0.71499999999999997,null,0,"in^2"]
[19,0.42407662499999998,"in^2",0.73499999999999999,null,0,"in^2"]
[20,0.44156250000000002,"in^2",0.75,null,0,"in^2"]
[]
["16 Gauge Wire Conductors"]
[]
[2,7.0179784999999995E-2,"in^2",0.29899999999999999,null,{"$f":"B31*E31","v":0},"in^2"]
[3,0,"in^2",null,null,{"$f":"B32*E32","v":0},"in^2"]
[4,9.3434624999999993E-2,"in^2",0.34499999999999997,null,0,"in^2"]
[5,0.10746649999999999,"in^2",0.37,null,0,"in^2"]
[7,0.13781538500000001,"in^2",0.41899999999999998,null,0,"in^2"]
[9,0,"in^2",null,null,0,"in^2"]
[10,0,"in^2",null,null,0,"in^2"]
[12,0,"in^2",null,null,0,"in^2"]
[16,0,"in^2",null,null,0,"in^2"]
[19,0,"in^2",null,null,0,"in^2"]
[20,0.38026655999999998,"in^2",0.69599999999999995,null,0,"in^2"]
[]
["6 Gauge Wire Conductors"]
[]
[2,0.180864,"in^2",0.48,null,{"$f":"B45*E45","v":0},"in^2"]
["2 insul+1ground",0.36298400000000008,"in^2",0.68,null,0,"in^2"]
[]
["4 Gauge Wire Conductors"]
[]
[2,{"$f":"(D50/2)^2*3.14","v":0.18847849999999999},"in^2",0.49,null,{"$f":"B50*E50","v":0},"in^2"]
["2 insul+1ground",{"$f":"(D51/2)^2*3.14","v":0.40018985999999995},"in^2",0.71399999999999997,null,{"$f":"B51*E51","v":0},"in^2"]
[]
["Ground wire",7.666015625E-2,"in^2",{"$f":"5/16","v":0.3125},null,0,"in^2"]
["Antenna cable",{"$f":"(D54/2)^2*3.14","v":7.666015625E-2},"in^2",{"$f":"5/16","v":0.3125},null,0,"in^2"]
["Loop Lead-in",0.11455034,"in^2",0.38200000000000001,null,0,"in^2"]
["Pushbutton",0.11455034,"in^2",0.38200000000000001,null,0,"in^2"]
["Video cable",7.2546559999999996E-2,"in^2",0.30399999999999999,null,0,"in^2"]
[]
[]
[null,null,null,null,"Total Area",{"$f":"SUM(F7:F59)","v":0},"in^2"]
[null,null,null,null,{"$f":"IF(F60<B3,\"OK\",\"Verify Duct Size\")","v":"OK"}]

{"sheet":"Cables","index":7,"n_rows":54,"n_cols":2,"rows_kept":54,"cut":false,"hidden":false,"merged":[[0,0,0,3]]}
["TRAFFIC SIGNAL HEAD INFORMATION"]
["Head/Case Sign Combination","CONDUCTORS"]
["1W-5C (doghouse)","   7/C#16 PJ"]
["2W-5C (doghouse)"," 12/C#16"]
[]
["1W-4C","   7/C#16 PJ"]
["4W-4C","20/C#16"]
[]
["4W-3C","  7/C#16"]
["4W-3C & 12\"X 27\" C.S. (4 Phase)","12C/#14"]
["4W-3C & 12\"X27\"  C.S. (8 Phase)","20/C#14"]
[]
["3W-3C","  7/C#16"]
["3W-3C & 12\"X27\"C.S  (Phasing 1 Dir.)","16/C#14"]
["3W-3C & 12\"X27\"C.S. (Phasing 2 Dir.)","16/C#14"]
[]
["2W-3C","  7/C#16"]
["2W-3C & 2-12\"X27\" C.S.","12/C#14"]
["2W-3C, 2-12\"X27\" C.S. & 1- 24\"X30\" C.S.","14/C#14"]
[]
["1W-3C","  5/C#16"]
["1W-3C & 12\"X27\" C.S. (LED)","  7/C#16"]
[]
["1W-1C","  5/C#16"]
["2W-1C","  5/C#16"]
["3W-1C","  5/C#16"]
["4W-1C","  5/C#16"]
["1W-1C & 12\" X27\" C.S. (LED)","  7/C#16"]
[]
["1-Way, 24\" X 30\" Case Sign (LED)","  4/C#16 PJ"]
["2-Way, 24\" X 30\" Case Sign","  4/C#16 PJ"]
["4-Way, 24\" X 30\" Case Sign","  4/C#16 PJ"]
[]
["PEDS & Low Level Signals"]
[]
["2 Way Ped Signal","   7/C#16 PJ"]
["2 Way w/Low Level (Pole)","12/C#16"]
["2 Way w/Low Level (Pedestal)","12/C#16"]
["2 Way w/L.L. & 12\"X27\" C.S. (Pole)","12/C#14"]
["2 Way w/L.L. & 12\"X27\" C.S. (Pedestal)","12/C#14"]
["2 Way w/2 Low Levels(Pole)","12/C#16"]
["2 Way w/2 Low Levels (Pedestal)","12/C#16"]
["2 Way w/2 L.L. & (2) 12\"X27\" C.S. (Pole)","16/C#14"]
["2 Way w/2 L.L. & (2) 12\"X27\"C.S. (Pedestal)","16/C#14"]
[]
["1 Way Ped Signal","   7/C#16 PJ"]
["1 Way w/Low Level (Pole)","  7/C#16"]
["1 Way w/Low Level (Pedestal)","7/C#16"]
["1 Way w/L.L. & 12\"X27\" C.S. (Pole)","12/C#14"]
["1 Way w/L.L. & 12\"X27\" C.S. (Pedestal)","12/C#14"]
["1 Way w/2 Low Level (Pole)","12/C#16"]
["1 Way w/2 Low Level (Pedestal)","14/C#16"]
["1 Way w/2 L.L. & (2) 12\"X27\" C.S. (Pole)","16/C#14"]
["1 Way w/2 L.L. & (2) 12\"X27\" C.S. (Pedestal)","20/C#14"]

{"sheet":"L.E.D. Wattages","index":8,"n_rows":72,"n_cols":19,"rows_kept":72,"cut":false,"hidden":false,"merged":[[65,6,65,14],[0,0,0,2],[32,0,32,6],[33,0,33,3],[62,0,62,2],[63,8,63,14],[64,6,64,14]]}
["12\" SIGNALS (cyclic)"]
["ITEM","QTY","R",null,"Y",null,"G",null,"R <--",null,"Y <--",null,"G <--",null,"TOTAL","TOTAL"]
[null,null,"Qty","Watts","Qty","Watts","Qty","Watts","Qty","Watts","Qty","Watts","Qty","Watts","WATTS","OPENINGS"]
["4W-3C (all solids)",null,4,8,4,22,4,13,0,6,0,10,0,6,{"$f":"B4*((C4*D4)+(E4*F4)+(G4*H4)+(I4*J4)+(K4*L4)+(M4*N4))","v":0},{"$f":"B4*(C4+E4+G4+I4+K4+M4)","v":0}]
["4W-3C (R solid, Y arrow, G arrow)",null,4,8,0,22,0,13,0,6,4,10,4,6,0,0]
["4W-3C (R arrow, Y arrow, G arrow)",null,0,8,0,22,0,13,4,6,4,10,4,6,0,0]
["3W-3C (all Solids)",null,3,8,3,22,3,13,0,6,0,10,0,6,0,0]
["3W-3C (R solid, Y arrow, G arrow)",null,3,8,0,22,0,13,0,6,3,10,3,6,0,0]
["3W-3C (R arrow, Y arrow, G arrow)",null,0,8,0,22,0,13,3,6,3,10,3,6,0,0]
["2W-3C (all solids)",null,2,8,2,22,2,13,0,6,0,10,0,6,0,0]
["2W-3C (R solid, Y arrow, G arrow)",null,2,8,0,22,0,13,0,6,2,10,2,6,0,0]
["2W-3C (R arrow, Y arrow, G arrow)",null,0,8,0,22,0,13,2,6,2,10,2,6,0,0]
["1W-1C (solid)",null,1,8,0,22,0,13,0,6,0,10,0,6,0,0]
["1W-1C (arrow)",null,0,8,0,22,0,13,0,6,0,10,1,6,0,0]
["4W-1C",null,4,8,0,22,0,13,0,6,0,10,0,6,0,0]
["3W-1C",null,1,8,2,22,0,13,0,6,0,10,0,6,0,0]
["1W-3C (all solids)",null,1,8,1,22,1,13,0,6,0,10,0,6,0,0]
["1W-3C (all arrows )",null,0,8,0,22,0,13,1,6,1,10,1,6,0,0]
["1W-3C (R solid, Y arrow, G arrow)",null,1,8,0,22,0,13,0,6,1,10,1,6,0,0]
["1W-3C(all solids)  w/ 4th Level LTGA",null,1,8,1,22,1,13,0,6,0,10,1,6,0,0]
["1W-HAWK",null,2,8,1,22,0,13,0,6,0,10,0,6,0,0]
["1W-4C (R, FY,Y,G Arrows) (**New)",null,0,8,0,22,0,13,1,6,2,10,1,6,0,0]
["1W-1C Sign Optical 12\"",null,0,8,1,22,0,13,0,6,0,10,0,6,0,0]
["1W-1C Sign Optical 12\" (SOLAR)",null,0,0,1,0,0,0,0,0,0,0,0,6,0,0]
["4W-3C w/4th Level LTGA 2 SIDES",null,4,8,4,22,4,13,0,6,0,10,2,6,0,0]
["4W-3C  LTYA & LTGA 4 SIDES",null,4,8,4,22,4,13,0,6,4,10,4,6,0,0]
["1W-DOG HOUSE",null,1,8,1,22,1,13,0,6,1,10,1,6,0,0]
["1W-2C (COUNTDOWN PED)",null,1,11,null,null,null,null,null,null,null,null,null,null,0,0]
["2W-2C (COUNTDOWN PED)",null,2,11,null,null,null,null,null,null,null,null,null,null,0,0]
["1W-2C (PED)",null,1,6,null,null,null,null,null,null,null,null,null,null,0,0]
["2W-2C (PED)",null,2,6,null,null,null,null,null,null,null,null,null,null,0,0]
["insert lines here",null,null,null,null,null,null,null,null,null,null,null,null,null,0,0]
["Carry over from Incandescent signals sections (State Wide, Detroit, & Others)",null,null,null,null,null,null,null,null,null,null,null,null,null,{"$f":"'Incandescent State Wide'!G53+'Detroit '!G53+Others!G53","v":0},{"$f":"'Incandescent State Wide'!G52+'Detroit '!G52+Others!G52","v":0}]
["ILLUMINATED SIGNS & CONTROLLER (steady)"]
["ITEM","QTY","Openings",null,null,null,null,null,null,null,null,null,"WATTS",null,"TOTAL","TOTAL"]
[null,null,"Each",null,null,null,null,null,null,null,null,null,"EACH",null,"WATTS","OPENINGS"]
["12 X 27 LED CASE SIGN (1 WAY)",null,1,null,null,null,null,null,null,null,null,null,15,null,{"$f":"B37*M37","v":0},{"$f":"B37*C37","v":0}]
["12 X 27 LED CASE SIGN (2 WAY)",null,2,null,null,null,null,null,null,null,null,null,30,null,0,0]
["12 X 27 LED CASE SIGN (3 WAY)",null,3,null,null,null,null,null,null,null,null,null,45,null,0,0]
["12 X 27 LED CASE SIGN (4 WAY)",null,4,null,null,null,null,null,null,null,null,null,60,null,0,0]
["24 X 30 LED CASE SIGN (1 WAY)",null,1,null,null,null,null,null,null,null,null,null,45,null,0,0]
["24 X 30 LED CASE SIGN (2 WAY)",null,2,null,null,null,null,null,null,null,null,null,90,null,0,0]
["24 X 30 LED CASE SIGN (3 WAY)",null,3,null,null,null,null,null,null,null,null,null,135,null,0,0]
["24 X 30 LED CASE SIGN (4 WAY)",null,4,null,null,null,null,null,null,null,null,null,180,null,0,0]
["36 x 36 Keep Right LED (1 WAY)",null,1,null,null,null,null,null,null,null,null,null,38,null,0,0]
["FIBER OPTIC SCHOOL SPEED SIGN",null,1,null,null,null,null,null,null,null,null,null,180,null,{"$f":"B46*M46","v":0},{"$f":"B46*C46","v":0}]
["Open/Closed Weigh station (LED/Fiber Optic)",null,1,null,null,null,null,null,null,null,null,null,42,null,{"$f":"B47*M47","v":0},{"$f":"B47*C47","v":0}]
["24 X 30 Disap'r Leg'd \"No Turn on Red\"",null,1,null,null,null,null,null,null,null,null,null,{"$f":"4*40","v":160},null,{"$f":"M48*B48","v":0},{"$f":"C48*B48","v":0}]
["24 X 30 Disap'r Leg'd: NRT/NLT Symbol",null,1,null,null,null,null,null,null,null,null,null,{"$f":"6*40","v":240},null,{"$f":"M49*B49","v":0},{"$f":"C49*B49","v":0}]
["24 X 30 Disap'r Leg'd \"No Exit\"",null,1,null,null,null,null,null,null,null,null,null,{"$f":"2*40","v":80},null,{"$f":"M50*B50","v":0},{"$f":"C50*B50","v":0}]
["24 X 30 Disap'r Leg'd \"open\"/ \"closed\"",null,1,null,null,null,null,null,null,null,null,null,240,null,{"$f":"M51*B51","v":0},{"$f":"C51*B51","v":0},null,null," "]
["8' Illuminated Street Name Sign",null,2,null,null,null,null,null,null,null,null,null,220]
["Controller, Monitor, No loops",null,0,null,null,null,null,null,null,null,null,null,90]
["Controller, Monitor, 3 loops",null,0,null,null,null,null,null,null,null,null,null,105]
["Flasher Controller",null,0,null,null,null,null,null,null,null,null,null,5]
["Video Camera",null,1,null,null,null,null,null,null,null,null,null,null,null,null,{"$f":"C56*B56","v":0}]
["Camera Processor (1 or 2 cameras)",null,0,null,null,null,null,null,null,null,null,null,8]
["Camera Processors (3 to 4 cameras)",null,0,null,null,null,null,null,null,null,null,null,16]
["Camera Processor (5 to 8 cameras)",null,0,null,null,null,null,null,null,null,null,null,137]
["Radio Transceiver",null,0,null,null,null,null,null,null,null,null,null,3]
["insert lines here"]
["DO NOT include controllers & cabinet equipment!"]
["Carry over from Mercury Vapor Case Signs section",null,null,null,null,null,null,null,null,null,null,null,null,null,{"$f":"'Merc Vap Case Signs'!P28","v":0},{"$f":"'Merc Vap Case Signs'!P27","v":0}]
[null,null,null,null,null,null,null,null,"Total Openings",null,null,null,null,null,null,{"$f":"SUM(P4:P63)","v":0}]
[null,null,null,null,null,null,"Total Cyclic Watts",null,null,null,null,null,null,null,null,{"$f":"SUM(O4:O33)","v":0}]
[null,null,null,null,null,null,"Total Steady Watts",null,null,null,null,null,null,null,null,{"$f":"SUM(O37:O63)","v":0}]
[]
["8' STREET NAME SIGNS LED (1 WAY)",null,1,null,null,null,null,null,null,null,null,null,64,null,{"$f":"B68*M68","v":0},{"$f":"C68*B68","v":0},null,"NOT FIGURED IN WITH THE SIGNAL, PAID FOR BY OTHERS"]
["8' STREET NAME SIGNS LED (2 WAY)",null,2,null,null,null,null,null,null,null,null,null,128,null,{"$f":"B69*M69","v":0},{"$f":"B69*C69","v":0}]
[]
["6' STREET NAME SIGNS LED (1 WAY)",null,1,null,null,null,null,null,null,null,null,null,48,null,{"$f":"B71*M71","v":0},{"$f":"B71*C71","v":0}]
["6' STREET NAME SIGNS LED (2 WAY)",null,2,null,null,null,null,null,null,null,null,null,96,null,{"$f":"B72*M72","v":0},{"$f":"B72*C72","v":0}]

{"sheet":"Merc Vap Case Signs","index":9,"n_rows":28,"n_cols":16,"rows_kept":28,"cut":false,"hidden":false,"merged":[[0,0,0,3],[26,8,26,14],[27,6,27,14]]}
["ILLUMINATED SIGNS & CONTROLLER (steady)"]
["ITEM","QTY","Openings",null,null,null,null,null,null,null,null,null,"WATTS",null,"TOTAL","TOTAL"]
[null,null,"Each",null,null,null,null,null,null,null,null,null,"EACH",null,"WATTS","OPENINGS"]
["12 x 27 (Single Direction)",null,1,null,null,null,null,null,null,null,null,null,100,null,{"$f":"M4*B4","v":0},{"$f":"C4*B4","v":0}]
["12 x 27 (Two Directions)",null,2,null,null,null,null,null,null,null,null,null,200,null,0,0]
["12 x 27 (Three Directions)",null,3,null,null,null,null,null,null,null,null,null,200,null,0,0]
["12 x 27 (Four Directions)",null,4,null,null,null,null,null,null,null,null,null,200,null,0,0]
["24\" X 30\" Two Way CS (Single Legend)",null,1,null,null,null,null,null,null,null,null,null,200,null,{"$f":"M8*B8","v":0},0]
["24\" X 30\" Two Way CS (Two Legends)",null,2,null,null,null,null,null,null,null,null,null,200,null,{"$f":"M9*B9","v":0},0]
["24\" X 30\" Four Way CS (Two Legends)",null,2,null,null,null,null,null,null,null,null,null,250,null,0,0]
["24\" X 30\" Four Way CS (Three Legends)",null,3,null,null,null,null,null,null,null,null,null,250,null,0,0]
["24\" X 30\" Four Way CS (Four Legends)",null,4,null,null,null,null,null,null,null,null,null,250,null,0,0]
["36\" X 36\" Two Way CS (Single Legend)",null,1,null,null,null,null,null,null,null,null,null,200,null,0,0]
["36\" X 36\" Two Way CS (Two Legends)",null,2,null,null,null,null,null,null,null,null,null,200,null,0,0]
["36\" X 36\" Four Way CS (Two Legends)",null,2,null,null,null,null,null,null,null,null,null,250,null,0,0]
["36\" X 36\" Four Way CS (Three Legends)",null,3,null,null,null,null,null,null,null,null,null,250,null,0,0]
["36\" X 36\" Four Way CS (Four Legends)",null,4,null,null,null,null,null,null,null,null,null,250,null,0,0]
["Open/Closed Weigh Station (Incandescent/Fiber Optic)",null,1,null,null,null,null,null,null,null,null,null,300,null,{"$f":"B18*M18","v":0},{"$f":"B18*C18","v":0}]
["24 X 30 Disap'r Leg'd \"No Turn on Red\"",null,1,null,null,null,null,null,null,null,null,null,{"$f":"4*40","v":160},null,0,0]
["24 X 30 Disap'r Leg'd: NRT/NLT Symbol",null,1,null,null,null,null,null,null,null,null,null,{"$f":"6*40","v":240},null,0,0]
["24 X 30 Disap'r Leg'd \"No Exit\"",null,1,null,null,null,null,null,null,null,null,null,{"$f":"2*40","v":80},null,0,0]
["24 X 30 Disap'r Leg'd \"open\"/ \"closed\"",null,1,null,null,null,null,null,null,null,null,null,240,null,0,0]
["36\" x 72\" \"KEEP RIGHT\"",null,1,null,null,null,null,null,null,null,null,null,{"$f":"85*4","v":340},null,{"$f":"M23*B23","v":0},{"$f":"C23*B23","v":0}]
["8' Illuminated Street Name Sign",null,2,null,null,null,null,null,null,null,null,null,220]
[null,null,null,null,null,null,null,null,null,null,null,null,null,null,{"$f":"B25*M25","v":0},0]
["insert lines here",null,null,null,null,null,null,null,null,null,null,null,0,null,{"$f":"M26*B26","v":0},{"$f":"C26*B26","v":0}]
[null,null,null,null,null,null,null,null,"Total Openings",null,null,null,null,null,null,{"$f":"SUM(P1:P26)","v":0}]
[null,null,null,null,null,null,"Total Steady Watts",null,null,null,null,null,null,null,null,{"$f":"SUM(O4:O26)","v":0}]

{"sheet":"Incandescent State Wide","index":10,"n_rows":54,"n_cols":7,"rows_kept":54,"cut":false,"hidden":false,"merged":[[53,3,53,5],[0,0,0,6],[13,0,13,6],[28,0,28,6],[51,3,51,5],[52,3,52,5]]}
["8\" SIGNALS (cyclic)"]
["ITEM","QTY","FACES","COLORS","WATTS EACH","TOTAL OPENINGS","TOTAL WATTS"]
["4W-3C",null,4,3,69,{"$f":"B3*D3*C3","v":0},{"$f":"B3*D3*C3*E3","v":0}]
["3W-3C",null,3,3,69,0,0]
["2W-3C",null,2,3,69,0,0]
["1W-3C",null,1,3,69,0,0]
["4W-1C",null,4,1,69,0,0]
["3W-1C",null,3,1,69,0,0]
["1W-1C",null,1,1,69,0,0]
["1W-1C Sign Optical 8\"",null,1,1,69,0,0]
["4th Level L/RTGA",null,1,4,69,0,0]
["DOG HOUSE",null,1,5,69,0,0]
["insert lines here"]
["12\" SIGNALS (cyclic)"]
["ITEM","QTY","FACES","COLORS","WATTS EACH","TOTAL OPENINGS","TOTAL WATTS"]
["4W-3C",null,4,3,150,{"$f":"B16*D16*C16","v":0},{"$f":"B16*D16*C16*E16","v":0}]
["3W-3C",null,3,3,150,0,0]
["2W-3C",null,2,3,150,0,0]
["1W-3C",null,1,3,150,0,0]
["4W-1C",null,4,1,150,0,0]
["3W-1C",null,3,1,150,0,0]
["1W-1C",null,1,1,150,0,0]
["1W-1C Sign Optical 12\"",null,1,1,150,0,0]
["4th Level L/RTGA",null,1,4,150,0,0]
["DOG HOUSE",null,1,5,150,0,0]
["1W-2C (PED)",null,1,2,100,0,0]
["2W-2C (PED)",null,2,2,100,0,0]
["insert lines here"]
["ILLUMINATED SIGNS (steady)"]
["ITEM","QTY","FACES",null,"WATTS EACH","TOTAL OPENINGS","TOTAL WATTS"]
["12 x 27 (Single Direction)",null,1,null,100,{"$f":"B31*C31","v":0},{"$f":"B31*E31","v":0}]
["12 x 27 (Two Directions)",null,2,null,200,0,0]
["12 x 27 (Three Directions)",null,3,null,200,0,0]
["12 x 27 (Four Directions)",null,4,null,200,0,0]
["24\" X 30\" Two Way CS (Single Legend)",null,1,null,200,{"$f":"B35*C35","v":0},{"$f":"B35*E35","v":0}]
["24\" X 30\" Two Way CS (Two Legends)",null,2,null,200,{"$f":"B36*C36","v":0},{"$f":"B36*E36","v":0}]
["24\" X 30\" Four Way CS (Two Legends)",null,2,null,250,0,0]
["24\" X 30\" Four Way CS (Three Legends)",null,3,null,250,0,0]
["24\" X 30\" Four Way CS (Four Legends)",null,4,null,250,0,0]
["36\" X 36\" Two Way CS (Single Legend)",null,1,null,200,0,0]
["36\" X 36\" Two Way CS (Two Legends)",null,2,null,200,0,0]
["36\" X 36\" Four Way CS (Two Legends)",null,2,null,250,0,0]
["36\" X 36\" Four Way CS (Three Legends)",null,3,null,250,0,0]
["36\" X 36\" Four Way CS (Four Legends)",null,4,null,250,{"$f":"B44*C44","v":0},{"$f":"B44*E44","v":0}]
["24 X 30 Disap'r Leg'd \"No Turn on Red\"",null,1,null,{"$f":"4*40","v":160},0,0]
["24 X 30 Disap'r Leg'd: NRT/NLT Symbol",null,1,null,{"$f":"6*40","v":240},0,0]
["24 X 30 Disap'r Leg'd \"No Exit\"",null,1,null,{"$f":"2*40","v":80},0,0]
["24 X 30 Disap'r Leg'd \"open\"/ \"closed\"",null,1,null,{"$f":"6*40","v":240},0,0]
["36\" x 72\" \"KEEP RIGHT\"",null,1,null,{"$f":"85*4","v":340},0,0]
["8' Illuminated Street Name Sign",null,2,null,220,{"$f":"B50*C50","v":0},{"$f":"B50*E50","v":0}]
["insert lines here",null,null,null,0,{"$f":"B51*C51","v":0},{"$f":"B51*E51","v":0}]
[null,null,null,"TOTAL OPENINGS",null,null,{"$f":"SUM(F3:F13,F16:F28,F31:F51)","v":0}]
[null,null,null,"TOTAL CYCLIC WATTS",null,null,{"$f":"SUM(G3:G13,G16:G28)","v":0}]
[null,null,null,"TOTAL STEADY WATTS",null,null,{"$f":"SUM(G31:G51)","v":0}]

{"sheet":"Detroit ","index":11,"n_rows":54,"n_cols":7,"rows_kept":54,"cut":false,"hidden":false,"merged":[[53,3,53,5],[0,0,0,6],[13,0,13,6],[28,0,28,6],[51,3,51,5],[52,3,52,5]]}
["8\" SIGNALS (cyclic)"]
["ITEM","QTY","FACES","COLORS","WATTS","OPENINGS","TOTAL"]
["4W-3C",null,4,3,60,{"$f":"B3*D3*C3","v":0},{"$f":"B3*D3*C3*E3","v":0}]
["3W-3C",null,3,3,60,0,0]
["2W-3C",null,2,3,60,0,0]
["1W-3C",null,1,3,60,0,0]
["4W-1C",null,4,1,60,0,0]
["3W-1C",null,3,1,60,0,0]
["1W-1C",null,1,1,60,0,0]
["1W-1C Sign Optical 8\"",null,1,1,60,0,0]
["4th Level L/RTGA",null,1,4,60,0,0]
["DOG HOUSE",null,1,5,60,0,0]
["insert lines here"]
["12\" SIGNALS (cyclic)"]
["ITEM","QTY","FACES","COLORS","WATTS","OPENINGS","TOTAL"]
["4W-3C",null,4,3,150,{"$f":"B16*D16*C16","v":0},{"$f":"B16*D16*C16*E16","v":0}]
["3W-3C",null,3,3,150,0,0]
["2W-3C",null,2,3,150,0,0]
["1W-3C",null,1,3,150,{"$f":"B19*D19*C19","v":0},{"$f":"B19*D19*C19*E19","v":0}]
["4W-1C",null,4,1,150,0,0]
["3W-1C",null,3,1,150,0,0]
["1W-1C",null,1,1,150,0,0]
["1W-1C Sign Optical 12\"",null,1,1,150,0,0]
["4th Level L/RTGA",null,1,4,150,0,0]
["DOG HOUSE",null,1,5,150,0,0]
["1W-2C (PED)",null,1,2,100,0,0]
["2W-2C (PED)",null,2,2,100,0,0]
["insert lines here"]
["ILLUMINATED SIGNS (steady)"]
["ITEM","QTY","FACES",null,"WATTS","OPENINGS","TOTAL"]
["12 x 27 (Single Direction)",null,1,null,100,{"$f":"C31*B31","v":0},{"$f":"B31*E31","v":0}]
["12 x 27 (Two Directions)",null,2,null,200,0,0]
["12 x 27 (Three Directions)",null,3,null,200,0,0]
["12 x 27 (Four Directions)",null,4,null,200,0,0]
["24\" X 30\" Two Way CS (Single Legends)",null,1,null,200,{"$f":"B35*C35","v":0},0]
["24\" X 30\" Two Way CS (Two Legends)",null,2,null,200,{"$f":"B36*C36","v":0},0]
["24\" X 30\" Four Way CS (Single Legend)",null,1,null,200,0,0]
["24\" X 30\" Four Way CS (Two Legends)",null,2,null,200,0,0]
["24\" X 30\" Four Way CS (Three Legends)",null,3,null,250,0,0]
["24\" X 30\" Four Way CS (Four Legends)",null,4,null,250,0,0]
["36\" X 36\" Four Way CS (Single Legend)",null,1,null,200,0,0]
["36\" X 36\" Four Way CS (Two Legends)",null,2,null,200,0,0]
["36\" X 36\" Four Way CS (Three Legends)",null,3,null,250,0,0]
["36\" X 36\" Four Way CS (Four Legends)",null,4,null,250,0,0]
["24 X 30 Disap'r Leg'd \"No Turn on Red\"",null,1,null,{"$f":"4*40","v":160},0,0]
["24 X 30 Disap'r Leg'd: NRT/NLT Symbol",null,1,null,{"$f":"6*40","v":240},0,0]
["24 X 30 Disap'r Leg'd \"No Exit\"",null,1,null,{"$f":"2*40","v":80},0,0]
["24 X 30 Disap'r Leg'd \"open\"/ \"closed\"",null,1,null,240,0,0]
["36\" x 72\" \"KEEP RIGHT\"",null,1,null,{"$f":"85*4","v":340},0,0]
[null,null,null,null,null,0,0]
["insert lines here",null,null,null,0,0,0]
[null,null,null,"TOTAL OPENINGS",null,null,{"$f":"SUM(F3:F13,F16:F28,F31:F51)","v":0}]
[null,null,null,"TOTAL CYCLIC WATTS",null,null,{"$f":"SUM(G3:G13,G16:G28)","v":0}]
[null,null,null,"TOTAL STEADY WATTS",null,null,{"$f":"SUM(G31:G51)","v":0}]

{"sheet":"Others","index":12,"n_rows":54,"n_cols":7,"rows_kept":54,"cut":false,"hidden":false,"merged":[[53,3,53,5],[0,0,0,6],[13,0,13,6],[28,0,28,6],[51,3,51,5],[52,3,52,5]]}
["8\" SIGNALS (cyclic)"]
["ITEM","QTY","FACES","COLORS","WATTS","OPENINGS","TOTAL"]
["4W-3C",null,4,3,67,{"$f":"B3*D3*C3","v":0},{"$f":"B3*D3*C3*E3","v":0}]
["3W-3C",null,3,3,67,0,0]
["2W-3C",null,2,3,67,0,0]
["1W-3C",null,1,3,67,0,0]
["4W-1C",null,4,1,67,0,0]
["3W-1C",null,3,1,67,0,0]
["1W-1C",null,1,1,67,0,0]
["1W-1C Sign Optical 8\"",null,1,1,67,0,0]
["4th Level L/RTGA",null,1,4,67,0,0]
["DOG HOUSE",null,1,5,67,0,0]
["insert lines here"]
["12\" SIGNALS (cyclic)"]
["ITEM","QTY","FACES","COLORS","WATTS","OPENINGS","TOTAL"]
["4W-3C",null,4,3,150,{"$f":"B16*D16*C16","v":0},{"$f":"B16*D16*C16*E16","v":0}]
["3W-3C",null,3,3,150,0,0]
["2W-3C",null,2,3,150,0,0]
["1W-3C",null,1,3,150,{"$f":"B19*D19*C19","v":0},{"$f":"B19*D19*C19*E19","v":0}]
["4W-1C",null,4,1,150,0,0]
["3W-1C",null,3,1,150,0,0]
["1W-1C",null,1,1,150,0,0]
["1W-1C Sign Optical 12\"",null,1,1,150,0,0]
["4th Level L/RTGA",null,1,4,150,0,0]
["DOG HOUSE",null,1,5,150,0,0]
["1W-2C (PED)",null,1,2,100,0,0]
["2W-2C (PED)",null,2,2,100,0,0]
["insert lines here"]
["ILLUMINATED SIGNS (steady)"]
["ITEM","QTY","FACES",null,"WATTS","OPENINGS","TOTAL"]
["12 x 27 (Single Direction)",null,1,null,100,{"$f":"C31*B31","v":0},{"$f":"B31*E31","v":0}]
["12 x 27 (Two Directions)",null,2,null,200,0,0]
["12 x 27 (Three Directions)",null,3,null,200,0,0]
["12 x 27 (Four Directions)",null,4,null,200,0,0]
["24\" X 30\" Two Way CS (Single Legends)",null,1,null,200,{"$f":"B35*C35","v":0},0]
["24\" X 30\" Two Way CS (Two Legends)",null,2,null,200,{"$f":"B36*C36","v":0},0]
["24\" X 30\" Four Way CS (Single Legend)",null,1,null,200,0,0]
["24\" X 30\" Four Way CS (Two Legends)",null,2,null,200,0,0]
["24\" X 30\" Four Way CS (Three Legends)",null,3,null,250,0,0]
["24\" X 30\" Four Way CS (Four Legends)",null,4,null,250,0,0]
["36\" X 36\" Four Way CS (Single Legend)",null,1,null,200,0,0]
["36\" X 36\" Four Way CS (Two Legends)",null,2,null,200,0,0]
["36\" X 36\" Four Way CS (Three Legends)",null,3,null,250,0,0]
["36\" X 36\" Four Way CS (Four Legends)",null,4,null,250,0,0]
["24 X 30 Disap'r Leg'd \"No Turn on Red\"",null,1,null,{"$f":"4*40","v":160},0,0]
["24 X 30 Disap'r Leg'd: NRT/NLT Symbol",null,1,null,{"$f":"6*40","v":240},0,0]
["24 X 30 Disap'r Leg'd \"No Exit\"",null,1,null,{"$f":"2*40","v":80},0,0]
["24 X 30 Disap'r Leg'd \"open\"/ \"closed\"",null,1,null,240,0,0]
["36\" x 72\" \"KEEP RIGHT\"",null,1,null,{"$f":"85*4","v":340},0,0]
[null,null,null,null,null,0,0]
["insert lines here",null,null,null,0,0,0]
[null,null,null,"TOTAL OPENINGS",null,null,{"$f":"SUM(F3:F13,F16:F28,F31:F51)","v":0}]
[null,null,null,"TOTAL CYCLIC WATTS",null,null,{"$f":"SUM(G3:G13,G16:G28)","v":0}]
[null,null,null,"TOTAL STEADY WATTS",null,null,{"$f":"SUM(G31:G51)","v":0}]

{"sheet":"Design Constants","index":13,"n_rows":22,"n_cols":10,"rows_kept":22,"cut":false,"hidden":true,"merged":[]}
[]
["Design Constants",null,null,"Span Wire Limits",null,null,null,null,"Minimum Vertical Clearance"]
[null,null,null,"SIG-020/021","-"]
["Design Constant","Value",null,"Span Length Lower Bound (ft)","Span Length Upper Bound (ft)","Generalized Load Limit (lbs)","Perp. Wind Area Limit (sft)",null,"Tether Condition","Minimum Vertical Clearance (ft)"]
["Min. Stem Length (ft)",{"$f":"10/12","v":0.83333333333333337},null,0,100,328,58,null,"BOT. TETHERED",18]
["Min. Stem Top Tethered (ft)",{"$f":"2","v":2},null,101,120,328,58,null,"TOP TETHERED",17]
["Min. Sag (Simple Spans)",0.05,null,121,150,328,58,null,"NOT TETHERED",17]
["Min. Sag (Tied-off Spans)",6.5000000000000002E-2,null,151,175,370,58]
["Span Wire Weight (plf)",1.155,null,176,200,370,58]
[]
[]
[null,null,null,"SIG-022"]
[null,null,null,"Field Drilled Hole Size","Span Length Lower Bound (ft)","Span Length Upper Bound (ft)","Generalized Load Limit (lbs)","Perp. Wind Area Limit (sft)"]
[null,null,null,"No Hole",0,100,171,27.4]
[null,null,null,"No Hole",101,120,171,27.4]
[null,null,null,"No Hole",121,150,171,27.4]
[null,null,null,"3.5\" Dia.",{"$f":"E14","v":0},{"$f":"F14","v":100},136.80000000000001,21.9]
[null,null,null,"3.5\" Dia.",{"$f":"E15","v":101},120,136.80000000000001,21.9]
[null,null,null,"3.5\" Dia.",121,150,136.80000000000001,21.9]
[null,null,null,"4.5\" Dia.",0,100,124,19.899999999999999]
[null,null,null,"4.5\" Dia.",101,120,124,19.899999999999999]
[null,null,null,"4.5\" Dia.",121,150,124,19.899999999999999]

{"sheet":"Sample Configurations","index":14,"n_rows":44,"n_cols":64,"rows_kept":44,"cut":false,"hidden":true,"merged":[]}
[null,null,"Diagonal Simple Span",null,null,null,null,null,null,"Diagonal 4-way Span",null,null,null,null,null,null,"Dual C-Span",null,null,null,null,null,null,"Box Span",null,null,null,null,null,null,"Suspended Box Span",null,null,null,null,null,null,"Five Span Box",null,null,null,null,null,null,"S-Span",null,null,null,null,null,null,"V-Span",null,null,null,null,null,null,"Z-Span"]
["Span Presets",null,"Point Name","Item","Quadrant","Northing","Easting","Top of Foundation",null,"Point Name","Item","Quadrant","Northing","Easting","Top of Foundation",null,"Point Name","Item","Quadrant","Northing","Easting","Top of Foundation",null,"Point Name","Item","Quadrant","Northing","Easting","Top of Foundation",null,"Point Name","Item","Quadrant","Northing","Easting","Top of Foundation",null,"Point Name","Item","Quadrant","Northing","Easting","Top of Foundation",null,"Point Name","Item","Quadrant","Northing","Easting","Top of Foundation",null,"Point Name","Item","Quadrant","Northing","Easting","Top of Foundation",null,"Point Name","Item","Quadrant","Northing","Easting","Top of Foundation"]
[{"$f":"TRANSPOSE(_xlfn._xlws.FILTER(1:1,1:1<>\"\"))","v":"Diagonal Simple Span"},null,1,"STEEL POLE","SW",225210.62,13436129.93,600,null,1,"TIE-OFF JUNC.","SW",224950,13435950,"-",null,1,"STEEL POLE","NE",225210.62,13436129.93,582.21,null,1,"STEEL POLE","NW",224925,13435900,875,null,1,"TIE-OFF JUNCT.","NW",224925,13435900,"-",null,1,"STEEL POLE","S",224900,13436000,600,null,1,"STEEL POLE","NE",225225,13436040,600,null,1,"STEEL POLE","NE",225050,13436000,600,null,1,"STEEL POLE","N",225100,13436000,600]
["Diagonal 4-way Span",null,2,"STEEL POLE","NE",225097.34,13436048.609999999,600,null,2,"TIE-OFF JUNC.","NE",225050,13436050,"-",null,2,"STEEL POLE","SE",225097.34,13436048.609999999,582.37,null,2,"STEEL POLE","SW",224835.39062655231,13435818.690958742,875,null,2,"STEEL POLE","SW",224835.39062655231,13435818.690958742,876,null,2,"STEEL POLE","SW",224969,13435905,600,null,2,"STEEL POLE","NW",225075,13435960,600,null,2,"STEEL POLE","NW",225050,13435900,600,null,2,"STEEL POLE","NE",225100,13436100,600]
["Dual C-Span",null,null,null,null,null,null,null,null,3,"STEEL POLE","SW",224925,13435965,600,null,3,"STEEL POLE","S MEDIAN",225109.66,13435915.26,582.29999999999995,null,3,"STEEL POLE","SE",224801.56386024659,13435957.632492783,875,null,3,"TIE-OFF JUNCT.","SE",224801.56386024659,13435957.632492783,"-",null,3,"STEEL POLE","NW",225081,13435941,600,null,3,"STEEL POLE","SW",224950,13435960,600,null,3,"STEEL POLE","SE",224975,13435975,600,null,3,"STEEL POLE","SE",225000,13436100,600]
["Box Span",null,null,null,null,null,null,null,null,4,"STEEL POLE","SW",224950,13435910,600,null,4,"STEEL POLE","S MEDIAN",225106.21,13435810.9,581.25,null,4,"STEEL POLE","NE",224915.69579625974,13436078.172532529,875,null,4,"STEEL POLE","NE",224915.69579625974,13436078.172532529,876,null,4,"STEEL POLE","NE",225081,13436059,600,null,4,"STEEL POLE","NE",225075,13436040,600,null,null,null,null,null,null,null,null,4,"STEEL POLE","S",225000,13436000,600]
["Suspended Box Span",null,null,null,null,null,null,null,null,5,"STEEL POLE","NE",225050,13436075,600,null,5,"STEEL POLE","SW",225100.63,13435682.432,582.35,null,null,null,null,null,null,null,null,5,"STEEL POLE","NW",224965,13435883.516799999,876,null,5,"STEEL POLE","SE",224969,13436095,600,null,5,"STEEL POLE","SE",224900,13436040,600,null,null,null,null,null,null,null,null,5,"STEEL POLE","W",225050,13435900,600]
["Five Span Box",null,null,null,null,null,null,null,null,6,"STEEL POLE","NE",225075,13436050,600,null,6,"STEEL POLE","NW",225175.73,13435715.24,583.1,null,null,null,null,null,null,null,null,6,"STEEL POLE","SE",224783.5785,13435962.410092782,876,null,null,null,null,null,null,null,null,6,"STEEL POLE","SW",224750,13435960,600,null,null,null,null,null,null,null,null,6,"STEEL POLE","SW",224900,13435900,600]
["S-Span",null,null,null,null,null,null,null,null,null,null,null,null,null,null,null,7,"STEEL POLE","N MEDIAN",225179.25,13435847.01,581.54999999999995]
["V-Span",null,null,null,null,null,null,null,null,null,null,null,null,null,null,null,8,"STEEL POLE","N MEDIAN",225176.79,13435961.98,582.53]
["Z-Span",null,null,null,null,null,null,null,null,null,null,null,null,null,null,null,9,"TIE-OFF JUNCT.","SW",225106.7292,13435690.369000001,"-"]
[null,null,null,null,null,null,null,null,null,null,null,null,null,null,null,null,10,"TIE-OFF JUNCT.","S MEDIAN",225116.21,13435805.003599999,"-"]
[null,null,null,null,null,null,null,null,null,null,null,null,null,null,null,null,11,"TIE-OFF JUNCT.","NE",225200.62,13436114.6165,"-"]
[]
[]
[]
[]
[]
[]
[]
[]
[]
[]
[]
[]
[]
[]
[]
[]
[]
[]
[]
[]
[]
[null,null,"Span","Point A","Point B","Main Span A (TO Span only)","Main Span B (TO Span only)","Grade Centerline Elevation (ft)",null,"Span","Point A","Point B","Main Span A (TO Span only)","Main Span B (TO Span only)","Grade Centerline Elevation (ft)",null,"Span","Point A","Point B","Main Span A (TO Span only)","Main Span B (TO Span only)","Grade Centerline Elevation (ft)",null,"Span","Point A","Point B","Main Span A (TO Span only)","Main Span B (TO Span only)","Grade Centerline Elevation (ft)",null,"Span","Point A","Point B","Main Span A (TO Span only)","Main Span B (TO Span only)","Grade Centerline Elevation (ft)",null,"Span","Point A","Point B","Main Span A (TO Span only)","Main Span B (TO Span only)","Grade Centerline Elevation (ft)",null,"Span","Point A","Point B","Main Span A (TO Span only)","Main Span B (TO Span only)","Grade Centerline Elevation (ft)",null,"Span","Point A","Point B","Main Span A (TO Span only)","Main Span B (TO Span only)","Grade Centerline Elevation (ft)",null,"Span","Point A","Point B","Main Span A (TO Span only)","Main Span B (TO Span only)","Grade Centerline Elevation (ft)"]
[null,null,1,1,2,"-","-",600,null,1,1,2,"-","-",600,null,1,9,10,"-","-",583,null,1,1,2,"-","-",873,null,1,1,2,"-","-",874,null,1,1,2,"-","-",600,null,1,1,2,"-","-",600,null,1,1,2,"-","-",600,null,1,1,2,"-","-",600]
[null,null,null,null,null,null,null,null,null,"TO1-1",1,3,1,"-",600,null,2,9,6,"-","-",583,null,2,2,3,"-","-",873,null,2,2,3,"-","-",874,null,2,2,3,"-","-",600,null,2,2,3,"-","-",600,null,2,2,3,"-","-",600,null,2,1,3,"-","-",600]
[null,null,null,null,null,null,null,null,null,"TO2-1",1,4,1,"-",600,null,3,10,7,"-","-",583,null,3,3,4,"-","-",873,null,3,3,4,"-","-",874,null,3,3,4,"-","-",600,null,3,3,4,"-","-",600,null,null,null,null,null,null,null,null,3,3,4,"-","-",600]
[null,null,null,null,null,null,null,null,null,"TO1-2",2,5,1,"-",600,null,"TO1-9",9,5,1,2,583,null,4,4,1,"-","-",873,null,4,4,1,"-","-",874,null,4,4,5,"-","-",600,null,4,4,5,"-","-",600,null,null,null,null,null,null,null,null,4,1,5,"-","-",600]
[null,null,null,null,null,null,null,null,null,"TO2-2",2,6,1,"-",600,null,"TO1-10",10,4,1,3,583,null,null,null,null,null,null,null,null,"TO1-1",1,5,1,4,874,null,5,1,5,"-","-",600,null,5,5,6,"-","-",600,null,null,null,null,null,null,null,null,5,5,6,"-","-",600]
[null,null,null,null,null,null,null,null,null,null,null,null,null,null,null,null,4,3,8,"-","-",583,null,null,null,null,null,null,null,null,"TO1-3",3,6,2,3,874]
[null,null,null,null,null,null,null,null,null,null,null,null,null,null,null,null,5,8,11,"-","-",583]
[null,null,null,null,null,null,null,null,null,null,null,null,null,null,null,null,6,11,2,"-","-",583]
[null,null,null,null,null,null,null,null,null,null,null,null,null,null,null,null,"TO1-11",11,1,5,6,583]

{"sheet":"Main Span Template","index":15,"n_rows":425,"n_cols":23,"rows_kept":425,"cut":false,"hidden":true,"merged":[[0,0,0,1]]}
["Span Design:",null,{"$f":"MID(CELL(\"filename\",A1),FIND(\"]\",CELL(\"filename\",A1))+1,255)","v":"Main Span Template"}]
["MDOT Traffic and Safety Support Area"]
[null,null,null,null,null,null,null,null,"Span",null,null,null,null,"At Point A",null,null,null,null,"At Point B"]
[null,null,null,null,null,null,null,"Horizontal Force, FH",1000,"lbs",null,null,"Point",{"$f":"VLOOKUP($C$1,TEXT(SpanConfig[],0),2,FALSE)","v":{"$error":"#N/A"}},null,null,null,"Point",{"$f":"VLOOKUP($C$1,TEXT(SpanConfig[],0),3,FALSE)","v":{"$error":"#N/A"}}]
[null,null,null,null,null,null,null,"Tether Condition","NOT TETHERED",null,null,null,"POCH **",30,"ft",{"$f":"IF(N9=\"ERROR\",\"Lower POCH\",\"OK\")","v":"OK"},null,"POCH **",30,"ft",{"$f":"IF(S9=\"ERROR\",\"Lower POCH\",\"OK\")","v":"OK"}]
[null,null,null,null,null,null,null,"Minimum stem",{"$f":"MIN(T26:T425)","v":0},"ft",{"$f":"IF(I6<INDEX(DesignConstants[Value],MATCH(IF(I5=\"TOP TETHERED\",\"Min. Stem Top Tethered (ft)\",\"Min. Stem Length (ft)\"),DesignConstants[Design Constant],0)),\"Lengthen stem\",\"OK\")","v":"Lengthen stem"},null,"POCH **",{"$f":"IFERROR(INT(N5)&\"'-\"&ROUND((N5-INT(N5))*12,0)&\"\"\"\",\"-\")","v":"30'-0\""},null,null,null,"POCH **",{"$f":"IFERROR(INT(S5)&\"'-\"&ROUND((S5-INT(S5))*12,0)&\"\"\"\",\"-\")","v":"30'-0\""}]
[null,null,null,null,null,null,null,"Minimum stem",{"$f":"INT(I6)&\"'-\"&ROUND((I6-INT(I6))*12,0)&\"\"\"\"","v":"0'-0\""},null,null,null,"Base of Pole Elevation",{"$f":"IFERROR(INDEX(SpanConfig[Pole A Base Elevation (ft)],MATCH($C$1,TEXT(SpanConfig[Span],0),0)),\"-\")","v":"-"},"ft",null,null,"Base of Pole Elevation",{"$f":"IFERROR(INDEX(SpanConfig[Pole B Base Elevation (ft)],MATCH($C$1,TEXT(SpanConfig[Span],0),0)),\"-\")","v":"-"},"ft"]
[null,null,null,null,null,null,null,"Span Length",{"$f":"IFERROR(INDEX(SpanConfig[Span Length (ft)],MATCH($C$1,TEXT(SpanConfig[Span],0),0)),\"-\")","v":"-"},"ft",null,null,"Connection Height *",{"$f":"IFERROR(N5-($I$9-N7),INDIRECT(\"'TO1-\"&N$4&\"'!N15\"))","v":{"$error":"#N/A"}},"ft",null,null,"Connection Height *",{"$f":"IFERROR(S5-($I$9-S7),INDIRECT(\"'TO1-\"&S$4&\"'!N15\"))","v":{"$error":"#N/A"}},"ft"]
[null,null,null,null,null,null,null,"Grade Centerline Elevation ",{"$f":"IFERROR(INDEX(SpanConfig[Grade Centerline Elevation (ft)],MATCH($C$1,TEXT(SpanConfig[Span],0),0)),\"-\")","v":"-"},"ft",null,null,"Pole Required Length",{"$f":"_xlfn.IFS(N5=\"-\",\"-\",N5>40-1.5,\"ERROR\",N5>36-1.6,40,N5>30-1.5,36,TRUE,30)","v":36},"ft",null,null,"Pole Required Length",{"$f":"_xlfn.IFS(S5=\"-\",\"-\",S5>40-1.5,\"ERROR\",S5>36-1.6,40,S5>30-1.5,36,TRUE,30)","v":36},"ft"]
[null,null,null,null,null,null,null,"Req'd Vertical Clearance",{"$f":"INDEX(MinVertClearance[Minimum Vertical Clearance (ft)],MATCH($I$5,MinVertClearance[Tether Condition],0))","v":17},"ft",null,null,"Tension",{"$f":"IFERROR((I4^2+N15^2)^0.5,\"-\")","v":"-"},"lbs",{"$f":"IF(OR(N10>1500,N10/I4>1.2),\"Check tension\",\"OK\")","v":{"$error":"#VALUE!"}},null,"Tension",{"$f":"IFERROR((I4^2+S15^2)^0.5,\"-\")","v":"-"},"lbs",{"$f":"IF(OR(S10>1500,S10/I4>1.2),\"Check tension\",\"OK\")","v":{"$error":"#VALUE!"}}]
[null,null,null,null,null,null,null,"Conn. Height Difference",{"$f":"IFERROR(S8-N8,\"-\")","v":"-"},"ft",null,null,"TO1 Span Length",{"$f":"IFERROR(VLOOKUP(\"TO1-\"&N$4,SpanConfig[],11,FALSE),\"-\")","v":"-"},"ft",null,null,"TO1 Span Length",{"$f":"IFERROR(VLOOKUP(\"TO1-\"&S$4,SpanConfig[],11,FALSE),\"-\")","v":"-"},"ft"]
[null,null,null,null,null,null,null,"Total Weight",{"$f":"SUM(K26:L425)","v":461.99999999999534},"lbs",null,null,"TO2 Span Length",{"$f":"IFERROR(VLOOKUP(\"TO2-\"&N$4,SpanConfig[],11,FALSE),\"-\")","v":"-"},"ft",null,null,"TO2 Span Length",{"$f":"IFERROR(VLOOKUP(\"TO2-\"&S$4,SpanConfig[],11,FALSE),\"-\")","v":"-"},"ft"]
[null,null,null,null,null,null,null,"Span Moment about Point A",{"$f":"IFERROR(SUM(M26:N425)+I4*I11,\"-\")","v":"-"},"lbs-ft",null,null,"TO1 Conn. Height",{"$f":"IFERROR(INDIRECT(\"'TO1-\"&N$4&\"'!$N$24\"),\"-\")","v":"-"},"ft",null,null,"TO1 Conn. Height",{"$f":"IFERROR(INDIRECT(\"'TO1-\"&S$4&\"'!$N$24\"),\"-\")","v":"-"},"ft"]
[null,null,null,null,null,null,null,"Min Vertical Clearance",{"$f":"IFERROR(MIN(V26:V425),\"-\")","v":"-"},"ft",{"$f":"IF(I14<I10,\"Check tension\",\"OK\")","v":"OK"},null,"TO2 Conn. Height",{"$f":"IFERROR(INDIRECT(\"'TO2-\"&N$4&\"'!$N$24\"),\"-\")","v":"-"},"ft",null,null,"TO2 Conn. Height",{"$f":"IFERROR(INDIRECT(\"'TO2-\"&S$4&\"'!$N$24\"),\"-\")","v":"-"},"ft"]
[null,null,null,null,null,null,null,"Maximum stem",{"$f":"MAX(T26:T425)","v":0},"ft",null,null,"Vertical Force",{"$f":"IFERROR(I12-S15,\"-\")","v":"-"},"lbs",null,null,"Vertical Force",{"$f":"IFERROR(I13/I8,\"-\")","v":"-"},"lbs"]
[null,null,null,null,null,null,null,"Maximum stem",{"$f":"INT(I15)&\"'-\"&ROUND((I15-INT(I15))*12,0)&\"\"\"\"","v":"0'-0\""},null,null,null,"Shaft Moment",{"$f":"IF(ISNUMBER(N7),I4*N5,\"-\")","v":"-"},"lbs-ft",null,null,"Shaft Moment",{"$f":"IF(ISNUMBER(S7),I4*S5,\"-\")","v":"-"},"lbs-ft"]
[null,null,null,null,null,null,null,"Sag",{"$f":"IFERROR(MAX(R26:R425-Q26:Q425)/I8,\"-\")","v":"-"},null,{"$f":"IF(ROUND(I17,4)<INDEX(DesignConstants[Value],MATCH(IF(I18>I8,\"Min. Sag (Tied-off Spans)\",\"Min. Sag (Simple Spans)\"),DesignConstants[Design Constant],0)),\"Check tension\",\"OK\")","v":{"$error":"#VALUE!"}},null,"Shaft Moment",{"$f":"IF(ISNUMBER(N7),N16/1000,\"-\")","v":"-"},"kips-ft",null,null,"Shaft Moment",{"$f":"IF(ISNUMBER(S7),S16/1000,\"-\")","v":"-"},"kips-ft"]
[null,null,null,null,null,null,null,"Sag Span Length",{"$f":"MAX(N11:N12)+I8+MAX(S11:S12)","v":{"$error":"#VALUE!"}},"ft"]
[null,null,null,null,null,null,null,"Design Standard","SIG-020/021",null,null,null,"* Connection height measured from grade centerline to POCH on pole or to tie off connection height"]
[null,null,null,null,null,null,null,"Field Drilled Hole Size ****","-",null,null,null,"** POCH measured from top of foundation"]
[null,null,null,null,null,null,null,"Total Attachment Weight *****",{"$f":"SUM(K26:K425)","v":0},"lbs",{"$f":"IF(I21>_xlfn.IFS(I19=\"SIG-020/021\",INDEX(SIG020021Limits[],MATCH(I8,SIG020021Limits[Span Length Lower Bound (ft)],1),MATCH(\"Generalized Load Limit (lbs)\",SIG020021Limits[#Headers],0)),I19=\"SIG-022\",INDEX(SIG022Limits[],MATCH(I20,SIG022Limits[Field Drilled Hole Size],0),MATCH(\"Generalized Load Limit (lbs)\",SIG022Limits[#Headers],0)),TRUE,10000),\"Reduce weight on span\",\"OK\")","v":{"$error":"#N/A"}},null,"*** Reference line is the linear interpolation between poles"]
[null,null,null,null,null,null,null,"Perpendicular Wind Area *****",{"$f":"SUM(J26:J425)","v":0},"sft",{"$f":"IF(I22>_xlfn.IFS(I19=\"SIG-020/021\",INDEX(SIG020021Limits[],MATCH(I8,SIG020021Limits[Span Length Lower Bound (ft)],1),MATCH(\"Perp. Wind Area Limit (sft)\",SIG020021Limits[#Headers],0)),I19=\"SIG-022\",INDEX(SIG022Limits[],MATCH(I20,SIG022Limits[Field Drilled Hole Size],0),MATCH(\"Perp. Wind Area Limit (sft)\",SIG022Limits[#Headers],0)),TRUE,10000),\"Reduce wind area\",\"OK\")","v":{"$error":"#N/A"}},null,"**** Applies if designing for criteria in SIG-022 only"]
[null,null,null,null,null,null,null,null,null,null,null,null,"***** Span weight and wind area checks are applicable only for steel strain poles included in standards SIG-020, SIG-021, and SIG-022"]
[]
["Distance Along Span (ft)","Head Type","or Parts:","pt. 1","pt. 2","pt. 3","pt. 4","pt. 5","pt. 6","Wind Area (sft)","Head Weight (lbs)","Span&Cable Weight (lbs)","Head Moment (lbs-ft)","Span Moment (lbs-ft)","Vertical Force (lbs)","Sag (ft)","Height (ft)","Reference Line Height (ft)***","Equipment Height (ft)","Stem Length (ft)","Stem Length (ft-in)","Bottom Height (ft)","Required Vertical Clearance"]
[1,null,null,null,null,null,null,null,null,{"$f":"SUM(IF(B26=\"\",0,INDEX(SignalHeads[Perp. Wind Area (sft)],MATCH(B26,SignalHeads[Code],0))),IF(D26=\"\",0,INDEX(SignalHeads[Perp. Wind Area (sft)],MATCH(D26,SignalHeads[Code],0))),IF(E26=\"\",0,INDEX(SignalHeads[Perp. Wind Area (sft)],MATCH(E26,SignalHeads[Code],0))),IF(F26=\"\",0,INDEX(SignalHeads[Perp. Wind Area (sft)],MATCH(F26,SignalHeads[Code],0))),IF(G26=\"\",0,INDEX(SignalHeads[Perp. Wind Area (sft)],MATCH(G26,SignalHeads[Code],0))),IF(H26=\"\",0,INDEX(SignalHeads[Perp. Wind Area (sft)],MATCH(H26,SignalHeads[Code],0))),IF(I26=\"\",0,INDEX(SignalHeads[Perp. Wind Area (sft)],MATCH(I26,SignalHeads[Code],0))))","v":0},{"$f":"SUM(IF(B26=\"\",0,INDEX(SignalHeads[Weight*** (lbs)],MATCH(B26,SignalHeads[Code],0))),IF(D26=\"\",0,INDEX(SignalHeads[Weight*** (lbs)],MATCH(D26,SignalHeads[Code],0))),IF(E26=\"\",0,INDEX(SignalHeads[Weight*** (lbs)],MATCH(E26,SignalHeads[Code],0))),IF(F26=\"\",0,INDEX(SignalHeads[Weight*** (lbs)],MATCH(F26,SignalHeads[Code],0))),IF(G26=\"\",0,INDEX(SignalHeads[Weight*** (lbs)],MATCH(G26,SignalHeads[Code],0))),IF(H26=\"\",0,INDEX(SignalHeads[Weight*** (lbs)],MATCH(H26,SignalHeads[Code],0))),IF(I26=\"\",0,INDEX(SignalHeads[Weight*** (lbs)],MATCH(I26,SignalHeads[Code],0))))","v":0},{"$f":"IF(A26<=$I$8,INDEX(DesignConstants[Value],MATCH(\"Span Wire Weight (plf)\",DesignConstants[Design Constant],0)),0)","v":1.155},{"$f":"IF(K26=\"\",0,K26*A26)","v":0},{"$f":"L26*(A26-0.5)","v":0.57750000000000001},{"$f":"N15-K26-L26","v":{"$error":"#VALUE!"}},{"$f":"(0.5*L26+O26+K26)/$I$4","v":{"$error":"#VALUE!"}},{"$f":"N8-P26","v":{"$error":"#N/A"}},{"$f":"IF(A26>$I$8,0,(IFERROR(INDEX($S$13:$S$14,MATCH(MAX($S$11:$S$12),$S$11:$S$12,FALSE)),$S$8)-(IFERROR(INDEX($N$13:$N$14,MATCH(MAX($N$11:$N$12),$N$11:$N$12,FALSE)),$N$8)))/$I$18*A26+IFERROR(INDEX($N$13:$N$14,MATCH(MAX($N$11:$N$12),$N$11:$N$12,FALSE)),$N$8))","v":{"$error":"#N/A"}},{"$f":"SUM(IF(B26=\"\",0,INDEX(SignalHeads[Height ** (feet)],MATCH(B26,SignalHeads[Code],0))),IF(D26=\"\",0,INDEX(SignalHeads[Height ** (feet)],MATCH(D26,SignalHeads[Code],0))),IF(E26=\"\",0,INDEX(SignalHeads[Height ** (feet)],MATCH(E26,SignalHeads[Code],0))),IF(F26=\"\",0,INDEX(SignalHeads[Height ** (feet)],MATCH(F26,SignalHeads[Code],0))),IF(G26=\"\",0,INDEX(SignalHeads[Height ** (feet)],MATCH(G26,SignalHeads[Code],0))),IF(H26=\"\",0,INDEX(SignalHeads[Height ** (feet)],MATCH(H26,SignalHeads[Code],0))),IF(I26=\"\",0,INDEX(SignalHeads[Height ** (feet)],MATCH(I26,SignalHeads[Code],0))))","v":0},{"$f":"IF(S26=0,\"\",ROUNDDOWN(12*(((Q26-S26)-MIN($Q$26:$Q$425-$S$26:$S$425)-(MAX($S$26:$S$425*(($Q$26:$Q$425-$S$26:$S$425)=MIN($Q$26:$Q$425-$S$26:$S$425)))-S26))+(MIN($Q$26:$Q$425-$S$26:$S$425)-$I$10)),0)/12)","v":""},{"$f":"IF(T26=\"\",\"\",INT(T26)&\"'-\"&ROUND((T26-INT(T26))*12,0)&\"\"\"\")","v":""},{"$f":"IF(A26<=$I$8,Q26-S26-IF(ISNUMBER(T26),T26,0),\"\")","v":{"$error":"#N/A"}},{"$f":"$I$10","v":17}]
[2,null,null,null,null,null,null,null,null,{"$f":"SUM(IF(B27=\"\",0,INDEX(SignalHeads[Perp. Wind Area (sft)],MATCH(B27,SignalHeads[Code],0))),IF(D27=\"\",0,INDEX(SignalHeads[Perp. Wind Area (sft)],MATCH(D27,SignalHeads[Code],0))),IF(E27=\"\",0,INDEX(SignalHeads[Perp. Wind Area (sft)],MATCH(E27,SignalHeads[Code],0))),IF(F27=\"\",0,INDEX(SignalHeads[Perp. Wind Area (sft)],MATCH(F27,SignalHeads[Code],0))),IF(G27=\"\",0,INDEX(SignalHeads[Perp. Wind Area (sft)],MATCH(G27,SignalHeads[Code],0))),IF(H27=\"\",0,INDEX(SignalHeads[Perp. Wind Area (sft)],MATCH(H27,SignalHeads[Code],0))),IF(I27=\"\",0,INDEX(SignalHeads[Perp. Wind Area (sft)],MATCH(I27,SignalHeads[Code],0))))","v":0},{"$f":"SUM(IF(B27=\"\",0,INDEX(SignalHeads[Weight*** (lbs)],MATCH(B27,SignalHeads[Code],0))),IF(D27=\"\",0,INDEX(SignalHeads[Weight*** (lbs)],MATCH(D27,SignalHeads[Code],0))),IF(E27=\"\",0,INDEX(SignalHeads[Weight*** (lbs)],MATCH(E27,SignalHeads[Code],0))),IF(F27=\"\",0,INDEX(SignalHeads[Weight*** (lbs)],MATCH(F27,SignalHeads[Code],0))),IF(G27=\"\",0,INDEX(SignalHeads[Weight*** (lbs)],MATCH(G27,SignalHeads[Code],0))),IF(H27=\"\",0,INDEX(SignalHeads[Weight*** (lbs)],MATCH(H27,SignalHeads[Code],0))),IF(I27=\"\",0,INDEX(SignalHeads[Weight*** (lbs)],MATCH(I27,SignalHeads[Code],0))))","v":0},{"$f":"IF(A27<=$I$8,INDEX(DesignConstants[Value],MATCH(\"Span Wire Weight (plf)\",DesignConstants[Design Constant],0)),0)","v":1.155},{"$f":"IF(K27=\"\",0,K27*A27)","v":0},1.7324999999999999,{"$f":"O26-K27-L27","v":{"$error":"#VALUE!"}},{"$f":"(0.5*L27+O27+K27)/$I$4","v":{"$error":"#VALUE!"}},{"$f":"Q26-P27","v":{"$error":"#N/A"}},{"$error":"#N/A"},{"$f":"SUM(IF(B27=\"\",0,INDEX(SignalHeads[Height ** (feet)],MATCH(B27,SignalHeads[Code],0))),IF(D27=\"\",0,INDEX(SignalHeads[Height ** (feet)],MATCH(D27,SignalHeads[Code],0))),IF(E27=\"\",0,INDEX(SignalHeads[Height ** (feet)],MATCH(E27,SignalHeads[Code],0))),IF(F27=\"\",0,INDEX(SignalHeads[Height ** (feet)],MATCH(F27,SignalHeads[Code],0))),IF(G27=\"\",0,INDEX(SignalHeads[Height ** (feet)],MATCH(G27,SignalHeads[Code],0))),IF(H27=\"\",0,INDEX(SignalHeads[Height ** (feet)],MATCH(H27,SignalHeads[Code],0))),IF(I27=\"\",0,INDEX(SignalHeads[Height ** (feet)],MATCH(I27,SignalHeads[Code],0))))","v":0},{"$f":"IF(S27=0,\"\",ROUNDDOWN(12*(((Q27-S27)-MIN($Q$26:$Q$425-$S$26:$S$425)-(MAX($S$26:$S$425*(($Q$26:$Q$425-$S$26:$S$425)=MIN($Q$26:$Q$425-$S$26:$S$425)))-S27))+(MIN($Q$26:$Q$425-$S$26:$S$425)-$I$10)),0)/12)","v":""},{"$f":"IF(T27=\"\",\"\",INT(T27)&\"'-\"&ROUND((T27-INT(T27))*12,0)&\"\"\"\")","v":""},{"$f":"IF(A27<=$I$8,Q27-S27-IF(ISNUMBER(T27),T27,0),\"\")","v":{"$error":"#N/A"}},17]
[3,null,null,null,null,null,null,null,null,{"$f":"SUM(IF(B28=\"\",0,INDEX(SignalHeads[Perp. Wind Area (sft)],MATCH(B28,SignalHeads[Code],0))),IF(D28=\"\",0,INDEX(SignalHeads[Perp. Wind Area (sft)],MATCH(D28,SignalHeads[Code],0))),IF(E28=\"\",0,INDEX(SignalHeads[Perp. Wind Area (sft)],MATCH(E28,SignalHeads[Code],0))),IF(F28=\"\",0,INDEX(SignalHeads[Perp. Wind Area (sft)],MATCH(F28,SignalHeads[Code],0))),IF(G28=\"\",0,INDEX(SignalHeads[Perp. Wind Area (sft)],MATCH(G28,SignalHeads[Code],0))),IF(H28=\"\",0,INDEX(SignalHeads[Perp. Wind Area (sft)],MATCH(H28,SignalHeads[Code],0))),IF(I28=\"\",0,INDEX(SignalHeads[Perp. Wind Area (sft)],MATCH(I28,SignalHeads[Code],0))))","v":0},{"$f":"SUM(IF(B28=\"\",0,INDEX(SignalHeads[Weight*** (lbs)],MATCH(B28,SignalHeads[Code],0))),IF(D28=\"\",0,INDEX(SignalHeads[Weight*** (lbs)],MATCH(D28,SignalHeads[Code],0))),IF(E28=\"\",0,INDEX(SignalHeads[Weight*** (lbs)],MATCH(E28,SignalHeads[Code],0))),IF(F28=\"\",0,INDEX(SignalHeads[Weight*** (lbs)],MATCH(F28,SignalHeads[Code],0))),IF(G28=\"\",0,INDEX(SignalHeads[Weight*** (lbs)],MATCH(G28,SignalHeads[Code],0))),IF(H28=\"\",0,INDEX(SignalHeads[Weight*** (lbs)],MATCH(H28,SignalHeads[Code],0))),IF(I28=\"\",0,INDEX(SignalHeads[Weight*** (lbs)],MATCH(I28,SignalHeads[Code],0))))","v":0},{"$f":"IF(A28<=$I$8,INDEX(DesignConstants[Value],MATCH(\"Span Wire Weight (plf)\",DesignConstants[Design Constant],0)),0)","v":1.155},0,2.8875000000000002,{"$error":"#VALUE!"},{"$error":"#VALUE!"},{"$error":"#N/A"},{"$error":"#N/A"},{"$f":"SUM(IF(B28=\"\",0,INDEX(SignalHeads[Height ** (feet)],MATCH(B28,SignalHeads[Code],0))),IF(D28=\"\",0,INDEX(SignalHeads[Height ** (feet)],MATCH(D28,SignalHeads[Code],0))),IF(E28=\"\",0,INDEX(SignalHeads[Height ** (feet)],MATCH(E28,SignalHeads[Code],0))),IF(F28=\"\",0,INDEX(SignalHeads[Height ** (feet)],MATCH(F28,SignalHeads[Code],0))),IF(G28=\"\",0,INDEX(SignalHeads[Height ** (feet)],MATCH(G28,SignalHeads[Code],0))),IF(H28=\"\",0,INDEX(SignalHeads[Height ** (feet)],MATCH(H28,SignalHeads[Code],0))),IF(I28=\"\",0,INDEX(SignalHeads[Height ** (feet)],MATCH(I28,SignalHeads[Code],0))))","v":0},{"$f":"IF(S28=0,\"\",ROUNDDOWN(12*(((Q28-S28)-MIN($Q$26:$Q$425-$S$26:$S$425)-(MAX($S$26:$S$425*(($Q$26:$Q$425-$S$26:$S$425)=MIN($Q$26:$Q$425-$S$26:$S$425)))-S28))+(MIN($Q$26:$Q$425-$S$26:$S$425)-$I$10)),0)/12)","v":""},"",{"$error":"#N/A"},17]
[4,null,null,null,null,null,null,null,null,{"$f":"SUM(IF(B29=\"\",0,INDEX(SignalHeads[Perp. Wind Area (sft)],MATCH(B29,SignalHeads[Code],0))),IF(D29=\"\",0,INDEX(SignalHeads[Perp. Wind Area (sft)],MATCH(D29,SignalHeads[Code],0))),IF(E29=\"\",0,INDEX(SignalHeads[Perp. Wind Area (sft)],MATCH(E29,SignalHeads[Code],0))),IF(F29=\"\",0,INDEX(SignalHeads[Perp. Wind Area (sft)],MATCH(F29,SignalHeads[Code],0))),IF(G29=\"\",0,INDEX(SignalHeads[Perp. Wind Area (sft)],MATCH(G29,SignalHeads[Code],0))),IF(H29=\"\",0,INDEX(SignalHeads[Perp. Wind Area (sft)],MATCH(H29,SignalHeads[Code],0))),IF(I29=\"\",0,INDEX(SignalHeads[Perp. Wind Area (sft)],MATCH(I29,SignalHeads[Code],0))))","v":0},{"$f":"SUM(IF(B29=\"\",0,INDEX(SignalHeads[Weight*** (lbs)],MATCH(B29,SignalHeads[Code],0))),IF(D29=\"\",0,INDEX(SignalHeads[Weight*** (lbs)],MATCH(D29,SignalHeads[Code],0))),IF(E29=\"\",0,INDEX(SignalHeads[Weight*** (lbs)],MATCH(E29,SignalHeads[Code],0))),IF(F29=\"\",0,INDEX(SignalHeads[Weight*** (lbs)],MATCH(F29,SignalHeads[Code],0))),IF(G29=\"\",0,INDEX(SignalHeads[Weight*** (lbs)],MATCH(G29,SignalHeads[Code],0))),IF(H29=\"\",0,INDEX(SignalHeads[Weight*** (lbs)],MATCH(H29,SignalHeads[Code],0))),IF(I29=\"\",0,INDEX(SignalHeads[Weight*** (lbs)],MATCH(I29,SignalHeads[Code],0))))","v":0},{"$f":"IF(A29<=$I$8,INDEX(DesignConstants[Value],MATCH(\"Span Wire Weight (plf)\",DesignConstants[Design Constant],0)),0)","v":1.155},0,4.0425000000000004,{"$error":"#VALUE!"},{"$error":"#VALUE!"},{"$error":"#N/A"},{"$error":"#N/A"},{"$f":"SUM(IF(B29=\"\",0,INDEX(SignalHeads[Height ** (feet)],MATCH(B29,SignalHeads[Code],0))),IF(D29=\"\",0,INDEX(SignalHeads[Height ** (feet)],MATCH(D29,SignalHeads[Code],0))),IF(E29=\"\",0,INDEX(SignalHeads[Height ** (feet)],MATCH(E29,SignalHeads[Code],0))),IF(F29=\"\",0,INDEX(SignalHeads[Height ** (feet)],MATCH(F29,SignalHeads[Code],0))),IF(G29=\"\",0,INDEX(SignalHeads[Height ** (feet)],MATCH(G29,SignalHeads[Code],0))),IF(H29=\"\",0,INDEX(SignalHeads[Height ** (feet)],MATCH(H29,SignalHeads[Code],0))),IF(I29=\"\",0,INDEX(SignalHeads[Height ** (feet)],MATCH(I29,SignalHeads[Code],0))))","v":0},{"$f":"IF(S29=0,\"\",ROUNDDOWN(12*(((Q29-S29)-MIN($Q$26:$Q$425-$S$26:$S$425)-(MAX($S$26:$S$425*(($Q$26:$Q$425-$S$26:$S$425)=MIN($Q$26:$Q$425-$S$26:$S$425)))-S29))+(MIN($Q$26:$Q$425-$S$26:$S$425)-$I$10)),0)/12)","v":""},"",{"$error":"#N/A"},17]
[5,null,null,null,null,null,null,null,null,{"$f":"SUM(IF(B30=\"\",0,INDEX(SignalHeads[Perp. Wind Area (sft)],MATCH(B30,SignalHeads[Code],0))),IF(D30=\"\",0,INDEX(SignalHeads[Perp. Wind Area (sft)],MATCH(D30,SignalHeads[Code],0))),IF(E30=\"\",0,INDEX(SignalHeads[Perp. Wind Area (sft)],MATCH(E30,SignalHeads[Code],0))),IF(F30=\"\",0,INDEX(SignalHeads[Perp. Wind Area (sft)],MATCH(F30,SignalHeads[Code],0))),IF(G30=\"\",0,INDEX(SignalHeads[Perp. Wind Area (sft)],MATCH(G30,SignalHeads[Code],0))),IF(H30=\"\",0,INDEX(SignalHeads[Perp. Wind Area (sft)],MATCH(H30,SignalHeads[Code],0))),IF(I30=\"\",0,INDEX(SignalHeads[Perp. Wind Area (sft)],MATCH(I30,SignalHeads[Code],0))))","v":0},{"$f":"SUM(IF(B30=\"\",0,INDEX(SignalHeads[Weight*** (lbs)],MATCH(B30,SignalHeads[Code],0))),IF(D30=\"\",0,INDEX(SignalHeads[Weight*** (lbs)],MATCH(D30,SignalHeads[Code],0))),IF(E30=\"\",0,INDEX(SignalHeads[Weight*** (lbs)],MATCH(E30,SignalHeads[Code],0))),IF(F30=\"\",0,INDEX(SignalHeads[Weight*** (lbs)],MATCH(F30,SignalHeads[Code],0))),IF(G30=\"\",0,INDEX(SignalHeads[Weight*** (lbs)],MATCH(G30,SignalHeads[Code],0))),IF(H30=\"\",0,INDEX(SignalHeads[Weight*** (lbs)],MATCH(H30,SignalHeads[Code],0))),IF(I30=\"\",0,INDEX(SignalHeads[Weight*** (lbs)],MATCH(I30,SignalHeads[Code],0))))","v":0},{"$f":"IF(A30<=$I$8,INDEX(DesignConstants[Value],MATCH(\"Span Wire Weight (plf)\",DesignConstants[Design Constant],0)),0)","v":1.155},0,5.1974999999999998,{"$error":"#VALUE!"},{"$error":"#VALUE!"},{"$error":"#N/A"},{"$error":"#N/A"},{"$f":"SUM(IF(B30=\"\",0,INDEX(SignalHeads[Height ** (feet)],MATCH(B30,SignalHeads[Code],0))),IF(D30=\"\",0,INDEX(SignalHeads[Height ** (feet)],MATCH(D30,SignalHeads[Code],0))),IF(E30=\"\",0,INDEX(SignalHeads[Height ** (feet)],MATCH(E30,SignalHeads[Code],0))),IF(F30=\"\",0,INDEX(SignalHeads[Height ** (feet)],MATCH(F30,SignalHeads[Code],0))),IF(G30=\"\",0,INDEX(SignalHeads[Height ** (feet)],MATCH(G30,SignalHeads[Code],0))),IF(H30=\"\",0,INDEX(SignalHeads[Height ** (feet)],MATCH(H30,SignalHeads[Code],0))),IF(I30=\"\",0,INDEX(SignalHeads[Height ** (feet)],MATCH(I30,SignalHeads[Code],0))))","v":0},{"$f":"IF(S30=0,\"\",ROUNDDOWN(12*(((Q30-S30)-MIN($Q$26:$Q$425-$S$26:$S$425)-(MAX($S$26:$S$425*(($Q$26:$Q$425-$S$26:$S$425)=MIN($Q$26:$Q$425-$S$26:$S$425)))-S30))+(MIN($Q$26:$Q$425-$S$26:$S$425)-$I$10)),0)/12)","v":""},"",{"$error":"#N/A"},17]
[6,null,null,null,null,null,null,null,null,{"$f":"SUM(IF(B31=\"\",0,INDEX(SignalHeads[Perp. Wind Area (sft)],MATCH(B31,SignalHeads[Code],0))),IF(D31=\"\",0,INDEX(SignalHeads[Perp. Wind Area (sft)],MATCH(D31,SignalHeads[Code],0))),IF(E31=\"\",0,INDEX(SignalHeads[Perp. Wind Area (sft)],MATCH(E31,SignalHeads[Code],0))),IF(F31=\"\",0,INDEX(SignalHeads[Perp. Wind Area (sft)],MATCH(F31,SignalHeads[Code],0))),IF(G31=\"\",0,INDEX(SignalHeads[Perp. Wind Area (sft)],MATCH(G31,SignalHeads[Code],0))),IF(H31=\"\",0,INDEX(SignalHeads[Perp. Wind Area (sft)],MATCH(H31,SignalHeads[Code],0))),IF(I31=\"\",0,INDEX(SignalHeads[Perp. Wind Area (sft)],MATCH(I31,SignalHeads[Code],0))))","v":0},{"$f":"SUM(IF(B31=\"\",0,INDEX(SignalHeads[Weight*** (lbs)],MATCH(B31,SignalHeads[Code],0))),IF(D31=\"\",0,INDEX(SignalHeads[Weight*** (lbs)],MATCH(D31,SignalHeads[Code],0))),IF(E31=\"\",0,INDEX(SignalHeads[Weight*** (lbs)],MATCH(E31,SignalHeads[Code],0))),IF(F31=\"\",0,INDEX(SignalHeads[Weight*** (lbs)],MATCH(F31,SignalHeads[Code],0))),IF(G31=\"\",0,INDEX(SignalHeads[Weight*** (lbs)],MATCH(G31,SignalHeads[Code],0))),IF(H31=\"\",0,INDEX(SignalHeads[Weight*** (lbs)],MATCH(H31,SignalHeads[Code],0))),IF(I31=\"\",0,INDEX(SignalHeads[Weight*** (lbs)],MATCH(I31,SignalHeads[Code],0))))","v":0},{"$f":"IF(A31<=$I$8,INDEX(DesignConstants[Value],MATCH(\"Span Wire Weight (plf)\",DesignConstants[Design Constant],0)),0)","v":1.155},0,6.3525,{"$error":"#VALUE!"},{"$error":"#VALUE!"},{"$error":"#N/A"},{"$error":"#N/A"},{"$f":"SUM(IF(B31=\"\",0,INDEX(SignalHeads[Height ** (feet)],MATCH(B31,SignalHeads[Code],0))),IF(D31=\"\",0,INDEX(SignalHeads[Height ** (feet)],MATCH(D31,SignalHeads[Code],0))),IF(E31=\"\",0,INDEX(SignalHeads[Height ** (feet)],MATCH(E31,SignalHeads[Code],0))),IF(F31=\"\",0,INDEX(SignalHeads[Height ** (feet)],MATCH(F31,SignalHeads[Code],0))),IF(G31=\"\",0,INDEX(SignalHeads[Height ** (feet)],MATCH(G31,SignalHeads[Code],0))),IF(H31=\"\",0,INDEX(SignalHeads[Height ** (feet)],MATCH(H31,SignalHeads[Code],0))),IF(I31=\"\",0,INDEX(SignalHeads[Height ** (feet)],MATCH(I31,SignalHeads[Code],0))))","v":0},{"$f":"IF(S31=0,\"\",ROUNDDOWN(12*(((Q31-S31)-MIN($Q$26:$Q$425-$S$26:$S$425)-(MAX($S$26:$S$425*(($Q$26:$Q$425-$S$26:$S$425)=MIN($Q$26:$Q$425-$S$26:$S$425)))-S31))+(MIN($Q$26:$Q$425-$S$26:$S$425)-$I$10)),0)/12)","v":""},"",{"$f":"IF(A31<=$I$8,Q31-S31-IF(ISNUMBER(T31),T31,0),\"\")","v":{"$error":"#N/A"}},17]
[7,null,null,null,null,null,null,null,null,{"$f":"SUM(IF(B32=\"\",0,INDEX(SignalHeads[Perp. Wind Area (sft)],MATCH(B32,SignalHeads[Code],0))),IF(D32=\"\",0,INDEX(SignalHeads[Perp. Wind Area (sft)],MATCH(D32,SignalHeads[Code],0))),IF(E32=\"\",0,INDEX(SignalHeads[Perp. Wind Area (sft)],MATCH(E32,SignalHeads[Code],0))),IF(F32=\"\",0,INDEX(SignalHeads[Perp. Wind Area (sft)],MATCH(F32,SignalHeads[Code],0))),IF(G32=\"\",0,INDEX(SignalHeads[Perp. Wind Area (sft)],MATCH(G32,SignalHeads[Code],0))),IF(H32=\"\",0,INDEX(SignalHeads[Perp. Wind Area (sft)],MATCH(H32,SignalHeads[Code],0))),IF(I32=\"\",0,INDEX(SignalHeads[Perp. Wind Area (sft)],MATCH(I32,SignalHeads[Code],0))))","v":0},{"$f":"SUM(IF(B32=\"\",0,INDEX(SignalHeads[Weight*** (lbs)],MATCH(B32,SignalHeads[Code],0))),IF(D32=\"\",0,INDEX(SignalHeads[Weight*** (lbs)],MATCH(D32,SignalHeads[Code],0))),IF(E32=\"\",0,INDEX(SignalHeads[Weight*** (lbs)],MATCH(E32,SignalHeads[Code],0))),IF(F32=\"\",0,INDEX(SignalHeads[Weight*** (lbs)],MATCH(F32,SignalHeads[Code],0))),IF(G32=\"\",0,INDEX(SignalHeads[Weight*** (lbs)],MATCH(G32,SignalHeads[Code],0))),IF(H32=\"\",0,INDEX(SignalHeads[Weight*** (lbs)],MATCH(H32,SignalHeads[Code],0))),IF(I32=\"\",0,INDEX(SignalHeads[Weight*** (lbs)],MATCH(I32,SignalHeads[Code],0))))","v":0},{"$f":"IF(A32<=$I$8,INDEX(DesignConstants[Value],MATCH(\"Span Wire Weight (plf)\",DesignConstants[Design Constant],0)),0)","v":1.155},0,7.5075000000000003,{"$error":"#VALUE!"},{"$error":"#VALUE!"},{"$error":"#N/A"},{"$error":"#N/A"},{"$f":"SUM(IF(B32=\"\",0,INDEX(SignalHeads[Height ** (feet)],MATCH(B32,SignalHeads[Code],0))),IF(D32=\"\",0,INDEX(SignalHeads[Height ** (feet)],MATCH(D32,SignalHeads[Code],0))),IF(E32=\"\",0,INDEX(SignalHeads[Height ** (feet)],MATCH(E32,SignalHeads[Code],0))),IF(F32=\"\",0,INDEX(SignalHeads[Height ** (feet)],MATCH(F32,SignalHeads[Code],0))),IF(G32=\"\",0,INDEX(SignalHeads[Height ** (feet)],MATCH(G32,SignalHeads[Code],0))),IF(H32=\"\",0,INDEX(SignalHeads[Height ** (feet)],MATCH(H32,SignalHeads[Code],0))),IF(I32=\"\",0,INDEX(SignalHeads[Height ** (feet)],MATCH(I32,SignalHeads[Code],0))))","v":0},{"$f":"IF(S32=0,\"\",ROUNDDOWN(12*(((Q32-S32)-MIN($Q$26:$Q$425-$S$26:$S$425)-(MAX($S$26:$S$425*(($Q$26:$Q$425-$S$26:$S$425)=MIN($Q$26:$Q$425-$S$26:$S$425)))-S32))+(MIN($Q$26:$Q$425-$S$26:$S$425)-$I$10)),0)/12)","v":""},"",{"$error":"#N/A"},17]
[8,null,null,null,null,null,null,null,null,{"$f":"SUM(IF(B33=\"\",0,INDEX(SignalHeads[Perp. Wind Area (sft)],MATCH(B33,SignalHeads[Code],0))),IF(D33=\"\",0,INDEX(SignalHeads[Perp. Wind Area (sft)],MATCH(D33,SignalHeads[Code],0))),IF(E33=\"\",0,INDEX(SignalHeads[Perp. Wind Area (sft)],MATCH(E33,SignalHeads[Code],0))),IF(F33=\"\",0,INDEX(SignalHeads[Perp. Wind Area (sft)],MATCH(F33,SignalHeads[Code],0))),IF(G33=\"\",0,INDEX(SignalHeads[Perp. Wind Area (sft)],MATCH(G33,SignalHeads[Code],0))),IF(H33=\"\",0,INDEX(SignalHeads[Perp. Wind Area (sft)],MATCH(H33,SignalHeads[Code],0))),IF(I33=\"\",0,INDEX(SignalHeads[Perp. Wind Area (sft)],MATCH(I33,SignalHeads[Code],0))))","v":0},{"$f":"SUM(IF(B33=\"\",0,INDEX(SignalHeads[Weight*** (lbs)],MATCH(B33,SignalHeads[Code],0))),IF(D33=\"\",0,INDEX(SignalHeads[Weight*** (lbs)],MATCH(D33,SignalHeads[Code],0))),IF(E33=\"\",0,INDEX(SignalHeads[Weight*** (lbs)],MATCH(E33,SignalHeads[Code],0))),IF(F33=\"\",0,INDEX(SignalHeads[Weight*** (lbs)],MATCH(F33,SignalHeads[Code],0))),IF(G33=\"\",0,INDEX(SignalHeads[Weight*** (lbs)],MATCH(G33,SignalHeads[Code],0))),IF(H33=\"\",0,INDEX(SignalHeads[Weight*** (lbs)],MATCH(H33,SignalHeads[Code],0))),IF(I33=\"\",0,INDEX(SignalHeads[Weight*** (lbs)],MATCH(I33,SignalHeads[Code],0))))","v":0},{"$f":"IF(A33<=$I$8,INDEX(DesignConstants[Value],MATCH(\"Span Wire Weight (plf)\",DesignConstants[Design Constant],0)),0)","v":1.155},0,8.6624999999999996,{"$error":"#VALUE!"},{"$error":"#VALUE!"},{"$error":"#N/A"},{"$error":"#N/A"},{"$f":"SUM(IF(B33=\"\",0,INDEX(SignalHeads[Height ** (feet)],MATCH(B33,SignalHeads[Code],0))),IF(D33=\"\",0,INDEX(SignalHeads[Height ** (feet)],MATCH(D33,SignalHeads[Code],0))),IF(E33=\"\",0,INDEX(SignalHeads[Height ** (feet)],MATCH(E33,SignalHeads[Code],0))),IF(F33=\"\",0,INDEX(SignalHeads[Height ** (feet)],MATCH(F33,SignalHeads[Code],0))),IF(G33=\"\",0,INDEX(SignalHeads[Height ** (feet)],MATCH(G33,SignalHeads[Code],0))),IF(H33=\"\",0,INDEX(SignalHeads[Height ** (feet)],MATCH(H33,SignalHeads[Code],0))),IF(I33=\"\",0,INDEX(SignalHeads[Height ** (feet)],MATCH(I33,SignalHeads[Code],0))))","v":0},{"$f":"IF(S33=0,\"\",ROUNDDOWN(12*(((Q33-S33)-MIN($Q$26:$Q$425-$S$26:$S$425)-(MAX($S$26:$S$425*(($Q$26:$Q$425-$S$26:$S$425)=MIN($Q$26:$Q$425-$S$26:$S$425)))-S33))+(MIN($Q$26:$Q$425-$S$26:$S$425)-$I$10)),0)/12)","v":""},"",{"$error":"#N/A"},17]
[9,null,null,null,null,null,null,null,null,{"$f":"SUM(IF(B34=\"\",0,INDEX(SignalHeads[Perp. Wind Area (sft)],MATCH(B34,SignalHeads[Code],0))),IF(D34=\"\",0,INDEX(SignalHeads[Perp. Wind Area (sft)],MATCH(D34,SignalHeads[Code],0))),IF(E34=\"\",0,INDEX(SignalHeads[Perp. Wind Area (sft)],MATCH(E34,SignalHeads[Code],0))),IF(F34=\"\",0,INDEX(SignalHeads[Perp. Wind Area (sft)],MATCH(F34,SignalHeads[Code],0))),IF(G34=\"\",0,INDEX(SignalHeads[Perp. Wind Area (sft)],MATCH(G34,SignalHeads[Code],0))),IF(H34=\"\",0,INDEX(SignalHeads[Perp. Wind Area (sft)],MATCH(H34,SignalHeads[Code],0))),IF(I34=\"\",0,INDEX(SignalHeads[Perp. Wind Area (sft)],MATCH(I34,SignalHeads[Code],0))))","v":0},{"$f":"SUM(IF(B34=\"\",0,INDEX(SignalHeads[Weight*** (lbs)],MATCH(B34,SignalHeads[Code],0))),IF(D34=\"\",0,INDEX(SignalHeads[Weight*** (lbs)],MATCH(D34,SignalHeads[Code],0))),IF(E34=\"\",0,INDEX(SignalHeads[Weight*** (lbs)],MATCH(E34,SignalHeads[Code],0))),IF(F34=\"\",0,INDEX(SignalHeads[Weight*** (lbs)],MATCH(F34,SignalHeads[Code],0))),IF(G34=\"\",0,INDEX(SignalHeads[Weight*** (lbs)],MATCH(G34,SignalHeads[Code],0))),IF(H34=\"\",0,INDEX(SignalHeads[Weight*** (lbs)],MATCH(H34,SignalHeads[Code],0))),IF(I34=\"\",0,INDEX(SignalHeads[Weight*** (lbs)],MATCH(I34,SignalHeads[Code],0))))","v":0},{"$f":"IF(A34<=$I$8,INDEX(DesignConstants[Value],MATCH(\"Span Wire Weight (plf)\",DesignConstants[Design Constant],0)),0)","v":1.155},0,9.8175000000000008,{"$error":"#VALUE!"},{"$error":"#VALUE!"},{"$error":"#N/A"},{"$error":"#N/A"},{"$f":"SUM(IF(B34=\"\",0,INDEX(SignalHeads[Height ** (feet)],MATCH(B34,SignalHeads[Code],0))),IF(D34=\"\",0,INDEX(SignalHeads[Height ** (feet)],MATCH(D34,SignalHeads[Code],0))),IF(E34=\"\",0,INDEX(SignalHeads[Height ** (feet)],MATCH(E34,SignalHeads[Code],0))),IF(F34=\"\",0,INDEX(SignalHeads[Height ** (feet)],MATCH(F34,SignalHeads[Code],0))),IF(G34=\"\",0,INDEX(SignalHeads[Height ** (feet)],MATCH(G34,SignalHeads[Code],0))),IF(H34=\"\",0,INDEX(SignalHeads[Height ** (feet)],MATCH(H34,SignalHeads[Code],0))),IF(I34=\"\",0,INDEX(SignalHeads[Height ** (feet)],MATCH(I34,SignalHeads[Code],0))))","v":0},{"$f":"IF(S34=0,\"\",ROUNDDOWN(12*(((Q34-S34)-MIN($Q$26:$Q$425-$S$26:$S$425)-(MAX($S$26:$S$425*(($Q$26:$Q$425-$S$26:$S$425)=MIN($Q$26:$Q$425-$S$26:$S$425)))-S34))+(MIN($Q$26:$Q$425-$S$26:$S$425)-$I$10)),0)/12)","v":""},"",{"$error":"#N/A"},17]
[10,null,null,null,null,null,null,null,null,{"$f":"SUM(IF(B35=\"\",0,INDEX(SignalHeads[Perp. Wind Area (sft)],MATCH(B35,SignalHeads[Code],0))),IF(D35=\"\",0,INDEX(SignalHeads[Perp. Wind Area (sft)],MATCH(D35,SignalHeads[Code],0))),IF(E35=\"\",0,INDEX(SignalHeads[Perp. Wind Area (sft)],MATCH(E35,SignalHeads[Code],0))),IF(F35=\"\",0,INDEX(SignalHeads[Perp. Wind Area (sft)],MATCH(F35,SignalHeads[Code],0))),IF(G35=\"\",0,INDEX(SignalHeads[Perp. Wind Area (sft)],MATCH(G35,SignalHeads[Code],0))),IF(H35=\"\",0,INDEX(SignalHeads[Perp. Wind Area (sft)],MATCH(H35,SignalHeads[Code],0))),IF(I35=\"\",0,INDEX(SignalHeads[Perp. Wind Area (sft)],MATCH(I35,SignalHeads[Code],0))))","v":0},{"$f":"SUM(IF(B35=\"\",0,INDEX(SignalHeads[Weight*** (lbs)],MATCH(B35,SignalHeads[Code],0))),IF(D35=\"\",0,INDEX(SignalHeads[Weight*** (lbs)],MATCH(D35,SignalHeads[Code],0))),IF(E35=\"\",0,INDEX(SignalHeads[Weight*** (lbs)],MATCH(E35,SignalHeads[Code],0))),IF(F35=\"\",0,INDEX(SignalHeads[Weight*** (lbs)],MATCH(F35,SignalHeads[Code],0))),IF(G35=\"\",0,INDEX(SignalHeads[Weight*** (lbs)],MATCH(G35,SignalHeads[Code],0))),IF(H35=\"\",0,INDEX(SignalHeads[Weight*** (lbs)],MATCH(H35,SignalHeads[Code],0))),IF(I35=\"\",0,INDEX(SignalHeads[Weight*** (lbs)],MATCH(I35,SignalHeads[Code],0))))","v":0},{"$f":"IF(A35<=$I$8,INDEX(DesignConstants[Value],MATCH(\"Span Wire Weight (plf)\",DesignConstants[Design Constant],0)),0)","v":1.155},0,10.9725,{"$error":"#VALUE!"},{"$error":"#VALUE!"},{"$error":"#N/A"},{"$error":"#N/A"},{"$f":"SUM(IF(B35=\"\",0,INDEX(SignalHeads[Height ** (feet)],MATCH(B35,SignalHeads[Code],0))),IF(D35=\"\",0,INDEX(SignalHeads[Height ** (feet)],MATCH(D35,SignalHeads[Code],0))),IF(E35=\"\",0,INDEX(SignalHeads[Height ** (feet)],MATCH(E35,SignalHeads[Code],0))),IF(F35=\"\",0,INDEX(SignalHeads[Height ** (feet)],MATCH(F35,SignalHeads[Code],0))),IF(G35=\"\",0,INDEX(SignalHeads[Height ** (feet)],MATCH(G35,SignalHeads[Code],0))),IF(H35=\"\",0,INDEX(SignalHeads[Height ** (feet)],MATCH(H35,SignalHeads[Code],0))),IF(I35=\"\",0,INDEX(SignalHeads[Height ** (feet)],MATCH(I35,SignalHeads[Code],0))))","v":0},{"$f":"IF(S35=0,\"\",ROUNDDOWN(12*(((Q35-S35)-MIN($Q$26:$Q$425-$S$26:$S$425)-(MAX($S$26:$S$425*(($Q$26:$Q$425-$S$26:$S$425)=MIN($Q$26:$Q$425-$S$26:$S$425)))-S35))+(MIN($Q$26:$Q$425-$S$26:$S$425)-$I$10)),0)/12)","v":""},"",{"$error":"#N/A"},17]
[11,null,null,null,null,null,null,null,null,{"$f":"SUM(IF(B36=\"\",0,INDEX(SignalHeads[Perp. Wind Area (sft)],MATCH(B36,SignalHeads[Code],0))),IF(D36=\"\",0,INDEX(SignalHeads[Perp. Wind Area (sft)],MATCH(D36,SignalHeads[Code],0))),IF(E36=\"\",0,INDEX(SignalHeads[Perp. Wind Area (sft)],MATCH(E36,SignalHeads[Code],0))),IF(F36=\"\",0,INDEX(SignalHeads[Perp. Wind Area (sft)],MATCH(F36,SignalHeads[Code],0))),IF(G36=\"\",0,INDEX(SignalHeads[Perp. Wind Area (sft)],MATCH(G36,SignalHeads[Code],0))),IF(H36=\"\",0,INDEX(SignalHeads[Perp. Wind Area (sft)],MATCH(H36,SignalHeads[Code],0))),IF(I36=\"\",0,INDEX(SignalHeads[Perp. Wind Area (sft)],MATCH(I36,SignalHeads[Code],0))))","v":0},{"$f":"SUM(IF(B36=\"\",0,INDEX(SignalHeads[Weight*** (lbs)],MATCH(B36,SignalHeads[Code],0))),IF(D36=\"\",0,INDEX(SignalHeads[Weight*** (lbs)],MATCH(D36,SignalHeads[Code],0))),IF(E36=\"\",0,INDEX(SignalHeads[Weight*** (lbs)],MATCH(E36,SignalHeads[Code],0))),IF(F36=\"\",0,INDEX(SignalHeads[Weight*** (lbs)],MATCH(F36,SignalHeads[Code],0))),IF(G36=\"\",0,INDEX(SignalHeads[Weight*** (lbs)],MATCH(G36,SignalHeads[Code],0))),IF(H36=\"\",0,INDEX(SignalHeads[Weight*** (lbs)],MATCH(H36,SignalHeads[Code],0))),IF(I36=\"\",0,INDEX(SignalHeads[Weight*** (lbs)],MATCH(I36,SignalHeads[Code],0))))","v":0},{"$f":"IF(A36<=$I$8,INDEX(DesignConstants[Value],MATCH(\"Span Wire Weight (plf)\",DesignConstants[Design Constant],0)),0)","v":1.155},0,12.1275,{"$error":"#VALUE!"},{"$error":"#VALUE!"},{"$error":"#N/A"},{"$error":"#N/A"},{"$f":"SUM(IF(B36=\"\",0,INDEX(SignalHeads[Height ** (feet)],MATCH(B36,SignalHeads[Code],0))),IF(D36=\"\",0,INDEX(SignalHeads[Height ** (feet)],MATCH(D36,SignalHeads[Code],0))),IF(E36=\"\",0,INDEX(SignalHeads[Height ** (feet)],MATCH(E36,SignalHeads[Code],0))),IF(F36=\"\",0,INDEX(SignalHeads[Height ** (feet)],MATCH(F36,SignalHeads[Code],0))),IF(G36=\"\",0,INDEX(SignalHeads[Height ** (feet)],MATCH(G36,SignalHeads[Code],0))),IF(H36=\"\",0,INDEX(SignalHeads[Height ** (feet)],MATCH(H36,SignalHeads[Code],0))),IF(I36=\"\",0,INDEX(SignalHeads[Height ** (feet)],MATCH(I36,SignalHeads[Code],0))))","v":0},{"$f":"IF(S36=0,\"\",ROUNDDOWN(12*(((Q36-S36)-MIN($Q$26:$Q$425-$S$26:$S$425)-(MAX($S$26:$S$425*(($Q$26:$Q$425-$S$26:$S$425)=MIN($Q$26:$Q$425-$S$26:$S$425)))-S36))+(MIN($Q$26:$Q$425-$S$26:$S$425)-$I$10)),0)/12)","v":""},"",{"$error":"#N/A"},17]
[12,null,null,null,null,null,null,null,null,{"$f":"SUM(IF(B37=\"\",0,INDEX(SignalHeads[Perp. Wind Area (sft)],MATCH(B37,SignalHeads[Code],0))),IF(D37=\"\",0,INDEX(SignalHeads[Perp. Wind Area (sft)],MATCH(D37,SignalHeads[Code],0))),IF(E37=\"\",0,INDEX(SignalHeads[Perp. Wind Area (sft)],MATCH(E37,SignalHeads[Code],0))),IF(F37=\"\",0,INDEX(SignalHeads[Perp. Wind Area (sft)],MATCH(F37,SignalHeads[Code],0))),IF(G37=\"\",0,INDEX(SignalHeads[Perp. Wind Area (sft)],MATCH(G37,SignalHeads[Code],0))),IF(H37=\"\",0,INDEX(SignalHeads[Perp. Wind Area (sft)],MATCH(H37,SignalHeads[Code],0))),IF(I37=\"\",0,INDEX(SignalHeads[Perp. Wind Area (sft)],MATCH(I37,SignalHeads[Code],0))))","v":0},{"$f":"SUM(IF(B37=\"\",0,INDEX(SignalHeads[Weight*** (lbs)],MATCH(B37,SignalHeads[Code],0))),IF(D37=\"\",0,INDEX(SignalHeads[Weight*** (lbs)],MATCH(D37,SignalHeads[Code],0))),IF(E37=\"\",0,INDEX(SignalHeads[Weight*** (lbs)],MATCH(E37,SignalHeads[Code],0))),IF(F37=\"\",0,INDEX(SignalHeads[Weight*** (lbs)],MATCH(F37,SignalHeads[Code],0))),IF(G37=\"\",0,INDEX(SignalHeads[Weight*** (lbs)],MATCH(G37,SignalHeads[Code],0))),IF(H37=\"\",0,INDEX(SignalHeads[Weight*** (lbs)],MATCH(H37,SignalHeads[Code],0))),IF(I37=\"\",0,INDEX(SignalHeads[Weight*** (lbs)],MATCH(I37,SignalHeads[Code],0))))","v":0},{"$f":"IF(A37<=$I$8,INDEX(DesignConstants[Value],MATCH(\"Span Wire Weight (plf)\",DesignConstants[Design Constant],0)),0)","v":1.155},0,13.282500000000001,{"$error":"#VALUE!"},{"$error":"#VALUE!"},{"$error":"#N/A"},{"$error":"#N/A"},{"$f":"SUM(IF(B37=\"\",0,INDEX(SignalHeads[Height ** (feet)],MATCH(B37,SignalHeads[Code],0))),IF(D37=\"\",0,INDEX(SignalHeads[Height ** (feet)],MATCH(D37,SignalHeads[Code],0))),IF(E37=\"\",0,INDEX(SignalHeads[Height ** (feet)],MATCH(E37,SignalHeads[Code],0))),IF(F37=\"\",0,INDEX(SignalHeads[Height ** (feet)],MATCH(F37,SignalHeads[Code],0))),IF(G37=\"\",0,INDEX(SignalHeads[Height ** (feet)],MATCH(G37,SignalHeads[Code],0))),IF(H37=\"\",0,INDEX(SignalHeads[Height ** (feet)],MATCH(H37,SignalHeads[Code],0))),IF(I37=\"\",0,INDEX(SignalHeads[Height ** (feet)],MATCH(I37,SignalHeads[Code],0))))","v":0},{"$f":"IF(S37=0,\"\",ROUNDDOWN(12*(((Q37-S37)-MIN($Q$26:$Q$425-$S$26:$S$425)-(MAX($S$26:$S$425*(($Q$26:$Q$425-$S$26:$S$425)=MIN($Q$26:$Q$425-$S$26:$S$425)))-S37))+(MIN($Q$26:$Q$425-$S$26:$S$425)-$I$10)),0)/12)","v":""},"",{"$error":"#N/A"},17]
[13,null,null,null,null,null,null,null,null,{"$f":"SUM(IF(B38=\"\",0,INDEX(SignalHeads[Perp. Wind Area (sft)],MATCH(B38,SignalHeads[Code],0))),IF(D38=\"\",0,INDEX(SignalHeads[Perp. Wind Area (sft)],MATCH(D38,SignalHeads[Code],0))),IF(E38=\"\",0,INDEX(SignalHeads[Perp. Wind Area (sft)],MATCH(E38,SignalHeads[Code],0))),IF(F38=\"\",0,INDEX(SignalHeads[Perp. Wind Area (sft)],MATCH(F38,SignalHeads[Code],0))),IF(G38=\"\",0,INDEX(SignalHeads[Perp. Wind Area (sft)],MATCH(G38,SignalHeads[Code],0))),IF(H38=\"\",0,INDEX(SignalHeads[Perp. Wind Area (sft)],MATCH(H38,SignalHeads[Code],0))),IF(I38=\"\",0,INDEX(SignalHeads[Perp. Wind Area (sft)],MATCH(I38,SignalHeads[Code],0))))","v":0},{"$f":"SUM(IF(B38=\"\",0,INDEX(SignalHeads[Weight*** (lbs)],MATCH(B38,SignalHeads[Code],0))),IF(D38=\"\",0,INDEX(SignalHeads[Weight*** (lbs)],MATCH(D38,SignalHeads[Code],0))),IF(E38=\"\",0,INDEX(SignalHeads[Weight*** (lbs)],MATCH(E38,SignalHeads[Code],0))),IF(F38=\"\",0,INDEX(SignalHeads[Weight*** (lbs)],MATCH(F38,SignalHeads[Code],0))),IF(G38=\"\",0,INDEX(SignalHeads[Weight*** (lbs)],MATCH(G38,SignalHeads[Code],0))),IF(H38=\"\",0,INDEX(SignalHeads[Weight*** (lbs)],MATCH(H38,SignalHeads[Code],0))),IF(I38=\"\",0,INDEX(SignalHeads[Weight*** (lbs)],MATCH(I38,SignalHeads[Code],0))))","v":0},{"$f":"IF(A38<=$I$8,INDEX(DesignConstants[Value],MATCH(\"Span Wire Weight (plf)\",DesignConstants[Design Constant],0)),0)","v":1.155},0,14.4375,{"$error":"#VALUE!"},{"$error":"#VALUE!"},{"$error":"#N/A"},{"$error":"#N/A"},{"$f":"SUM(IF(B38=\"\",0,INDEX(SignalHeads[Height ** (feet)],MATCH(B38,SignalHeads[Code],0))),IF(D38=\"\",0,INDEX(SignalHeads[Height ** (feet)],MATCH(D38,SignalHeads[Code],0))),IF(E38=\"\",0,INDEX(SignalHeads[Height ** (feet)],MATCH(E38,SignalHeads[Code],0))),IF(F38=\"\",0,INDEX(SignalHeads[Height ** (feet)],MATCH(F38,SignalHeads[Code],0))),IF(G38=\"\",0,INDEX(SignalHeads[Height ** (feet)],MATCH(G38,SignalHeads[Code],0))),IF(H38=\"\",0,INDEX(SignalHeads[Height ** (feet)],MATCH(H38,SignalHeads[Code],0))),IF(I38=\"\",0,INDEX(SignalHeads[Height ** (feet)],MATCH(I38,SignalHeads[Code],0))))","v":0},{"$f":"IF(S38=0,\"\",ROUNDDOWN(12*(((Q38-S38)-MIN($Q$26:$Q$425-$S$26:$S$425)-(MAX($S$26:$S$425*(($Q$26:$Q$425-$S$26:$S$425)=MIN($Q$26:$Q$425-$S$26:$S$425)))-S38))+(MIN($Q$26:$Q$425-$S$26:$S$425)-$I$10)),0)/12)","v":""},"",{"$error":"#N/A"},17]
[14,null,null,null,null,null,null,null,null,{"$f":"SUM(IF(B39=\"\",0,INDEX(SignalHeads[Perp. Wind Area (sft)],MATCH(B39,SignalHeads[Code],0))),IF(D39=\"\",0,INDEX(SignalHeads[Perp. Wind Area (sft)],MATCH(D39,SignalHeads[Code],0))),IF(E39=\"\",0,INDEX(SignalHeads[Perp. Wind Area (sft)],MATCH(E39,SignalHeads[Code],0))),IF(F39=\"\",0,INDEX(SignalHeads[Perp. Wind Area (sft)],MATCH(F39,SignalHeads[Code],0))),IF(G39=\"\",0,INDEX(SignalHeads[Perp. Wind Area (sft)],MATCH(G39,SignalHeads[Code],0))),IF(H39=\"\",0,INDEX(SignalHeads[Perp. Wind Area (sft)],MATCH(H39,SignalHeads[Code],0))),IF(I39=\"\",0,INDEX(SignalHeads[Perp. Wind Area (sft)],MATCH(I39,SignalHeads[Code],0))))","v":0},{"$f":"SUM(IF(B39=\"\",0,INDEX(SignalHeads[Weight*** (lbs)],MATCH(B39,SignalHeads[Code],0))),IF(D39=\"\",0,INDEX(SignalHeads[Weight*** (lbs)],MATCH(D39,SignalHeads[Code],0))),IF(E39=\"\",0,INDEX(SignalHeads[Weight*** (lbs)],MATCH(E39,SignalHeads[Code],0))),IF(F39=\"\",0,INDEX(SignalHeads[Weight*** (lbs)],MATCH(F39,SignalHeads[Code],0))),IF(G39=\"\",0,INDEX(SignalHeads[Weight*** (lbs)],MATCH(G39,SignalHeads[Code],0))),IF(H39=\"\",0,INDEX(SignalHeads[Weight*** (lbs)],MATCH(H39,SignalHeads[Code],0))),IF(I39=\"\",0,INDEX(SignalHeads[Weight*** (lbs)],MATCH(I39,SignalHeads[Code],0))))","v":0},{"$f":"IF(A39<=$I$8,INDEX(DesignConstants[Value],MATCH(\"Span Wire Weight (plf)\",DesignConstants[Design Constant],0)),0)","v":1.155},0,15.592500000000001,{"$error":"#VALUE!"},{"$error":"#VALUE!"},{"$error":"#N/A"},{"$error":"#N/A"},{"$f":"SUM(IF(B39=\"\",0,INDEX(SignalHeads[Height ** (feet)],MATCH(B39,SignalHeads[Code],0))),IF(D39=\"\",0,INDEX(SignalHeads[Height ** (feet)],MATCH(D39,SignalHeads[Code],0))),IF(E39=\"\",0,INDEX(SignalHeads[Height ** (feet)],MATCH(E39,SignalHeads[Code],0))),IF(F39=\"\",0,INDEX(SignalHeads[Height ** (feet)],MATCH(F39,SignalHeads[Code],0))),IF(G39=\"\",0,INDEX(SignalHeads[Height ** (feet)],MATCH(G39,SignalHeads[Code],0))),IF(H39=\"\",0,INDEX(SignalHeads[Height ** (feet)],MATCH(H39,SignalHeads[Code],0))),IF(I39=\"\",0,INDEX(SignalHeads[Height ** (feet)],MATCH(I39,SignalHeads[Code],0))))","v":0},{"$f":"IF(S39=0,\"\",ROUNDDOWN(12*(((Q39-S39)-MIN($Q$26:$Q$425-$S$26:$S$425)-(MAX($S$26:$S$425*(($Q$26:$Q$425-$S$26:$S$425)=MIN($Q$26:$Q$425-$S$26:$S$425)))-S39))+(MIN($Q$26:$Q$425-$S$26:$S$425)-$I$10)),0)/12)","v":""},"",{"$error":"#N/A"},17]
[15,null,null,null,null,null,null,null,null,{"$f":"SUM(IF(B40=\"\",0,INDEX(SignalHeads[Perp. Wind Area (sft)],MATCH(B40,SignalHeads[Code],0))),IF(D40=\"\",0,INDEX(SignalHeads[Perp. Wind Area (sft)],MATCH(D40,SignalHeads[Code],0))),IF(E40=\"\",0,INDEX(SignalHeads[Perp. Wind Area (sft)],MATCH(E40,SignalHeads[Code],0))),IF(F40=\"\",0,INDEX(SignalHeads[Perp. Wind Area (sft)],MATCH(F40,SignalHeads[Code],0))),IF(G40=\"\",0,INDEX(SignalHeads[Perp. Wind Area (sft)],MATCH(G40,SignalHeads[Code],0))),IF(H40=\"\",0,INDEX(SignalHeads[Perp. Wind Area (sft)],MATCH(H40,SignalHeads[Code],0))),IF(I40=\"\",0,INDEX(SignalHeads[Perp. Wind Area (sft)],MATCH(I40,SignalHeads[Code],0))))","v":0},{"$f":"SUM(IF(B40=\"\",0,INDEX(SignalHeads[Weight*** (lbs)],MATCH(B40,SignalHeads[Code],0))),IF(D40=\"\",0,INDEX(SignalHeads[Weight*** (lbs)],MATCH(D40,SignalHeads[Code],0))),IF(E40=\"\",0,INDEX(SignalHeads[Weight*** (lbs)],MATCH(E40,SignalHeads[Code],0))),IF(F40=\"\",0,INDEX(SignalHeads[Weight*** (lbs)],MATCH(F40,SignalHeads[Code],0))),IF(G40=\"\",0,INDEX(SignalHeads[Weight*** (lbs)],MATCH(G40,SignalHeads[Code],0))),IF(H40=\"\",0,INDEX(SignalHeads[Weight*** (lbs)],MATCH(H40,SignalHeads[Code],0))),IF(I40=\"\",0,INDEX(SignalHeads[Weight*** (lbs)],MATCH(I40,SignalHeads[Code],0))))","v":0},{"$f":"IF(A40<=$I$8,INDEX(DesignConstants[Value],MATCH(\"Span Wire Weight (plf)\",DesignConstants[Design Constant],0)),0)","v":1.155},0,16.747499999999999,{"$error":"#VALUE!"},{"$error":"#VALUE!"},{"$error":"#N/A"},{"$error":"#N/A"},{"$f":"SUM(IF(B40=\"\",0,INDEX(SignalHeads[Height ** (feet)],MATCH(B40,SignalHeads[Code],0))),IF(D40=\"\",0,INDEX(SignalHeads[Height ** (feet)],MATCH(D40,SignalHeads[Code],0))),IF(E40=\"\",0,INDEX(SignalHeads[Height ** (feet)],MATCH(E40,SignalHeads[Code],0))),IF(F40=\"\",0,INDEX(SignalHeads[Height ** (feet)],MATCH(F40,SignalHeads[Code],0))),IF(G40=\"\",0,INDEX(SignalHeads[Height ** (feet)],MATCH(G40,SignalHeads[Code],0))),IF(H40=\"\",0,INDEX(SignalHeads[Height ** (feet)],MATCH(H40,SignalHeads[Code],0))),IF(I40=\"\",0,INDEX(SignalHeads[Height ** (feet)],MATCH(I40,SignalHeads[Code],0))))","v":0},{"$f":"IF(S40=0,\"\",ROUNDDOWN(12*(((Q40-S40)-MIN($Q$26:$Q$425-$S$26:$S$425)-(MAX($S$26:$S$425*(($Q$26:$Q$425-$S$26:$S$425)=MIN($Q$26:$Q$425-$S$26:$S$425)))-S40))+(MIN($Q$26:$Q$425-$S$26:$S$425)-$I$10)),0)/12)","v":""},"",{"$error":"#N/A"},17]
[16,null,null,null,null,null,null,null,null,{"$f":"SUM(IF(B41=\"\",0,INDEX(SignalHeads[Perp. Wind Area (sft)],MATCH(B41,SignalHeads[Code],0))),IF(D41=\"\",0,INDEX(SignalHeads[Perp. Wind Area (sft)],MATCH(D41,SignalHeads[Code],0))),IF(E41=\"\",0,INDEX(SignalHeads[Perp. Wind Area (sft)],MATCH(E41,SignalHeads[Code],0))),IF(F41=\"\",0,INDEX(SignalHeads[Perp. Wind Area (sft)],MATCH(F41,SignalHeads[Code],0))),IF(G41=\"\",0,INDEX(SignalHeads[Perp. Wind Area (sft)],MATCH(G41,SignalHeads[Code],0))),IF(H41=\"\",0,INDEX(SignalHeads[Perp. Wind Area (sft)],MATCH(H41,SignalHeads[Code],0))),IF(I41=\"\",0,INDEX(SignalHeads[Perp. Wind Area (sft)],MATCH(I41,SignalHeads[Code],0))))","v":0},{"$f":"SUM(IF(B41=\"\",0,INDEX(SignalHeads[Weight*** (lbs)],MATCH(B41,SignalHeads[Code],0))),IF(D41=\"\",0,INDEX(SignalHeads[Weight*** (lbs)],MATCH(D41,SignalHeads[Code],0))),IF(E41=\"\",0,INDEX(SignalHeads[Weight*** (lbs)],MATCH(E41,SignalHeads[Code],0))),IF(F41=\"\",0,INDEX(SignalHeads[Weight*** (lbs)],MATCH(F41,SignalHeads[Code],0))),IF(G41=\"\",0,INDEX(SignalHeads[Weight*** (lbs)],MATCH(G41,SignalHeads[Code],0))),IF(H41=\"\",0,INDEX(SignalHeads[Weight*** (lbs)],MATCH(H41,SignalHeads[Code],0))),IF(I41=\"\",0,INDEX(SignalHeads[Weight*** (lbs)],MATCH(I41,SignalHeads[Code],0))))","v":0},{"$f":"IF(A41<=$I$8,INDEX(DesignConstants[Value],MATCH(\"Span Wire Weight (plf)\",DesignConstants[Design Constant],0)),0)","v":1.155},0,17.9025,{"$error":"#VALUE!"},{"$error":"#VALUE!"},{"$error":"#N/A"},{"$error":"#N/A"},{"$f":"SUM(IF(B41=\"\",0,INDEX(SignalHeads[Height ** (feet)],MATCH(B41,SignalHeads[Code],0))),IF(D41=\"\",0,INDEX(SignalHeads[Height ** (feet)],MATCH(D41,SignalHeads[Code],0))),IF(E41=\"\",0,INDEX(SignalHeads[Height ** (feet)],MATCH(E41,SignalHeads[Code],0))),IF(F41=\"\",0,INDEX(SignalHeads[Height ** (feet)],MATCH(F41,SignalHeads[Code],0))),IF(G41=\"\",0,INDEX(SignalHeads[Height ** (feet)],MATCH(G41,SignalHeads[Code],0))),IF(H41=\"\",0,INDEX(SignalHeads[Height ** (feet)],MATCH(H41,SignalHeads[Code],0))),IF(I41=\"\",0,INDEX(SignalHeads[Height ** (feet)],MATCH(I41,SignalHeads[Code],0))))","v":0},{"$f":"IF(S41=0,\"\",ROUNDDOWN(12*(((Q41-S41)-MIN($Q$26:$Q$425-$S$26:$S$425)-(MAX($S$26:$S$425*(($Q$26:$Q$425-$S$26:$S$425)=MIN($Q$26:$Q$425-$S$26:$S$425)))-S41))+(MIN($Q$26:$Q$425-$S$26:$S$425)-$I$10)),0)/12)","v":""},"",{"$error":"#N/A"},17]
[17,null,null,null,null,null,null,null,null,{"$f":"SUM(IF(B42=\"\",0,INDEX(SignalHeads[Perp. Wind Area (sft)],MATCH(B42,SignalHeads[Code],0))),IF(D42=\"\",0,INDEX(SignalHeads[Perp. Wind Area (sft)],MATCH(D42,SignalHeads[Code],0))),IF(E42=\"\",0,INDEX(SignalHeads[Perp. Wind Area (sft)],MATCH(E42,SignalHeads[Code],0))),IF(F42=\"\",0,INDEX(SignalHeads[Perp. Wind Area (sft)],MATCH(F42,SignalHeads[Code],0))),IF(G42=\"\",0,INDEX(SignalHeads[Perp. Wind Area (sft)],MATCH(G42,SignalHeads[Code],0))),IF(H42=\"\",0,INDEX(SignalHeads[Perp. Wind Area (sft)],MATCH(H42,SignalHeads[Code],0))),IF(I42=\"\",0,INDEX(SignalHeads[Perp. Wind Area (sft)],MATCH(I42,SignalHeads[Code],0))))","v":0},{"$f":"SUM(IF(B42=\"\",0,INDEX(SignalHeads[Weight*** (lbs)],MATCH(B42,SignalHeads[Code],0))),IF(D42=\"\",0,INDEX(SignalHeads[Weight*** (lbs)],MATCH(D42,SignalHeads[Code],0))),IF(E42=\"\",0,INDEX(SignalHeads[Weight*** (lbs)],MATCH(E42,SignalHeads[Code],0))),IF(F42=\"\",0,INDEX(SignalHeads[Weight*** (lbs)],MATCH(F42,SignalHeads[Code],0))),IF(G42=\"\",0,INDEX(SignalHeads[Weight*** (lbs)],MATCH(G42,SignalHeads[Code],0))),IF(H42=\"\",0,INDEX(SignalHeads[Weight*** (lbs)],MATCH(H42,SignalHeads[Code],0))),IF(I42=\"\",0,INDEX(SignalHeads[Weight*** (lbs)],MATCH(I42,SignalHeads[Code],0))))","v":0},{"$f":"IF(A42<=$I$8,INDEX(DesignConstants[Value],MATCH(\"Span Wire Weight (plf)\",DesignConstants[Design Constant],0)),0)","v":1.155},0,19.057500000000001,{"$error":"#VALUE!"},{"$error":"#VALUE!"},{"$error":"#N/A"},{"$error":"#N/A"},{"$f":"SUM(IF(B42=\"\",0,INDEX(SignalHeads[Height ** (feet)],MATCH(B42,SignalHeads[Code],0))),IF(D42=\"\",0,INDEX(SignalHeads[Height ** (feet)],MATCH(D42,SignalHeads[Code],0))),IF(E42=\"\",0,INDEX(SignalHeads[Height ** (feet)],MATCH(E42,SignalHeads[Code],0))),IF(F42=\"\",0,INDEX(SignalHeads[Height ** (feet)],MATCH(F42,SignalHeads[Code],0))),IF(G42=\"\",0,INDEX(SignalHeads[Height ** (feet)],MATCH(G42,SignalHeads[Code],0))),IF(H42=\"\",0,INDEX(SignalHeads[Height ** (feet)],MATCH(H42,SignalHeads[Code],0))),IF(I42=\"\",0,INDEX(SignalHeads[Height ** (feet)],MATCH(I42,SignalHeads[Code],0))))","v":0},{"$f":"IF(S42=0,\"\",ROUNDDOWN(12*(((Q42-S42)-MIN($Q$26:$Q$425-$S$26:$S$425)-(MAX($S$26:$S$425*(($Q$26:$Q$425-$S$26:$S$425)=MIN($Q$26:$Q$425-$S$26:$S$425)))-S42))+(MIN($Q$26:$Q$425-$S$26:$S$425)-$I$10)),0)/12)","v":""},"",{"$error":"#N/A"},17]
[18,null,null,null,null,null,null,null,null,{"$f":"SUM(IF(B43=\"\",0,INDEX(SignalHeads[Perp. Wind Area (sft)],MATCH(B43,SignalHeads[Code],0))),IF(D43=\"\",0,INDEX(SignalHeads[Perp. Wind Area (sft)],MATCH(D43,SignalHeads[Code],0))),IF(E43=\"\",0,INDEX(SignalHeads[Perp. Wind Area (sft)],MATCH(E43,SignalHeads[Code],0))),IF(F43=\"\",0,INDEX(SignalHeads[Perp. Wind Area (sft)],MATCH(F43,SignalHeads[Code],0))),IF(G43=\"\",0,INDEX(SignalHeads[Perp. Wind Area (sft)],MATCH(G43,SignalHeads[Code],0))),IF(H43=\"\",0,INDEX(SignalHeads[Perp. Wind Area (sft)],MATCH(H43,SignalHeads[Code],0))),IF(I43=\"\",0,INDEX(SignalHeads[Perp. Wind Area (sft)],MATCH(I43,SignalHeads[Code],0))))","v":0},{"$f":"SUM(IF(B43=\"\",0,INDEX(SignalHeads[Weight*** (lbs)],MATCH(B43,SignalHeads[Code],0))),IF(D43=\"\",0,INDEX(SignalHeads[Weight*** (lbs)],MATCH(D43,SignalHeads[Code],0))),IF(E43=\"\",0,INDEX(SignalHeads[Weight*** (lbs)],MATCH(E43,SignalHeads[Code],0))),IF(F43=\"\",0,INDEX(SignalHeads[Weight*** (lbs)],MATCH(F43,SignalHeads[Code],0))),IF(G43=\"\",0,INDEX(SignalHeads[Weight*** (lbs)],MATCH(G43,SignalHeads[Code],0))),IF(H43=\"\",0,INDEX(SignalHeads[Weight*** (lbs)],MATCH(H43,SignalHeads[Code],0))),IF(I43=\"\",0,INDEX(SignalHeads[Weight*** (lbs)],MATCH(I43,SignalHeads[Code],0))))","v":0},{"$f":"IF(A43<=$I$8,INDEX(DesignConstants[Value],MATCH(\"Span Wire Weight (plf)\",DesignConstants[Design Constant],0)),0)","v":1.155},0,20.212500000000002,{"$error":"#VALUE!"},{"$error":"#VALUE!"},{"$error":"#N/A"},{"$error":"#N/A"},{"$f":"SUM(IF(B43=\"\",0,INDEX(SignalHeads[Height ** (feet)],MATCH(B43,SignalHeads[Code],0))),IF(D43=\"\",0,INDEX(SignalHeads[Height ** (feet)],MATCH(D43,SignalHeads[Code],0))),IF(E43=\"\",0,INDEX(SignalHeads[Height ** (feet)],MATCH(E43,SignalHeads[Code],0))),IF(F43=\"\",0,INDEX(SignalHeads[Height ** (feet)],MATCH(F43,SignalHeads[Code],0))),IF(G43=\"\",0,INDEX(SignalHeads[Height ** (feet)],MATCH(G43,SignalHeads[Code],0))),IF(H43=\"\",0,INDEX(SignalHeads[Height ** (feet)],MATCH(H43,SignalHeads[Code],0))),IF(I43=\"\",0,INDEX(SignalHeads[Height ** (feet)],MATCH(I43,SignalHeads[Code],0))))","v":0},{"$f":"IF(S43=0,\"\",ROUNDDOWN(12*(((Q43-S43)-MIN($Q$26:$Q$425-$S$26:$S$425)-(MAX($S$26:$S$425*(($Q$26:$Q$425-$S$26:$S$425)=MIN($Q$26:$Q$425-$S$26:$S$425)))-S43))+(MIN($Q$26:$Q$425-$S$26:$S$425)-$I$10)),0)/12)","v":""},"",{"$error":"#N/A"},17]
[19,null,null,null,null,null,null,null,null,{"$f":"SUM(IF(B44=\"\",0,INDEX(SignalHeads[Perp. Wind Area (sft)],MATCH(B44,SignalHeads[Code],0))),IF(D44=\"\",0,INDEX(SignalHeads[Perp. Wind Area (sft)],MATCH(D44,SignalHeads[Code],0))),IF(E44=\"\",0,INDEX(SignalHeads[Perp. Wind Area (sft)],MATCH(E44,SignalHeads[Code],0))),IF(F44=\"\",0,INDEX(SignalHeads[Perp. Wind Area (sft)],MATCH(F44,SignalHeads[Code],0))),IF(G44=\"\",0,INDEX(SignalHeads[Perp. Wind Area (sft)],MATCH(G44,SignalHeads[Code],0))),IF(H44=\"\",0,INDEX(SignalHeads[Perp. Wind Area (sft)],MATCH(H44,SignalHeads[Code],0))),IF(I44=\"\",0,INDEX(SignalHeads[Perp. Wind Area (sft)],MATCH(I44,SignalHeads[Code],0))))","v":0},{"$f":"SUM(IF(B44=\"\",0,INDEX(SignalHeads[Weight*** (lbs)],MATCH(B44,SignalHeads[Code],0))),IF(D44=\"\",0,INDEX(SignalHeads[Weight*** (lbs)],MATCH(D44,SignalHeads[Code],0))),IF(E44=\"\",0,INDEX(SignalHeads[Weight*** (lbs)],MATCH(E44,SignalHeads[Code],0))),IF(F44=\"\",0,INDEX(SignalHeads[Weight*** (lbs)],MATCH(F44,SignalHeads[Code],0))),IF(G44=\"\",0,INDEX(SignalHeads[Weight*** (lbs)],MATCH(G44,SignalHeads[Code],0))),IF(H44=\"\",0,INDEX(SignalHeads[Weight*** (lbs)],MATCH(H44,SignalHeads[Code],0))),IF(I44=\"\",0,INDEX(SignalHeads[Weight*** (lbs)],MATCH(I44,SignalHeads[Code],0))))","v":0},{"$f":"IF(A44<=$I$8,INDEX(DesignConstants[Value],MATCH(\"Span Wire Weight (plf)\",DesignConstants[Design Constant],0)),0)","v":1.155},0,21.3675,{"$error":"#VALUE!"},{"$error":"#VALUE!"},{"$error":"#N/A"},{"$error":"#N/A"},{"$f":"SUM(IF(B44=\"\",0,INDEX(SignalHeads[Height ** (feet)],MATCH(B44,SignalHeads[Code],0))),IF(D44=\"\",0,INDEX(SignalHeads[Height ** (feet)],MATCH(D44,SignalHeads[Code],0))),IF(E44=\"\",0,INDEX(SignalHeads[Height ** (feet)],MATCH(E44,SignalHeads[Code],0))),IF(F44=\"\",0,INDEX(SignalHeads[Height ** (feet)],MATCH(F44,SignalHeads[Code],0))),IF(G44=\"\",0,INDEX(SignalHeads[Height ** (feet)],MATCH(G44,SignalHeads[Code],0))),IF(H44=\"\",0,INDEX(SignalHeads[Height ** (feet)],MATCH(H44,SignalHeads[Code],0))),IF(I44=\"\",0,INDEX(SignalHeads[Height ** (feet)],MATCH(I44,SignalHeads[Code],0))))","v":0},{"$f":"IF(S44=0,\"\",ROUNDDOWN(12*(((Q44-S44)-MIN($Q$26:$Q$425-$S$26:$S$425)-(MAX($S$26:$S$425*(($Q$26:$Q$425-$S$26:$S$425)=MIN($Q$26:$Q$425-$S$26:$S$425)))-S44))+(MIN($Q$26:$Q$425-$S$26:$S$425)-$I$10)),0)/12)","v":""},"",{"$error":"#N/A"},17]
[20,null,null,null,null,null,null,null,null,{"$f":"SUM(IF(B45=\"\",0,INDEX(SignalHeads[Perp. Wind Area (sft)],MATCH(B45,SignalHeads[Code],0))),IF(D45=\"\",0,INDEX(SignalHeads[Perp. Wind Area (sft)],MATCH(D45,SignalHeads[Code],0))),IF(E45=\"\",0,INDEX(SignalHeads[Perp. Wind Area (sft)],MATCH(E45,SignalHeads[Code],0))),IF(F45=\"\",0,INDEX(SignalHeads[Perp. Wind Area (sft)],MATCH(F45,SignalHeads[Code],0))),IF(G45=\"\",0,INDEX(SignalHeads[Perp. Wind Area (sft)],MATCH(G45,SignalHeads[Code],0))),IF(H45=\"\",0,INDEX(SignalHeads[Perp. Wind Area (sft)],MATCH(H45,SignalHeads[Code],0))),IF(I45=\"\",0,INDEX(SignalHeads[Perp. Wind Area (sft)],MATCH(I45,SignalHeads[Code],0))))","v":0},{"$f":"SUM(IF(B45=\"\",0,INDEX(SignalHeads[Weight*** (lbs)],MATCH(B45,SignalHeads[Code],0))),IF(D45=\"\",0,INDEX(SignalHeads[Weight*** (lbs)],MATCH(D45,SignalHeads[Code],0))),IF(E45=\"\",0,INDEX(SignalHeads[Weight*** (lbs)],MATCH(E45,SignalHeads[Code],0))),IF(F45=\"\",0,INDEX(SignalHeads[Weight*** (lbs)],MATCH(F45,SignalHeads[Code],0))),IF(G45=\"\",0,INDEX(SignalHeads[Weight*** (lbs)],MATCH(G45,SignalHeads[Code],0))),IF(H45=\"\",0,INDEX(SignalHeads[Weight*** (lbs)],MATCH(H45,SignalHeads[Code],0))),IF(I45=\"\",0,INDEX(SignalHeads[Weight*** (lbs)],MATCH(I45,SignalHeads[Code],0))))","v":0},{"$f":"IF(A45<=$I$8,INDEX(DesignConstants[Value],MATCH(\"Span Wire Weight (plf)\",DesignConstants[Design Constant],0)),0)","v":1.155},0,22.522500000000001,{"$error":"#VALUE!"},{"$error":"#VALUE!"},{"$error":"#N/A"},{"$error":"#N/A"},{"$f":"SUM(IF(B45=\"\",0,INDEX(SignalHeads[Height ** (feet)],MATCH(B45,SignalHeads[Code],0))),IF(D45=\"\",0,INDEX(SignalHeads[Height ** (feet)],MATCH(D45,SignalHeads[Code],0))),IF(E45=\"\",0,INDEX(SignalHeads[Height ** (feet)],MATCH(E45,SignalHeads[Code],0))),IF(F45=\"\",0,INDEX(SignalHeads[Height ** (feet)],MATCH(F45,SignalHeads[Code],0))),IF(G45=\"\",0,INDEX(SignalHeads[Height ** (feet)],MATCH(G45,SignalHeads[Code],0))),IF(H45=\"\",0,INDEX(SignalHeads[Height ** (feet)],MATCH(H45,SignalHeads[Code],0))),IF(I45=\"\",0,INDEX(SignalHeads[Height ** (feet)],MATCH(I45,SignalHeads[Code],0))))","v":0},{"$f":"IF(S45=0,\"\",ROUNDDOWN(12*(((Q45-S45)-MIN($Q$26:$Q$425-$S$26:$S$425)-(MAX($S$26:$S$425*(($Q$26:$Q$425-$S$26:$S$425)=MIN($Q$26:$Q$425-$S$26:$S$425)))-S45))+(MIN($Q$26:$Q$425-$S$26:$S$425)-$I$10)),0)/12)","v":""},"",{"$error":"#N/A"},17]
[21,null,null,null,null,null,null,null,null,{"$f":"SUM(IF(B46=\"\",0,INDEX(SignalHeads[Perp. Wind Area (sft)],MATCH(B46,SignalHeads[Code],0))),IF(D46=\"\",0,INDEX(SignalHeads[Perp. Wind Area (sft)],MATCH(D46,SignalHeads[Code],0))),IF(E46=\"\",0,INDEX(SignalHeads[Perp. Wind Area (sft)],MATCH(E46,SignalHeads[Code],0))),IF(F46=\"\",0,INDEX(SignalHeads[Perp. Wind Area (sft)],MATCH(F46,SignalHeads[Code],0))),IF(G46=\"\",0,INDEX(SignalHeads[Perp. Wind Area (sft)],MATCH(G46,SignalHeads[Code],0))),IF(H46=\"\",0,INDEX(SignalHeads[Perp. Wind Area (sft)],MATCH(H46,SignalHeads[Code],0))),IF(I46=\"\",0,INDEX(SignalHeads[Perp. Wind Area (sft)],MATCH(I46,SignalHeads[Code],0))))","v":0},{"$f":"SUM(IF(B46=\"\",0,INDEX(SignalHeads[Weight*** (lbs)],MATCH(B46,SignalHeads[Code],0))),IF(D46=\"\",0,INDEX(SignalHeads[Weight*** (lbs)],MATCH(D46,SignalHeads[Code],0))),IF(E46=\"\",0,INDEX(SignalHeads[Weight*** (lbs)],MATCH(E46,SignalHeads[Code],0))),IF(F46=\"\",0,INDEX(SignalHeads[Weight*** (lbs)],MATCH(F46,SignalHeads[Code],0))),IF(G46=\"\",0,INDEX(SignalHeads[Weight*** (lbs)],MATCH(G46,SignalHeads[Code],0))),IF(H46=\"\",0,INDEX(SignalHeads[Weight*** (lbs)],MATCH(H46,SignalHeads[Code],0))),IF(I46=\"\",0,INDEX(SignalHeads[Weight*** (lbs)],MATCH(I46,SignalHeads[Code],0))))","v":0},{"$f":"IF(A46<=$I$8,INDEX(DesignConstants[Value],MATCH(\"Span Wire Weight (plf)\",DesignConstants[Design Constant],0)),0)","v":1.155},0,23.677500000000002,{"$error":"#VALUE!"},{"$error":"#VALUE!"},{"$error":"#N/A"},{"$error":"#N/A"},{"$f":"SUM(IF(B46=\"\",0,INDEX(SignalHeads[Height ** (feet)],MATCH(B46,SignalHeads[Code],0))),IF(D46=\"\",0,INDEX(SignalHeads[Height ** (feet)],MATCH(D46,SignalHeads[Code],0))),IF(E46=\"\",0,INDEX(SignalHeads[Height ** (feet)],MATCH(E46,SignalHeads[Code],0))),IF(F46=\"\",0,INDEX(SignalHeads[Height ** (feet)],MATCH(F46,SignalHeads[Code],0))),IF(G46=\"\",0,INDEX(SignalHeads[Height ** (feet)],MATCH(G46,SignalHeads[Code],0))),IF(H46=\"\",0,INDEX(SignalHeads[Height ** (feet)],MATCH(H46,SignalHeads[Code],0))),IF(I46=\"\",0,INDEX(SignalHeads[Height ** (feet)],MATCH(I46,SignalHeads[Code],0))))","v":0},{"$f":"IF(S46=0,\"\",ROUNDDOWN(12*(((Q46-S46)-MIN($Q$26:$Q$425-$S$26:$S$425)-(MAX($S$26:$S$425*(($Q$26:$Q$425-$S$26:$S$425)=MIN($Q$26:$Q$425-$S$26:$S$425)))-S46))+(MIN($Q$26:$Q$425-$S$26:$S$425)-$I$10)),0)/12)","v":""},"",{"$error":"#N/A"},17]
[22,null,null,null,null,null,null,null,null,{"$f":"SUM(IF(B47=\"\",0,INDEX(SignalHeads[Perp. Wind Area (sft)],MATCH(B47,SignalHeads[Code],0))),IF(D47=\"\",0,INDEX(SignalHeads[Perp. Wind Area (sft)],MATCH(D47,SignalHeads[Code],0))),IF(E47=\"\",0,INDEX(SignalHeads[Perp. Wind Area (sft)],MATCH(E47,SignalHeads[Code],0))),IF(F47=\"\",0,INDEX(SignalHeads[Perp. Wind Area (sft)],MATCH(F47,SignalHeads[Code],0))),IF(G47=\"\",0,INDEX(SignalHeads[Perp. Wind Area (sft)],MATCH(G47,SignalHeads[Code],0))),IF(H47=\"\",0,INDEX(SignalHeads[Perp. Wind Area (sft)],MATCH(H47,SignalHeads[Code],0))),IF(I47=\"\",0,INDEX(SignalHeads[Perp. Wind Area (sft)],MATCH(I47,SignalHeads[Code],0))))","v":0},{"$f":"SUM(IF(B47=\"\",0,INDEX(SignalHeads[Weight*** (lbs)],MATCH(B47,SignalHeads[Code],0))),IF(D47=\"\",0,INDEX(SignalHeads[Weight*** (lbs)],MATCH(D47,SignalHeads[Code],0))),IF(E47=\"\",0,INDEX(SignalHeads[Weight*** (lbs)],MATCH(E47,SignalHeads[Code],0))),IF(F47=\"\",0,INDEX(SignalHeads[Weight*** (lbs)],MATCH(F47,SignalHeads[Code],0))),IF(G47=\"\",0,INDEX(SignalHeads[Weight*** (lbs)],MATCH(G47,SignalHeads[Code],0))),IF(H47=\"\",0,INDEX(SignalHeads[Weight*** (lbs)],MATCH(H47,SignalHeads[Code],0))),IF(I47=\"\",0,INDEX(SignalHeads[Weight*** (lbs)],MATCH(I47,SignalHeads[Code],0))))","v":0},{"$f":"IF(A47<=$I$8,INDEX(DesignConstants[Value],MATCH(\"Span Wire Weight (plf)\",DesignConstants[Design Constant],0)),0)","v":1.155},0,24.8325,{"$error":"#VALUE!"},{"$error":"#VALUE!"},{"$error":"#N/A"},{"$error":"#N/A"},{"$f":"SUM(IF(B47=\"\",0,INDEX(SignalHeads[Height ** (feet)],MATCH(B47,SignalHeads[Code],0))),IF(D47=\"\",0,INDEX(SignalHeads[Height ** (feet)],MATCH(D47,SignalHeads[Code],0))),IF(E47=\"\",0,INDEX(SignalHeads[Height ** (feet)],MATCH(E47,SignalHeads[Code],0))),IF(F47=\"\",0,INDEX(SignalHeads[Height ** (feet)],MATCH(F47,SignalHeads[Code],0))),IF(G47=\"\",0,INDEX(SignalHeads[Height ** (feet)],MATCH(G47,SignalHeads[Code],0))),IF(H47=\"\",0,INDEX(SignalHeads[Height ** (feet)],MATCH(H47,SignalHeads[Code],0))),IF(I47=\"\",0,INDEX(SignalHeads[Height ** (feet)],MATCH(I47,SignalHeads[Code],0))))","v":0},{"$f":"IF(S47=0,\"\",ROUNDDOWN(12*(((Q47-S47)-MIN($Q$26:$Q$425-$S$26:$S$425)-(MAX($S$26:$S$425*(($Q$26:$Q$425-$S$26:$S$425)=MIN($Q$26:$Q$425-$S$26:$S$425)))-S47))+(MIN($Q$26:$Q$425-$S$26:$S$425)-$I$10)),0)/12)","v":""},"",{"$error":"#N/A"},17]
[23,null,null,null,null,null,null,null,null,{"$f":"SUM(IF(B48=\"\",0,INDEX(SignalHeads[Perp. Wind Area (sft)],MATCH(B48,SignalHeads[Code],0))),IF(D48=\"\",0,INDEX(SignalHeads[Perp. Wind Area (sft)],MATCH(D48,SignalHeads[Code],0))),IF(E48=\"\",0,INDEX(SignalHeads[Perp. Wind Area (sft)],MATCH(E48,SignalHeads[Code],0))),IF(F48=\"\",0,INDEX(SignalHeads[Perp. Wind Area (sft)],MATCH(F48,SignalHeads[Code],0))),IF(G48=\"\",0,INDEX(SignalHeads[Perp. Wind Area (sft)],MATCH(G48,SignalHeads[Code],0))),IF(H48=\"\",0,INDEX(SignalHeads[Perp. Wind Area (sft)],MATCH(H48,SignalHeads[Code],0))),IF(I48=\"\",0,INDEX(SignalHeads[Perp. Wind Area (sft)],MATCH(I48,SignalHeads[Code],0))))","v":0},{"$f":"SUM(IF(B48=\"\",0,INDEX(SignalHeads[Weight*** (lbs)],MATCH(B48,SignalHeads[Code],0))),IF(D48=\"\",0,INDEX(SignalHeads[Weight*** (lbs)],MATCH(D48,SignalHeads[Code],0))),IF(E48=\"\",0,INDEX(SignalHeads[Weight*** (lbs)],MATCH(E48,SignalHeads[Code],0))),IF(F48=\"\",0,INDEX(SignalHeads[Weight*** (lbs)],MATCH(F48,SignalHeads[Code],0))),IF(G48=\"\",0,INDEX(SignalHeads[Weight*** (lbs)],MATCH(G48,SignalHeads[Code],0))),IF(H48=\"\",0,INDEX(SignalHeads[Weight*** (lbs)],MATCH(H48,SignalHeads[Code],0))),IF(I48=\"\",0,INDEX(SignalHeads[Weight*** (lbs)],MATCH(I48,SignalHeads[Code],0))))","v":0},{"$f":"IF(A48<=$I$8,INDEX(DesignConstants[Value],MATCH(\"Span Wire Weight (plf)\",DesignConstants[Design Constant],0)),0)","v":1.155},0,25.987500000000001,{"$error":"#VALUE!"},{"$error":"#VALUE!"},{"$error":"#N/A"},{"$error":"#N/A"},{"$f":"SUM(IF(B48=\"\",0,INDEX(SignalHeads[Height ** (feet)],MATCH(B48,SignalHeads[Code],0))),IF(D48=\"\",0,INDEX(SignalHeads[Height ** (feet)],MATCH(D48,SignalHeads[Code],0))),IF(E48=\"\",0,INDEX(SignalHeads[Height ** (feet)],MATCH(E48,SignalHeads[Code],0))),IF(F48=\"\",0,INDEX(SignalHeads[Height ** (feet)],MATCH(F48,SignalHeads[Code],0))),IF(G48=\"\",0,INDEX(SignalHeads[Height ** (feet)],MATCH(G48,SignalHeads[Code],0))),IF(H48=\"\",0,INDEX(SignalHeads[Height ** (feet)],MATCH(H48,SignalHeads[Code],0))),IF(I48=\"\",0,INDEX(SignalHeads[Height ** (feet)],MATCH(I48,SignalHeads[Code],0))))","v":0},{"$f":"IF(S48=0,\"\",ROUNDDOWN(12*(((Q48-S48)-MIN($Q$26:$Q$425-$S$26:$S$425)-(MAX($S$26:$S$425*(($Q$26:$Q$425-$S$26:$S$425)=MIN($Q$26:$Q$425-$S$26:$S$425)))-S48))+(MIN($Q$26:$Q$425-$S$26:$S$425)-$I$10)),0)/12)","v":""},"",{"$error":"#N/A"},17]
[24,null,null,null,null,null,null,null,null,{"$f":"SUM(IF(B49=\"\",0,INDEX(SignalHeads[Perp. Wind Area (sft)],MATCH(B49,SignalHeads[Code],0))),IF(D49=\"\",0,INDEX(SignalHeads[Perp. Wind Area (sft)],MATCH(D49,SignalHeads[Code],0))),IF(E49=\"\",0,INDEX(SignalHeads[Perp. Wind Area (sft)],MATCH(E49,SignalHeads[Code],0))),IF(F49=\"\",0,INDEX(SignalHeads[Perp. Wind Area (sft)],MATCH(F49,SignalHeads[Code],0))),IF(G49=\"\",0,INDEX(SignalHeads[Perp. Wind Area (sft)],MATCH(G49,SignalHeads[Code],0))),IF(H49=\"\",0,INDEX(SignalHeads[Perp. Wind Area (sft)],MATCH(H49,SignalHeads[Code],0))),IF(I49=\"\",0,INDEX(SignalHeads[Perp. Wind Area (sft)],MATCH(I49,SignalHeads[Code],0))))","v":0},{"$f":"SUM(IF(B49=\"\",0,INDEX(SignalHeads[Weight*** (lbs)],MATCH(B49,SignalHeads[Code],0))),IF(D49=\"\",0,INDEX(SignalHeads[Weight*** (lbs)],MATCH(D49,SignalHeads[Code],0))),IF(E49=\"\",0,INDEX(SignalHeads[Weight*** (lbs)],MATCH(E49,SignalHeads[Code],0))),IF(F49=\"\",0,INDEX(SignalHeads[Weight*** (lbs)],MATCH(F49,SignalHeads[Code],0))),IF(G49=\"\",0,INDEX(SignalHeads[Weight*** (lbs)],MATCH(G49,SignalHeads[Code],0))),IF(H49=\"\",0,INDEX(SignalHeads[Weight*** (lbs)],MATCH(H49,SignalHeads[Code],0))),IF(I49=\"\",0,INDEX(SignalHeads[Weight*** (lbs)],MATCH(I49,SignalHeads[Code],0))))","v":0},{"$f":"IF(A49<=$I$8,INDEX(DesignConstants[Value],MATCH(\"Span Wire Weight (plf)\",DesignConstants[Design Constant],0)),0)","v":1.155},0,27.142500000000002,{"$error":"#VALUE!"},{"$error":"#VALUE!"},{"$error":"#N/A"},{"$error":"#N/A"},{"$f":"SUM(IF(B49=\"\",0,INDEX(SignalHeads[Height ** (feet)],MATCH(B49,SignalHeads[Code],0))),IF(D49=\"\",0,INDEX(SignalHeads[Height ** (feet)],MATCH(D49,SignalHeads[Code],0))),IF(E49=\"\",0,INDEX(SignalHeads[Height ** (feet)],MATCH(E49,SignalHeads[Code],0))),IF(F49=\"\",0,INDEX(SignalHeads[Height ** (feet)],MATCH(F49,SignalHeads[Code],0))),IF(G49=\"\",0,INDEX(SignalHeads[Height ** (feet)],MATCH(G49,SignalHeads[Code],0))),IF(H49=\"\",0,INDEX(SignalHeads[Height ** (feet)],MATCH(H49,SignalHeads[Code],0))),IF(I49=\"\",0,INDEX(SignalHeads[Height ** (feet)],MATCH(I49,SignalHeads[Code],0))))","v":0},{"$f":"IF(S49=0,\"\",ROUNDDOWN(12*(((Q49-S49)-MIN($Q$26:$Q$425-$S$26:$S$425)-(MAX($S$26:$S$425*(($Q$26:$Q$425-$S$26:$S$425)=MIN($Q$26:$Q$425-$S$26:$S$425)))-S49))+(MIN($Q$26:$Q$425-$S$26:$S$425)-$I$10)),0)/12)","v":""},"",{"$error":"#N/A"},17]
[25,null,null,null,null,null,null,null,null,{"$f":"SUM(IF(B50=\"\",0,INDEX(SignalHeads[Perp. Wind Area (sft)],MATCH(B50,SignalHeads[Code],0))),IF(D50=\"\",0,INDEX(SignalHeads[Perp. Wind Area (sft)],MATCH(D50,SignalHeads[Code],0))),IF(E50=\"\",0,INDEX(SignalHeads[Perp. Wind Area (sft)],MATCH(E50,SignalHeads[Code],0))),IF(F50=\"\",0,INDEX(SignalHeads[Perp. Wind Area (sft)],MATCH(F50,SignalHeads[Code],0))),IF(G50=\"\",0,INDEX(SignalHeads[Perp. Wind Area (sft)],MATCH(G50,SignalHeads[Code],0))),IF(H50=\"\",0,INDEX(SignalHeads[Perp. Wind Area (sft)],MATCH(H50,SignalHeads[Code],0))),IF(I50=\"\",0,INDEX(SignalHeads[Perp. Wind Area (sft)],MATCH(I50,SignalHeads[Code],0))))","v":0},{"$f":"SUM(IF(B50=\"\",0,INDEX(SignalHeads[Weight*** (lbs)],MATCH(B50,SignalHeads[Code],0))),IF(D50=\"\",0,INDEX(SignalHeads[Weight*** (lbs)],MATCH(D50,SignalHeads[Code],0))),IF(E50=\"\",0,INDEX(SignalHeads[Weight*** (lbs)],MATCH(E50,SignalHeads[Code],0))),IF(F50=\"\",0,INDEX(SignalHeads[Weight*** (lbs)],MATCH(F50,SignalHeads[Code],0))),IF(G50=\"\",0,INDEX(SignalHeads[Weight*** (lbs)],MATCH(G50,SignalHeads[Code],0))),IF(H50=\"\",0,INDEX(SignalHeads[Weight*** (lbs)],MATCH(H50,SignalHeads[Code],0))),IF(I50=\"\",0,INDEX(SignalHeads[Weight*** (lbs)],MATCH(I50,SignalHeads[Code],0))))","v":0},{"$f":"IF(A50<=$I$8,INDEX(DesignConstants[Value],MATCH(\"Span Wire Weight (plf)\",DesignConstants[Design Constant],0)),0)","v":1.155},0,28.297499999999999,{"$error":"#VALUE!"},{"$error":"#VALUE!"},{"$error":"#N/A"},{"$error":"#N/A"},{"$f":"SUM(IF(B50=\"\",0,INDEX(SignalHeads[Height ** (feet)],MATCH(B50,SignalHeads[Code],0))),IF(D50=\"\",0,INDEX(SignalHeads[Height ** (feet)],MATCH(D50,SignalHeads[Code],0))),IF(E50=\"\",0,INDEX(SignalHeads[Height ** (feet)],MATCH(E50,SignalHeads[Code],0))),IF(F50=\"\",0,INDEX(SignalHeads[Height ** (feet)],MATCH(F50,SignalHeads[Code],0))),IF(G50=\"\",0,INDEX(SignalHeads[Height ** (feet)],MATCH(G50,SignalHeads[Code],0))),IF(H50=\"\",0,INDEX(SignalHeads[Height ** (feet)],MATCH(H50,SignalHeads[Code],0))),IF(I50=\"\",0,INDEX(SignalHeads[Height ** (feet)],MATCH(I50,SignalHeads[Code],0))))","v":0},{"$f":"IF(S50=0,\"\",ROUNDDOWN(12*(((Q50-S50)-MIN($Q$26:$Q$425-$S$26:$S$425)-(MAX($S$26:$S$425*(($Q$26:$Q$425-$S$26:$S$425)=MIN($Q$26:$Q$425-$S$26:$S$425)))-S50))+(MIN($Q$26:$Q$425-$S$26:$S$425)-$I$10)),0)/12)","v":""},"",{"$error":"#N/A"},17]
[26,null,null,null,null,null,null,null,null,{"$f":"SUM(IF(B51=\"\",0,INDEX(SignalHeads[Perp. Wind Area (sft)],MATCH(B51,SignalHeads[Code],0))),IF(D51=\"\",0,INDEX(SignalHeads[Perp. Wind Area (sft)],MATCH(D51,SignalHeads[Code],0))),IF(E51=\"\",0,INDEX(SignalHeads[Perp. Wind Area (sft)],MATCH(E51,SignalHeads[Code],0))),IF(F51=\"\",0,INDEX(SignalHeads[Perp. Wind Area (sft)],MATCH(F51,SignalHeads[Code],0))),IF(G51=\"\",0,INDEX(SignalHeads[Perp. Wind Area (sft)],MATCH(G51,SignalHeads[Code],0))),IF(H51=\"\",0,INDEX(SignalHeads[Perp. Wind Area (sft)],MATCH(H51,SignalHeads[Code],0))),IF(I51=\"\",0,INDEX(SignalHeads[Perp. Wind Area (sft)],MATCH(I51,SignalHeads[Code],0))))","v":0},{"$f":"SUM(IF(B51=\"\",0,INDEX(SignalHeads[Weight*** (lbs)],MATCH(B51,SignalHeads[Code],0))),IF(D51=\"\",0,INDEX(SignalHeads[Weight*** (lbs)],MATCH(D51,SignalHeads[Code],0))),IF(E51=\"\",0,INDEX(SignalHeads[Weight*** (lbs)],MATCH(E51,SignalHeads[Code],0))),IF(F51=\"\",0,INDEX(SignalHeads[Weight*** (lbs)],MATCH(F51,SignalHeads[Code],0))),IF(G51=\"\",0,INDEX(SignalHeads[Weight*** (lbs)],MATCH(G51,SignalHeads[Code],0))),IF(H51=\"\",0,INDEX(SignalHeads[Weight*** (lbs)],MATCH(H51,SignalHeads[Code],0))),IF(I51=\"\",0,INDEX(SignalHeads[Weight*** (lbs)],MATCH(I51,SignalHeads[Code],0))))","v":0},{"$f":"IF(A51<=$I$8,INDEX(DesignConstants[Value],MATCH(\"Span Wire Weight (plf)\",DesignConstants[Design Constant],0)),0)","v":1.155},0,29.452500000000001,{"$error":"#VALUE!"},{"$error":"#VALUE!"},{"$error":"#N/A"},{"$error":"#N/A"},{"$f":"SUM(IF(B51=\"\",0,INDEX(SignalHeads[Height ** (feet)],MATCH(B51,SignalHeads[Code],0))),IF(D51=\"\",0,INDEX(SignalHeads[Height ** (feet)],MATCH(D51,SignalHeads[Code],0))),IF(E51=\"\",0,INDEX(SignalHeads[Height ** (feet)],MATCH(E51,SignalHeads[Code],0))),IF(F51=\"\",0,INDEX(SignalHeads[Height ** (feet)],MATCH(F51,SignalHeads[Code],0))),IF(G51=\"\",0,INDEX(SignalHeads[Height ** (feet)],MATCH(G51,SignalHeads[Code],0))),IF(H51=\"\",0,INDEX(SignalHeads[Height ** (feet)],MATCH(H51,SignalHeads[Code],0))),IF(I51=\"\",0,INDEX(SignalHeads[Height ** (feet)],MATCH(I51,SignalHeads[Code],0))))","v":0},{"$f":"IF(S51=0,\"\",ROUNDDOWN(12*(((Q51-S51)-MIN($Q$26:$Q$425-$S$26:$S$425)-(MAX($S$26:$S$425*(($Q$26:$Q$425-$S$26:$S$425)=MIN($Q$26:$Q$425-$S$26:$S$425)))-S51))+(MIN($Q$26:$Q$425-$S$26:$S$425)-$I$10)),0)/12)","v":""},"",{"$error":"#N/A"},17]
[27,null,null,null,null,null,null,null,null,{"$f":"SUM(IF(B52=\"\",0,INDEX(SignalHeads[Perp. Wind Area (sft)],MATCH(B52,SignalHeads[Code],0))),IF(D52=\"\",0,INDEX(SignalHeads[Perp. Wind Area (sft)],MATCH(D52,SignalHeads[Code],0))),IF(E52=\"\",0,INDEX(SignalHeads[Perp. Wind Area (sft)],MATCH(E52,SignalHeads[Code],0))),IF(F52=\"\",0,INDEX(SignalHeads[Perp. Wind Area (sft)],MATCH(F52,SignalHeads[Code],0))),IF(G52=\"\",0,INDEX(SignalHeads[Perp. Wind Area (sft)],MATCH(G52,SignalHeads[Code],0))),IF(H52=\"\",0,INDEX(SignalHeads[Perp. Wind Area (sft)],MATCH(H52,SignalHeads[Code],0))),IF(I52=\"\",0,INDEX(SignalHeads[Perp. Wind Area (sft)],MATCH(I52,SignalHeads[Code],0))))","v":0},{"$f":"SUM(IF(B52=\"\",0,INDEX(SignalHeads[Weight*** (lbs)],MATCH(B52,SignalHeads[Code],0))),IF(D52=\"\",0,INDEX(SignalHeads[Weight*** (lbs)],MATCH(D52,SignalHeads[Code],0))),IF(E52=\"\",0,INDEX(SignalHeads[Weight*** (lbs)],MATCH(E52,SignalHeads[Code],0))),IF(F52=\"\",0,INDEX(SignalHeads[Weight*** (lbs)],MATCH(F52,SignalHeads[Code],0))),IF(G52=\"\",0,INDEX(SignalHeads[Weight*** (lbs)],MATCH(G52,SignalHeads[Code],0))),IF(H52=\"\",0,INDEX(SignalHeads[Weight*** (lbs)],MATCH(H52,SignalHeads[Code],0))),IF(I52=\"\",0,INDEX(SignalHeads[Weight*** (lbs)],MATCH(I52,SignalHeads[Code],0))))","v":0},{"$f":"IF(A52<=$I$8,INDEX(DesignConstants[Value],MATCH(\"Span Wire Weight (plf)\",DesignConstants[Design Constant],0)),0)","v":1.155},0,30.607500000000002,{"$error":"#VALUE!"},{"$error":"#VALUE!"},{"$error":"#N/A"},{"$error":"#N/A"},{"$f":"SUM(IF(B52=\"\",0,INDEX(SignalHeads[Height ** (feet)],MATCH(B52,SignalHeads[Code],0))),IF(D52=\"\",0,INDEX(SignalHeads[Height ** (feet)],MATCH(D52,SignalHeads[Code],0))),IF(E52=\"\",0,INDEX(SignalHeads[Height ** (feet)],MATCH(E52,SignalHeads[Code],0))),IF(F52=\"\",0,INDEX(SignalHeads[Height ** (feet)],MATCH(F52,SignalHeads[Code],0))),IF(G52=\"\",0,INDEX(SignalHeads[Height ** (feet)],MATCH(G52,SignalHeads[Code],0))),IF(H52=\"\",0,INDEX(SignalHeads[Height ** (feet)],MATCH(H52,SignalHeads[Code],0))),IF(I52=\"\",0,INDEX(SignalHeads[Height ** (feet)],MATCH(I52,SignalHeads[Code],0))))","v":0},{"$f":"IF(S52=0,\"\",ROUNDDOWN(12*(((Q52-S52)-MIN($Q$26:$Q$425-$S$26:$S$425)-(MAX($S$26:$S$425*(($Q$26:$Q$425-$S$26:$S$425)=MIN($Q$26:$Q$425-$S$26:$S$425)))-S52))+(MIN($Q$26:$Q$425-$S$26:$S$425)-$I$10)),0)/12)","v":""},"",{"$error":"#N/A"},17]
[28,null,null,null,null,null,null,null,null,{"$f":"SUM(IF(B53=\"\",0,INDEX(SignalHeads[Perp. Wind Area (sft)],MATCH(B53,SignalHeads[Code],0))),IF(D53=\"\",0,INDEX(SignalHeads[Perp. Wind Area (sft)],MATCH(D53,SignalHeads[Code],0))),IF(E53=\"\",0,INDEX(SignalHeads[Perp. Wind Area (sft)],MATCH(E53,SignalHeads[Code],0))),IF(F53=\"\",0,INDEX(SignalHeads[Perp. Wind Area (sft)],MATCH(F53,SignalHeads[Code],0))),IF(G53=\"\",0,INDEX(SignalHeads[Perp. Wind Area (sft)],MATCH(G53,SignalHeads[Code],0))),IF(H53=\"\",0,INDEX(SignalHeads[Perp. Wind Area (sft)],MATCH(H53,SignalHeads[Code],0))),IF(I53=\"\",0,INDEX(SignalHeads[Perp. Wind Area (sft)],MATCH(I53,SignalHeads[Code],0))))","v":0},{"$f":"SUM(IF(B53=\"\",0,INDEX(SignalHeads[Weight*** (lbs)],MATCH(B53,SignalHeads[Code],0))),IF(D53=\"\",0,INDEX(SignalHeads[Weight*** (lbs)],MATCH(D53,SignalHeads[Code],0))),IF(E53=\"\",0,INDEX(SignalHeads[Weight*** (lbs)],MATCH(E53,SignalHeads[Code],0))),IF(F53=\"\",0,INDEX(SignalHeads[Weight*** (lbs)],MATCH(F53,SignalHeads[Code],0))),IF(G53=\"\",0,INDEX(SignalHeads[Weight*** (lbs)],MATCH(G53,SignalHeads[Code],0))),IF(H53=\"\",0,INDEX(SignalHeads[Weight*** (lbs)],MATCH(H53,SignalHeads[Code],0))),IF(I53=\"\",0,INDEX(SignalHeads[Weight*** (lbs)],MATCH(I53,SignalHeads[Code],0))))","v":0},{"$f":"IF(A53<=$I$8,INDEX(DesignConstants[Value],MATCH(\"Span Wire Weight (plf)\",DesignConstants[Design Constant],0)),0)","v":1.155},0,31.762499999999999,{"$error":"#VALUE!"},{"$error":"#VALUE!"},{"$error":"#N/A"},{"$error":"#N/A"},{"$f":"SUM(IF(B53=\"\",0,INDEX(SignalHeads[Height ** (feet)],MATCH(B53,SignalHeads[Code],0))),IF(D53=\"\",0,INDEX(SignalHeads[Height ** (feet)],MATCH(D53,SignalHeads[Code],0))),IF(E53=\"\",0,INDEX(SignalHeads[Height ** (feet)],MATCH(E53,SignalHeads[Code],0))),IF(F53=\"\",0,INDEX(SignalHeads[Height ** (feet)],MATCH(F53,SignalHeads[Code],0))),IF(G53=\"\",0,INDEX(SignalHeads[Height ** (feet)],MATCH(G53,SignalHeads[Code],0))),IF(H53=\"\",0,INDEX(SignalHeads[Height ** (feet)],MATCH(H53,SignalHeads[Code],0))),IF(I53=\"\",0,INDEX(SignalHeads[Height ** (feet)],MATCH(I53,SignalHeads[Code],0))))","v":0},{"$f":"IF(S53=0,\"\",ROUNDDOWN(12*(((Q53-S53)-MIN($Q$26:$Q$425-$S$26:$S$425)-(MAX($S$26:$S$425*(($Q$26:$Q$425-$S$26:$S$425)=MIN($Q$26:$Q$425-$S$26:$S$425)))-S53))+(MIN($Q$26:$Q$425-$S$26:$S$425)-$I$10)),0)/12)","v":""},"",{"$error":"#N/A"},17]
[29,null,null,null,null,null,null,null,null,{"$f":"SUM(IF(B54=\"\",0,INDEX(SignalHeads[Perp. Wind Area (sft)],MATCH(B54,SignalHeads[Code],0))),IF(D54=\"\",0,INDEX(SignalHeads[Perp. Wind Area (sft)],MATCH(D54,SignalHeads[Code],0))),IF(E54=\"\",0,INDEX(SignalHeads[Perp. Wind Area (sft)],MATCH(E54,SignalHeads[Code],0))),IF(F54=\"\",0,INDEX(SignalHeads[Perp. Wind Area (sft)],MATCH(F54,SignalHeads[Code],0))),IF(G54=\"\",0,INDEX(SignalHeads[Perp. Wind Area (sft)],MATCH(G54,SignalHeads[Code],0))),IF(H54=\"\",0,INDEX(SignalHeads[Perp. Wind Area (sft)],MATCH(H54,SignalHeads[Code],0))),IF(I54=\"\",0,INDEX(SignalHeads[Perp. Wind Area (sft)],MATCH(I54,SignalHeads[Code],0))))","v":0},{"$f":"SUM(IF(B54=\"\",0,INDEX(SignalHeads[Weight*** (lbs)],MATCH(B54,SignalHeads[Code],0))),IF(D54=\"\",0,INDEX(SignalHeads[Weight*** (lbs)],MATCH(D54,SignalHeads[Code],0))),IF(E54=\"\",0,INDEX(SignalHeads[Weight*** (lbs)],MATCH(E54,SignalHeads[Code],0))),IF(F54=\"\",0,INDEX(SignalHeads[Weight*** (lbs)],MATCH(F54,SignalHeads[Code],0))),IF(G54=\"\",0,INDEX(SignalHeads[Weight*** (lbs)],MATCH(G54,SignalHeads[Code],0))),IF(H54=\"\",0,INDEX(SignalHeads[Weight*** (lbs)],MATCH(H54,SignalHeads[Code],0))),IF(I54=\"\",0,INDEX(SignalHeads[Weight*** (lbs)],MATCH(I54,SignalHeads[Code],0))))","v":0},{"$f":"IF(A54<=$I$8,INDEX(DesignConstants[Value],MATCH(\"Span Wire Weight (plf)\",DesignConstants[Design Constant],0)),0)","v":1.155},0,32.917500000000004,{"$error":"#VALUE!"},{"$error":"#VALUE!"},{"$error":"#N/A"},{"$error":"#N/A"},{"$f":"SUM(IF(B54=\"\",0,INDEX(SignalHeads[Height ** (feet)],MATCH(B54,SignalHeads[Code],0))),IF(D54=\"\",0,INDEX(SignalHeads[Height ** (feet)],MATCH(D54,SignalHeads[Code],0))),IF(E54=\"\",0,INDEX(SignalHeads[Height ** (feet)],MATCH(E54,SignalHeads[Code],0))),IF(F54=\"\",0,INDEX(SignalHeads[Height ** (feet)],MATCH(F54,SignalHeads[Code],0))),IF(G54=\"\",0,INDEX(SignalHeads[Height ** (feet)],MATCH(G54,SignalHeads[Code],0))),IF(H54=\"\",0,INDEX(SignalHeads[Height ** (feet)],MATCH(H54,SignalHeads[Code],0))),IF(I54=\"\",0,INDEX(SignalHeads[Height ** (feet)],MATCH(I54,SignalHeads[Code],0))))","v":0},{"$f":"IF(S54=0,\"\",ROUNDDOWN(12*(((Q54-S54)-MIN($Q$26:$Q$425-$S$26:$S$425)-(MAX($S$26:$S$425*(($Q$26:$Q$425-$S$26:$S$425)=MIN($Q$26:$Q$425-$S$26:$S$425)))-S54))+(MIN($Q$26:$Q$425-$S$26:$S$425)-$I$10)),0)/12)","v":""},"",{"$error":"#N/A"},17]
[30,null,null,null,null,null,null,null,null,{"$f":"SUM(IF(B55=\"\",0,INDEX(SignalHeads[Perp. Wind Area (sft)],MATCH(B55,SignalHeads[Code],0))),IF(D55=\"\",0,INDEX(SignalHeads[Perp. Wind Area (sft)],MATCH(D55,SignalHeads[Code],0))),IF(E55=\"\",0,INDEX(SignalHeads[Perp. Wind Area (sft)],MATCH(E55,SignalHeads[Code],0))),IF(F55=\"\",0,INDEX(SignalHeads[Perp. Wind Area (sft)],MATCH(F55,SignalHeads[Code],0))),IF(G55=\"\",0,INDEX(SignalHeads[Perp. Wind Area (sft)],MATCH(G55,SignalHeads[Code],0))),IF(H55=\"\",0,INDEX(SignalHeads[Perp. Wind Area (sft)],MATCH(H55,SignalHeads[Code],0))),IF(I55=\"\",0,INDEX(SignalHeads[Perp. Wind Area (sft)],MATCH(I55,SignalHeads[Code],0))))","v":0},{"$f":"SUM(IF(B55=\"\",0,INDEX(SignalHeads[Weight*** (lbs)],MATCH(B55,SignalHeads[Code],0))),IF(D55=\"\",0,INDEX(SignalHeads[Weight*** (lbs)],MATCH(D55,SignalHeads[Code],0))),IF(E55=\"\",0,INDEX(SignalHeads[Weight*** (lbs)],MATCH(E55,SignalHeads[Code],0))),IF(F55=\"\",0,INDEX(SignalHeads[Weight*** (lbs)],MATCH(F55,SignalHeads[Code],0))),IF(G55=\"\",0,INDEX(SignalHeads[Weight*** (lbs)],MATCH(G55,SignalHeads[Code],0))),IF(H55=\"\",0,INDEX(SignalHeads[Weight*** (lbs)],MATCH(H55,SignalHeads[Code],0))),IF(I55=\"\",0,INDEX(SignalHeads[Weight*** (lbs)],MATCH(I55,SignalHeads[Code],0))))","v":0},{"$f":"IF(A55<=$I$8,INDEX(DesignConstants[Value],MATCH(\"Span Wire Weight (plf)\",DesignConstants[Design Constant],0)),0)","v":1.155},0,34.072499999999998,{"$error":"#VALUE!"},{"$error":"#VALUE!"},{"$error":"#N/A"},{"$error":"#N/A"},{"$f":"SUM(IF(B55=\"\",0,INDEX(SignalHeads[Height ** (feet)],MATCH(B55,SignalHeads[Code],0))),IF(D55=\"\",0,INDEX(SignalHeads[Height ** (feet)],MATCH(D55,SignalHeads[Code],0))),IF(E55=\"\",0,INDEX(SignalHeads[Height ** (feet)],MATCH(E55,SignalHeads[Code],0))),IF(F55=\"\",0,INDEX(SignalHeads[Height ** (feet)],MATCH(F55,SignalHeads[Code],0))),IF(G55=\"\",0,INDEX(SignalHeads[Height ** (feet)],MATCH(G55,SignalHeads[Code],0))),IF(H55=\"\",0,INDEX(SignalHeads[Height ** (feet)],MATCH(H55,SignalHeads[Code],0))),IF(I55=\"\",0,INDEX(SignalHeads[Height ** (feet)],MATCH(I55,SignalHeads[Code],0))))","v":0},{"$f":"IF(S55=0,\"\",ROUNDDOWN(12*(((Q55-S55)-MIN($Q$26:$Q$425-$S$26:$S$425)-(MAX($S$26:$S$425*(($Q$26:$Q$425-$S$26:$S$425)=MIN($Q$26:$Q$425-$S$26:$S$425)))-S55))+(MIN($Q$26:$Q$425-$S$26:$S$425)-$I$10)),0)/12)","v":""},"",{"$error":"#N/A"},17]
[31,null,null,null,null,null,null,null,null,{"$f":"SUM(IF(B56=\"\",0,INDEX(SignalHeads[Perp. Wind Area (sft)],MATCH(B56,SignalHeads[Code],0))),IF(D56=\"\",0,INDEX(SignalHeads[Perp. Wind Area (sft)],MATCH(D56,SignalHeads[Code],0))),IF(E56=\"\",0,INDEX(SignalHeads[Perp. Wind Area (sft)],MATCH(E56,SignalHeads[Code],0))),IF(F56=\"\",0,INDEX(SignalHeads[Perp. Wind Area (sft)],MATCH(F56,SignalHeads[Code],0))),IF(G56=\"\",0,INDEX(SignalHeads[Perp. Wind Area (sft)],MATCH(G56,SignalHeads[Code],0))),IF(H56=\"\",0,INDEX(SignalHeads[Perp. Wind Area (sft)],MATCH(H56,SignalHeads[Code],0))),IF(I56=\"\",0,INDEX(SignalHeads[Perp. Wind Area (sft)],MATCH(I56,SignalHeads[Code],0))))","v":0},{"$f":"SUM(IF(B56=\"\",0,INDEX(SignalHeads[Weight*** (lbs)],MATCH(B56,SignalHeads[Code],0))),IF(D56=\"\",0,INDEX(SignalHeads[Weight*** (lbs)],MATCH(D56,SignalHeads[Code],0))),IF(E56=\"\",0,INDEX(SignalHeads[Weight*** (lbs)],MATCH(E56,SignalHeads[Code],0))),IF(F56=\"\",0,INDEX(SignalHeads[Weight*** (lbs)],MATCH(F56,SignalHeads[Code],0))),IF(G56=\"\",0,INDEX(SignalHeads[Weight*** (lbs)],MATCH(G56,SignalHeads[Code],0))),IF(H56=\"\",0,INDEX(SignalHeads[Weight*** (lbs)],MATCH(H56,SignalHeads[Code],0))),IF(I56=\"\",0,INDEX(SignalHeads[Weight*** (lbs)],MATCH(I56,SignalHeads[Code],0))))","v":0},{"$f":"IF(A56<=$I$8,INDEX(DesignConstants[Value],MATCH(\"Span Wire Weight (plf)\",DesignConstants[Design Constant],0)),0)","v":1.155},0,35.227499999999999,{"$error":"#VALUE!"},{"$error":"#VALUE!"},{"$error":"#N/A"},{"$error":"#N/A"},{"$f":"SUM(IF(B56=\"\",0,INDEX(SignalHeads[Height ** (feet)],MATCH(B56,SignalHeads[Code],0))),IF(D56=\"\",0,INDEX(SignalHeads[Height ** (feet)],MATCH(D56,SignalHeads[Code],0))),IF(E56=\"\",0,INDEX(SignalHeads[Height ** (feet)],MATCH(E56,SignalHeads[Code],0))),IF(F56=\"\",0,INDEX(SignalHeads[Height ** (feet)],MATCH(F56,SignalHeads[Code],0))),IF(G56=\"\",0,INDEX(SignalHeads[Height ** (feet)],MATCH(G56,SignalHeads[Code],0))),IF(H56=\"\",0,INDEX(SignalHeads[Height ** (feet)],MATCH(H56,SignalHeads[Code],0))),IF(I56=\"\",0,INDEX(SignalHeads[Height ** (feet)],MATCH(I56,SignalHeads[Code],0))))","v":0},{"$f":"IF(S56=0,\"\",ROUNDDOWN(12*(((Q56-S56)-MIN($Q$26:$Q$425-$S$26:$S$425)-(MAX($S$26:$S$425*(($Q$26:$Q$425-$S$26:$S$425)=MIN($Q$26:$Q$425-$S$26:$S$425)))-S56))+(MIN($Q$26:$Q$425-$S$26:$S$425)-$I$10)),0)/12)","v":""},"",{"$error":"#N/A"},17]
[32,null,null,null,null,null,null,null,null,{"$f":"SUM(IF(B57=\"\",0,INDEX(SignalHeads[Perp. Wind Area (sft)],MATCH(B57,SignalHeads[Code],0))),IF(D57=\"\",0,INDEX(SignalHeads[Perp. Wind Area (sft)],MATCH(D57,SignalHeads[Code],0))),IF(E57=\"\",0,INDEX(SignalHeads[Perp. Wind Area (sft)],MATCH(E57,SignalHeads[Code],0))),IF(F57=\"\",0,INDEX(SignalHeads[Perp. Wind Area (sft)],MATCH(F57,SignalHeads[Code],0))),IF(G57=\"\",0,INDEX(SignalHeads[Perp. Wind Area (sft)],MATCH(G57,SignalHeads[Code],0))),IF(H57=\"\",0,INDEX(SignalHeads[Perp. Wind Area (sft)],MATCH(H57,SignalHeads[Code],0))),IF(I57=\"\",0,INDEX(SignalHeads[Perp. Wind Area (sft)],MATCH(I57,SignalHeads[Code],0))))","v":0},{"$f":"SUM(IF(B57=\"\",0,INDEX(SignalHeads[Weight*** (lbs)],MATCH(B57,SignalHeads[Code],0))),IF(D57=\"\",0,INDEX(SignalHeads[Weight*** (lbs)],MATCH(D57,SignalHeads[Code],0))),IF(E57=\"\",0,INDEX(SignalHeads[Weight*** (lbs)],MATCH(E57,SignalHeads[Code],0))),IF(F57=\"\",0,INDEX(SignalHeads[Weight*** (lbs)],MATCH(F57,SignalHeads[Code],0))),IF(G57=\"\",0,INDEX(SignalHeads[Weight*** (lbs)],MATCH(G57,SignalHeads[Code],0))),IF(H57=\"\",0,INDEX(SignalHeads[Weight*** (lbs)],MATCH(H57,SignalHeads[Code],0))),IF(I57=\"\",0,INDEX(SignalHeads[Weight*** (lbs)],MATCH(I57,SignalHeads[Code],0))))","v":0},{"$f":"IF(A57<=$I$8,INDEX(DesignConstants[Value],MATCH(\"Span Wire Weight (plf)\",DesignConstants[Design Constant],0)),0)","v":1.155},0,36.3825,{"$error":"#VALUE!"},{"$error":"#VALUE!"},{"$error":"#N/A"},{"$error":"#N/A"},{"$f":"SUM(IF(B57=\"\",0,INDEX(SignalHeads[Height ** (feet)],MATCH(B57,SignalHeads[Code],0))),IF(D57=\"\",0,INDEX(SignalHeads[Height ** (feet)],MATCH(D57,SignalHeads[Code],0))),IF(E57=\"\",0,INDEX(SignalHeads[Height ** (feet)],MATCH(E57,SignalHeads[Code],0))),IF(F57=\"\",0,INDEX(SignalHeads[Height ** (feet)],MATCH(F57,SignalHeads[Code],0))),IF(G57=\"\",0,INDEX(SignalHeads[Height ** (feet)],MATCH(G57,SignalHeads[Code],0))),IF(H57=\"\",0,INDEX(SignalHeads[Height ** (feet)],MATCH(H57,SignalHeads[Code],0))),IF(I57=\"\",0,INDEX(SignalHeads[Height ** (feet)],MATCH(I57,SignalHeads[Code],0))))","v":0},{"$f":"IF(S57=0,\"\",ROUNDDOWN(12*(((Q57-S57)-MIN($Q$26:$Q$425-$S$26:$S$425)-(MAX($S$26:$S$425*(($Q$26:$Q$425-$S$26:$S$425)=MIN($Q$26:$Q$425-$S$26:$S$425)))-S57))+(MIN($Q$26:$Q$425-$S$26:$S$425)-$I$10)),0)/12)","v":""},"",{"$error":"#N/A"},17]
[33,null,null,null,null,null,null,null,null,{"$f":"SUM(IF(B58=\"\",0,INDEX(SignalHeads[Perp. Wind Area (sft)],MATCH(B58,SignalHeads[Code],0))),IF(D58=\"\",0,INDEX(SignalHeads[Perp. Wind Area (sft)],MATCH(D58,SignalHeads[Code],0))),IF(E58=\"\",0,INDEX(SignalHeads[Perp. Wind Area (sft)],MATCH(E58,SignalHeads[Code],0))),IF(F58=\"\",0,INDEX(SignalHeads[Perp. Wind Area (sft)],MATCH(F58,SignalHeads[Code],0))),IF(G58=\"\",0,INDEX(SignalHeads[Perp. Wind Area (sft)],MATCH(G58,SignalHeads[Code],0))),IF(H58=\"\",0,INDEX(SignalHeads[Perp. Wind Area (sft)],MATCH(H58,SignalHeads[Code],0))),IF(I58=\"\",0,INDEX(SignalHeads[Perp. Wind Area (sft)],MATCH(I58,SignalHeads[Code],0))))","v":0},{"$f":"SUM(IF(B58=\"\",0,INDEX(SignalHeads[Weight*** (lbs)],MATCH(B58,SignalHeads[Code],0))),IF(D58=\"\",0,INDEX(SignalHeads[Weight*** (lbs)],MATCH(D58,SignalHeads[Code],0))),IF(E58=\"\",0,INDEX(SignalHeads[Weight*** (lbs)],MATCH(E58,SignalHeads[Code],0))),IF(F58=\"\",0,INDEX(SignalHeads[Weight*** (lbs)],MATCH(F58,SignalHeads[Code],0))),IF(G58=\"\",0,INDEX(SignalHeads[Weight*** (lbs)],MATCH(G58,SignalHeads[Code],0))),IF(H58=\"\",0,INDEX(SignalHeads[Weight*** (lbs)],MATCH(H58,SignalHeads[Code],0))),IF(I58=\"\",0,INDEX(SignalHeads[Weight*** (lbs)],MATCH(I58,SignalHeads[Code],0))))","v":0},{"$f":"IF(A58<=$I$8,INDEX(DesignConstants[Value],MATCH(\"Span Wire Weight (plf)\",DesignConstants[Design Constant],0)),0)","v":1.155},0,37.537500000000001,{"$error":"#VALUE!"},{"$error":"#VALUE!"},{"$error":"#N/A"},{"$error":"#N/A"},{"$f":"SUM(IF(B58=\"\",0,INDEX(SignalHeads[Height ** (feet)],MATCH(B58,SignalHeads[Code],0))),IF(D58=\"\",0,INDEX(SignalHeads[Height ** (feet)],MATCH(D58,SignalHeads[Code],0))),IF(E58=\"\",0,INDEX(SignalHeads[Height ** (feet)],MATCH(E58,SignalHeads[Code],0))),IF(F58=\"\",0,INDEX(SignalHeads[Height ** (feet)],MATCH(F58,SignalHeads[Code],0))),IF(G58=\"\",0,INDEX(SignalHeads[Height ** (feet)],MATCH(G58,SignalHeads[Code],0))),IF(H58=\"\",0,INDEX(SignalHeads[Height ** (feet)],MATCH(H58,SignalHeads[Code],0))),IF(I58=\"\",0,INDEX(SignalHeads[Height ** (feet)],MATCH(I58,SignalHeads[Code],0))))","v":0},{"$f":"IF(S58=0,\"\",ROUNDDOWN(12*(((Q58-S58)-MIN($Q$26:$Q$425-$S$26:$S$425)-(MAX($S$26:$S$425*(($Q$26:$Q$425-$S$26:$S$425)=MIN($Q$26:$Q$425-$S$26:$S$425)))-S58))+(MIN($Q$26:$Q$425-$S$26:$S$425)-$I$10)),0)/12)","v":""},"",{"$error":"#N/A"},17]
[34,null,null,null,null,null,null,null,null,{"$f":"SUM(IF(B59=\"\",0,INDEX(SignalHeads[Perp. Wind Area (sft)],MATCH(B59,SignalHeads[Code],0))),IF(D59=\"\",0,INDEX(SignalHeads[Perp. Wind Area (sft)],MATCH(D59,SignalHeads[Code],0))),IF(E59=\"\",0,INDEX(SignalHeads[Perp. Wind Area (sft)],MATCH(E59,SignalHeads[Code],0))),IF(F59=\"\",0,INDEX(SignalHeads[Perp. Wind Area (sft)],MATCH(F59,SignalHeads[Code],0))),IF(G59=\"\",0,INDEX(SignalHeads[Perp. Wind Area (sft)],MATCH(G59,SignalHeads[Code],0))),IF(H59=\"\",0,INDEX(SignalHeads[Perp. Wind Area (sft)],MATCH(H59,SignalHeads[Code],0))),IF(I59=\"\",0,INDEX(SignalHeads[Perp. Wind Area (sft)],MATCH(I59,SignalHeads[Code],0))))","v":0},{"$f":"SUM(IF(B59=\"\",0,INDEX(SignalHeads[Weight*** (lbs)],MATCH(B59,SignalHeads[Code],0))),IF(D59=\"\",0,INDEX(SignalHeads[Weight*** (lbs)],MATCH(D59,SignalHeads[Code],0))),IF(E59=\"\",0,INDEX(SignalHeads[Weight*** (lbs)],MATCH(E59,SignalHeads[Code],0))),IF(F59=\"\",0,INDEX(SignalHeads[Weight*** (lbs)],MATCH(F59,SignalHeads[Code],0))),IF(G59=\"\",0,INDEX(SignalHeads[Weight*** (lbs)],MATCH(G59,SignalHeads[Code],0))),IF(H59=\"\",0,INDEX(SignalHeads[Weight*** (lbs)],MATCH(H59,SignalHeads[Code],0))),IF(I59=\"\",0,INDEX(SignalHeads[Weight*** (lbs)],MATCH(I59,SignalHeads[Code],0))))","v":0},{"$f":"IF(A59<=$I$8,INDEX(DesignConstants[Value],MATCH(\"Span Wire Weight (plf)\",DesignConstants[Design Constant],0)),0)","v":1.155},0,38.692500000000003,{"$error":"#VALUE!"},{"$error":"#VALUE!"},{"$error":"#N/A"},{"$error":"#N/A"},{"$f":"SUM(IF(B59=\"\",0,INDEX(SignalHeads[Height ** (feet)],MATCH(B59,SignalHeads[Code],0))),IF(D59=\"\",0,INDEX(SignalHeads[Height ** (feet)],MATCH(D59,SignalHeads[Code],0))),IF(E59=\"\",0,INDEX(SignalHeads[Height ** (feet)],MATCH(E59,SignalHeads[Code],0))),IF(F59=\"\",0,INDEX(SignalHeads[Height ** (feet)],MATCH(F59,SignalHeads[Code],0))),IF(G59=\"\",0,INDEX(SignalHeads[Height ** (feet)],MATCH(G59,SignalHeads[Code],0))),IF(H59=\"\",0,INDEX(SignalHeads[Height ** (feet)],MATCH(H59,SignalHeads[Code],0))),IF(I59=\"\",0,INDEX(SignalHeads[Height ** (feet)],MATCH(I59,SignalHeads[Code],0))))","v":0},{"$f":"IF(S59=0,\"\",ROUNDDOWN(12*(((Q59-S59)-MIN($Q$26:$Q$425-$S$26:$S$425)-(MAX($S$26:$S$425*(($Q$26:$Q$425-$S$26:$S$425)=MIN($Q$26:$Q$425-$S$26:$S$425)))-S59))+(MIN($Q$26:$Q$425-$S$26:$S$425)-$I$10)),0)/12)","v":""},"",{"$error":"#N/A"},17]
[35,null,null,null,null,null,null,null,null,{"$f":"SUM(IF(B60=\"\",0,INDEX(SignalHeads[Perp. Wind Area (sft)],MATCH(B60,SignalHeads[Code],0))),IF(D60=\"\",0,INDEX(SignalHeads[Perp. Wind Area (sft)],MATCH(D60,SignalHeads[Code],0))),IF(E60=\"\",0,INDEX(SignalHeads[Perp. Wind Area (sft)],MATCH(E60,SignalHeads[Code],0))),IF(F60=\"\",0,INDEX(SignalHeads[Perp. Wind Area (sft)],MATCH(F60,SignalHeads[Code],0))),IF(G60=\"\",0,INDEX(SignalHeads[Perp. Wind Area (sft)],MATCH(G60,SignalHeads[Code],0))),IF(H60=\"\",0,INDEX(SignalHeads[Perp. Wind Area (sft)],MATCH(H60,SignalHeads[Code],0))),IF(I60=\"\",0,INDEX(SignalHeads[Perp. Wind Area (sft)],MATCH(I60,SignalHeads[Code],0))))","v":0},{"$f":"SUM(IF(B60=\"\",0,INDEX(SignalHeads[Weight*** (lbs)],MATCH(B60,SignalHeads[Code],0))),IF(D60=\"\",0,INDEX(SignalHeads[Weight*** (lbs)],MATCH(D60,SignalHeads[Code],0))),IF(E60=\"\",0,INDEX(SignalHeads[Weight*** (lbs)],MATCH(E60,SignalHeads[Code],0))),IF(F60=\"\",0,INDEX(SignalHeads[Weight*** (lbs)],MATCH(F60,SignalHeads[Code],0))),IF(G60=\"\",0,INDEX(SignalHeads[Weight*** (lbs)],MATCH(G60,SignalHeads[Code],0))),IF(H60=\"\",0,INDEX(SignalHeads[Weight*** (lbs)],MATCH(H60,SignalHeads[Code],0))),IF(I60=\"\",0,INDEX(SignalHeads[Weight*** (lbs)],MATCH(I60,SignalHeads[Code],0))))","v":0},{"$f":"IF(A60<=$I$8,INDEX(DesignConstants[Value],MATCH(\"Span Wire Weight (plf)\",DesignConstants[Design Constant],0)),0)","v":1.155},0,39.847500000000004,{"$error":"#VALUE!"},{"$error":"#VALUE!"},{"$error":"#N/A"},{"$error":"#N/A"},{"$f":"SUM(IF(B60=\"\",0,INDEX(SignalHeads[Height ** (feet)],MATCH(B60,SignalHeads[Code],0))),IF(D60=\"\",0,INDEX(SignalHeads[Height ** (feet)],MATCH(D60,SignalHeads[Code],0))),IF(E60=\"\",0,INDEX(SignalHeads[Height ** (feet)],MATCH(E60,SignalHeads[Code],0))),IF(F60=\"\",0,INDEX(SignalHeads[Height ** (feet)],MATCH(F60,SignalHeads[Code],0))),IF(G60=\"\",0,INDEX(SignalHeads[Height ** (feet)],MATCH(G60,SignalHeads[Code],0))),IF(H60=\"\",0,INDEX(SignalHeads[Height ** (feet)],MATCH(H60,SignalHeads[Code],0))),IF(I60=\"\",0,INDEX(SignalHeads[Height ** (feet)],MATCH(I60,SignalHeads[Code],0))))","v":0},{"$f":"IF(S60=0,\"\",ROUNDDOWN(12*(((Q60-S60)-MIN($Q$26:$Q$425-$S$26:$S$425)-(MAX($S$26:$S$425*(($Q$26:$Q$425-$S$26:$S$425)=MIN($Q$26:$Q$425-$S$26:$S$425)))-S60))+(MIN($Q$26:$Q$425-$S$26:$S$425)-$I$10)),0)/12)","v":""},"",{"$error":"#N/A"},17]
[36,null,null,null,null,null,null,null,null,{"$f":"SUM(IF(B61=\"\",0,INDEX(SignalHeads[Perp. Wind Area (sft)],MATCH(B61,SignalHeads[Code],0))),IF(D61=\"\",0,INDEX(SignalHeads[Perp. Wind Area (sft)],MATCH(D61,SignalHeads[Code],0))),IF(E61=\"\",0,INDEX(SignalHeads[Perp. Wind Area (sft)],MATCH(E61,SignalHeads[Code],0))),IF(F61=\"\",0,INDEX(SignalHeads[Perp. Wind Area (sft)],MATCH(F61,SignalHeads[Code],0))),IF(G61=\"\",0,INDEX(SignalHeads[Perp. Wind Area (sft)],MATCH(G61,SignalHeads[Code],0))),IF(H61=\"\",0,INDEX(SignalHeads[Perp. Wind Area (sft)],MATCH(H61,SignalHeads[Code],0))),IF(I61=\"\",0,INDEX(SignalHeads[Perp. Wind Area (sft)],MATCH(I61,SignalHeads[Code],0))))","v":0},{"$f":"SUM(IF(B61=\"\",0,INDEX(SignalHeads[Weight*** (lbs)],MATCH(B61,SignalHeads[Code],0))),IF(D61=\"\",0,INDEX(SignalHeads[Weight*** (lbs)],MATCH(D61,SignalHeads[Code],0))),IF(E61=\"\",0,INDEX(SignalHeads[Weight*** (lbs)],MATCH(E61,SignalHeads[Code],0))),IF(F61=\"\",0,INDEX(SignalHeads[Weight*** (lbs)],MATCH(F61,SignalHeads[Code],0))),IF(G61=\"\",0,INDEX(SignalHeads[Weight*** (lbs)],MATCH(G61,SignalHeads[Code],0))),IF(H61=\"\",0,INDEX(SignalHeads[Weight*** (lbs)],MATCH(H61,SignalHeads[Code],0))),IF(I61=\"\",0,INDEX(SignalHeads[Weight*** (lbs)],MATCH(I61,SignalHeads[Code],0))))","v":0},{"$f":"IF(A61<=$I$8,INDEX(DesignConstants[Value],MATCH(\"Span Wire Weight (plf)\",DesignConstants[Design Constant],0)),0)","v":1.155},0,41.002499999999998,{"$error":"#VALUE!"},{"$error":"#VALUE!"},{"$error":"#N/A"},{"$error":"#N/A"},{"$f":"SUM(IF(B61=\"\",0,INDEX(SignalHeads[Height ** (feet)],MATCH(B61,SignalHeads[Code],0))),IF(D61=\"\",0,INDEX(SignalHeads[Height ** (feet)],MATCH(D61,SignalHeads[Code],0))),IF(E61=\"\",0,INDEX(SignalHeads[Height ** (feet)],MATCH(E61,SignalHeads[Code],0))),IF(F61=\"\",0,INDEX(SignalHeads[Height ** (feet)],MATCH(F61,SignalHeads[Code],0))),IF(G61=\"\",0,INDEX(SignalHeads[Height ** (feet)],MATCH(G61,SignalHeads[Code],0))),IF(H61=\"\",0,INDEX(SignalHeads[Height ** (feet)],MATCH(H61,SignalHeads[Code],0))),IF(I61=\"\",0,INDEX(SignalHeads[Height ** (feet)],MATCH(I61,SignalHeads[Code],0))))","v":0},{"$f":"IF(S61=0,\"\",ROUNDDOWN(12*(((Q61-S61)-MIN($Q$26:$Q$425-$S$26:$S$425)-(MAX($S$26:$S$425*(($Q$26:$Q$425-$S$26:$S$425)=MIN($Q$26:$Q$425-$S$26:$S$425)))-S61))+(MIN($Q$26:$Q$425-$S$26:$S$425)-$I$10)),0)/12)","v":""},"",{"$error":"#N/A"},17]
[37,null,null,null,null,null,null,null,null,{"$f":"SUM(IF(B62=\"\",0,INDEX(SignalHeads[Perp. Wind Area (sft)],MATCH(B62,SignalHeads[Code],0))),IF(D62=\"\",0,INDEX(SignalHeads[Perp. Wind Area (sft)],MATCH(D62,SignalHeads[Code],0))),IF(E62=\"\",0,INDEX(SignalHeads[Perp. Wind Area (sft)],MATCH(E62,SignalHeads[Code],0))),IF(F62=\"\",0,INDEX(SignalHeads[Perp. Wind Area (sft)],MATCH(F62,SignalHeads[Code],0))),IF(G62=\"\",0,INDEX(SignalHeads[Perp. Wind Area (sft)],MATCH(G62,SignalHeads[Code],0))),IF(H62=\"\",0,INDEX(SignalHeads[Perp. Wind Area (sft)],MATCH(H62,SignalHeads[Code],0))),IF(I62=\"\",0,INDEX(SignalHeads[Perp. Wind Area (sft)],MATCH(I62,SignalHeads[Code],0))))","v":0},{"$f":"SUM(IF(B62=\"\",0,INDEX(SignalHeads[Weight*** (lbs)],MATCH(B62,SignalHeads[Code],0))),IF(D62=\"\",0,INDEX(SignalHeads[Weight*** (lbs)],MATCH(D62,SignalHeads[Code],0))),IF(E62=\"\",0,INDEX(SignalHeads[Weight*** (lbs)],MATCH(E62,SignalHeads[Code],0))),IF(F62=\"\",0,INDEX(SignalHeads[Weight*** (lbs)],MATCH(F62,SignalHeads[Code],0))),IF(G62=\"\",0,INDEX(SignalHeads[Weight*** (lbs)],MATCH(G62,SignalHeads[Code],0))),IF(H62=\"\",0,INDEX(SignalHeads[Weight*** (lbs)],MATCH(H62,SignalHeads[Code],0))),IF(I62=\"\",0,INDEX(SignalHeads[Weight*** (lbs)],MATCH(I62,SignalHeads[Code],0))))","v":0},{"$f":"IF(A62<=$I$8,INDEX(DesignConstants[Value],MATCH(\"Span Wire Weight (plf)\",DesignConstants[Design Constant],0)),0)","v":1.155},0,42.157499999999999,{"$error":"#VALUE!"},{"$error":"#VALUE!"},{"$error":"#N/A"},{"$error":"#N/A"},{"$f":"SUM(IF(B62=\"\",0,INDEX(SignalHeads[Height ** (feet)],MATCH(B62,SignalHeads[Code],0))),IF(D62=\"\",0,INDEX(SignalHeads[Height ** (feet)],MATCH(D62,SignalHeads[Code],0))),IF(E62=\"\",0,INDEX(SignalHeads[Height ** (feet)],MATCH(E62,SignalHeads[Code],0))),IF(F62=\"\",0,INDEX(SignalHeads[Height ** (feet)],MATCH(F62,SignalHeads[Code],0))),IF(G62=\"\",0,INDEX(SignalHeads[Height ** (feet)],MATCH(G62,SignalHeads[Code],0))),IF(H62=\"\",0,INDEX(SignalHeads[Height ** (feet)],MATCH(H62,SignalHeads[Code],0))),IF(I62=\"\",0,INDEX(SignalHeads[Height ** (feet)],MATCH(I62,SignalHeads[Code],0))))","v":0},{"$f":"IF(S62=0,\"\",ROUNDDOWN(12*(((Q62-S62)-MIN($Q$26:$Q$425-$S$26:$S$425)-(MAX($S$26:$S$425*(($Q$26:$Q$425-$S$26:$S$425)=MIN($Q$26:$Q$425-$S$26:$S$425)))-S62))+(MIN($Q$26:$Q$425-$S$26:$S$425)-$I$10)),0)/12)","v":""},"",{"$error":"#N/A"},17]
[38,null,null,null,null,null,null,null,null,{"$f":"SUM(IF(B63=\"\",0,INDEX(SignalHeads[Perp. Wind Area (sft)],MATCH(B63,SignalHeads[Code],0))),IF(D63=\"\",0,INDEX(SignalHeads[Perp. Wind Area (sft)],MATCH(D63,SignalHeads[Code],0))),IF(E63=\"\",0,INDEX(SignalHeads[Perp. Wind Area (sft)],MATCH(E63,SignalHeads[Code],0))),IF(F63=\"\",0,INDEX(SignalHeads[Perp. Wind Area (sft)],MATCH(F63,SignalHeads[Code],0))),IF(G63=\"\",0,INDEX(SignalHeads[Perp. Wind Area (sft)],MATCH(G63,SignalHeads[Code],0))),IF(H63=\"\",0,INDEX(SignalHeads[Perp. Wind Area (sft)],MATCH(H63,SignalHeads[Code],0))),IF(I63=\"\",0,INDEX(SignalHeads[Perp. Wind Area (sft)],MATCH(I63,SignalHeads[Code],0))))","v":0},{"$f":"SUM(IF(B63=\"\",0,INDEX(SignalHeads[Weight*** (lbs)],MATCH(B63,SignalHeads[Code],0))),IF(D63=\"\",0,INDEX(SignalHeads[Weight*** (lbs)],MATCH(D63,SignalHeads[Code],0))),IF(E63=\"\",0,INDEX(SignalHeads[Weight*** (lbs)],MATCH(E63,SignalHeads[Code],0))),IF(F63=\"\",0,INDEX(SignalHeads[Weight*** (lbs)],MATCH(F63,SignalHeads[Code],0))),IF(G63=\"\",0,INDEX(SignalHeads[Weight*** (lbs)],MATCH(G63,SignalHeads[Code],0))),IF(H63=\"\",0,INDEX(SignalHeads[Weight*** (lbs)],MATCH(H63,SignalHeads[Code],0))),IF(I63=\"\",0,INDEX(SignalHeads[Weight*** (lbs)],MATCH(I63,SignalHeads[Code],0))))","v":0},{"$f":"IF(A63<=$I$8,INDEX(DesignConstants[Value],MATCH(\"Span Wire Weight (plf)\",DesignConstants[Design Constant],0)),0)","v":1.155},0,43.3125,{"$error":"#VALUE!"},{"$error":"#VALUE!"},{"$error":"#N/A"},{"$error":"#N/A"},{"$f":"SUM(IF(B63=\"\",0,INDEX(SignalHeads[Height ** (feet)],MATCH(B63,SignalHeads[Code],0))),IF(D63=\"\",0,INDEX(SignalHeads[Height ** (feet)],MATCH(D63,SignalHeads[Code],0))),IF(E63=\"\",0,INDEX(SignalHeads[Height ** (feet)],MATCH(E63,SignalHeads[Code],0))),IF(F63=\"\",0,INDEX(SignalHeads[Height ** (feet)],MATCH(F63,SignalHeads[Code],0))),IF(G63=\"\",0,INDEX(SignalHeads[Height ** (feet)],MATCH(G63,SignalHeads[Code],0))),IF(H63=\"\",0,INDEX(SignalHeads[Height ** (feet)],MATCH(H63,SignalHeads[Code],0))),IF(I63=\"\",0,INDEX(SignalHeads[Height ** (feet)],MATCH(I63,SignalHeads[Code],0))))","v":0},{"$f":"IF(S63=0,\"\",ROUNDDOWN(12*(((Q63-S63)-MIN($Q$26:$Q$425-$S$26:$S$425)-(MAX($S$26:$S$425*(($Q$26:$Q$425-$S$26:$S$425)=MIN($Q$26:$Q$425-$S$26:$S$425)))-S63))+(MIN($Q$26:$Q$425-$S$26:$S$425)-$I$10)),0)/12)","v":""},"",{"$error":"#N/A"},17]
[39,null,null,null,null,null,null,null,null,{"$f":"SUM(IF(B64=\"\",0,INDEX(SignalHeads[Perp. Wind Area (sft)],MATCH(B64,SignalHeads[Code],0))),IF(D64=\"\",0,INDEX(SignalHeads[Perp. Wind Area (sft)],MATCH(D64,SignalHeads[Code],0))),IF(E64=\"\",0,INDEX(SignalHeads[Perp. Wind Area (sft)],MATCH(E64,SignalHeads[Code],0))),IF(F64=\"\",0,INDEX(SignalHeads[Perp. Wind Area (sft)],MATCH(F64,SignalHeads[Code],0))),IF(G64=\"\",0,INDEX(SignalHeads[Perp. Wind Area (sft)],MATCH(G64,SignalHeads[Code],0))),IF(H64=\"\",0,INDEX(SignalHeads[Perp. Wind Area (sft)],MATCH(H64,SignalHeads[Code],0))),IF(I64=\"\",0,INDEX(SignalHeads[Perp. Wind Area (sft)],MATCH(I64,SignalHeads[Code],0))))","v":0},{"$f":"SUM(IF(B64=\"\",0,INDEX(SignalHeads[Weight*** (lbs)],MATCH(B64,SignalHeads[Code],0))),IF(D64=\"\",0,INDEX(SignalHeads[Weight*** (lbs)],MATCH(D64,SignalHeads[Code],0))),IF(E64=\"\",0,INDEX(SignalHeads[Weight*** (lbs)],MATCH(E64,SignalHeads[Code],0))),IF(F64=\"\",0,INDEX(SignalHeads[Weight*** (lbs)],MATCH(F64,SignalHeads[Code],0))),IF(G64=\"\",0,INDEX(SignalHeads[Weight*** (lbs)],MATCH(G64,SignalHeads[Code],0))),IF(H64=\"\",0,INDEX(SignalHeads[Weight*** (lbs)],MATCH(H64,SignalHeads[Code],0))),IF(I64=\"\",0,INDEX(SignalHeads[Weight*** (lbs)],MATCH(I64,SignalHeads[Code],0))))","v":0},{"$f":"IF(A64<=$I$8,INDEX(DesignConstants[Value],MATCH(\"Span Wire Weight (plf)\",DesignConstants[Design Constant],0)),0)","v":1.155},0,44.467500000000001,{"$error":"#VALUE!"},{"$error":"#VALUE!"},{"$error":"#N/A"},{"$error":"#N/A"},{"$f":"SUM(IF(B64=\"\",0,INDEX(SignalHeads[Height ** (feet)],MATCH(B64,SignalHeads[Code],0))),IF(D64=\"\",0,INDEX(SignalHeads[Height ** (feet)],MATCH(D64,SignalHeads[Code],0))),IF(E64=\"\",0,INDEX(SignalHeads[Height ** (feet)],MATCH(E64,SignalHeads[Code],0))),IF(F64=\"\",0,INDEX(SignalHeads[Height ** (feet)],MATCH(F64,SignalHeads[Code],0))),IF(G64=\"\",0,INDEX(SignalHeads[Height ** (feet)],MATCH(G64,SignalHeads[Code],0))),IF(H64=\"\",0,INDEX(SignalHeads[Height ** (feet)],MATCH(H64,SignalHeads[Code],0))),IF(I64=\"\",0,INDEX(SignalHeads[Height ** (feet)],MATCH(I64,SignalHeads[Code],0))))","v":0},{"$f":"IF(S64=0,\"\",ROUNDDOWN(12*(((Q64-S64)-MIN($Q$26:$Q$425-$S$26:$S$425)-(MAX($S$26:$S$425*(($Q$26:$Q$425-$S$26:$S$425)=MIN($Q$26:$Q$425-$S$26:$S$425)))-S64))+(MIN($Q$26:$Q$425-$S$26:$S$425)-$I$10)),0)/12)","v":""},"",{"$error":"#N/A"},17]
[40,null,null,null,null,null,null,null,null,{"$f":"SUM(IF(B65=\"\",0,INDEX(SignalHeads[Perp. Wind Area (sft)],MATCH(B65,SignalHeads[Code],0))),IF(D65=\"\",0,INDEX(SignalHeads[Perp. Wind Area (sft)],MATCH(D65,SignalHeads[Code],0))),IF(E65=\"\",0,INDEX(SignalHeads[Perp. Wind Area (sft)],MATCH(E65,SignalHeads[Code],0))),IF(F65=\"\",0,INDEX(SignalHeads[Perp. Wind Area (sft)],MATCH(F65,SignalHeads[Code],0))),IF(G65=\"\",0,INDEX(SignalHeads[Perp. Wind Area (sft)],MATCH(G65,SignalHeads[Code],0))),IF(H65=\"\",0,INDEX(SignalHeads[Perp. Wind Area (sft)],MATCH(H65,SignalHeads[Code],0))),IF(I65=\"\",0,INDEX(SignalHeads[Perp. Wind Area (sft)],MATCH(I65,SignalHeads[Code],0))))","v":0},{"$f":"SUM(IF(B65=\"\",0,INDEX(SignalHeads[Weight*** (lbs)],MATCH(B65,SignalHeads[Code],0))),IF(D65=\"\",0,INDEX(SignalHeads[Weight*** (lbs)],MATCH(D65,SignalHeads[Code],0))),IF(E65=\"\",0,INDEX(SignalHeads[Weight*** (lbs)],MATCH(E65,SignalHeads[Code],0))),IF(F65=\"\",0,INDEX(SignalHeads[Weight*** (lbs)],MATCH(F65,SignalHeads[Code],0))),IF(G65=\"\",0,INDEX(SignalHeads[Weight*** (lbs)],MATCH(G65,SignalHeads[Code],0))),IF(H65=\"\",0,INDEX(SignalHeads[Weight*** (lbs)],MATCH(H65,SignalHeads[Code],0))),IF(I65=\"\",0,INDEX(SignalHeads[Weight*** (lbs)],MATCH(I65,SignalHeads[Code],0))))","v":0},{"$f":"IF(A65<=$I$8,INDEX(DesignConstants[Value],MATCH(\"Span Wire Weight (plf)\",DesignConstants[Design Constant],0)),0)","v":1.155},0,45.622500000000002,{"$error":"#VALUE!"},{"$error":"#VALUE!"},{"$error":"#N/A"},{"$error":"#N/A"},{"$f":"SUM(IF(B65=\"\",0,INDEX(SignalHeads[Height ** (feet)],MATCH(B65,SignalHeads[Code],0))),IF(D65=\"\",0,INDEX(SignalHeads[Height ** (feet)],MATCH(D65,SignalHeads[Code],0))),IF(E65=\"\",0,INDEX(SignalHeads[Height ** (feet)],MATCH(E65,SignalHeads[Code],0))),IF(F65=\"\",0,INDEX(SignalHeads[Height ** (feet)],MATCH(F65,SignalHeads[Code],0))),IF(G65=\"\",0,INDEX(SignalHeads[Height ** (feet)],MATCH(G65,SignalHeads[Code],0))),IF(H65=\"\",0,INDEX(SignalHeads[Height ** (feet)],MATCH(H65,SignalHeads[Code],0))),IF(I65=\"\",0,INDEX(SignalHeads[Height ** (feet)],MATCH(I65,SignalHeads[Code],0))))","v":0},{"$f":"IF(S65=0,\"\",ROUNDDOWN(12*(((Q65-S65)-MIN($Q$26:$Q$425-$S$26:$S$425)-(MAX($S$26:$S$425*(($Q$26:$Q$425-$S$26:$S$425)=MIN($Q$26:$Q$425-$S$26:$S$425)))-S65))+(MIN($Q$26:$Q$425-$S$26:$S$425)-$I$10)),0)/12)","v":""},"",{"$error":"#N/A"},17]
[41,null,null,null,null,null,null,null,null,{"$f":"SUM(IF(B66=\"\",0,INDEX(SignalHeads[Perp. Wind Area (sft)],MATCH(B66,SignalHeads[Code],0))),IF(D66=\"\",0,INDEX(SignalHeads[Perp. Wind Area (sft)],MATCH(D66,SignalHeads[Code],0))),IF(E66=\"\",0,INDEX(SignalHeads[Perp. Wind Area (sft)],MATCH(E66,SignalHeads[Code],0))),IF(F66=\"\",0,INDEX(SignalHeads[Perp. Wind Area (sft)],MATCH(F66,SignalHeads[Code],0))),IF(G66=\"\",0,INDEX(SignalHeads[Perp. Wind Area (sft)],MATCH(G66,SignalHeads[Code],0))),IF(H66=\"\",0,INDEX(SignalHeads[Perp. Wind Area (sft)],MATCH(H66,SignalHeads[Code],0))),IF(I66=\"\",0,INDEX(SignalHeads[Perp. Wind Area (sft)],MATCH(I66,SignalHeads[Code],0))))","v":0},{"$f":"SUM(IF(B66=\"\",0,INDEX(SignalHeads[Weight*** (lbs)],MATCH(B66,SignalHeads[Code],0))),IF(D66=\"\",0,INDEX(SignalHeads[Weight*** (lbs)],MATCH(D66,SignalHeads[Code],0))),IF(E66=\"\",0,INDEX(SignalHeads[Weight*** (lbs)],MATCH(E66,SignalHeads[Code],0))),IF(F66=\"\",0,INDEX(SignalHeads[Weight*** (lbs)],MATCH(F66,SignalHeads[Code],0))),IF(G66=\"\",0,INDEX(SignalHeads[Weight*** (lbs)],MATCH(G66,SignalHeads[Code],0))),IF(H66=\"\",0,INDEX(SignalHeads[Weight*** (lbs)],MATCH(H66,SignalHeads[Code],0))),IF(I66=\"\",0,INDEX(SignalHeads[Weight*** (lbs)],MATCH(I66,SignalHeads[Code],0))))","v":0},{"$f":"IF(A66<=$I$8,INDEX(DesignConstants[Value],MATCH(\"Span Wire Weight (plf)\",DesignConstants[Design Constant],0)),0)","v":1.155},0,46.777500000000003,{"$error":"#VALUE!"},{"$error":"#VALUE!"},{"$error":"#N/A"},{"$error":"#N/A"},{"$f":"SUM(IF(B66=\"\",0,INDEX(SignalHeads[Height ** (feet)],MATCH(B66,SignalHeads[Code],0))),IF(D66=\"\",0,INDEX(SignalHeads[Height ** (feet)],MATCH(D66,SignalHeads[Code],0))),IF(E66=\"\",0,INDEX(SignalHeads[Height ** (feet)],MATCH(E66,SignalHeads[Code],0))),IF(F66=\"\",0,INDEX(SignalHeads[Height ** (feet)],MATCH(F66,SignalHeads[Code],0))),IF(G66=\"\",0,INDEX(SignalHeads[Height ** (feet)],MATCH(G66,SignalHeads[Code],0))),IF(H66=\"\",0,INDEX(SignalHeads[Height ** (feet)],MATCH(H66,SignalHeads[Code],0))),IF(I66=\"\",0,INDEX(SignalHeads[Height ** (feet)],MATCH(I66,SignalHeads[Code],0))))","v":0},{"$f":"IF(S66=0,\"\",ROUNDDOWN(12*(((Q66-S66)-MIN($Q$26:$Q$425-$S$26:$S$425)-(MAX($S$26:$S$425*(($Q$26:$Q$425-$S$26:$S$425)=MIN($Q$26:$Q$425-$S$26:$S$425)))-S66))+(MIN($Q$26:$Q$425-$S$26:$S$425)-$I$10)),0)/12)","v":""},"",{"$error":"#N/A"},17]
[42,null,null,null,null,null,null,null,null,{"$f":"SUM(IF(B67=\"\",0,INDEX(SignalHeads[Perp. Wind Area (sft)],MATCH(B67,SignalHeads[Code],0))),IF(D67=\"\",0,INDEX(SignalHeads[Perp. Wind Area (sft)],MATCH(D67,SignalHeads[Code],0))),IF(E67=\"\",0,INDEX(SignalHeads[Perp. Wind Area (sft)],MATCH(E67,SignalHeads[Code],0))),IF(F67=\"\",0,INDEX(SignalHeads[Perp. Wind Area (sft)],MATCH(F67,SignalHeads[Code],0))),IF(G67=\"\",0,INDEX(SignalHeads[Perp. Wind Area (sft)],MATCH(G67,SignalHeads[Code],0))),IF(H67=\"\",0,INDEX(SignalHeads[Perp. Wind Area (sft)],MATCH(H67,SignalHeads[Code],0))),IF(I67=\"\",0,INDEX(SignalHeads[Perp. Wind Area (sft)],MATCH(I67,SignalHeads[Code],0))))","v":0},{"$f":"SUM(IF(B67=\"\",0,INDEX(SignalHeads[Weight*** (lbs)],MATCH(B67,SignalHeads[Code],0))),IF(D67=\"\",0,INDEX(SignalHeads[Weight*** (lbs)],MATCH(D67,SignalHeads[Code],0))),IF(E67=\"\",0,INDEX(SignalHeads[Weight*** (lbs)],MATCH(E67,SignalHeads[Code],0))),IF(F67=\"\",0,INDEX(SignalHeads[Weight*** (lbs)],MATCH(F67,SignalHeads[Code],0))),IF(G67=\"\",0,INDEX(SignalHeads[Weight*** (lbs)],MATCH(G67,SignalHeads[Code],0))),IF(H67=\"\",0,INDEX(SignalHeads[Weight*** (lbs)],MATCH(H67,SignalHeads[Code],0))),IF(I67=\"\",0,INDEX(SignalHeads[Weight*** (lbs)],MATCH(I67,SignalHeads[Code],0))))","v":0},{"$f":"IF(A67<=$I$8,INDEX(DesignConstants[Value],MATCH(\"Span Wire Weight (plf)\",DesignConstants[Design Constant],0)),0)","v":1.155},0,47.932500000000005,{"$error":"#VALUE!"},{"$error":"#VALUE!"},{"$error":"#N/A"},{"$error":"#N/A"},{"$f":"SUM(IF(B67=\"\",0,INDEX(SignalHeads[Height ** (feet)],MATCH(B67,SignalHeads[Code],0))),IF(D67=\"\",0,INDEX(SignalHeads[Height ** (feet)],MATCH(D67,SignalHeads[Code],0))),IF(E67=\"\",0,INDEX(SignalHeads[Height ** (feet)],MATCH(E67,SignalHeads[Code],0))),IF(F67=\"\",0,INDEX(SignalHeads[Height ** (feet)],MATCH(F67,SignalHeads[Code],0))),IF(G67=\"\",0,INDEX(SignalHeads[Height ** (feet)],MATCH(G67,SignalHeads[Code],0))),IF(H67=\"\",0,INDEX(SignalHeads[Height ** (feet)],MATCH(H67,SignalHeads[Code],0))),IF(I67=\"\",0,INDEX(SignalHeads[Height ** (feet)],MATCH(I67,SignalHeads[Code],0))))","v":0},{"$f":"IF(S67=0,\"\",ROUNDDOWN(12*(((Q67-S67)-MIN($Q$26:$Q$425-$S$26:$S$425)-(MAX($S$26:$S$425*(($Q$26:$Q$425-$S$26:$S$425)=MIN($Q$26:$Q$425-$S$26:$S$425)))-S67))+(MIN($Q$26:$Q$425-$S$26:$S$425)-$I$10)),0)/12)","v":""},"",{"$error":"#N/A"},17]
[43,null,null,null,null,null,null,null,null,{"$f":"SUM(IF(B68=\"\",0,INDEX(SignalHeads[Perp. Wind Area (sft)],MATCH(B68,SignalHeads[Code],0))),IF(D68=\"\",0,INDEX(SignalHeads[Perp. Wind Area (sft)],MATCH(D68,SignalHeads[Code],0))),IF(E68=\"\",0,INDEX(SignalHeads[Perp. Wind Area (sft)],MATCH(E68,SignalHeads[Code],0))),IF(F68=\"\",0,INDEX(SignalHeads[Perp. Wind Area (sft)],MATCH(F68,SignalHeads[Code],0))),IF(G68=\"\",0,INDEX(SignalHeads[Perp. Wind Area (sft)],MATCH(G68,SignalHeads[Code],0))),IF(H68=\"\",0,INDEX(SignalHeads[Perp. Wind Area (sft)],MATCH(H68,SignalHeads[Code],0))),IF(I68=\"\",0,INDEX(SignalHeads[Perp. Wind Area (sft)],MATCH(I68,SignalHeads[Code],0))))","v":0},{"$f":"SUM(IF(B68=\"\",0,INDEX(SignalHeads[Weight*** (lbs)],MATCH(B68,SignalHeads[Code],0))),IF(D68=\"\",0,INDEX(SignalHeads[Weight*** (lbs)],MATCH(D68,SignalHeads[Code],0))),IF(E68=\"\",0,INDEX(SignalHeads[Weight*** (lbs)],MATCH(E68,SignalHeads[Code],0))),IF(F68=\"\",0,INDEX(SignalHeads[Weight*** (lbs)],MATCH(F68,SignalHeads[Code],0))),IF(G68=\"\",0,INDEX(SignalHeads[Weight*** (lbs)],MATCH(G68,SignalHeads[Code],0))),IF(H68=\"\",0,INDEX(SignalHeads[Weight*** (lbs)],MATCH(H68,SignalHeads[Code],0))),IF(I68=\"\",0,INDEX(SignalHeads[Weight*** (lbs)],MATCH(I68,SignalHeads[Code],0))))","v":0},{"$f":"IF(A68<=$I$8,INDEX(DesignConstants[Value],MATCH(\"Span Wire Weight (plf)\",DesignConstants[Design Constant],0)),0)","v":1.155},0,49.087499999999999,{"$error":"#VALUE!"},{"$error":"#VALUE!"},{"$error":"#N/A"},{"$error":"#N/A"},{"$f":"SUM(IF(B68=\"\",0,INDEX(SignalHeads[Height ** (feet)],MATCH(B68,SignalHeads[Code],0))),IF(D68=\"\",0,INDEX(SignalHeads[Height ** (feet)],MATCH(D68,SignalHeads[Code],0))),IF(E68=\"\",0,INDEX(SignalHeads[Height ** (feet)],MATCH(E68,SignalHeads[Code],0))),IF(F68=\"\",0,INDEX(SignalHeads[Height ** (feet)],MATCH(F68,SignalHeads[Code],0))),IF(G68=\"\",0,INDEX(SignalHeads[Height ** (feet)],MATCH(G68,SignalHeads[Code],0))),IF(H68=\"\",0,INDEX(SignalHeads[Height ** (feet)],MATCH(H68,SignalHeads[Code],0))),IF(I68=\"\",0,INDEX(SignalHeads[Height ** (feet)],MATCH(I68,SignalHeads[Code],0))))","v":0},{"$f":"IF(S68=0,\"\",ROUNDDOWN(12*(((Q68-S68)-MIN($Q$26:$Q$425-$S$26:$S$425)-(MAX($S$26:$S$425*(($Q$26:$Q$425-$S$26:$S$425)=MIN($Q$26:$Q$425-$S$26:$S$425)))-S68))+(MIN($Q$26:$Q$425-$S$26:$S$425)-$I$10)),0)/12)","v":""},"",{"$error":"#N/A"},17]
[44,null,null,null,null,null,null,null,null,{"$f":"SUM(IF(B69=\"\",0,INDEX(SignalHeads[Perp. Wind Area (sft)],MATCH(B69,SignalHeads[Code],0))),IF(D69=\"\",0,INDEX(SignalHeads[Perp. Wind Area (sft)],MATCH(D69,SignalHeads[Code],0))),IF(E69=\"\",0,INDEX(SignalHeads[Perp. Wind Area (sft)],MATCH(E69,SignalHeads[Code],0))),IF(F69=\"\",0,INDEX(SignalHeads[Perp. Wind Area (sft)],MATCH(F69,SignalHeads[Code],0))),IF(G69=\"\",0,INDEX(SignalHeads[Perp. Wind Area (sft)],MATCH(G69,SignalHeads[Code],0))),IF(H69=\"\",0,INDEX(SignalHeads[Perp. Wind Area (sft)],MATCH(H69,SignalHeads[Code],0))),IF(I69=\"\",0,INDEX(SignalHeads[Perp. Wind Area (sft)],MATCH(I69,SignalHeads[Code],0))))","v":0},{"$f":"SUM(IF(B69=\"\",0,INDEX(SignalHeads[Weight*** (lbs)],MATCH(B69,SignalHeads[Code],0))),IF(D69=\"\",0,INDEX(SignalHeads[Weight*** (lbs)],MATCH(D69,SignalHeads[Code],0))),IF(E69=\"\",0,INDEX(SignalHeads[Weight*** (lbs)],MATCH(E69,SignalHeads[Code],0))),IF(F69=\"\",0,INDEX(SignalHeads[Weight*** (lbs)],MATCH(F69,SignalHeads[Code],0))),IF(G69=\"\",0,INDEX(SignalHeads[Weight*** (lbs)],MATCH(G69,SignalHeads[Code],0))),IF(H69=\"\",0,INDEX(SignalHeads[Weight*** (lbs)],MATCH(H69,SignalHeads[Code],0))),IF(I69=\"\",0,INDEX(SignalHeads[Weight*** (lbs)],MATCH(I69,SignalHeads[Code],0))))","v":0},{"$f":"IF(A69<=$I$8,INDEX(DesignConstants[Value],MATCH(\"Span Wire Weight (plf)\",DesignConstants[Design Constant],0)),0)","v":1.155},0,50.2425,{"$error":"#VALUE!"},{"$error":"#VALUE!"},{"$error":"#N/A"},{"$error":"#N/A"},{"$f":"SUM(IF(B69=\"\",0,INDEX(SignalHeads[Height ** (feet)],MATCH(B69,SignalHeads[Code],0))),IF(D69=\"\",0,INDEX(SignalHeads[Height ** (feet)],MATCH(D69,SignalHeads[Code],0))),IF(E69=\"\",0,INDEX(SignalHeads[Height ** (feet)],MATCH(E69,SignalHeads[Code],0))),IF(F69=\"\",0,INDEX(SignalHeads[Height ** (feet)],MATCH(F69,SignalHeads[Code],0))),IF(G69=\"\",0,INDEX(SignalHeads[Height ** (feet)],MATCH(G69,SignalHeads[Code],0))),IF(H69=\"\",0,INDEX(SignalHeads[Height ** (feet)],MATCH(H69,SignalHeads[Code],0))),IF(I69=\"\",0,INDEX(SignalHeads[Height ** (feet)],MATCH(I69,SignalHeads[Code],0))))","v":0},{"$f":"IF(S69=0,\"\",ROUNDDOWN(12*(((Q69-S69)-MIN($Q$26:$Q$425-$S$26:$S$425)-(MAX($S$26:$S$425*(($Q$26:$Q$425-$S$26:$S$425)=MIN($Q$26:$Q$425-$S$26:$S$425)))-S69))+(MIN($Q$26:$Q$425-$S$26:$S$425)-$I$10)),0)/12)","v":""},"",{"$error":"#N/A"},17]
[45,null,null,null,null,null,null,null,null,{"$f":"SUM(IF(B70=\"\",0,INDEX(SignalHeads[Perp. Wind Area (sft)],MATCH(B70,SignalHeads[Code],0))),IF(D70=\"\",0,INDEX(SignalHeads[Perp. Wind Area (sft)],MATCH(D70,SignalHeads[Code],0))),IF(E70=\"\",0,INDEX(SignalHeads[Perp. Wind Area (sft)],MATCH(E70,SignalHeads[Code],0))),IF(F70=\"\",0,INDEX(SignalHeads[Perp. Wind Area (sft)],MATCH(F70,SignalHeads[Code],0))),IF(G70=\"\",0,INDEX(SignalHeads[Perp. Wind Area (sft)],MATCH(G70,SignalHeads[Code],0))),IF(H70=\"\",0,INDEX(SignalHeads[Perp. Wind Area (sft)],MATCH(H70,SignalHeads[Code],0))),IF(I70=\"\",0,INDEX(SignalHeads[Perp. Wind Area (sft)],MATCH(I70,SignalHeads[Code],0))))","v":0},{"$f":"SUM(IF(B70=\"\",0,INDEX(SignalHeads[Weight*** (lbs)],MATCH(B70,SignalHeads[Code],0))),IF(D70=\"\",0,INDEX(SignalHeads[Weight*** (lbs)],MATCH(D70,SignalHeads[Code],0))),IF(E70=\"\",0,INDEX(SignalHeads[Weight*** (lbs)],MATCH(E70,SignalHeads[Code],0))),IF(F70=\"\",0,INDEX(SignalHeads[Weight*** (lbs)],MATCH(F70,SignalHeads[Code],0))),IF(G70=\"\",0,INDEX(SignalHeads[Weight*** (lbs)],MATCH(G70,SignalHeads[Code],0))),IF(H70=\"\",0,INDEX(SignalHeads[Weight*** (lbs)],MATCH(H70,SignalHeads[Code],0))),IF(I70=\"\",0,INDEX(SignalHeads[Weight*** (lbs)],MATCH(I70,SignalHeads[Code],0))))","v":0},{"$f":"IF(A70<=$I$8,INDEX(DesignConstants[Value],MATCH(\"Span Wire Weight (plf)\",DesignConstants[Design Constant],0)),0)","v":1.155},0,51.397500000000001,{"$error":"#VALUE!"},{"$error":"#VALUE!"},{"$error":"#N/A"},{"$error":"#N/A"},{"$f":"SUM(IF(B70=\"\",0,INDEX(SignalHeads[Height ** (feet)],MATCH(B70,SignalHeads[Code],0))),IF(D70=\"\",0,INDEX(SignalHeads[Height ** (feet)],MATCH(D70,SignalHeads[Code],0))),IF(E70=\"\",0,INDEX(SignalHeads[Height ** (feet)],MATCH(E70,SignalHeads[Code],0))),IF(F70=\"\",0,INDEX(SignalHeads[Height ** (feet)],MATCH(F70,SignalHeads[Code],0))),IF(G70=\"\",0,INDEX(SignalHeads[Height ** (feet)],MATCH(G70,SignalHeads[Code],0))),IF(H70=\"\",0,INDEX(SignalHeads[Height ** (feet)],MATCH(H70,SignalHeads[Code],0))),IF(I70=\"\",0,INDEX(SignalHeads[Height ** (feet)],MATCH(I70,SignalHeads[Code],0))))","v":0},{"$f":"IF(S70=0,\"\",ROUNDDOWN(12*(((Q70-S70)-MIN($Q$26:$Q$425-$S$26:$S$425)-(MAX($S$26:$S$425*(($Q$26:$Q$425-$S$26:$S$425)=MIN($Q$26:$Q$425-$S$26:$S$425)))-S70))+(MIN($Q$26:$Q$425-$S$26:$S$425)-$I$10)),0)/12)","v":""},"",{"$error":"#N/A"},17]
[46,null,null,null,null,null,null,null,null,{"$f":"SUM(IF(B71=\"\",0,INDEX(SignalHeads[Perp. Wind Area (sft)],MATCH(B71,SignalHeads[Code],0))),IF(D71=\"\",0,INDEX(SignalHeads[Perp. Wind Area (sft)],MATCH(D71,SignalHeads[Code],0))),IF(E71=\"\",0,INDEX(SignalHeads[Perp. Wind Area (sft)],MATCH(E71,SignalHeads[Code],0))),IF(F71=\"\",0,INDEX(SignalHeads[Perp. Wind Area (sft)],MATCH(F71,SignalHeads[Code],0))),IF(G71=\"\",0,INDEX(SignalHeads[Perp. Wind Area (sft)],MATCH(G71,SignalHeads[Code],0))),IF(H71=\"\",0,INDEX(SignalHeads[Perp. Wind Area (sft)],MATCH(H71,SignalHeads[Code],0))),IF(I71=\"\",0,INDEX(SignalHeads[Perp. Wind Area (sft)],MATCH(I71,SignalHeads[Code],0))))","v":0},{"$f":"SUM(IF(B71=\"\",0,INDEX(SignalHeads[Weight*** (lbs)],MATCH(B71,SignalHeads[Code],0))),IF(D71=\"\",0,INDEX(SignalHeads[Weight*** (lbs)],MATCH(D71,SignalHeads[Code],0))),IF(E71=\"\",0,INDEX(SignalHeads[Weight*** (lbs)],MATCH(E71,SignalHeads[Code],0))),IF(F71=\"\",0,INDEX(SignalHeads[Weight*** (lbs)],MATCH(F71,SignalHeads[Code],0))),IF(G71=\"\",0,INDEX(SignalHeads[Weight*** (lbs)],MATCH(G71,SignalHeads[Code],0))),IF(H71=\"\",0,INDEX(SignalHeads[Weight*** (lbs)],MATCH(H71,SignalHeads[Code],0))),IF(I71=\"\",0,INDEX(SignalHeads[Weight*** (lbs)],MATCH(I71,SignalHeads[Code],0))))","v":0},{"$f":"IF(A71<=$I$8,INDEX(DesignConstants[Value],MATCH(\"Span Wire Weight (plf)\",DesignConstants[Design Constant],0)),0)","v":1.155},0,52.552500000000002,{"$error":"#VALUE!"},{"$error":"#VALUE!"},{"$error":"#N/A"},{"$error":"#N/A"},{"$f":"SUM(IF(B71=\"\",0,INDEX(SignalHeads[Height ** (feet)],MATCH(B71,SignalHeads[Code],0))),IF(D71=\"\",0,INDEX(SignalHeads[Height ** (feet)],MATCH(D71,SignalHeads[Code],0))),IF(E71=\"\",0,INDEX(SignalHeads[Height ** (feet)],MATCH(E71,SignalHeads[Code],0))),IF(F71=\"\",0,INDEX(SignalHeads[Height ** (feet)],MATCH(F71,SignalHeads[Code],0))),IF(G71=\"\",0,INDEX(SignalHeads[Height ** (feet)],MATCH(G71,SignalHeads[Code],0))),IF(H71=\"\",0,INDEX(SignalHeads[Height ** (feet)],MATCH(H71,SignalHeads[Code],0))),IF(I71=\"\",0,INDEX(SignalHeads[Height ** (feet)],MATCH(I71,SignalHeads[Code],0))))","v":0},{"$f":"IF(S71=0,\"\",ROUNDDOWN(12*(((Q71-S71)-MIN($Q$26:$Q$425-$S$26:$S$425)-(MAX($S$26:$S$425*(($Q$26:$Q$425-$S$26:$S$425)=MIN($Q$26:$Q$425-$S$26:$S$425)))-S71))+(MIN($Q$26:$Q$425-$S$26:$S$425)-$I$10)),0)/12)","v":""},"",{"$error":"#N/A"},17]
[47,null,null,null,null,null,null,null,null,{"$f":"SUM(IF(B72=\"\",0,INDEX(SignalHeads[Perp. Wind Area (sft)],MATCH(B72,SignalHeads[Code],0))),IF(D72=\"\",0,INDEX(SignalHeads[Perp. Wind Area (sft)],MATCH(D72,SignalHeads[Code],0))),IF(E72=\"\",0,INDEX(SignalHeads[Perp. Wind Area (sft)],MATCH(E72,SignalHeads[Code],0))),IF(F72=\"\",0,INDEX(SignalHeads[Perp. Wind Area (sft)],MATCH(F72,SignalHeads[Code],0))),IF(G72=\"\",0,INDEX(SignalHeads[Perp. Wind Area (sft)],MATCH(G72,SignalHeads[Code],0))),IF(H72=\"\",0,INDEX(SignalHeads[Perp. Wind Area (sft)],MATCH(H72,SignalHeads[Code],0))),IF(I72=\"\",0,INDEX(SignalHeads[Perp. Wind Area (sft)],MATCH(I72,SignalHeads[Code],0))))","v":0},{"$f":"SUM(IF(B72=\"\",0,INDEX(SignalHeads[Weight*** (lbs)],MATCH(B72,SignalHeads[Code],0))),IF(D72=\"\",0,INDEX(SignalHeads[Weight*** (lbs)],MATCH(D72,SignalHeads[Code],0))),IF(E72=\"\",0,INDEX(SignalHeads[Weight*** (lbs)],MATCH(E72,SignalHeads[Code],0))),IF(F72=\"\",0,INDEX(SignalHeads[Weight*** (lbs)],MATCH(F72,SignalHeads[Code],0))),IF(G72=\"\",0,INDEX(SignalHeads[Weight*** (lbs)],MATCH(G72,SignalHeads[Code],0))),IF(H72=\"\",0,INDEX(SignalHeads[Weight*** (lbs)],MATCH(H72,SignalHeads[Code],0))),IF(I72=\"\",0,INDEX(SignalHeads[Weight*** (lbs)],MATCH(I72,SignalHeads[Code],0))))","v":0},{"$f":"IF(A72<=$I$8,INDEX(DesignConstants[Value],MATCH(\"Span Wire Weight (plf)\",DesignConstants[Design Constant],0)),0)","v":1.155},0,53.707500000000003,{"$error":"#VALUE!"},{"$error":"#VALUE!"},{"$error":"#N/A"},{"$error":"#N/A"},{"$f":"SUM(IF(B72=\"\",0,INDEX(SignalHeads[Height ** (feet)],MATCH(B72,SignalHeads[Code],0))),IF(D72=\"\",0,INDEX(SignalHeads[Height ** (feet)],MATCH(D72,SignalHeads[Code],0))),IF(E72=\"\",0,INDEX(SignalHeads[Height ** (feet)],MATCH(E72,SignalHeads[Code],0))),IF(F72=\"\",0,INDEX(SignalHeads[Height ** (feet)],MATCH(F72,SignalHeads[Code],0))),IF(G72=\"\",0,INDEX(SignalHeads[Height ** (feet)],MATCH(G72,SignalHeads[Code],0))),IF(H72=\"\",0,INDEX(SignalHeads[Height ** (feet)],MATCH(H72,SignalHeads[Code],0))),IF(I72=\"\",0,INDEX(SignalHeads[Height ** (feet)],MATCH(I72,SignalHeads[Code],0))))","v":0},{"$f":"IF(S72=0,\"\",ROUNDDOWN(12*(((Q72-S72)-MIN($Q$26:$Q$425-$S$26:$S$425)-(MAX($S$26:$S$425*(($Q$26:$Q$425-$S$26:$S$425)=MIN($Q$26:$Q$425-$S$26:$S$425)))-S72))+(MIN($Q$26:$Q$425-$S$26:$S$425)-$I$10)),0)/12)","v":""},"",{"$error":"#N/A"},17]
[48,null,null,null,null,null,null,null,null,{"$f":"SUM(IF(B73=\"\",0,INDEX(SignalHeads[Perp. Wind Area (sft)],MATCH(B73,SignalHeads[Code],0))),IF(D73=\"\",0,INDEX(SignalHeads[Perp. Wind Area (sft)],MATCH(D73,SignalHeads[Code],0))),IF(E73=\"\",0,INDEX(SignalHeads[Perp. Wind Area (sft)],MATCH(E73,SignalHeads[Code],0))),IF(F73=\"\",0,INDEX(SignalHeads[Perp. Wind Area (sft)],MATCH(F73,SignalHeads[Code],0))),IF(G73=\"\",0,INDEX(SignalHeads[Perp. Wind Area (sft)],MATCH(G73,SignalHeads[Code],0))),IF(H73=\"\",0,INDEX(SignalHeads[Perp. Wind Area (sft)],MATCH(H73,SignalHeads[Code],0))),IF(I73=\"\",0,INDEX(SignalHeads[Perp. Wind Area (sft)],MATCH(I73,SignalHeads[Code],0))))","v":0},{"$f":"SUM(IF(B73=\"\",0,INDEX(SignalHeads[Weight*** (lbs)],MATCH(B73,SignalHeads[Code],0))),IF(D73=\"\",0,INDEX(SignalHeads[Weight*** (lbs)],MATCH(D73,SignalHeads[Code],0))),IF(E73=\"\",0,INDEX(SignalHeads[Weight*** (lbs)],MATCH(E73,SignalHeads[Code],0))),IF(F73=\"\",0,INDEX(SignalHeads[Weight*** (lbs)],MATCH(F73,SignalHeads[Code],0))),IF(G73=\"\",0,INDEX(SignalHeads[Weight*** (lbs)],MATCH(G73,SignalHeads[Code],0))),IF(H73=\"\",0,INDEX(SignalHeads[Weight*** (lbs)],MATCH(H73,SignalHeads[Code],0))),IF(I73=\"\",0,INDEX(SignalHeads[Weight*** (lbs)],MATCH(I73,SignalHeads[Code],0))))","v":0},{"$f":"IF(A73<=$I$8,INDEX(DesignConstants[Value],MATCH(\"Span Wire Weight (plf)\",DesignConstants[Design Constant],0)),0)","v":1.155},0,54.862500000000004,{"$error":"#VALUE!"},{"$error":"#VALUE!"},{"$error":"#N/A"},{"$error":"#N/A"},{"$f":"SUM(IF(B73=\"\",0,INDEX(SignalHeads[Height ** (feet)],MATCH(B73,SignalHeads[Code],0))),IF(D73=\"\",0,INDEX(SignalHeads[Height ** (feet)],MATCH(D73,SignalHeads[Code],0))),IF(E73=\"\",0,INDEX(SignalHeads[Height ** (feet)],MATCH(E73,SignalHeads[Code],0))),IF(F73=\"\",0,INDEX(SignalHeads[Height ** (feet)],MATCH(F73,SignalHeads[Code],0))),IF(G73=\"\",0,INDEX(SignalHeads[Height ** (feet)],MATCH(G73,SignalHeads[Code],0))),IF(H73=\"\",0,INDEX(SignalHeads[Height ** (feet)],MATCH(H73,SignalHeads[Code],0))),IF(I73=\"\",0,INDEX(SignalHeads[Height ** (feet)],MATCH(I73,SignalHeads[Code],0))))","v":0},{"$f":"IF(S73=0,\"\",ROUNDDOWN(12*(((Q73-S73)-MIN($Q$26:$Q$425-$S$26:$S$425)-(MAX($S$26:$S$425*(($Q$26:$Q$425-$S$26:$S$425)=MIN($Q$26:$Q$425-$S$26:$S$425)))-S73))+(MIN($Q$26:$Q$425-$S$26:$S$425)-$I$10)),0)/12)","v":""},"",{"$error":"#N/A"},17]
[49,null,null,null,null,null,null,null,null,{"$f":"SUM(IF(B74=\"\",0,INDEX(SignalHeads[Perp. Wind Area (sft)],MATCH(B74,SignalHeads[Code],0))),IF(D74=\"\",0,INDEX(SignalHeads[Perp. Wind Area (sft)],MATCH(D74,SignalHeads[Code],0))),IF(E74=\"\",0,INDEX(SignalHeads[Perp. Wind Area (sft)],MATCH(E74,SignalHeads[Code],0))),IF(F74=\"\",0,INDEX(SignalHeads[Perp. Wind Area (sft)],MATCH(F74,SignalHeads[Code],0))),IF(G74=\"\",0,INDEX(SignalHeads[Perp. Wind Area (sft)],MATCH(G74,SignalHeads[Code],0))),IF(H74=\"\",0,INDEX(SignalHeads[Perp. Wind Area (sft)],MATCH(H74,SignalHeads[Code],0))),IF(I74=\"\",0,INDEX(SignalHeads[Perp. Wind Area (sft)],MATCH(I74,SignalHeads[Code],0))))","v":0},{"$f":"SUM(IF(B74=\"\",0,INDEX(SignalHeads[Weight*** (lbs)],MATCH(B74,SignalHeads[Code],0))),IF(D74=\"\",0,INDEX(SignalHeads[Weight*** (lbs)],MATCH(D74,SignalHeads[Code],0))),IF(E74=\"\",0,INDEX(SignalHeads[Weight*** (lbs)],MATCH(E74,SignalHeads[Code],0))),IF(F74=\"\",0,INDEX(SignalHeads[Weight*** (lbs)],MATCH(F74,SignalHeads[Code],0))),IF(G74=\"\",0,INDEX(SignalHeads[Weight*** (lbs)],MATCH(G74,SignalHeads[Code],0))),IF(H74=\"\",0,INDEX(SignalHeads[Weight*** (lbs)],MATCH(H74,SignalHeads[Code],0))),IF(I74=\"\",0,INDEX(SignalHeads[Weight*** (lbs)],MATCH(I74,SignalHeads[Code],0))))","v":0},{"$f":"IF(A74<=$I$8,INDEX(DesignConstants[Value],MATCH(\"Span Wire Weight (plf)\",DesignConstants[Design Constant],0)),0)","v":1.155},0,56.017499999999998,{"$error":"#VALUE!"},{"$error":"#VALUE!"},{"$error":"#N/A"},{"$error":"#N/A"},{"$f":"SUM(IF(B74=\"\",0,INDEX(SignalHeads[Height ** (feet)],MATCH(B74,SignalHeads[Code],0))),IF(D74=\"\",0,INDEX(SignalHeads[Height ** (feet)],MATCH(D74,SignalHeads[Code],0))),IF(E74=\"\",0,INDEX(SignalHeads[Height ** (feet)],MATCH(E74,SignalHeads[Code],0))),IF(F74=\"\",0,INDEX(SignalHeads[Height ** (feet)],MATCH(F74,SignalHeads[Code],0))),IF(G74=\"\",0,INDEX(SignalHeads[Height ** (feet)],MATCH(G74,SignalHeads[Code],0))),IF(H74=\"\",0,INDEX(SignalHeads[Height ** (feet)],MATCH(H74,SignalHeads[Code],0))),IF(I74=\"\",0,INDEX(SignalHeads[Height ** (feet)],MATCH(I74,SignalHeads[Code],0))))","v":0},{"$f":"IF(S74=0,\"\",ROUNDDOWN(12*(((Q74-S74)-MIN($Q$26:$Q$425-$S$26:$S$425)-(MAX($S$26:$S$425*(($Q$26:$Q$425-$S$26:$S$425)=MIN($Q$26:$Q$425-$S$26:$S$425)))-S74))+(MIN($Q$26:$Q$425-$S$26:$S$425)-$I$10)),0)/12)","v":""},"",{"$error":"#N/A"},17]
[50,null,null,null,null,null,null,null,null,{"$f":"SUM(IF(B75=\"\",0,INDEX(SignalHeads[Perp. Wind Area (sft)],MATCH(B75,SignalHeads[Code],0))),IF(D75=\"\",0,INDEX(SignalHeads[Perp. Wind Area (sft)],MATCH(D75,SignalHeads[Code],0))),IF(E75=\"\",0,INDEX(SignalHeads[Perp. Wind Area (sft)],MATCH(E75,SignalHeads[Code],0))),IF(F75=\"\",0,INDEX(SignalHeads[Perp. Wind Area (sft)],MATCH(F75,SignalHeads[Code],0))),IF(G75=\"\",0,INDEX(SignalHeads[Perp. Wind Area (sft)],MATCH(G75,SignalHeads[Code],0))),IF(H75=\"\",0,INDEX(SignalHeads[Perp. Wind Area (sft)],MATCH(H75,SignalHeads[Code],0))),IF(I75=\"\",0,INDEX(SignalHeads[Perp. Wind Area (sft)],MATCH(I75,SignalHeads[Code],0))))","v":0},{"$f":"SUM(IF(B75=\"\",0,INDEX(SignalHeads[Weight*** (lbs)],MATCH(B75,SignalHeads[Code],0))),IF(D75=\"\",0,INDEX(SignalHeads[Weight*** (lbs)],MATCH(D75,SignalHeads[Code],0))),IF(E75=\"\",0,INDEX(SignalHeads[Weight*** (lbs)],MATCH(E75,SignalHeads[Code],0))),IF(F75=\"\",0,INDEX(SignalHeads[Weight*** (lbs)],MATCH(F75,SignalHeads[Code],0))),IF(G75=\"\",0,INDEX(SignalHeads[Weight*** (lbs)],MATCH(G75,SignalHeads[Code],0))),IF(H75=\"\",0,INDEX(SignalHeads[Weight*** (lbs)],MATCH(H75,SignalHeads[Code],0))),IF(I75=\"\",0,INDEX(SignalHeads[Weight*** (lbs)],MATCH(I75,SignalHeads[Code],0))))","v":0},{"$f":"IF(A75<=$I$8,INDEX(DesignConstants[Value],MATCH(\"Span Wire Weight (plf)\",DesignConstants[Design Constant],0)),0)","v":1.155},0,57.172499999999999,{"$error":"#VALUE!"},{"$error":"#VALUE!"},{"$error":"#N/A"},{"$error":"#N/A"},{"$f":"SUM(IF(B75=\"\",0,INDEX(SignalHeads[Height ** (feet)],MATCH(B75,SignalHeads[Code],0))),IF(D75=\"\",0,INDEX(SignalHeads[Height ** (feet)],MATCH(D75,SignalHeads[Code],0))),IF(E75=\"\",0,INDEX(SignalHeads[Height ** (feet)],MATCH(E75,SignalHeads[Code],0))),IF(F75=\"\",0,INDEX(SignalHeads[Height ** (feet)],MATCH(F75,SignalHeads[Code],0))),IF(G75=\"\",0,INDEX(SignalHeads[Height ** (feet)],MATCH(G75,SignalHeads[Code],0))),IF(H75=\"\",0,INDEX(SignalHeads[Height ** (feet)],MATCH(H75,SignalHeads[Code],0))),IF(I75=\"\",0,INDEX(SignalHeads[Height ** (feet)],MATCH(I75,SignalHeads[Code],0))))","v":0},{"$f":"IF(S75=0,\"\",ROUNDDOWN(12*(((Q75-S75)-MIN($Q$26:$Q$425-$S$26:$S$425)-(MAX($S$26:$S$425*(($Q$26:$Q$425-$S$26:$S$425)=MIN($Q$26:$Q$425-$S$26:$S$425)))-S75))+(MIN($Q$26:$Q$425-$S$26:$S$425)-$I$10)),0)/12)","v":""},"",{"$error":"#N/A"},17]
[51,null,null,null,null,null,null,null,null,{"$f":"SUM(IF(B76=\"\",0,INDEX(SignalHeads[Perp. Wind Area (sft)],MATCH(B76,SignalHeads[Code],0))),IF(D76=\"\",0,INDEX(SignalHeads[Perp. Wind Area (sft)],MATCH(D76,SignalHeads[Code],0))),IF(E76=\"\",0,INDEX(SignalHeads[Perp. Wind Area (sft)],MATCH(E76,SignalHeads[Code],0))),IF(F76=\"\",0,INDEX(SignalHeads[Perp. Wind Area (sft)],MATCH(F76,SignalHeads[Code],0))),IF(G76=\"\",0,INDEX(SignalHeads[Perp. Wind Area (sft)],MATCH(G76,SignalHeads[Code],0))),IF(H76=\"\",0,INDEX(SignalHeads[Perp. Wind Area (sft)],MATCH(H76,SignalHeads[Code],0))),IF(I76=\"\",0,INDEX(SignalHeads[Perp. Wind Area (sft)],MATCH(I76,SignalHeads[Code],0))))","v":0},{"$f":"SUM(IF(B76=\"\",0,INDEX(SignalHeads[Weight*** (lbs)],MATCH(B76,SignalHeads[Code],0))),IF(D76=\"\",0,INDEX(SignalHeads[Weight*** (lbs)],MATCH(D76,SignalHeads[Code],0))),IF(E76=\"\",0,INDEX(SignalHeads[Weight*** (lbs)],MATCH(E76,SignalHeads[Code],0))),IF(F76=\"\",0,INDEX(SignalHeads[Weight*** (lbs)],MATCH(F76,SignalHeads[Code],0))),IF(G76=\"\",0,INDEX(SignalHeads[Weight*** (lbs)],MATCH(G76,SignalHeads[Code],0))),IF(H76=\"\",0,INDEX(SignalHeads[Weight*** (lbs)],MATCH(H76,SignalHeads[Code],0))),IF(I76=\"\",0,INDEX(SignalHeads[Weight*** (lbs)],MATCH(I76,SignalHeads[Code],0))))","v":0},{"$f":"IF(A76<=$I$8,INDEX(DesignConstants[Value],MATCH(\"Span Wire Weight (plf)\",DesignConstants[Design Constant],0)),0)","v":1.155},0,58.327500000000001,{"$error":"#VALUE!"},{"$error":"#VALUE!"},{"$error":"#N/A"},{"$error":"#N/A"},{"$f":"SUM(IF(B76=\"\",0,INDEX(SignalHeads[Height ** (feet)],MATCH(B76,SignalHeads[Code],0))),IF(D76=\"\",0,INDEX(SignalHeads[Height ** (feet)],MATCH(D76,SignalHeads[Code],0))),IF(E76=\"\",0,INDEX(SignalHeads[Height ** (feet)],MATCH(E76,SignalHeads[Code],0))),IF(F76=\"\",0,INDEX(SignalHeads[Height ** (feet)],MATCH(F76,SignalHeads[Code],0))),IF(G76=\"\",0,INDEX(SignalHeads[Height ** (feet)],MATCH(G76,SignalHeads[Code],0))),IF(H76=\"\",0,INDEX(SignalHeads[Height ** (feet)],MATCH(H76,SignalHeads[Code],0))),IF(I76=\"\",0,INDEX(SignalHeads[Height ** (feet)],MATCH(I76,SignalHeads[Code],0))))","v":0},{"$f":"IF(S76=0,\"\",ROUNDDOWN(12*(((Q76-S76)-MIN($Q$26:$Q$425-$S$26:$S$425)-(MAX($S$26:$S$425*(($Q$26:$Q$425-$S$26:$S$425)=MIN($Q$26:$Q$425-$S$26:$S$425)))-S76))+(MIN($Q$26:$Q$425-$S$26:$S$425)-$I$10)),0)/12)","v":""},"",{"$error":"#N/A"},17]
[52,null,null,null,null,null,null,null,null,{"$f":"SUM(IF(B77=\"\",0,INDEX(SignalHeads[Perp. Wind Area (sft)],MATCH(B77,SignalHeads[Code],0))),IF(D77=\"\",0,INDEX(SignalHeads[Perp. Wind Area (sft)],MATCH(D77,SignalHeads[Code],0))),IF(E77=\"\",0,INDEX(SignalHeads[Perp. Wind Area (sft)],MATCH(E77,SignalHeads[Code],0))),IF(F77=\"\",0,INDEX(SignalHeads[Perp. Wind Area (sft)],MATCH(F77,SignalHeads[Code],0))),IF(G77=\"\",0,INDEX(SignalHeads[Perp. Wind Area (sft)],MATCH(G77,SignalHeads[Code],0))),IF(H77=\"\",0,INDEX(SignalHeads[Perp. Wind Area (sft)],MATCH(H77,SignalHeads[Code],0))),IF(I77=\"\",0,INDEX(SignalHeads[Perp. Wind Area (sft)],MATCH(I77,SignalHeads[Code],0))))","v":0},{"$f":"SUM(IF(B77=\"\",0,INDEX(SignalHeads[Weight*** (lbs)],MATCH(B77,SignalHeads[Code],0))),IF(D77=\"\",0,INDEX(SignalHeads[Weight*** (lbs)],MATCH(D77,SignalHeads[Code],0))),IF(E77=\"\",0,INDEX(SignalHeads[Weight*** (lbs)],MATCH(E77,SignalHeads[Code],0))),IF(F77=\"\",0,INDEX(SignalHeads[Weight*** (lbs)],MATCH(F77,SignalHeads[Code],0))),IF(G77=\"\",0,INDEX(SignalHeads[Weight*** (lbs)],MATCH(G77,SignalHeads[Code],0))),IF(H77=\"\",0,INDEX(SignalHeads[Weight*** (lbs)],MATCH(H77,SignalHeads[Code],0))),IF(I77=\"\",0,INDEX(SignalHeads[Weight*** (lbs)],MATCH(I77,SignalHeads[Code],0))))","v":0},{"$f":"IF(A77<=$I$8,INDEX(DesignConstants[Value],MATCH(\"Span Wire Weight (plf)\",DesignConstants[Design Constant],0)),0)","v":1.155},0,59.482500000000002,{"$error":"#VALUE!"},{"$error":"#VALUE!"},{"$error":"#N/A"},{"$error":"#N/A"},{"$f":"SUM(IF(B77=\"\",0,INDEX(SignalHeads[Height ** (feet)],MATCH(B77,SignalHeads[Code],0))),IF(D77=\"\",0,INDEX(SignalHeads[Height ** (feet)],MATCH(D77,SignalHeads[Code],0))),IF(E77=\"\",0,INDEX(SignalHeads[Height ** (feet)],MATCH(E77,SignalHeads[Code],0))),IF(F77=\"\",0,INDEX(SignalHeads[Height ** (feet)],MATCH(F77,SignalHeads[Code],0))),IF(G77=\"\",0,INDEX(SignalHeads[Height ** (feet)],MATCH(G77,SignalHeads[Code],0))),IF(H77=\"\",0,INDEX(SignalHeads[Height ** (feet)],MATCH(H77,SignalHeads[Code],0))),IF(I77=\"\",0,INDEX(SignalHeads[Height ** (feet)],MATCH(I77,SignalHeads[Code],0))))","v":0},{"$f":"IF(S77=0,\"\",ROUNDDOWN(12*(((Q77-S77)-MIN($Q$26:$Q$425-$S$26:$S$425)-(MAX($S$26:$S$425*(($Q$26:$Q$425-$S$26:$S$425)=MIN($Q$26:$Q$425-$S$26:$S$425)))-S77))+(MIN($Q$26:$Q$425-$S$26:$S$425)-$I$10)),0)/12)","v":""},"",{"$error":"#N/A"},17]
[53,null,null,null,null,null,null,null,null,{"$f":"SUM(IF(B78=\"\",0,INDEX(SignalHeads[Perp. Wind Area (sft)],MATCH(B78,SignalHeads[Code],0))),IF(D78=\"\",0,INDEX(SignalHeads[Perp. Wind Area (sft)],MATCH(D78,SignalHeads[Code],0))),IF(E78=\"\",0,INDEX(SignalHeads[Perp. Wind Area (sft)],MATCH(E78,SignalHeads[Code],0))),IF(F78=\"\",0,INDEX(SignalHeads[Perp. Wind Area (sft)],MATCH(F78,SignalHeads[Code],0))),IF(G78=\"\",0,INDEX(SignalHeads[Perp. Wind Area (sft)],MATCH(G78,SignalHeads[Code],0))),IF(H78=\"\",0,INDEX(SignalHeads[Perp. Wind Area (sft)],MATCH(H78,SignalHeads[Code],0))),IF(I78=\"\",0,INDEX(SignalHeads[Perp. Wind Area (sft)],MATCH(I78,SignalHeads[Code],0))))","v":0},{"$f":"SUM(IF(B78=\"\",0,INDEX(SignalHeads[Weight*** (lbs)],MATCH(B78,SignalHeads[Code],0))),IF(D78=\"\",0,INDEX(SignalHeads[Weight*** (lbs)],MATCH(D78,SignalHeads[Code],0))),IF(E78=\"\",0,INDEX(SignalHeads[Weight*** (lbs)],MATCH(E78,SignalHeads[Code],0))),IF(F78=\"\",0,INDEX(SignalHeads[Weight*** (lbs)],MATCH(F78,SignalHeads[Code],0))),IF(G78=\"\",0,INDEX(SignalHeads[Weight*** (lbs)],MATCH(G78,SignalHeads[Code],0))),IF(H78=\"\",0,INDEX(SignalHeads[Weight*** (lbs)],MATCH(H78,SignalHeads[Code],0))),IF(I78=\"\",0,INDEX(SignalHeads[Weight*** (lbs)],MATCH(I78,SignalHeads[Code],0))))","v":0},{"$f":"IF(A78<=$I$8,INDEX(DesignConstants[Value],MATCH(\"Span Wire Weight (plf)\",DesignConstants[Design Constant],0)),0)","v":1.155},0,60.637500000000003,{"$error":"#VALUE!"},{"$error":"#VALUE!"},{"$error":"#N/A"},{"$error":"#N/A"},{"$f":"SUM(IF(B78=\"\",0,INDEX(SignalHeads[Height ** (feet)],MATCH(B78,SignalHeads[Code],0))),IF(D78=\"\",0,INDEX(SignalHeads[Height ** (feet)],MATCH(D78,SignalHeads[Code],0))),IF(E78=\"\",0,INDEX(SignalHeads[Height ** (feet)],MATCH(E78,SignalHeads[Code],0))),IF(F78=\"\",0,INDEX(SignalHeads[Height ** (feet)],MATCH(F78,SignalHeads[Code],0))),IF(G78=\"\",0,INDEX(SignalHeads[Height ** (feet)],MATCH(G78,SignalHeads[Code],0))),IF(H78=\"\",0,INDEX(SignalHeads[Height ** (feet)],MATCH(H78,SignalHeads[Code],0))),IF(I78=\"\",0,INDEX(SignalHeads[Height ** (feet)],MATCH(I78,SignalHeads[Code],0))))","v":0},{"$f":"IF(S78=0,\"\",ROUNDDOWN(12*(((Q78-S78)-MIN($Q$26:$Q$425-$S$26:$S$425)-(MAX($S$26:$S$425*(($Q$26:$Q$425-$S$26:$S$425)=MIN($Q$26:$Q$425-$S$26:$S$425)))-S78))+(MIN($Q$26:$Q$425-$S$26:$S$425)-$I$10)),0)/12)","v":""},"",{"$error":"#N/A"},17]
[54,null,null,null,null,null,null,null,null,{"$f":"SUM(IF(B79=\"\",0,INDEX(SignalHeads[Perp. Wind Area (sft)],MATCH(B79,SignalHeads[Code],0))),IF(D79=\"\",0,INDEX(SignalHeads[Perp. Wind Area (sft)],MATCH(D79,SignalHeads[Code],0))),IF(E79=\"\",0,INDEX(SignalHeads[Perp. Wind Area (sft)],MATCH(E79,SignalHeads[Code],0))),IF(F79=\"\",0,INDEX(SignalHeads[Perp. Wind Area (sft)],MATCH(F79,SignalHeads[Code],0))),IF(G79=\"\",0,INDEX(SignalHeads[Perp. Wind Area (sft)],MATCH(G79,SignalHeads[Code],0))),IF(H79=\"\",0,INDEX(SignalHeads[Perp. Wind Area (sft)],MATCH(H79,SignalHeads[Code],0))),IF(I79=\"\",0,INDEX(SignalHeads[Perp. Wind Area (sft)],MATCH(I79,SignalHeads[Code],0))))","v":0},{"$f":"SUM(IF(B79=\"\",0,INDEX(SignalHeads[Weight*** (lbs)],MATCH(B79,SignalHeads[Code],0))),IF(D79=\"\",0,INDEX(SignalHeads[Weight*** (lbs)],MATCH(D79,SignalHeads[Code],0))),IF(E79=\"\",0,INDEX(SignalHeads[Weight*** (lbs)],MATCH(E79,SignalHeads[Code],0))),IF(F79=\"\",0,INDEX(SignalHeads[Weight*** (lbs)],MATCH(F79,SignalHeads[Code],0))),IF(G79=\"\",0,INDEX(SignalHeads[Weight*** (lbs)],MATCH(G79,SignalHeads[Code],0))),IF(H79=\"\",0,INDEX(SignalHeads[Weight*** (lbs)],MATCH(H79,SignalHeads[Code],0))),IF(I79=\"\",0,INDEX(SignalHeads[Weight*** (lbs)],MATCH(I79,SignalHeads[Code],0))))","v":0},{"$f":"IF(A79<=$I$8,INDEX(DesignConstants[Value],MATCH(\"Span Wire Weight (plf)\",DesignConstants[Design Constant],0)),0)","v":1.155},0,61.792500000000004,{"$error":"#VALUE!"},{"$error":"#VALUE!"},{"$error":"#N/A"},{"$error":"#N/A"},{"$f":"SUM(IF(B79=\"\",0,INDEX(SignalHeads[Height ** (feet)],MATCH(B79,SignalHeads[Code],0))),IF(D79=\"\",0,INDEX(SignalHeads[Height ** (feet)],MATCH(D79,SignalHeads[Code],0))),IF(E79=\"\",0,INDEX(SignalHeads[Height ** (feet)],MATCH(E79,SignalHeads[Code],0))),IF(F79=\"\",0,INDEX(SignalHeads[Height ** (feet)],MATCH(F79,SignalHeads[Code],0))),IF(G79=\"\",0,INDEX(SignalHeads[Height ** (feet)],MATCH(G79,SignalHeads[Code],0))),IF(H79=\"\",0,INDEX(SignalHeads[Height ** (feet)],MATCH(H79,SignalHeads[Code],0))),IF(I79=\"\",0,INDEX(SignalHeads[Height ** (feet)],MATCH(I79,SignalHeads[Code],0))))","v":0},{"$f":"IF(S79=0,\"\",ROUNDDOWN(12*(((Q79-S79)-MIN($Q$26:$Q$425-$S$26:$S$425)-(MAX($S$26:$S$425*(($Q$26:$Q$425-$S$26:$S$425)=MIN($Q$26:$Q$425-$S$26:$S$425)))-S79))+(MIN($Q$26:$Q$425-$S$26:$S$425)-$I$10)),0)/12)","v":""},"",{"$error":"#N/A"},17]
[55,null,null,null,null,null,null,null,null,{"$f":"SUM(IF(B80=\"\",0,INDEX(SignalHeads[Perp. Wind Area (sft)],MATCH(B80,SignalHeads[Code],0))),IF(D80=\"\",0,INDEX(SignalHeads[Perp. Wind Area (sft)],MATCH(D80,SignalHeads[Code],0))),IF(E80=\"\",0,INDEX(SignalHeads[Perp. Wind Area (sft)],MATCH(E80,SignalHeads[Code],0))),IF(F80=\"\",0,INDEX(SignalHeads[Perp. Wind Area (sft)],MATCH(F80,SignalHeads[Code],0))),IF(G80=\"\",0,INDEX(SignalHeads[Perp. Wind Area (sft)],MATCH(G80,SignalHeads[Code],0))),IF(H80=\"\",0,INDEX(SignalHeads[Perp. Wind Area (sft)],MATCH(H80,SignalHeads[Code],0))),IF(I80=\"\",0,INDEX(SignalHeads[Perp. Wind Area (sft)],MATCH(I80,SignalHeads[Code],0))))","v":0},{"$f":"SUM(IF(B80=\"\",0,INDEX(SignalHeads[Weight*** (lbs)],MATCH(B80,SignalHeads[Code],0))),IF(D80=\"\",0,INDEX(SignalHeads[Weight*** (lbs)],MATCH(D80,SignalHeads[Code],0))),IF(E80=\"\",0,INDEX(SignalHeads[Weight*** (lbs)],MATCH(E80,SignalHeads[Code],0))),IF(F80=\"\",0,INDEX(SignalHeads[Weight*** (lbs)],MATCH(F80,SignalHeads[Code],0))),IF(G80=\"\",0,INDEX(SignalHeads[Weight*** (lbs)],MATCH(G80,SignalHeads[Code],0))),IF(H80=\"\",0,INDEX(SignalHeads[Weight*** (lbs)],MATCH(H80,SignalHeads[Code],0))),IF(I80=\"\",0,INDEX(SignalHeads[Weight*** (lbs)],MATCH(I80,SignalHeads[Code],0))))","v":0},{"$f":"IF(A80<=$I$8,INDEX(DesignConstants[Value],MATCH(\"Span Wire Weight (plf)\",DesignConstants[Design Constant],0)),0)","v":1.155},0,62.947499999999998,{"$error":"#VALUE!"},{"$error":"#VALUE!"},{"$error":"#N/A"},{"$error":"#N/A"},{"$f":"SUM(IF(B80=\"\",0,INDEX(SignalHeads[Height ** (feet)],MATCH(B80,SignalHeads[Code],0))),IF(D80=\"\",0,INDEX(SignalHeads[Height ** (feet)],MATCH(D80,SignalHeads[Code],0))),IF(E80=\"\",0,INDEX(SignalHeads[Height ** (feet)],MATCH(E80,SignalHeads[Code],0))),IF(F80=\"\",0,INDEX(SignalHeads[Height ** (feet)],MATCH(F80,SignalHeads[Code],0))),IF(G80=\"\",0,INDEX(SignalHeads[Height ** (feet)],MATCH(G80,SignalHeads[Code],0))),IF(H80=\"\",0,INDEX(SignalHeads[Height ** (feet)],MATCH(H80,SignalHeads[Code],0))),IF(I80=\"\",0,INDEX(SignalHeads[Height ** (feet)],MATCH(I80,SignalHeads[Code],0))))","v":0},{"$f":"IF(S80=0,\"\",ROUNDDOWN(12*(((Q80-S80)-MIN($Q$26:$Q$425-$S$26:$S$425)-(MAX($S$26:$S$425*(($Q$26:$Q$425-$S$26:$S$425)=MIN($Q$26:$Q$425-$S$26:$S$425)))-S80))+(MIN($Q$26:$Q$425-$S$26:$S$425)-$I$10)),0)/12)","v":""},"",{"$error":"#N/A"},17]
[56,null,null,null,null,null,null,null,null,{"$f":"SUM(IF(B81=\"\",0,INDEX(SignalHeads[Perp. Wind Area (sft)],MATCH(B81,SignalHeads[Code],0))),IF(D81=\"\",0,INDEX(SignalHeads[Perp. Wind Area (sft)],MATCH(D81,SignalHeads[Code],0))),IF(E81=\"\",0,INDEX(SignalHeads[Perp. Wind Area (sft)],MATCH(E81,SignalHeads[Code],0))),IF(F81=\"\",0,INDEX(SignalHeads[Perp. Wind Area (sft)],MATCH(F81,SignalHeads[Code],0))),IF(G81=\"\",0,INDEX(SignalHeads[Perp. Wind Area (sft)],MATCH(G81,SignalHeads[Code],0))),IF(H81=\"\",0,INDEX(SignalHeads[Perp. Wind Area (sft)],MATCH(H81,SignalHeads[Code],0))),IF(I81=\"\",0,INDEX(SignalHeads[Perp. Wind Area (sft)],MATCH(I81,SignalHeads[Code],0))))","v":0},{"$f":"SUM(IF(B81=\"\",0,INDEX(SignalHeads[Weight*** (lbs)],MATCH(B81,SignalHeads[Code],0))),IF(D81=\"\",0,INDEX(SignalHeads[Weight*** (lbs)],MATCH(D81,SignalHeads[Code],0))),IF(E81=\"\",0,INDEX(SignalHeads[Weight*** (lbs)],MATCH(E81,SignalHeads[Code],0))),IF(F81=\"\",0,INDEX(SignalHeads[Weight*** (lbs)],MATCH(F81,SignalHeads[Code],0))),IF(G81=\"\",0,INDEX(SignalHeads[Weight*** (lbs)],MATCH(G81,SignalHeads[Code],0))),IF(H81=\"\",0,INDEX(SignalHeads[Weight*** (lbs)],MATCH(H81,SignalHeads[Code],0))),IF(I81=\"\",0,INDEX(SignalHeads[Weight*** (lbs)],MATCH(I81,SignalHeads[Code],0))))","v":0},{"$f":"IF(A81<=$I$8,INDEX(DesignConstants[Value],MATCH(\"Span Wire Weight (plf)\",DesignConstants[Design Constant],0)),0)","v":1.155},0,64.102500000000006,{"$error":"#VALUE!"},{"$error":"#VALUE!"},{"$error":"#N/A"},{"$error":"#N/A"},{"$f":"SUM(IF(B81=\"\",0,INDEX(SignalHeads[Height ** (feet)],MATCH(B81,SignalHeads[Code],0))),IF(D81=\"\",0,INDEX(SignalHeads[Height ** (feet)],MATCH(D81,SignalHeads[Code],0))),IF(E81=\"\",0,INDEX(SignalHeads[Height ** (feet)],MATCH(E81,SignalHeads[Code],0))),IF(F81=\"\",0,INDEX(SignalHeads[Height ** (feet)],MATCH(F81,SignalHeads[Code],0))),IF(G81=\"\",0,INDEX(SignalHeads[Height ** (feet)],MATCH(G81,SignalHeads[Code],0))),IF(H81=\"\",0,INDEX(SignalHeads[Height ** (feet)],MATCH(H81,SignalHeads[Code],0))),IF(I81=\"\",0,INDEX(SignalHeads[Height ** (feet)],MATCH(I81,SignalHeads[Code],0))))","v":0},{"$f":"IF(S81=0,\"\",ROUNDDOWN(12*(((Q81-S81)-MIN($Q$26:$Q$425-$S$26:$S$425)-(MAX($S$26:$S$425*(($Q$26:$Q$425-$S$26:$S$425)=MIN($Q$26:$Q$425-$S$26:$S$425)))-S81))+(MIN($Q$26:$Q$425-$S$26:$S$425)-$I$10)),0)/12)","v":""},"",{"$error":"#N/A"},17]
[57,null,null,null,null,null,null,null,null,{"$f":"SUM(IF(B82=\"\",0,INDEX(SignalHeads[Perp. Wind Area (sft)],MATCH(B82,SignalHeads[Code],0))),IF(D82=\"\",0,INDEX(SignalHeads[Perp. Wind Area (sft)],MATCH(D82,SignalHeads[Code],0))),IF(E82=\"\",0,INDEX(SignalHeads[Perp. Wind Area (sft)],MATCH(E82,SignalHeads[Code],0))),IF(F82=\"\",0,INDEX(SignalHeads[Perp. Wind Area (sft)],MATCH(F82,SignalHeads[Code],0))),IF(G82=\"\",0,INDEX(SignalHeads[Perp. Wind Area (sft)],MATCH(G82,SignalHeads[Code],0))),IF(H82=\"\",0,INDEX(SignalHeads[Perp. Wind Area (sft)],MATCH(H82,SignalHeads[Code],0))),IF(I82=\"\",0,INDEX(SignalHeads[Perp. Wind Area (sft)],MATCH(I82,SignalHeads[Code],0))))","v":0},{"$f":"SUM(IF(B82=\"\",0,INDEX(SignalHeads[Weight*** (lbs)],MATCH(B82,SignalHeads[Code],0))),IF(D82=\"\",0,INDEX(SignalHeads[Weight*** (lbs)],MATCH(D82,SignalHeads[Code],0))),IF(E82=\"\",0,INDEX(SignalHeads[Weight*** (lbs)],MATCH(E82,SignalHeads[Code],0))),IF(F82=\"\",0,INDEX(SignalHeads[Weight*** (lbs)],MATCH(F82,SignalHeads[Code],0))),IF(G82=\"\",0,INDEX(SignalHeads[Weight*** (lbs)],MATCH(G82,SignalHeads[Code],0))),IF(H82=\"\",0,INDEX(SignalHeads[Weight*** (lbs)],MATCH(H82,SignalHeads[Code],0))),IF(I82=\"\",0,INDEX(SignalHeads[Weight*** (lbs)],MATCH(I82,SignalHeads[Code],0))))","v":0},{"$f":"IF(A82<=$I$8,INDEX(DesignConstants[Value],MATCH(\"Span Wire Weight (plf)\",DesignConstants[Design Constant],0)),0)","v":1.155},0,65.257500000000007,{"$error":"#VALUE!"},{"$error":"#VALUE!"},{"$error":"#N/A"},{"$error":"#N/A"},{"$f":"SUM(IF(B82=\"\",0,INDEX(SignalHeads[Height ** (feet)],MATCH(B82,SignalHeads[Code],0))),IF(D82=\"\",0,INDEX(SignalHeads[Height ** (feet)],MATCH(D82,SignalHeads[Code],0))),IF(E82=\"\",0,INDEX(SignalHeads[Height ** (feet)],MATCH(E82,SignalHeads[Code],0))),IF(F82=\"\",0,INDEX(SignalHeads[Height ** (feet)],MATCH(F82,SignalHeads[Code],0))),IF(G82=\"\",0,INDEX(SignalHeads[Height ** (feet)],MATCH(G82,SignalHeads[Code],0))),IF(H82=\"\",0,INDEX(SignalHeads[Height ** (feet)],MATCH(H82,SignalHeads[Code],0))),IF(I82=\"\",0,INDEX(SignalHeads[Height ** (feet)],MATCH(I82,SignalHeads[Code],0))))","v":0},{"$f":"IF(S82=0,\"\",ROUNDDOWN(12*(((Q82-S82)-MIN($Q$26:$Q$425-$S$26:$S$425)-(MAX($S$26:$S$425*(($Q$26:$Q$425-$S$26:$S$425)=MIN($Q$26:$Q$425-$S$26:$S$425)))-S82))+(MIN($Q$26:$Q$425-$S$26:$S$425)-$I$10)),0)/12)","v":""},"",{"$error":"#N/A"},17]
[58,null,null,null,null,null,null,null,null,{"$f":"SUM(IF(B83=\"\",0,INDEX(SignalHeads[Perp. Wind Area (sft)],MATCH(B83,SignalHeads[Code],0))),IF(D83=\"\",0,INDEX(SignalHeads[Perp. Wind Area (sft)],MATCH(D83,SignalHeads[Code],0))),IF(E83=\"\",0,INDEX(SignalHeads[Perp. Wind Area (sft)],MATCH(E83,SignalHeads[Code],0))),IF(F83=\"\",0,INDEX(SignalHeads[Perp. Wind Area (sft)],MATCH(F83,SignalHeads[Code],0))),IF(G83=\"\",0,INDEX(SignalHeads[Perp. Wind Area (sft)],MATCH(G83,SignalHeads[Code],0))),IF(H83=\"\",0,INDEX(SignalHeads[Perp. Wind Area (sft)],MATCH(H83,SignalHeads[Code],0))),IF(I83=\"\",0,INDEX(SignalHeads[Perp. Wind Area (sft)],MATCH(I83,SignalHeads[Code],0))))","v":0},{"$f":"SUM(IF(B83=\"\",0,INDEX(SignalHeads[Weight*** (lbs)],MATCH(B83,SignalHeads[Code],0))),IF(D83=\"\",0,INDEX(SignalHeads[Weight*** (lbs)],MATCH(D83,SignalHeads[Code],0))),IF(E83=\"\",0,INDEX(SignalHeads[Weight*** (lbs)],MATCH(E83,SignalHeads[Code],0))),IF(F83=\"\",0,INDEX(SignalHeads[Weight*** (lbs)],MATCH(F83,SignalHeads[Code],0))),IF(G83=\"\",0,INDEX(SignalHeads[Weight*** (lbs)],MATCH(G83,SignalHeads[Code],0))),IF(H83=\"\",0,INDEX(SignalHeads[Weight*** (lbs)],MATCH(H83,SignalHeads[Code],0))),IF(I83=\"\",0,INDEX(SignalHeads[Weight*** (lbs)],MATCH(I83,SignalHeads[Code],0))))","v":0},{"$f":"IF(A83<=$I$8,INDEX(DesignConstants[Value],MATCH(\"Span Wire Weight (plf)\",DesignConstants[Design Constant],0)),0)","v":1.155},0,66.412500000000009,{"$error":"#VALUE!"},{"$error":"#VALUE!"},{"$error":"#N/A"},{"$error":"#N/A"},{"$f":"SUM(IF(B83=\"\",0,INDEX(SignalHeads[Height ** (feet)],MATCH(B83,SignalHeads[Code],0))),IF(D83=\"\",0,INDEX(SignalHeads[Height ** (feet)],MATCH(D83,SignalHeads[Code],0))),IF(E83=\"\",0,INDEX(SignalHeads[Height ** (feet)],MATCH(E83,SignalHeads[Code],0))),IF(F83=\"\",0,INDEX(SignalHeads[Height ** (feet)],MATCH(F83,SignalHeads[Code],0))),IF(G83=\"\",0,INDEX(SignalHeads[Height ** (feet)],MATCH(G83,SignalHeads[Code],0))),IF(H83=\"\",0,INDEX(SignalHeads[Height ** (feet)],MATCH(H83,SignalHeads[Code],0))),IF(I83=\"\",0,INDEX(SignalHeads[Height ** (feet)],MATCH(I83,SignalHeads[Code],0))))","v":0},{"$f":"IF(S83=0,\"\",ROUNDDOWN(12*(((Q83-S83)-MIN($Q$26:$Q$425-$S$26:$S$425)-(MAX($S$26:$S$425*(($Q$26:$Q$425-$S$26:$S$425)=MIN($Q$26:$Q$425-$S$26:$S$425)))-S83))+(MIN($Q$26:$Q$425-$S$26:$S$425)-$I$10)),0)/12)","v":""},"",{"$error":"#N/A"},17]
[59,null,null,null,null,null,null,null,null,{"$f":"SUM(IF(B84=\"\",0,INDEX(SignalHeads[Perp. Wind Area (sft)],MATCH(B84,SignalHeads[Code],0))),IF(D84=\"\",0,INDEX(SignalHeads[Perp. Wind Area (sft)],MATCH(D84,SignalHeads[Code],0))),IF(E84=\"\",0,INDEX(SignalHeads[Perp. Wind Area (sft)],MATCH(E84,SignalHeads[Code],0))),IF(F84=\"\",0,INDEX(SignalHeads[Perp. Wind Area (sft)],MATCH(F84,SignalHeads[Code],0))),IF(G84=\"\",0,INDEX(SignalHeads[Perp. Wind Area (sft)],MATCH(G84,SignalHeads[Code],0))),IF(H84=\"\",0,INDEX(SignalHeads[Perp. Wind Area (sft)],MATCH(H84,SignalHeads[Code],0))),IF(I84=\"\",0,INDEX(SignalHeads[Perp. Wind Area (sft)],MATCH(I84,SignalHeads[Code],0))))","v":0},{"$f":"SUM(IF(B84=\"\",0,INDEX(SignalHeads[Weight*** (lbs)],MATCH(B84,SignalHeads[Code],0))),IF(D84=\"\",0,INDEX(SignalHeads[Weight*** (lbs)],MATCH(D84,SignalHeads[Code],0))),IF(E84=\"\",0,INDEX(SignalHeads[Weight*** (lbs)],MATCH(E84,SignalHeads[Code],0))),IF(F84=\"\",0,INDEX(SignalHeads[Weight*** (lbs)],MATCH(F84,SignalHeads[Code],0))),IF(G84=\"\",0,INDEX(SignalHeads[Weight*** (lbs)],MATCH(G84,SignalHeads[Code],0))),IF(H84=\"\",0,INDEX(SignalHeads[Weight*** (lbs)],MATCH(H84,SignalHeads[Code],0))),IF(I84=\"\",0,INDEX(SignalHeads[Weight*** (lbs)],MATCH(I84,SignalHeads[Code],0))))","v":0},{"$f":"IF(A84<=$I$8,INDEX(DesignConstants[Value],MATCH(\"Span Wire Weight (plf)\",DesignConstants[Design Constant],0)),0)","v":1.155},0,67.567499999999995,{"$error":"#VALUE!"},{"$error":"#VALUE!"},{"$error":"#N/A"},{"$error":"#N/A"},{"$f":"SUM(IF(B84=\"\",0,INDEX(SignalHeads[Height ** (feet)],MATCH(B84,SignalHeads[Code],0))),IF(D84=\"\",0,INDEX(SignalHeads[Height ** (feet)],MATCH(D84,SignalHeads[Code],0))),IF(E84=\"\",0,INDEX(SignalHeads[Height ** (feet)],MATCH(E84,SignalHeads[Code],0))),IF(F84=\"\",0,INDEX(SignalHeads[Height ** (feet)],MATCH(F84,SignalHeads[Code],0))),IF(G84=\"\",0,INDEX(SignalHeads[Height ** (feet)],MATCH(G84,SignalHeads[Code],0))),IF(H84=\"\",0,INDEX(SignalHeads[Height ** (feet)],MATCH(H84,SignalHeads[Code],0))),IF(I84=\"\",0,INDEX(SignalHeads[Height ** (feet)],MATCH(I84,SignalHeads[Code],0))))","v":0},{"$f":"IF(S84=0,\"\",ROUNDDOWN(12*(((Q84-S84)-MIN($Q$26:$Q$425-$S$26:$S$425)-(MAX($S$26:$S$425*(($Q$26:$Q$425-$S$26:$S$425)=MIN($Q$26:$Q$425-$S$26:$S$425)))-S84))+(MIN($Q$26:$Q$425-$S$26:$S$425)-$I$10)),0)/12)","v":""},"",{"$error":"#N/A"},17]
[60,null,null,null,null,null,null,null,null,{"$f":"SUM(IF(B85=\"\",0,INDEX(SignalHeads[Perp. Wind Area (sft)],MATCH(B85,SignalHeads[Code],0))),IF(D85=\"\",0,INDEX(SignalHeads[Perp. Wind Area (sft)],MATCH(D85,SignalHeads[Code],0))),IF(E85=\"\",0,INDEX(SignalHeads[Perp. Wind Area (sft)],MATCH(E85,SignalHeads[Code],0))),IF(F85=\"\",0,INDEX(SignalHeads[Perp. Wind Area (sft)],MATCH(F85,SignalHeads[Code],0))),IF(G85=\"\",0,INDEX(SignalHeads[Perp. Wind Area (sft)],MATCH(G85,SignalHeads[Code],0))),IF(H85=\"\",0,INDEX(SignalHeads[Perp. Wind Area (sft)],MATCH(H85,SignalHeads[Code],0))),IF(I85=\"\",0,INDEX(SignalHeads[Perp. Wind Area (sft)],MATCH(I85,SignalHeads[Code],0))))","v":0},{"$f":"SUM(IF(B85=\"\",0,INDEX(SignalHeads[Weight*** (lbs)],MATCH(B85,SignalHeads[Code],0))),IF(D85=\"\",0,INDEX(SignalHeads[Weight*** (lbs)],MATCH(D85,SignalHeads[Code],0))),IF(E85=\"\",0,INDEX(SignalHeads[Weight*** (lbs)],MATCH(E85,SignalHeads[Code],0))),IF(F85=\"\",0,INDEX(SignalHeads[Weight*** (lbs)],MATCH(F85,SignalHeads[Code],0))),IF(G85=\"\",0,INDEX(SignalHeads[Weight*** (lbs)],MATCH(G85,SignalHeads[Code],0))),IF(H85=\"\",0,INDEX(SignalHeads[Weight*** (lbs)],MATCH(H85,SignalHeads[Code],0))),IF(I85=\"\",0,INDEX(SignalHeads[Weight*** (lbs)],MATCH(I85,SignalHeads[Code],0))))","v":0},{"$f":"IF(A85<=$I$8,INDEX(DesignConstants[Value],MATCH(\"Span Wire Weight (plf)\",DesignConstants[Design Constant],0)),0)","v":1.155},0,68.722499999999997,{"$error":"#VALUE!"},{"$error":"#VALUE!"},{"$error":"#N/A"},{"$error":"#N/A"},{"$f":"SUM(IF(B85=\"\",0,INDEX(SignalHeads[Height ** (feet)],MATCH(B85,SignalHeads[Code],0))),IF(D85=\"\",0,INDEX(SignalHeads[Height ** (feet)],MATCH(D85,SignalHeads[Code],0))),IF(E85=\"\",0,INDEX(SignalHeads[Height ** (feet)],MATCH(E85,SignalHeads[Code],0))),IF(F85=\"\",0,INDEX(SignalHeads[Height ** (feet)],MATCH(F85,SignalHeads[Code],0))),IF(G85=\"\",0,INDEX(SignalHeads[Height ** (feet)],MATCH(G85,SignalHeads[Code],0))),IF(H85=\"\",0,INDEX(SignalHeads[Height ** (feet)],MATCH(H85,SignalHeads[Code],0))),IF(I85=\"\",0,INDEX(SignalHeads[Height ** (feet)],MATCH(I85,SignalHeads[Code],0))))","v":0},{"$f":"IF(S85=0,\"\",ROUNDDOWN(12*(((Q85-S85)-MIN($Q$26:$Q$425-$S$26:$S$425)-(MAX($S$26:$S$425*(($Q$26:$Q$425-$S$26:$S$425)=MIN($Q$26:$Q$425-$S$26:$S$425)))-S85))+(MIN($Q$26:$Q$425-$S$26:$S$425)-$I$10)),0)/12)","v":""},"",{"$error":"#N/A"},17]
[61,null,null,null,null,null,null,null,null,{"$f":"SUM(IF(B86=\"\",0,INDEX(SignalHeads[Perp. Wind Area (sft)],MATCH(B86,SignalHeads[Code],0))),IF(D86=\"\",0,INDEX(SignalHeads[Perp. Wind Area (sft)],MATCH(D86,SignalHeads[Code],0))),IF(E86=\"\",0,INDEX(SignalHeads[Perp. Wind Area (sft)],MATCH(E86,SignalHeads[Code],0))),IF(F86=\"\",0,INDEX(SignalHeads[Perp. Wind Area (sft)],MATCH(F86,SignalHeads[Code],0))),IF(G86=\"\",0,INDEX(SignalHeads[Perp. Wind Area (sft)],MATCH(G86,SignalHeads[Code],0))),IF(H86=\"\",0,INDEX(SignalHeads[Perp. Wind Area (sft)],MATCH(H86,SignalHeads[Code],0))),IF(I86=\"\",0,INDEX(SignalHeads[Perp. Wind Area (sft)],MATCH(I86,SignalHeads[Code],0))))","v":0},{"$f":"SUM(IF(B86=\"\",0,INDEX(SignalHeads[Weight*** (lbs)],MATCH(B86,SignalHeads[Code],0))),IF(D86=\"\",0,INDEX(SignalHeads[Weight*** (lbs)],MATCH(D86,SignalHeads[Code],0))),IF(E86=\"\",0,INDEX(SignalHeads[Weight*** (lbs)],MATCH(E86,SignalHeads[Code],0))),IF(F86=\"\",0,INDEX(SignalHeads[Weight*** (lbs)],MATCH(F86,SignalHeads[Code],0))),IF(G86=\"\",0,INDEX(SignalHeads[Weight*** (lbs)],MATCH(G86,SignalHeads[Code],0))),IF(H86=\"\",0,INDEX(SignalHeads[Weight*** (lbs)],MATCH(H86,SignalHeads[Code],0))),IF(I86=\"\",0,INDEX(SignalHeads[Weight*** (lbs)],MATCH(I86,SignalHeads[Code],0))))","v":0},{"$f":"IF(A86<=$I$8,INDEX(DesignConstants[Value],MATCH(\"Span Wire Weight (plf)\",DesignConstants[Design Constant],0)),0)","v":1.155},0,69.877499999999998,{"$error":"#VALUE!"},{"$error":"#VALUE!"},{"$error":"#N/A"},{"$error":"#N/A"},{"$f":"SUM(IF(B86=\"\",0,INDEX(SignalHeads[Height ** (feet)],MATCH(B86,SignalHeads[Code],0))),IF(D86=\"\",0,INDEX(SignalHeads[Height ** (feet)],MATCH(D86,SignalHeads[Code],0))),IF(E86=\"\",0,INDEX(SignalHeads[Height ** (feet)],MATCH(E86,SignalHeads[Code],0))),IF(F86=\"\",0,INDEX(SignalHeads[Height ** (feet)],MATCH(F86,SignalHeads[Code],0))),IF(G86=\"\",0,INDEX(SignalHeads[Height ** (feet)],MATCH(G86,SignalHeads[Code],0))),IF(H86=\"\",0,INDEX(SignalHeads[Height ** (feet)],MATCH(H86,SignalHeads[Code],0))),IF(I86=\"\",0,INDEX(SignalHeads[Height ** (feet)],MATCH(I86,SignalHeads[Code],0))))","v":0},{"$f":"IF(S86=0,\"\",ROUNDDOWN(12*(((Q86-S86)-MIN($Q$26:$Q$425-$S$26:$S$425)-(MAX($S$26:$S$425*(($Q$26:$Q$425-$S$26:$S$425)=MIN($Q$26:$Q$425-$S$26:$S$425)))-S86))+(MIN($Q$26:$Q$425-$S$26:$S$425)-$I$10)),0)/12)","v":""},"",{"$error":"#N/A"},17]
[62,null,null,null,null,null,null,null,null,{"$f":"SUM(IF(B87=\"\",0,INDEX(SignalHeads[Perp. Wind Area (sft)],MATCH(B87,SignalHeads[Code],0))),IF(D87=\"\",0,INDEX(SignalHeads[Perp. Wind Area (sft)],MATCH(D87,SignalHeads[Code],0))),IF(E87=\"\",0,INDEX(SignalHeads[Perp. Wind Area (sft)],MATCH(E87,SignalHeads[Code],0))),IF(F87=\"\",0,INDEX(SignalHeads[Perp. Wind Area (sft)],MATCH(F87,SignalHeads[Code],0))),IF(G87=\"\",0,INDEX(SignalHeads[Perp. Wind Area (sft)],MATCH(G87,SignalHeads[Code],0))),IF(H87=\"\",0,INDEX(SignalHeads[Perp. Wind Area (sft)],MATCH(H87,SignalHeads[Code],0))),IF(I87=\"\",0,INDEX(SignalHeads[Perp. Wind Area (sft)],MATCH(I87,SignalHeads[Code],0))))","v":0},{"$f":"SUM(IF(B87=\"\",0,INDEX(SignalHeads[Weight*** (lbs)],MATCH(B87,SignalHeads[Code],0))),IF(D87=\"\",0,INDEX(SignalHeads[Weight*** (lbs)],MATCH(D87,SignalHeads[Code],0))),IF(E87=\"\",0,INDEX(SignalHeads[Weight*** (lbs)],MATCH(E87,SignalHeads[Code],0))),IF(F87=\"\",0,INDEX(SignalHeads[Weight*** (lbs)],MATCH(F87,SignalHeads[Code],0))),IF(G87=\"\",0,INDEX(SignalHeads[Weight*** (lbs)],MATCH(G87,SignalHeads[Code],0))),IF(H87=\"\",0,INDEX(SignalHeads[Weight*** (lbs)],MATCH(H87,SignalHeads[Code],0))),IF(I87=\"\",0,INDEX(SignalHeads[Weight*** (lbs)],MATCH(I87,SignalHeads[Code],0))))","v":0},{"$f":"IF(A87<=$I$8,INDEX(DesignConstants[Value],MATCH(\"Span Wire Weight (plf)\",DesignConstants[Design Constant],0)),0)","v":1.155},0,71.032499999999999,{"$error":"#VALUE!"},{"$error":"#VALUE!"},{"$error":"#N/A"},{"$error":"#N/A"},{"$f":"SUM(IF(B87=\"\",0,INDEX(SignalHeads[Height ** (feet)],MATCH(B87,SignalHeads[Code],0))),IF(D87=\"\",0,INDEX(SignalHeads[Height ** (feet)],MATCH(D87,SignalHeads[Code],0))),IF(E87=\"\",0,INDEX(SignalHeads[Height ** (feet)],MATCH(E87,SignalHeads[Code],0))),IF(F87=\"\",0,INDEX(SignalHeads[Height ** (feet)],MATCH(F87,SignalHeads[Code],0))),IF(G87=\"\",0,INDEX(SignalHeads[Height ** (feet)],MATCH(G87,SignalHeads[Code],0))),IF(H87=\"\",0,INDEX(SignalHeads[Height ** (feet)],MATCH(H87,SignalHeads[Code],0))),IF(I87=\"\",0,INDEX(SignalHeads[Height ** (feet)],MATCH(I87,SignalHeads[Code],0))))","v":0},{"$f":"IF(S87=0,\"\",ROUNDDOWN(12*(((Q87-S87)-MIN($Q$26:$Q$425-$S$26:$S$425)-(MAX($S$26:$S$425*(($Q$26:$Q$425-$S$26:$S$425)=MIN($Q$26:$Q$425-$S$26:$S$425)))-S87))+(MIN($Q$26:$Q$425-$S$26:$S$425)-$I$10)),0)/12)","v":""},"",{"$error":"#N/A"},17]
[63,null,null,null,null,null,null,null,null,{"$f":"SUM(IF(B88=\"\",0,INDEX(SignalHeads[Perp. Wind Area (sft)],MATCH(B88,SignalHeads[Code],0))),IF(D88=\"\",0,INDEX(SignalHeads[Perp. Wind Area (sft)],MATCH(D88,SignalHeads[Code],0))),IF(E88=\"\",0,INDEX(SignalHeads[Perp. Wind Area (sft)],MATCH(E88,SignalHeads[Code],0))),IF(F88=\"\",0,INDEX(SignalHeads[Perp. Wind Area (sft)],MATCH(F88,SignalHeads[Code],0))),IF(G88=\"\",0,INDEX(SignalHeads[Perp. Wind Area (sft)],MATCH(G88,SignalHeads[Code],0))),IF(H88=\"\",0,INDEX(SignalHeads[Perp. Wind Area (sft)],MATCH(H88,SignalHeads[Code],0))),IF(I88=\"\",0,INDEX(SignalHeads[Perp. Wind Area (sft)],MATCH(I88,SignalHeads[Code],0))))","v":0},{"$f":"SUM(IF(B88=\"\",0,INDEX(SignalHeads[Weight*** (lbs)],MATCH(B88,SignalHeads[Code],0))),IF(D88=\"\",0,INDEX(SignalHeads[Weight*** (lbs)],MATCH(D88,SignalHeads[Code],0))),IF(E88=\"\",0,INDEX(SignalHeads[Weight*** (lbs)],MATCH(E88,SignalHeads[Code],0))),IF(F88=\"\",0,INDEX(SignalHeads[Weight*** (lbs)],MATCH(F88,SignalHeads[Code],0))),IF(G88=\"\",0,INDEX(SignalHeads[Weight*** (lbs)],MATCH(G88,SignalHeads[Code],0))),IF(H88=\"\",0,INDEX(SignalHeads[Weight*** (lbs)],MATCH(H88,SignalHeads[Code],0))),IF(I88=\"\",0,INDEX(SignalHeads[Weight*** (lbs)],MATCH(I88,SignalHeads[Code],0))))","v":0},{"$f":"IF(A88<=$I$8,INDEX(DesignConstants[Value],MATCH(\"Span Wire Weight (plf)\",DesignConstants[Design Constant],0)),0)","v":1.155},0,72.1875,{"$error":"#VALUE!"},{"$error":"#VALUE!"},{"$error":"#N/A"},{"$error":"#N/A"},{"$f":"SUM(IF(B88=\"\",0,INDEX(SignalHeads[Height ** (feet)],MATCH(B88,SignalHeads[Code],0))),IF(D88=\"\",0,INDEX(SignalHeads[Height ** (feet)],MATCH(D88,SignalHeads[Code],0))),IF(E88=\"\",0,INDEX(SignalHeads[Height ** (feet)],MATCH(E88,SignalHeads[Code],0))),IF(F88=\"\",0,INDEX(SignalHeads[Height ** (feet)],MATCH(F88,SignalHeads[Code],0))),IF(G88=\"\",0,INDEX(SignalHeads[Height ** (feet)],MATCH(G88,SignalHeads[Code],0))),IF(H88=\"\",0,INDEX(SignalHeads[Height ** (feet)],MATCH(H88,SignalHeads[Code],0))),IF(I88=\"\",0,INDEX(SignalHeads[Height ** (feet)],MATCH(I88,SignalHeads[Code],0))))","v":0},{"$f":"IF(S88=0,\"\",ROUNDDOWN(12*(((Q88-S88)-MIN($Q$26:$Q$425-$S$26:$S$425)-(MAX($S$26:$S$425*(($Q$26:$Q$425-$S$26:$S$425)=MIN($Q$26:$Q$425-$S$26:$S$425)))-S88))+(MIN($Q$26:$Q$425-$S$26:$S$425)-$I$10)),0)/12)","v":""},"",{"$error":"#N/A"},17]
[64,null,null,null,null,null,null,null,null,{"$f":"SUM(IF(B89=\"\",0,INDEX(SignalHeads[Perp. Wind Area (sft)],MATCH(B89,SignalHeads[Code],0))),IF(D89=\"\",0,INDEX(SignalHeads[Perp. Wind Area (sft)],MATCH(D89,SignalHeads[Code],0))),IF(E89=\"\",0,INDEX(SignalHeads[Perp. Wind Area (sft)],MATCH(E89,SignalHeads[Code],0))),IF(F89=\"\",0,INDEX(SignalHeads[Perp. Wind Area (sft)],MATCH(F89,SignalHeads[Code],0))),IF(G89=\"\",0,INDEX(SignalHeads[Perp. Wind Area (sft)],MATCH(G89,SignalHeads[Code],0))),IF(H89=\"\",0,INDEX(SignalHeads[Perp. Wind Area (sft)],MATCH(H89,SignalHeads[Code],0))),IF(I89=\"\",0,INDEX(SignalHeads[Perp. Wind Area (sft)],MATCH(I89,SignalHeads[Code],0))))","v":0},{"$f":"SUM(IF(B89=\"\",0,INDEX(SignalHeads[Weight*** (lbs)],MATCH(B89,SignalHeads[Code],0))),IF(D89=\"\",0,INDEX(SignalHeads[Weight*** (lbs)],MATCH(D89,SignalHeads[Code],0))),IF(E89=\"\",0,INDEX(SignalHeads[Weight*** (lbs)],MATCH(E89,SignalHeads[Code],0))),IF(F89=\"\",0,INDEX(SignalHeads[Weight*** (lbs)],MATCH(F89,SignalHeads[Code],0))),IF(G89=\"\",0,INDEX(SignalHeads[Weight*** (lbs)],MATCH(G89,SignalHeads[Code],0))),IF(H89=\"\",0,INDEX(SignalHeads[Weight*** (lbs)],MATCH(H89,SignalHeads[Code],0))),IF(I89=\"\",0,INDEX(SignalHeads[Weight*** (lbs)],MATCH(I89,SignalHeads[Code],0))))","v":0},{"$f":"IF(A89<=$I$8,INDEX(DesignConstants[Value],MATCH(\"Span Wire Weight (plf)\",DesignConstants[Design Constant],0)),0)","v":1.155},0,73.342500000000001,{"$error":"#VALUE!"},{"$error":"#VALUE!"},{"$error":"#N/A"},{"$error":"#N/A"},{"$f":"SUM(IF(B89=\"\",0,INDEX(SignalHeads[Height ** (feet)],MATCH(B89,SignalHeads[Code],0))),IF(D89=\"\",0,INDEX(SignalHeads[Height ** (feet)],MATCH(D89,SignalHeads[Code],0))),IF(E89=\"\",0,INDEX(SignalHeads[Height ** (feet)],MATCH(E89,SignalHeads[Code],0))),IF(F89=\"\",0,INDEX(SignalHeads[Height ** (feet)],MATCH(F89,SignalHeads[Code],0))),IF(G89=\"\",0,INDEX(SignalHeads[Height ** (feet)],MATCH(G89,SignalHeads[Code],0))),IF(H89=\"\",0,INDEX(SignalHeads[Height ** (feet)],MATCH(H89,SignalHeads[Code],0))),IF(I89=\"\",0,INDEX(SignalHeads[Height ** (feet)],MATCH(I89,SignalHeads[Code],0))))","v":0},{"$f":"IF(S89=0,\"\",ROUNDDOWN(12*(((Q89-S89)-MIN($Q$26:$Q$425-$S$26:$S$425)-(MAX($S$26:$S$425*(($Q$26:$Q$425-$S$26:$S$425)=MIN($Q$26:$Q$425-$S$26:$S$425)))-S89))+(MIN($Q$26:$Q$425-$S$26:$S$425)-$I$10)),0)/12)","v":""},"",{"$error":"#N/A"},17]
[65,null,null,null,null,null,null,null,null,{"$f":"SUM(IF(B90=\"\",0,INDEX(SignalHeads[Perp. Wind Area (sft)],MATCH(B90,SignalHeads[Code],0))),IF(D90=\"\",0,INDEX(SignalHeads[Perp. Wind Area (sft)],MATCH(D90,SignalHeads[Code],0))),IF(E90=\"\",0,INDEX(SignalHeads[Perp. Wind Area (sft)],MATCH(E90,SignalHeads[Code],0))),IF(F90=\"\",0,INDEX(SignalHeads[Perp. Wind Area (sft)],MATCH(F90,SignalHeads[Code],0))),IF(G90=\"\",0,INDEX(SignalHeads[Perp. Wind Area (sft)],MATCH(G90,SignalHeads[Code],0))),IF(H90=\"\",0,INDEX(SignalHeads[Perp. Wind Area (sft)],MATCH(H90,SignalHeads[Code],0))),IF(I90=\"\",0,INDEX(SignalHeads[Perp. Wind Area (sft)],MATCH(I90,SignalHeads[Code],0))))","v":0},{"$f":"SUM(IF(B90=\"\",0,INDEX(SignalHeads[Weight*** (lbs)],MATCH(B90,SignalHeads[Code],0))),IF(D90=\"\",0,INDEX(SignalHeads[Weight*** (lbs)],MATCH(D90,SignalHeads[Code],0))),IF(E90=\"\",0,INDEX(SignalHeads[Weight*** (lbs)],MATCH(E90,SignalHeads[Code],0))),IF(F90=\"\",0,INDEX(SignalHeads[Weight*** (lbs)],MATCH(F90,SignalHeads[Code],0))),IF(G90=\"\",0,INDEX(SignalHeads[Weight*** (lbs)],MATCH(G90,SignalHeads[Code],0))),IF(H90=\"\",0,INDEX(SignalHeads[Weight*** (lbs)],MATCH(H90,SignalHeads[Code],0))),IF(I90=\"\",0,INDEX(SignalHeads[Weight*** (lbs)],MATCH(I90,SignalHeads[Code],0))))","v":0},{"$f":"IF(A90<=$I$8,INDEX(DesignConstants[Value],MATCH(\"Span Wire Weight (plf)\",DesignConstants[Design Constant],0)),0)","v":1.155},{"$f":"IF(K90=\"\",0,K90*A90)","v":0},{"$f":"L90*(A90-0.5)","v":74.497500000000002},{"$error":"#VALUE!"},{"$f":"(0.5*L90+O90+K90)/$I$4","v":{"$error":"#VALUE!"}},{"$error":"#N/A"},{"$f":"IF(A90>$I$8,0,(IFERROR(INDEX($S$13:$S$14,MATCH(MAX($S$11:$S$12),$S$11:$S$12,FALSE)),$S$8)-(IFERROR(INDEX($N$13:$N$14,MATCH(MAX($N$11:$N$12),$N$11:$N$12,FALSE)),$N$8)))/$I$18*A90+IFERROR(INDEX($N$13:$N$14,MATCH(MAX($N$11:$N$12),$N$11:$N$12,FALSE)),$N$8))","v":{"$error":"#N/A"}},{"$f":"SUM(IF(B90=\"\",0,INDEX(SignalHeads[Height ** (feet)],MATCH(B90,SignalHeads[Code],0))),IF(D90=\"\",0,INDEX(SignalHeads[Height ** (feet)],MATCH(D90,SignalHeads[Code],0))),IF(E90=\"\",0,INDEX(SignalHeads[Height ** (feet)],MATCH(E90,SignalHeads[Code],0))),IF(F90=\"\",0,INDEX(SignalHeads[Height ** (feet)],MATCH(F90,SignalHeads[Code],0))),IF(G90=\"\",0,INDEX(SignalHeads[Height ** (feet)],MATCH(G90,SignalHeads[Code],0))),IF(H90=\"\",0,INDEX(SignalHeads[Height ** (feet)],MATCH(H90,SignalHeads[Code],0))),IF(I90=\"\",0,INDEX(SignalHeads[Height ** (feet)],MATCH(I90,SignalHeads[Code],0))))","v":0},{"$f":"IF(S90=0,\"\",ROUNDDOWN(12*(((Q90-S90)-MIN($Q$26:$Q$425-$S$26:$S$425)-(MAX($S$26:$S$425*(($Q$26:$Q$425-$S$26:$S$425)=MIN($Q$26:$Q$425-$S$26:$S$425)))-S90))+(MIN($Q$26:$Q$425-$S$26:$S$425)-$I$10)),0)/12)","v":""},"",{"$error":"#N/A"},{"$f":"$I$10","v":17}]
[66,null,null,null,null,null,null,null,null,{"$f":"SUM(IF(B91=\"\",0,INDEX(SignalHeads[Perp. Wind Area (sft)],MATCH(B91,SignalHeads[Code],0))),IF(D91=\"\",0,INDEX(SignalHeads[Perp. Wind Area (sft)],MATCH(D91,SignalHeads[Code],0))),IF(E91=\"\",0,INDEX(SignalHeads[Perp. Wind Area (sft)],MATCH(E91,SignalHeads[Code],0))),IF(F91=\"\",0,INDEX(SignalHeads[Perp. Wind Area (sft)],MATCH(F91,SignalHeads[Code],0))),IF(G91=\"\",0,INDEX(SignalHeads[Perp. Wind Area (sft)],MATCH(G91,SignalHeads[Code],0))),IF(H91=\"\",0,INDEX(SignalHeads[Perp. Wind Area (sft)],MATCH(H91,SignalHeads[Code],0))),IF(I91=\"\",0,INDEX(SignalHeads[Perp. Wind Area (sft)],MATCH(I91,SignalHeads[Code],0))))","v":0},{"$f":"SUM(IF(B91=\"\",0,INDEX(SignalHeads[Weight*** (lbs)],MATCH(B91,SignalHeads[Code],0))),IF(D91=\"\",0,INDEX(SignalHeads[Weight*** (lbs)],MATCH(D91,SignalHeads[Code],0))),IF(E91=\"\",0,INDEX(SignalHeads[Weight*** (lbs)],MATCH(E91,SignalHeads[Code],0))),IF(F91=\"\",0,INDEX(SignalHeads[Weight*** (lbs)],MATCH(F91,SignalHeads[Code],0))),IF(G91=\"\",0,INDEX(SignalHeads[Weight*** (lbs)],MATCH(G91,SignalHeads[Code],0))),IF(H91=\"\",0,INDEX(SignalHeads[Weight*** (lbs)],MATCH(H91,SignalHeads[Code],0))),IF(I91=\"\",0,INDEX(SignalHeads[Weight*** (lbs)],MATCH(I91,SignalHeads[Code],0))))","v":0},{"$f":"IF(A91<=$I$8,INDEX(DesignConstants[Value],MATCH(\"Span Wire Weight (plf)\",DesignConstants[Design Constant],0)),0)","v":1.155},0,75.652500000000003,{"$f":"O90-K91-L91","v":{"$error":"#VALUE!"}},{"$error":"#VALUE!"},{"$f":"Q90-P91","v":{"$error":"#N/A"}},{"$error":"#N/A"},{"$f":"SUM(IF(B91=\"\",0,INDEX(SignalHeads[Height ** (feet)],MATCH(B91,SignalHeads[Code],0))),IF(D91=\"\",0,INDEX(SignalHeads[Height ** (feet)],MATCH(D91,SignalHeads[Code],0))),IF(E91=\"\",0,INDEX(SignalHeads[Height ** (feet)],MATCH(E91,SignalHeads[Code],0))),IF(F91=\"\",0,INDEX(SignalHeads[Height ** (feet)],MATCH(F91,SignalHeads[Code],0))),IF(G91=\"\",0,INDEX(SignalHeads[Height ** (feet)],MATCH(G91,SignalHeads[Code],0))),IF(H91=\"\",0,INDEX(SignalHeads[Height ** (feet)],MATCH(H91,SignalHeads[Code],0))),IF(I91=\"\",0,INDEX(SignalHeads[Height ** (feet)],MATCH(I91,SignalHeads[Code],0))))","v":0},{"$f":"IF(S91=0,\"\",ROUNDDOWN(12*(((Q91-S91)-MIN($Q$26:$Q$425-$S$26:$S$425)-(MAX($S$26:$S$425*(($Q$26:$Q$425-$S$26:$S$425)=MIN($Q$26:$Q$425-$S$26:$S$425)))-S91))+(MIN($Q$26:$Q$425-$S$26:$S$425)-$I$10)),0)/12)","v":""},{"$f":"IF(T91=\"\",\"\",INT(T91)&\"'-\"&ROUND((T91-INT(T91))*12,0)&\"\"\"\")","v":""},{"$f":"IF(A91<=$I$8,Q91-S91-IF(ISNUMBER(T91),T91,0),\"\")","v":{"$error":"#N/A"}},17]
[67,null,null,null,null,null,null,null,null,{"$f":"SUM(IF(B92=\"\",0,INDEX(SignalHeads[Perp. Wind Area (sft)],MATCH(B92,SignalHeads[Code],0))),IF(D92=\"\",0,INDEX(SignalHeads[Perp. Wind Area (sft)],MATCH(D92,SignalHeads[Code],0))),IF(E92=\"\",0,INDEX(SignalHeads[Perp. Wind Area (sft)],MATCH(E92,SignalHeads[Code],0))),IF(F92=\"\",0,INDEX(SignalHeads[Perp. Wind Area (sft)],MATCH(F92,SignalHeads[Code],0))),IF(G92=\"\",0,INDEX(SignalHeads[Perp. Wind Area (sft)],MATCH(G92,SignalHeads[Code],0))),IF(H92=\"\",0,INDEX(SignalHeads[Perp. Wind Area (sft)],MATCH(H92,SignalHeads[Code],0))),IF(I92=\"\",0,INDEX(SignalHeads[Perp. Wind Area (sft)],MATCH(I92,SignalHeads[Code],0))))","v":0},{"$f":"SUM(IF(B92=\"\",0,INDEX(SignalHeads[Weight*** (lbs)],MATCH(B92,SignalHeads[Code],0))),IF(D92=\"\",0,INDEX(SignalHeads[Weight*** (lbs)],MATCH(D92,SignalHeads[Code],0))),IF(E92=\"\",0,INDEX(SignalHeads[Weight*** (lbs)],MATCH(E92,SignalHeads[Code],0))),IF(F92=\"\",0,INDEX(SignalHeads[Weight*** (lbs)],MATCH(F92,SignalHeads[Code],0))),IF(G92=\"\",0,INDEX(SignalHeads[Weight*** (lbs)],MATCH(G92,SignalHeads[Code],0))),IF(H92=\"\",0,INDEX(SignalHeads[Weight*** (lbs)],MATCH(H92,SignalHeads[Code],0))),IF(I92=\"\",0,INDEX(SignalHeads[Weight*** (lbs)],MATCH(I92,SignalHeads[Code],0))))","v":0},{"$f":"IF(A92<=$I$8,INDEX(DesignConstants[Value],MATCH(\"Span Wire Weight (plf)\",DesignConstants[Design Constant],0)),0)","v":1.155},0,76.807500000000005,{"$error":"#VALUE!"},{"$error":"#VALUE!"},{"$error":"#N/A"},{"$error":"#N/A"},{"$f":"SUM(IF(B92=\"\",0,INDEX(SignalHeads[Height ** (feet)],MATCH(B92,SignalHeads[Code],0))),IF(D92=\"\",0,INDEX(SignalHeads[Height ** (feet)],MATCH(D92,SignalHeads[Code],0))),IF(E92=\"\",0,INDEX(SignalHeads[Height ** (feet)],MATCH(E92,SignalHeads[Code],0))),IF(F92=\"\",0,INDEX(SignalHeads[Height ** (feet)],MATCH(F92,SignalHeads[Code],0))),IF(G92=\"\",0,INDEX(SignalHeads[Height ** (feet)],MATCH(G92,SignalHeads[Code],0))),IF(H92=\"\",0,INDEX(SignalHeads[Height ** (feet)],MATCH(H92,SignalHeads[Code],0))),IF(I92=\"\",0,INDEX(SignalHeads[Height ** (feet)],MATCH(I92,SignalHeads[Code],0))))","v":0},{"$f":"IF(S92=0,\"\",ROUNDDOWN(12*(((Q92-S92)-MIN($Q$26:$Q$425-$S$26:$S$425)-(MAX($S$26:$S$425*(($Q$26:$Q$425-$S$26:$S$425)=MIN($Q$26:$Q$425-$S$26:$S$425)))-S92))+(MIN($Q$26:$Q$425-$S$26:$S$425)-$I$10)),0)/12)","v":""},"",{"$error":"#N/A"},17]
[68,null,null,null,null,null,null,null,null,{"$f":"SUM(IF(B93=\"\",0,INDEX(SignalHeads[Perp. Wind Area (sft)],MATCH(B93,SignalHeads[Code],0))),IF(D93=\"\",0,INDEX(SignalHeads[Perp. Wind Area (sft)],MATCH(D93,SignalHeads[Code],0))),IF(E93=\"\",0,INDEX(SignalHeads[Perp. Wind Area (sft)],MATCH(E93,SignalHeads[Code],0))),IF(F93=\"\",0,INDEX(SignalHeads[Perp. Wind Area (sft)],MATCH(F93,SignalHeads[Code],0))),IF(G93=\"\",0,INDEX(SignalHeads[Perp. Wind Area (sft)],MATCH(G93,SignalHeads[Code],0))),IF(H93=\"\",0,INDEX(SignalHeads[Perp. Wind Area (sft)],MATCH(H93,SignalHeads[Code],0))),IF(I93=\"\",0,INDEX(SignalHeads[Perp. Wind Area (sft)],MATCH(I93,SignalHeads[Code],0))))","v":0},{"$f":"SUM(IF(B93=\"\",0,INDEX(SignalHeads[Weight*** (lbs)],MATCH(B93,SignalHeads[Code],0))),IF(D93=\"\",0,INDEX(SignalHeads[Weight*** (lbs)],MATCH(D93,SignalHeads[Code],0))),IF(E93=\"\",0,INDEX(SignalHeads[Weight*** (lbs)],MATCH(E93,SignalHeads[Code],0))),IF(F93=\"\",0,INDEX(SignalHeads[Weight*** (lbs)],MATCH(F93,SignalHeads[Code],0))),IF(G93=\"\",0,INDEX(SignalHeads[Weight*** (lbs)],MATCH(G93,SignalHeads[Code],0))),IF(H93=\"\",0,INDEX(SignalHeads[Weight*** (lbs)],MATCH(H93,SignalHeads[Code],0))),IF(I93=\"\",0,INDEX(SignalHeads[Weight*** (lbs)],MATCH(I93,SignalHeads[Code],0))))","v":0},{"$f":"IF(A93<=$I$8,INDEX(DesignConstants[Value],MATCH(\"Span Wire Weight (plf)\",DesignConstants[Design Constant],0)),0)","v":1.155},0,77.962500000000006,{"$error":"#VALUE!"},{"$error":"#VALUE!"},{"$error":"#N/A"},{"$error":"#N/A"},{"$f":"SUM(IF(B93=\"\",0,INDEX(SignalHeads[Height ** (feet)],MATCH(B93,SignalHeads[Code],0))),IF(D93=\"\",0,INDEX(SignalHeads[Height ** (feet)],MATCH(D93,SignalHeads[Code],0))),IF(E93=\"\",0,INDEX(SignalHeads[Height ** (feet)],MATCH(E93,SignalHeads[Code],0))),IF(F93=\"\",0,INDEX(SignalHeads[Height ** (feet)],MATCH(F93,SignalHeads[Code],0))),IF(G93=\"\",0,INDEX(SignalHeads[Height ** (feet)],MATCH(G93,SignalHeads[Code],0))),IF(H93=\"\",0,INDEX(SignalHeads[Height ** (feet)],MATCH(H93,SignalHeads[Code],0))),IF(I93=\"\",0,INDEX(SignalHeads[Height ** (feet)],MATCH(I93,SignalHeads[Code],0))))","v":0},{"$f":"IF(S93=0,\"\",ROUNDDOWN(12*(((Q93-S93)-MIN($Q$26:$Q$425-$S$26:$S$425)-(MAX($S$26:$S$425*(($Q$26:$Q$425-$S$26:$S$425)=MIN($Q$26:$Q$425-$S$26:$S$425)))-S93))+(MIN($Q$26:$Q$425-$S$26:$S$425)-$I$10)),0)/12)","v":""},"",{"$error":"#N/A"},17]
[69,null,null,null,null,null,null,null,null,{"$f":"SUM(IF(B94=\"\",0,INDEX(SignalHeads[Perp. Wind Area (sft)],MATCH(B94,SignalHeads[Code],0))),IF(D94=\"\",0,INDEX(SignalHeads[Perp. Wind Area (sft)],MATCH(D94,SignalHeads[Code],0))),IF(E94=\"\",0,INDEX(SignalHeads[Perp. Wind Area (sft)],MATCH(E94,SignalHeads[Code],0))),IF(F94=\"\",0,INDEX(SignalHeads[Perp. Wind Area (sft)],MATCH(F94,SignalHeads[Code],0))),IF(G94=\"\",0,INDEX(SignalHeads[Perp. Wind Area (sft)],MATCH(G94,SignalHeads[Code],0))),IF(H94=\"\",0,INDEX(SignalHeads[Perp. Wind Area (sft)],MATCH(H94,SignalHeads[Code],0))),IF(I94=\"\",0,INDEX(SignalHeads[Perp. Wind Area (sft)],MATCH(I94,SignalHeads[Code],0))))","v":0},{"$f":"SUM(IF(B94=\"\",0,INDEX(SignalHeads[Weight*** (lbs)],MATCH(B94,SignalHeads[Code],0))),IF(D94=\"\",0,INDEX(SignalHeads[Weight*** (lbs)],MATCH(D94,SignalHeads[Code],0))),IF(E94=\"\",0,INDEX(SignalHeads[Weight*** (lbs)],MATCH(E94,SignalHeads[Code],0))),IF(F94=\"\",0,INDEX(SignalHeads[Weight*** (lbs)],MATCH(F94,SignalHeads[Code],0))),IF(G94=\"\",0,INDEX(SignalHeads[Weight*** (lbs)],MATCH(G94,SignalHeads[Code],0))),IF(H94=\"\",0,INDEX(SignalHeads[Weight*** (lbs)],MATCH(H94,SignalHeads[Code],0))),IF(I94=\"\",0,INDEX(SignalHeads[Weight*** (lbs)],MATCH(I94,SignalHeads[Code],0))))","v":0},{"$f":"IF(A94<=$I$8,INDEX(DesignConstants[Value],MATCH(\"Span Wire Weight (plf)\",DesignConstants[Design Constant],0)),0)","v":1.155},0,79.117500000000007,{"$error":"#VALUE!"},{"$error":"#VALUE!"},{"$error":"#N/A"},{"$error":"#N/A"},{"$f":"SUM(IF(B94=\"\",0,INDEX(SignalHeads[Height ** (feet)],MATCH(B94,SignalHeads[Code],0))),IF(D94=\"\",0,INDEX(SignalHeads[Height ** (feet)],MATCH(D94,SignalHeads[Code],0))),IF(E94=\"\",0,INDEX(SignalHeads[Height ** (feet)],MATCH(E94,SignalHeads[Code],0))),IF(F94=\"\",0,INDEX(SignalHeads[Height ** (feet)],MATCH(F94,SignalHeads[Code],0))),IF(G94=\"\",0,INDEX(SignalHeads[Height ** (feet)],MATCH(G94,SignalHeads[Code],0))),IF(H94=\"\",0,INDEX(SignalHeads[Height ** (feet)],MATCH(H94,SignalHeads[Code],0))),IF(I94=\"\",0,INDEX(SignalHeads[Height ** (feet)],MATCH(I94,SignalHeads[Code],0))))","v":0},{"$f":"IF(S94=0,\"\",ROUNDDOWN(12*(((Q94-S94)-MIN($Q$26:$Q$425-$S$26:$S$425)-(MAX($S$26:$S$425*(($Q$26:$Q$425-$S$26:$S$425)=MIN($Q$26:$Q$425-$S$26:$S$425)))-S94))+(MIN($Q$26:$Q$425-$S$26:$S$425)-$I$10)),0)/12)","v":""},"",{"$error":"#N/A"},17]
[70,null,null,null,null,null,null,null,null,{"$f":"SUM(IF(B95=\"\",0,INDEX(SignalHeads[Perp. Wind Area (sft)],MATCH(B95,SignalHeads[Code],0))),IF(D95=\"\",0,INDEX(SignalHeads[Perp. Wind Area (sft)],MATCH(D95,SignalHeads[Code],0))),IF(E95=\"\",0,INDEX(SignalHeads[Perp. Wind Area (sft)],MATCH(E95,SignalHeads[Code],0))),IF(F95=\"\",0,INDEX(SignalHeads[Perp. Wind Area (sft)],MATCH(F95,SignalHeads[Code],0))),IF(G95=\"\",0,INDEX(SignalHeads[Perp. Wind Area (sft)],MATCH(G95,SignalHeads[Code],0))),IF(H95=\"\",0,INDEX(SignalHeads[Perp. Wind Area (sft)],MATCH(H95,SignalHeads[Code],0))),IF(I95=\"\",0,INDEX(SignalHeads[Perp. Wind Area (sft)],MATCH(I95,SignalHeads[Code],0))))","v":0},{"$f":"SUM(IF(B95=\"\",0,INDEX(SignalHeads[Weight*** (lbs)],MATCH(B95,SignalHeads[Code],0))),IF(D95=\"\",0,INDEX(SignalHeads[Weight*** (lbs)],MATCH(D95,SignalHeads[Code],0))),IF(E95=\"\",0,INDEX(SignalHeads[Weight*** (lbs)],MATCH(E95,SignalHeads[Code],0))),IF(F95=\"\",0,INDEX(SignalHeads[Weight*** (lbs)],MATCH(F95,SignalHeads[Code],0))),IF(G95=\"\",0,INDEX(SignalHeads[Weight*** (lbs)],MATCH(G95,SignalHeads[Code],0))),IF(H95=\"\",0,INDEX(SignalHeads[Weight*** (lbs)],MATCH(H95,SignalHeads[Code],0))),IF(I95=\"\",0,INDEX(SignalHeads[Weight*** (lbs)],MATCH(I95,SignalHeads[Code],0))))","v":0},{"$f":"IF(A95<=$I$8,INDEX(DesignConstants[Value],MATCH(\"Span Wire Weight (plf)\",DesignConstants[Design Constant],0)),0)","v":1.155},0,80.272500000000008,{"$error":"#VALUE!"},{"$error":"#VALUE!"},{"$error":"#N/A"},{"$error":"#N/A"},{"$f":"SUM(IF(B95=\"\",0,INDEX(SignalHeads[Height ** (feet)],MATCH(B95,SignalHeads[Code],0))),IF(D95=\"\",0,INDEX(SignalHeads[Height ** (feet)],MATCH(D95,SignalHeads[Code],0))),IF(E95=\"\",0,INDEX(SignalHeads[Height ** (feet)],MATCH(E95,SignalHeads[Code],0))),IF(F95=\"\",0,INDEX(SignalHeads[Height ** (feet)],MATCH(F95,SignalHeads[Code],0))),IF(G95=\"\",0,INDEX(SignalHeads[Height ** (feet)],MATCH(G95,SignalHeads[Code],0))),IF(H95=\"\",0,INDEX(SignalHeads[Height ** (feet)],MATCH(H95,SignalHeads[Code],0))),IF(I95=\"\",0,INDEX(SignalHeads[Height ** (feet)],MATCH(I95,SignalHeads[Code],0))))","v":0},{"$f":"IF(S95=0,\"\",ROUNDDOWN(12*(((Q95-S95)-MIN($Q$26:$Q$425-$S$26:$S$425)-(MAX($S$26:$S$425*(($Q$26:$Q$425-$S$26:$S$425)=MIN($Q$26:$Q$425-$S$26:$S$425)))-S95))+(MIN($Q$26:$Q$425-$S$26:$S$425)-$I$10)),0)/12)","v":""},"",{"$error":"#N/A"},17]
[71,null,null,null,null,null,null,null,null,{"$f":"SUM(IF(B96=\"\",0,INDEX(SignalHeads[Perp. Wind Area (sft)],MATCH(B96,SignalHeads[Code],0))),IF(D96=\"\",0,INDEX(SignalHeads[Perp. Wind Area (sft)],MATCH(D96,SignalHeads[Code],0))),IF(E96=\"\",0,INDEX(SignalHeads[Perp. Wind Area (sft)],MATCH(E96,SignalHeads[Code],0))),IF(F96=\"\",0,INDEX(SignalHeads[Perp. Wind Area (sft)],MATCH(F96,SignalHeads[Code],0))),IF(G96=\"\",0,INDEX(SignalHeads[Perp. Wind Area (sft)],MATCH(G96,SignalHeads[Code],0))),IF(H96=\"\",0,INDEX(SignalHeads[Perp. Wind Area (sft)],MATCH(H96,SignalHeads[Code],0))),IF(I96=\"\",0,INDEX(SignalHeads[Perp. Wind Area (sft)],MATCH(I96,SignalHeads[Code],0))))","v":0},{"$f":"SUM(IF(B96=\"\",0,INDEX(SignalHeads[Weight*** (lbs)],MATCH(B96,SignalHeads[Code],0))),IF(D96=\"\",0,INDEX(SignalHeads[Weight*** (lbs)],MATCH(D96,SignalHeads[Code],0))),IF(E96=\"\",0,INDEX(SignalHeads[Weight*** (lbs)],MATCH(E96,SignalHeads[Code],0))),IF(F96=\"\",0,INDEX(SignalHeads[Weight*** (lbs)],MATCH(F96,SignalHeads[Code],0))),IF(G96=\"\",0,INDEX(SignalHeads[Weight*** (lbs)],MATCH(G96,SignalHeads[Code],0))),IF(H96=\"\",0,INDEX(SignalHeads[Weight*** (lbs)],MATCH(H96,SignalHeads[Code],0))),IF(I96=\"\",0,INDEX(SignalHeads[Weight*** (lbs)],MATCH(I96,SignalHeads[Code],0))))","v":0},{"$f":"IF(A96<=$I$8,INDEX(DesignConstants[Value],MATCH(\"Span Wire Weight (plf)\",DesignConstants[Design Constant],0)),0)","v":1.155},0,81.427499999999995,{"$error":"#VALUE!"},{"$error":"#VALUE!"},{"$error":"#N/A"},{"$error":"#N/A"},{"$f":"SUM(IF(B96=\"\",0,INDEX(SignalHeads[Height ** (feet)],MATCH(B96,SignalHeads[Code],0))),IF(D96=\"\",0,INDEX(SignalHeads[Height ** (feet)],MATCH(D96,SignalHeads[Code],0))),IF(E96=\"\",0,INDEX(SignalHeads[Height ** (feet)],MATCH(E96,SignalHeads[Code],0))),IF(F96=\"\",0,INDEX(SignalHeads[Height ** (feet)],MATCH(F96,SignalHeads[Code],0))),IF(G96=\"\",0,INDEX(SignalHeads[Height ** (feet)],MATCH(G96,SignalHeads[Code],0))),IF(H96=\"\",0,INDEX(SignalHeads[Height ** (feet)],MATCH(H96,SignalHeads[Code],0))),IF(I96=\"\",0,INDEX(SignalHeads[Height ** (feet)],MATCH(I96,SignalHeads[Code],0))))","v":0},{"$f":"IF(S96=0,\"\",ROUNDDOWN(12*(((Q96-S96)-MIN($Q$26:$Q$425-$S$26:$S$425)-(MAX($S$26:$S$425*(($Q$26:$Q$425-$S$26:$S$425)=MIN($Q$26:$Q$425-$S$26:$S$425)))-S96))+(MIN($Q$26:$Q$425-$S$26:$S$425)-$I$10)),0)/12)","v":""},"",{"$error":"#N/A"},17]
[72,null,null,null,null,null,null,null,null,{"$f":"SUM(IF(B97=\"\",0,INDEX(SignalHeads[Perp. Wind Area (sft)],MATCH(B97,SignalHeads[Code],0))),IF(D97=\"\",0,INDEX(SignalHeads[Perp. Wind Area (sft)],MATCH(D97,SignalHeads[Code],0))),IF(E97=\"\",0,INDEX(SignalHeads[Perp. Wind Area (sft)],MATCH(E97,SignalHeads[Code],0))),IF(F97=\"\",0,INDEX(SignalHeads[Perp. Wind Area (sft)],MATCH(F97,SignalHeads[Code],0))),IF(G97=\"\",0,INDEX(SignalHeads[Perp. Wind Area (sft)],MATCH(G97,SignalHeads[Code],0))),IF(H97=\"\",0,INDEX(SignalHeads[Perp. Wind Area (sft)],MATCH(H97,SignalHeads[Code],0))),IF(I97=\"\",0,INDEX(SignalHeads[Perp. Wind Area (sft)],MATCH(I97,SignalHeads[Code],0))))","v":0},{"$f":"SUM(IF(B97=\"\",0,INDEX(SignalHeads[Weight*** (lbs)],MATCH(B97,SignalHeads[Code],0))),IF(D97=\"\",0,INDEX(SignalHeads[Weight*** (lbs)],MATCH(D97,SignalHeads[Code],0))),IF(E97=\"\",0,INDEX(SignalHeads[Weight*** (lbs)],MATCH(E97,SignalHeads[Code],0))),IF(F97=\"\",0,INDEX(SignalHeads[Weight*** (lbs)],MATCH(F97,SignalHeads[Code],0))),IF(G97=\"\",0,INDEX(SignalHeads[Weight*** (lbs)],MATCH(G97,SignalHeads[Code],0))),IF(H97=\"\",0,INDEX(SignalHeads[Weight*** (lbs)],MATCH(H97,SignalHeads[Code],0))),IF(I97=\"\",0,INDEX(SignalHeads[Weight*** (lbs)],MATCH(I97,SignalHeads[Code],0))))","v":0},{"$f":"IF(A97<=$I$8,INDEX(DesignConstants[Value],MATCH(\"Span Wire Weight (plf)\",DesignConstants[Design Constant],0)),0)","v":1.155},0,82.582499999999996,{"$error":"#VALUE!"},{"$error":"#VALUE!"},{"$error":"#N/A"},{"$error":"#N/A"},{"$f":"SUM(IF(B97=\"\",0,INDEX(SignalHeads[Height ** (feet)],MATCH(B97,SignalHeads[Code],0))),IF(D97=\"\",0,INDEX(SignalHeads[Height ** (feet)],MATCH(D97,SignalHeads[Code],0))),IF(E97=\"\",0,INDEX(SignalHeads[Height ** (feet)],MATCH(E97,SignalHeads[Code],0))),IF(F97=\"\",0,INDEX(SignalHeads[Height ** (feet)],MATCH(F97,SignalHeads[Code],0))),IF(G97=\"\",0,INDEX(SignalHeads[Height ** (feet)],MATCH(G97,SignalHeads[Code],0))),IF(H97=\"\",0,INDEX(SignalHeads[Height ** (feet)],MATCH(H97,SignalHeads[Code],0))),IF(I97=\"\",0,INDEX(SignalHeads[Height ** (feet)],MATCH(I97,SignalHeads[Code],0))))","v":0},{"$f":"IF(S97=0,\"\",ROUNDDOWN(12*(((Q97-S97)-MIN($Q$26:$Q$425-$S$26:$S$425)-(MAX($S$26:$S$425*(($Q$26:$Q$425-$S$26:$S$425)=MIN($Q$26:$Q$425-$S$26:$S$425)))-S97))+(MIN($Q$26:$Q$425-$S$26:$S$425)-$I$10)),0)/12)","v":""},"",{"$error":"#N/A"},17]
[73,null,null,null,null,null,null,null,null,{"$f":"SUM(IF(B98=\"\",0,INDEX(SignalHeads[Perp. Wind Area (sft)],MATCH(B98,SignalHeads[Code],0))),IF(D98=\"\",0,INDEX(SignalHeads[Perp. Wind Area (sft)],MATCH(D98,SignalHeads[Code],0))),IF(E98=\"\",0,INDEX(SignalHeads[Perp. Wind Area (sft)],MATCH(E98,SignalHeads[Code],0))),IF(F98=\"\",0,INDEX(SignalHeads[Perp. Wind Area (sft)],MATCH(F98,SignalHeads[Code],0))),IF(G98=\"\",0,INDEX(SignalHeads[Perp. Wind Area (sft)],MATCH(G98,SignalHeads[Code],0))),IF(H98=\"\",0,INDEX(SignalHeads[Perp. Wind Area (sft)],MATCH(H98,SignalHeads[Code],0))),IF(I98=\"\",0,INDEX(SignalHeads[Perp. Wind Area (sft)],MATCH(I98,SignalHeads[Code],0))))","v":0},{"$f":"SUM(IF(B98=\"\",0,INDEX(SignalHeads[Weight*** (lbs)],MATCH(B98,SignalHeads[Code],0))),IF(D98=\"\",0,INDEX(SignalHeads[Weight*** (lbs)],MATCH(D98,SignalHeads[Code],0))),IF(E98=\"\",0,INDEX(SignalHeads[Weight*** (lbs)],MATCH(E98,SignalHeads[Code],0))),IF(F98=\"\",0,INDEX(SignalHeads[Weight*** (lbs)],MATCH(F98,SignalHeads[Code],0))),IF(G98=\"\",0,INDEX(SignalHeads[Weight*** (lbs)],MATCH(G98,SignalHeads[Code],0))),IF(H98=\"\",0,INDEX(SignalHeads[Weight*** (lbs)],MATCH(H98,SignalHeads[Code],0))),IF(I98=\"\",0,INDEX(SignalHeads[Weight*** (lbs)],MATCH(I98,SignalHeads[Code],0))))","v":0},{"$f":"IF(A98<=$I$8,INDEX(DesignConstants[Value],MATCH(\"Span Wire Weight (plf)\",DesignConstants[Design Constant],0)),0)","v":1.155},0,83.737499999999997,{"$error":"#VALUE!"},{"$error":"#VALUE!"},{"$error":"#N/A"},{"$error":"#N/A"},{"$f":"SUM(IF(B98=\"\",0,INDEX(SignalHeads[Height ** (feet)],MATCH(B98,SignalHeads[Code],0))),IF(D98=\"\",0,INDEX(SignalHeads[Height ** (feet)],MATCH(D98,SignalHeads[Code],0))),IF(E98=\"\",0,INDEX(SignalHeads[Height ** (feet)],MATCH(E98,SignalHeads[Code],0))),IF(F98=\"\",0,INDEX(SignalHeads[Height ** (feet)],MATCH(F98,SignalHeads[Code],0))),IF(G98=\"\",0,INDEX(SignalHeads[Height ** (feet)],MATCH(G98,SignalHeads[Code],0))),IF(H98=\"\",0,INDEX(SignalHeads[Height ** (feet)],MATCH(H98,SignalHeads[Code],0))),IF(I98=\"\",0,INDEX(SignalHeads[Height ** (feet)],MATCH(I98,SignalHeads[Code],0))))","v":0},{"$f":"IF(S98=0,\"\",ROUNDDOWN(12*(((Q98-S98)-MIN($Q$26:$Q$425-$S$26:$S$425)-(MAX($S$26:$S$425*(($Q$26:$Q$425-$S$26:$S$425)=MIN($Q$26:$Q$425-$S$26:$S$425)))-S98))+(MIN($Q$26:$Q$425-$S$26:$S$425)-$I$10)),0)/12)","v":""},"",{"$error":"#N/A"},17]
[74,null,null,null,null,null,null,null,null,{"$f":"SUM(IF(B99=\"\",0,INDEX(SignalHeads[Perp. Wind Area (sft)],MATCH(B99,SignalHeads[Code],0))),IF(D99=\"\",0,INDEX(SignalHeads[Perp. Wind Area (sft)],MATCH(D99,SignalHeads[Code],0))),IF(E99=\"\",0,INDEX(SignalHeads[Perp. Wind Area (sft)],MATCH(E99,SignalHeads[Code],0))),IF(F99=\"\",0,INDEX(SignalHeads[Perp. Wind Area (sft)],MATCH(F99,SignalHeads[Code],0))),IF(G99=\"\",0,INDEX(SignalHeads[Perp. Wind Area (sft)],MATCH(G99,SignalHeads[Code],0))),IF(H99=\"\",0,INDEX(SignalHeads[Perp. Wind Area (sft)],MATCH(H99,SignalHeads[Code],0))),IF(I99=\"\",0,INDEX(SignalHeads[Perp. Wind Area (sft)],MATCH(I99,SignalHeads[Code],0))))","v":0},{"$f":"SUM(IF(B99=\"\",0,INDEX(SignalHeads[Weight*** (lbs)],MATCH(B99,SignalHeads[Code],0))),IF(D99=\"\",0,INDEX(SignalHeads[Weight*** (lbs)],MATCH(D99,SignalHeads[Code],0))),IF(E99=\"\",0,INDEX(SignalHeads[Weight*** (lbs)],MATCH(E99,SignalHeads[Code],0))),IF(F99=\"\",0,INDEX(SignalHeads[Weight*** (lbs)],MATCH(F99,SignalHeads[Code],0))),IF(G99=\"\",0,INDEX(SignalHeads[Weight*** (lbs)],MATCH(G99,SignalHeads[Code],0))),IF(H99=\"\",0,INDEX(SignalHeads[Weight*** (lbs)],MATCH(H99,SignalHeads[Code],0))),IF(I99=\"\",0,INDEX(SignalHeads[Weight*** (lbs)],MATCH(I99,SignalHeads[Code],0))))","v":0},{"$f":"IF(A99<=$I$8,INDEX(DesignConstants[Value],MATCH(\"Span Wire Weight (plf)\",DesignConstants[Design Constant],0)),0)","v":1.155},0,84.892499999999998,{"$error":"#VALUE!"},{"$error":"#VALUE!"},{"$error":"#N/A"},{"$error":"#N/A"},{"$f":"SUM(IF(B99=\"\",0,INDEX(SignalHeads[Height ** (feet)],MATCH(B99,SignalHeads[Code],0))),IF(D99=\"\",0,INDEX(SignalHeads[Height ** (feet)],MATCH(D99,SignalHeads[Code],0))),IF(E99=\"\",0,INDEX(SignalHeads[Height ** (feet)],MATCH(E99,SignalHeads[Code],0))),IF(F99=\"\",0,INDEX(SignalHeads[Height ** (feet)],MATCH(F99,SignalHeads[Code],0))),IF(G99=\"\",0,INDEX(SignalHeads[Height ** (feet)],MATCH(G99,SignalHeads[Code],0))),IF(H99=\"\",0,INDEX(SignalHeads[Height ** (feet)],MATCH(H99,SignalHeads[Code],0))),IF(I99=\"\",0,INDEX(SignalHeads[Height ** (feet)],MATCH(I99,SignalHeads[Code],0))))","v":0},{"$f":"IF(S99=0,\"\",ROUNDDOWN(12*(((Q99-S99)-MIN($Q$26:$Q$425-$S$26:$S$425)-(MAX($S$26:$S$425*(($Q$26:$Q$425-$S$26:$S$425)=MIN($Q$26:$Q$425-$S$26:$S$425)))-S99))+(MIN($Q$26:$Q$425-$S$26:$S$425)-$I$10)),0)/12)","v":""},"",{"$error":"#N/A"},17]
[75,null,null,null,null,null,null,null,null,{"$f":"SUM(IF(B100=\"\",0,INDEX(SignalHeads[Perp. Wind Area (sft)],MATCH(B100,SignalHeads[Code],0))),IF(D100=\"\",0,INDEX(SignalHeads[Perp. Wind Area (sft)],MATCH(D100,SignalHeads[Code],0))),IF(E100=\"\",0,INDEX(SignalHeads[Perp. Wind Area (sft)],MATCH(E100,SignalHeads[Code],0))),IF(F100=\"\",0,INDEX(SignalHeads[Perp. Wind Area (sft)],MATCH(F100,SignalHeads[Code],0))),IF(G100=\"\",0,INDEX(SignalHeads[Perp. Wind Area (sft)],MATCH(G100,SignalHeads[Code],0))),IF(H100=\"\",0,INDEX(SignalHeads[Perp. Wind Area (sft)],MATCH(H100,SignalHeads[Code],0))),IF(I100=\"\",0,INDEX(SignalHeads[Perp. Wind Area (sft)],MATCH(I100,SignalHeads[Code],0))))","v":0},{"$f":"SUM(IF(B100=\"\",0,INDEX(SignalHeads[Weight*** (lbs)],MATCH(B100,SignalHeads[Code],0))),IF(D100=\"\",0,INDEX(SignalHeads[Weight*** (lbs)],MATCH(D100,SignalHeads[Code],0))),IF(E100=\"\",0,INDEX(SignalHeads[Weight*** (lbs)],MATCH(E100,SignalHeads[Code],0))),IF(F100=\"\",0,INDEX(SignalHeads[Weight*** (lbs)],MATCH(F100,SignalHeads[Code],0))),IF(G100=\"\",0,INDEX(SignalHeads[Weight*** (lbs)],MATCH(G100,SignalHeads[Code],0))),IF(H100=\"\",0,INDEX(SignalHeads[Weight*** (lbs)],MATCH(H100,SignalHeads[Code],0))),IF(I100=\"\",0,INDEX(SignalHeads[Weight*** (lbs)],MATCH(I100,SignalHeads[Code],0))))","v":0},{"$f":"IF(A100<=$I$8,INDEX(DesignConstants[Value],MATCH(\"Span Wire Weight (plf)\",DesignConstants[Design Constant],0)),0)","v":1.155},0,86.047499999999999,{"$error":"#VALUE!"},{"$error":"#VALUE!"},{"$error":"#N/A"},{"$error":"#N/A"},{"$f":"SUM(IF(B100=\"\",0,INDEX(SignalHeads[Height ** (feet)],MATCH(B100,SignalHeads[Code],0))),IF(D100=\"\",0,INDEX(SignalHeads[Height ** (feet)],MATCH(D100,SignalHeads[Code],0))),IF(E100=\"\",0,INDEX(SignalHeads[Height ** (feet)],MATCH(E100,SignalHeads[Code],0))),IF(F100=\"\",0,INDEX(SignalHeads[Height ** (feet)],MATCH(F100,SignalHeads[Code],0))),IF(G100=\"\",0,INDEX(SignalHeads[Height ** (feet)],MATCH(G100,SignalHeads[Code],0))),IF(H100=\"\",0,INDEX(SignalHeads[Height ** (feet)],MATCH(H100,SignalHeads[Code],0))),IF(I100=\"\",0,INDEX(SignalHeads[Height ** (feet)],MATCH(I100,SignalHeads[Code],0))))","v":0},{"$f":"IF(S100=0,\"\",ROUNDDOWN(12*(((Q100-S100)-MIN($Q$26:$Q$425-$S$26:$S$425)-(MAX($S$26:$S$425*(($Q$26:$Q$425-$S$26:$S$425)=MIN($Q$26:$Q$425-$S$26:$S$425)))-S100))+(MIN($Q$26:$Q$425-$S$26:$S$425)-$I$10)),0)/12)","v":""},"",{"$error":"#N/A"},17]
[76,null,null,null,null,null,null,null,null,{"$f":"SUM(IF(B101=\"\",0,INDEX(SignalHeads[Perp. Wind Area (sft)],MATCH(B101,SignalHeads[Code],0))),IF(D101=\"\",0,INDEX(SignalHeads[Perp. Wind Area (sft)],MATCH(D101,SignalHeads[Code],0))),IF(E101=\"\",0,INDEX(SignalHeads[Perp. Wind Area (sft)],MATCH(E101,SignalHeads[Code],0))),IF(F101=\"\",0,INDEX(SignalHeads[Perp. Wind Area (sft)],MATCH(F101,SignalHeads[Code],0))),IF(G101=\"\",0,INDEX(SignalHeads[Perp. Wind Area (sft)],MATCH(G101,SignalHeads[Code],0))),IF(H101=\"\",0,INDEX(SignalHeads[Perp. Wind Area (sft)],MATCH(H101,SignalHeads[Code],0))),IF(I101=\"\",0,INDEX(SignalHeads[Perp. Wind Area (sft)],MATCH(I101,SignalHeads[Code],0))))","v":0},{"$f":"SUM(IF(B101=\"\",0,INDEX(SignalHeads[Weight*** (lbs)],MATCH(B101,SignalHeads[Code],0))),IF(D101=\"\",0,INDEX(SignalHeads[Weight*** (lbs)],MATCH(D101,SignalHeads[Code],0))),IF(E101=\"\",0,INDEX(SignalHeads[Weight*** (lbs)],MATCH(E101,SignalHeads[Code],0))),IF(F101=\"\",0,INDEX(SignalHeads[Weight*** (lbs)],MATCH(F101,SignalHeads[Code],0))),IF(G101=\"\",0,INDEX(SignalHeads[Weight*** (lbs)],MATCH(G101,SignalHeads[Code],0))),IF(H101=\"\",0,INDEX(SignalHeads[Weight*** (lbs)],MATCH(H101,SignalHeads[Code],0))),IF(I101=\"\",0,INDEX(SignalHeads[Weight*** (lbs)],MATCH(I101,SignalHeads[Code],0))))","v":0},{"$f":"IF(A101<=$I$8,INDEX(DesignConstants[Value],MATCH(\"Span Wire Weight (plf)\",DesignConstants[Design Constant],0)),0)","v":1.155},0,87.202500000000001,{"$error":"#VALUE!"},{"$error":"#VALUE!"},{"$error":"#N/A"},{"$error":"#N/A"},{"$f":"SUM(IF(B101=\"\",0,INDEX(SignalHeads[Height ** (feet)],MATCH(B101,SignalHeads[Code],0))),IF(D101=\"\",0,INDEX(SignalHeads[Height ** (feet)],MATCH(D101,SignalHeads[Code],0))),IF(E101=\"\",0,INDEX(SignalHeads[Height ** (feet)],MATCH(E101,SignalHeads[Code],0))),IF(F101=\"\",0,INDEX(SignalHeads[Height ** (feet)],MATCH(F101,SignalHeads[Code],0))),IF(G101=\"\",0,INDEX(SignalHeads[Height ** (feet)],MATCH(G101,SignalHeads[Code],0))),IF(H101=\"\",0,INDEX(SignalHeads[Height ** (feet)],MATCH(H101,SignalHeads[Code],0))),IF(I101=\"\",0,INDEX(SignalHeads[Height ** (feet)],MATCH(I101,SignalHeads[Code],0))))","v":0},{"$f":"IF(S101=0,\"\",ROUNDDOWN(12*(((Q101-S101)-MIN($Q$26:$Q$425-$S$26:$S$425)-(MAX($S$26:$S$425*(($Q$26:$Q$425-$S$26:$S$425)=MIN($Q$26:$Q$425-$S$26:$S$425)))-S101))+(MIN($Q$26:$Q$425-$S$26:$S$425)-$I$10)),0)/12)","v":""},"",{"$error":"#N/A"},17]
[77,null,null,null,null,null,null,null,null,{"$f":"SUM(IF(B102=\"\",0,INDEX(SignalHeads[Perp. Wind Area (sft)],MATCH(B102,SignalHeads[Code],0))),IF(D102=\"\",0,INDEX(SignalHeads[Perp. Wind Area (sft)],MATCH(D102,SignalHeads[Code],0))),IF(E102=\"\",0,INDEX(SignalHeads[Perp. Wind Area (sft)],MATCH(E102,SignalHeads[Code],0))),IF(F102=\"\",0,INDEX(SignalHeads[Perp. Wind Area (sft)],MATCH(F102,SignalHeads[Code],0))),IF(G102=\"\",0,INDEX(SignalHeads[Perp. Wind Area (sft)],MATCH(G102,SignalHeads[Code],0))),IF(H102=\"\",0,INDEX(SignalHeads[Perp. Wind Area (sft)],MATCH(H102,SignalHeads[Code],0))),IF(I102=\"\",0,INDEX(SignalHeads[Perp. Wind Area (sft)],MATCH(I102,SignalHeads[Code],0))))","v":0},{"$f":"SUM(IF(B102=\"\",0,INDEX(SignalHeads[Weight*** (lbs)],MATCH(B102,SignalHeads[Code],0))),IF(D102=\"\",0,INDEX(SignalHeads[Weight*** (lbs)],MATCH(D102,SignalHeads[Code],0))),IF(E102=\"\",0,INDEX(SignalHeads[Weight*** (lbs)],MATCH(E102,SignalHeads[Code],0))),IF(F102=\"\",0,INDEX(SignalHeads[Weight*** (lbs)],MATCH(F102,SignalHeads[Code],0))),IF(G102=\"\",0,INDEX(SignalHeads[Weight*** (lbs)],MATCH(G102,SignalHeads[Code],0))),IF(H102=\"\",0,INDEX(SignalHeads[Weight*** (lbs)],MATCH(H102,SignalHeads[Code],0))),IF(I102=\"\",0,INDEX(SignalHeads[Weight*** (lbs)],MATCH(I102,SignalHeads[Code],0))))","v":0},{"$f":"IF(A102<=$I$8,INDEX(DesignConstants[Value],MATCH(\"Span Wire Weight (plf)\",DesignConstants[Design Constant],0)),0)","v":1.155},0,88.357500000000002,{"$error":"#VALUE!"},{"$error":"#VALUE!"},{"$error":"#N/A"},{"$error":"#N/A"},{"$f":"SUM(IF(B102=\"\",0,INDEX(SignalHeads[Height ** (feet)],MATCH(B102,SignalHeads[Code],0))),IF(D102=\"\",0,INDEX(SignalHeads[Height ** (feet)],MATCH(D102,SignalHeads[Code],0))),IF(E102=\"\",0,INDEX(SignalHeads[Height ** (feet)],MATCH(E102,SignalHeads[Code],0))),IF(F102=\"\",0,INDEX(SignalHeads[Height ** (feet)],MATCH(F102,SignalHeads[Code],0))),IF(G102=\"\",0,INDEX(SignalHeads[Height ** (feet)],MATCH(G102,SignalHeads[Code],0))),IF(H102=\"\",0,INDEX(SignalHeads[Height ** (feet)],MATCH(H102,SignalHeads[Code],0))),IF(I102=\"\",0,INDEX(SignalHeads[Height ** (feet)],MATCH(I102,SignalHeads[Code],0))))","v":0},{"$f":"IF(S102=0,\"\",ROUNDDOWN(12*(((Q102-S102)-MIN($Q$26:$Q$425-$S$26:$S$425)-(MAX($S$26:$S$425*(($Q$26:$Q$425-$S$26:$S$425)=MIN($Q$26:$Q$425-$S$26:$S$425)))-S102))+(MIN($Q$26:$Q$425-$S$26:$S$425)-$I$10)),0)/12)","v":""},"",{"$error":"#N/A"},17]
[78,null,null,null,null,null,null,null,null,{"$f":"SUM(IF(B103=\"\",0,INDEX(SignalHeads[Perp. Wind Area (sft)],MATCH(B103,SignalHeads[Code],0))),IF(D103=\"\",0,INDEX(SignalHeads[Perp. Wind Area (sft)],MATCH(D103,SignalHeads[Code],0))),IF(E103=\"\",0,INDEX(SignalHeads[Perp. Wind Area (sft)],MATCH(E103,SignalHeads[Code],0))),IF(F103=\"\",0,INDEX(SignalHeads[Perp. Wind Area (sft)],MATCH(F103,SignalHeads[Code],0))),IF(G103=\"\",0,INDEX(SignalHeads[Perp. Wind Area (sft)],MATCH(G103,SignalHeads[Code],0))),IF(H103=\"\",0,INDEX(SignalHeads[Perp. Wind Area (sft)],MATCH(H103,SignalHeads[Code],0))),IF(I103=\"\",0,INDEX(SignalHeads[Perp. Wind Area (sft)],MATCH(I103,SignalHeads[Code],0))))","v":0},{"$f":"SUM(IF(B103=\"\",0,INDEX(SignalHeads[Weight*** (lbs)],MATCH(B103,SignalHeads[Code],0))),IF(D103=\"\",0,INDEX(SignalHeads[Weight*** (lbs)],MATCH(D103,SignalHeads[Code],0))),IF(E103=\"\",0,INDEX(SignalHeads[Weight*** (lbs)],MATCH(E103,SignalHeads[Code],0))),IF(F103=\"\",0,INDEX(SignalHeads[Weight*** (lbs)],MATCH(F103,SignalHeads[Code],0))),IF(G103=\"\",0,INDEX(SignalHeads[Weight*** (lbs)],MATCH(G103,SignalHeads[Code],0))),IF(H103=\"\",0,INDEX(SignalHeads[Weight*** (lbs)],MATCH(H103,SignalHeads[Code],0))),IF(I103=\"\",0,INDEX(SignalHeads[Weight*** (lbs)],MATCH(I103,SignalHeads[Code],0))))","v":0},{"$f":"IF(A103<=$I$8,INDEX(DesignConstants[Value],MATCH(\"Span Wire Weight (plf)\",DesignConstants[Design Constant],0)),0)","v":1.155},0,89.512500000000003,{"$error":"#VALUE!"},{"$error":"#VALUE!"},{"$error":"#N/A"},{"$error":"#N/A"},{"$f":"SUM(IF(B103=\"\",0,INDEX(SignalHeads[Height ** (feet)],MATCH(B103,SignalHeads[Code],0))),IF(D103=\"\",0,INDEX(SignalHeads[Height ** (feet)],MATCH(D103,SignalHeads[Code],0))),IF(E103=\"\",0,INDEX(SignalHeads[Height ** (feet)],MATCH(E103,SignalHeads[Code],0))),IF(F103=\"\",0,INDEX(SignalHeads[Height ** (feet)],MATCH(F103,SignalHeads[Code],0))),IF(G103=\"\",0,INDEX(SignalHeads[Height ** (feet)],MATCH(G103,SignalHeads[Code],0))),IF(H103=\"\",0,INDEX(SignalHeads[Height ** (feet)],MATCH(H103,SignalHeads[Code],0))),IF(I103=\"\",0,INDEX(SignalHeads[Height ** (feet)],MATCH(I103,SignalHeads[Code],0))))","v":0},{"$f":"IF(S103=0,\"\",ROUNDDOWN(12*(((Q103-S103)-MIN($Q$26:$Q$425-$S$26:$S$425)-(MAX($S$26:$S$425*(($Q$26:$Q$425-$S$26:$S$425)=MIN($Q$26:$Q$425-$S$26:$S$425)))-S103))+(MIN($Q$26:$Q$425-$S$26:$S$425)-$I$10)),0)/12)","v":""},"",{"$error":"#N/A"},17]
[79,null,null,null,null,null,null,null,null,{"$f":"SUM(IF(B104=\"\",0,INDEX(SignalHeads[Perp. Wind Area (sft)],MATCH(B104,SignalHeads[Code],0))),IF(D104=\"\",0,INDEX(SignalHeads[Perp. Wind Area (sft)],MATCH(D104,SignalHeads[Code],0))),IF(E104=\"\",0,INDEX(SignalHeads[Perp. Wind Area (sft)],MATCH(E104,SignalHeads[Code],0))),IF(F104=\"\",0,INDEX(SignalHeads[Perp. Wind Area (sft)],MATCH(F104,SignalHeads[Code],0))),IF(G104=\"\",0,INDEX(SignalHeads[Perp. Wind Area (sft)],MATCH(G104,SignalHeads[Code],0))),IF(H104=\"\",0,INDEX(SignalHeads[Perp. Wind Area (sft)],MATCH(H104,SignalHeads[Code],0))),IF(I104=\"\",0,INDEX(SignalHeads[Perp. Wind Area (sft)],MATCH(I104,SignalHeads[Code],0))))","v":0},{"$f":"SUM(IF(B104=\"\",0,INDEX(SignalHeads[Weight*** (lbs)],MATCH(B104,SignalHeads[Code],0))),IF(D104=\"\",0,INDEX(SignalHeads[Weight*** (lbs)],MATCH(D104,SignalHeads[Code],0))),IF(E104=\"\",0,INDEX(SignalHeads[Weight*** (lbs)],MATCH(E104,SignalHeads[Code],0))),IF(F104=\"\",0,INDEX(SignalHeads[Weight*** (lbs)],MATCH(F104,SignalHeads[Code],0))),IF(G104=\"\",0,INDEX(SignalHeads[Weight*** (lbs)],MATCH(G104,SignalHeads[Code],0))),IF(H104=\"\",0,INDEX(SignalHeads[Weight*** (lbs)],MATCH(H104,SignalHeads[Code],0))),IF(I104=\"\",0,INDEX(SignalHeads[Weight*** (lbs)],MATCH(I104,SignalHeads[Code],0))))","v":0},{"$f":"IF(A104<=$I$8,INDEX(DesignConstants[Value],MATCH(\"Span Wire Weight (plf)\",DesignConstants[Design Constant],0)),0)","v":1.155},0,90.667500000000004,{"$error":"#VALUE!"},{"$error":"#VALUE!"},{"$error":"#N/A"},{"$error":"#N/A"},{"$f":"SUM(IF(B104=\"\",0,INDEX(SignalHeads[Height ** (feet)],MATCH(B104,SignalHeads[Code],0))),IF(D104=\"\",0,INDEX(SignalHeads[Height ** (feet)],MATCH(D104,SignalHeads[Code],0))),IF(E104=\"\",0,INDEX(SignalHeads[Height ** (feet)],MATCH(E104,SignalHeads[Code],0))),IF(F104=\"\",0,INDEX(SignalHeads[Height ** (feet)],MATCH(F104,SignalHeads[Code],0))),IF(G104=\"\",0,INDEX(SignalHeads[Height ** (feet)],MATCH(G104,SignalHeads[Code],0))),IF(H104=\"\",0,INDEX(SignalHeads[Height ** (feet)],MATCH(H104,SignalHeads[Code],0))),IF(I104=\"\",0,INDEX(SignalHeads[Height ** (feet)],MATCH(I104,SignalHeads[Code],0))))","v":0},{"$f":"IF(S104=0,\"\",ROUNDDOWN(12*(((Q104-S104)-MIN($Q$26:$Q$425-$S$26:$S$425)-(MAX($S$26:$S$425*(($Q$26:$Q$425-$S$26:$S$425)=MIN($Q$26:$Q$425-$S$26:$S$425)))-S104))+(MIN($Q$26:$Q$425-$S$26:$S$425)-$I$10)),0)/12)","v":""},"",{"$error":"#N/A"},17]
[80,null,null,null,null,null,null,null,null,{"$f":"SUM(IF(B105=\"\",0,INDEX(SignalHeads[Perp. Wind Area (sft)],MATCH(B105,SignalHeads[Code],0))),IF(D105=\"\",0,INDEX(SignalHeads[Perp. Wind Area (sft)],MATCH(D105,SignalHeads[Code],0))),IF(E105=\"\",0,INDEX(SignalHeads[Perp. Wind Area (sft)],MATCH(E105,SignalHeads[Code],0))),IF(F105=\"\",0,INDEX(SignalHeads[Perp. Wind Area (sft)],MATCH(F105,SignalHeads[Code],0))),IF(G105=\"\",0,INDEX(SignalHeads[Perp. Wind Area (sft)],MATCH(G105,SignalHeads[Code],0))),IF(H105=\"\",0,INDEX(SignalHeads[Perp. Wind Area (sft)],MATCH(H105,SignalHeads[Code],0))),IF(I105=\"\",0,INDEX(SignalHeads[Perp. Wind Area (sft)],MATCH(I105,SignalHeads[Code],0))))","v":0},{"$f":"SUM(IF(B105=\"\",0,INDEX(SignalHeads[Weight*** (lbs)],MATCH(B105,SignalHeads[Code],0))),IF(D105=\"\",0,INDEX(SignalHeads[Weight*** (lbs)],MATCH(D105,SignalHeads[Code],0))),IF(E105=\"\",0,INDEX(SignalHeads[Weight*** (lbs)],MATCH(E105,SignalHeads[Code],0))),IF(F105=\"\",0,INDEX(SignalHeads[Weight*** (lbs)],MATCH(F105,SignalHeads[Code],0))),IF(G105=\"\",0,INDEX(SignalHeads[Weight*** (lbs)],MATCH(G105,SignalHeads[Code],0))),IF(H105=\"\",0,INDEX(SignalHeads[Weight*** (lbs)],MATCH(H105,SignalHeads[Code],0))),IF(I105=\"\",0,INDEX(SignalHeads[Weight*** (lbs)],MATCH(I105,SignalHeads[Code],0))))","v":0},{"$f":"IF(A105<=$I$8,INDEX(DesignConstants[Value],MATCH(\"Span Wire Weight (plf)\",DesignConstants[Design Constant],0)),0)","v":1.155},0,91.822500000000005,{"$error":"#VALUE!"},{"$error":"#VALUE!"},{"$error":"#N/A"},{"$error":"#N/A"},{"$f":"SUM(IF(B105=\"\",0,INDEX(SignalHeads[Height ** (feet)],MATCH(B105,SignalHeads[Code],0))),IF(D105=\"\",0,INDEX(SignalHeads[Height ** (feet)],MATCH(D105,SignalHeads[Code],0))),IF(E105=\"\",0,INDEX(SignalHeads[Height ** (feet)],MATCH(E105,SignalHeads[Code],0))),IF(F105=\"\",0,INDEX(SignalHeads[Height ** (feet)],MATCH(F105,SignalHeads[Code],0))),IF(G105=\"\",0,INDEX(SignalHeads[Height ** (feet)],MATCH(G105,SignalHeads[Code],0))),IF(H105=\"\",0,INDEX(SignalHeads[Height ** (feet)],MATCH(H105,SignalHeads[Code],0))),IF(I105=\"\",0,INDEX(SignalHeads[Height ** (feet)],MATCH(I105,SignalHeads[Code],0))))","v":0},{"$f":"IF(S105=0,\"\",ROUNDDOWN(12*(((Q105-S105)-MIN($Q$26:$Q$425-$S$26:$S$425)-(MAX($S$26:$S$425*(($Q$26:$Q$425-$S$26:$S$425)=MIN($Q$26:$Q$425-$S$26:$S$425)))-S105))+(MIN($Q$26:$Q$425-$S$26:$S$425)-$I$10)),0)/12)","v":""},"",{"$error":"#N/A"},17]
[81,null,null,null,null,null,null,null,null,{"$f":"SUM(IF(B106=\"\",0,INDEX(SignalHeads[Perp. Wind Area (sft)],MATCH(B106,SignalHeads[Code],0))),IF(D106=\"\",0,INDEX(SignalHeads[Perp. Wind Area (sft)],MATCH(D106,SignalHeads[Code],0))),IF(E106=\"\",0,INDEX(SignalHeads[Perp. Wind Area (sft)],MATCH(E106,SignalHeads[Code],0))),IF(F106=\"\",0,INDEX(SignalHeads[Perp. Wind Area (sft)],MATCH(F106,SignalHeads[Code],0))),IF(G106=\"\",0,INDEX(SignalHeads[Perp. Wind Area (sft)],MATCH(G106,SignalHeads[Code],0))),IF(H106=\"\",0,INDEX(SignalHeads[Perp. Wind Area (sft)],MATCH(H106,SignalHeads[Code],0))),IF(I106=\"\",0,INDEX(SignalHeads[Perp. Wind Area (sft)],MATCH(I106,SignalHeads[Code],0))))","v":0},{"$f":"SUM(IF(B106=\"\",0,INDEX(SignalHeads[Weight*** (lbs)],MATCH(B106,SignalHeads[Code],0))),IF(D106=\"\",0,INDEX(SignalHeads[Weight*** (lbs)],MATCH(D106,SignalHeads[Code],0))),IF(E106=\"\",0,INDEX(SignalHeads[Weight*** (lbs)],MATCH(E106,SignalHeads[Code],0))),IF(F106=\"\",0,INDEX(SignalHeads[Weight*** (lbs)],MATCH(F106,SignalHeads[Code],0))),IF(G106=\"\",0,INDEX(SignalHeads[Weight*** (lbs)],MATCH(G106,SignalHeads[Code],0))),IF(H106=\"\",0,INDEX(SignalHeads[Weight*** (lbs)],MATCH(H106,SignalHeads[Code],0))),IF(I106=\"\",0,INDEX(SignalHeads[Weight*** (lbs)],MATCH(I106,SignalHeads[Code],0))))","v":0},{"$f":"IF(A106<=$I$8,INDEX(DesignConstants[Value],MATCH(\"Span Wire Weight (plf)\",DesignConstants[Design Constant],0)),0)","v":1.155},0,92.977500000000006,{"$error":"#VALUE!"},{"$error":"#VALUE!"},{"$error":"#N/A"},{"$error":"#N/A"},{"$f":"SUM(IF(B106=\"\",0,INDEX(SignalHeads[Height ** (feet)],MATCH(B106,SignalHeads[Code],0))),IF(D106=\"\",0,INDEX(SignalHeads[Height ** (feet)],MATCH(D106,SignalHeads[Code],0))),IF(E106=\"\",0,INDEX(SignalHeads[Height ** (feet)],MATCH(E106,SignalHeads[Code],0))),IF(F106=\"\",0,INDEX(SignalHeads[Height ** (feet)],MATCH(F106,SignalHeads[Code],0))),IF(G106=\"\",0,INDEX(SignalHeads[Height ** (feet)],MATCH(G106,SignalHeads[Code],0))),IF(H106=\"\",0,INDEX(SignalHeads[Height ** (feet)],MATCH(H106,SignalHeads[Code],0))),IF(I106=\"\",0,INDEX(SignalHeads[Height ** (feet)],MATCH(I106,SignalHeads[Code],0))))","v":0},{"$f":"IF(S106=0,\"\",ROUNDDOWN(12*(((Q106-S106)-MIN($Q$26:$Q$425-$S$26:$S$425)-(MAX($S$26:$S$425*(($Q$26:$Q$425-$S$26:$S$425)=MIN($Q$26:$Q$425-$S$26:$S$425)))-S106))+(MIN($Q$26:$Q$425-$S$26:$S$425)-$I$10)),0)/12)","v":""},"",{"$error":"#N/A"},17]
[82,null,null,null,null,null,null,null,null,{"$f":"SUM(IF(B107=\"\",0,INDEX(SignalHeads[Perp. Wind Area (sft)],MATCH(B107,SignalHeads[Code],0))),IF(D107=\"\",0,INDEX(SignalHeads[Perp. Wind Area (sft)],MATCH(D107,SignalHeads[Code],0))),IF(E107=\"\",0,INDEX(SignalHeads[Perp. Wind Area (sft)],MATCH(E107,SignalHeads[Code],0))),IF(F107=\"\",0,INDEX(SignalHeads[Perp. Wind Area (sft)],MATCH(F107,SignalHeads[Code],0))),IF(G107=\"\",0,INDEX(SignalHeads[Perp. Wind Area (sft)],MATCH(G107,SignalHeads[Code],0))),IF(H107=\"\",0,INDEX(SignalHeads[Perp. Wind Area (sft)],MATCH(H107,SignalHeads[Code],0))),IF(I107=\"\",0,INDEX(SignalHeads[Perp. Wind Area (sft)],MATCH(I107,SignalHeads[Code],0))))","v":0},{"$f":"SUM(IF(B107=\"\",0,INDEX(SignalHeads[Weight*** (lbs)],MATCH(B107,SignalHeads[Code],0))),IF(D107=\"\",0,INDEX(SignalHeads[Weight*** (lbs)],MATCH(D107,SignalHeads[Code],0))),IF(E107=\"\",0,INDEX(SignalHeads[Weight*** (lbs)],MATCH(E107,SignalHeads[Code],0))),IF(F107=\"\",0,INDEX(SignalHeads[Weight*** (lbs)],MATCH(F107,SignalHeads[Code],0))),IF(G107=\"\",0,INDEX(SignalHeads[Weight*** (lbs)],MATCH(G107,SignalHeads[Code],0))),IF(H107=\"\",0,INDEX(SignalHeads[Weight*** (lbs)],MATCH(H107,SignalHeads[Code],0))),IF(I107=\"\",0,INDEX(SignalHeads[Weight*** (lbs)],MATCH(I107,SignalHeads[Code],0))))","v":0},{"$f":"IF(A107<=$I$8,INDEX(DesignConstants[Value],MATCH(\"Span Wire Weight (plf)\",DesignConstants[Design Constant],0)),0)","v":1.155},0,94.132500000000007,{"$error":"#VALUE!"},{"$error":"#VALUE!"},{"$error":"#N/A"},{"$error":"#N/A"},{"$f":"SUM(IF(B107=\"\",0,INDEX(SignalHeads[Height ** (feet)],MATCH(B107,SignalHeads[Code],0))),IF(D107=\"\",0,INDEX(SignalHeads[Height ** (feet)],MATCH(D107,SignalHeads[Code],0))),IF(E107=\"\",0,INDEX(SignalHeads[Height ** (feet)],MATCH(E107,SignalHeads[Code],0))),IF(F107=\"\",0,INDEX(SignalHeads[Height ** (feet)],MATCH(F107,SignalHeads[Code],0))),IF(G107=\"\",0,INDEX(SignalHeads[Height ** (feet)],MATCH(G107,SignalHeads[Code],0))),IF(H107=\"\",0,INDEX(SignalHeads[Height ** (feet)],MATCH(H107,SignalHeads[Code],0))),IF(I107=\"\",0,INDEX(SignalHeads[Height ** (feet)],MATCH(I107,SignalHeads[Code],0))))","v":0},{"$f":"IF(S107=0,\"\",ROUNDDOWN(12*(((Q107-S107)-MIN($Q$26:$Q$425-$S$26:$S$425)-(MAX($S$26:$S$425*(($Q$26:$Q$425-$S$26:$S$425)=MIN($Q$26:$Q$425-$S$26:$S$425)))-S107))+(MIN($Q$26:$Q$425-$S$26:$S$425)-$I$10)),0)/12)","v":""},"",{"$error":"#N/A"},17]
[83,null,null,null,null,null,null,null,null,{"$f":"SUM(IF(B108=\"\",0,INDEX(SignalHeads[Perp. Wind Area (sft)],MATCH(B108,SignalHeads[Code],0))),IF(D108=\"\",0,INDEX(SignalHeads[Perp. Wind Area (sft)],MATCH(D108,SignalHeads[Code],0))),IF(E108=\"\",0,INDEX(SignalHeads[Perp. Wind Area (sft)],MATCH(E108,SignalHeads[Code],0))),IF(F108=\"\",0,INDEX(SignalHeads[Perp. Wind Area (sft)],MATCH(F108,SignalHeads[Code],0))),IF(G108=\"\",0,INDEX(SignalHeads[Perp. Wind Area (sft)],MATCH(G108,SignalHeads[Code],0))),IF(H108=\"\",0,INDEX(SignalHeads[Perp. Wind Area (sft)],MATCH(H108,SignalHeads[Code],0))),IF(I108=\"\",0,INDEX(SignalHeads[Perp. Wind Area (sft)],MATCH(I108,SignalHeads[Code],0))))","v":0},{"$f":"SUM(IF(B108=\"\",0,INDEX(SignalHeads[Weight*** (lbs)],MATCH(B108,SignalHeads[Code],0))),IF(D108=\"\",0,INDEX(SignalHeads[Weight*** (lbs)],MATCH(D108,SignalHeads[Code],0))),IF(E108=\"\",0,INDEX(SignalHeads[Weight*** (lbs)],MATCH(E108,SignalHeads[Code],0))),IF(F108=\"\",0,INDEX(SignalHeads[Weight*** (lbs)],MATCH(F108,SignalHeads[Code],0))),IF(G108=\"\",0,INDEX(SignalHeads[Weight*** (lbs)],MATCH(G108,SignalHeads[Code],0))),IF(H108=\"\",0,INDEX(SignalHeads[Weight*** (lbs)],MATCH(H108,SignalHeads[Code],0))),IF(I108=\"\",0,INDEX(SignalHeads[Weight*** (lbs)],MATCH(I108,SignalHeads[Code],0))))","v":0},{"$f":"IF(A108<=$I$8,INDEX(DesignConstants[Value],MATCH(\"Span Wire Weight (plf)\",DesignConstants[Design Constant],0)),0)","v":1.155},0,95.287500000000009,{"$error":"#VALUE!"},{"$error":"#VALUE!"},{"$error":"#N/A"},{"$error":"#N/A"},{"$f":"SUM(IF(B108=\"\",0,INDEX(SignalHeads[Height ** (feet)],MATCH(B108,SignalHeads[Code],0))),IF(D108=\"\",0,INDEX(SignalHeads[Height ** (feet)],MATCH(D108,SignalHeads[Code],0))),IF(E108=\"\",0,INDEX(SignalHeads[Height ** (feet)],MATCH(E108,SignalHeads[Code],0))),IF(F108=\"\",0,INDEX(SignalHeads[Height ** (feet)],MATCH(F108,SignalHeads[Code],0))),IF(G108=\"\",0,INDEX(SignalHeads[Height ** (feet)],MATCH(G108,SignalHeads[Code],0))),IF(H108=\"\",0,INDEX(SignalHeads[Height ** (feet)],MATCH(H108,SignalHeads[Code],0))),IF(I108=\"\",0,INDEX(SignalHeads[Height ** (feet)],MATCH(I108,SignalHeads[Code],0))))","v":0},{"$f":"IF(S108=0,\"\",ROUNDDOWN(12*(((Q108-S108)-MIN($Q$26:$Q$425-$S$26:$S$425)-(MAX($S$26:$S$425*(($Q$26:$Q$425-$S$26:$S$425)=MIN($Q$26:$Q$425-$S$26:$S$425)))-S108))+(MIN($Q$26:$Q$425-$S$26:$S$425)-$I$10)),0)/12)","v":""},"",{"$error":"#N/A"},17]
[84,null,null,null,null,null,null,null,null,{"$f":"SUM(IF(B109=\"\",0,INDEX(SignalHeads[Perp. Wind Area (sft)],MATCH(B109,SignalHeads[Code],0))),IF(D109=\"\",0,INDEX(SignalHeads[Perp. Wind Area (sft)],MATCH(D109,SignalHeads[Code],0))),IF(E109=\"\",0,INDEX(SignalHeads[Perp. Wind Area (sft)],MATCH(E109,SignalHeads[Code],0))),IF(F109=\"\",0,INDEX(SignalHeads[Perp. Wind Area (sft)],MATCH(F109,SignalHeads[Code],0))),IF(G109=\"\",0,INDEX(SignalHeads[Perp. Wind Area (sft)],MATCH(G109,SignalHeads[Code],0))),IF(H109=\"\",0,INDEX(SignalHeads[Perp. Wind Area (sft)],MATCH(H109,SignalHeads[Code],0))),IF(I109=\"\",0,INDEX(SignalHeads[Perp. Wind Area (sft)],MATCH(I109,SignalHeads[Code],0))))","v":0},{"$f":"SUM(IF(B109=\"\",0,INDEX(SignalHeads[Weight*** (lbs)],MATCH(B109,SignalHeads[Code],0))),IF(D109=\"\",0,INDEX(SignalHeads[Weight*** (lbs)],MATCH(D109,SignalHeads[Code],0))),IF(E109=\"\",0,INDEX(SignalHeads[Weight*** (lbs)],MATCH(E109,SignalHeads[Code],0))),IF(F109=\"\",0,INDEX(SignalHeads[Weight*** (lbs)],MATCH(F109,SignalHeads[Code],0))),IF(G109=\"\",0,INDEX(SignalHeads[Weight*** (lbs)],MATCH(G109,SignalHeads[Code],0))),IF(H109=\"\",0,INDEX(SignalHeads[Weight*** (lbs)],MATCH(H109,SignalHeads[Code],0))),IF(I109=\"\",0,INDEX(SignalHeads[Weight*** (lbs)],MATCH(I109,SignalHeads[Code],0))))","v":0},{"$f":"IF(A109<=$I$8,INDEX(DesignConstants[Value],MATCH(\"Span Wire Weight (plf)\",DesignConstants[Design Constant],0)),0)","v":1.155},0,96.442499999999995,{"$error":"#VALUE!"},{"$error":"#VALUE!"},{"$error":"#N/A"},{"$error":"#N/A"},{"$f":"SUM(IF(B109=\"\",0,INDEX(SignalHeads[Height ** (feet)],MATCH(B109,SignalHeads[Code],0))),IF(D109=\"\",0,INDEX(SignalHeads[Height ** (feet)],MATCH(D109,SignalHeads[Code],0))),IF(E109=\"\",0,INDEX(SignalHeads[Height ** (feet)],MATCH(E109,SignalHeads[Code],0))),IF(F109=\"\",0,INDEX(SignalHeads[Height ** (feet)],MATCH(F109,SignalHeads[Code],0))),IF(G109=\"\",0,INDEX(SignalHeads[Height ** (feet)],MATCH(G109,SignalHeads[Code],0))),IF(H109=\"\",0,INDEX(SignalHeads[Height ** (feet)],MATCH(H109,SignalHeads[Code],0))),IF(I109=\"\",0,INDEX(SignalHeads[Height ** (feet)],MATCH(I109,SignalHeads[Code],0))))","v":0},{"$f":"IF(S109=0,\"\",ROUNDDOWN(12*(((Q109-S109)-MIN($Q$26:$Q$425-$S$26:$S$425)-(MAX($S$26:$S$425*(($Q$26:$Q$425-$S$26:$S$425)=MIN($Q$26:$Q$425-$S$26:$S$425)))-S109))+(MIN($Q$26:$Q$425-$S$26:$S$425)-$I$10)),0)/12)","v":""},"",{"$error":"#N/A"},17]
[85,null,null,null,null,null,null,null,null,{"$f":"SUM(IF(B110=\"\",0,INDEX(SignalHeads[Perp. Wind Area (sft)],MATCH(B110,SignalHeads[Code],0))),IF(D110=\"\",0,INDEX(SignalHeads[Perp. Wind Area (sft)],MATCH(D110,SignalHeads[Code],0))),IF(E110=\"\",0,INDEX(SignalHeads[Perp. Wind Area (sft)],MATCH(E110,SignalHeads[Code],0))),IF(F110=\"\",0,INDEX(SignalHeads[Perp. Wind Area (sft)],MATCH(F110,SignalHeads[Code],0))),IF(G110=\"\",0,INDEX(SignalHeads[Perp. Wind Area (sft)],MATCH(G110,SignalHeads[Code],0))),IF(H110=\"\",0,INDEX(SignalHeads[Perp. Wind Area (sft)],MATCH(H110,SignalHeads[Code],0))),IF(I110=\"\",0,INDEX(SignalHeads[Perp. Wind Area (sft)],MATCH(I110,SignalHeads[Code],0))))","v":0},{"$f":"SUM(IF(B110=\"\",0,INDEX(SignalHeads[Weight*** (lbs)],MATCH(B110,SignalHeads[Code],0))),IF(D110=\"\",0,INDEX(SignalHeads[Weight*** (lbs)],MATCH(D110,SignalHeads[Code],0))),IF(E110=\"\",0,INDEX(SignalHeads[Weight*** (lbs)],MATCH(E110,SignalHeads[Code],0))),IF(F110=\"\",0,INDEX(SignalHeads[Weight*** (lbs)],MATCH(F110,SignalHeads[Code],0))),IF(G110=\"\",0,INDEX(SignalHeads[Weight*** (lbs)],MATCH(G110,SignalHeads[Code],0))),IF(H110=\"\",0,INDEX(SignalHeads[Weight*** (lbs)],MATCH(H110,SignalHeads[Code],0))),IF(I110=\"\",0,INDEX(SignalHeads[Weight*** (lbs)],MATCH(I110,SignalHeads[Code],0))))","v":0},{"$f":"IF(A110<=$I$8,INDEX(DesignConstants[Value],MATCH(\"Span Wire Weight (plf)\",DesignConstants[Design Constant],0)),0)","v":1.155},0,97.597499999999997,{"$error":"#VALUE!"},{"$error":"#VALUE!"},{"$error":"#N/A"},{"$error":"#N/A"},{"$f":"SUM(IF(B110=\"\",0,INDEX(SignalHeads[Height ** (feet)],MATCH(B110,SignalHeads[Code],0))),IF(D110=\"\",0,INDEX(SignalHeads[Height ** (feet)],MATCH(D110,SignalHeads[Code],0))),IF(E110=\"\",0,INDEX(SignalHeads[Height ** (feet)],MATCH(E110,SignalHeads[Code],0))),IF(F110=\"\",0,INDEX(SignalHeads[Height ** (feet)],MATCH(F110,SignalHeads[Code],0))),IF(G110=\"\",0,INDEX(SignalHeads[Height ** (feet)],MATCH(G110,SignalHeads[Code],0))),IF(H110=\"\",0,INDEX(SignalHeads[Height ** (feet)],MATCH(H110,SignalHeads[Code],0))),IF(I110=\"\",0,INDEX(SignalHeads[Height ** (feet)],MATCH(I110,SignalHeads[Code],0))))","v":0},{"$f":"IF(S110=0,\"\",ROUNDDOWN(12*(((Q110-S110)-MIN($Q$26:$Q$425-$S$26:$S$425)-(MAX($S$26:$S$425*(($Q$26:$Q$425-$S$26:$S$425)=MIN($Q$26:$Q$425-$S$26:$S$425)))-S110))+(MIN($Q$26:$Q$425-$S$26:$S$425)-$I$10)),0)/12)","v":""},"",{"$error":"#N/A"},17]
[86,null,null,null,null,null,null,null,null,{"$f":"SUM(IF(B111=\"\",0,INDEX(SignalHeads[Perp. Wind Area (sft)],MATCH(B111,SignalHeads[Code],0))),IF(D111=\"\",0,INDEX(SignalHeads[Perp. Wind Area (sft)],MATCH(D111,SignalHeads[Code],0))),IF(E111=\"\",0,INDEX(SignalHeads[Perp. Wind Area (sft)],MATCH(E111,SignalHeads[Code],0))),IF(F111=\"\",0,INDEX(SignalHeads[Perp. Wind Area (sft)],MATCH(F111,SignalHeads[Code],0))),IF(G111=\"\",0,INDEX(SignalHeads[Perp. Wind Area (sft)],MATCH(G111,SignalHeads[Code],0))),IF(H111=\"\",0,INDEX(SignalHeads[Perp. Wind Area (sft)],MATCH(H111,SignalHeads[Code],0))),IF(I111=\"\",0,INDEX(SignalHeads[Perp. Wind Area (sft)],MATCH(I111,SignalHeads[Code],0))))","v":0},{"$f":"SUM(IF(B111=\"\",0,INDEX(SignalHeads[Weight*** (lbs)],MATCH(B111,SignalHeads[Code],0))),IF(D111=\"\",0,INDEX(SignalHeads[Weight*** (lbs)],MATCH(D111,SignalHeads[Code],0))),IF(E111=\"\",0,INDEX(SignalHeads[Weight*** (lbs)],MATCH(E111,SignalHeads[Code],0))),IF(F111=\"\",0,INDEX(SignalHeads[Weight*** (lbs)],MATCH(F111,SignalHeads[Code],0))),IF(G111=\"\",0,INDEX(SignalHeads[Weight*** (lbs)],MATCH(G111,SignalHeads[Code],0))),IF(H111=\"\",0,INDEX(SignalHeads[Weight*** (lbs)],MATCH(H111,SignalHeads[Code],0))),IF(I111=\"\",0,INDEX(SignalHeads[Weight*** (lbs)],MATCH(I111,SignalHeads[Code],0))))","v":0},{"$f":"IF(A111<=$I$8,INDEX(DesignConstants[Value],MATCH(\"Span Wire Weight (plf)\",DesignConstants[Design Constant],0)),0)","v":1.155},0,98.752499999999998,{"$error":"#VALUE!"},{"$error":"#VALUE!"},{"$error":"#N/A"},{"$error":"#N/A"},{"$f":"SUM(IF(B111=\"\",0,INDEX(SignalHeads[Height ** (feet)],MATCH(B111,SignalHeads[Code],0))),IF(D111=\"\",0,INDEX(SignalHeads[Height ** (feet)],MATCH(D111,SignalHeads[Code],0))),IF(E111=\"\",0,INDEX(SignalHeads[Height ** (feet)],MATCH(E111,SignalHeads[Code],0))),IF(F111=\"\",0,INDEX(SignalHeads[Height ** (feet)],MATCH(F111,SignalHeads[Code],0))),IF(G111=\"\",0,INDEX(SignalHeads[Height ** (feet)],MATCH(G111,SignalHeads[Code],0))),IF(H111=\"\",0,INDEX(SignalHeads[Height ** (feet)],MATCH(H111,SignalHeads[Code],0))),IF(I111=\"\",0,INDEX(SignalHeads[Height ** (feet)],MATCH(I111,SignalHeads[Code],0))))","v":0},{"$f":"IF(S111=0,\"\",ROUNDDOWN(12*(((Q111-S111)-MIN($Q$26:$Q$425-$S$26:$S$425)-(MAX($S$26:$S$425*(($Q$26:$Q$425-$S$26:$S$425)=MIN($Q$26:$Q$425-$S$26:$S$425)))-S111))+(MIN($Q$26:$Q$425-$S$26:$S$425)-$I$10)),0)/12)","v":""},"",{"$error":"#N/A"},17]
[87,null,null,null,null,null,null,null,null,{"$f":"SUM(IF(B112=\"\",0,INDEX(SignalHeads[Perp. Wind Area (sft)],MATCH(B112,SignalHeads[Code],0))),IF(D112=\"\",0,INDEX(SignalHeads[Perp. Wind Area (sft)],MATCH(D112,SignalHeads[Code],0))),IF(E112=\"\",0,INDEX(SignalHeads[Perp. Wind Area (sft)],MATCH(E112,SignalHeads[Code],0))),IF(F112=\"\",0,INDEX(SignalHeads[Perp. Wind Area (sft)],MATCH(F112,SignalHeads[Code],0))),IF(G112=\"\",0,INDEX(SignalHeads[Perp. Wind Area (sft)],MATCH(G112,SignalHeads[Code],0))),IF(H112=\"\",0,INDEX(SignalHeads[Perp. Wind Area (sft)],MATCH(H112,SignalHeads[Code],0))),IF(I112=\"\",0,INDEX(SignalHeads[Perp. Wind Area (sft)],MATCH(I112,SignalHeads[Code],0))))","v":0},{"$f":"SUM(IF(B112=\"\",0,INDEX(SignalHeads[Weight*** (lbs)],MATCH(B112,SignalHeads[Code],0))),IF(D112=\"\",0,INDEX(SignalHeads[Weight*** (lbs)],MATCH(D112,SignalHeads[Code],0))),IF(E112=\"\",0,INDEX(SignalHeads[Weight*** (lbs)],MATCH(E112,SignalHeads[Code],0))),IF(F112=\"\",0,INDEX(SignalHeads[Weight*** (lbs)],MATCH(F112,SignalHeads[Code],0))),IF(G112=\"\",0,INDEX(SignalHeads[Weight*** (lbs)],MATCH(G112,SignalHeads[Code],0))),IF(H112=\"\",0,INDEX(SignalHeads[Weight*** (lbs)],MATCH(H112,SignalHeads[Code],0))),IF(I112=\"\",0,INDEX(SignalHeads[Weight*** (lbs)],MATCH(I112,SignalHeads[Code],0))))","v":0},{"$f":"IF(A112<=$I$8,INDEX(DesignConstants[Value],MATCH(\"Span Wire Weight (plf)\",DesignConstants[Design Constant],0)),0)","v":1.155},0,99.907499999999999,{"$error":"#VALUE!"},{"$error":"#VALUE!"},{"$error":"#N/A"},{"$error":"#N/A"},{"$f":"SUM(IF(B112=\"\",0,INDEX(SignalHeads[Height ** (feet)],MATCH(B112,SignalHeads[Code],0))),IF(D112=\"\",0,INDEX(SignalHeads[Height ** (feet)],MATCH(D112,SignalHeads[Code],0))),IF(E112=\"\",0,INDEX(SignalHeads[Height ** (feet)],MATCH(E112,SignalHeads[Code],0))),IF(F112=\"\",0,INDEX(SignalHeads[Height ** (feet)],MATCH(F112,SignalHeads[Code],0))),IF(G112=\"\",0,INDEX(SignalHeads[Height ** (feet)],MATCH(G112,SignalHeads[Code],0))),IF(H112=\"\",0,INDEX(SignalHeads[Height ** (feet)],MATCH(H112,SignalHeads[Code],0))),IF(I112=\"\",0,INDEX(SignalHeads[Height ** (feet)],MATCH(I112,SignalHeads[Code],0))))","v":0},{"$f":"IF(S112=0,\"\",ROUNDDOWN(12*(((Q112-S112)-MIN($Q$26:$Q$425-$S$26:$S$425)-(MAX($S$26:$S$425*(($Q$26:$Q$425-$S$26:$S$425)=MIN($Q$26:$Q$425-$S$26:$S$425)))-S112))+(MIN($Q$26:$Q$425-$S$26:$S$425)-$I$10)),0)/12)","v":""},"",{"$error":"#N/A"},17]
[88,null,null,null,null,null,null,null,null,{"$f":"SUM(IF(B113=\"\",0,INDEX(SignalHeads[Perp. Wind Area (sft)],MATCH(B113,SignalHeads[Code],0))),IF(D113=\"\",0,INDEX(SignalHeads[Perp. Wind Area (sft)],MATCH(D113,SignalHeads[Code],0))),IF(E113=\"\",0,INDEX(SignalHeads[Perp. Wind Area (sft)],MATCH(E113,SignalHeads[Code],0))),IF(F113=\"\",0,INDEX(SignalHeads[Perp. Wind Area (sft)],MATCH(F113,SignalHeads[Code],0))),IF(G113=\"\",0,INDEX(SignalHeads[Perp. Wind Area (sft)],MATCH(G113,SignalHeads[Code],0))),IF(H113=\"\",0,INDEX(SignalHeads[Perp. Wind Area (sft)],MATCH(H113,SignalHeads[Code],0))),IF(I113=\"\",0,INDEX(SignalHeads[Perp. Wind Area (sft)],MATCH(I113,SignalHeads[Code],0))))","v":0},{"$f":"SUM(IF(B113=\"\",0,INDEX(SignalHeads[Weight*** (lbs)],MATCH(B113,SignalHeads[Code],0))),IF(D113=\"\",0,INDEX(SignalHeads[Weight*** (lbs)],MATCH(D113,SignalHeads[Code],0))),IF(E113=\"\",0,INDEX(SignalHeads[Weight*** (lbs)],MATCH(E113,SignalHeads[Code],0))),IF(F113=\"\",0,INDEX(SignalHeads[Weight*** (lbs)],MATCH(F113,SignalHeads[Code],0))),IF(G113=\"\",0,INDEX(SignalHeads[Weight*** (lbs)],MATCH(G113,SignalHeads[Code],0))),IF(H113=\"\",0,INDEX(SignalHeads[Weight*** (lbs)],MATCH(H113,SignalHeads[Code],0))),IF(I113=\"\",0,INDEX(SignalHeads[Weight*** (lbs)],MATCH(I113,SignalHeads[Code],0))))","v":0},{"$f":"IF(A113<=$I$8,INDEX(DesignConstants[Value],MATCH(\"Span Wire Weight (plf)\",DesignConstants[Design Constant],0)),0)","v":1.155},0,101.0625,{"$error":"#VALUE!"},{"$error":"#VALUE!"},{"$error":"#N/A"},{"$error":"#N/A"},{"$f":"SUM(IF(B113=\"\",0,INDEX(SignalHeads[Height ** (feet)],MATCH(B113,SignalHeads[Code],0))),IF(D113=\"\",0,INDEX(SignalHeads[Height ** (feet)],MATCH(D113,SignalHeads[Code],0))),IF(E113=\"\",0,INDEX(SignalHeads[Height ** (feet)],MATCH(E113,SignalHeads[Code],0))),IF(F113=\"\",0,INDEX(SignalHeads[Height ** (feet)],MATCH(F113,SignalHeads[Code],0))),IF(G113=\"\",0,INDEX(SignalHeads[Height ** (feet)],MATCH(G113,SignalHeads[Code],0))),IF(H113=\"\",0,INDEX(SignalHeads[Height ** (feet)],MATCH(H113,SignalHeads[Code],0))),IF(I113=\"\",0,INDEX(SignalHeads[Height ** (feet)],MATCH(I113,SignalHeads[Code],0))))","v":0},{"$f":"IF(S113=0,\"\",ROUNDDOWN(12*(((Q113-S113)-MIN($Q$26:$Q$425-$S$26:$S$425)-(MAX($S$26:$S$425*(($Q$26:$Q$425-$S$26:$S$425)=MIN($Q$26:$Q$425-$S$26:$S$425)))-S113))+(MIN($Q$26:$Q$425-$S$26:$S$425)-$I$10)),0)/12)","v":""},"",{"$error":"#N/A"},17]
[89,null,null,null,null,null,null,null,null,{"$f":"SUM(IF(B114=\"\",0,INDEX(SignalHeads[Perp. Wind Area (sft)],MATCH(B114,SignalHeads[Code],0))),IF(D114=\"\",0,INDEX(SignalHeads[Perp. Wind Area (sft)],MATCH(D114,SignalHeads[Code],0))),IF(E114=\"\",0,INDEX(SignalHeads[Perp. Wind Area (sft)],MATCH(E114,SignalHeads[Code],0))),IF(F114=\"\",0,INDEX(SignalHeads[Perp. Wind Area (sft)],MATCH(F114,SignalHeads[Code],0))),IF(G114=\"\",0,INDEX(SignalHeads[Perp. Wind Area (sft)],MATCH(G114,SignalHeads[Code],0))),IF(H114=\"\",0,INDEX(SignalHeads[Perp. Wind Area (sft)],MATCH(H114,SignalHeads[Code],0))),IF(I114=\"\",0,INDEX(SignalHeads[Perp. Wind Area (sft)],MATCH(I114,SignalHeads[Code],0))))","v":0},{"$f":"SUM(IF(B114=\"\",0,INDEX(SignalHeads[Weight*** (lbs)],MATCH(B114,SignalHeads[Code],0))),IF(D114=\"\",0,INDEX(SignalHeads[Weight*** (lbs)],MATCH(D114,SignalHeads[Code],0))),IF(E114=\"\",0,INDEX(SignalHeads[Weight*** (lbs)],MATCH(E114,SignalHeads[Code],0))),IF(F114=\"\",0,INDEX(SignalHeads[Weight*** (lbs)],MATCH(F114,SignalHeads[Code],0))),IF(G114=\"\",0,INDEX(SignalHeads[Weight*** (lbs)],MATCH(G114,SignalHeads[Code],0))),IF(H114=\"\",0,INDEX(SignalHeads[Weight*** (lbs)],MATCH(H114,SignalHeads[Code],0))),IF(I114=\"\",0,INDEX(SignalHeads[Weight*** (lbs)],MATCH(I114,SignalHeads[Code],0))))","v":0},{"$f":"IF(A114<=$I$8,INDEX(DesignConstants[Value],MATCH(\"Span Wire Weight (plf)\",DesignConstants[Design Constant],0)),0)","v":1.155},0,102.2175,{"$error":"#VALUE!"},{"$error":"#VALUE!"},{"$error":"#N/A"},{"$error":"#N/A"},{"$f":"SUM(IF(B114=\"\",0,INDEX(SignalHeads[Height ** (feet)],MATCH(B114,SignalHeads[Code],0))),IF(D114=\"\",0,INDEX(SignalHeads[Height ** (feet)],MATCH(D114,SignalHeads[Code],0))),IF(E114=\"\",0,INDEX(SignalHeads[Height ** (feet)],MATCH(E114,SignalHeads[Code],0))),IF(F114=\"\",0,INDEX(SignalHeads[Height ** (feet)],MATCH(F114,SignalHeads[Code],0))),IF(G114=\"\",0,INDEX(SignalHeads[Height ** (feet)],MATCH(G114,SignalHeads[Code],0))),IF(H114=\"\",0,INDEX(SignalHeads[Height ** (feet)],MATCH(H114,SignalHeads[Code],0))),IF(I114=\"\",0,INDEX(SignalHeads[Height ** (feet)],MATCH(I114,SignalHeads[Code],0))))","v":0},{"$f":"IF(S114=0,\"\",ROUNDDOWN(12*(((Q114-S114)-MIN($Q$26:$Q$425-$S$26:$S$425)-(MAX($S$26:$S$425*(($Q$26:$Q$425-$S$26:$S$425)=MIN($Q$26:$Q$425-$S$26:$S$425)))-S114))+(MIN($Q$26:$Q$425-$S$26:$S$425)-$I$10)),0)/12)","v":""},"",{"$error":"#N/A"},17]
[90,null,null,null,null,null,null,null,null,{"$f":"SUM(IF(B115=\"\",0,INDEX(SignalHeads[Perp. Wind Area (sft)],MATCH(B115,SignalHeads[Code],0))),IF(D115=\"\",0,INDEX(SignalHeads[Perp. Wind Area (sft)],MATCH(D115,SignalHeads[Code],0))),IF(E115=\"\",0,INDEX(SignalHeads[Perp. Wind Area (sft)],MATCH(E115,SignalHeads[Code],0))),IF(F115=\"\",0,INDEX(SignalHeads[Perp. Wind Area (sft)],MATCH(F115,SignalHeads[Code],0))),IF(G115=\"\",0,INDEX(SignalHeads[Perp. Wind Area (sft)],MATCH(G115,SignalHeads[Code],0))),IF(H115=\"\",0,INDEX(SignalHeads[Perp. Wind Area (sft)],MATCH(H115,SignalHeads[Code],0))),IF(I115=\"\",0,INDEX(SignalHeads[Perp. Wind Area (sft)],MATCH(I115,SignalHeads[Code],0))))","v":0},{"$f":"SUM(IF(B115=\"\",0,INDEX(SignalHeads[Weight*** (lbs)],MATCH(B115,SignalHeads[Code],0))),IF(D115=\"\",0,INDEX(SignalHeads[Weight*** (lbs)],MATCH(D115,SignalHeads[Code],0))),IF(E115=\"\",0,INDEX(SignalHeads[Weight*** (lbs)],MATCH(E115,SignalHeads[Code],0))),IF(F115=\"\",0,INDEX(SignalHeads[Weight*** (lbs)],MATCH(F115,SignalHeads[Code],0))),IF(G115=\"\",0,INDEX(SignalHeads[Weight*** (lbs)],MATCH(G115,SignalHeads[Code],0))),IF(H115=\"\",0,INDEX(SignalHeads[Weight*** (lbs)],MATCH(H115,SignalHeads[Code],0))),IF(I115=\"\",0,INDEX(SignalHeads[Weight*** (lbs)],MATCH(I115,SignalHeads[Code],0))))","v":0},{"$f":"IF(A115<=$I$8,INDEX(DesignConstants[Value],MATCH(\"Span Wire Weight (plf)\",DesignConstants[Design Constant],0)),0)","v":1.155},0,103.3725,{"$error":"#VALUE!"},{"$error":"#VALUE!"},{"$error":"#N/A"},{"$error":"#N/A"},{"$f":"SUM(IF(B115=\"\",0,INDEX(SignalHeads[Height ** (feet)],MATCH(B115,SignalHeads[Code],0))),IF(D115=\"\",0,INDEX(SignalHeads[Height ** (feet)],MATCH(D115,SignalHeads[Code],0))),IF(E115=\"\",0,INDEX(SignalHeads[Height ** (feet)],MATCH(E115,SignalHeads[Code],0))),IF(F115=\"\",0,INDEX(SignalHeads[Height ** (feet)],MATCH(F115,SignalHeads[Code],0))),IF(G115=\"\",0,INDEX(SignalHeads[Height ** (feet)],MATCH(G115,SignalHeads[Code],0))),IF(H115=\"\",0,INDEX(SignalHeads[Height ** (feet)],MATCH(H115,SignalHeads[Code],0))),IF(I115=\"\",0,INDEX(SignalHeads[Height ** (feet)],MATCH(I115,SignalHeads[Code],0))))","v":0},{"$f":"IF(S115=0,\"\",ROUNDDOWN(12*(((Q115-S115)-MIN($Q$26:$Q$425-$S$26:$S$425)-(MAX($S$26:$S$425*(($Q$26:$Q$425-$S$26:$S$425)=MIN($Q$26:$Q$425-$S$26:$S$425)))-S115))+(MIN($Q$26:$Q$425-$S$26:$S$425)-$I$10)),0)/12)","v":""},"",{"$error":"#N/A"},17]
[91,null,null,null,null,null,null,null,null,{"$f":"SUM(IF(B116=\"\",0,INDEX(SignalHeads[Perp. Wind Area (sft)],MATCH(B116,SignalHeads[Code],0))),IF(D116=\"\",0,INDEX(SignalHeads[Perp. Wind Area (sft)],MATCH(D116,SignalHeads[Code],0))),IF(E116=\"\",0,INDEX(SignalHeads[Perp. Wind Area (sft)],MATCH(E116,SignalHeads[Code],0))),IF(F116=\"\",0,INDEX(SignalHeads[Perp. Wind Area (sft)],MATCH(F116,SignalHeads[Code],0))),IF(G116=\"\",0,INDEX(SignalHeads[Perp. Wind Area (sft)],MATCH(G116,SignalHeads[Code],0))),IF(H116=\"\",0,INDEX(SignalHeads[Perp. Wind Area (sft)],MATCH(H116,SignalHeads[Code],0))),IF(I116=\"\",0,INDEX(SignalHeads[Perp. Wind Area (sft)],MATCH(I116,SignalHeads[Code],0))))","v":0},{"$f":"SUM(IF(B116=\"\",0,INDEX(SignalHeads[Weight*** (lbs)],MATCH(B116,SignalHeads[Code],0))),IF(D116=\"\",0,INDEX(SignalHeads[Weight*** (lbs)],MATCH(D116,SignalHeads[Code],0))),IF(E116=\"\",0,INDEX(SignalHeads[Weight*** (lbs)],MATCH(E116,SignalHeads[Code],0))),IF(F116=\"\",0,INDEX(SignalHeads[Weight*** (lbs)],MATCH(F116,SignalHeads[Code],0))),IF(G116=\"\",0,INDEX(SignalHeads[Weight*** (lbs)],MATCH(G116,SignalHeads[Code],0))),IF(H116=\"\",0,INDEX(SignalHeads[Weight*** (lbs)],MATCH(H116,SignalHeads[Code],0))),IF(I116=\"\",0,INDEX(SignalHeads[Weight*** (lbs)],MATCH(I116,SignalHeads[Code],0))))","v":0},{"$f":"IF(A116<=$I$8,INDEX(DesignConstants[Value],MATCH(\"Span Wire Weight (plf)\",DesignConstants[Design Constant],0)),0)","v":1.155},0,104.5275,{"$error":"#VALUE!"},{"$error":"#VALUE!"},{"$error":"#N/A"},{"$error":"#N/A"},{"$f":"SUM(IF(B116=\"\",0,INDEX(SignalHeads[Height ** (feet)],MATCH(B116,SignalHeads[Code],0))),IF(D116=\"\",0,INDEX(SignalHeads[Height ** (feet)],MATCH(D116,SignalHeads[Code],0))),IF(E116=\"\",0,INDEX(SignalHeads[Height ** (feet)],MATCH(E116,SignalHeads[Code],0))),IF(F116=\"\",0,INDEX(SignalHeads[Height ** (feet)],MATCH(F116,SignalHeads[Code],0))),IF(G116=\"\",0,INDEX(SignalHeads[Height ** (feet)],MATCH(G116,SignalHeads[Code],0))),IF(H116=\"\",0,INDEX(SignalHeads[Height ** (feet)],MATCH(H116,SignalHeads[Code],0))),IF(I116=\"\",0,INDEX(SignalHeads[Height ** (feet)],MATCH(I116,SignalHeads[Code],0))))","v":0},{"$f":"IF(S116=0,\"\",ROUNDDOWN(12*(((Q116-S116)-MIN($Q$26:$Q$425-$S$26:$S$425)-(MAX($S$26:$S$425*(($Q$26:$Q$425-$S$26:$S$425)=MIN($Q$26:$Q$425-$S$26:$S$425)))-S116))+(MIN($Q$26:$Q$425-$S$26:$S$425)-$I$10)),0)/12)","v":""},"",{"$error":"#N/A"},17]
[92,null,null,null,null,null,null,null,null,{"$f":"SUM(IF(B117=\"\",0,INDEX(SignalHeads[Perp. Wind Area (sft)],MATCH(B117,SignalHeads[Code],0))),IF(D117=\"\",0,INDEX(SignalHeads[Perp. Wind Area (sft)],MATCH(D117,SignalHeads[Code],0))),IF(E117=\"\",0,INDEX(SignalHeads[Perp. Wind Area (sft)],MATCH(E117,SignalHeads[Code],0))),IF(F117=\"\",0,INDEX(SignalHeads[Perp. Wind Area (sft)],MATCH(F117,SignalHeads[Code],0))),IF(G117=\"\",0,INDEX(SignalHeads[Perp. Wind Area (sft)],MATCH(G117,SignalHeads[Code],0))),IF(H117=\"\",0,INDEX(SignalHeads[Perp. Wind Area (sft)],MATCH(H117,SignalHeads[Code],0))),IF(I117=\"\",0,INDEX(SignalHeads[Perp. Wind Area (sft)],MATCH(I117,SignalHeads[Code],0))))","v":0},{"$f":"SUM(IF(B117=\"\",0,INDEX(SignalHeads[Weight*** (lbs)],MATCH(B117,SignalHeads[Code],0))),IF(D117=\"\",0,INDEX(SignalHeads[Weight*** (lbs)],MATCH(D117,SignalHeads[Code],0))),IF(E117=\"\",0,INDEX(SignalHeads[Weight*** (lbs)],MATCH(E117,SignalHeads[Code],0))),IF(F117=\"\",0,INDEX(SignalHeads[Weight*** (lbs)],MATCH(F117,SignalHeads[Code],0))),IF(G117=\"\",0,INDEX(SignalHeads[Weight*** (lbs)],MATCH(G117,SignalHeads[Code],0))),IF(H117=\"\",0,INDEX(SignalHeads[Weight*** (lbs)],MATCH(H117,SignalHeads[Code],0))),IF(I117=\"\",0,INDEX(SignalHeads[Weight*** (lbs)],MATCH(I117,SignalHeads[Code],0))))","v":0},{"$f":"IF(A117<=$I$8,INDEX(DesignConstants[Value],MATCH(\"Span Wire Weight (plf)\",DesignConstants[Design Constant],0)),0)","v":1.155},0,105.6825,{"$error":"#VALUE!"},{"$error":"#VALUE!"},{"$error":"#N/A"},{"$error":"#N/A"},{"$f":"SUM(IF(B117=\"\",0,INDEX(SignalHeads[Height ** (feet)],MATCH(B117,SignalHeads[Code],0))),IF(D117=\"\",0,INDEX(SignalHeads[Height ** (feet)],MATCH(D117,SignalHeads[Code],0))),IF(E117=\"\",0,INDEX(SignalHeads[Height ** (feet)],MATCH(E117,SignalHeads[Code],0))),IF(F117=\"\",0,INDEX(SignalHeads[Height ** (feet)],MATCH(F117,SignalHeads[Code],0))),IF(G117=\"\",0,INDEX(SignalHeads[Height ** (feet)],MATCH(G117,SignalHeads[Code],0))),IF(H117=\"\",0,INDEX(SignalHeads[Height ** (feet)],MATCH(H117,SignalHeads[Code],0))),IF(I117=\"\",0,INDEX(SignalHeads[Height ** (feet)],MATCH(I117,SignalHeads[Code],0))))","v":0},{"$f":"IF(S117=0,\"\",ROUNDDOWN(12*(((Q117-S117)-MIN($Q$26:$Q$425-$S$26:$S$425)-(MAX($S$26:$S$425*(($Q$26:$Q$425-$S$26:$S$425)=MIN($Q$26:$Q$425-$S$26:$S$425)))-S117))+(MIN($Q$26:$Q$425-$S$26:$S$425)-$I$10)),0)/12)","v":""},"",{"$error":"#N/A"},17]
[93,null,null,null,null,null,null,null,null,{"$f":"SUM(IF(B118=\"\",0,INDEX(SignalHeads[Perp. Wind Area (sft)],MATCH(B118,SignalHeads[Code],0))),IF(D118=\"\",0,INDEX(SignalHeads[Perp. Wind Area (sft)],MATCH(D118,SignalHeads[Code],0))),IF(E118=\"\",0,INDEX(SignalHeads[Perp. Wind Area (sft)],MATCH(E118,SignalHeads[Code],0))),IF(F118=\"\",0,INDEX(SignalHeads[Perp. Wind Area (sft)],MATCH(F118,SignalHeads[Code],0))),IF(G118=\"\",0,INDEX(SignalHeads[Perp. Wind Area (sft)],MATCH(G118,SignalHeads[Code],0))),IF(H118=\"\",0,INDEX(SignalHeads[Perp. Wind Area (sft)],MATCH(H118,SignalHeads[Code],0))),IF(I118=\"\",0,INDEX(SignalHeads[Perp. Wind Area (sft)],MATCH(I118,SignalHeads[Code],0))))","v":0},{"$f":"SUM(IF(B118=\"\",0,INDEX(SignalHeads[Weight*** (lbs)],MATCH(B118,SignalHeads[Code],0))),IF(D118=\"\",0,INDEX(SignalHeads[Weight*** (lbs)],MATCH(D118,SignalHeads[Code],0))),IF(E118=\"\",0,INDEX(SignalHeads[Weight*** (lbs)],MATCH(E118,SignalHeads[Code],0))),IF(F118=\"\",0,INDEX(SignalHeads[Weight*** (lbs)],MATCH(F118,SignalHeads[Code],0))),IF(G118=\"\",0,INDEX(SignalHeads[Weight*** (lbs)],MATCH(G118,SignalHeads[Code],0))),IF(H118=\"\",0,INDEX(SignalHeads[Weight*** (lbs)],MATCH(H118,SignalHeads[Code],0))),IF(I118=\"\",0,INDEX(SignalHeads[Weight*** (lbs)],MATCH(I118,SignalHeads[Code],0))))","v":0},{"$f":"IF(A118<=$I$8,INDEX(DesignConstants[Value],MATCH(\"Span Wire Weight (plf)\",DesignConstants[Design Constant],0)),0)","v":1.155},0,106.83750000000001,{"$error":"#VALUE!"},{"$error":"#VALUE!"},{"$error":"#N/A"},{"$error":"#N/A"},{"$f":"SUM(IF(B118=\"\",0,INDEX(SignalHeads[Height ** (feet)],MATCH(B118,SignalHeads[Code],0))),IF(D118=\"\",0,INDEX(SignalHeads[Height ** (feet)],MATCH(D118,SignalHeads[Code],0))),IF(E118=\"\",0,INDEX(SignalHeads[Height ** (feet)],MATCH(E118,SignalHeads[Code],0))),IF(F118=\"\",0,INDEX(SignalHeads[Height ** (feet)],MATCH(F118,SignalHeads[Code],0))),IF(G118=\"\",0,INDEX(SignalHeads[Height ** (feet)],MATCH(G118,SignalHeads[Code],0))),IF(H118=\"\",0,INDEX(SignalHeads[Height ** (feet)],MATCH(H118,SignalHeads[Code],0))),IF(I118=\"\",0,INDEX(SignalHeads[Height ** (feet)],MATCH(I118,SignalHeads[Code],0))))","v":0},{"$f":"IF(S118=0,\"\",ROUNDDOWN(12*(((Q118-S118)-MIN($Q$26:$Q$425-$S$26:$S$425)-(MAX($S$26:$S$425*(($Q$26:$Q$425-$S$26:$S$425)=MIN($Q$26:$Q$425-$S$26:$S$425)))-S118))+(MIN($Q$26:$Q$425-$S$26:$S$425)-$I$10)),0)/12)","v":""},"",{"$error":"#N/A"},17]
[94,null,null,null,null,null,null,null,null,{"$f":"SUM(IF(B119=\"\",0,INDEX(SignalHeads[Perp. Wind Area (sft)],MATCH(B119,SignalHeads[Code],0))),IF(D119=\"\",0,INDEX(SignalHeads[Perp. Wind Area (sft)],MATCH(D119,SignalHeads[Code],0))),IF(E119=\"\",0,INDEX(SignalHeads[Perp. Wind Area (sft)],MATCH(E119,SignalHeads[Code],0))),IF(F119=\"\",0,INDEX(SignalHeads[Perp. Wind Area (sft)],MATCH(F119,SignalHeads[Code],0))),IF(G119=\"\",0,INDEX(SignalHeads[Perp. Wind Area (sft)],MATCH(G119,SignalHeads[Code],0))),IF(H119=\"\",0,INDEX(SignalHeads[Perp. Wind Area (sft)],MATCH(H119,SignalHeads[Code],0))),IF(I119=\"\",0,INDEX(SignalHeads[Perp. Wind Area (sft)],MATCH(I119,SignalHeads[Code],0))))","v":0},{"$f":"SUM(IF(B119=\"\",0,INDEX(SignalHeads[Weight*** (lbs)],MATCH(B119,SignalHeads[Code],0))),IF(D119=\"\",0,INDEX(SignalHeads[Weight*** (lbs)],MATCH(D119,SignalHeads[Code],0))),IF(E119=\"\",0,INDEX(SignalHeads[Weight*** (lbs)],MATCH(E119,SignalHeads[Code],0))),IF(F119=\"\",0,INDEX(SignalHeads[Weight*** (lbs)],MATCH(F119,SignalHeads[Code],0))),IF(G119=\"\",0,INDEX(SignalHeads[Weight*** (lbs)],MATCH(G119,SignalHeads[Code],0))),IF(H119=\"\",0,INDEX(SignalHeads[Weight*** (lbs)],MATCH(H119,SignalHeads[Code],0))),IF(I119=\"\",0,INDEX(SignalHeads[Weight*** (lbs)],MATCH(I119,SignalHeads[Code],0))))","v":0},{"$f":"IF(A119<=$I$8,INDEX(DesignConstants[Value],MATCH(\"Span Wire Weight (plf)\",DesignConstants[Design Constant],0)),0)","v":1.155},0,107.99250000000001,{"$error":"#VALUE!"},{"$error":"#VALUE!"},{"$error":"#N/A"},{"$error":"#N/A"},{"$f":"SUM(IF(B119=\"\",0,INDEX(SignalHeads[Height ** (feet)],MATCH(B119,SignalHeads[Code],0))),IF(D119=\"\",0,INDEX(SignalHeads[Height ** (feet)],MATCH(D119,SignalHeads[Code],0))),IF(E119=\"\",0,INDEX(SignalHeads[Height ** (feet)],MATCH(E119,SignalHeads[Code],0))),IF(F119=\"\",0,INDEX(SignalHeads[Height ** (feet)],MATCH(F119,SignalHeads[Code],0))),IF(G119=\"\",0,INDEX(SignalHeads[Height ** (feet)],MATCH(G119,SignalHeads[Code],0))),IF(H119=\"\",0,INDEX(SignalHeads[Height ** (feet)],MATCH(H119,SignalHeads[Code],0))),IF(I119=\"\",0,INDEX(SignalHeads[Height ** (feet)],MATCH(I119,SignalHeads[Code],0))))","v":0},{"$f":"IF(S119=0,\"\",ROUNDDOWN(12*(((Q119-S119)-MIN($Q$26:$Q$425-$S$26:$S$425)-(MAX($S$26:$S$425*(($Q$26:$Q$425-$S$26:$S$425)=MIN($Q$26:$Q$425-$S$26:$S$425)))-S119))+(MIN($Q$26:$Q$425-$S$26:$S$425)-$I$10)),0)/12)","v":""},"",{"$error":"#N/A"},17]
[95,null,null,null,null,null,null,null,null,{"$f":"SUM(IF(B120=\"\",0,INDEX(SignalHeads[Perp. Wind Area (sft)],MATCH(B120,SignalHeads[Code],0))),IF(D120=\"\",0,INDEX(SignalHeads[Perp. Wind Area (sft)],MATCH(D120,SignalHeads[Code],0))),IF(E120=\"\",0,INDEX(SignalHeads[Perp. Wind Area (sft)],MATCH(E120,SignalHeads[Code],0))),IF(F120=\"\",0,INDEX(SignalHeads[Perp. Wind Area (sft)],MATCH(F120,SignalHeads[Code],0))),IF(G120=\"\",0,INDEX(SignalHeads[Perp. Wind Area (sft)],MATCH(G120,SignalHeads[Code],0))),IF(H120=\"\",0,INDEX(SignalHeads[Perp. Wind Area (sft)],MATCH(H120,SignalHeads[Code],0))),IF(I120=\"\",0,INDEX(SignalHeads[Perp. Wind Area (sft)],MATCH(I120,SignalHeads[Code],0))))","v":0},{"$f":"SUM(IF(B120=\"\",0,INDEX(SignalHeads[Weight*** (lbs)],MATCH(B120,SignalHeads[Code],0))),IF(D120=\"\",0,INDEX(SignalHeads[Weight*** (lbs)],MATCH(D120,SignalHeads[Code],0))),IF(E120=\"\",0,INDEX(SignalHeads[Weight*** (lbs)],MATCH(E120,SignalHeads[Code],0))),IF(F120=\"\",0,INDEX(SignalHeads[Weight*** (lbs)],MATCH(F120,SignalHeads[Code],0))),IF(G120=\"\",0,INDEX(SignalHeads[Weight*** (lbs)],MATCH(G120,SignalHeads[Code],0))),IF(H120=\"\",0,INDEX(SignalHeads[Weight*** (lbs)],MATCH(H120,SignalHeads[Code],0))),IF(I120=\"\",0,INDEX(SignalHeads[Weight*** (lbs)],MATCH(I120,SignalHeads[Code],0))))","v":0},{"$f":"IF(A120<=$I$8,INDEX(DesignConstants[Value],MATCH(\"Span Wire Weight (plf)\",DesignConstants[Design Constant],0)),0)","v":1.155},0,109.14750000000001,{"$error":"#VALUE!"},{"$error":"#VALUE!"},{"$error":"#N/A"},{"$error":"#N/A"},{"$f":"SUM(IF(B120=\"\",0,INDEX(SignalHeads[Height ** (feet)],MATCH(B120,SignalHeads[Code],0))),IF(D120=\"\",0,INDEX(SignalHeads[Height ** (feet)],MATCH(D120,SignalHeads[Code],0))),IF(E120=\"\",0,INDEX(SignalHeads[Height ** (feet)],MATCH(E120,SignalHeads[Code],0))),IF(F120=\"\",0,INDEX(SignalHeads[Height ** (feet)],MATCH(F120,SignalHeads[Code],0))),IF(G120=\"\",0,INDEX(SignalHeads[Height ** (feet)],MATCH(G120,SignalHeads[Code],0))),IF(H120=\"\",0,INDEX(SignalHeads[Height ** (feet)],MATCH(H120,SignalHeads[Code],0))),IF(I120=\"\",0,INDEX(SignalHeads[Height ** (feet)],MATCH(I120,SignalHeads[Code],0))))","v":0},{"$f":"IF(S120=0,\"\",ROUNDDOWN(12*(((Q120-S120)-MIN($Q$26:$Q$425-$S$26:$S$425)-(MAX($S$26:$S$425*(($Q$26:$Q$425-$S$26:$S$425)=MIN($Q$26:$Q$425-$S$26:$S$425)))-S120))+(MIN($Q$26:$Q$425-$S$26:$S$425)-$I$10)),0)/12)","v":""},"",{"$error":"#N/A"},17]
[96,null,null,null,null,null,null,null,null,{"$f":"SUM(IF(B121=\"\",0,INDEX(SignalHeads[Perp. Wind Area (sft)],MATCH(B121,SignalHeads[Code],0))),IF(D121=\"\",0,INDEX(SignalHeads[Perp. Wind Area (sft)],MATCH(D121,SignalHeads[Code],0))),IF(E121=\"\",0,INDEX(SignalHeads[Perp. Wind Area (sft)],MATCH(E121,SignalHeads[Code],0))),IF(F121=\"\",0,INDEX(SignalHeads[Perp. Wind Area (sft)],MATCH(F121,SignalHeads[Code],0))),IF(G121=\"\",0,INDEX(SignalHeads[Perp. Wind Area (sft)],MATCH(G121,SignalHeads[Code],0))),IF(H121=\"\",0,INDEX(SignalHeads[Perp. Wind Area (sft)],MATCH(H121,SignalHeads[Code],0))),IF(I121=\"\",0,INDEX(SignalHeads[Perp. Wind Area (sft)],MATCH(I121,SignalHeads[Code],0))))","v":0},{"$f":"SUM(IF(B121=\"\",0,INDEX(SignalHeads[Weight*** (lbs)],MATCH(B121,SignalHeads[Code],0))),IF(D121=\"\",0,INDEX(SignalHeads[Weight*** (lbs)],MATCH(D121,SignalHeads[Code],0))),IF(E121=\"\",0,INDEX(SignalHeads[Weight*** (lbs)],MATCH(E121,SignalHeads[Code],0))),IF(F121=\"\",0,INDEX(SignalHeads[Weight*** (lbs)],MATCH(F121,SignalHeads[Code],0))),IF(G121=\"\",0,INDEX(SignalHeads[Weight*** (lbs)],MATCH(G121,SignalHeads[Code],0))),IF(H121=\"\",0,INDEX(SignalHeads[Weight*** (lbs)],MATCH(H121,SignalHeads[Code],0))),IF(I121=\"\",0,INDEX(SignalHeads[Weight*** (lbs)],MATCH(I121,SignalHeads[Code],0))))","v":0},{"$f":"IF(A121<=$I$8,INDEX(DesignConstants[Value],MATCH(\"Span Wire Weight (plf)\",DesignConstants[Design Constant],0)),0)","v":1.155},0,110.30250000000001,{"$error":"#VALUE!"},{"$error":"#VALUE!"},{"$error":"#N/A"},{"$error":"#N/A"},{"$f":"SUM(IF(B121=\"\",0,INDEX(SignalHeads[Height ** (feet)],MATCH(B121,SignalHeads[Code],0))),IF(D121=\"\",0,INDEX(SignalHeads[Height ** (feet)],MATCH(D121,SignalHeads[Code],0))),IF(E121=\"\",0,INDEX(SignalHeads[Height ** (feet)],MATCH(E121,SignalHeads[Code],0))),IF(F121=\"\",0,INDEX(SignalHeads[Height ** (feet)],MATCH(F121,SignalHeads[Code],0))),IF(G121=\"\",0,INDEX(SignalHeads[Height ** (feet)],MATCH(G121,SignalHeads[Code],0))),IF(H121=\"\",0,INDEX(SignalHeads[Height ** (feet)],MATCH(H121,SignalHeads[Code],0))),IF(I121=\"\",0,INDEX(SignalHeads[Height ** (feet)],MATCH(I121,SignalHeads[Code],0))))","v":0},{"$f":"IF(S121=0,\"\",ROUNDDOWN(12*(((Q121-S121)-MIN($Q$26:$Q$425-$S$26:$S$425)-(MAX($S$26:$S$425*(($Q$26:$Q$425-$S$26:$S$425)=MIN($Q$26:$Q$425-$S$26:$S$425)))-S121))+(MIN($Q$26:$Q$425-$S$26:$S$425)-$I$10)),0)/12)","v":""},"",{"$error":"#N/A"},17]
[97,null,null,null,null,null,null,null,null,{"$f":"SUM(IF(B122=\"\",0,INDEX(SignalHeads[Perp. Wind Area (sft)],MATCH(B122,SignalHeads[Code],0))),IF(D122=\"\",0,INDEX(SignalHeads[Perp. Wind Area (sft)],MATCH(D122,SignalHeads[Code],0))),IF(E122=\"\",0,INDEX(SignalHeads[Perp. Wind Area (sft)],MATCH(E122,SignalHeads[Code],0))),IF(F122=\"\",0,INDEX(SignalHeads[Perp. Wind Area (sft)],MATCH(F122,SignalHeads[Code],0))),IF(G122=\"\",0,INDEX(SignalHeads[Perp. Wind Area (sft)],MATCH(G122,SignalHeads[Code],0))),IF(H122=\"\",0,INDEX(SignalHeads[Perp. Wind Area (sft)],MATCH(H122,SignalHeads[Code],0))),IF(I122=\"\",0,INDEX(SignalHeads[Perp. Wind Area (sft)],MATCH(I122,SignalHeads[Code],0))))","v":0},{"$f":"SUM(IF(B122=\"\",0,INDEX(SignalHeads[Weight*** (lbs)],MATCH(B122,SignalHeads[Code],0))),IF(D122=\"\",0,INDEX(SignalHeads[Weight*** (lbs)],MATCH(D122,SignalHeads[Code],0))),IF(E122=\"\",0,INDEX(SignalHeads[Weight*** (lbs)],MATCH(E122,SignalHeads[Code],0))),IF(F122=\"\",0,INDEX(SignalHeads[Weight*** (lbs)],MATCH(F122,SignalHeads[Code],0))),IF(G122=\"\",0,INDEX(SignalHeads[Weight*** (lbs)],MATCH(G122,SignalHeads[Code],0))),IF(H122=\"\",0,INDEX(SignalHeads[Weight*** (lbs)],MATCH(H122,SignalHeads[Code],0))),IF(I122=\"\",0,INDEX(SignalHeads[Weight*** (lbs)],MATCH(I122,SignalHeads[Code],0))))","v":0},{"$f":"IF(A122<=$I$8,INDEX(DesignConstants[Value],MATCH(\"Span Wire Weight (plf)\",DesignConstants[Design Constant],0)),0)","v":1.155},0,111.4575,{"$error":"#VALUE!"},{"$error":"#VALUE!"},{"$error":"#N/A"},{"$error":"#N/A"},{"$f":"SUM(IF(B122=\"\",0,INDEX(SignalHeads[Height ** (feet)],MATCH(B122,SignalHeads[Code],0))),IF(D122=\"\",0,INDEX(SignalHeads[Height ** (feet)],MATCH(D122,SignalHeads[Code],0))),IF(E122=\"\",0,INDEX(SignalHeads[Height ** (feet)],MATCH(E122,SignalHeads[Code],0))),IF(F122=\"\",0,INDEX(SignalHeads[Height ** (feet)],MATCH(F122,SignalHeads[Code],0))),IF(G122=\"\",0,INDEX(SignalHeads[Height ** (feet)],MATCH(G122,SignalHeads[Code],0))),IF(H122=\"\",0,INDEX(SignalHeads[Height ** (feet)],MATCH(H122,SignalHeads[Code],0))),IF(I122=\"\",0,INDEX(SignalHeads[Height ** (feet)],MATCH(I122,SignalHeads[Code],0))))","v":0},{"$f":"IF(S122=0,\"\",ROUNDDOWN(12*(((Q122-S122)-MIN($Q$26:$Q$425-$S$26:$S$425)-(MAX($S$26:$S$425*(($Q$26:$Q$425-$S$26:$S$425)=MIN($Q$26:$Q$425-$S$26:$S$425)))-S122))+(MIN($Q$26:$Q$425-$S$26:$S$425)-$I$10)),0)/12)","v":""},"",{"$error":"#N/A"},17]
[98,null,null,null,null,null,null,null,null,{"$f":"SUM(IF(B123=\"\",0,INDEX(SignalHeads[Perp. Wind Area (sft)],MATCH(B123,SignalHeads[Code],0))),IF(D123=\"\",0,INDEX(SignalHeads[Perp. Wind Area (sft)],MATCH(D123,SignalHeads[Code],0))),IF(E123=\"\",0,INDEX(SignalHeads[Perp. Wind Area (sft)],MATCH(E123,SignalHeads[Code],0))),IF(F123=\"\",0,INDEX(SignalHeads[Perp. Wind Area (sft)],MATCH(F123,SignalHeads[Code],0))),IF(G123=\"\",0,INDEX(SignalHeads[Perp. Wind Area (sft)],MATCH(G123,SignalHeads[Code],0))),IF(H123=\"\",0,INDEX(SignalHeads[Perp. Wind Area (sft)],MATCH(H123,SignalHeads[Code],0))),IF(I123=\"\",0,INDEX(SignalHeads[Perp. Wind Area (sft)],MATCH(I123,SignalHeads[Code],0))))","v":0},{"$f":"SUM(IF(B123=\"\",0,INDEX(SignalHeads[Weight*** (lbs)],MATCH(B123,SignalHeads[Code],0))),IF(D123=\"\",0,INDEX(SignalHeads[Weight*** (lbs)],MATCH(D123,SignalHeads[Code],0))),IF(E123=\"\",0,INDEX(SignalHeads[Weight*** (lbs)],MATCH(E123,SignalHeads[Code],0))),IF(F123=\"\",0,INDEX(SignalHeads[Weight*** (lbs)],MATCH(F123,SignalHeads[Code],0))),IF(G123=\"\",0,INDEX(SignalHeads[Weight*** (lbs)],MATCH(G123,SignalHeads[Code],0))),IF(H123=\"\",0,INDEX(SignalHeads[Weight*** (lbs)],MATCH(H123,SignalHeads[Code],0))),IF(I123=\"\",0,INDEX(SignalHeads[Weight*** (lbs)],MATCH(I123,SignalHeads[Code],0))))","v":0},{"$f":"IF(A123<=$I$8,INDEX(DesignConstants[Value],MATCH(\"Span Wire Weight (plf)\",DesignConstants[Design Constant],0)),0)","v":1.155},0,112.6125,{"$error":"#VALUE!"},{"$error":"#VALUE!"},{"$error":"#N/A"},{"$error":"#N/A"},{"$f":"SUM(IF(B123=\"\",0,INDEX(SignalHeads[Height ** (feet)],MATCH(B123,SignalHeads[Code],0))),IF(D123=\"\",0,INDEX(SignalHeads[Height ** (feet)],MATCH(D123,SignalHeads[Code],0))),IF(E123=\"\",0,INDEX(SignalHeads[Height ** (feet)],MATCH(E123,SignalHeads[Code],0))),IF(F123=\"\",0,INDEX(SignalHeads[Height ** (feet)],MATCH(F123,SignalHeads[Code],0))),IF(G123=\"\",0,INDEX(SignalHeads[Height ** (feet)],MATCH(G123,SignalHeads[Code],0))),IF(H123=\"\",0,INDEX(SignalHeads[Height ** (feet)],MATCH(H123,SignalHeads[Code],0))),IF(I123=\"\",0,INDEX(SignalHeads[Height ** (feet)],MATCH(I123,SignalHeads[Code],0))))","v":0},{"$f":"IF(S123=0,\"\",ROUNDDOWN(12*(((Q123-S123)-MIN($Q$26:$Q$425-$S$26:$S$425)-(MAX($S$26:$S$425*(($Q$26:$Q$425-$S$26:$S$425)=MIN($Q$26:$Q$425-$S$26:$S$425)))-S123))+(MIN($Q$26:$Q$425-$S$26:$S$425)-$I$10)),0)/12)","v":""},"",{"$error":"#N/A"},17]
[99,null,null,null,null,null,null,null,null,{"$f":"SUM(IF(B124=\"\",0,INDEX(SignalHeads[Perp. Wind Area (sft)],MATCH(B124,SignalHeads[Code],0))),IF(D124=\"\",0,INDEX(SignalHeads[Perp. Wind Area (sft)],MATCH(D124,SignalHeads[Code],0))),IF(E124=\"\",0,INDEX(SignalHeads[Perp. Wind Area (sft)],MATCH(E124,SignalHeads[Code],0))),IF(F124=\"\",0,INDEX(SignalHeads[Perp. Wind Area (sft)],MATCH(F124,SignalHeads[Code],0))),IF(G124=\"\",0,INDEX(SignalHeads[Perp. Wind Area (sft)],MATCH(G124,SignalHeads[Code],0))),IF(H124=\"\",0,INDEX(SignalHeads[Perp. Wind Area (sft)],MATCH(H124,SignalHeads[Code],0))),IF(I124=\"\",0,INDEX(SignalHeads[Perp. Wind Area (sft)],MATCH(I124,SignalHeads[Code],0))))","v":0},{"$f":"SUM(IF(B124=\"\",0,INDEX(SignalHeads[Weight*** (lbs)],MATCH(B124,SignalHeads[Code],0))),IF(D124=\"\",0,INDEX(SignalHeads[Weight*** (lbs)],MATCH(D124,SignalHeads[Code],0))),IF(E124=\"\",0,INDEX(SignalHeads[Weight*** (lbs)],MATCH(E124,SignalHeads[Code],0))),IF(F124=\"\",0,INDEX(SignalHeads[Weight*** (lbs)],MATCH(F124,SignalHeads[Code],0))),IF(G124=\"\",0,INDEX(SignalHeads[Weight*** (lbs)],MATCH(G124,SignalHeads[Code],0))),IF(H124=\"\",0,INDEX(SignalHeads[Weight*** (lbs)],MATCH(H124,SignalHeads[Code],0))),IF(I124=\"\",0,INDEX(SignalHeads[Weight*** (lbs)],MATCH(I124,SignalHeads[Code],0))))","v":0},{"$f":"IF(A124<=$I$8,INDEX(DesignConstants[Value],MATCH(\"Span Wire Weight (plf)\",DesignConstants[Design Constant],0)),0)","v":1.155},0,113.7675,{"$error":"#VALUE!"},{"$error":"#VALUE!"},{"$error":"#N/A"},{"$error":"#N/A"},{"$f":"SUM(IF(B124=\"\",0,INDEX(SignalHeads[Height ** (feet)],MATCH(B124,SignalHeads[Code],0))),IF(D124=\"\",0,INDEX(SignalHeads[Height ** (feet)],MATCH(D124,SignalHeads[Code],0))),IF(E124=\"\",0,INDEX(SignalHeads[Height ** (feet)],MATCH(E124,SignalHeads[Code],0))),IF(F124=\"\",0,INDEX(SignalHeads[Height ** (feet)],MATCH(F124,SignalHeads[Code],0))),IF(G124=\"\",0,INDEX(SignalHeads[Height ** (feet)],MATCH(G124,SignalHeads[Code],0))),IF(H124=\"\",0,INDEX(SignalHeads[Height ** (feet)],MATCH(H124,SignalHeads[Code],0))),IF(I124=\"\",0,INDEX(SignalHeads[Height ** (feet)],MATCH(I124,SignalHeads[Code],0))))","v":0},{"$f":"IF(S124=0,\"\",ROUNDDOWN(12*(((Q124-S124)-MIN($Q$26:$Q$425-$S$26:$S$425)-(MAX($S$26:$S$425*(($Q$26:$Q$425-$S$26:$S$425)=MIN($Q$26:$Q$425-$S$26:$S$425)))-S124))+(MIN($Q$26:$Q$425-$S$26:$S$425)-$I$10)),0)/12)","v":""},"",{"$error":"#N/A"},17]
[100,null,null,null,null,null,null,null,null,{"$f":"SUM(IF(B125=\"\",0,INDEX(SignalHeads[Perp. Wind Area (sft)],MATCH(B125,SignalHeads[Code],0))),IF(D125=\"\",0,INDEX(SignalHeads[Perp. Wind Area (sft)],MATCH(D125,SignalHeads[Code],0))),IF(E125=\"\",0,INDEX(SignalHeads[Perp. Wind Area (sft)],MATCH(E125,SignalHeads[Code],0))),IF(F125=\"\",0,INDEX(SignalHeads[Perp. Wind Area (sft)],MATCH(F125,SignalHeads[Code],0))),IF(G125=\"\",0,INDEX(SignalHeads[Perp. Wind Area (sft)],MATCH(G125,SignalHeads[Code],0))),IF(H125=\"\",0,INDEX(SignalHeads[Perp. Wind Area (sft)],MATCH(H125,SignalHeads[Code],0))),IF(I125=\"\",0,INDEX(SignalHeads[Perp. Wind Area (sft)],MATCH(I125,SignalHeads[Code],0))))","v":0},{"$f":"SUM(IF(B125=\"\",0,INDEX(SignalHeads[Weight*** (lbs)],MATCH(B125,SignalHeads[Code],0))),IF(D125=\"\",0,INDEX(SignalHeads[Weight*** (lbs)],MATCH(D125,SignalHeads[Code],0))),IF(E125=\"\",0,INDEX(SignalHeads[Weight*** (lbs)],MATCH(E125,SignalHeads[Code],0))),IF(F125=\"\",0,INDEX(SignalHeads[Weight*** (lbs)],MATCH(F125,SignalHeads[Code],0))),IF(G125=\"\",0,INDEX(SignalHeads[Weight*** (lbs)],MATCH(G125,SignalHeads[Code],0))),IF(H125=\"\",0,INDEX(SignalHeads[Weight*** (lbs)],MATCH(H125,SignalHeads[Code],0))),IF(I125=\"\",0,INDEX(SignalHeads[Weight*** (lbs)],MATCH(I125,SignalHeads[Code],0))))","v":0},{"$f":"IF(A125<=$I$8,INDEX(DesignConstants[Value],MATCH(\"Span Wire Weight (plf)\",DesignConstants[Design Constant],0)),0)","v":1.155},0,114.9225,{"$error":"#VALUE!"},{"$error":"#VALUE!"},{"$error":"#N/A"},{"$error":"#N/A"},{"$f":"SUM(IF(B125=\"\",0,INDEX(SignalHeads[Height ** (feet)],MATCH(B125,SignalHeads[Code],0))),IF(D125=\"\",0,INDEX(SignalHeads[Height ** (feet)],MATCH(D125,SignalHeads[Code],0))),IF(E125=\"\",0,INDEX(SignalHeads[Height ** (feet)],MATCH(E125,SignalHeads[Code],0))),IF(F125=\"\",0,INDEX(SignalHeads[Height ** (feet)],MATCH(F125,SignalHeads[Code],0))),IF(G125=\"\",0,INDEX(SignalHeads[Height ** (feet)],MATCH(G125,SignalHeads[Code],0))),IF(H125=\"\",0,INDEX(SignalHeads[Height ** (feet)],MATCH(H125,SignalHeads[Code],0))),IF(I125=\"\",0,INDEX(SignalHeads[Height ** (feet)],MATCH(I125,SignalHeads[Code],0))))","v":0},{"$f":"IF(S125=0,\"\",ROUNDDOWN(12*(((Q125-S125)-MIN($Q$26:$Q$425-$S$26:$S$425)-(MAX($S$26:$S$425*(($Q$26:$Q$425-$S$26:$S$425)=MIN($Q$26:$Q$425-$S$26:$S$425)))-S125))+(MIN($Q$26:$Q$425-$S$26:$S$425)-$I$10)),0)/12)","v":""},"",{"$error":"#N/A"},17]
[101,null,null,null,null,null,null,null,null,{"$f":"SUM(IF(B126=\"\",0,INDEX(SignalHeads[Perp. Wind Area (sft)],MATCH(B126,SignalHeads[Code],0))),IF(D126=\"\",0,INDEX(SignalHeads[Perp. Wind Area (sft)],MATCH(D126,SignalHeads[Code],0))),IF(E126=\"\",0,INDEX(SignalHeads[Perp. Wind Area (sft)],MATCH(E126,SignalHeads[Code],0))),IF(F126=\"\",0,INDEX(SignalHeads[Perp. Wind Area (sft)],MATCH(F126,SignalHeads[Code],0))),IF(G126=\"\",0,INDEX(SignalHeads[Perp. Wind Area (sft)],MATCH(G126,SignalHeads[Code],0))),IF(H126=\"\",0,INDEX(SignalHeads[Perp. Wind Area (sft)],MATCH(H126,SignalHeads[Code],0))),IF(I126=\"\",0,INDEX(SignalHeads[Perp. Wind Area (sft)],MATCH(I126,SignalHeads[Code],0))))","v":0},{"$f":"SUM(IF(B126=\"\",0,INDEX(SignalHeads[Weight*** (lbs)],MATCH(B126,SignalHeads[Code],0))),IF(D126=\"\",0,INDEX(SignalHeads[Weight*** (lbs)],MATCH(D126,SignalHeads[Code],0))),IF(E126=\"\",0,INDEX(SignalHeads[Weight*** (lbs)],MATCH(E126,SignalHeads[Code],0))),IF(F126=\"\",0,INDEX(SignalHeads[Weight*** (lbs)],MATCH(F126,SignalHeads[Code],0))),IF(G126=\"\",0,INDEX(SignalHeads[Weight*** (lbs)],MATCH(G126,SignalHeads[Code],0))),IF(H126=\"\",0,INDEX(SignalHeads[Weight*** (lbs)],MATCH(H126,SignalHeads[Code],0))),IF(I126=\"\",0,INDEX(SignalHeads[Weight*** (lbs)],MATCH(I126,SignalHeads[Code],0))))","v":0},{"$f":"IF(A126<=$I$8,INDEX(DesignConstants[Value],MATCH(\"Span Wire Weight (plf)\",DesignConstants[Design Constant],0)),0)","v":1.155},0,116.0775,{"$error":"#VALUE!"},{"$error":"#VALUE!"},{"$error":"#N/A"},{"$error":"#N/A"},{"$f":"SUM(IF(B126=\"\",0,INDEX(SignalHeads[Height ** (feet)],MATCH(B126,SignalHeads[Code],0))),IF(D126=\"\",0,INDEX(SignalHeads[Height ** (feet)],MATCH(D126,SignalHeads[Code],0))),IF(E126=\"\",0,INDEX(SignalHeads[Height ** (feet)],MATCH(E126,SignalHeads[Code],0))),IF(F126=\"\",0,INDEX(SignalHeads[Height ** (feet)],MATCH(F126,SignalHeads[Code],0))),IF(G126=\"\",0,INDEX(SignalHeads[Height ** (feet)],MATCH(G126,SignalHeads[Code],0))),IF(H126=\"\",0,INDEX(SignalHeads[Height ** (feet)],MATCH(H126,SignalHeads[Code],0))),IF(I126=\"\",0,INDEX(SignalHeads[Height ** (feet)],MATCH(I126,SignalHeads[Code],0))))","v":0},{"$f":"IF(S126=0,\"\",ROUNDDOWN(12*(((Q126-S126)-MIN($Q$26:$Q$425-$S$26:$S$425)-(MAX($S$26:$S$425*(($Q$26:$Q$425-$S$26:$S$425)=MIN($Q$26:$Q$425-$S$26:$S$425)))-S126))+(MIN($Q$26:$Q$425-$S$26:$S$425)-$I$10)),0)/12)","v":""},"",{"$error":"#N/A"},17]
[102,null,null,null,null,null,null,null,null,{"$f":"SUM(IF(B127=\"\",0,INDEX(SignalHeads[Perp. Wind Area (sft)],MATCH(B127,SignalHeads[Code],0))),IF(D127=\"\",0,INDEX(SignalHeads[Perp. Wind Area (sft)],MATCH(D127,SignalHeads[Code],0))),IF(E127=\"\",0,INDEX(SignalHeads[Perp. Wind Area (sft)],MATCH(E127,SignalHeads[Code],0))),IF(F127=\"\",0,INDEX(SignalHeads[Perp. Wind Area (sft)],MATCH(F127,SignalHeads[Code],0))),IF(G127=\"\",0,INDEX(SignalHeads[Perp. Wind Area (sft)],MATCH(G127,SignalHeads[Code],0))),IF(H127=\"\",0,INDEX(SignalHeads[Perp. Wind Area (sft)],MATCH(H127,SignalHeads[Code],0))),IF(I127=\"\",0,INDEX(SignalHeads[Perp. Wind Area (sft)],MATCH(I127,SignalHeads[Code],0))))","v":0},{"$f":"SUM(IF(B127=\"\",0,INDEX(SignalHeads[Weight*** (lbs)],MATCH(B127,SignalHeads[Code],0))),IF(D127=\"\",0,INDEX(SignalHeads[Weight*** (lbs)],MATCH(D127,SignalHeads[Code],0))),IF(E127=\"\",0,INDEX(SignalHeads[Weight*** (lbs)],MATCH(E127,SignalHeads[Code],0))),IF(F127=\"\",0,INDEX(SignalHeads[Weight*** (lbs)],MATCH(F127,SignalHeads[Code],0))),IF(G127=\"\",0,INDEX(SignalHeads[Weight*** (lbs)],MATCH(G127,SignalHeads[Code],0))),IF(H127=\"\",0,INDEX(SignalHeads[Weight*** (lbs)],MATCH(H127,SignalHeads[Code],0))),IF(I127=\"\",0,INDEX(SignalHeads[Weight*** (lbs)],MATCH(I127,SignalHeads[Code],0))))","v":0},{"$f":"IF(A127<=$I$8,INDEX(DesignConstants[Value],MATCH(\"Span Wire Weight (plf)\",DesignConstants[Design Constant],0)),0)","v":1.155},0,117.2325,{"$error":"#VALUE!"},{"$error":"#VALUE!"},{"$error":"#N/A"},{"$error":"#N/A"},{"$f":"SUM(IF(B127=\"\",0,INDEX(SignalHeads[Height ** (feet)],MATCH(B127,SignalHeads[Code],0))),IF(D127=\"\",0,INDEX(SignalHeads[Height ** (feet)],MATCH(D127,SignalHeads[Code],0))),IF(E127=\"\",0,INDEX(SignalHeads[Height ** (feet)],MATCH(E127,SignalHeads[Code],0))),IF(F127=\"\",0,INDEX(SignalHeads[Height ** (feet)],MATCH(F127,SignalHeads[Code],0))),IF(G127=\"\",0,INDEX(SignalHeads[Height ** (feet)],MATCH(G127,SignalHeads[Code],0))),IF(H127=\"\",0,INDEX(SignalHeads[Height ** (feet)],MATCH(H127,SignalHeads[Code],0))),IF(I127=\"\",0,INDEX(SignalHeads[Height ** (feet)],MATCH(I127,SignalHeads[Code],0))))","v":0},{"$f":"IF(S127=0,\"\",ROUNDDOWN(12*(((Q127-S127)-MIN($Q$26:$Q$425-$S$26:$S$425)-(MAX($S$26:$S$425*(($Q$26:$Q$425-$S$26:$S$425)=MIN($Q$26:$Q$425-$S$26:$S$425)))-S127))+(MIN($Q$26:$Q$425-$S$26:$S$425)-$I$10)),0)/12)","v":""},"",{"$error":"#N/A"},17]
[103,null,null,null,null,null,null,null,null,{"$f":"SUM(IF(B128=\"\",0,INDEX(SignalHeads[Perp. Wind Area (sft)],MATCH(B128,SignalHeads[Code],0))),IF(D128=\"\",0,INDEX(SignalHeads[Perp. Wind Area (sft)],MATCH(D128,SignalHeads[Code],0))),IF(E128=\"\",0,INDEX(SignalHeads[Perp. Wind Area (sft)],MATCH(E128,SignalHeads[Code],0))),IF(F128=\"\",0,INDEX(SignalHeads[Perp. Wind Area (sft)],MATCH(F128,SignalHeads[Code],0))),IF(G128=\"\",0,INDEX(SignalHeads[Perp. Wind Area (sft)],MATCH(G128,SignalHeads[Code],0))),IF(H128=\"\",0,INDEX(SignalHeads[Perp. Wind Area (sft)],MATCH(H128,SignalHeads[Code],0))),IF(I128=\"\",0,INDEX(SignalHeads[Perp. Wind Area (sft)],MATCH(I128,SignalHeads[Code],0))))","v":0},{"$f":"SUM(IF(B128=\"\",0,INDEX(SignalHeads[Weight*** (lbs)],MATCH(B128,SignalHeads[Code],0))),IF(D128=\"\",0,INDEX(SignalHeads[Weight*** (lbs)],MATCH(D128,SignalHeads[Code],0))),IF(E128=\"\",0,INDEX(SignalHeads[Weight*** (lbs)],MATCH(E128,SignalHeads[Code],0))),IF(F128=\"\",0,INDEX(SignalHeads[Weight*** (lbs)],MATCH(F128,SignalHeads[Code],0))),IF(G128=\"\",0,INDEX(SignalHeads[Weight*** (lbs)],MATCH(G128,SignalHeads[Code],0))),IF(H128=\"\",0,INDEX(SignalHeads[Weight*** (lbs)],MATCH(H128,SignalHeads[Code],0))),IF(I128=\"\",0,INDEX(SignalHeads[Weight*** (lbs)],MATCH(I128,SignalHeads[Code],0))))","v":0},{"$f":"IF(A128<=$I$8,INDEX(DesignConstants[Value],MATCH(\"Span Wire Weight (plf)\",DesignConstants[Design Constant],0)),0)","v":1.155},0,118.3875,{"$error":"#VALUE!"},{"$error":"#VALUE!"},{"$error":"#N/A"},{"$error":"#N/A"},{"$f":"SUM(IF(B128=\"\",0,INDEX(SignalHeads[Height ** (feet)],MATCH(B128,SignalHeads[Code],0))),IF(D128=\"\",0,INDEX(SignalHeads[Height ** (feet)],MATCH(D128,SignalHeads[Code],0))),IF(E128=\"\",0,INDEX(SignalHeads[Height ** (feet)],MATCH(E128,SignalHeads[Code],0))),IF(F128=\"\",0,INDEX(SignalHeads[Height ** (feet)],MATCH(F128,SignalHeads[Code],0))),IF(G128=\"\",0,INDEX(SignalHeads[Height ** (feet)],MATCH(G128,SignalHeads[Code],0))),IF(H128=\"\",0,INDEX(SignalHeads[Height ** (feet)],MATCH(H128,SignalHeads[Code],0))),IF(I128=\"\",0,INDEX(SignalHeads[Height ** (feet)],MATCH(I128,SignalHeads[Code],0))))","v":0},{"$f":"IF(S128=0,\"\",ROUNDDOWN(12*(((Q128-S128)-MIN($Q$26:$Q$425-$S$26:$S$425)-(MAX($S$26:$S$425*(($Q$26:$Q$425-$S$26:$S$425)=MIN($Q$26:$Q$425-$S$26:$S$425)))-S128))+(MIN($Q$26:$Q$425-$S$26:$S$425)-$I$10)),0)/12)","v":""},"",{"$error":"#N/A"},17]
[104,null,null,null,null,null,null,null,null,{"$f":"SUM(IF(B129=\"\",0,INDEX(SignalHeads[Perp. Wind Area (sft)],MATCH(B129,SignalHeads[Code],0))),IF(D129=\"\",0,INDEX(SignalHeads[Perp. Wind Area (sft)],MATCH(D129,SignalHeads[Code],0))),IF(E129=\"\",0,INDEX(SignalHeads[Perp. Wind Area (sft)],MATCH(E129,SignalHeads[Code],0))),IF(F129=\"\",0,INDEX(SignalHeads[Perp. Wind Area (sft)],MATCH(F129,SignalHeads[Code],0))),IF(G129=\"\",0,INDEX(SignalHeads[Perp. Wind Area (sft)],MATCH(G129,SignalHeads[Code],0))),IF(H129=\"\",0,INDEX(SignalHeads[Perp. Wind Area (sft)],MATCH(H129,SignalHeads[Code],0))),IF(I129=\"\",0,INDEX(SignalHeads[Perp. Wind Area (sft)],MATCH(I129,SignalHeads[Code],0))))","v":0},{"$f":"SUM(IF(B129=\"\",0,INDEX(SignalHeads[Weight*** (lbs)],MATCH(B129,SignalHeads[Code],0))),IF(D129=\"\",0,INDEX(SignalHeads[Weight*** (lbs)],MATCH(D129,SignalHeads[Code],0))),IF(E129=\"\",0,INDEX(SignalHeads[Weight*** (lbs)],MATCH(E129,SignalHeads[Code],0))),IF(F129=\"\",0,INDEX(SignalHeads[Weight*** (lbs)],MATCH(F129,SignalHeads[Code],0))),IF(G129=\"\",0,INDEX(SignalHeads[Weight*** (lbs)],MATCH(G129,SignalHeads[Code],0))),IF(H129=\"\",0,INDEX(SignalHeads[Weight*** (lbs)],MATCH(H129,SignalHeads[Code],0))),IF(I129=\"\",0,INDEX(SignalHeads[Weight*** (lbs)],MATCH(I129,SignalHeads[Code],0))))","v":0},{"$f":"IF(A129<=$I$8,INDEX(DesignConstants[Value],MATCH(\"Span Wire Weight (plf)\",DesignConstants[Design Constant],0)),0)","v":1.155},0,119.5425,{"$error":"#VALUE!"},{"$error":"#VALUE!"},{"$error":"#N/A"},{"$error":"#N/A"},{"$f":"SUM(IF(B129=\"\",0,INDEX(SignalHeads[Height ** (feet)],MATCH(B129,SignalHeads[Code],0))),IF(D129=\"\",0,INDEX(SignalHeads[Height ** (feet)],MATCH(D129,SignalHeads[Code],0))),IF(E129=\"\",0,INDEX(SignalHeads[Height ** (feet)],MATCH(E129,SignalHeads[Code],0))),IF(F129=\"\",0,INDEX(SignalHeads[Height ** (feet)],MATCH(F129,SignalHeads[Code],0))),IF(G129=\"\",0,INDEX(SignalHeads[Height ** (feet)],MATCH(G129,SignalHeads[Code],0))),IF(H129=\"\",0,INDEX(SignalHeads[Height ** (feet)],MATCH(H129,SignalHeads[Code],0))),IF(I129=\"\",0,INDEX(SignalHeads[Height ** (feet)],MATCH(I129,SignalHeads[Code],0))))","v":0},{"$f":"IF(S129=0,\"\",ROUNDDOWN(12*(((Q129-S129)-MIN($Q$26:$Q$425-$S$26:$S$425)-(MAX($S$26:$S$425*(($Q$26:$Q$425-$S$26:$S$425)=MIN($Q$26:$Q$425-$S$26:$S$425)))-S129))+(MIN($Q$26:$Q$425-$S$26:$S$425)-$I$10)),0)/12)","v":""},"",{"$error":"#N/A"},17]
[105,null,null,null,null,null,null,null,null,{"$f":"SUM(IF(B130=\"\",0,INDEX(SignalHeads[Perp. Wind Area (sft)],MATCH(B130,SignalHeads[Code],0))),IF(D130=\"\",0,INDEX(SignalHeads[Perp. Wind Area (sft)],MATCH(D130,SignalHeads[Code],0))),IF(E130=\"\",0,INDEX(SignalHeads[Perp. Wind Area (sft)],MATCH(E130,SignalHeads[Code],0))),IF(F130=\"\",0,INDEX(SignalHeads[Perp. Wind Area (sft)],MATCH(F130,SignalHeads[Code],0))),IF(G130=\"\",0,INDEX(SignalHeads[Perp. Wind Area (sft)],MATCH(G130,SignalHeads[Code],0))),IF(H130=\"\",0,INDEX(SignalHeads[Perp. Wind Area (sft)],MATCH(H130,SignalHeads[Code],0))),IF(I130=\"\",0,INDEX(SignalHeads[Perp. Wind Area (sft)],MATCH(I130,SignalHeads[Code],0))))","v":0},{"$f":"SUM(IF(B130=\"\",0,INDEX(SignalHeads[Weight*** (lbs)],MATCH(B130,SignalHeads[Code],0))),IF(D130=\"\",0,INDEX(SignalHeads[Weight*** (lbs)],MATCH(D130,SignalHeads[Code],0))),IF(E130=\"\",0,INDEX(SignalHeads[Weight*** (lbs)],MATCH(E130,SignalHeads[Code],0))),IF(F130=\"\",0,INDEX(SignalHeads[Weight*** (lbs)],MATCH(F130,SignalHeads[Code],0))),IF(G130=\"\",0,INDEX(SignalHeads[Weight*** (lbs)],MATCH(G130,SignalHeads[Code],0))),IF(H130=\"\",0,INDEX(SignalHeads[Weight*** (lbs)],MATCH(H130,SignalHeads[Code],0))),IF(I130=\"\",0,INDEX(SignalHeads[Weight*** (lbs)],MATCH(I130,SignalHeads[Code],0))))","v":0},{"$f":"IF(A130<=$I$8,INDEX(DesignConstants[Value],MATCH(\"Span Wire Weight (plf)\",DesignConstants[Design Constant],0)),0)","v":1.155},0,120.69750000000001,{"$error":"#VALUE!"},{"$error":"#VALUE!"},{"$error":"#N/A"},{"$error":"#N/A"},{"$f":"SUM(IF(B130=\"\",0,INDEX(SignalHeads[Height ** (feet)],MATCH(B130,SignalHeads[Code],0))),IF(D130=\"\",0,INDEX(SignalHeads[Height ** (feet)],MATCH(D130,SignalHeads[Code],0))),IF(E130=\"\",0,INDEX(SignalHeads[Height ** (feet)],MATCH(E130,SignalHeads[Code],0))),IF(F130=\"\",0,INDEX(SignalHeads[Height ** (feet)],MATCH(F130,SignalHeads[Code],0))),IF(G130=\"\",0,INDEX(SignalHeads[Height ** (feet)],MATCH(G130,SignalHeads[Code],0))),IF(H130=\"\",0,INDEX(SignalHeads[Height ** (feet)],MATCH(H130,SignalHeads[Code],0))),IF(I130=\"\",0,INDEX(SignalHeads[Height ** (feet)],MATCH(I130,SignalHeads[Code],0))))","v":0},{"$f":"IF(S130=0,\"\",ROUNDDOWN(12*(((Q130-S130)-MIN($Q$26:$Q$425-$S$26:$S$425)-(MAX($S$26:$S$425*(($Q$26:$Q$425-$S$26:$S$425)=MIN($Q$26:$Q$425-$S$26:$S$425)))-S130))+(MIN($Q$26:$Q$425-$S$26:$S$425)-$I$10)),0)/12)","v":""},"",{"$error":"#N/A"},17]
[106,null,null,null,null,null,null,null,null,{"$f":"SUM(IF(B131=\"\",0,INDEX(SignalHeads[Perp. Wind Area (sft)],MATCH(B131,SignalHeads[Code],0))),IF(D131=\"\",0,INDEX(SignalHeads[Perp. Wind Area (sft)],MATCH(D131,SignalHeads[Code],0))),IF(E131=\"\",0,INDEX(SignalHeads[Perp. Wind Area (sft)],MATCH(E131,SignalHeads[Code],0))),IF(F131=\"\",0,INDEX(SignalHeads[Perp. Wind Area (sft)],MATCH(F131,SignalHeads[Code],0))),IF(G131=\"\",0,INDEX(SignalHeads[Perp. Wind Area (sft)],MATCH(G131,SignalHeads[Code],0))),IF(H131=\"\",0,INDEX(SignalHeads[Perp. Wind Area (sft)],MATCH(H131,SignalHeads[Code],0))),IF(I131=\"\",0,INDEX(SignalHeads[Perp. Wind Area (sft)],MATCH(I131,SignalHeads[Code],0))))","v":0},{"$f":"SUM(IF(B131=\"\",0,INDEX(SignalHeads[Weight*** (lbs)],MATCH(B131,SignalHeads[Code],0))),IF(D131=\"\",0,INDEX(SignalHeads[Weight*** (lbs)],MATCH(D131,SignalHeads[Code],0))),IF(E131=\"\",0,INDEX(SignalHeads[Weight*** (lbs)],MATCH(E131,SignalHeads[Code],0))),IF(F131=\"\",0,INDEX(SignalHeads[Weight*** (lbs)],MATCH(F131,SignalHeads[Code],0))),IF(G131=\"\",0,INDEX(SignalHeads[Weight*** (lbs)],MATCH(G131,SignalHeads[Code],0))),IF(H131=\"\",0,INDEX(SignalHeads[Weight*** (lbs)],MATCH(H131,SignalHeads[Code],0))),IF(I131=\"\",0,INDEX(SignalHeads[Weight*** (lbs)],MATCH(I131,SignalHeads[Code],0))))","v":0},{"$f":"IF(A131<=$I$8,INDEX(DesignConstants[Value],MATCH(\"Span Wire Weight (plf)\",DesignConstants[Design Constant],0)),0)","v":1.155},0,121.85250000000001,{"$error":"#VALUE!"},{"$error":"#VALUE!"},{"$error":"#N/A"},{"$error":"#N/A"},{"$f":"SUM(IF(B131=\"\",0,INDEX(SignalHeads[Height ** (feet)],MATCH(B131,SignalHeads[Code],0))),IF(D131=\"\",0,INDEX(SignalHeads[Height ** (feet)],MATCH(D131,SignalHeads[Code],0))),IF(E131=\"\",0,INDEX(SignalHeads[Height ** (feet)],MATCH(E131,SignalHeads[Code],0))),IF(F131=\"\",0,INDEX(SignalHeads[Height ** (feet)],MATCH(F131,SignalHeads[Code],0))),IF(G131=\"\",0,INDEX(SignalHeads[Height ** (feet)],MATCH(G131,SignalHeads[Code],0))),IF(H131=\"\",0,INDEX(SignalHeads[Height ** (feet)],MATCH(H131,SignalHeads[Code],0))),IF(I131=\"\",0,INDEX(SignalHeads[Height ** (feet)],MATCH(I131,SignalHeads[Code],0))))","v":0},{"$f":"IF(S131=0,\"\",ROUNDDOWN(12*(((Q131-S131)-MIN($Q$26:$Q$425-$S$26:$S$425)-(MAX($S$26:$S$425*(($Q$26:$Q$425-$S$26:$S$425)=MIN($Q$26:$Q$425-$S$26:$S$425)))-S131))+(MIN($Q$26:$Q$425-$S$26:$S$425)-$I$10)),0)/12)","v":""},"",{"$error":"#N/A"},17]
[107,null,null,null,null,null,null,null,null,{"$f":"SUM(IF(B132=\"\",0,INDEX(SignalHeads[Perp. Wind Area (sft)],MATCH(B132,SignalHeads[Code],0))),IF(D132=\"\",0,INDEX(SignalHeads[Perp. Wind Area (sft)],MATCH(D132,SignalHeads[Code],0))),IF(E132=\"\",0,INDEX(SignalHeads[Perp. Wind Area (sft)],MATCH(E132,SignalHeads[Code],0))),IF(F132=\"\",0,INDEX(SignalHeads[Perp. Wind Area (sft)],MATCH(F132,SignalHeads[Code],0))),IF(G132=\"\",0,INDEX(SignalHeads[Perp. Wind Area (sft)],MATCH(G132,SignalHeads[Code],0))),IF(H132=\"\",0,INDEX(SignalHeads[Perp. Wind Area (sft)],MATCH(H132,SignalHeads[Code],0))),IF(I132=\"\",0,INDEX(SignalHeads[Perp. Wind Area (sft)],MATCH(I132,SignalHeads[Code],0))))","v":0},{"$f":"SUM(IF(B132=\"\",0,INDEX(SignalHeads[Weight*** (lbs)],MATCH(B132,SignalHeads[Code],0))),IF(D132=\"\",0,INDEX(SignalHeads[Weight*** (lbs)],MATCH(D132,SignalHeads[Code],0))),IF(E132=\"\",0,INDEX(SignalHeads[Weight*** (lbs)],MATCH(E132,SignalHeads[Code],0))),IF(F132=\"\",0,INDEX(SignalHeads[Weight*** (lbs)],MATCH(F132,SignalHeads[Code],0))),IF(G132=\"\",0,INDEX(SignalHeads[Weight*** (lbs)],MATCH(G132,SignalHeads[Code],0))),IF(H132=\"\",0,INDEX(SignalHeads[Weight*** (lbs)],MATCH(H132,SignalHeads[Code],0))),IF(I132=\"\",0,INDEX(SignalHeads[Weight*** (lbs)],MATCH(I132,SignalHeads[Code],0))))","v":0},{"$f":"IF(A132<=$I$8,INDEX(DesignConstants[Value],MATCH(\"Span Wire Weight (plf)\",DesignConstants[Design Constant],0)),0)","v":1.155},0,123.00750000000001,{"$error":"#VALUE!"},{"$error":"#VALUE!"},{"$error":"#N/A"},{"$error":"#N/A"},{"$f":"SUM(IF(B132=\"\",0,INDEX(SignalHeads[Height ** (feet)],MATCH(B132,SignalHeads[Code],0))),IF(D132=\"\",0,INDEX(SignalHeads[Height ** (feet)],MATCH(D132,SignalHeads[Code],0))),IF(E132=\"\",0,INDEX(SignalHeads[Height ** (feet)],MATCH(E132,SignalHeads[Code],0))),IF(F132=\"\",0,INDEX(SignalHeads[Height ** (feet)],MATCH(F132,SignalHeads[Code],0))),IF(G132=\"\",0,INDEX(SignalHeads[Height ** (feet)],MATCH(G132,SignalHeads[Code],0))),IF(H132=\"\",0,INDEX(SignalHeads[Height ** (feet)],MATCH(H132,SignalHeads[Code],0))),IF(I132=\"\",0,INDEX(SignalHeads[Height ** (feet)],MATCH(I132,SignalHeads[Code],0))))","v":0},{"$f":"IF(S132=0,\"\",ROUNDDOWN(12*(((Q132-S132)-MIN($Q$26:$Q$425-$S$26:$S$425)-(MAX($S$26:$S$425*(($Q$26:$Q$425-$S$26:$S$425)=MIN($Q$26:$Q$425-$S$26:$S$425)))-S132))+(MIN($Q$26:$Q$425-$S$26:$S$425)-$I$10)),0)/12)","v":""},"",{"$error":"#N/A"},17]
[108,null,null,null,null,null,null,null,null,{"$f":"SUM(IF(B133=\"\",0,INDEX(SignalHeads[Perp. Wind Area (sft)],MATCH(B133,SignalHeads[Code],0))),IF(D133=\"\",0,INDEX(SignalHeads[Perp. Wind Area (sft)],MATCH(D133,SignalHeads[Code],0))),IF(E133=\"\",0,INDEX(SignalHeads[Perp. Wind Area (sft)],MATCH(E133,SignalHeads[Code],0))),IF(F133=\"\",0,INDEX(SignalHeads[Perp. Wind Area (sft)],MATCH(F133,SignalHeads[Code],0))),IF(G133=\"\",0,INDEX(SignalHeads[Perp. Wind Area (sft)],MATCH(G133,SignalHeads[Code],0))),IF(H133=\"\",0,INDEX(SignalHeads[Perp. Wind Area (sft)],MATCH(H133,SignalHeads[Code],0))),IF(I133=\"\",0,INDEX(SignalHeads[Perp. Wind Area (sft)],MATCH(I133,SignalHeads[Code],0))))","v":0},{"$f":"SUM(IF(B133=\"\",0,INDEX(SignalHeads[Weight*** (lbs)],MATCH(B133,SignalHeads[Code],0))),IF(D133=\"\",0,INDEX(SignalHeads[Weight*** (lbs)],MATCH(D133,SignalHeads[Code],0))),IF(E133=\"\",0,INDEX(SignalHeads[Weight*** (lbs)],MATCH(E133,SignalHeads[Code],0))),IF(F133=\"\",0,INDEX(SignalHeads[Weight*** (lbs)],MATCH(F133,SignalHeads[Code],0))),IF(G133=\"\",0,INDEX(SignalHeads[Weight*** (lbs)],MATCH(G133,SignalHeads[Code],0))),IF(H133=\"\",0,INDEX(SignalHeads[Weight*** (lbs)],MATCH(H133,SignalHeads[Code],0))),IF(I133=\"\",0,INDEX(SignalHeads[Weight*** (lbs)],MATCH(I133,SignalHeads[Code],0))))","v":0},{"$f":"IF(A133<=$I$8,INDEX(DesignConstants[Value],MATCH(\"Span Wire Weight (plf)\",DesignConstants[Design Constant],0)),0)","v":1.155},0,124.16250000000001,{"$error":"#VALUE!"},{"$error":"#VALUE!"},{"$error":"#N/A"},{"$error":"#N/A"},{"$f":"SUM(IF(B133=\"\",0,INDEX(SignalHeads[Height ** (feet)],MATCH(B133,SignalHeads[Code],0))),IF(D133=\"\",0,INDEX(SignalHeads[Height ** (feet)],MATCH(D133,SignalHeads[Code],0))),IF(E133=\"\",0,INDEX(SignalHeads[Height ** (feet)],MATCH(E133,SignalHeads[Code],0))),IF(F133=\"\",0,INDEX(SignalHeads[Height ** (feet)],MATCH(F133,SignalHeads[Code],0))),IF(G133=\"\",0,INDEX(SignalHeads[Height ** (feet)],MATCH(G133,SignalHeads[Code],0))),IF(H133=\"\",0,INDEX(SignalHeads[Height ** (feet)],MATCH(H133,SignalHeads[Code],0))),IF(I133=\"\",0,INDEX(SignalHeads[Height ** (feet)],MATCH(I133,SignalHeads[Code],0))))","v":0},{"$f":"IF(S133=0,\"\",ROUNDDOWN(12*(((Q133-S133)-MIN($Q$26:$Q$425-$S$26:$S$425)-(MAX($S$26:$S$425*(($Q$26:$Q$425-$S$26:$S$425)=MIN($Q$26:$Q$425-$S$26:$S$425)))-S133))+(MIN($Q$26:$Q$425-$S$26:$S$425)-$I$10)),0)/12)","v":""},"",{"$error":"#N/A"},17]
[109,null,null,null,null,null,null,null,null,{"$f":"SUM(IF(B134=\"\",0,INDEX(SignalHeads[Perp. Wind Area (sft)],MATCH(B134,SignalHeads[Code],0))),IF(D134=\"\",0,INDEX(SignalHeads[Perp. Wind Area (sft)],MATCH(D134,SignalHeads[Code],0))),IF(E134=\"\",0,INDEX(SignalHeads[Perp. Wind Area (sft)],MATCH(E134,SignalHeads[Code],0))),IF(F134=\"\",0,INDEX(SignalHeads[Perp. Wind Area (sft)],MATCH(F134,SignalHeads[Code],0))),IF(G134=\"\",0,INDEX(SignalHeads[Perp. Wind Area (sft)],MATCH(G134,SignalHeads[Code],0))),IF(H134=\"\",0,INDEX(SignalHeads[Perp. Wind Area (sft)],MATCH(H134,SignalHeads[Code],0))),IF(I134=\"\",0,INDEX(SignalHeads[Perp. Wind Area (sft)],MATCH(I134,SignalHeads[Code],0))))","v":0},{"$f":"SUM(IF(B134=\"\",0,INDEX(SignalHeads[Weight*** (lbs)],MATCH(B134,SignalHeads[Code],0))),IF(D134=\"\",0,INDEX(SignalHeads[Weight*** (lbs)],MATCH(D134,SignalHeads[Code],0))),IF(E134=\"\",0,INDEX(SignalHeads[Weight*** (lbs)],MATCH(E134,SignalHeads[Code],0))),IF(F134=\"\",0,INDEX(SignalHeads[Weight*** (lbs)],MATCH(F134,SignalHeads[Code],0))),IF(G134=\"\",0,INDEX(SignalHeads[Weight*** (lbs)],MATCH(G134,SignalHeads[Code],0))),IF(H134=\"\",0,INDEX(SignalHeads[Weight*** (lbs)],MATCH(H134,SignalHeads[Code],0))),IF(I134=\"\",0,INDEX(SignalHeads[Weight*** (lbs)],MATCH(I134,SignalHeads[Code],0))))","v":0},{"$f":"IF(A134<=$I$8,INDEX(DesignConstants[Value],MATCH(\"Span Wire Weight (plf)\",DesignConstants[Design Constant],0)),0)","v":1.155},0,125.31750000000001,{"$error":"#VALUE!"},{"$error":"#VALUE!"},{"$error":"#N/A"},{"$error":"#N/A"},{"$f":"SUM(IF(B134=\"\",0,INDEX(SignalHeads[Height ** (feet)],MATCH(B134,SignalHeads[Code],0))),IF(D134=\"\",0,INDEX(SignalHeads[Height ** (feet)],MATCH(D134,SignalHeads[Code],0))),IF(E134=\"\",0,INDEX(SignalHeads[Height ** (feet)],MATCH(E134,SignalHeads[Code],0))),IF(F134=\"\",0,INDEX(SignalHeads[Height ** (feet)],MATCH(F134,SignalHeads[Code],0))),IF(G134=\"\",0,INDEX(SignalHeads[Height ** (feet)],MATCH(G134,SignalHeads[Code],0))),IF(H134=\"\",0,INDEX(SignalHeads[Height ** (feet)],MATCH(H134,SignalHeads[Code],0))),IF(I134=\"\",0,INDEX(SignalHeads[Height ** (feet)],MATCH(I134,SignalHeads[Code],0))))","v":0},{"$f":"IF(S134=0,\"\",ROUNDDOWN(12*(((Q134-S134)-MIN($Q$26:$Q$425-$S$26:$S$425)-(MAX($S$26:$S$425*(($Q$26:$Q$425-$S$26:$S$425)=MIN($Q$26:$Q$425-$S$26:$S$425)))-S134))+(MIN($Q$26:$Q$425-$S$26:$S$425)-$I$10)),0)/12)","v":""},"",{"$error":"#N/A"},17]
[110,null,null,null,null,null,null,null,null,{"$f":"SUM(IF(B135=\"\",0,INDEX(SignalHeads[Perp. Wind Area (sft)],MATCH(B135,SignalHeads[Code],0))),IF(D135=\"\",0,INDEX(SignalHeads[Perp. Wind Area (sft)],MATCH(D135,SignalHeads[Code],0))),IF(E135=\"\",0,INDEX(SignalHeads[Perp. Wind Area (sft)],MATCH(E135,SignalHeads[Code],0))),IF(F135=\"\",0,INDEX(SignalHeads[Perp. Wind Area (sft)],MATCH(F135,SignalHeads[Code],0))),IF(G135=\"\",0,INDEX(SignalHeads[Perp. Wind Area (sft)],MATCH(G135,SignalHeads[Code],0))),IF(H135=\"\",0,INDEX(SignalHeads[Perp. Wind Area (sft)],MATCH(H135,SignalHeads[Code],0))),IF(I135=\"\",0,INDEX(SignalHeads[Perp. Wind Area (sft)],MATCH(I135,SignalHeads[Code],0))))","v":0},{"$f":"SUM(IF(B135=\"\",0,INDEX(SignalHeads[Weight*** (lbs)],MATCH(B135,SignalHeads[Code],0))),IF(D135=\"\",0,INDEX(SignalHeads[Weight*** (lbs)],MATCH(D135,SignalHeads[Code],0))),IF(E135=\"\",0,INDEX(SignalHeads[Weight*** (lbs)],MATCH(E135,SignalHeads[Code],0))),IF(F135=\"\",0,INDEX(SignalHeads[Weight*** (lbs)],MATCH(F135,SignalHeads[Code],0))),IF(G135=\"\",0,INDEX(SignalHeads[Weight*** (lbs)],MATCH(G135,SignalHeads[Code],0))),IF(H135=\"\",0,INDEX(SignalHeads[Weight*** (lbs)],MATCH(H135,SignalHeads[Code],0))),IF(I135=\"\",0,INDEX(SignalHeads[Weight*** (lbs)],MATCH(I135,SignalHeads[Code],0))))","v":0},{"$f":"IF(A135<=$I$8,INDEX(DesignConstants[Value],MATCH(\"Span Wire Weight (plf)\",DesignConstants[Design Constant],0)),0)","v":1.155},0,126.4725,{"$error":"#VALUE!"},{"$error":"#VALUE!"},{"$error":"#N/A"},{"$error":"#N/A"},{"$f":"SUM(IF(B135=\"\",0,INDEX(SignalHeads[Height ** (feet)],MATCH(B135,SignalHeads[Code],0))),IF(D135=\"\",0,INDEX(SignalHeads[Height ** (feet)],MATCH(D135,SignalHeads[Code],0))),IF(E135=\"\",0,INDEX(SignalHeads[Height ** (feet)],MATCH(E135,SignalHeads[Code],0))),IF(F135=\"\",0,INDEX(SignalHeads[Height ** (feet)],MATCH(F135,SignalHeads[Code],0))),IF(G135=\"\",0,INDEX(SignalHeads[Height ** (feet)],MATCH(G135,SignalHeads[Code],0))),IF(H135=\"\",0,INDEX(SignalHeads[Height ** (feet)],MATCH(H135,SignalHeads[Code],0))),IF(I135=\"\",0,INDEX(SignalHeads[Height ** (feet)],MATCH(I135,SignalHeads[Code],0))))","v":0},{"$f":"IF(S135=0,\"\",ROUNDDOWN(12*(((Q135-S135)-MIN($Q$26:$Q$425-$S$26:$S$425)-(MAX($S$26:$S$425*(($Q$26:$Q$425-$S$26:$S$425)=MIN($Q$26:$Q$425-$S$26:$S$425)))-S135))+(MIN($Q$26:$Q$425-$S$26:$S$425)-$I$10)),0)/12)","v":""},"",{"$error":"#N/A"},17]
[111,null,null,null,null,null,null,null,null,{"$f":"SUM(IF(B136=\"\",0,INDEX(SignalHeads[Perp. Wind Area (sft)],MATCH(B136,SignalHeads[Code],0))),IF(D136=\"\",0,INDEX(SignalHeads[Perp. Wind Area (sft)],MATCH(D136,SignalHeads[Code],0))),IF(E136=\"\",0,INDEX(SignalHeads[Perp. Wind Area (sft)],MATCH(E136,SignalHeads[Code],0))),IF(F136=\"\",0,INDEX(SignalHeads[Perp. Wind Area (sft)],MATCH(F136,SignalHeads[Code],0))),IF(G136=\"\",0,INDEX(SignalHeads[Perp. Wind Area (sft)],MATCH(G136,SignalHeads[Code],0))),IF(H136=\"\",0,INDEX(SignalHeads[Perp. Wind Area (sft)],MATCH(H136,SignalHeads[Code],0))),IF(I136=\"\",0,INDEX(SignalHeads[Perp. Wind Area (sft)],MATCH(I136,SignalHeads[Code],0))))","v":0},{"$f":"SUM(IF(B136=\"\",0,INDEX(SignalHeads[Weight*** (lbs)],MATCH(B136,SignalHeads[Code],0))),IF(D136=\"\",0,INDEX(SignalHeads[Weight*** (lbs)],MATCH(D136,SignalHeads[Code],0))),IF(E136=\"\",0,INDEX(SignalHeads[Weight*** (lbs)],MATCH(E136,SignalHeads[Code],0))),IF(F136=\"\",0,INDEX(SignalHeads[Weight*** (lbs)],MATCH(F136,SignalHeads[Code],0))),IF(G136=\"\",0,INDEX(SignalHeads[Weight*** (lbs)],MATCH(G136,SignalHeads[Code],0))),IF(H136=\"\",0,INDEX(SignalHeads[Weight*** (lbs)],MATCH(H136,SignalHeads[Code],0))),IF(I136=\"\",0,INDEX(SignalHeads[Weight*** (lbs)],MATCH(I136,SignalHeads[Code],0))))","v":0},{"$f":"IF(A136<=$I$8,INDEX(DesignConstants[Value],MATCH(\"Span Wire Weight (plf)\",DesignConstants[Design Constant],0)),0)","v":1.155},0,127.6275,{"$error":"#VALUE!"},{"$error":"#VALUE!"},{"$error":"#N/A"},{"$error":"#N/A"},{"$f":"SUM(IF(B136=\"\",0,INDEX(SignalHeads[Height ** (feet)],MATCH(B136,SignalHeads[Code],0))),IF(D136=\"\",0,INDEX(SignalHeads[Height ** (feet)],MATCH(D136,SignalHeads[Code],0))),IF(E136=\"\",0,INDEX(SignalHeads[Height ** (feet)],MATCH(E136,SignalHeads[Code],0))),IF(F136=\"\",0,INDEX(SignalHeads[Height ** (feet)],MATCH(F136,SignalHeads[Code],0))),IF(G136=\"\",0,INDEX(SignalHeads[Height ** (feet)],MATCH(G136,SignalHeads[Code],0))),IF(H136=\"\",0,INDEX(SignalHeads[Height ** (feet)],MATCH(H136,SignalHeads[Code],0))),IF(I136=\"\",0,INDEX(SignalHeads[Height ** (feet)],MATCH(I136,SignalHeads[Code],0))))","v":0},{"$f":"IF(S136=0,\"\",ROUNDDOWN(12*(((Q136-S136)-MIN($Q$26:$Q$425-$S$26:$S$425)-(MAX($S$26:$S$425*(($Q$26:$Q$425-$S$26:$S$425)=MIN($Q$26:$Q$425-$S$26:$S$425)))-S136))+(MIN($Q$26:$Q$425-$S$26:$S$425)-$I$10)),0)/12)","v":""},"",{"$error":"#N/A"},17]
[112,null,null,null,null,null,null,null,null,{"$f":"SUM(IF(B137=\"\",0,INDEX(SignalHeads[Perp. Wind Area (sft)],MATCH(B137,SignalHeads[Code],0))),IF(D137=\"\",0,INDEX(SignalHeads[Perp. Wind Area (sft)],MATCH(D137,SignalHeads[Code],0))),IF(E137=\"\",0,INDEX(SignalHeads[Perp. Wind Area (sft)],MATCH(E137,SignalHeads[Code],0))),IF(F137=\"\",0,INDEX(SignalHeads[Perp. Wind Area (sft)],MATCH(F137,SignalHeads[Code],0))),IF(G137=\"\",0,INDEX(SignalHeads[Perp. Wind Area (sft)],MATCH(G137,SignalHeads[Code],0))),IF(H137=\"\",0,INDEX(SignalHeads[Perp. Wind Area (sft)],MATCH(H137,SignalHeads[Code],0))),IF(I137=\"\",0,INDEX(SignalHeads[Perp. Wind Area (sft)],MATCH(I137,SignalHeads[Code],0))))","v":0},{"$f":"SUM(IF(B137=\"\",0,INDEX(SignalHeads[Weight*** (lbs)],MATCH(B137,SignalHeads[Code],0))),IF(D137=\"\",0,INDEX(SignalHeads[Weight*** (lbs)],MATCH(D137,SignalHeads[Code],0))),IF(E137=\"\",0,INDEX(SignalHeads[Weight*** (lbs)],MATCH(E137,SignalHeads[Code],0))),IF(F137=\"\",0,INDEX(SignalHeads[Weight*** (lbs)],MATCH(F137,SignalHeads[Code],0))),IF(G137=\"\",0,INDEX(SignalHeads[Weight*** (lbs)],MATCH(G137,SignalHeads[Code],0))),IF(H137=\"\",0,INDEX(SignalHeads[Weight*** (lbs)],MATCH(H137,SignalHeads[Code],0))),IF(I137=\"\",0,INDEX(SignalHeads[Weight*** (lbs)],MATCH(I137,SignalHeads[Code],0))))","v":0},{"$f":"IF(A137<=$I$8,INDEX(DesignConstants[Value],MATCH(\"Span Wire Weight (plf)\",DesignConstants[Design Constant],0)),0)","v":1.155},0,128.7825,{"$error":"#VALUE!"},{"$error":"#VALUE!"},{"$error":"#N/A"},{"$error":"#N/A"},{"$f":"SUM(IF(B137=\"\",0,INDEX(SignalHeads[Height ** (feet)],MATCH(B137,SignalHeads[Code],0))),IF(D137=\"\",0,INDEX(SignalHeads[Height ** (feet)],MATCH(D137,SignalHeads[Code],0))),IF(E137=\"\",0,INDEX(SignalHeads[Height ** (feet)],MATCH(E137,SignalHeads[Code],0))),IF(F137=\"\",0,INDEX(SignalHeads[Height ** (feet)],MATCH(F137,SignalHeads[Code],0))),IF(G137=\"\",0,INDEX(SignalHeads[Height ** (feet)],MATCH(G137,SignalHeads[Code],0))),IF(H137=\"\",0,INDEX(SignalHeads[Height ** (feet)],MATCH(H137,SignalHeads[Code],0))),IF(I137=\"\",0,INDEX(SignalHeads[Height ** (feet)],MATCH(I137,SignalHeads[Code],0))))","v":0},{"$f":"IF(S137=0,\"\",ROUNDDOWN(12*(((Q137-S137)-MIN($Q$26:$Q$425-$S$26:$S$425)-(MAX($S$26:$S$425*(($Q$26:$Q$425-$S$26:$S$425)=MIN($Q$26:$Q$425-$S$26:$S$425)))-S137))+(MIN($Q$26:$Q$425-$S$26:$S$425)-$I$10)),0)/12)","v":""},"",{"$error":"#N/A"},17]
[113,null,null,null,null,null,null,null,null,{"$f":"SUM(IF(B138=\"\",0,INDEX(SignalHeads[Perp. Wind Area (sft)],MATCH(B138,SignalHeads[Code],0))),IF(D138=\"\",0,INDEX(SignalHeads[Perp. Wind Area (sft)],MATCH(D138,SignalHeads[Code],0))),IF(E138=\"\",0,INDEX(SignalHeads[Perp. Wind Area (sft)],MATCH(E138,SignalHeads[Code],0))),IF(F138=\"\",0,INDEX(SignalHeads[Perp. Wind Area (sft)],MATCH(F138,SignalHeads[Code],0))),IF(G138=\"\",0,INDEX(SignalHeads[Perp. Wind Area (sft)],MATCH(G138,SignalHeads[Code],0))),IF(H138=\"\",0,INDEX(SignalHeads[Perp. Wind Area (sft)],MATCH(H138,SignalHeads[Code],0))),IF(I138=\"\",0,INDEX(SignalHeads[Perp. Wind Area (sft)],MATCH(I138,SignalHeads[Code],0))))","v":0},{"$f":"SUM(IF(B138=\"\",0,INDEX(SignalHeads[Weight*** (lbs)],MATCH(B138,SignalHeads[Code],0))),IF(D138=\"\",0,INDEX(SignalHeads[Weight*** (lbs)],MATCH(D138,SignalHeads[Code],0))),IF(E138=\"\",0,INDEX(SignalHeads[Weight*** (lbs)],MATCH(E138,SignalHeads[Code],0))),IF(F138=\"\",0,INDEX(SignalHeads[Weight*** (lbs)],MATCH(F138,SignalHeads[Code],0))),IF(G138=\"\",0,INDEX(SignalHeads[Weight*** (lbs)],MATCH(G138,SignalHeads[Code],0))),IF(H138=\"\",0,INDEX(SignalHeads[Weight*** (lbs)],MATCH(H138,SignalHeads[Code],0))),IF(I138=\"\",0,INDEX(SignalHeads[Weight*** (lbs)],MATCH(I138,SignalHeads[Code],0))))","v":0},{"$f":"IF(A138<=$I$8,INDEX(DesignConstants[Value],MATCH(\"Span Wire Weight (plf)\",DesignConstants[Design Constant],0)),0)","v":1.155},0,129.9375,{"$error":"#VALUE!"},{"$error":"#VALUE!"},{"$error":"#N/A"},{"$error":"#N/A"},{"$f":"SUM(IF(B138=\"\",0,INDEX(SignalHeads[Height ** (feet)],MATCH(B138,SignalHeads[Code],0))),IF(D138=\"\",0,INDEX(SignalHeads[Height ** (feet)],MATCH(D138,SignalHeads[Code],0))),IF(E138=\"\",0,INDEX(SignalHeads[Height ** (feet)],MATCH(E138,SignalHeads[Code],0))),IF(F138=\"\",0,INDEX(SignalHeads[Height ** (feet)],MATCH(F138,SignalHeads[Code],0))),IF(G138=\"\",0,INDEX(SignalHeads[Height ** (feet)],MATCH(G138,SignalHeads[Code],0))),IF(H138=\"\",0,INDEX(SignalHeads[Height ** (feet)],MATCH(H138,SignalHeads[Code],0))),IF(I138=\"\",0,INDEX(SignalHeads[Height ** (feet)],MATCH(I138,SignalHeads[Code],0))))","v":0},{"$f":"IF(S138=0,\"\",ROUNDDOWN(12*(((Q138-S138)-MIN($Q$26:$Q$425-$S$26:$S$425)-(MAX($S$26:$S$425*(($Q$26:$Q$425-$S$26:$S$425)=MIN($Q$26:$Q$425-$S$26:$S$425)))-S138))+(MIN($Q$26:$Q$425-$S$26:$S$425)-$I$10)),0)/12)","v":""},"",{"$error":"#N/A"},17]
[114,null,null,null,null,null,null,null,null,{"$f":"SUM(IF(B139=\"\",0,INDEX(SignalHeads[Perp. Wind Area (sft)],MATCH(B139,SignalHeads[Code],0))),IF(D139=\"\",0,INDEX(SignalHeads[Perp. Wind Area (sft)],MATCH(D139,SignalHeads[Code],0))),IF(E139=\"\",0,INDEX(SignalHeads[Perp. Wind Area (sft)],MATCH(E139,SignalHeads[Code],0))),IF(F139=\"\",0,INDEX(SignalHeads[Perp. Wind Area (sft)],MATCH(F139,SignalHeads[Code],0))),IF(G139=\"\",0,INDEX(SignalHeads[Perp. Wind Area (sft)],MATCH(G139,SignalHeads[Code],0))),IF(H139=\"\",0,INDEX(SignalHeads[Perp. Wind Area (sft)],MATCH(H139,SignalHeads[Code],0))),IF(I139=\"\",0,INDEX(SignalHeads[Perp. Wind Area (sft)],MATCH(I139,SignalHeads[Code],0))))","v":0},{"$f":"SUM(IF(B139=\"\",0,INDEX(SignalHeads[Weight*** (lbs)],MATCH(B139,SignalHeads[Code],0))),IF(D139=\"\",0,INDEX(SignalHeads[Weight*** (lbs)],MATCH(D139,SignalHeads[Code],0))),IF(E139=\"\",0,INDEX(SignalHeads[Weight*** (lbs)],MATCH(E139,SignalHeads[Code],0))),IF(F139=\"\",0,INDEX(SignalHeads[Weight*** (lbs)],MATCH(F139,SignalHeads[Code],0))),IF(G139=\"\",0,INDEX(SignalHeads[Weight*** (lbs)],MATCH(G139,SignalHeads[Code],0))),IF(H139=\"\",0,INDEX(SignalHeads[Weight*** (lbs)],MATCH(H139,SignalHeads[Code],0))),IF(I139=\"\",0,INDEX(SignalHeads[Weight*** (lbs)],MATCH(I139,SignalHeads[Code],0))))","v":0},{"$f":"IF(A139<=$I$8,INDEX(DesignConstants[Value],MATCH(\"Span Wire Weight (plf)\",DesignConstants[Design Constant],0)),0)","v":1.155},0,131.0925,{"$error":"#VALUE!"},{"$error":"#VALUE!"},{"$error":"#N/A"},{"$error":"#N/A"},{"$f":"SUM(IF(B139=\"\",0,INDEX(SignalHeads[Height ** (feet)],MATCH(B139,SignalHeads[Code],0))),IF(D139=\"\",0,INDEX(SignalHeads[Height ** (feet)],MATCH(D139,SignalHeads[Code],0))),IF(E139=\"\",0,INDEX(SignalHeads[Height ** (feet)],MATCH(E139,SignalHeads[Code],0))),IF(F139=\"\",0,INDEX(SignalHeads[Height ** (feet)],MATCH(F139,SignalHeads[Code],0))),IF(G139=\"\",0,INDEX(SignalHeads[Height ** (feet)],MATCH(G139,SignalHeads[Code],0))),IF(H139=\"\",0,INDEX(SignalHeads[Height ** (feet)],MATCH(H139,SignalHeads[Code],0))),IF(I139=\"\",0,INDEX(SignalHeads[Height ** (feet)],MATCH(I139,SignalHeads[Code],0))))","v":0},{"$f":"IF(S139=0,\"\",ROUNDDOWN(12*(((Q139-S139)-MIN($Q$26:$Q$425-$S$26:$S$425)-(MAX($S$26:$S$425*(($Q$26:$Q$425-$S$26:$S$425)=MIN($Q$26:$Q$425-$S$26:$S$425)))-S139))+(MIN($Q$26:$Q$425-$S$26:$S$425)-$I$10)),0)/12)","v":""},"",{"$error":"#N/A"},17]
[115,null,null,null,null,null,null,null,null,{"$f":"SUM(IF(B140=\"\",0,INDEX(SignalHeads[Perp. Wind Area (sft)],MATCH(B140,SignalHeads[Code],0))),IF(D140=\"\",0,INDEX(SignalHeads[Perp. Wind Area (sft)],MATCH(D140,SignalHeads[Code],0))),IF(E140=\"\",0,INDEX(SignalHeads[Perp. Wind Area (sft)],MATCH(E140,SignalHeads[Code],0))),IF(F140=\"\",0,INDEX(SignalHeads[Perp. Wind Area (sft)],MATCH(F140,SignalHeads[Code],0))),IF(G140=\"\",0,INDEX(SignalHeads[Perp. Wind Area (sft)],MATCH(G140,SignalHeads[Code],0))),IF(H140=\"\",0,INDEX(SignalHeads[Perp. Wind Area (sft)],MATCH(H140,SignalHeads[Code],0))),IF(I140=\"\",0,INDEX(SignalHeads[Perp. Wind Area (sft)],MATCH(I140,SignalHeads[Code],0))))","v":0},{"$f":"SUM(IF(B140=\"\",0,INDEX(SignalHeads[Weight*** (lbs)],MATCH(B140,SignalHeads[Code],0))),IF(D140=\"\",0,INDEX(SignalHeads[Weight*** (lbs)],MATCH(D140,SignalHeads[Code],0))),IF(E140=\"\",0,INDEX(SignalHeads[Weight*** (lbs)],MATCH(E140,SignalHeads[Code],0))),IF(F140=\"\",0,INDEX(SignalHeads[Weight*** (lbs)],MATCH(F140,SignalHeads[Code],0))),IF(G140=\"\",0,INDEX(SignalHeads[Weight*** (lbs)],MATCH(G140,SignalHeads[Code],0))),IF(H140=\"\",0,INDEX(SignalHeads[Weight*** (lbs)],MATCH(H140,SignalHeads[Code],0))),IF(I140=\"\",0,INDEX(SignalHeads[Weight*** (lbs)],MATCH(I140,SignalHeads[Code],0))))","v":0},{"$f":"IF(A140<=$I$8,INDEX(DesignConstants[Value],MATCH(\"Span Wire Weight (plf)\",DesignConstants[Design Constant],0)),0)","v":1.155},0,132.2475,{"$error":"#VALUE!"},{"$error":"#VALUE!"},{"$error":"#N/A"},{"$error":"#N/A"},{"$f":"SUM(IF(B140=\"\",0,INDEX(SignalHeads[Height ** (feet)],MATCH(B140,SignalHeads[Code],0))),IF(D140=\"\",0,INDEX(SignalHeads[Height ** (feet)],MATCH(D140,SignalHeads[Code],0))),IF(E140=\"\",0,INDEX(SignalHeads[Height ** (feet)],MATCH(E140,SignalHeads[Code],0))),IF(F140=\"\",0,INDEX(SignalHeads[Height ** (feet)],MATCH(F140,SignalHeads[Code],0))),IF(G140=\"\",0,INDEX(SignalHeads[Height ** (feet)],MATCH(G140,SignalHeads[Code],0))),IF(H140=\"\",0,INDEX(SignalHeads[Height ** (feet)],MATCH(H140,SignalHeads[Code],0))),IF(I140=\"\",0,INDEX(SignalHeads[Height ** (feet)],MATCH(I140,SignalHeads[Code],0))))","v":0},{"$f":"IF(S140=0,\"\",ROUNDDOWN(12*(((Q140-S140)-MIN($Q$26:$Q$425-$S$26:$S$425)-(MAX($S$26:$S$425*(($Q$26:$Q$425-$S$26:$S$425)=MIN($Q$26:$Q$425-$S$26:$S$425)))-S140))+(MIN($Q$26:$Q$425-$S$26:$S$425)-$I$10)),0)/12)","v":""},"",{"$error":"#N/A"},17]
[116,null,null,null,null,null,null,null,null,{"$f":"SUM(IF(B141=\"\",0,INDEX(SignalHeads[Perp. Wind Area (sft)],MATCH(B141,SignalHeads[Code],0))),IF(D141=\"\",0,INDEX(SignalHeads[Perp. Wind Area (sft)],MATCH(D141,SignalHeads[Code],0))),IF(E141=\"\",0,INDEX(SignalHeads[Perp. Wind Area (sft)],MATCH(E141,SignalHeads[Code],0))),IF(F141=\"\",0,INDEX(SignalHeads[Perp. Wind Area (sft)],MATCH(F141,SignalHeads[Code],0))),IF(G141=\"\",0,INDEX(SignalHeads[Perp. Wind Area (sft)],MATCH(G141,SignalHeads[Code],0))),IF(H141=\"\",0,INDEX(SignalHeads[Perp. Wind Area (sft)],MATCH(H141,SignalHeads[Code],0))),IF(I141=\"\",0,INDEX(SignalHeads[Perp. Wind Area (sft)],MATCH(I141,SignalHeads[Code],0))))","v":0},{"$f":"SUM(IF(B141=\"\",0,INDEX(SignalHeads[Weight*** (lbs)],MATCH(B141,SignalHeads[Code],0))),IF(D141=\"\",0,INDEX(SignalHeads[Weight*** (lbs)],MATCH(D141,SignalHeads[Code],0))),IF(E141=\"\",0,INDEX(SignalHeads[Weight*** (lbs)],MATCH(E141,SignalHeads[Code],0))),IF(F141=\"\",0,INDEX(SignalHeads[Weight*** (lbs)],MATCH(F141,SignalHeads[Code],0))),IF(G141=\"\",0,INDEX(SignalHeads[Weight*** (lbs)],MATCH(G141,SignalHeads[Code],0))),IF(H141=\"\",0,INDEX(SignalHeads[Weight*** (lbs)],MATCH(H141,SignalHeads[Code],0))),IF(I141=\"\",0,INDEX(SignalHeads[Weight*** (lbs)],MATCH(I141,SignalHeads[Code],0))))","v":0},{"$f":"IF(A141<=$I$8,INDEX(DesignConstants[Value],MATCH(\"Span Wire Weight (plf)\",DesignConstants[Design Constant],0)),0)","v":1.155},0,133.4025,{"$error":"#VALUE!"},{"$error":"#VALUE!"},{"$error":"#N/A"},{"$error":"#N/A"},{"$f":"SUM(IF(B141=\"\",0,INDEX(SignalHeads[Height ** (feet)],MATCH(B141,SignalHeads[Code],0))),IF(D141=\"\",0,INDEX(SignalHeads[Height ** (feet)],MATCH(D141,SignalHeads[Code],0))),IF(E141=\"\",0,INDEX(SignalHeads[Height ** (feet)],MATCH(E141,SignalHeads[Code],0))),IF(F141=\"\",0,INDEX(SignalHeads[Height ** (feet)],MATCH(F141,SignalHeads[Code],0))),IF(G141=\"\",0,INDEX(SignalHeads[Height ** (feet)],MATCH(G141,SignalHeads[Code],0))),IF(H141=\"\",0,INDEX(SignalHeads[Height ** (feet)],MATCH(H141,SignalHeads[Code],0))),IF(I141=\"\",0,INDEX(SignalHeads[Height ** (feet)],MATCH(I141,SignalHeads[Code],0))))","v":0},{"$f":"IF(S141=0,\"\",ROUNDDOWN(12*(((Q141-S141)-MIN($Q$26:$Q$425-$S$26:$S$425)-(MAX($S$26:$S$425*(($Q$26:$Q$425-$S$26:$S$425)=MIN($Q$26:$Q$425-$S$26:$S$425)))-S141))+(MIN($Q$26:$Q$425-$S$26:$S$425)-$I$10)),0)/12)","v":""},"",{"$error":"#N/A"},17]
[117,null,null,null,null,null,null,null,null,{"$f":"SUM(IF(B142=\"\",0,INDEX(SignalHeads[Perp. Wind Area (sft)],MATCH(B142,SignalHeads[Code],0))),IF(D142=\"\",0,INDEX(SignalHeads[Perp. Wind Area (sft)],MATCH(D142,SignalHeads[Code],0))),IF(E142=\"\",0,INDEX(SignalHeads[Perp. Wind Area (sft)],MATCH(E142,SignalHeads[Code],0))),IF(F142=\"\",0,INDEX(SignalHeads[Perp. Wind Area (sft)],MATCH(F142,SignalHeads[Code],0))),IF(G142=\"\",0,INDEX(SignalHeads[Perp. Wind Area (sft)],MATCH(G142,SignalHeads[Code],0))),IF(H142=\"\",0,INDEX(SignalHeads[Perp. Wind Area (sft)],MATCH(H142,SignalHeads[Code],0))),IF(I142=\"\",0,INDEX(SignalHeads[Perp. Wind Area (sft)],MATCH(I142,SignalHeads[Code],0))))","v":0},{"$f":"SUM(IF(B142=\"\",0,INDEX(SignalHeads[Weight*** (lbs)],MATCH(B142,SignalHeads[Code],0))),IF(D142=\"\",0,INDEX(SignalHeads[Weight*** (lbs)],MATCH(D142,SignalHeads[Code],0))),IF(E142=\"\",0,INDEX(SignalHeads[Weight*** (lbs)],MATCH(E142,SignalHeads[Code],0))),IF(F142=\"\",0,INDEX(SignalHeads[Weight*** (lbs)],MATCH(F142,SignalHeads[Code],0))),IF(G142=\"\",0,INDEX(SignalHeads[Weight*** (lbs)],MATCH(G142,SignalHeads[Code],0))),IF(H142=\"\",0,INDEX(SignalHeads[Weight*** (lbs)],MATCH(H142,SignalHeads[Code],0))),IF(I142=\"\",0,INDEX(SignalHeads[Weight*** (lbs)],MATCH(I142,SignalHeads[Code],0))))","v":0},{"$f":"IF(A142<=$I$8,INDEX(DesignConstants[Value],MATCH(\"Span Wire Weight (plf)\",DesignConstants[Design Constant],0)),0)","v":1.155},0,134.5575,{"$error":"#VALUE!"},{"$error":"#VALUE!"},{"$error":"#N/A"},{"$error":"#N/A"},{"$f":"SUM(IF(B142=\"\",0,INDEX(SignalHeads[Height ** (feet)],MATCH(B142,SignalHeads[Code],0))),IF(D142=\"\",0,INDEX(SignalHeads[Height ** (feet)],MATCH(D142,SignalHeads[Code],0))),IF(E142=\"\",0,INDEX(SignalHeads[Height ** (feet)],MATCH(E142,SignalHeads[Code],0))),IF(F142=\"\",0,INDEX(SignalHeads[Height ** (feet)],MATCH(F142,SignalHeads[Code],0))),IF(G142=\"\",0,INDEX(SignalHeads[Height ** (feet)],MATCH(G142,SignalHeads[Code],0))),IF(H142=\"\",0,INDEX(SignalHeads[Height ** (feet)],MATCH(H142,SignalHeads[Code],0))),IF(I142=\"\",0,INDEX(SignalHeads[Height ** (feet)],MATCH(I142,SignalHeads[Code],0))))","v":0},{"$f":"IF(S142=0,\"\",ROUNDDOWN(12*(((Q142-S142)-MIN($Q$26:$Q$425-$S$26:$S$425)-(MAX($S$26:$S$425*(($Q$26:$Q$425-$S$26:$S$425)=MIN($Q$26:$Q$425-$S$26:$S$425)))-S142))+(MIN($Q$26:$Q$425-$S$26:$S$425)-$I$10)),0)/12)","v":""},"",{"$error":"#N/A"},17]
[118,null,null,null,null,null,null,null,null,{"$f":"SUM(IF(B143=\"\",0,INDEX(SignalHeads[Perp. Wind Area (sft)],MATCH(B143,SignalHeads[Code],0))),IF(D143=\"\",0,INDEX(SignalHeads[Perp. Wind Area (sft)],MATCH(D143,SignalHeads[Code],0))),IF(E143=\"\",0,INDEX(SignalHeads[Perp. Wind Area (sft)],MATCH(E143,SignalHeads[Code],0))),IF(F143=\"\",0,INDEX(SignalHeads[Perp. Wind Area (sft)],MATCH(F143,SignalHeads[Code],0))),IF(G143=\"\",0,INDEX(SignalHeads[Perp. Wind Area (sft)],MATCH(G143,SignalHeads[Code],0))),IF(H143=\"\",0,INDEX(SignalHeads[Perp. Wind Area (sft)],MATCH(H143,SignalHeads[Code],0))),IF(I143=\"\",0,INDEX(SignalHeads[Perp. Wind Area (sft)],MATCH(I143,SignalHeads[Code],0))))","v":0},{"$f":"SUM(IF(B143=\"\",0,INDEX(SignalHeads[Weight*** (lbs)],MATCH(B143,SignalHeads[Code],0))),IF(D143=\"\",0,INDEX(SignalHeads[Weight*** (lbs)],MATCH(D143,SignalHeads[Code],0))),IF(E143=\"\",0,INDEX(SignalHeads[Weight*** (lbs)],MATCH(E143,SignalHeads[Code],0))),IF(F143=\"\",0,INDEX(SignalHeads[Weight*** (lbs)],MATCH(F143,SignalHeads[Code],0))),IF(G143=\"\",0,INDEX(SignalHeads[Weight*** (lbs)],MATCH(G143,SignalHeads[Code],0))),IF(H143=\"\",0,INDEX(SignalHeads[Weight*** (lbs)],MATCH(H143,SignalHeads[Code],0))),IF(I143=\"\",0,INDEX(SignalHeads[Weight*** (lbs)],MATCH(I143,SignalHeads[Code],0))))","v":0},{"$f":"IF(A143<=$I$8,INDEX(DesignConstants[Value],MATCH(\"Span Wire Weight (plf)\",DesignConstants[Design Constant],0)),0)","v":1.155},0,135.71250000000001,{"$error":"#VALUE!"},{"$error":"#VALUE!"},{"$error":"#N/A"},{"$error":"#N/A"},{"$f":"SUM(IF(B143=\"\",0,INDEX(SignalHeads[Height ** (feet)],MATCH(B143,SignalHeads[Code],0))),IF(D143=\"\",0,INDEX(SignalHeads[Height ** (feet)],MATCH(D143,SignalHeads[Code],0))),IF(E143=\"\",0,INDEX(SignalHeads[Height ** (feet)],MATCH(E143,SignalHeads[Code],0))),IF(F143=\"\",0,INDEX(SignalHeads[Height ** (feet)],MATCH(F143,SignalHeads[Code],0))),IF(G143=\"\",0,INDEX(SignalHeads[Height ** (feet)],MATCH(G143,SignalHeads[Code],0))),IF(H143=\"\",0,INDEX(SignalHeads[Height ** (feet)],MATCH(H143,SignalHeads[Code],0))),IF(I143=\"\",0,INDEX(SignalHeads[Height ** (feet)],MATCH(I143,SignalHeads[Code],0))))","v":0},{"$f":"IF(S143=0,\"\",ROUNDDOWN(12*(((Q143-S143)-MIN($Q$26:$Q$425-$S$26:$S$425)-(MAX($S$26:$S$425*(($Q$26:$Q$425-$S$26:$S$425)=MIN($Q$26:$Q$425-$S$26:$S$425)))-S143))+(MIN($Q$26:$Q$425-$S$26:$S$425)-$I$10)),0)/12)","v":""},"",{"$error":"#N/A"},17]
[119,null,null,null,null,null,null,null,null,{"$f":"SUM(IF(B144=\"\",0,INDEX(SignalHeads[Perp. Wind Area (sft)],MATCH(B144,SignalHeads[Code],0))),IF(D144=\"\",0,INDEX(SignalHeads[Perp. Wind Area (sft)],MATCH(D144,SignalHeads[Code],0))),IF(E144=\"\",0,INDEX(SignalHeads[Perp. Wind Area (sft)],MATCH(E144,SignalHeads[Code],0))),IF(F144=\"\",0,INDEX(SignalHeads[Perp. Wind Area (sft)],MATCH(F144,SignalHeads[Code],0))),IF(G144=\"\",0,INDEX(SignalHeads[Perp. Wind Area (sft)],MATCH(G144,SignalHeads[Code],0))),IF(H144=\"\",0,INDEX(SignalHeads[Perp. Wind Area (sft)],MATCH(H144,SignalHeads[Code],0))),IF(I144=\"\",0,INDEX(SignalHeads[Perp. Wind Area (sft)],MATCH(I144,SignalHeads[Code],0))))","v":0},{"$f":"SUM(IF(B144=\"\",0,INDEX(SignalHeads[Weight*** (lbs)],MATCH(B144,SignalHeads[Code],0))),IF(D144=\"\",0,INDEX(SignalHeads[Weight*** (lbs)],MATCH(D144,SignalHeads[Code],0))),IF(E144=\"\",0,INDEX(SignalHeads[Weight*** (lbs)],MATCH(E144,SignalHeads[Code],0))),IF(F144=\"\",0,INDEX(SignalHeads[Weight*** (lbs)],MATCH(F144,SignalHeads[Code],0))),IF(G144=\"\",0,INDEX(SignalHeads[Weight*** (lbs)],MATCH(G144,SignalHeads[Code],0))),IF(H144=\"\",0,INDEX(SignalHeads[Weight*** (lbs)],MATCH(H144,SignalHeads[Code],0))),IF(I144=\"\",0,INDEX(SignalHeads[Weight*** (lbs)],MATCH(I144,SignalHeads[Code],0))))","v":0},{"$f":"IF(A144<=$I$8,INDEX(DesignConstants[Value],MATCH(\"Span Wire Weight (plf)\",DesignConstants[Design Constant],0)),0)","v":1.155},0,136.86750000000001,{"$error":"#VALUE!"},{"$error":"#VALUE!"},{"$error":"#N/A"},{"$error":"#N/A"},{"$f":"SUM(IF(B144=\"\",0,INDEX(SignalHeads[Height ** (feet)],MATCH(B144,SignalHeads[Code],0))),IF(D144=\"\",0,INDEX(SignalHeads[Height ** (feet)],MATCH(D144,SignalHeads[Code],0))),IF(E144=\"\",0,INDEX(SignalHeads[Height ** (feet)],MATCH(E144,SignalHeads[Code],0))),IF(F144=\"\",0,INDEX(SignalHeads[Height ** (feet)],MATCH(F144,SignalHeads[Code],0))),IF(G144=\"\",0,INDEX(SignalHeads[Height ** (feet)],MATCH(G144,SignalHeads[Code],0))),IF(H144=\"\",0,INDEX(SignalHeads[Height ** (feet)],MATCH(H144,SignalHeads[Code],0))),IF(I144=\"\",0,INDEX(SignalHeads[Height ** (feet)],MATCH(I144,SignalHeads[Code],0))))","v":0},{"$f":"IF(S144=0,\"\",ROUNDDOWN(12*(((Q144-S144)-MIN($Q$26:$Q$425-$S$26:$S$425)-(MAX($S$26:$S$425*(($Q$26:$Q$425-$S$26:$S$425)=MIN($Q$26:$Q$425-$S$26:$S$425)))-S144))+(MIN($Q$26:$Q$425-$S$26:$S$425)-$I$10)),0)/12)","v":""},"",{"$error":"#N/A"},17]
[120,null,null,null,null,null,null,null,null,{"$f":"SUM(IF(B145=\"\",0,INDEX(SignalHeads[Perp. Wind Area (sft)],MATCH(B145,SignalHeads[Code],0))),IF(D145=\"\",0,INDEX(SignalHeads[Perp. Wind Area (sft)],MATCH(D145,SignalHeads[Code],0))),IF(E145=\"\",0,INDEX(SignalHeads[Perp. Wind Area (sft)],MATCH(E145,SignalHeads[Code],0))),IF(F145=\"\",0,INDEX(SignalHeads[Perp. Wind Area (sft)],MATCH(F145,SignalHeads[Code],0))),IF(G145=\"\",0,INDEX(SignalHeads[Perp. Wind Area (sft)],MATCH(G145,SignalHeads[Code],0))),IF(H145=\"\",0,INDEX(SignalHeads[Perp. Wind Area (sft)],MATCH(H145,SignalHeads[Code],0))),IF(I145=\"\",0,INDEX(SignalHeads[Perp. Wind Area (sft)],MATCH(I145,SignalHeads[Code],0))))","v":0},{"$f":"SUM(IF(B145=\"\",0,INDEX(SignalHeads[Weight*** (lbs)],MATCH(B145,SignalHeads[Code],0))),IF(D145=\"\",0,INDEX(SignalHeads[Weight*** (lbs)],MATCH(D145,SignalHeads[Code],0))),IF(E145=\"\",0,INDEX(SignalHeads[Weight*** (lbs)],MATCH(E145,SignalHeads[Code],0))),IF(F145=\"\",0,INDEX(SignalHeads[Weight*** (lbs)],MATCH(F145,SignalHeads[Code],0))),IF(G145=\"\",0,INDEX(SignalHeads[Weight*** (lbs)],MATCH(G145,SignalHeads[Code],0))),IF(H145=\"\",0,INDEX(SignalHeads[Weight*** (lbs)],MATCH(H145,SignalHeads[Code],0))),IF(I145=\"\",0,INDEX(SignalHeads[Weight*** (lbs)],MATCH(I145,SignalHeads[Code],0))))","v":0},{"$f":"IF(A145<=$I$8,INDEX(DesignConstants[Value],MATCH(\"Span Wire Weight (plf)\",DesignConstants[Design Constant],0)),0)","v":1.155},0,138.02250000000001,{"$error":"#VALUE!"},{"$error":"#VALUE!"},{"$error":"#N/A"},{"$error":"#N/A"},{"$f":"SUM(IF(B145=\"\",0,INDEX(SignalHeads[Height ** (feet)],MATCH(B145,SignalHeads[Code],0))),IF(D145=\"\",0,INDEX(SignalHeads[Height ** (feet)],MATCH(D145,SignalHeads[Code],0))),IF(E145=\"\",0,INDEX(SignalHeads[Height ** (feet)],MATCH(E145,SignalHeads[Code],0))),IF(F145=\"\",0,INDEX(SignalHeads[Height ** (feet)],MATCH(F145,SignalHeads[Code],0))),IF(G145=\"\",0,INDEX(SignalHeads[Height ** (feet)],MATCH(G145,SignalHeads[Code],0))),IF(H145=\"\",0,INDEX(SignalHeads[Height ** (feet)],MATCH(H145,SignalHeads[Code],0))),IF(I145=\"\",0,INDEX(SignalHeads[Height ** (feet)],MATCH(I145,SignalHeads[Code],0))))","v":0},{"$f":"IF(S145=0,\"\",ROUNDDOWN(12*(((Q145-S145)-MIN($Q$26:$Q$425-$S$26:$S$425)-(MAX($S$26:$S$425*(($Q$26:$Q$425-$S$26:$S$425)=MIN($Q$26:$Q$425-$S$26:$S$425)))-S145))+(MIN($Q$26:$Q$425-$S$26:$S$425)-$I$10)),0)/12)","v":""},"",{"$error":"#N/A"},17]
[121,null,null,null,null,null,null,null,null,{"$f":"SUM(IF(B146=\"\",0,INDEX(SignalHeads[Perp. Wind Area (sft)],MATCH(B146,SignalHeads[Code],0))),IF(D146=\"\",0,INDEX(SignalHeads[Perp. Wind Area (sft)],MATCH(D146,SignalHeads[Code],0))),IF(E146=\"\",0,INDEX(SignalHeads[Perp. Wind Area (sft)],MATCH(E146,SignalHeads[Code],0))),IF(F146=\"\",0,INDEX(SignalHeads[Perp. Wind Area (sft)],MATCH(F146,SignalHeads[Code],0))),IF(G146=\"\",0,INDEX(SignalHeads[Perp. Wind Area (sft)],MATCH(G146,SignalHeads[Code],0))),IF(H146=\"\",0,INDEX(SignalHeads[Perp. Wind Area (sft)],MATCH(H146,SignalHeads[Code],0))),IF(I146=\"\",0,INDEX(SignalHeads[Perp. Wind Area (sft)],MATCH(I146,SignalHeads[Code],0))))","v":0},{"$f":"SUM(IF(B146=\"\",0,INDEX(SignalHeads[Weight*** (lbs)],MATCH(B146,SignalHeads[Code],0))),IF(D146=\"\",0,INDEX(SignalHeads[Weight*** (lbs)],MATCH(D146,SignalHeads[Code],0))),IF(E146=\"\",0,INDEX(SignalHeads[Weight*** (lbs)],MATCH(E146,SignalHeads[Code],0))),IF(F146=\"\",0,INDEX(SignalHeads[Weight*** (lbs)],MATCH(F146,SignalHeads[Code],0))),IF(G146=\"\",0,INDEX(SignalHeads[Weight*** (lbs)],MATCH(G146,SignalHeads[Code],0))),IF(H146=\"\",0,INDEX(SignalHeads[Weight*** (lbs)],MATCH(H146,SignalHeads[Code],0))),IF(I146=\"\",0,INDEX(SignalHeads[Weight*** (lbs)],MATCH(I146,SignalHeads[Code],0))))","v":0},{"$f":"IF(A146<=$I$8,INDEX(DesignConstants[Value],MATCH(\"Span Wire Weight (plf)\",DesignConstants[Design Constant],0)),0)","v":1.155},0,139.17750000000001,{"$error":"#VALUE!"},{"$error":"#VALUE!"},{"$error":"#N/A"},{"$error":"#N/A"},{"$f":"SUM(IF(B146=\"\",0,INDEX(SignalHeads[Height ** (feet)],MATCH(B146,SignalHeads[Code],0))),IF(D146=\"\",0,INDEX(SignalHeads[Height ** (feet)],MATCH(D146,SignalHeads[Code],0))),IF(E146=\"\",0,INDEX(SignalHeads[Height ** (feet)],MATCH(E146,SignalHeads[Code],0))),IF(F146=\"\",0,INDEX(SignalHeads[Height ** (feet)],MATCH(F146,SignalHeads[Code],0))),IF(G146=\"\",0,INDEX(SignalHeads[Height ** (feet)],MATCH(G146,SignalHeads[Code],0))),IF(H146=\"\",0,INDEX(SignalHeads[Height ** (feet)],MATCH(H146,SignalHeads[Code],0))),IF(I146=\"\",0,INDEX(SignalHeads[Height ** (feet)],MATCH(I146,SignalHeads[Code],0))))","v":0},{"$f":"IF(S146=0,\"\",ROUNDDOWN(12*(((Q146-S146)-MIN($Q$26:$Q$425-$S$26:$S$425)-(MAX($S$26:$S$425*(($Q$26:$Q$425-$S$26:$S$425)=MIN($Q$26:$Q$425-$S$26:$S$425)))-S146))+(MIN($Q$26:$Q$425-$S$26:$S$425)-$I$10)),0)/12)","v":""},"",{"$error":"#N/A"},17]
[122,null,null,null,null,null,null,null,null,{"$f":"SUM(IF(B147=\"\",0,INDEX(SignalHeads[Perp. Wind Area (sft)],MATCH(B147,SignalHeads[Code],0))),IF(D147=\"\",0,INDEX(SignalHeads[Perp. Wind Area (sft)],MATCH(D147,SignalHeads[Code],0))),IF(E147=\"\",0,INDEX(SignalHeads[Perp. Wind Area (sft)],MATCH(E147,SignalHeads[Code],0))),IF(F147=\"\",0,INDEX(SignalHeads[Perp. Wind Area (sft)],MATCH(F147,SignalHeads[Code],0))),IF(G147=\"\",0,INDEX(SignalHeads[Perp. Wind Area (sft)],MATCH(G147,SignalHeads[Code],0))),IF(H147=\"\",0,INDEX(SignalHeads[Perp. Wind Area (sft)],MATCH(H147,SignalHeads[Code],0))),IF(I147=\"\",0,INDEX(SignalHeads[Perp. Wind Area (sft)],MATCH(I147,SignalHeads[Code],0))))","v":0},{"$f":"SUM(IF(B147=\"\",0,INDEX(SignalHeads[Weight*** (lbs)],MATCH(B147,SignalHeads[Code],0))),IF(D147=\"\",0,INDEX(SignalHeads[Weight*** (lbs)],MATCH(D147,SignalHeads[Code],0))),IF(E147=\"\",0,INDEX(SignalHeads[Weight*** (lbs)],MATCH(E147,SignalHeads[Code],0))),IF(F147=\"\",0,INDEX(SignalHeads[Weight*** (lbs)],MATCH(F147,SignalHeads[Code],0))),IF(G147=\"\",0,INDEX(SignalHeads[Weight*** (lbs)],MATCH(G147,SignalHeads[Code],0))),IF(H147=\"\",0,INDEX(SignalHeads[Weight*** (lbs)],MATCH(H147,SignalHeads[Code],0))),IF(I147=\"\",0,INDEX(SignalHeads[Weight*** (lbs)],MATCH(I147,SignalHeads[Code],0))))","v":0},{"$f":"IF(A147<=$I$8,INDEX(DesignConstants[Value],MATCH(\"Span Wire Weight (plf)\",DesignConstants[Design Constant],0)),0)","v":1.155},0,140.33250000000001,{"$error":"#VALUE!"},{"$error":"#VALUE!"},{"$error":"#N/A"},{"$error":"#N/A"},{"$f":"SUM(IF(B147=\"\",0,INDEX(SignalHeads[Height ** (feet)],MATCH(B147,SignalHeads[Code],0))),IF(D147=\"\",0,INDEX(SignalHeads[Height ** (feet)],MATCH(D147,SignalHeads[Code],0))),IF(E147=\"\",0,INDEX(SignalHeads[Height ** (feet)],MATCH(E147,SignalHeads[Code],0))),IF(F147=\"\",0,INDEX(SignalHeads[Height ** (feet)],MATCH(F147,SignalHeads[Code],0))),IF(G147=\"\",0,INDEX(SignalHeads[Height ** (feet)],MATCH(G147,SignalHeads[Code],0))),IF(H147=\"\",0,INDEX(SignalHeads[Height ** (feet)],MATCH(H147,SignalHeads[Code],0))),IF(I147=\"\",0,INDEX(SignalHeads[Height ** (feet)],MATCH(I147,SignalHeads[Code],0))))","v":0},{"$f":"IF(S147=0,\"\",ROUNDDOWN(12*(((Q147-S147)-MIN($Q$26:$Q$425-$S$26:$S$425)-(MAX($S$26:$S$425*(($Q$26:$Q$425-$S$26:$S$425)=MIN($Q$26:$Q$425-$S$26:$S$425)))-S147))+(MIN($Q$26:$Q$425-$S$26:$S$425)-$I$10)),0)/12)","v":""},"",{"$error":"#N/A"},17]
[123,null,null,null,null,null,null,null,null,{"$f":"SUM(IF(B148=\"\",0,INDEX(SignalHeads[Perp. Wind Area (sft)],MATCH(B148,SignalHeads[Code],0))),IF(D148=\"\",0,INDEX(SignalHeads[Perp. Wind Area (sft)],MATCH(D148,SignalHeads[Code],0))),IF(E148=\"\",0,INDEX(SignalHeads[Perp. Wind Area (sft)],MATCH(E148,SignalHeads[Code],0))),IF(F148=\"\",0,INDEX(SignalHeads[Perp. Wind Area (sft)],MATCH(F148,SignalHeads[Code],0))),IF(G148=\"\",0,INDEX(SignalHeads[Perp. Wind Area (sft)],MATCH(G148,SignalHeads[Code],0))),IF(H148=\"\",0,INDEX(SignalHeads[Perp. Wind Area (sft)],MATCH(H148,SignalHeads[Code],0))),IF(I148=\"\",0,INDEX(SignalHeads[Perp. Wind Area (sft)],MATCH(I148,SignalHeads[Code],0))))","v":0},{"$f":"SUM(IF(B148=\"\",0,INDEX(SignalHeads[Weight*** (lbs)],MATCH(B148,SignalHeads[Code],0))),IF(D148=\"\",0,INDEX(SignalHeads[Weight*** (lbs)],MATCH(D148,SignalHeads[Code],0))),IF(E148=\"\",0,INDEX(SignalHeads[Weight*** (lbs)],MATCH(E148,SignalHeads[Code],0))),IF(F148=\"\",0,INDEX(SignalHeads[Weight*** (lbs)],MATCH(F148,SignalHeads[Code],0))),IF(G148=\"\",0,INDEX(SignalHeads[Weight*** (lbs)],MATCH(G148,SignalHeads[Code],0))),IF(H148=\"\",0,INDEX(SignalHeads[Weight*** (lbs)],MATCH(H148,SignalHeads[Code],0))),IF(I148=\"\",0,INDEX(SignalHeads[Weight*** (lbs)],MATCH(I148,SignalHeads[Code],0))))","v":0},{"$f":"IF(A148<=$I$8,INDEX(DesignConstants[Value],MATCH(\"Span Wire Weight (plf)\",DesignConstants[Design Constant],0)),0)","v":1.155},0,141.48750000000001,{"$error":"#VALUE!"},{"$error":"#VALUE!"},{"$error":"#N/A"},{"$error":"#N/A"},{"$f":"SUM(IF(B148=\"\",0,INDEX(SignalHeads[Height ** (feet)],MATCH(B148,SignalHeads[Code],0))),IF(D148=\"\",0,INDEX(SignalHeads[Height ** (feet)],MATCH(D148,SignalHeads[Code],0))),IF(E148=\"\",0,INDEX(SignalHeads[Height ** (feet)],MATCH(E148,SignalHeads[Code],0))),IF(F148=\"\",0,INDEX(SignalHeads[Height ** (feet)],MATCH(F148,SignalHeads[Code],0))),IF(G148=\"\",0,INDEX(SignalHeads[Height ** (feet)],MATCH(G148,SignalHeads[Code],0))),IF(H148=\"\",0,INDEX(SignalHeads[Height ** (feet)],MATCH(H148,SignalHeads[Code],0))),IF(I148=\"\",0,INDEX(SignalHeads[Height ** (feet)],MATCH(I148,SignalHeads[Code],0))))","v":0},{"$f":"IF(S148=0,\"\",ROUNDDOWN(12*(((Q148-S148)-MIN($Q$26:$Q$425-$S$26:$S$425)-(MAX($S$26:$S$425*(($Q$26:$Q$425-$S$26:$S$425)=MIN($Q$26:$Q$425-$S$26:$S$425)))-S148))+(MIN($Q$26:$Q$425-$S$26:$S$425)-$I$10)),0)/12)","v":""},"",{"$error":"#N/A"},17]
[124,null,null,null,null,null,null,null,null,{"$f":"SUM(IF(B149=\"\",0,INDEX(SignalHeads[Perp. Wind Area (sft)],MATCH(B149,SignalHeads[Code],0))),IF(D149=\"\",0,INDEX(SignalHeads[Perp. Wind Area (sft)],MATCH(D149,SignalHeads[Code],0))),IF(E149=\"\",0,INDEX(SignalHeads[Perp. Wind Area (sft)],MATCH(E149,SignalHeads[Code],0))),IF(F149=\"\",0,INDEX(SignalHeads[Perp. Wind Area (sft)],MATCH(F149,SignalHeads[Code],0))),IF(G149=\"\",0,INDEX(SignalHeads[Perp. Wind Area (sft)],MATCH(G149,SignalHeads[Code],0))),IF(H149=\"\",0,INDEX(SignalHeads[Perp. Wind Area (sft)],MATCH(H149,SignalHeads[Code],0))),IF(I149=\"\",0,INDEX(SignalHeads[Perp. Wind Area (sft)],MATCH(I149,SignalHeads[Code],0))))","v":0},{"$f":"SUM(IF(B149=\"\",0,INDEX(SignalHeads[Weight*** (lbs)],MATCH(B149,SignalHeads[Code],0))),IF(D149=\"\",0,INDEX(SignalHeads[Weight*** (lbs)],MATCH(D149,SignalHeads[Code],0))),IF(E149=\"\",0,INDEX(SignalHeads[Weight*** (lbs)],MATCH(E149,SignalHeads[Code],0))),IF(F149=\"\",0,INDEX(SignalHeads[Weight*** (lbs)],MATCH(F149,SignalHeads[Code],0))),IF(G149=\"\",0,INDEX(SignalHeads[Weight*** (lbs)],MATCH(G149,SignalHeads[Code],0))),IF(H149=\"\",0,INDEX(SignalHeads[Weight*** (lbs)],MATCH(H149,SignalHeads[Code],0))),IF(I149=\"\",0,INDEX(SignalHeads[Weight*** (lbs)],MATCH(I149,SignalHeads[Code],0))))","v":0},{"$f":"IF(A149<=$I$8,INDEX(DesignConstants[Value],MATCH(\"Span Wire Weight (plf)\",DesignConstants[Design Constant],0)),0)","v":1.155},0,142.64250000000001,{"$error":"#VALUE!"},{"$error":"#VALUE!"},{"$error":"#N/A"},{"$error":"#N/A"},{"$f":"SUM(IF(B149=\"\",0,INDEX(SignalHeads[Height ** (feet)],MATCH(B149,SignalHeads[Code],0))),IF(D149=\"\",0,INDEX(SignalHeads[Height ** (feet)],MATCH(D149,SignalHeads[Code],0))),IF(E149=\"\",0,INDEX(SignalHeads[Height ** (feet)],MATCH(E149,SignalHeads[Code],0))),IF(F149=\"\",0,INDEX(SignalHeads[Height ** (feet)],MATCH(F149,SignalHeads[Code],0))),IF(G149=\"\",0,INDEX(SignalHeads[Height ** (feet)],MATCH(G149,SignalHeads[Code],0))),IF(H149=\"\",0,INDEX(SignalHeads[Height ** (feet)],MATCH(H149,SignalHeads[Code],0))),IF(I149=\"\",0,INDEX(SignalHeads[Height ** (feet)],MATCH(I149,SignalHeads[Code],0))))","v":0},{"$f":"IF(S149=0,\"\",ROUNDDOWN(12*(((Q149-S149)-MIN($Q$26:$Q$425-$S$26:$S$425)-(MAX($S$26:$S$425*(($Q$26:$Q$425-$S$26:$S$425)=MIN($Q$26:$Q$425-$S$26:$S$425)))-S149))+(MIN($Q$26:$Q$425-$S$26:$S$425)-$I$10)),0)/12)","v":""},"",{"$error":"#N/A"},17]
[125,null,null,null,null,null,null,null,null,{"$f":"SUM(IF(B150=\"\",0,INDEX(SignalHeads[Perp. Wind Area (sft)],MATCH(B150,SignalHeads[Code],0))),IF(D150=\"\",0,INDEX(SignalHeads[Perp. Wind Area (sft)],MATCH(D150,SignalHeads[Code],0))),IF(E150=\"\",0,INDEX(SignalHeads[Perp. Wind Area (sft)],MATCH(E150,SignalHeads[Code],0))),IF(F150=\"\",0,INDEX(SignalHeads[Perp. Wind Area (sft)],MATCH(F150,SignalHeads[Code],0))),IF(G150=\"\",0,INDEX(SignalHeads[Perp. Wind Area (sft)],MATCH(G150,SignalHeads[Code],0))),IF(H150=\"\",0,INDEX(SignalHeads[Perp. Wind Area (sft)],MATCH(H150,SignalHeads[Code],0))),IF(I150=\"\",0,INDEX(SignalHeads[Perp. Wind Area (sft)],MATCH(I150,SignalHeads[Code],0))))","v":0},{"$f":"SUM(IF(B150=\"\",0,INDEX(SignalHeads[Weight*** (lbs)],MATCH(B150,SignalHeads[Code],0))),IF(D150=\"\",0,INDEX(SignalHeads[Weight*** (lbs)],MATCH(D150,SignalHeads[Code],0))),IF(E150=\"\",0,INDEX(SignalHeads[Weight*** (lbs)],MATCH(E150,SignalHeads[Code],0))),IF(F150=\"\",0,INDEX(SignalHeads[Weight*** (lbs)],MATCH(F150,SignalHeads[Code],0))),IF(G150=\"\",0,INDEX(SignalHeads[Weight*** (lbs)],MATCH(G150,SignalHeads[Code],0))),IF(H150=\"\",0,INDEX(SignalHeads[Weight*** (lbs)],MATCH(H150,SignalHeads[Code],0))),IF(I150=\"\",0,INDEX(SignalHeads[Weight*** (lbs)],MATCH(I150,SignalHeads[Code],0))))","v":0},{"$f":"IF(A150<=$I$8,INDEX(DesignConstants[Value],MATCH(\"Span Wire Weight (plf)\",DesignConstants[Design Constant],0)),0)","v":1.155},0,143.79750000000001,{"$error":"#VALUE!"},{"$error":"#VALUE!"},{"$error":"#N/A"},{"$error":"#N/A"},{"$f":"SUM(IF(B150=\"\",0,INDEX(SignalHeads[Height ** (feet)],MATCH(B150,SignalHeads[Code],0))),IF(D150=\"\",0,INDEX(SignalHeads[Height ** (feet)],MATCH(D150,SignalHeads[Code],0))),IF(E150=\"\",0,INDEX(SignalHeads[Height ** (feet)],MATCH(E150,SignalHeads[Code],0))),IF(F150=\"\",0,INDEX(SignalHeads[Height ** (feet)],MATCH(F150,SignalHeads[Code],0))),IF(G150=\"\",0,INDEX(SignalHeads[Height ** (feet)],MATCH(G150,SignalHeads[Code],0))),IF(H150=\"\",0,INDEX(SignalHeads[Height ** (feet)],MATCH(H150,SignalHeads[Code],0))),IF(I150=\"\",0,INDEX(SignalHeads[Height ** (feet)],MATCH(I150,SignalHeads[Code],0))))","v":0},{"$f":"IF(S150=0,\"\",ROUNDDOWN(12*(((Q150-S150)-MIN($Q$26:$Q$425-$S$26:$S$425)-(MAX($S$26:$S$425*(($Q$26:$Q$425-$S$26:$S$425)=MIN($Q$26:$Q$425-$S$26:$S$425)))-S150))+(MIN($Q$26:$Q$425-$S$26:$S$425)-$I$10)),0)/12)","v":""},"",{"$error":"#N/A"},17]
[126,null,null,null,null,null,null,null,null,{"$f":"SUM(IF(B151=\"\",0,INDEX(SignalHeads[Perp. Wind Area (sft)],MATCH(B151,SignalHeads[Code],0))),IF(D151=\"\",0,INDEX(SignalHeads[Perp. Wind Area (sft)],MATCH(D151,SignalHeads[Code],0))),IF(E151=\"\",0,INDEX(SignalHeads[Perp. Wind Area (sft)],MATCH(E151,SignalHeads[Code],0))),IF(F151=\"\",0,INDEX(SignalHeads[Perp. Wind Area (sft)],MATCH(F151,SignalHeads[Code],0))),IF(G151=\"\",0,INDEX(SignalHeads[Perp. Wind Area (sft)],MATCH(G151,SignalHeads[Code],0))),IF(H151=\"\",0,INDEX(SignalHeads[Perp. Wind Area (sft)],MATCH(H151,SignalHeads[Code],0))),IF(I151=\"\",0,INDEX(SignalHeads[Perp. Wind Area (sft)],MATCH(I151,SignalHeads[Code],0))))","v":0},{"$f":"SUM(IF(B151=\"\",0,INDEX(SignalHeads[Weight*** (lbs)],MATCH(B151,SignalHeads[Code],0))),IF(D151=\"\",0,INDEX(SignalHeads[Weight*** (lbs)],MATCH(D151,SignalHeads[Code],0))),IF(E151=\"\",0,INDEX(SignalHeads[Weight*** (lbs)],MATCH(E151,SignalHeads[Code],0))),IF(F151=\"\",0,INDEX(SignalHeads[Weight*** (lbs)],MATCH(F151,SignalHeads[Code],0))),IF(G151=\"\",0,INDEX(SignalHeads[Weight*** (lbs)],MATCH(G151,SignalHeads[Code],0))),IF(H151=\"\",0,INDEX(SignalHeads[Weight*** (lbs)],MATCH(H151,SignalHeads[Code],0))),IF(I151=\"\",0,INDEX(SignalHeads[Weight*** (lbs)],MATCH(I151,SignalHeads[Code],0))))","v":0},{"$f":"IF(A151<=$I$8,INDEX(DesignConstants[Value],MATCH(\"Span Wire Weight (plf)\",DesignConstants[Design Constant],0)),0)","v":1.155},0,144.95250000000001,{"$error":"#VALUE!"},{"$error":"#VALUE!"},{"$error":"#N/A"},{"$error":"#N/A"},{"$f":"SUM(IF(B151=\"\",0,INDEX(SignalHeads[Height ** (feet)],MATCH(B151,SignalHeads[Code],0))),IF(D151=\"\",0,INDEX(SignalHeads[Height ** (feet)],MATCH(D151,SignalHeads[Code],0))),IF(E151=\"\",0,INDEX(SignalHeads[Height ** (feet)],MATCH(E151,SignalHeads[Code],0))),IF(F151=\"\",0,INDEX(SignalHeads[Height ** (feet)],MATCH(F151,SignalHeads[Code],0))),IF(G151=\"\",0,INDEX(SignalHeads[Height ** (feet)],MATCH(G151,SignalHeads[Code],0))),IF(H151=\"\",0,INDEX(SignalHeads[Height ** (feet)],MATCH(H151,SignalHeads[Code],0))),IF(I151=\"\",0,INDEX(SignalHeads[Height ** (feet)],MATCH(I151,SignalHeads[Code],0))))","v":0},{"$f":"IF(S151=0,\"\",ROUNDDOWN(12*(((Q151-S151)-MIN($Q$26:$Q$425-$S$26:$S$425)-(MAX($S$26:$S$425*(($Q$26:$Q$425-$S$26:$S$425)=MIN($Q$26:$Q$425-$S$26:$S$425)))-S151))+(MIN($Q$26:$Q$425-$S$26:$S$425)-$I$10)),0)/12)","v":""},"",{"$error":"#N/A"},17]
[127,null,null,null,null,null,null,null,null,{"$f":"SUM(IF(B152=\"\",0,INDEX(SignalHeads[Perp. Wind Area (sft)],MATCH(B152,SignalHeads[Code],0))),IF(D152=\"\",0,INDEX(SignalHeads[Perp. Wind Area (sft)],MATCH(D152,SignalHeads[Code],0))),IF(E152=\"\",0,INDEX(SignalHeads[Perp. Wind Area (sft)],MATCH(E152,SignalHeads[Code],0))),IF(F152=\"\",0,INDEX(SignalHeads[Perp. Wind Area (sft)],MATCH(F152,SignalHeads[Code],0))),IF(G152=\"\",0,INDEX(SignalHeads[Perp. Wind Area (sft)],MATCH(G152,SignalHeads[Code],0))),IF(H152=\"\",0,INDEX(SignalHeads[Perp. Wind Area (sft)],MATCH(H152,SignalHeads[Code],0))),IF(I152=\"\",0,INDEX(SignalHeads[Perp. Wind Area (sft)],MATCH(I152,SignalHeads[Code],0))))","v":0},{"$f":"SUM(IF(B152=\"\",0,INDEX(SignalHeads[Weight*** (lbs)],MATCH(B152,SignalHeads[Code],0))),IF(D152=\"\",0,INDEX(SignalHeads[Weight*** (lbs)],MATCH(D152,SignalHeads[Code],0))),IF(E152=\"\",0,INDEX(SignalHeads[Weight*** (lbs)],MATCH(E152,SignalHeads[Code],0))),IF(F152=\"\",0,INDEX(SignalHeads[Weight*** (lbs)],MATCH(F152,SignalHeads[Code],0))),IF(G152=\"\",0,INDEX(SignalHeads[Weight*** (lbs)],MATCH(G152,SignalHeads[Code],0))),IF(H152=\"\",0,INDEX(SignalHeads[Weight*** (lbs)],MATCH(H152,SignalHeads[Code],0))),IF(I152=\"\",0,INDEX(SignalHeads[Weight*** (lbs)],MATCH(I152,SignalHeads[Code],0))))","v":0},{"$f":"IF(A152<=$I$8,INDEX(DesignConstants[Value],MATCH(\"Span Wire Weight (plf)\",DesignConstants[Design Constant],0)),0)","v":1.155},0,146.10750000000002,{"$error":"#VALUE!"},{"$error":"#VALUE!"},{"$error":"#N/A"},{"$error":"#N/A"},{"$f":"SUM(IF(B152=\"\",0,INDEX(SignalHeads[Height ** (feet)],MATCH(B152,SignalHeads[Code],0))),IF(D152=\"\",0,INDEX(SignalHeads[Height ** (feet)],MATCH(D152,SignalHeads[Code],0))),IF(E152=\"\",0,INDEX(SignalHeads[Height ** (feet)],MATCH(E152,SignalHeads[Code],0))),IF(F152=\"\",0,INDEX(SignalHeads[Height ** (feet)],MATCH(F152,SignalHeads[Code],0))),IF(G152=\"\",0,INDEX(SignalHeads[Height ** (feet)],MATCH(G152,SignalHeads[Code],0))),IF(H152=\"\",0,INDEX(SignalHeads[Height ** (feet)],MATCH(H152,SignalHeads[Code],0))),IF(I152=\"\",0,INDEX(SignalHeads[Height ** (feet)],MATCH(I152,SignalHeads[Code],0))))","v":0},{"$f":"IF(S152=0,\"\",ROUNDDOWN(12*(((Q152-S152)-MIN($Q$26:$Q$425-$S$26:$S$425)-(MAX($S$26:$S$425*(($Q$26:$Q$425-$S$26:$S$425)=MIN($Q$26:$Q$425-$S$26:$S$425)))-S152))+(MIN($Q$26:$Q$425-$S$26:$S$425)-$I$10)),0)/12)","v":""},"",{"$error":"#N/A"},17]
[128,null,null,null,null,null,null,null,null,{"$f":"SUM(IF(B153=\"\",0,INDEX(SignalHeads[Perp. Wind Area (sft)],MATCH(B153,SignalHeads[Code],0))),IF(D153=\"\",0,INDEX(SignalHeads[Perp. Wind Area (sft)],MATCH(D153,SignalHeads[Code],0))),IF(E153=\"\",0,INDEX(SignalHeads[Perp. Wind Area (sft)],MATCH(E153,SignalHeads[Code],0))),IF(F153=\"\",0,INDEX(SignalHeads[Perp. Wind Area (sft)],MATCH(F153,SignalHeads[Code],0))),IF(G153=\"\",0,INDEX(SignalHeads[Perp. Wind Area (sft)],MATCH(G153,SignalHeads[Code],0))),IF(H153=\"\",0,INDEX(SignalHeads[Perp. Wind Area (sft)],MATCH(H153,SignalHeads[Code],0))),IF(I153=\"\",0,INDEX(SignalHeads[Perp. Wind Area (sft)],MATCH(I153,SignalHeads[Code],0))))","v":0},{"$f":"SUM(IF(B153=\"\",0,INDEX(SignalHeads[Weight*** (lbs)],MATCH(B153,SignalHeads[Code],0))),IF(D153=\"\",0,INDEX(SignalHeads[Weight*** (lbs)],MATCH(D153,SignalHeads[Code],0))),IF(E153=\"\",0,INDEX(SignalHeads[Weight*** (lbs)],MATCH(E153,SignalHeads[Code],0))),IF(F153=\"\",0,INDEX(SignalHeads[Weight*** (lbs)],MATCH(F153,SignalHeads[Code],0))),IF(G153=\"\",0,INDEX(SignalHeads[Weight*** (lbs)],MATCH(G153,SignalHeads[Code],0))),IF(H153=\"\",0,INDEX(SignalHeads[Weight*** (lbs)],MATCH(H153,SignalHeads[Code],0))),IF(I153=\"\",0,INDEX(SignalHeads[Weight*** (lbs)],MATCH(I153,SignalHeads[Code],0))))","v":0},{"$f":"IF(A153<=$I$8,INDEX(DesignConstants[Value],MATCH(\"Span Wire Weight (plf)\",DesignConstants[Design Constant],0)),0)","v":1.155},0,147.26250000000002,{"$error":"#VALUE!"},{"$error":"#VALUE!"},{"$error":"#N/A"},{"$error":"#N/A"},{"$f":"SUM(IF(B153=\"\",0,INDEX(SignalHeads[Height ** (feet)],MATCH(B153,SignalHeads[Code],0))),IF(D153=\"\",0,INDEX(SignalHeads[Height ** (feet)],MATCH(D153,SignalHeads[Code],0))),IF(E153=\"\",0,INDEX(SignalHeads[Height ** (feet)],MATCH(E153,SignalHeads[Code],0))),IF(F153=\"\",0,INDEX(SignalHeads[Height ** (feet)],MATCH(F153,SignalHeads[Code],0))),IF(G153=\"\",0,INDEX(SignalHeads[Height ** (feet)],MATCH(G153,SignalHeads[Code],0))),IF(H153=\"\",0,INDEX(SignalHeads[Height ** (feet)],MATCH(H153,SignalHeads[Code],0))),IF(I153=\"\",0,INDEX(SignalHeads[Height ** (feet)],MATCH(I153,SignalHeads[Code],0))))","v":0},{"$f":"IF(S153=0,\"\",ROUNDDOWN(12*(((Q153-S153)-MIN($Q$26:$Q$425-$S$26:$S$425)-(MAX($S$26:$S$425*(($Q$26:$Q$425-$S$26:$S$425)=MIN($Q$26:$Q$425-$S$26:$S$425)))-S153))+(MIN($Q$26:$Q$425-$S$26:$S$425)-$I$10)),0)/12)","v":""},"",{"$error":"#N/A"},17]
[129,null,null,null,null,null,null,null,null,{"$f":"SUM(IF(B154=\"\",0,INDEX(SignalHeads[Perp. Wind Area (sft)],MATCH(B154,SignalHeads[Code],0))),IF(D154=\"\",0,INDEX(SignalHeads[Perp. Wind Area (sft)],MATCH(D154,SignalHeads[Code],0))),IF(E154=\"\",0,INDEX(SignalHeads[Perp. Wind Area (sft)],MATCH(E154,SignalHeads[Code],0))),IF(F154=\"\",0,INDEX(SignalHeads[Perp. Wind Area (sft)],MATCH(F154,SignalHeads[Code],0))),IF(G154=\"\",0,INDEX(SignalHeads[Perp. Wind Area (sft)],MATCH(G154,SignalHeads[Code],0))),IF(H154=\"\",0,INDEX(SignalHeads[Perp. Wind Area (sft)],MATCH(H154,SignalHeads[Code],0))),IF(I154=\"\",0,INDEX(SignalHeads[Perp. Wind Area (sft)],MATCH(I154,SignalHeads[Code],0))))","v":0},{"$f":"SUM(IF(B154=\"\",0,INDEX(SignalHeads[Weight*** (lbs)],MATCH(B154,SignalHeads[Code],0))),IF(D154=\"\",0,INDEX(SignalHeads[Weight*** (lbs)],MATCH(D154,SignalHeads[Code],0))),IF(E154=\"\",0,INDEX(SignalHeads[Weight*** (lbs)],MATCH(E154,SignalHeads[Code],0))),IF(F154=\"\",0,INDEX(SignalHeads[Weight*** (lbs)],MATCH(F154,SignalHeads[Code],0))),IF(G154=\"\",0,INDEX(SignalHeads[Weight*** (lbs)],MATCH(G154,SignalHeads[Code],0))),IF(H154=\"\",0,INDEX(SignalHeads[Weight*** (lbs)],MATCH(H154,SignalHeads[Code],0))),IF(I154=\"\",0,INDEX(SignalHeads[Weight*** (lbs)],MATCH(I154,SignalHeads[Code],0))))","v":0},{"$f":"IF(A154<=$I$8,INDEX(DesignConstants[Value],MATCH(\"Span Wire Weight (plf)\",DesignConstants[Design Constant],0)),0)","v":1.155},{"$f":"IF(K154=\"\",0,K154*A154)","v":0},{"$f":"L154*(A154-0.5)","v":148.41749999999999},{"$error":"#VALUE!"},{"$f":"(0.5*L154+O154+K154)/$I$4","v":{"$error":"#VALUE!"}},{"$error":"#N/A"},{"$f":"IF(A154>$I$8,0,(IFERROR(INDEX($S$13:$S$14,MATCH(MAX($S$11:$S$12),$S$11:$S$12,FALSE)),$S$8)-(IFERROR(INDEX($N$13:$N$14,MATCH(MAX($N$11:$N$12),$N$11:$N$12,FALSE)),$N$8)))/$I$18*A154+IFERROR(INDEX($N$13:$N$14,MATCH(MAX($N$11:$N$12),$N$11:$N$12,FALSE)),$N$8))","v":{"$error":"#N/A"}},{"$f":"SUM(IF(B154=\"\",0,INDEX(SignalHeads[Height ** (feet)],MATCH(B154,SignalHeads[Code],0))),IF(D154=\"\",0,INDEX(SignalHeads[Height ** (feet)],MATCH(D154,SignalHeads[Code],0))),IF(E154=\"\",0,INDEX(SignalHeads[Height ** (feet)],MATCH(E154,SignalHeads[Code],0))),IF(F154=\"\",0,INDEX(SignalHeads[Height ** (feet)],MATCH(F154,SignalHeads[Code],0))),IF(G154=\"\",0,INDEX(SignalHeads[Height ** (feet)],MATCH(G154,SignalHeads[Code],0))),IF(H154=\"\",0,INDEX(SignalHeads[Height ** (feet)],MATCH(H154,SignalHeads[Code],0))),IF(I154=\"\",0,INDEX(SignalHeads[Height ** (feet)],MATCH(I154,SignalHeads[Code],0))))","v":0},{"$f":"IF(S154=0,\"\",ROUNDDOWN(12*(((Q154-S154)-MIN($Q$26:$Q$425-$S$26:$S$425)-(MAX($S$26:$S$425*(($Q$26:$Q$425-$S$26:$S$425)=MIN($Q$26:$Q$425-$S$26:$S$425)))-S154))+(MIN($Q$26:$Q$425-$S$26:$S$425)-$I$10)),0)/12)","v":""},"",{"$error":"#N/A"},{"$f":"$I$10","v":17}]
[130,null,null,null,null,null,null,null,null,{"$f":"SUM(IF(B155=\"\",0,INDEX(SignalHeads[Perp. Wind Area (sft)],MATCH(B155,SignalHeads[Code],0))),IF(D155=\"\",0,INDEX(SignalHeads[Perp. Wind Area (sft)],MATCH(D155,SignalHeads[Code],0))),IF(E155=\"\",0,INDEX(SignalHeads[Perp. Wind Area (sft)],MATCH(E155,SignalHeads[Code],0))),IF(F155=\"\",0,INDEX(SignalHeads[Perp. Wind Area (sft)],MATCH(F155,SignalHeads[Code],0))),IF(G155=\"\",0,INDEX(SignalHeads[Perp. Wind Area (sft)],MATCH(G155,SignalHeads[Code],0))),IF(H155=\"\",0,INDEX(SignalHeads[Perp. Wind Area (sft)],MATCH(H155,SignalHeads[Code],0))),IF(I155=\"\",0,INDEX(SignalHeads[Perp. Wind Area (sft)],MATCH(I155,SignalHeads[Code],0))))","v":0},{"$f":"SUM(IF(B155=\"\",0,INDEX(SignalHeads[Weight*** (lbs)],MATCH(B155,SignalHeads[Code],0))),IF(D155=\"\",0,INDEX(SignalHeads[Weight*** (lbs)],MATCH(D155,SignalHeads[Code],0))),IF(E155=\"\",0,INDEX(SignalHeads[Weight*** (lbs)],MATCH(E155,SignalHeads[Code],0))),IF(F155=\"\",0,INDEX(SignalHeads[Weight*** (lbs)],MATCH(F155,SignalHeads[Code],0))),IF(G155=\"\",0,INDEX(SignalHeads[Weight*** (lbs)],MATCH(G155,SignalHeads[Code],0))),IF(H155=\"\",0,INDEX(SignalHeads[Weight*** (lbs)],MATCH(H155,SignalHeads[Code],0))),IF(I155=\"\",0,INDEX(SignalHeads[Weight*** (lbs)],MATCH(I155,SignalHeads[Code],0))))","v":0},{"$f":"IF(A155<=$I$8,INDEX(DesignConstants[Value],MATCH(\"Span Wire Weight (plf)\",DesignConstants[Design Constant],0)),0)","v":1.155},0,149.57249999999999,{"$f":"O154-K155-L155","v":{"$error":"#VALUE!"}},{"$error":"#VALUE!"},{"$f":"Q154-P155","v":{"$error":"#N/A"}},{"$error":"#N/A"},{"$f":"SUM(IF(B155=\"\",0,INDEX(SignalHeads[Height ** (feet)],MATCH(B155,SignalHeads[Code],0))),IF(D155=\"\",0,INDEX(SignalHeads[Height ** (feet)],MATCH(D155,SignalHeads[Code],0))),IF(E155=\"\",0,INDEX(SignalHeads[Height ** (feet)],MATCH(E155,SignalHeads[Code],0))),IF(F155=\"\",0,INDEX(SignalHeads[Height ** (feet)],MATCH(F155,SignalHeads[Code],0))),IF(G155=\"\",0,INDEX(SignalHeads[Height ** (feet)],MATCH(G155,SignalHeads[Code],0))),IF(H155=\"\",0,INDEX(SignalHeads[Height ** (feet)],MATCH(H155,SignalHeads[Code],0))),IF(I155=\"\",0,INDEX(SignalHeads[Height ** (feet)],MATCH(I155,SignalHeads[Code],0))))","v":0},{"$f":"IF(S155=0,\"\",ROUNDDOWN(12*(((Q155-S155)-MIN($Q$26:$Q$425-$S$26:$S$425)-(MAX($S$26:$S$425*(($Q$26:$Q$425-$S$26:$S$425)=MIN($Q$26:$Q$425-$S$26:$S$425)))-S155))+(MIN($Q$26:$Q$425-$S$26:$S$425)-$I$10)),0)/12)","v":""},{"$f":"IF(T155=\"\",\"\",INT(T155)&\"'-\"&ROUND((T155-INT(T155))*12,0)&\"\"\"\")","v":""},{"$f":"IF(A155<=$I$8,Q155-S155-IF(ISNUMBER(T155),T155,0),\"\")","v":{"$error":"#N/A"}},17]
[131,null,null,null,null,null,null,null,null,{"$f":"SUM(IF(B156=\"\",0,INDEX(SignalHeads[Perp. Wind Area (sft)],MATCH(B156,SignalHeads[Code],0))),IF(D156=\"\",0,INDEX(SignalHeads[Perp. Wind Area (sft)],MATCH(D156,SignalHeads[Code],0))),IF(E156=\"\",0,INDEX(SignalHeads[Perp. Wind Area (sft)],MATCH(E156,SignalHeads[Code],0))),IF(F156=\"\",0,INDEX(SignalHeads[Perp. Wind Area (sft)],MATCH(F156,SignalHeads[Code],0))),IF(G156=\"\",0,INDEX(SignalHeads[Perp. Wind Area (sft)],MATCH(G156,SignalHeads[Code],0))),IF(H156=\"\",0,INDEX(SignalHeads[Perp. Wind Area (sft)],MATCH(H156,SignalHeads[Code],0))),IF(I156=\"\",0,INDEX(SignalHeads[Perp. Wind Area (sft)],MATCH(I156,SignalHeads[Code],0))))","v":0},{"$f":"SUM(IF(B156=\"\",0,INDEX(SignalHeads[Weight*** (lbs)],MATCH(B156,SignalHeads[Code],0))),IF(D156=\"\",0,INDEX(SignalHeads[Weight*** (lbs)],MATCH(D156,SignalHeads[Code],0))),IF(E156=\"\",0,INDEX(SignalHeads[Weight*** (lbs)],MATCH(E156,SignalHeads[Code],0))),IF(F156=\"\",0,INDEX(SignalHeads[Weight*** (lbs)],MATCH(F156,SignalHeads[Code],0))),IF(G156=\"\",0,INDEX(SignalHeads[Weight*** (lbs)],MATCH(G156,SignalHeads[Code],0))),IF(H156=\"\",0,INDEX(SignalHeads[Weight*** (lbs)],MATCH(H156,SignalHeads[Code],0))),IF(I156=\"\",0,INDEX(SignalHeads[Weight*** (lbs)],MATCH(I156,SignalHeads[Code],0))))","v":0},{"$f":"IF(A156<=$I$8,INDEX(DesignConstants[Value],MATCH(\"Span Wire Weight (plf)\",DesignConstants[Design Constant],0)),0)","v":1.155},0,150.72749999999999,{"$error":"#VALUE!"},{"$error":"#VALUE!"},{"$error":"#N/A"},{"$error":"#N/A"},{"$f":"SUM(IF(B156=\"\",0,INDEX(SignalHeads[Height ** (feet)],MATCH(B156,SignalHeads[Code],0))),IF(D156=\"\",0,INDEX(SignalHeads[Height ** (feet)],MATCH(D156,SignalHeads[Code],0))),IF(E156=\"\",0,INDEX(SignalHeads[Height ** (feet)],MATCH(E156,SignalHeads[Code],0))),IF(F156=\"\",0,INDEX(SignalHeads[Height ** (feet)],MATCH(F156,SignalHeads[Code],0))),IF(G156=\"\",0,INDEX(SignalHeads[Height ** (feet)],MATCH(G156,SignalHeads[Code],0))),IF(H156=\"\",0,INDEX(SignalHeads[Height ** (feet)],MATCH(H156,SignalHeads[Code],0))),IF(I156=\"\",0,INDEX(SignalHeads[Height ** (feet)],MATCH(I156,SignalHeads[Code],0))))","v":0},{"$f":"IF(S156=0,\"\",ROUNDDOWN(12*(((Q156-S156)-MIN($Q$26:$Q$425-$S$26:$S$425)-(MAX($S$26:$S$425*(($Q$26:$Q$425-$S$26:$S$425)=MIN($Q$26:$Q$425-$S$26:$S$425)))-S156))+(MIN($Q$26:$Q$425-$S$26:$S$425)-$I$10)),0)/12)","v":""},"",{"$error":"#N/A"},17]
[132,null,null,null,null,null,null,null,null,{"$f":"SUM(IF(B157=\"\",0,INDEX(SignalHeads[Perp. Wind Area (sft)],MATCH(B157,SignalHeads[Code],0))),IF(D157=\"\",0,INDEX(SignalHeads[Perp. Wind Area (sft)],MATCH(D157,SignalHeads[Code],0))),IF(E157=\"\",0,INDEX(SignalHeads[Perp. Wind Area (sft)],MATCH(E157,SignalHeads[Code],0))),IF(F157=\"\",0,INDEX(SignalHeads[Perp. Wind Area (sft)],MATCH(F157,SignalHeads[Code],0))),IF(G157=\"\",0,INDEX(SignalHeads[Perp. Wind Area (sft)],MATCH(G157,SignalHeads[Code],0))),IF(H157=\"\",0,INDEX(SignalHeads[Perp. Wind Area (sft)],MATCH(H157,SignalHeads[Code],0))),IF(I157=\"\",0,INDEX(SignalHeads[Perp. Wind Area (sft)],MATCH(I157,SignalHeads[Code],0))))","v":0},{"$f":"SUM(IF(B157=\"\",0,INDEX(SignalHeads[Weight*** (lbs)],MATCH(B157,SignalHeads[Code],0))),IF(D157=\"\",0,INDEX(SignalHeads[Weight*** (lbs)],MATCH(D157,SignalHeads[Code],0))),IF(E157=\"\",0,INDEX(SignalHeads[Weight*** (lbs)],MATCH(E157,SignalHeads[Code],0))),IF(F157=\"\",0,INDEX(SignalHeads[Weight*** (lbs)],MATCH(F157,SignalHeads[Code],0))),IF(G157=\"\",0,INDEX(SignalHeads[Weight*** (lbs)],MATCH(G157,SignalHeads[Code],0))),IF(H157=\"\",0,INDEX(SignalHeads[Weight*** (lbs)],MATCH(H157,SignalHeads[Code],0))),IF(I157=\"\",0,INDEX(SignalHeads[Weight*** (lbs)],MATCH(I157,SignalHeads[Code],0))))","v":0},{"$f":"IF(A157<=$I$8,INDEX(DesignConstants[Value],MATCH(\"Span Wire Weight (plf)\",DesignConstants[Design Constant],0)),0)","v":1.155},0,151.88249999999999,{"$error":"#VALUE!"},{"$error":"#VALUE!"},{"$error":"#N/A"},{"$error":"#N/A"},{"$f":"SUM(IF(B157=\"\",0,INDEX(SignalHeads[Height ** (feet)],MATCH(B157,SignalHeads[Code],0))),IF(D157=\"\",0,INDEX(SignalHeads[Height ** (feet)],MATCH(D157,SignalHeads[Code],0))),IF(E157=\"\",0,INDEX(SignalHeads[Height ** (feet)],MATCH(E157,SignalHeads[Code],0))),IF(F157=\"\",0,INDEX(SignalHeads[Height ** (feet)],MATCH(F157,SignalHeads[Code],0))),IF(G157=\"\",0,INDEX(SignalHeads[Height ** (feet)],MATCH(G157,SignalHeads[Code],0))),IF(H157=\"\",0,INDEX(SignalHeads[Height ** (feet)],MATCH(H157,SignalHeads[Code],0))),IF(I157=\"\",0,INDEX(SignalHeads[Height ** (feet)],MATCH(I157,SignalHeads[Code],0))))","v":0},{"$f":"IF(S157=0,\"\",ROUNDDOWN(12*(((Q157-S157)-MIN($Q$26:$Q$425-$S$26:$S$425)-(MAX($S$26:$S$425*(($Q$26:$Q$425-$S$26:$S$425)=MIN($Q$26:$Q$425-$S$26:$S$425)))-S157))+(MIN($Q$26:$Q$425-$S$26:$S$425)-$I$10)),0)/12)","v":""},"",{"$error":"#N/A"},17]
[133,null,null,null,null,null,null,null,null,{"$f":"SUM(IF(B158=\"\",0,INDEX(SignalHeads[Perp. Wind Area (sft)],MATCH(B158,SignalHeads[Code],0))),IF(D158=\"\",0,INDEX(SignalHeads[Perp. Wind Area (sft)],MATCH(D158,SignalHeads[Code],0))),IF(E158=\"\",0,INDEX(SignalHeads[Perp. Wind Area (sft)],MATCH(E158,SignalHeads[Code],0))),IF(F158=\"\",0,INDEX(SignalHeads[Perp. Wind Area (sft)],MATCH(F158,SignalHeads[Code],0))),IF(G158=\"\",0,INDEX(SignalHeads[Perp. Wind Area (sft)],MATCH(G158,SignalHeads[Code],0))),IF(H158=\"\",0,INDEX(SignalHeads[Perp. Wind Area (sft)],MATCH(H158,SignalHeads[Code],0))),IF(I158=\"\",0,INDEX(SignalHeads[Perp. Wind Area (sft)],MATCH(I158,SignalHeads[Code],0))))","v":0},{"$f":"SUM(IF(B158=\"\",0,INDEX(SignalHeads[Weight*** (lbs)],MATCH(B158,SignalHeads[Code],0))),IF(D158=\"\",0,INDEX(SignalHeads[Weight*** (lbs)],MATCH(D158,SignalHeads[Code],0))),IF(E158=\"\",0,INDEX(SignalHeads[Weight*** (lbs)],MATCH(E158,SignalHeads[Code],0))),IF(F158=\"\",0,INDEX(SignalHeads[Weight*** (lbs)],MATCH(F158,SignalHeads[Code],0))),IF(G158=\"\",0,INDEX(SignalHeads[Weight*** (lbs)],MATCH(G158,SignalHeads[Code],0))),IF(H158=\"\",0,INDEX(SignalHeads[Weight*** (lbs)],MATCH(H158,SignalHeads[Code],0))),IF(I158=\"\",0,INDEX(SignalHeads[Weight*** (lbs)],MATCH(I158,SignalHeads[Code],0))))","v":0},{"$f":"IF(A158<=$I$8,INDEX(DesignConstants[Value],MATCH(\"Span Wire Weight (plf)\",DesignConstants[Design Constant],0)),0)","v":1.155},0,153.03749999999999,{"$error":"#VALUE!"},{"$error":"#VALUE!"},{"$error":"#N/A"},{"$error":"#N/A"},{"$f":"SUM(IF(B158=\"\",0,INDEX(SignalHeads[Height ** (feet)],MATCH(B158,SignalHeads[Code],0))),IF(D158=\"\",0,INDEX(SignalHeads[Height ** (feet)],MATCH(D158,SignalHeads[Code],0))),IF(E158=\"\",0,INDEX(SignalHeads[Height ** (feet)],MATCH(E158,SignalHeads[Code],0))),IF(F158=\"\",0,INDEX(SignalHeads[Height ** (feet)],MATCH(F158,SignalHeads[Code],0))),IF(G158=\"\",0,INDEX(SignalHeads[Height ** (feet)],MATCH(G158,SignalHeads[Code],0))),IF(H158=\"\",0,INDEX(SignalHeads[Height ** (feet)],MATCH(H158,SignalHeads[Code],0))),IF(I158=\"\",0,INDEX(SignalHeads[Height ** (feet)],MATCH(I158,SignalHeads[Code],0))))","v":0},{"$f":"IF(S158=0,\"\",ROUNDDOWN(12*(((Q158-S158)-MIN($Q$26:$Q$425-$S$26:$S$425)-(MAX($S$26:$S$425*(($Q$26:$Q$425-$S$26:$S$425)=MIN($Q$26:$Q$425-$S$26:$S$425)))-S158))+(MIN($Q$26:$Q$425-$S$26:$S$425)-$I$10)),0)/12)","v":""},"",{"$error":"#N/A"},17]
[134,null,null,null,null,null,null,null,null,{"$f":"SUM(IF(B159=\"\",0,INDEX(SignalHeads[Perp. Wind Area (sft)],MATCH(B159,SignalHeads[Code],0))),IF(D159=\"\",0,INDEX(SignalHeads[Perp. Wind Area (sft)],MATCH(D159,SignalHeads[Code],0))),IF(E159=\"\",0,INDEX(SignalHeads[Perp. Wind Area (sft)],MATCH(E159,SignalHeads[Code],0))),IF(F159=\"\",0,INDEX(SignalHeads[Perp. Wind Area (sft)],MATCH(F159,SignalHeads[Code],0))),IF(G159=\"\",0,INDEX(SignalHeads[Perp. Wind Area (sft)],MATCH(G159,SignalHeads[Code],0))),IF(H159=\"\",0,INDEX(SignalHeads[Perp. Wind Area (sft)],MATCH(H159,SignalHeads[Code],0))),IF(I159=\"\",0,INDEX(SignalHeads[Perp. Wind Area (sft)],MATCH(I159,SignalHeads[Code],0))))","v":0},{"$f":"SUM(IF(B159=\"\",0,INDEX(SignalHeads[Weight*** (lbs)],MATCH(B159,SignalHeads[Code],0))),IF(D159=\"\",0,INDEX(SignalHeads[Weight*** (lbs)],MATCH(D159,SignalHeads[Code],0))),IF(E159=\"\",0,INDEX(SignalHeads[Weight*** (lbs)],MATCH(E159,SignalHeads[Code],0))),IF(F159=\"\",0,INDEX(SignalHeads[Weight*** (lbs)],MATCH(F159,SignalHeads[Code],0))),IF(G159=\"\",0,INDEX(SignalHeads[Weight*** (lbs)],MATCH(G159,SignalHeads[Code],0))),IF(H159=\"\",0,INDEX(SignalHeads[Weight*** (lbs)],MATCH(H159,SignalHeads[Code],0))),IF(I159=\"\",0,INDEX(SignalHeads[Weight*** (lbs)],MATCH(I159,SignalHeads[Code],0))))","v":0},{"$f":"IF(A159<=$I$8,INDEX(DesignConstants[Value],MATCH(\"Span Wire Weight (plf)\",DesignConstants[Design Constant],0)),0)","v":1.155},0,154.1925,{"$error":"#VALUE!"},{"$error":"#VALUE!"},{"$error":"#N/A"},{"$error":"#N/A"},{"$f":"SUM(IF(B159=\"\",0,INDEX(SignalHeads[Height ** (feet)],MATCH(B159,SignalHeads[Code],0))),IF(D159=\"\",0,INDEX(SignalHeads[Height ** (feet)],MATCH(D159,SignalHeads[Code],0))),IF(E159=\"\",0,INDEX(SignalHeads[Height ** (feet)],MATCH(E159,SignalHeads[Code],0))),IF(F159=\"\",0,INDEX(SignalHeads[Height ** (feet)],MATCH(F159,SignalHeads[Code],0))),IF(G159=\"\",0,INDEX(SignalHeads[Height ** (feet)],MATCH(G159,SignalHeads[Code],0))),IF(H159=\"\",0,INDEX(SignalHeads[Height ** (feet)],MATCH(H159,SignalHeads[Code],0))),IF(I159=\"\",0,INDEX(SignalHeads[Height ** (feet)],MATCH(I159,SignalHeads[Code],0))))","v":0},{"$f":"IF(S159=0,\"\",ROUNDDOWN(12*(((Q159-S159)-MIN($Q$26:$Q$425-$S$26:$S$425)-(MAX($S$26:$S$425*(($Q$26:$Q$425-$S$26:$S$425)=MIN($Q$26:$Q$425-$S$26:$S$425)))-S159))+(MIN($Q$26:$Q$425-$S$26:$S$425)-$I$10)),0)/12)","v":""},"",{"$error":"#N/A"},17]
[135,null,null,null,null,null,null,null,null,{"$f":"SUM(IF(B160=\"\",0,INDEX(SignalHeads[Perp. Wind Area (sft)],MATCH(B160,SignalHeads[Code],0))),IF(D160=\"\",0,INDEX(SignalHeads[Perp. Wind Area (sft)],MATCH(D160,SignalHeads[Code],0))),IF(E160=\"\",0,INDEX(SignalHeads[Perp. Wind Area (sft)],MATCH(E160,SignalHeads[Code],0))),IF(F160=\"\",0,INDEX(SignalHeads[Perp. Wind Area (sft)],MATCH(F160,SignalHeads[Code],0))),IF(G160=\"\",0,INDEX(SignalHeads[Perp. Wind Area (sft)],MATCH(G160,SignalHeads[Code],0))),IF(H160=\"\",0,INDEX(SignalHeads[Perp. Wind Area (sft)],MATCH(H160,SignalHeads[Code],0))),IF(I160=\"\",0,INDEX(SignalHeads[Perp. Wind Area (sft)],MATCH(I160,SignalHeads[Code],0))))","v":0},{"$f":"SUM(IF(B160=\"\",0,INDEX(SignalHeads[Weight*** (lbs)],MATCH(B160,SignalHeads[Code],0))),IF(D160=\"\",0,INDEX(SignalHeads[Weight*** (lbs)],MATCH(D160,SignalHeads[Code],0))),IF(E160=\"\",0,INDEX(SignalHeads[Weight*** (lbs)],MATCH(E160,SignalHeads[Code],0))),IF(F160=\"\",0,INDEX(SignalHeads[Weight*** (lbs)],MATCH(F160,SignalHeads[Code],0))),IF(G160=\"\",0,INDEX(SignalHeads[Weight*** (lbs)],MATCH(G160,SignalHeads[Code],0))),IF(H160=\"\",0,INDEX(SignalHeads[Weight*** (lbs)],MATCH(H160,SignalHeads[Code],0))),IF(I160=\"\",0,INDEX(SignalHeads[Weight*** (lbs)],MATCH(I160,SignalHeads[Code],0))))","v":0},{"$f":"IF(A160<=$I$8,INDEX(DesignConstants[Value],MATCH(\"Span Wire Weight (plf)\",DesignConstants[Design Constant],0)),0)","v":1.155},0,155.3475,{"$error":"#VALUE!"},{"$error":"#VALUE!"},{"$error":"#N/A"},{"$error":"#N/A"},{"$f":"SUM(IF(B160=\"\",0,INDEX(SignalHeads[Height ** (feet)],MATCH(B160,SignalHeads[Code],0))),IF(D160=\"\",0,INDEX(SignalHeads[Height ** (feet)],MATCH(D160,SignalHeads[Code],0))),IF(E160=\"\",0,INDEX(SignalHeads[Height ** (feet)],MATCH(E160,SignalHeads[Code],0))),IF(F160=\"\",0,INDEX(SignalHeads[Height ** (feet)],MATCH(F160,SignalHeads[Code],0))),IF(G160=\"\",0,INDEX(SignalHeads[Height ** (feet)],MATCH(G160,SignalHeads[Code],0))),IF(H160=\"\",0,INDEX(SignalHeads[Height ** (feet)],MATCH(H160,SignalHeads[Code],0))),IF(I160=\"\",0,INDEX(SignalHeads[Height ** (feet)],MATCH(I160,SignalHeads[Code],0))))","v":0},{"$f":"IF(S160=0,\"\",ROUNDDOWN(12*(((Q160-S160)-MIN($Q$26:$Q$425-$S$26:$S$425)-(MAX($S$26:$S$425*(($Q$26:$Q$425-$S$26:$S$425)=MIN($Q$26:$Q$425-$S$26:$S$425)))-S160))+(MIN($Q$26:$Q$425-$S$26:$S$425)-$I$10)),0)/12)","v":""},"",{"$error":"#N/A"},17]
[136,null,null,null,null,null,null,null,null,{"$f":"SUM(IF(B161=\"\",0,INDEX(SignalHeads[Perp. Wind Area (sft)],MATCH(B161,SignalHeads[Code],0))),IF(D161=\"\",0,INDEX(SignalHeads[Perp. Wind Area (sft)],MATCH(D161,SignalHeads[Code],0))),IF(E161=\"\",0,INDEX(SignalHeads[Perp. Wind Area (sft)],MATCH(E161,SignalHeads[Code],0))),IF(F161=\"\",0,INDEX(SignalHeads[Perp. Wind Area (sft)],MATCH(F161,SignalHeads[Code],0))),IF(G161=\"\",0,INDEX(SignalHeads[Perp. Wind Area (sft)],MATCH(G161,SignalHeads[Code],0))),IF(H161=\"\",0,INDEX(SignalHeads[Perp. Wind Area (sft)],MATCH(H161,SignalHeads[Code],0))),IF(I161=\"\",0,INDEX(SignalHeads[Perp. Wind Area (sft)],MATCH(I161,SignalHeads[Code],0))))","v":0},{"$f":"SUM(IF(B161=\"\",0,INDEX(SignalHeads[Weight*** (lbs)],MATCH(B161,SignalHeads[Code],0))),IF(D161=\"\",0,INDEX(SignalHeads[Weight*** (lbs)],MATCH(D161,SignalHeads[Code],0))),IF(E161=\"\",0,INDEX(SignalHeads[Weight*** (lbs)],MATCH(E161,SignalHeads[Code],0))),IF(F161=\"\",0,INDEX(SignalHeads[Weight*** (lbs)],MATCH(F161,SignalHeads[Code],0))),IF(G161=\"\",0,INDEX(SignalHeads[Weight*** (lbs)],MATCH(G161,SignalHeads[Code],0))),IF(H161=\"\",0,INDEX(SignalHeads[Weight*** (lbs)],MATCH(H161,SignalHeads[Code],0))),IF(I161=\"\",0,INDEX(SignalHeads[Weight*** (lbs)],MATCH(I161,SignalHeads[Code],0))))","v":0},{"$f":"IF(A161<=$I$8,INDEX(DesignConstants[Value],MATCH(\"Span Wire Weight (plf)\",DesignConstants[Design Constant],0)),0)","v":1.155},0,156.5025,{"$error":"#VALUE!"},{"$error":"#VALUE!"},{"$error":"#N/A"},{"$error":"#N/A"},{"$f":"SUM(IF(B161=\"\",0,INDEX(SignalHeads[Height ** (feet)],MATCH(B161,SignalHeads[Code],0))),IF(D161=\"\",0,INDEX(SignalHeads[Height ** (feet)],MATCH(D161,SignalHeads[Code],0))),IF(E161=\"\",0,INDEX(SignalHeads[Height ** (feet)],MATCH(E161,SignalHeads[Code],0))),IF(F161=\"\",0,INDEX(SignalHeads[Height ** (feet)],MATCH(F161,SignalHeads[Code],0))),IF(G161=\"\",0,INDEX(SignalHeads[Height ** (feet)],MATCH(G161,SignalHeads[Code],0))),IF(H161=\"\",0,INDEX(SignalHeads[Height ** (feet)],MATCH(H161,SignalHeads[Code],0))),IF(I161=\"\",0,INDEX(SignalHeads[Height ** (feet)],MATCH(I161,SignalHeads[Code],0))))","v":0},{"$f":"IF(S161=0,\"\",ROUNDDOWN(12*(((Q161-S161)-MIN($Q$26:$Q$425-$S$26:$S$425)-(MAX($S$26:$S$425*(($Q$26:$Q$425-$S$26:$S$425)=MIN($Q$26:$Q$425-$S$26:$S$425)))-S161))+(MIN($Q$26:$Q$425-$S$26:$S$425)-$I$10)),0)/12)","v":""},"",{"$error":"#N/A"},17]
[137,null,null,null,null,null,null,null,null,{"$f":"SUM(IF(B162=\"\",0,INDEX(SignalHeads[Perp. Wind Area (sft)],MATCH(B162,SignalHeads[Code],0))),IF(D162=\"\",0,INDEX(SignalHeads[Perp. Wind Area (sft)],MATCH(D162,SignalHeads[Code],0))),IF(E162=\"\",0,INDEX(SignalHeads[Perp. Wind Area (sft)],MATCH(E162,SignalHeads[Code],0))),IF(F162=\"\",0,INDEX(SignalHeads[Perp. Wind Area (sft)],MATCH(F162,SignalHeads[Code],0))),IF(G162=\"\",0,INDEX(SignalHeads[Perp. Wind Area (sft)],MATCH(G162,SignalHeads[Code],0))),IF(H162=\"\",0,INDEX(SignalHeads[Perp. Wind Area (sft)],MATCH(H162,SignalHeads[Code],0))),IF(I162=\"\",0,INDEX(SignalHeads[Perp. Wind Area (sft)],MATCH(I162,SignalHeads[Code],0))))","v":0},{"$f":"SUM(IF(B162=\"\",0,INDEX(SignalHeads[Weight*** (lbs)],MATCH(B162,SignalHeads[Code],0))),IF(D162=\"\",0,INDEX(SignalHeads[Weight*** (lbs)],MATCH(D162,SignalHeads[Code],0))),IF(E162=\"\",0,INDEX(SignalHeads[Weight*** (lbs)],MATCH(E162,SignalHeads[Code],0))),IF(F162=\"\",0,INDEX(SignalHeads[Weight*** (lbs)],MATCH(F162,SignalHeads[Code],0))),IF(G162=\"\",0,INDEX(SignalHeads[Weight*** (lbs)],MATCH(G162,SignalHeads[Code],0))),IF(H162=\"\",0,INDEX(SignalHeads[Weight*** (lbs)],MATCH(H162,SignalHeads[Code],0))),IF(I162=\"\",0,INDEX(SignalHeads[Weight*** (lbs)],MATCH(I162,SignalHeads[Code],0))))","v":0},{"$f":"IF(A162<=$I$8,INDEX(DesignConstants[Value],MATCH(\"Span Wire Weight (plf)\",DesignConstants[Design Constant],0)),0)","v":1.155},0,157.6575,{"$error":"#VALUE!"},{"$error":"#VALUE!"},{"$error":"#N/A"},{"$error":"#N/A"},{"$f":"SUM(IF(B162=\"\",0,INDEX(SignalHeads[Height ** (feet)],MATCH(B162,SignalHeads[Code],0))),IF(D162=\"\",0,INDEX(SignalHeads[Height ** (feet)],MATCH(D162,SignalHeads[Code],0))),IF(E162=\"\",0,INDEX(SignalHeads[Height ** (feet)],MATCH(E162,SignalHeads[Code],0))),IF(F162=\"\",0,INDEX(SignalHeads[Height ** (feet)],MATCH(F162,SignalHeads[Code],0))),IF(G162=\"\",0,INDEX(SignalHeads[Height ** (feet)],MATCH(G162,SignalHeads[Code],0))),IF(H162=\"\",0,INDEX(SignalHeads[Height ** (feet)],MATCH(H162,SignalHeads[Code],0))),IF(I162=\"\",0,INDEX(SignalHeads[Height ** (feet)],MATCH(I162,SignalHeads[Code],0))))","v":0},{"$f":"IF(S162=0,\"\",ROUNDDOWN(12*(((Q162-S162)-MIN($Q$26:$Q$425-$S$26:$S$425)-(MAX($S$26:$S$425*(($Q$26:$Q$425-$S$26:$S$425)=MIN($Q$26:$Q$425-$S$26:$S$425)))-S162))+(MIN($Q$26:$Q$425-$S$26:$S$425)-$I$10)),0)/12)","v":""},"",{"$error":"#N/A"},17]
[138,null,null,null,null,null,null,null,null,{"$f":"SUM(IF(B163=\"\",0,INDEX(SignalHeads[Perp. Wind Area (sft)],MATCH(B163,SignalHeads[Code],0))),IF(D163=\"\",0,INDEX(SignalHeads[Perp. Wind Area (sft)],MATCH(D163,SignalHeads[Code],0))),IF(E163=\"\",0,INDEX(SignalHeads[Perp. Wind Area (sft)],MATCH(E163,SignalHeads[Code],0))),IF(F163=\"\",0,INDEX(SignalHeads[Perp. Wind Area (sft)],MATCH(F163,SignalHeads[Code],0))),IF(G163=\"\",0,INDEX(SignalHeads[Perp. Wind Area (sft)],MATCH(G163,SignalHeads[Code],0))),IF(H163=\"\",0,INDEX(SignalHeads[Perp. Wind Area (sft)],MATCH(H163,SignalHeads[Code],0))),IF(I163=\"\",0,INDEX(SignalHeads[Perp. Wind Area (sft)],MATCH(I163,SignalHeads[Code],0))))","v":0},{"$f":"SUM(IF(B163=\"\",0,INDEX(SignalHeads[Weight*** (lbs)],MATCH(B163,SignalHeads[Code],0))),IF(D163=\"\",0,INDEX(SignalHeads[Weight*** (lbs)],MATCH(D163,SignalHeads[Code],0))),IF(E163=\"\",0,INDEX(SignalHeads[Weight*** (lbs)],MATCH(E163,SignalHeads[Code],0))),IF(F163=\"\",0,INDEX(SignalHeads[Weight*** (lbs)],MATCH(F163,SignalHeads[Code],0))),IF(G163=\"\",0,INDEX(SignalHeads[Weight*** (lbs)],MATCH(G163,SignalHeads[Code],0))),IF(H163=\"\",0,INDEX(SignalHeads[Weight*** (lbs)],MATCH(H163,SignalHeads[Code],0))),IF(I163=\"\",0,INDEX(SignalHeads[Weight*** (lbs)],MATCH(I163,SignalHeads[Code],0))))","v":0},{"$f":"IF(A163<=$I$8,INDEX(DesignConstants[Value],MATCH(\"Span Wire Weight (plf)\",DesignConstants[Design Constant],0)),0)","v":1.155},0,158.8125,{"$error":"#VALUE!"},{"$error":"#VALUE!"},{"$error":"#N/A"},{"$error":"#N/A"},{"$f":"SUM(IF(B163=\"\",0,INDEX(SignalHeads[Height ** (feet)],MATCH(B163,SignalHeads[Code],0))),IF(D163=\"\",0,INDEX(SignalHeads[Height ** (feet)],MATCH(D163,SignalHeads[Code],0))),IF(E163=\"\",0,INDEX(SignalHeads[Height ** (feet)],MATCH(E163,SignalHeads[Code],0))),IF(F163=\"\",0,INDEX(SignalHeads[Height ** (feet)],MATCH(F163,SignalHeads[Code],0))),IF(G163=\"\",0,INDEX(SignalHeads[Height ** (feet)],MATCH(G163,SignalHeads[Code],0))),IF(H163=\"\",0,INDEX(SignalHeads[Height ** (feet)],MATCH(H163,SignalHeads[Code],0))),IF(I163=\"\",0,INDEX(SignalHeads[Height ** (feet)],MATCH(I163,SignalHeads[Code],0))))","v":0},{"$f":"IF(S163=0,\"\",ROUNDDOWN(12*(((Q163-S163)-MIN($Q$26:$Q$425-$S$26:$S$425)-(MAX($S$26:$S$425*(($Q$26:$Q$425-$S$26:$S$425)=MIN($Q$26:$Q$425-$S$26:$S$425)))-S163))+(MIN($Q$26:$Q$425-$S$26:$S$425)-$I$10)),0)/12)","v":""},"",{"$error":"#N/A"},17]
[139,null,null,null,null,null,null,null,null,{"$f":"SUM(IF(B164=\"\",0,INDEX(SignalHeads[Perp. Wind Area (sft)],MATCH(B164,SignalHeads[Code],0))),IF(D164=\"\",0,INDEX(SignalHeads[Perp. Wind Area (sft)],MATCH(D164,SignalHeads[Code],0))),IF(E164=\"\",0,INDEX(SignalHeads[Perp. Wind Area (sft)],MATCH(E164,SignalHeads[Code],0))),IF(F164=\"\",0,INDEX(SignalHeads[Perp. Wind Area (sft)],MATCH(F164,SignalHeads[Code],0))),IF(G164=\"\",0,INDEX(SignalHeads[Perp. Wind Area (sft)],MATCH(G164,SignalHeads[Code],0))),IF(H164=\"\",0,INDEX(SignalHeads[Perp. Wind Area (sft)],MATCH(H164,SignalHeads[Code],0))),IF(I164=\"\",0,INDEX(SignalHeads[Perp. Wind Area (sft)],MATCH(I164,SignalHeads[Code],0))))","v":0},{"$f":"SUM(IF(B164=\"\",0,INDEX(SignalHeads[Weight*** (lbs)],MATCH(B164,SignalHeads[Code],0))),IF(D164=\"\",0,INDEX(SignalHeads[Weight*** (lbs)],MATCH(D164,SignalHeads[Code],0))),IF(E164=\"\",0,INDEX(SignalHeads[Weight*** (lbs)],MATCH(E164,SignalHeads[Code],0))),IF(F164=\"\",0,INDEX(SignalHeads[Weight*** (lbs)],MATCH(F164,SignalHeads[Code],0))),IF(G164=\"\",0,INDEX(SignalHeads[Weight*** (lbs)],MATCH(G164,SignalHeads[Code],0))),IF(H164=\"\",0,INDEX(SignalHeads[Weight*** (lbs)],MATCH(H164,SignalHeads[Code],0))),IF(I164=\"\",0,INDEX(SignalHeads[Weight*** (lbs)],MATCH(I164,SignalHeads[Code],0))))","v":0},{"$f":"IF(A164<=$I$8,INDEX(DesignConstants[Value],MATCH(\"Span Wire Weight (plf)\",DesignConstants[Design Constant],0)),0)","v":1.155},0,159.9675,{"$error":"#VALUE!"},{"$error":"#VALUE!"},{"$error":"#N/A"},{"$error":"#N/A"},{"$f":"SUM(IF(B164=\"\",0,INDEX(SignalHeads[Height ** (feet)],MATCH(B164,SignalHeads[Code],0))),IF(D164=\"\",0,INDEX(SignalHeads[Height ** (feet)],MATCH(D164,SignalHeads[Code],0))),IF(E164=\"\",0,INDEX(SignalHeads[Height ** (feet)],MATCH(E164,SignalHeads[Code],0))),IF(F164=\"\",0,INDEX(SignalHeads[Height ** (feet)],MATCH(F164,SignalHeads[Code],0))),IF(G164=\"\",0,INDEX(SignalHeads[Height ** (feet)],MATCH(G164,SignalHeads[Code],0))),IF(H164=\"\",0,INDEX(SignalHeads[Height ** (feet)],MATCH(H164,SignalHeads[Code],0))),IF(I164=\"\",0,INDEX(SignalHeads[Height ** (feet)],MATCH(I164,SignalHeads[Code],0))))","v":0},{"$f":"IF(S164=0,\"\",ROUNDDOWN(12*(((Q164-S164)-MIN($Q$26:$Q$425-$S$26:$S$425)-(MAX($S$26:$S$425*(($Q$26:$Q$425-$S$26:$S$425)=MIN($Q$26:$Q$425-$S$26:$S$425)))-S164))+(MIN($Q$26:$Q$425-$S$26:$S$425)-$I$10)),0)/12)","v":""},"",{"$error":"#N/A"},17]
[140,null,null,null,null,null,null,null,null,{"$f":"SUM(IF(B165=\"\",0,INDEX(SignalHeads[Perp. Wind Area (sft)],MATCH(B165,SignalHeads[Code],0))),IF(D165=\"\",0,INDEX(SignalHeads[Perp. Wind Area (sft)],MATCH(D165,SignalHeads[Code],0))),IF(E165=\"\",0,INDEX(SignalHeads[Perp. Wind Area (sft)],MATCH(E165,SignalHeads[Code],0))),IF(F165=\"\",0,INDEX(SignalHeads[Perp. Wind Area (sft)],MATCH(F165,SignalHeads[Code],0))),IF(G165=\"\",0,INDEX(SignalHeads[Perp. Wind Area (sft)],MATCH(G165,SignalHeads[Code],0))),IF(H165=\"\",0,INDEX(SignalHeads[Perp. Wind Area (sft)],MATCH(H165,SignalHeads[Code],0))),IF(I165=\"\",0,INDEX(SignalHeads[Perp. Wind Area (sft)],MATCH(I165,SignalHeads[Code],0))))","v":0},{"$f":"SUM(IF(B165=\"\",0,INDEX(SignalHeads[Weight*** (lbs)],MATCH(B165,SignalHeads[Code],0))),IF(D165=\"\",0,INDEX(SignalHeads[Weight*** (lbs)],MATCH(D165,SignalHeads[Code],0))),IF(E165=\"\",0,INDEX(SignalHeads[Weight*** (lbs)],MATCH(E165,SignalHeads[Code],0))),IF(F165=\"\",0,INDEX(SignalHeads[Weight*** (lbs)],MATCH(F165,SignalHeads[Code],0))),IF(G165=\"\",0,INDEX(SignalHeads[Weight*** (lbs)],MATCH(G165,SignalHeads[Code],0))),IF(H165=\"\",0,INDEX(SignalHeads[Weight*** (lbs)],MATCH(H165,SignalHeads[Code],0))),IF(I165=\"\",0,INDEX(SignalHeads[Weight*** (lbs)],MATCH(I165,SignalHeads[Code],0))))","v":0},{"$f":"IF(A165<=$I$8,INDEX(DesignConstants[Value],MATCH(\"Span Wire Weight (plf)\",DesignConstants[Design Constant],0)),0)","v":1.155},0,161.1225,{"$error":"#VALUE!"},{"$error":"#VALUE!"},{"$error":"#N/A"},{"$error":"#N/A"},{"$f":"SUM(IF(B165=\"\",0,INDEX(SignalHeads[Height ** (feet)],MATCH(B165,SignalHeads[Code],0))),IF(D165=\"\",0,INDEX(SignalHeads[Height ** (feet)],MATCH(D165,SignalHeads[Code],0))),IF(E165=\"\",0,INDEX(SignalHeads[Height ** (feet)],MATCH(E165,SignalHeads[Code],0))),IF(F165=\"\",0,INDEX(SignalHeads[Height ** (feet)],MATCH(F165,SignalHeads[Code],0))),IF(G165=\"\",0,INDEX(SignalHeads[Height ** (feet)],MATCH(G165,SignalHeads[Code],0))),IF(H165=\"\",0,INDEX(SignalHeads[Height ** (feet)],MATCH(H165,SignalHeads[Code],0))),IF(I165=\"\",0,INDEX(SignalHeads[Height ** (feet)],MATCH(I165,SignalHeads[Code],0))))","v":0},{"$f":"IF(S165=0,\"\",ROUNDDOWN(12*(((Q165-S165)-MIN($Q$26:$Q$425-$S$26:$S$425)-(MAX($S$26:$S$425*(($Q$26:$Q$425-$S$26:$S$425)=MIN($Q$26:$Q$425-$S$26:$S$425)))-S165))+(MIN($Q$26:$Q$425-$S$26:$S$425)-$I$10)),0)/12)","v":""},"",{"$error":"#N/A"},17]
[141,null,null,null,null,null,null,null,null,{"$f":"SUM(IF(B166=\"\",0,INDEX(SignalHeads[Perp. Wind Area (sft)],MATCH(B166,SignalHeads[Code],0))),IF(D166=\"\",0,INDEX(SignalHeads[Perp. Wind Area (sft)],MATCH(D166,SignalHeads[Code],0))),IF(E166=\"\",0,INDEX(SignalHeads[Perp. Wind Area (sft)],MATCH(E166,SignalHeads[Code],0))),IF(F166=\"\",0,INDEX(SignalHeads[Perp. Wind Area (sft)],MATCH(F166,SignalHeads[Code],0))),IF(G166=\"\",0,INDEX(SignalHeads[Perp. Wind Area (sft)],MATCH(G166,SignalHeads[Code],0))),IF(H166=\"\",0,INDEX(SignalHeads[Perp. Wind Area (sft)],MATCH(H166,SignalHeads[Code],0))),IF(I166=\"\",0,INDEX(SignalHeads[Perp. Wind Area (sft)],MATCH(I166,SignalHeads[Code],0))))","v":0},{"$f":"SUM(IF(B166=\"\",0,INDEX(SignalHeads[Weight*** (lbs)],MATCH(B166,SignalHeads[Code],0))),IF(D166=\"\",0,INDEX(SignalHeads[Weight*** (lbs)],MATCH(D166,SignalHeads[Code],0))),IF(E166=\"\",0,INDEX(SignalHeads[Weight*** (lbs)],MATCH(E166,SignalHeads[Code],0))),IF(F166=\"\",0,INDEX(SignalHeads[Weight*** (lbs)],MATCH(F166,SignalHeads[Code],0))),IF(G166=\"\",0,INDEX(SignalHeads[Weight*** (lbs)],MATCH(G166,SignalHeads[Code],0))),IF(H166=\"\",0,INDEX(SignalHeads[Weight*** (lbs)],MATCH(H166,SignalHeads[Code],0))),IF(I166=\"\",0,INDEX(SignalHeads[Weight*** (lbs)],MATCH(I166,SignalHeads[Code],0))))","v":0},{"$f":"IF(A166<=$I$8,INDEX(DesignConstants[Value],MATCH(\"Span Wire Weight (plf)\",DesignConstants[Design Constant],0)),0)","v":1.155},0,162.2775,{"$error":"#VALUE!"},{"$error":"#VALUE!"},{"$error":"#N/A"},{"$error":"#N/A"},{"$f":"SUM(IF(B166=\"\",0,INDEX(SignalHeads[Height ** (feet)],MATCH(B166,SignalHeads[Code],0))),IF(D166=\"\",0,INDEX(SignalHeads[Height ** (feet)],MATCH(D166,SignalHeads[Code],0))),IF(E166=\"\",0,INDEX(SignalHeads[Height ** (feet)],MATCH(E166,SignalHeads[Code],0))),IF(F166=\"\",0,INDEX(SignalHeads[Height ** (feet)],MATCH(F166,SignalHeads[Code],0))),IF(G166=\"\",0,INDEX(SignalHeads[Height ** (feet)],MATCH(G166,SignalHeads[Code],0))),IF(H166=\"\",0,INDEX(SignalHeads[Height ** (feet)],MATCH(H166,SignalHeads[Code],0))),IF(I166=\"\",0,INDEX(SignalHeads[Height ** (feet)],MATCH(I166,SignalHeads[Code],0))))","v":0},{"$f":"IF(S166=0,\"\",ROUNDDOWN(12*(((Q166-S166)-MIN($Q$26:$Q$425-$S$26:$S$425)-(MAX($S$26:$S$425*(($Q$26:$Q$425-$S$26:$S$425)=MIN($Q$26:$Q$425-$S$26:$S$425)))-S166))+(MIN($Q$26:$Q$425-$S$26:$S$425)-$I$10)),0)/12)","v":""},"",{"$error":"#N/A"},17]
[142,null,null,null,null,null,null,null,null,{"$f":"SUM(IF(B167=\"\",0,INDEX(SignalHeads[Perp. Wind Area (sft)],MATCH(B167,SignalHeads[Code],0))),IF(D167=\"\",0,INDEX(SignalHeads[Perp. Wind Area (sft)],MATCH(D167,SignalHeads[Code],0))),IF(E167=\"\",0,INDEX(SignalHeads[Perp. Wind Area (sft)],MATCH(E167,SignalHeads[Code],0))),IF(F167=\"\",0,INDEX(SignalHeads[Perp. Wind Area (sft)],MATCH(F167,SignalHeads[Code],0))),IF(G167=\"\",0,INDEX(SignalHeads[Perp. Wind Area (sft)],MATCH(G167,SignalHeads[Code],0))),IF(H167=\"\",0,INDEX(SignalHeads[Perp. Wind Area (sft)],MATCH(H167,SignalHeads[Code],0))),IF(I167=\"\",0,INDEX(SignalHeads[Perp. Wind Area (sft)],MATCH(I167,SignalHeads[Code],0))))","v":0},{"$f":"SUM(IF(B167=\"\",0,INDEX(SignalHeads[Weight*** (lbs)],MATCH(B167,SignalHeads[Code],0))),IF(D167=\"\",0,INDEX(SignalHeads[Weight*** (lbs)],MATCH(D167,SignalHeads[Code],0))),IF(E167=\"\",0,INDEX(SignalHeads[Weight*** (lbs)],MATCH(E167,SignalHeads[Code],0))),IF(F167=\"\",0,INDEX(SignalHeads[Weight*** (lbs)],MATCH(F167,SignalHeads[Code],0))),IF(G167=\"\",0,INDEX(SignalHeads[Weight*** (lbs)],MATCH(G167,SignalHeads[Code],0))),IF(H167=\"\",0,INDEX(SignalHeads[Weight*** (lbs)],MATCH(H167,SignalHeads[Code],0))),IF(I167=\"\",0,INDEX(SignalHeads[Weight*** (lbs)],MATCH(I167,SignalHeads[Code],0))))","v":0},{"$f":"IF(A167<=$I$8,INDEX(DesignConstants[Value],MATCH(\"Span Wire Weight (plf)\",DesignConstants[Design Constant],0)),0)","v":1.155},0,163.4325,{"$error":"#VALUE!"},{"$error":"#VALUE!"},{"$error":"#N/A"},{"$error":"#N/A"},{"$f":"SUM(IF(B167=\"\",0,INDEX(SignalHeads[Height ** (feet)],MATCH(B167,SignalHeads[Code],0))),IF(D167=\"\",0,INDEX(SignalHeads[Height ** (feet)],MATCH(D167,SignalHeads[Code],0))),IF(E167=\"\",0,INDEX(SignalHeads[Height ** (feet)],MATCH(E167,SignalHeads[Code],0))),IF(F167=\"\",0,INDEX(SignalHeads[Height ** (feet)],MATCH(F167,SignalHeads[Code],0))),IF(G167=\"\",0,INDEX(SignalHeads[Height ** (feet)],MATCH(G167,SignalHeads[Code],0))),IF(H167=\"\",0,INDEX(SignalHeads[Height ** (feet)],MATCH(H167,SignalHeads[Code],0))),IF(I167=\"\",0,INDEX(SignalHeads[Height ** (feet)],MATCH(I167,SignalHeads[Code],0))))","v":0},{"$f":"IF(S167=0,\"\",ROUNDDOWN(12*(((Q167-S167)-MIN($Q$26:$Q$425-$S$26:$S$425)-(MAX($S$26:$S$425*(($Q$26:$Q$425-$S$26:$S$425)=MIN($Q$26:$Q$425-$S$26:$S$425)))-S167))+(MIN($Q$26:$Q$425-$S$26:$S$425)-$I$10)),0)/12)","v":""},"",{"$error":"#N/A"},17]
[143,null,null,null,null,null,null,null,null,{"$f":"SUM(IF(B168=\"\",0,INDEX(SignalHeads[Perp. Wind Area (sft)],MATCH(B168,SignalHeads[Code],0))),IF(D168=\"\",0,INDEX(SignalHeads[Perp. Wind Area (sft)],MATCH(D168,SignalHeads[Code],0))),IF(E168=\"\",0,INDEX(SignalHeads[Perp. Wind Area (sft)],MATCH(E168,SignalHeads[Code],0))),IF(F168=\"\",0,INDEX(SignalHeads[Perp. Wind Area (sft)],MATCH(F168,SignalHeads[Code],0))),IF(G168=\"\",0,INDEX(SignalHeads[Perp. Wind Area (sft)],MATCH(G168,SignalHeads[Code],0))),IF(H168=\"\",0,INDEX(SignalHeads[Perp. Wind Area (sft)],MATCH(H168,SignalHeads[Code],0))),IF(I168=\"\",0,INDEX(SignalHeads[Perp. Wind Area (sft)],MATCH(I168,SignalHeads[Code],0))))","v":0},{"$f":"SUM(IF(B168=\"\",0,INDEX(SignalHeads[Weight*** (lbs)],MATCH(B168,SignalHeads[Code],0))),IF(D168=\"\",0,INDEX(SignalHeads[Weight*** (lbs)],MATCH(D168,SignalHeads[Code],0))),IF(E168=\"\",0,INDEX(SignalHeads[Weight*** (lbs)],MATCH(E168,SignalHeads[Code],0))),IF(F168=\"\",0,INDEX(SignalHeads[Weight*** (lbs)],MATCH(F168,SignalHeads[Code],0))),IF(G168=\"\",0,INDEX(SignalHeads[Weight*** (lbs)],MATCH(G168,SignalHeads[Code],0))),IF(H168=\"\",0,INDEX(SignalHeads[Weight*** (lbs)],MATCH(H168,SignalHeads[Code],0))),IF(I168=\"\",0,INDEX(SignalHeads[Weight*** (lbs)],MATCH(I168,SignalHeads[Code],0))))","v":0},{"$f":"IF(A168<=$I$8,INDEX(DesignConstants[Value],MATCH(\"Span Wire Weight (plf)\",DesignConstants[Design Constant],0)),0)","v":1.155},0,164.58750000000001,{"$error":"#VALUE!"},{"$error":"#VALUE!"},{"$error":"#N/A"},{"$error":"#N/A"},{"$f":"SUM(IF(B168=\"\",0,INDEX(SignalHeads[Height ** (feet)],MATCH(B168,SignalHeads[Code],0))),IF(D168=\"\",0,INDEX(SignalHeads[Height ** (feet)],MATCH(D168,SignalHeads[Code],0))),IF(E168=\"\",0,INDEX(SignalHeads[Height ** (feet)],MATCH(E168,SignalHeads[Code],0))),IF(F168=\"\",0,INDEX(SignalHeads[Height ** (feet)],MATCH(F168,SignalHeads[Code],0))),IF(G168=\"\",0,INDEX(SignalHeads[Height ** (feet)],MATCH(G168,SignalHeads[Code],0))),IF(H168=\"\",0,INDEX(SignalHeads[Height ** (feet)],MATCH(H168,SignalHeads[Code],0))),IF(I168=\"\",0,INDEX(SignalHeads[Height ** (feet)],MATCH(I168,SignalHeads[Code],0))))","v":0},{"$f":"IF(S168=0,\"\",ROUNDDOWN(12*(((Q168-S168)-MIN($Q$26:$Q$425-$S$26:$S$425)-(MAX($S$26:$S$425*(($Q$26:$Q$425-$S$26:$S$425)=MIN($Q$26:$Q$425-$S$26:$S$425)))-S168))+(MIN($Q$26:$Q$425-$S$26:$S$425)-$I$10)),0)/12)","v":""},"",{"$error":"#N/A"},17]
[144,null,null,null,null,null,null,null,null,{"$f":"SUM(IF(B169=\"\",0,INDEX(SignalHeads[Perp. Wind Area (sft)],MATCH(B169,SignalHeads[Code],0))),IF(D169=\"\",0,INDEX(SignalHeads[Perp. Wind Area (sft)],MATCH(D169,SignalHeads[Code],0))),IF(E169=\"\",0,INDEX(SignalHeads[Perp. Wind Area (sft)],MATCH(E169,SignalHeads[Code],0))),IF(F169=\"\",0,INDEX(SignalHeads[Perp. Wind Area (sft)],MATCH(F169,SignalHeads[Code],0))),IF(G169=\"\",0,INDEX(SignalHeads[Perp. Wind Area (sft)],MATCH(G169,SignalHeads[Code],0))),IF(H169=\"\",0,INDEX(SignalHeads[Perp. Wind Area (sft)],MATCH(H169,SignalHeads[Code],0))),IF(I169=\"\",0,INDEX(SignalHeads[Perp. Wind Area (sft)],MATCH(I169,SignalHeads[Code],0))))","v":0},{"$f":"SUM(IF(B169=\"\",0,INDEX(SignalHeads[Weight*** (lbs)],MATCH(B169,SignalHeads[Code],0))),IF(D169=\"\",0,INDEX(SignalHeads[Weight*** (lbs)],MATCH(D169,SignalHeads[Code],0))),IF(E169=\"\",0,INDEX(SignalHeads[Weight*** (lbs)],MATCH(E169,SignalHeads[Code],0))),IF(F169=\"\",0,INDEX(SignalHeads[Weight*** (lbs)],MATCH(F169,SignalHeads[Code],0))),IF(G169=\"\",0,INDEX(SignalHeads[Weight*** (lbs)],MATCH(G169,SignalHeads[Code],0))),IF(H169=\"\",0,INDEX(SignalHeads[Weight*** (lbs)],MATCH(H169,SignalHeads[Code],0))),IF(I169=\"\",0,INDEX(SignalHeads[Weight*** (lbs)],MATCH(I169,SignalHeads[Code],0))))","v":0},{"$f":"IF(A169<=$I$8,INDEX(DesignConstants[Value],MATCH(\"Span Wire Weight (plf)\",DesignConstants[Design Constant],0)),0)","v":1.155},0,165.74250000000001,{"$error":"#VALUE!"},{"$error":"#VALUE!"},{"$error":"#N/A"},{"$error":"#N/A"},{"$f":"SUM(IF(B169=\"\",0,INDEX(SignalHeads[Height ** (feet)],MATCH(B169,SignalHeads[Code],0))),IF(D169=\"\",0,INDEX(SignalHeads[Height ** (feet)],MATCH(D169,SignalHeads[Code],0))),IF(E169=\"\",0,INDEX(SignalHeads[Height ** (feet)],MATCH(E169,SignalHeads[Code],0))),IF(F169=\"\",0,INDEX(SignalHeads[Height ** (feet)],MATCH(F169,SignalHeads[Code],0))),IF(G169=\"\",0,INDEX(SignalHeads[Height ** (feet)],MATCH(G169,SignalHeads[Code],0))),IF(H169=\"\",0,INDEX(SignalHeads[Height ** (feet)],MATCH(H169,SignalHeads[Code],0))),IF(I169=\"\",0,INDEX(SignalHeads[Height ** (feet)],MATCH(I169,SignalHeads[Code],0))))","v":0},{"$f":"IF(S169=0,\"\",ROUNDDOWN(12*(((Q169-S169)-MIN($Q$26:$Q$425-$S$26:$S$425)-(MAX($S$26:$S$425*(($Q$26:$Q$425-$S$26:$S$425)=MIN($Q$26:$Q$425-$S$26:$S$425)))-S169))+(MIN($Q$26:$Q$425-$S$26:$S$425)-$I$10)),0)/12)","v":""},"",{"$error":"#N/A"},17]
[145,null,null,null,null,null,null,null,null,{"$f":"SUM(IF(B170=\"\",0,INDEX(SignalHeads[Perp. Wind Area (sft)],MATCH(B170,SignalHeads[Code],0))),IF(D170=\"\",0,INDEX(SignalHeads[Perp. Wind Area (sft)],MATCH(D170,SignalHeads[Code],0))),IF(E170=\"\",0,INDEX(SignalHeads[Perp. Wind Area (sft)],MATCH(E170,SignalHeads[Code],0))),IF(F170=\"\",0,INDEX(SignalHeads[Perp. Wind Area (sft)],MATCH(F170,SignalHeads[Code],0))),IF(G170=\"\",0,INDEX(SignalHeads[Perp. Wind Area (sft)],MATCH(G170,SignalHeads[Code],0))),IF(H170=\"\",0,INDEX(SignalHeads[Perp. Wind Area (sft)],MATCH(H170,SignalHeads[Code],0))),IF(I170=\"\",0,INDEX(SignalHeads[Perp. Wind Area (sft)],MATCH(I170,SignalHeads[Code],0))))","v":0},{"$f":"SUM(IF(B170=\"\",0,INDEX(SignalHeads[Weight*** (lbs)],MATCH(B170,SignalHeads[Code],0))),IF(D170=\"\",0,INDEX(SignalHeads[Weight*** (lbs)],MATCH(D170,SignalHeads[Code],0))),IF(E170=\"\",0,INDEX(SignalHeads[Weight*** (lbs)],MATCH(E170,SignalHeads[Code],0))),IF(F170=\"\",0,INDEX(SignalHeads[Weight*** (lbs)],MATCH(F170,SignalHeads[Code],0))),IF(G170=\"\",0,INDEX(SignalHeads[Weight*** (lbs)],MATCH(G170,SignalHeads[Code],0))),IF(H170=\"\",0,INDEX(SignalHeads[Weight*** (lbs)],MATCH(H170,SignalHeads[Code],0))),IF(I170=\"\",0,INDEX(SignalHeads[Weight*** (lbs)],MATCH(I170,SignalHeads[Code],0))))","v":0},{"$f":"IF(A170<=$I$8,INDEX(DesignConstants[Value],MATCH(\"Span Wire Weight (plf)\",DesignConstants[Design Constant],0)),0)","v":1.155},0,166.89750000000001,{"$error":"#VALUE!"},{"$error":"#VALUE!"},{"$error":"#N/A"},{"$error":"#N/A"},{"$f":"SUM(IF(B170=\"\",0,INDEX(SignalHeads[Height ** (feet)],MATCH(B170,SignalHeads[Code],0))),IF(D170=\"\",0,INDEX(SignalHeads[Height ** (feet)],MATCH(D170,SignalHeads[Code],0))),IF(E170=\"\",0,INDEX(SignalHeads[Height ** (feet)],MATCH(E170,SignalHeads[Code],0))),IF(F170=\"\",0,INDEX(SignalHeads[Height ** (feet)],MATCH(F170,SignalHeads[Code],0))),IF(G170=\"\",0,INDEX(SignalHeads[Height ** (feet)],MATCH(G170,SignalHeads[Code],0))),IF(H170=\"\",0,INDEX(SignalHeads[Height ** (feet)],MATCH(H170,SignalHeads[Code],0))),IF(I170=\"\",0,INDEX(SignalHeads[Height ** (feet)],MATCH(I170,SignalHeads[Code],0))))","v":0},{"$f":"IF(S170=0,\"\",ROUNDDOWN(12*(((Q170-S170)-MIN($Q$26:$Q$425-$S$26:$S$425)-(MAX($S$26:$S$425*(($Q$26:$Q$425-$S$26:$S$425)=MIN($Q$26:$Q$425-$S$26:$S$425)))-S170))+(MIN($Q$26:$Q$425-$S$26:$S$425)-$I$10)),0)/12)","v":""},"",{"$error":"#N/A"},17]
[146,null,null,null,null,null,null,null,null,{"$f":"SUM(IF(B171=\"\",0,INDEX(SignalHeads[Perp. Wind Area (sft)],MATCH(B171,SignalHeads[Code],0))),IF(D171=\"\",0,INDEX(SignalHeads[Perp. Wind Area (sft)],MATCH(D171,SignalHeads[Code],0))),IF(E171=\"\",0,INDEX(SignalHeads[Perp. Wind Area (sft)],MATCH(E171,SignalHeads[Code],0))),IF(F171=\"\",0,INDEX(SignalHeads[Perp. Wind Area (sft)],MATCH(F171,SignalHeads[Code],0))),IF(G171=\"\",0,INDEX(SignalHeads[Perp. Wind Area (sft)],MATCH(G171,SignalHeads[Code],0))),IF(H171=\"\",0,INDEX(SignalHeads[Perp. Wind Area (sft)],MATCH(H171,SignalHeads[Code],0))),IF(I171=\"\",0,INDEX(SignalHeads[Perp. Wind Area (sft)],MATCH(I171,SignalHeads[Code],0))))","v":0},{"$f":"SUM(IF(B171=\"\",0,INDEX(SignalHeads[Weight*** (lbs)],MATCH(B171,SignalHeads[Code],0))),IF(D171=\"\",0,INDEX(SignalHeads[Weight*** (lbs)],MATCH(D171,SignalHeads[Code],0))),IF(E171=\"\",0,INDEX(SignalHeads[Weight*** (lbs)],MATCH(E171,SignalHeads[Code],0))),IF(F171=\"\",0,INDEX(SignalHeads[Weight*** (lbs)],MATCH(F171,SignalHeads[Code],0))),IF(G171=\"\",0,INDEX(SignalHeads[Weight*** (lbs)],MATCH(G171,SignalHeads[Code],0))),IF(H171=\"\",0,INDEX(SignalHeads[Weight*** (lbs)],MATCH(H171,SignalHeads[Code],0))),IF(I171=\"\",0,INDEX(SignalHeads[Weight*** (lbs)],MATCH(I171,SignalHeads[Code],0))))","v":0},{"$f":"IF(A171<=$I$8,INDEX(DesignConstants[Value],MATCH(\"Span Wire Weight (plf)\",DesignConstants[Design Constant],0)),0)","v":1.155},0,168.05250000000001,{"$error":"#VALUE!"},{"$error":"#VALUE!"},{"$error":"#N/A"},{"$error":"#N/A"},{"$f":"SUM(IF(B171=\"\",0,INDEX(SignalHeads[Height ** (feet)],MATCH(B171,SignalHeads[Code],0))),IF(D171=\"\",0,INDEX(SignalHeads[Height ** (feet)],MATCH(D171,SignalHeads[Code],0))),IF(E171=\"\",0,INDEX(SignalHeads[Height ** (feet)],MATCH(E171,SignalHeads[Code],0))),IF(F171=\"\",0,INDEX(SignalHeads[Height ** (feet)],MATCH(F171,SignalHeads[Code],0))),IF(G171=\"\",0,INDEX(SignalHeads[Height ** (feet)],MATCH(G171,SignalHeads[Code],0))),IF(H171=\"\",0,INDEX(SignalHeads[Height ** (feet)],MATCH(H171,SignalHeads[Code],0))),IF(I171=\"\",0,INDEX(SignalHeads[Height ** (feet)],MATCH(I171,SignalHeads[Code],0))))","v":0},{"$f":"IF(S171=0,\"\",ROUNDDOWN(12*(((Q171-S171)-MIN($Q$26:$Q$425-$S$26:$S$425)-(MAX($S$26:$S$425*(($Q$26:$Q$425-$S$26:$S$425)=MIN($Q$26:$Q$425-$S$26:$S$425)))-S171))+(MIN($Q$26:$Q$425-$S$26:$S$425)-$I$10)),0)/12)","v":""},"",{"$error":"#N/A"},17]
[147,null,null,null,null,null,null,null,null,{"$f":"SUM(IF(B172=\"\",0,INDEX(SignalHeads[Perp. Wind Area (sft)],MATCH(B172,SignalHeads[Code],0))),IF(D172=\"\",0,INDEX(SignalHeads[Perp. Wind Area (sft)],MATCH(D172,SignalHeads[Code],0))),IF(E172=\"\",0,INDEX(SignalHeads[Perp. Wind Area (sft)],MATCH(E172,SignalHeads[Code],0))),IF(F172=\"\",0,INDEX(SignalHeads[Perp. Wind Area (sft)],MATCH(F172,SignalHeads[Code],0))),IF(G172=\"\",0,INDEX(SignalHeads[Perp. Wind Area (sft)],MATCH(G172,SignalHeads[Code],0))),IF(H172=\"\",0,INDEX(SignalHeads[Perp. Wind Area (sft)],MATCH(H172,SignalHeads[Code],0))),IF(I172=\"\",0,INDEX(SignalHeads[Perp. Wind Area (sft)],MATCH(I172,SignalHeads[Code],0))))","v":0},{"$f":"SUM(IF(B172=\"\",0,INDEX(SignalHeads[Weight*** (lbs)],MATCH(B172,SignalHeads[Code],0))),IF(D172=\"\",0,INDEX(SignalHeads[Weight*** (lbs)],MATCH(D172,SignalHeads[Code],0))),IF(E172=\"\",0,INDEX(SignalHeads[Weight*** (lbs)],MATCH(E172,SignalHeads[Code],0))),IF(F172=\"\",0,INDEX(SignalHeads[Weight*** (lbs)],MATCH(F172,SignalHeads[Code],0))),IF(G172=\"\",0,INDEX(SignalHeads[Weight*** (lbs)],MATCH(G172,SignalHeads[Code],0))),IF(H172=\"\",0,INDEX(SignalHeads[Weight*** (lbs)],MATCH(H172,SignalHeads[Code],0))),IF(I172=\"\",0,INDEX(SignalHeads[Weight*** (lbs)],MATCH(I172,SignalHeads[Code],0))))","v":0},{"$f":"IF(A172<=$I$8,INDEX(DesignConstants[Value],MATCH(\"Span Wire Weight (plf)\",DesignConstants[Design Constant],0)),0)","v":1.155},0,169.20750000000001,{"$error":"#VALUE!"},{"$error":"#VALUE!"},{"$error":"#N/A"},{"$error":"#N/A"},{"$f":"SUM(IF(B172=\"\",0,INDEX(SignalHeads[Height ** (feet)],MATCH(B172,SignalHeads[Code],0))),IF(D172=\"\",0,INDEX(SignalHeads[Height ** (feet)],MATCH(D172,SignalHeads[Code],0))),IF(E172=\"\",0,INDEX(SignalHeads[Height ** (feet)],MATCH(E172,SignalHeads[Code],0))),IF(F172=\"\",0,INDEX(SignalHeads[Height ** (feet)],MATCH(F172,SignalHeads[Code],0))),IF(G172=\"\",0,INDEX(SignalHeads[Height ** (feet)],MATCH(G172,SignalHeads[Code],0))),IF(H172=\"\",0,INDEX(SignalHeads[Height ** (feet)],MATCH(H172,SignalHeads[Code],0))),IF(I172=\"\",0,INDEX(SignalHeads[Height ** (feet)],MATCH(I172,SignalHeads[Code],0))))","v":0},{"$f":"IF(S172=0,\"\",ROUNDDOWN(12*(((Q172-S172)-MIN($Q$26:$Q$425-$S$26:$S$425)-(MAX($S$26:$S$425*(($Q$26:$Q$425-$S$26:$S$425)=MIN($Q$26:$Q$425-$S$26:$S$425)))-S172))+(MIN($Q$26:$Q$425-$S$26:$S$425)-$I$10)),0)/12)","v":""},"",{"$error":"#N/A"},17]
[148,null,null,null,null,null,null,null,null,{"$f":"SUM(IF(B173=\"\",0,INDEX(SignalHeads[Perp. Wind Area (sft)],MATCH(B173,SignalHeads[Code],0))),IF(D173=\"\",0,INDEX(SignalHeads[Perp. Wind Area (sft)],MATCH(D173,SignalHeads[Code],0))),IF(E173=\"\",0,INDEX(SignalHeads[Perp. Wind Area (sft)],MATCH(E173,SignalHeads[Code],0))),IF(F173=\"\",0,INDEX(SignalHeads[Perp. Wind Area (sft)],MATCH(F173,SignalHeads[Code],0))),IF(G173=\"\",0,INDEX(SignalHeads[Perp. Wind Area (sft)],MATCH(G173,SignalHeads[Code],0))),IF(H173=\"\",0,INDEX(SignalHeads[Perp. Wind Area (sft)],MATCH(H173,SignalHeads[Code],0))),IF(I173=\"\",0,INDEX(SignalHeads[Perp. Wind Area (sft)],MATCH(I173,SignalHeads[Code],0))))","v":0},{"$f":"SUM(IF(B173=\"\",0,INDEX(SignalHeads[Weight*** (lbs)],MATCH(B173,SignalHeads[Code],0))),IF(D173=\"\",0,INDEX(SignalHeads[Weight*** (lbs)],MATCH(D173,SignalHeads[Code],0))),IF(E173=\"\",0,INDEX(SignalHeads[Weight*** (lbs)],MATCH(E173,SignalHeads[Code],0))),IF(F173=\"\",0,INDEX(SignalHeads[Weight*** (lbs)],MATCH(F173,SignalHeads[Code],0))),IF(G173=\"\",0,INDEX(SignalHeads[Weight*** (lbs)],MATCH(G173,SignalHeads[Code],0))),IF(H173=\"\",0,INDEX(SignalHeads[Weight*** (lbs)],MATCH(H173,SignalHeads[Code],0))),IF(I173=\"\",0,INDEX(SignalHeads[Weight*** (lbs)],MATCH(I173,SignalHeads[Code],0))))","v":0},{"$f":"IF(A173<=$I$8,INDEX(DesignConstants[Value],MATCH(\"Span Wire Weight (plf)\",DesignConstants[Design Constant],0)),0)","v":1.155},0,170.36250000000001,{"$error":"#VALUE!"},{"$error":"#VALUE!"},{"$error":"#N/A"},{"$error":"#N/A"},{"$f":"SUM(IF(B173=\"\",0,INDEX(SignalHeads[Height ** (feet)],MATCH(B173,SignalHeads[Code],0))),IF(D173=\"\",0,INDEX(SignalHeads[Height ** (feet)],MATCH(D173,SignalHeads[Code],0))),IF(E173=\"\",0,INDEX(SignalHeads[Height ** (feet)],MATCH(E173,SignalHeads[Code],0))),IF(F173=\"\",0,INDEX(SignalHeads[Height ** (feet)],MATCH(F173,SignalHeads[Code],0))),IF(G173=\"\",0,INDEX(SignalHeads[Height ** (feet)],MATCH(G173,SignalHeads[Code],0))),IF(H173=\"\",0,INDEX(SignalHeads[Height ** (feet)],MATCH(H173,SignalHeads[Code],0))),IF(I173=\"\",0,INDEX(SignalHeads[Height ** (feet)],MATCH(I173,SignalHeads[Code],0))))","v":0},{"$f":"IF(S173=0,\"\",ROUNDDOWN(12*(((Q173-S173)-MIN($Q$26:$Q$425-$S$26:$S$425)-(MAX($S$26:$S$425*(($Q$26:$Q$425-$S$26:$S$425)=MIN($Q$26:$Q$425-$S$26:$S$425)))-S173))+(MIN($Q$26:$Q$425-$S$26:$S$425)-$I$10)),0)/12)","v":""},"",{"$error":"#N/A"},17]
[149,null,null,null,null,null,null,null,null,{"$f":"SUM(IF(B174=\"\",0,INDEX(SignalHeads[Perp. Wind Area (sft)],MATCH(B174,SignalHeads[Code],0))),IF(D174=\"\",0,INDEX(SignalHeads[Perp. Wind Area (sft)],MATCH(D174,SignalHeads[Code],0))),IF(E174=\"\",0,INDEX(SignalHeads[Perp. Wind Area (sft)],MATCH(E174,SignalHeads[Code],0))),IF(F174=\"\",0,INDEX(SignalHeads[Perp. Wind Area (sft)],MATCH(F174,SignalHeads[Code],0))),IF(G174=\"\",0,INDEX(SignalHeads[Perp. Wind Area (sft)],MATCH(G174,SignalHeads[Code],0))),IF(H174=\"\",0,INDEX(SignalHeads[Perp. Wind Area (sft)],MATCH(H174,SignalHeads[Code],0))),IF(I174=\"\",0,INDEX(SignalHeads[Perp. Wind Area (sft)],MATCH(I174,SignalHeads[Code],0))))","v":0},{"$f":"SUM(IF(B174=\"\",0,INDEX(SignalHeads[Weight*** (lbs)],MATCH(B174,SignalHeads[Code],0))),IF(D174=\"\",0,INDEX(SignalHeads[Weight*** (lbs)],MATCH(D174,SignalHeads[Code],0))),IF(E174=\"\",0,INDEX(SignalHeads[Weight*** (lbs)],MATCH(E174,SignalHeads[Code],0))),IF(F174=\"\",0,INDEX(SignalHeads[Weight*** (lbs)],MATCH(F174,SignalHeads[Code],0))),IF(G174=\"\",0,INDEX(SignalHeads[Weight*** (lbs)],MATCH(G174,SignalHeads[Code],0))),IF(H174=\"\",0,INDEX(SignalHeads[Weight*** (lbs)],MATCH(H174,SignalHeads[Code],0))),IF(I174=\"\",0,INDEX(SignalHeads[Weight*** (lbs)],MATCH(I174,SignalHeads[Code],0))))","v":0},{"$f":"IF(A174<=$I$8,INDEX(DesignConstants[Value],MATCH(\"Span Wire Weight (plf)\",DesignConstants[Design Constant],0)),0)","v":1.155},0,171.51750000000001,{"$error":"#VALUE!"},{"$error":"#VALUE!"},{"$error":"#N/A"},{"$error":"#N/A"},{"$f":"SUM(IF(B174=\"\",0,INDEX(SignalHeads[Height ** (feet)],MATCH(B174,SignalHeads[Code],0))),IF(D174=\"\",0,INDEX(SignalHeads[Height ** (feet)],MATCH(D174,SignalHeads[Code],0))),IF(E174=\"\",0,INDEX(SignalHeads[Height ** (feet)],MATCH(E174,SignalHeads[Code],0))),IF(F174=\"\",0,INDEX(SignalHeads[Height ** (feet)],MATCH(F174,SignalHeads[Code],0))),IF(G174=\"\",0,INDEX(SignalHeads[Height ** (feet)],MATCH(G174,SignalHeads[Code],0))),IF(H174=\"\",0,INDEX(SignalHeads[Height ** (feet)],MATCH(H174,SignalHeads[Code],0))),IF(I174=\"\",0,INDEX(SignalHeads[Height ** (feet)],MATCH(I174,SignalHeads[Code],0))))","v":0},{"$f":"IF(S174=0,\"\",ROUNDDOWN(12*(((Q174-S174)-MIN($Q$26:$Q$425-$S$26:$S$425)-(MAX($S$26:$S$425*(($Q$26:$Q$425-$S$26:$S$425)=MIN($Q$26:$Q$425-$S$26:$S$425)))-S174))+(MIN($Q$26:$Q$425-$S$26:$S$425)-$I$10)),0)/12)","v":""},"",{"$error":"#N/A"},17]
[150,null,null,null,null,null,null,null,null,{"$f":"SUM(IF(B175=\"\",0,INDEX(SignalHeads[Perp. Wind Area (sft)],MATCH(B175,SignalHeads[Code],0))),IF(D175=\"\",0,INDEX(SignalHeads[Perp. Wind Area (sft)],MATCH(D175,SignalHeads[Code],0))),IF(E175=\"\",0,INDEX(SignalHeads[Perp. Wind Area (sft)],MATCH(E175,SignalHeads[Code],0))),IF(F175=\"\",0,INDEX(SignalHeads[Perp. Wind Area (sft)],MATCH(F175,SignalHeads[Code],0))),IF(G175=\"\",0,INDEX(SignalHeads[Perp. Wind Area (sft)],MATCH(G175,SignalHeads[Code],0))),IF(H175=\"\",0,INDEX(SignalHeads[Perp. Wind Area (sft)],MATCH(H175,SignalHeads[Code],0))),IF(I175=\"\",0,INDEX(SignalHeads[Perp. Wind Area (sft)],MATCH(I175,SignalHeads[Code],0))))","v":0},{"$f":"SUM(IF(B175=\"\",0,INDEX(SignalHeads[Weight*** (lbs)],MATCH(B175,SignalHeads[Code],0))),IF(D175=\"\",0,INDEX(SignalHeads[Weight*** (lbs)],MATCH(D175,SignalHeads[Code],0))),IF(E175=\"\",0,INDEX(SignalHeads[Weight*** (lbs)],MATCH(E175,SignalHeads[Code],0))),IF(F175=\"\",0,INDEX(SignalHeads[Weight*** (lbs)],MATCH(F175,SignalHeads[Code],0))),IF(G175=\"\",0,INDEX(SignalHeads[Weight*** (lbs)],MATCH(G175,SignalHeads[Code],0))),IF(H175=\"\",0,INDEX(SignalHeads[Weight*** (lbs)],MATCH(H175,SignalHeads[Code],0))),IF(I175=\"\",0,INDEX(SignalHeads[Weight*** (lbs)],MATCH(I175,SignalHeads[Code],0))))","v":0},{"$f":"IF(A175<=$I$8,INDEX(DesignConstants[Value],MATCH(\"Span Wire Weight (plf)\",DesignConstants[Design Constant],0)),0)","v":1.155},0,172.67250000000001,{"$error":"#VALUE!"},{"$error":"#VALUE!"},{"$error":"#N/A"},{"$error":"#N/A"},{"$f":"SUM(IF(B175=\"\",0,INDEX(SignalHeads[Height ** (feet)],MATCH(B175,SignalHeads[Code],0))),IF(D175=\"\",0,INDEX(SignalHeads[Height ** (feet)],MATCH(D175,SignalHeads[Code],0))),IF(E175=\"\",0,INDEX(SignalHeads[Height ** (feet)],MATCH(E175,SignalHeads[Code],0))),IF(F175=\"\",0,INDEX(SignalHeads[Height ** (feet)],MATCH(F175,SignalHeads[Code],0))),IF(G175=\"\",0,INDEX(SignalHeads[Height ** (feet)],MATCH(G175,SignalHeads[Code],0))),IF(H175=\"\",0,INDEX(SignalHeads[Height ** (feet)],MATCH(H175,SignalHeads[Code],0))),IF(I175=\"\",0,INDEX(SignalHeads[Height ** (feet)],MATCH(I175,SignalHeads[Code],0))))","v":0},{"$f":"IF(S175=0,\"\",ROUNDDOWN(12*(((Q175-S175)-MIN($Q$26:$Q$425-$S$26:$S$425)-(MAX($S$26:$S$425*(($Q$26:$Q$425-$S$26:$S$425)=MIN($Q$26:$Q$425-$S$26:$S$425)))-S175))+(MIN($Q$26:$Q$425-$S$26:$S$425)-$I$10)),0)/12)","v":""},"",{"$error":"#N/A"},17]
[151,null,null,null,null,null,null,null,null,{"$f":"SUM(IF(B176=\"\",0,INDEX(SignalHeads[Perp. Wind Area (sft)],MATCH(B176,SignalHeads[Code],0))),IF(D176=\"\",0,INDEX(SignalHeads[Perp. Wind Area (sft)],MATCH(D176,SignalHeads[Code],0))),IF(E176=\"\",0,INDEX(SignalHeads[Perp. Wind Area (sft)],MATCH(E176,SignalHeads[Code],0))),IF(F176=\"\",0,INDEX(SignalHeads[Perp. Wind Area (sft)],MATCH(F176,SignalHeads[Code],0))),IF(G176=\"\",0,INDEX(SignalHeads[Perp. Wind Area (sft)],MATCH(G176,SignalHeads[Code],0))),IF(H176=\"\",0,INDEX(SignalHeads[Perp. Wind Area (sft)],MATCH(H176,SignalHeads[Code],0))),IF(I176=\"\",0,INDEX(SignalHeads[Perp. Wind Area (sft)],MATCH(I176,SignalHeads[Code],0))))","v":0},{"$f":"SUM(IF(B176=\"\",0,INDEX(SignalHeads[Weight*** (lbs)],MATCH(B176,SignalHeads[Code],0))),IF(D176=\"\",0,INDEX(SignalHeads[Weight*** (lbs)],MATCH(D176,SignalHeads[Code],0))),IF(E176=\"\",0,INDEX(SignalHeads[Weight*** (lbs)],MATCH(E176,SignalHeads[Code],0))),IF(F176=\"\",0,INDEX(SignalHeads[Weight*** (lbs)],MATCH(F176,SignalHeads[Code],0))),IF(G176=\"\",0,INDEX(SignalHeads[Weight*** (lbs)],MATCH(G176,SignalHeads[Code],0))),IF(H176=\"\",0,INDEX(SignalHeads[Weight*** (lbs)],MATCH(H176,SignalHeads[Code],0))),IF(I176=\"\",0,INDEX(SignalHeads[Weight*** (lbs)],MATCH(I176,SignalHeads[Code],0))))","v":0},{"$f":"IF(A176<=$I$8,INDEX(DesignConstants[Value],MATCH(\"Span Wire Weight (plf)\",DesignConstants[Design Constant],0)),0)","v":1.155},0,173.82750000000001,{"$error":"#VALUE!"},{"$error":"#VALUE!"},{"$error":"#N/A"},{"$error":"#N/A"},{"$f":"SUM(IF(B176=\"\",0,INDEX(SignalHeads[Height ** (feet)],MATCH(B176,SignalHeads[Code],0))),IF(D176=\"\",0,INDEX(SignalHeads[Height ** (feet)],MATCH(D176,SignalHeads[Code],0))),IF(E176=\"\",0,INDEX(SignalHeads[Height ** (feet)],MATCH(E176,SignalHeads[Code],0))),IF(F176=\"\",0,INDEX(SignalHeads[Height ** (feet)],MATCH(F176,SignalHeads[Code],0))),IF(G176=\"\",0,INDEX(SignalHeads[Height ** (feet)],MATCH(G176,SignalHeads[Code],0))),IF(H176=\"\",0,INDEX(SignalHeads[Height ** (feet)],MATCH(H176,SignalHeads[Code],0))),IF(I176=\"\",0,INDEX(SignalHeads[Height ** (feet)],MATCH(I176,SignalHeads[Code],0))))","v":0},{"$f":"IF(S176=0,\"\",ROUNDDOWN(12*(((Q176-S176)-MIN($Q$26:$Q$425-$S$26:$S$425)-(MAX($S$26:$S$425*(($Q$26:$Q$425-$S$26:$S$425)=MIN($Q$26:$Q$425-$S$26:$S$425)))-S176))+(MIN($Q$26:$Q$425-$S$26:$S$425)-$I$10)),0)/12)","v":""},"",{"$error":"#N/A"},17]
[152,null,null,null,null,null,null,null,null,{"$f":"SUM(IF(B177=\"\",0,INDEX(SignalHeads[Perp. Wind Area (sft)],MATCH(B177,SignalHeads[Code],0))),IF(D177=\"\",0,INDEX(SignalHeads[Perp. Wind Area (sft)],MATCH(D177,SignalHeads[Code],0))),IF(E177=\"\",0,INDEX(SignalHeads[Perp. Wind Area (sft)],MATCH(E177,SignalHeads[Code],0))),IF(F177=\"\",0,INDEX(SignalHeads[Perp. Wind Area (sft)],MATCH(F177,SignalHeads[Code],0))),IF(G177=\"\",0,INDEX(SignalHeads[Perp. Wind Area (sft)],MATCH(G177,SignalHeads[Code],0))),IF(H177=\"\",0,INDEX(SignalHeads[Perp. Wind Area (sft)],MATCH(H177,SignalHeads[Code],0))),IF(I177=\"\",0,INDEX(SignalHeads[Perp. Wind Area (sft)],MATCH(I177,SignalHeads[Code],0))))","v":0},{"$f":"SUM(IF(B177=\"\",0,INDEX(SignalHeads[Weight*** (lbs)],MATCH(B177,SignalHeads[Code],0))),IF(D177=\"\",0,INDEX(SignalHeads[Weight*** (lbs)],MATCH(D177,SignalHeads[Code],0))),IF(E177=\"\",0,INDEX(SignalHeads[Weight*** (lbs)],MATCH(E177,SignalHeads[Code],0))),IF(F177=\"\",0,INDEX(SignalHeads[Weight*** (lbs)],MATCH(F177,SignalHeads[Code],0))),IF(G177=\"\",0,INDEX(SignalHeads[Weight*** (lbs)],MATCH(G177,SignalHeads[Code],0))),IF(H177=\"\",0,INDEX(SignalHeads[Weight*** (lbs)],MATCH(H177,SignalHeads[Code],0))),IF(I177=\"\",0,INDEX(SignalHeads[Weight*** (lbs)],MATCH(I177,SignalHeads[Code],0))))","v":0},{"$f":"IF(A177<=$I$8,INDEX(DesignConstants[Value],MATCH(\"Span Wire Weight (plf)\",DesignConstants[Design Constant],0)),0)","v":1.155},0,174.98250000000002,{"$error":"#VALUE!"},{"$error":"#VALUE!"},{"$error":"#N/A"},{"$error":"#N/A"},{"$f":"SUM(IF(B177=\"\",0,INDEX(SignalHeads[Height ** (feet)],MATCH(B177,SignalHeads[Code],0))),IF(D177=\"\",0,INDEX(SignalHeads[Height ** (feet)],MATCH(D177,SignalHeads[Code],0))),IF(E177=\"\",0,INDEX(SignalHeads[Height ** (feet)],MATCH(E177,SignalHeads[Code],0))),IF(F177=\"\",0,INDEX(SignalHeads[Height ** (feet)],MATCH(F177,SignalHeads[Code],0))),IF(G177=\"\",0,INDEX(SignalHeads[Height ** (feet)],MATCH(G177,SignalHeads[Code],0))),IF(H177=\"\",0,INDEX(SignalHeads[Height ** (feet)],MATCH(H177,SignalHeads[Code],0))),IF(I177=\"\",0,INDEX(SignalHeads[Height ** (feet)],MATCH(I177,SignalHeads[Code],0))))","v":0},{"$f":"IF(S177=0,\"\",ROUNDDOWN(12*(((Q177-S177)-MIN($Q$26:$Q$425-$S$26:$S$425)-(MAX($S$26:$S$425*(($Q$26:$Q$425-$S$26:$S$425)=MIN($Q$26:$Q$425-$S$26:$S$425)))-S177))+(MIN($Q$26:$Q$425-$S$26:$S$425)-$I$10)),0)/12)","v":""},"",{"$error":"#N/A"},17]
[153,null,null,null,null,null,null,null,null,{"$f":"SUM(IF(B178=\"\",0,INDEX(SignalHeads[Perp. Wind Area (sft)],MATCH(B178,SignalHeads[Code],0))),IF(D178=\"\",0,INDEX(SignalHeads[Perp. Wind Area (sft)],MATCH(D178,SignalHeads[Code],0))),IF(E178=\"\",0,INDEX(SignalHeads[Perp. Wind Area (sft)],MATCH(E178,SignalHeads[Code],0))),IF(F178=\"\",0,INDEX(SignalHeads[Perp. Wind Area (sft)],MATCH(F178,SignalHeads[Code],0))),IF(G178=\"\",0,INDEX(SignalHeads[Perp. Wind Area (sft)],MATCH(G178,SignalHeads[Code],0))),IF(H178=\"\",0,INDEX(SignalHeads[Perp. Wind Area (sft)],MATCH(H178,SignalHeads[Code],0))),IF(I178=\"\",0,INDEX(SignalHeads[Perp. Wind Area (sft)],MATCH(I178,SignalHeads[Code],0))))","v":0},{"$f":"SUM(IF(B178=\"\",0,INDEX(SignalHeads[Weight*** (lbs)],MATCH(B178,SignalHeads[Code],0))),IF(D178=\"\",0,INDEX(SignalHeads[Weight*** (lbs)],MATCH(D178,SignalHeads[Code],0))),IF(E178=\"\",0,INDEX(SignalHeads[Weight*** (lbs)],MATCH(E178,SignalHeads[Code],0))),IF(F178=\"\",0,INDEX(SignalHeads[Weight*** (lbs)],MATCH(F178,SignalHeads[Code],0))),IF(G178=\"\",0,INDEX(SignalHeads[Weight*** (lbs)],MATCH(G178,SignalHeads[Code],0))),IF(H178=\"\",0,INDEX(SignalHeads[Weight*** (lbs)],MATCH(H178,SignalHeads[Code],0))),IF(I178=\"\",0,INDEX(SignalHeads[Weight*** (lbs)],MATCH(I178,SignalHeads[Code],0))))","v":0},{"$f":"IF(A178<=$I$8,INDEX(DesignConstants[Value],MATCH(\"Span Wire Weight (plf)\",DesignConstants[Design Constant],0)),0)","v":1.155},0,176.13750000000002,{"$error":"#VALUE!"},{"$error":"#VALUE!"},{"$error":"#N/A"},{"$error":"#N/A"},{"$f":"SUM(IF(B178=\"\",0,INDEX(SignalHeads[Height ** (feet)],MATCH(B178,SignalHeads[Code],0))),IF(D178=\"\",0,INDEX(SignalHeads[Height ** (feet)],MATCH(D178,SignalHeads[Code],0))),IF(E178=\"\",0,INDEX(SignalHeads[Height ** (feet)],MATCH(E178,SignalHeads[Code],0))),IF(F178=\"\",0,INDEX(SignalHeads[Height ** (feet)],MATCH(F178,SignalHeads[Code],0))),IF(G178=\"\",0,INDEX(SignalHeads[Height ** (feet)],MATCH(G178,SignalHeads[Code],0))),IF(H178=\"\",0,INDEX(SignalHeads[Height ** (feet)],MATCH(H178,SignalHeads[Code],0))),IF(I178=\"\",0,INDEX(SignalHeads[Height ** (feet)],MATCH(I178,SignalHeads[Code],0))))","v":0},{"$f":"IF(S178=0,\"\",ROUNDDOWN(12*(((Q178-S178)-MIN($Q$26:$Q$425-$S$26:$S$425)-(MAX($S$26:$S$425*(($Q$26:$Q$425-$S$26:$S$425)=MIN($Q$26:$Q$425-$S$26:$S$425)))-S178))+(MIN($Q$26:$Q$425-$S$26:$S$425)-$I$10)),0)/12)","v":""},"",{"$error":"#N/A"},17]
[154,null,null,null,null,null,null,null,null,{"$f":"SUM(IF(B179=\"\",0,INDEX(SignalHeads[Perp. Wind Area (sft)],MATCH(B179,SignalHeads[Code],0))),IF(D179=\"\",0,INDEX(SignalHeads[Perp. Wind Area (sft)],MATCH(D179,SignalHeads[Code],0))),IF(E179=\"\",0,INDEX(SignalHeads[Perp. Wind Area (sft)],MATCH(E179,SignalHeads[Code],0))),IF(F179=\"\",0,INDEX(SignalHeads[Perp. Wind Area (sft)],MATCH(F179,SignalHeads[Code],0))),IF(G179=\"\",0,INDEX(SignalHeads[Perp. Wind Area (sft)],MATCH(G179,SignalHeads[Code],0))),IF(H179=\"\",0,INDEX(SignalHeads[Perp. Wind Area (sft)],MATCH(H179,SignalHeads[Code],0))),IF(I179=\"\",0,INDEX(SignalHeads[Perp. Wind Area (sft)],MATCH(I179,SignalHeads[Code],0))))","v":0},{"$f":"SUM(IF(B179=\"\",0,INDEX(SignalHeads[Weight*** (lbs)],MATCH(B179,SignalHeads[Code],0))),IF(D179=\"\",0,INDEX(SignalHeads[Weight*** (lbs)],MATCH(D179,SignalHeads[Code],0))),IF(E179=\"\",0,INDEX(SignalHeads[Weight*** (lbs)],MATCH(E179,SignalHeads[Code],0))),IF(F179=\"\",0,INDEX(SignalHeads[Weight*** (lbs)],MATCH(F179,SignalHeads[Code],0))),IF(G179=\"\",0,INDEX(SignalHeads[Weight*** (lbs)],MATCH(G179,SignalHeads[Code],0))),IF(H179=\"\",0,INDEX(SignalHeads[Weight*** (lbs)],MATCH(H179,SignalHeads[Code],0))),IF(I179=\"\",0,INDEX(SignalHeads[Weight*** (lbs)],MATCH(I179,SignalHeads[Code],0))))","v":0},{"$f":"IF(A179<=$I$8,INDEX(DesignConstants[Value],MATCH(\"Span Wire Weight (plf)\",DesignConstants[Design Constant],0)),0)","v":1.155},0,177.29250000000002,{"$error":"#VALUE!"},{"$error":"#VALUE!"},{"$error":"#N/A"},{"$error":"#N/A"},{"$f":"SUM(IF(B179=\"\",0,INDEX(SignalHeads[Height ** (feet)],MATCH(B179,SignalHeads[Code],0))),IF(D179=\"\",0,INDEX(SignalHeads[Height ** (feet)],MATCH(D179,SignalHeads[Code],0))),IF(E179=\"\",0,INDEX(SignalHeads[Height ** (feet)],MATCH(E179,SignalHeads[Code],0))),IF(F179=\"\",0,INDEX(SignalHeads[Height ** (feet)],MATCH(F179,SignalHeads[Code],0))),IF(G179=\"\",0,INDEX(SignalHeads[Height ** (feet)],MATCH(G179,SignalHeads[Code],0))),IF(H179=\"\",0,INDEX(SignalHeads[Height ** (feet)],MATCH(H179,SignalHeads[Code],0))),IF(I179=\"\",0,INDEX(SignalHeads[Height ** (feet)],MATCH(I179,SignalHeads[Code],0))))","v":0},{"$f":"IF(S179=0,\"\",ROUNDDOWN(12*(((Q179-S179)-MIN($Q$26:$Q$425-$S$26:$S$425)-(MAX($S$26:$S$425*(($Q$26:$Q$425-$S$26:$S$425)=MIN($Q$26:$Q$425-$S$26:$S$425)))-S179))+(MIN($Q$26:$Q$425-$S$26:$S$425)-$I$10)),0)/12)","v":""},"",{"$error":"#N/A"},17]
[155,null,null,null,null,null,null,null,null,{"$f":"SUM(IF(B180=\"\",0,INDEX(SignalHeads[Perp. Wind Area (sft)],MATCH(B180,SignalHeads[Code],0))),IF(D180=\"\",0,INDEX(SignalHeads[Perp. Wind Area (sft)],MATCH(D180,SignalHeads[Code],0))),IF(E180=\"\",0,INDEX(SignalHeads[Perp. Wind Area (sft)],MATCH(E180,SignalHeads[Code],0))),IF(F180=\"\",0,INDEX(SignalHeads[Perp. Wind Area (sft)],MATCH(F180,SignalHeads[Code],0))),IF(G180=\"\",0,INDEX(SignalHeads[Perp. Wind Area (sft)],MATCH(G180,SignalHeads[Code],0))),IF(H180=\"\",0,INDEX(SignalHeads[Perp. Wind Area (sft)],MATCH(H180,SignalHeads[Code],0))),IF(I180=\"\",0,INDEX(SignalHeads[Perp. Wind Area (sft)],MATCH(I180,SignalHeads[Code],0))))","v":0},{"$f":"SUM(IF(B180=\"\",0,INDEX(SignalHeads[Weight*** (lbs)],MATCH(B180,SignalHeads[Code],0))),IF(D180=\"\",0,INDEX(SignalHeads[Weight*** (lbs)],MATCH(D180,SignalHeads[Code],0))),IF(E180=\"\",0,INDEX(SignalHeads[Weight*** (lbs)],MATCH(E180,SignalHeads[Code],0))),IF(F180=\"\",0,INDEX(SignalHeads[Weight*** (lbs)],MATCH(F180,SignalHeads[Code],0))),IF(G180=\"\",0,INDEX(SignalHeads[Weight*** (lbs)],MATCH(G180,SignalHeads[Code],0))),IF(H180=\"\",0,INDEX(SignalHeads[Weight*** (lbs)],MATCH(H180,SignalHeads[Code],0))),IF(I180=\"\",0,INDEX(SignalHeads[Weight*** (lbs)],MATCH(I180,SignalHeads[Code],0))))","v":0},{"$f":"IF(A180<=$I$8,INDEX(DesignConstants[Value],MATCH(\"Span Wire Weight (plf)\",DesignConstants[Design Constant],0)),0)","v":1.155},0,178.44749999999999,{"$error":"#VALUE!"},{"$error":"#VALUE!"},{"$error":"#N/A"},{"$error":"#N/A"},{"$f":"SUM(IF(B180=\"\",0,INDEX(SignalHeads[Height ** (feet)],MATCH(B180,SignalHeads[Code],0))),IF(D180=\"\",0,INDEX(SignalHeads[Height ** (feet)],MATCH(D180,SignalHeads[Code],0))),IF(E180=\"\",0,INDEX(SignalHeads[Height ** (feet)],MATCH(E180,SignalHeads[Code],0))),IF(F180=\"\",0,INDEX(SignalHeads[Height ** (feet)],MATCH(F180,SignalHeads[Code],0))),IF(G180=\"\",0,INDEX(SignalHeads[Height ** (feet)],MATCH(G180,SignalHeads[Code],0))),IF(H180=\"\",0,INDEX(SignalHeads[Height ** (feet)],MATCH(H180,SignalHeads[Code],0))),IF(I180=\"\",0,INDEX(SignalHeads[Height ** (feet)],MATCH(I180,SignalHeads[Code],0))))","v":0},{"$f":"IF(S180=0,\"\",ROUNDDOWN(12*(((Q180-S180)-MIN($Q$26:$Q$425-$S$26:$S$425)-(MAX($S$26:$S$425*(($Q$26:$Q$425-$S$26:$S$425)=MIN($Q$26:$Q$425-$S$26:$S$425)))-S180))+(MIN($Q$26:$Q$425-$S$26:$S$425)-$I$10)),0)/12)","v":""},"",{"$error":"#N/A"},17]
[156,null,null,null,null,null,null,null,null,{"$f":"SUM(IF(B181=\"\",0,INDEX(SignalHeads[Perp. Wind Area (sft)],MATCH(B181,SignalHeads[Code],0))),IF(D181=\"\",0,INDEX(SignalHeads[Perp. Wind Area (sft)],MATCH(D181,SignalHeads[Code],0))),IF(E181=\"\",0,INDEX(SignalHeads[Perp. Wind Area (sft)],MATCH(E181,SignalHeads[Code],0))),IF(F181=\"\",0,INDEX(SignalHeads[Perp. Wind Area (sft)],MATCH(F181,SignalHeads[Code],0))),IF(G181=\"\",0,INDEX(SignalHeads[Perp. Wind Area (sft)],MATCH(G181,SignalHeads[Code],0))),IF(H181=\"\",0,INDEX(SignalHeads[Perp. Wind Area (sft)],MATCH(H181,SignalHeads[Code],0))),IF(I181=\"\",0,INDEX(SignalHeads[Perp. Wind Area (sft)],MATCH(I181,SignalHeads[Code],0))))","v":0},{"$f":"SUM(IF(B181=\"\",0,INDEX(SignalHeads[Weight*** (lbs)],MATCH(B181,SignalHeads[Code],0))),IF(D181=\"\",0,INDEX(SignalHeads[Weight*** (lbs)],MATCH(D181,SignalHeads[Code],0))),IF(E181=\"\",0,INDEX(SignalHeads[Weight*** (lbs)],MATCH(E181,SignalHeads[Code],0))),IF(F181=\"\",0,INDEX(SignalHeads[Weight*** (lbs)],MATCH(F181,SignalHeads[Code],0))),IF(G181=\"\",0,INDEX(SignalHeads[Weight*** (lbs)],MATCH(G181,SignalHeads[Code],0))),IF(H181=\"\",0,INDEX(SignalHeads[Weight*** (lbs)],MATCH(H181,SignalHeads[Code],0))),IF(I181=\"\",0,INDEX(SignalHeads[Weight*** (lbs)],MATCH(I181,SignalHeads[Code],0))))","v":0},{"$f":"IF(A181<=$I$8,INDEX(DesignConstants[Value],MATCH(\"Span Wire Weight (plf)\",DesignConstants[Design Constant],0)),0)","v":1.155},0,179.60249999999999,{"$error":"#VALUE!"},{"$error":"#VALUE!"},{"$error":"#N/A"},{"$error":"#N/A"},{"$f":"SUM(IF(B181=\"\",0,INDEX(SignalHeads[Height ** (feet)],MATCH(B181,SignalHeads[Code],0))),IF(D181=\"\",0,INDEX(SignalHeads[Height ** (feet)],MATCH(D181,SignalHeads[Code],0))),IF(E181=\"\",0,INDEX(SignalHeads[Height ** (feet)],MATCH(E181,SignalHeads[Code],0))),IF(F181=\"\",0,INDEX(SignalHeads[Height ** (feet)],MATCH(F181,SignalHeads[Code],0))),IF(G181=\"\",0,INDEX(SignalHeads[Height ** (feet)],MATCH(G181,SignalHeads[Code],0))),IF(H181=\"\",0,INDEX(SignalHeads[Height ** (feet)],MATCH(H181,SignalHeads[Code],0))),IF(I181=\"\",0,INDEX(SignalHeads[Height ** (feet)],MATCH(I181,SignalHeads[Code],0))))","v":0},{"$f":"IF(S181=0,\"\",ROUNDDOWN(12*(((Q181-S181)-MIN($Q$26:$Q$425-$S$26:$S$425)-(MAX($S$26:$S$425*(($Q$26:$Q$425-$S$26:$S$425)=MIN($Q$26:$Q$425-$S$26:$S$425)))-S181))+(MIN($Q$26:$Q$425-$S$26:$S$425)-$I$10)),0)/12)","v":""},"",{"$error":"#N/A"},17]
[157,null,null,null,null,null,null,null,null,{"$f":"SUM(IF(B182=\"\",0,INDEX(SignalHeads[Perp. Wind Area (sft)],MATCH(B182,SignalHeads[Code],0))),IF(D182=\"\",0,INDEX(SignalHeads[Perp. Wind Area (sft)],MATCH(D182,SignalHeads[Code],0))),IF(E182=\"\",0,INDEX(SignalHeads[Perp. Wind Area (sft)],MATCH(E182,SignalHeads[Code],0))),IF(F182=\"\",0,INDEX(SignalHeads[Perp. Wind Area (sft)],MATCH(F182,SignalHeads[Code],0))),IF(G182=\"\",0,INDEX(SignalHeads[Perp. Wind Area (sft)],MATCH(G182,SignalHeads[Code],0))),IF(H182=\"\",0,INDEX(SignalHeads[Perp. Wind Area (sft)],MATCH(H182,SignalHeads[Code],0))),IF(I182=\"\",0,INDEX(SignalHeads[Perp. Wind Area (sft)],MATCH(I182,SignalHeads[Code],0))))","v":0},{"$f":"SUM(IF(B182=\"\",0,INDEX(SignalHeads[Weight*** (lbs)],MATCH(B182,SignalHeads[Code],0))),IF(D182=\"\",0,INDEX(SignalHeads[Weight*** (lbs)],MATCH(D182,SignalHeads[Code],0))),IF(E182=\"\",0,INDEX(SignalHeads[Weight*** (lbs)],MATCH(E182,SignalHeads[Code],0))),IF(F182=\"\",0,INDEX(SignalHeads[Weight*** (lbs)],MATCH(F182,SignalHeads[Code],0))),IF(G182=\"\",0,INDEX(SignalHeads[Weight*** (lbs)],MATCH(G182,SignalHeads[Code],0))),IF(H182=\"\",0,INDEX(SignalHeads[Weight*** (lbs)],MATCH(H182,SignalHeads[Code],0))),IF(I182=\"\",0,INDEX(SignalHeads[Weight*** (lbs)],MATCH(I182,SignalHeads[Code],0))))","v":0},{"$f":"IF(A182<=$I$8,INDEX(DesignConstants[Value],MATCH(\"Span Wire Weight (plf)\",DesignConstants[Design Constant],0)),0)","v":1.155},0,180.75749999999999,{"$error":"#VALUE!"},{"$error":"#VALUE!"},{"$error":"#N/A"},{"$error":"#N/A"},{"$f":"SUM(IF(B182=\"\",0,INDEX(SignalHeads[Height ** (feet)],MATCH(B182,SignalHeads[Code],0))),IF(D182=\"\",0,INDEX(SignalHeads[Height ** (feet)],MATCH(D182,SignalHeads[Code],0))),IF(E182=\"\",0,INDEX(SignalHeads[Height ** (feet)],MATCH(E182,SignalHeads[Code],0))),IF(F182=\"\",0,INDEX(SignalHeads[Height ** (feet)],MATCH(F182,SignalHeads[Code],0))),IF(G182=\"\",0,INDEX(SignalHeads[Height ** (feet)],MATCH(G182,SignalHeads[Code],0))),IF(H182=\"\",0,INDEX(SignalHeads[Height ** (feet)],MATCH(H182,SignalHeads[Code],0))),IF(I182=\"\",0,INDEX(SignalHeads[Height ** (feet)],MATCH(I182,SignalHeads[Code],0))))","v":0},{"$f":"IF(S182=0,\"\",ROUNDDOWN(12*(((Q182-S182)-MIN($Q$26:$Q$425-$S$26:$S$425)-(MAX($S$26:$S$425*(($Q$26:$Q$425-$S$26:$S$425)=MIN($Q$26:$Q$425-$S$26:$S$425)))-S182))+(MIN($Q$26:$Q$425-$S$26:$S$425)-$I$10)),0)/12)","v":""},"",{"$error":"#N/A"},17]
[158,null,null,null,null,null,null,null,null,{"$f":"SUM(IF(B183=\"\",0,INDEX(SignalHeads[Perp. Wind Area (sft)],MATCH(B183,SignalHeads[Code],0))),IF(D183=\"\",0,INDEX(SignalHeads[Perp. Wind Area (sft)],MATCH(D183,SignalHeads[Code],0))),IF(E183=\"\",0,INDEX(SignalHeads[Perp. Wind Area (sft)],MATCH(E183,SignalHeads[Code],0))),IF(F183=\"\",0,INDEX(SignalHeads[Perp. Wind Area (sft)],MATCH(F183,SignalHeads[Code],0))),IF(G183=\"\",0,INDEX(SignalHeads[Perp. Wind Area (sft)],MATCH(G183,SignalHeads[Code],0))),IF(H183=\"\",0,INDEX(SignalHeads[Perp. Wind Area (sft)],MATCH(H183,SignalHeads[Code],0))),IF(I183=\"\",0,INDEX(SignalHeads[Perp. Wind Area (sft)],MATCH(I183,SignalHeads[Code],0))))","v":0},{"$f":"SUM(IF(B183=\"\",0,INDEX(SignalHeads[Weight*** (lbs)],MATCH(B183,SignalHeads[Code],0))),IF(D183=\"\",0,INDEX(SignalHeads[Weight*** (lbs)],MATCH(D183,SignalHeads[Code],0))),IF(E183=\"\",0,INDEX(SignalHeads[Weight*** (lbs)],MATCH(E183,SignalHeads[Code],0))),IF(F183=\"\",0,INDEX(SignalHeads[Weight*** (lbs)],MATCH(F183,SignalHeads[Code],0))),IF(G183=\"\",0,INDEX(SignalHeads[Weight*** (lbs)],MATCH(G183,SignalHeads[Code],0))),IF(H183=\"\",0,INDEX(SignalHeads[Weight*** (lbs)],MATCH(H183,SignalHeads[Code],0))),IF(I183=\"\",0,INDEX(SignalHeads[Weight*** (lbs)],MATCH(I183,SignalHeads[Code],0))))","v":0},{"$f":"IF(A183<=$I$8,INDEX(DesignConstants[Value],MATCH(\"Span Wire Weight (plf)\",DesignConstants[Design Constant],0)),0)","v":1.155},0,181.91249999999999,{"$error":"#VALUE!"},{"$error":"#VALUE!"},{"$error":"#N/A"},{"$error":"#N/A"},{"$f":"SUM(IF(B183=\"\",0,INDEX(SignalHeads[Height ** (feet)],MATCH(B183,SignalHeads[Code],0))),IF(D183=\"\",0,INDEX(SignalHeads[Height ** (feet)],MATCH(D183,SignalHeads[Code],0))),IF(E183=\"\",0,INDEX(SignalHeads[Height ** (feet)],MATCH(E183,SignalHeads[Code],0))),IF(F183=\"\",0,INDEX(SignalHeads[Height ** (feet)],MATCH(F183,SignalHeads[Code],0))),IF(G183=\"\",0,INDEX(SignalHeads[Height ** (feet)],MATCH(G183,SignalHeads[Code],0))),IF(H183=\"\",0,INDEX(SignalHeads[Height ** (feet)],MATCH(H183,SignalHeads[Code],0))),IF(I183=\"\",0,INDEX(SignalHeads[Height ** (feet)],MATCH(I183,SignalHeads[Code],0))))","v":0},{"$f":"IF(S183=0,\"\",ROUNDDOWN(12*(((Q183-S183)-MIN($Q$26:$Q$425-$S$26:$S$425)-(MAX($S$26:$S$425*(($Q$26:$Q$425-$S$26:$S$425)=MIN($Q$26:$Q$425-$S$26:$S$425)))-S183))+(MIN($Q$26:$Q$425-$S$26:$S$425)-$I$10)),0)/12)","v":""},"",{"$error":"#N/A"},17]
[159,null,null,null,null,null,null,null,null,{"$f":"SUM(IF(B184=\"\",0,INDEX(SignalHeads[Perp. Wind Area (sft)],MATCH(B184,SignalHeads[Code],0))),IF(D184=\"\",0,INDEX(SignalHeads[Perp. Wind Area (sft)],MATCH(D184,SignalHeads[Code],0))),IF(E184=\"\",0,INDEX(SignalHeads[Perp. Wind Area (sft)],MATCH(E184,SignalHeads[Code],0))),IF(F184=\"\",0,INDEX(SignalHeads[Perp. Wind Area (sft)],MATCH(F184,SignalHeads[Code],0))),IF(G184=\"\",0,INDEX(SignalHeads[Perp. Wind Area (sft)],MATCH(G184,SignalHeads[Code],0))),IF(H184=\"\",0,INDEX(SignalHeads[Perp. Wind Area (sft)],MATCH(H184,SignalHeads[Code],0))),IF(I184=\"\",0,INDEX(SignalHeads[Perp. Wind Area (sft)],MATCH(I184,SignalHeads[Code],0))))","v":0},{"$f":"SUM(IF(B184=\"\",0,INDEX(SignalHeads[Weight*** (lbs)],MATCH(B184,SignalHeads[Code],0))),IF(D184=\"\",0,INDEX(SignalHeads[Weight*** (lbs)],MATCH(D184,SignalHeads[Code],0))),IF(E184=\"\",0,INDEX(SignalHeads[Weight*** (lbs)],MATCH(E184,SignalHeads[Code],0))),IF(F184=\"\",0,INDEX(SignalHeads[Weight*** (lbs)],MATCH(F184,SignalHeads[Code],0))),IF(G184=\"\",0,INDEX(SignalHeads[Weight*** (lbs)],MATCH(G184,SignalHeads[Code],0))),IF(H184=\"\",0,INDEX(SignalHeads[Weight*** (lbs)],MATCH(H184,SignalHeads[Code],0))),IF(I184=\"\",0,INDEX(SignalHeads[Weight*** (lbs)],MATCH(I184,SignalHeads[Code],0))))","v":0},{"$f":"IF(A184<=$I$8,INDEX(DesignConstants[Value],MATCH(\"Span Wire Weight (plf)\",DesignConstants[Design Constant],0)),0)","v":1.155},0,183.0675,{"$error":"#VALUE!"},{"$error":"#VALUE!"},{"$error":"#N/A"},{"$error":"#N/A"},{"$f":"SUM(IF(B184=\"\",0,INDEX(SignalHeads[Height ** (feet)],MATCH(B184,SignalHeads[Code],0))),IF(D184=\"\",0,INDEX(SignalHeads[Height ** (feet)],MATCH(D184,SignalHeads[Code],0))),IF(E184=\"\",0,INDEX(SignalHeads[Height ** (feet)],MATCH(E184,SignalHeads[Code],0))),IF(F184=\"\",0,INDEX(SignalHeads[Height ** (feet)],MATCH(F184,SignalHeads[Code],0))),IF(G184=\"\",0,INDEX(SignalHeads[Height ** (feet)],MATCH(G184,SignalHeads[Code],0))),IF(H184=\"\",0,INDEX(SignalHeads[Height ** (feet)],MATCH(H184,SignalHeads[Code],0))),IF(I184=\"\",0,INDEX(SignalHeads[Height ** (feet)],MATCH(I184,SignalHeads[Code],0))))","v":0},{"$f":"IF(S184=0,\"\",ROUNDDOWN(12*(((Q184-S184)-MIN($Q$26:$Q$425-$S$26:$S$425)-(MAX($S$26:$S$425*(($Q$26:$Q$425-$S$26:$S$425)=MIN($Q$26:$Q$425-$S$26:$S$425)))-S184))+(MIN($Q$26:$Q$425-$S$26:$S$425)-$I$10)),0)/12)","v":""},"",{"$error":"#N/A"},17]
[160,null,null,null,null,null,null,null,null,{"$f":"SUM(IF(B185=\"\",0,INDEX(SignalHeads[Perp. Wind Area (sft)],MATCH(B185,SignalHeads[Code],0))),IF(D185=\"\",0,INDEX(SignalHeads[Perp. Wind Area (sft)],MATCH(D185,SignalHeads[Code],0))),IF(E185=\"\",0,INDEX(SignalHeads[Perp. Wind Area (sft)],MATCH(E185,SignalHeads[Code],0))),IF(F185=\"\",0,INDEX(SignalHeads[Perp. Wind Area (sft)],MATCH(F185,SignalHeads[Code],0))),IF(G185=\"\",0,INDEX(SignalHeads[Perp. Wind Area (sft)],MATCH(G185,SignalHeads[Code],0))),IF(H185=\"\",0,INDEX(SignalHeads[Perp. Wind Area (sft)],MATCH(H185,SignalHeads[Code],0))),IF(I185=\"\",0,INDEX(SignalHeads[Perp. Wind Area (sft)],MATCH(I185,SignalHeads[Code],0))))","v":0},{"$f":"SUM(IF(B185=\"\",0,INDEX(SignalHeads[Weight*** (lbs)],MATCH(B185,SignalHeads[Code],0))),IF(D185=\"\",0,INDEX(SignalHeads[Weight*** (lbs)],MATCH(D185,SignalHeads[Code],0))),IF(E185=\"\",0,INDEX(SignalHeads[Weight*** (lbs)],MATCH(E185,SignalHeads[Code],0))),IF(F185=\"\",0,INDEX(SignalHeads[Weight*** (lbs)],MATCH(F185,SignalHeads[Code],0))),IF(G185=\"\",0,INDEX(SignalHeads[Weight*** (lbs)],MATCH(G185,SignalHeads[Code],0))),IF(H185=\"\",0,INDEX(SignalHeads[Weight*** (lbs)],MATCH(H185,SignalHeads[Code],0))),IF(I185=\"\",0,INDEX(SignalHeads[Weight*** (lbs)],MATCH(I185,SignalHeads[Code],0))))","v":0},{"$f":"IF(A185<=$I$8,INDEX(DesignConstants[Value],MATCH(\"Span Wire Weight (plf)\",DesignConstants[Design Constant],0)),0)","v":1.155},0,184.2225,{"$error":"#VALUE!"},{"$error":"#VALUE!"},{"$error":"#N/A"},{"$error":"#N/A"},{"$f":"SUM(IF(B185=\"\",0,INDEX(SignalHeads[Height ** (feet)],MATCH(B185,SignalHeads[Code],0))),IF(D185=\"\",0,INDEX(SignalHeads[Height ** (feet)],MATCH(D185,SignalHeads[Code],0))),IF(E185=\"\",0,INDEX(SignalHeads[Height ** (feet)],MATCH(E185,SignalHeads[Code],0))),IF(F185=\"\",0,INDEX(SignalHeads[Height ** (feet)],MATCH(F185,SignalHeads[Code],0))),IF(G185=\"\",0,INDEX(SignalHeads[Height ** (feet)],MATCH(G185,SignalHeads[Code],0))),IF(H185=\"\",0,INDEX(SignalHeads[Height ** (feet)],MATCH(H185,SignalHeads[Code],0))),IF(I185=\"\",0,INDEX(SignalHeads[Height ** (feet)],MATCH(I185,SignalHeads[Code],0))))","v":0},{"$f":"IF(S185=0,\"\",ROUNDDOWN(12*(((Q185-S185)-MIN($Q$26:$Q$425-$S$26:$S$425)-(MAX($S$26:$S$425*(($Q$26:$Q$425-$S$26:$S$425)=MIN($Q$26:$Q$425-$S$26:$S$425)))-S185))+(MIN($Q$26:$Q$425-$S$26:$S$425)-$I$10)),0)/12)","v":""},"",{"$error":"#N/A"},17]
[161,null,null,null,null,null,null,null,null,{"$f":"SUM(IF(B186=\"\",0,INDEX(SignalHeads[Perp. Wind Area (sft)],MATCH(B186,SignalHeads[Code],0))),IF(D186=\"\",0,INDEX(SignalHeads[Perp. Wind Area (sft)],MATCH(D186,SignalHeads[Code],0))),IF(E186=\"\",0,INDEX(SignalHeads[Perp. Wind Area (sft)],MATCH(E186,SignalHeads[Code],0))),IF(F186=\"\",0,INDEX(SignalHeads[Perp. Wind Area (sft)],MATCH(F186,SignalHeads[Code],0))),IF(G186=\"\",0,INDEX(SignalHeads[Perp. Wind Area (sft)],MATCH(G186,SignalHeads[Code],0))),IF(H186=\"\",0,INDEX(SignalHeads[Perp. Wind Area (sft)],MATCH(H186,SignalHeads[Code],0))),IF(I186=\"\",0,INDEX(SignalHeads[Perp. Wind Area (sft)],MATCH(I186,SignalHeads[Code],0))))","v":0},{"$f":"SUM(IF(B186=\"\",0,INDEX(SignalHeads[Weight*** (lbs)],MATCH(B186,SignalHeads[Code],0))),IF(D186=\"\",0,INDEX(SignalHeads[Weight*** (lbs)],MATCH(D186,SignalHeads[Code],0))),IF(E186=\"\",0,INDEX(SignalHeads[Weight*** (lbs)],MATCH(E186,SignalHeads[Code],0))),IF(F186=\"\",0,INDEX(SignalHeads[Weight*** (lbs)],MATCH(F186,SignalHeads[Code],0))),IF(G186=\"\",0,INDEX(SignalHeads[Weight*** (lbs)],MATCH(G186,SignalHeads[Code],0))),IF(H186=\"\",0,INDEX(SignalHeads[Weight*** (lbs)],MATCH(H186,SignalHeads[Code],0))),IF(I186=\"\",0,INDEX(SignalHeads[Weight*** (lbs)],MATCH(I186,SignalHeads[Code],0))))","v":0},{"$f":"IF(A186<=$I$8,INDEX(DesignConstants[Value],MATCH(\"Span Wire Weight (plf)\",DesignConstants[Design Constant],0)),0)","v":1.155},0,185.3775,{"$error":"#VALUE!"},{"$error":"#VALUE!"},{"$error":"#N/A"},{"$error":"#N/A"},{"$f":"SUM(IF(B186=\"\",0,INDEX(SignalHeads[Height ** (feet)],MATCH(B186,SignalHeads[Code],0))),IF(D186=\"\",0,INDEX(SignalHeads[Height ** (feet)],MATCH(D186,SignalHeads[Code],0))),IF(E186=\"\",0,INDEX(SignalHeads[Height ** (feet)],MATCH(E186,SignalHeads[Code],0))),IF(F186=\"\",0,INDEX(SignalHeads[Height ** (feet)],MATCH(F186,SignalHeads[Code],0))),IF(G186=\"\",0,INDEX(SignalHeads[Height ** (feet)],MATCH(G186,SignalHeads[Code],0))),IF(H186=\"\",0,INDEX(SignalHeads[Height ** (feet)],MATCH(H186,SignalHeads[Code],0))),IF(I186=\"\",0,INDEX(SignalHeads[Height ** (feet)],MATCH(I186,SignalHeads[Code],0))))","v":0},{"$f":"IF(S186=0,\"\",ROUNDDOWN(12*(((Q186-S186)-MIN($Q$26:$Q$425-$S$26:$S$425)-(MAX($S$26:$S$425*(($Q$26:$Q$425-$S$26:$S$425)=MIN($Q$26:$Q$425-$S$26:$S$425)))-S186))+(MIN($Q$26:$Q$425-$S$26:$S$425)-$I$10)),0)/12)","v":""},"",{"$error":"#N/A"},17]
[162,null,null,null,null,null,null,null,null,{"$f":"SUM(IF(B187=\"\",0,INDEX(SignalHeads[Perp. Wind Area (sft)],MATCH(B187,SignalHeads[Code],0))),IF(D187=\"\",0,INDEX(SignalHeads[Perp. Wind Area (sft)],MATCH(D187,SignalHeads[Code],0))),IF(E187=\"\",0,INDEX(SignalHeads[Perp. Wind Area (sft)],MATCH(E187,SignalHeads[Code],0))),IF(F187=\"\",0,INDEX(SignalHeads[Perp. Wind Area (sft)],MATCH(F187,SignalHeads[Code],0))),IF(G187=\"\",0,INDEX(SignalHeads[Perp. Wind Area (sft)],MATCH(G187,SignalHeads[Code],0))),IF(H187=\"\",0,INDEX(SignalHeads[Perp. Wind Area (sft)],MATCH(H187,SignalHeads[Code],0))),IF(I187=\"\",0,INDEX(SignalHeads[Perp. Wind Area (sft)],MATCH(I187,SignalHeads[Code],0))))","v":0},{"$f":"SUM(IF(B187=\"\",0,INDEX(SignalHeads[Weight*** (lbs)],MATCH(B187,SignalHeads[Code],0))),IF(D187=\"\",0,INDEX(SignalHeads[Weight*** (lbs)],MATCH(D187,SignalHeads[Code],0))),IF(E187=\"\",0,INDEX(SignalHeads[Weight*** (lbs)],MATCH(E187,SignalHeads[Code],0))),IF(F187=\"\",0,INDEX(SignalHeads[Weight*** (lbs)],MATCH(F187,SignalHeads[Code],0))),IF(G187=\"\",0,INDEX(SignalHeads[Weight*** (lbs)],MATCH(G187,SignalHeads[Code],0))),IF(H187=\"\",0,INDEX(SignalHeads[Weight*** (lbs)],MATCH(H187,SignalHeads[Code],0))),IF(I187=\"\",0,INDEX(SignalHeads[Weight*** (lbs)],MATCH(I187,SignalHeads[Code],0))))","v":0},{"$f":"IF(A187<=$I$8,INDEX(DesignConstants[Value],MATCH(\"Span Wire Weight (plf)\",DesignConstants[Design Constant],0)),0)","v":1.155},0,186.5325,{"$error":"#VALUE!"},{"$error":"#VALUE!"},{"$error":"#N/A"},{"$error":"#N/A"},{"$f":"SUM(IF(B187=\"\",0,INDEX(SignalHeads[Height ** (feet)],MATCH(B187,SignalHeads[Code],0))),IF(D187=\"\",0,INDEX(SignalHeads[Height ** (feet)],MATCH(D187,SignalHeads[Code],0))),IF(E187=\"\",0,INDEX(SignalHeads[Height ** (feet)],MATCH(E187,SignalHeads[Code],0))),IF(F187=\"\",0,INDEX(SignalHeads[Height ** (feet)],MATCH(F187,SignalHeads[Code],0))),IF(G187=\"\",0,INDEX(SignalHeads[Height ** (feet)],MATCH(G187,SignalHeads[Code],0))),IF(H187=\"\",0,INDEX(SignalHeads[Height ** (feet)],MATCH(H187,SignalHeads[Code],0))),IF(I187=\"\",0,INDEX(SignalHeads[Height ** (feet)],MATCH(I187,SignalHeads[Code],0))))","v":0},{"$f":"IF(S187=0,\"\",ROUNDDOWN(12*(((Q187-S187)-MIN($Q$26:$Q$425-$S$26:$S$425)-(MAX($S$26:$S$425*(($Q$26:$Q$425-$S$26:$S$425)=MIN($Q$26:$Q$425-$S$26:$S$425)))-S187))+(MIN($Q$26:$Q$425-$S$26:$S$425)-$I$10)),0)/12)","v":""},"",{"$error":"#N/A"},17]
[163,null,null,null,null,null,null,null,null,{"$f":"SUM(IF(B188=\"\",0,INDEX(SignalHeads[Perp. Wind Area (sft)],MATCH(B188,SignalHeads[Code],0))),IF(D188=\"\",0,INDEX(SignalHeads[Perp. Wind Area (sft)],MATCH(D188,SignalHeads[Code],0))),IF(E188=\"\",0,INDEX(SignalHeads[Perp. Wind Area (sft)],MATCH(E188,SignalHeads[Code],0))),IF(F188=\"\",0,INDEX(SignalHeads[Perp. Wind Area (sft)],MATCH(F188,SignalHeads[Code],0))),IF(G188=\"\",0,INDEX(SignalHeads[Perp. Wind Area (sft)],MATCH(G188,SignalHeads[Code],0))),IF(H188=\"\",0,INDEX(SignalHeads[Perp. Wind Area (sft)],MATCH(H188,SignalHeads[Code],0))),IF(I188=\"\",0,INDEX(SignalHeads[Perp. Wind Area (sft)],MATCH(I188,SignalHeads[Code],0))))","v":0},{"$f":"SUM(IF(B188=\"\",0,INDEX(SignalHeads[Weight*** (lbs)],MATCH(B188,SignalHeads[Code],0))),IF(D188=\"\",0,INDEX(SignalHeads[Weight*** (lbs)],MATCH(D188,SignalHeads[Code],0))),IF(E188=\"\",0,INDEX(SignalHeads[Weight*** (lbs)],MATCH(E188,SignalHeads[Code],0))),IF(F188=\"\",0,INDEX(SignalHeads[Weight*** (lbs)],MATCH(F188,SignalHeads[Code],0))),IF(G188=\"\",0,INDEX(SignalHeads[Weight*** (lbs)],MATCH(G188,SignalHeads[Code],0))),IF(H188=\"\",0,INDEX(SignalHeads[Weight*** (lbs)],MATCH(H188,SignalHeads[Code],0))),IF(I188=\"\",0,INDEX(SignalHeads[Weight*** (lbs)],MATCH(I188,SignalHeads[Code],0))))","v":0},{"$f":"IF(A188<=$I$8,INDEX(DesignConstants[Value],MATCH(\"Span Wire Weight (plf)\",DesignConstants[Design Constant],0)),0)","v":1.155},0,187.6875,{"$error":"#VALUE!"},{"$error":"#VALUE!"},{"$error":"#N/A"},{"$error":"#N/A"},{"$f":"SUM(IF(B188=\"\",0,INDEX(SignalHeads[Height ** (feet)],MATCH(B188,SignalHeads[Code],0))),IF(D188=\"\",0,INDEX(SignalHeads[Height ** (feet)],MATCH(D188,SignalHeads[Code],0))),IF(E188=\"\",0,INDEX(SignalHeads[Height ** (feet)],MATCH(E188,SignalHeads[Code],0))),IF(F188=\"\",0,INDEX(SignalHeads[Height ** (feet)],MATCH(F188,SignalHeads[Code],0))),IF(G188=\"\",0,INDEX(SignalHeads[Height ** (feet)],MATCH(G188,SignalHeads[Code],0))),IF(H188=\"\",0,INDEX(SignalHeads[Height ** (feet)],MATCH(H188,SignalHeads[Code],0))),IF(I188=\"\",0,INDEX(SignalHeads[Height ** (feet)],MATCH(I188,SignalHeads[Code],0))))","v":0},{"$f":"IF(S188=0,\"\",ROUNDDOWN(12*(((Q188-S188)-MIN($Q$26:$Q$425-$S$26:$S$425)-(MAX($S$26:$S$425*(($Q$26:$Q$425-$S$26:$S$425)=MIN($Q$26:$Q$425-$S$26:$S$425)))-S188))+(MIN($Q$26:$Q$425-$S$26:$S$425)-$I$10)),0)/12)","v":""},"",{"$error":"#N/A"},17]
[164,null,null,null,null,null,null,null,null,{"$f":"SUM(IF(B189=\"\",0,INDEX(SignalHeads[Perp. Wind Area (sft)],MATCH(B189,SignalHeads[Code],0))),IF(D189=\"\",0,INDEX(SignalHeads[Perp. Wind Area (sft)],MATCH(D189,SignalHeads[Code],0))),IF(E189=\"\",0,INDEX(SignalHeads[Perp. Wind Area (sft)],MATCH(E189,SignalHeads[Code],0))),IF(F189=\"\",0,INDEX(SignalHeads[Perp. Wind Area (sft)],MATCH(F189,SignalHeads[Code],0))),IF(G189=\"\",0,INDEX(SignalHeads[Perp. Wind Area (sft)],MATCH(G189,SignalHeads[Code],0))),IF(H189=\"\",0,INDEX(SignalHeads[Perp. Wind Area (sft)],MATCH(H189,SignalHeads[Code],0))),IF(I189=\"\",0,INDEX(SignalHeads[Perp. Wind Area (sft)],MATCH(I189,SignalHeads[Code],0))))","v":0},{"$f":"SUM(IF(B189=\"\",0,INDEX(SignalHeads[Weight*** (lbs)],MATCH(B189,SignalHeads[Code],0))),IF(D189=\"\",0,INDEX(SignalHeads[Weight*** (lbs)],MATCH(D189,SignalHeads[Code],0))),IF(E189=\"\",0,INDEX(SignalHeads[Weight*** (lbs)],MATCH(E189,SignalHeads[Code],0))),IF(F189=\"\",0,INDEX(SignalHeads[Weight*** (lbs)],MATCH(F189,SignalHeads[Code],0))),IF(G189=\"\",0,INDEX(SignalHeads[Weight*** (lbs)],MATCH(G189,SignalHeads[Code],0))),IF(H189=\"\",0,INDEX(SignalHeads[Weight*** (lbs)],MATCH(H189,SignalHeads[Code],0))),IF(I189=\"\",0,INDEX(SignalHeads[Weight*** (lbs)],MATCH(I189,SignalHeads[Code],0))))","v":0},{"$f":"IF(A189<=$I$8,INDEX(DesignConstants[Value],MATCH(\"Span Wire Weight (plf)\",DesignConstants[Design Constant],0)),0)","v":1.155},0,188.8425,{"$error":"#VALUE!"},{"$error":"#VALUE!"},{"$error":"#N/A"},{"$error":"#N/A"},{"$f":"SUM(IF(B189=\"\",0,INDEX(SignalHeads[Height ** (feet)],MATCH(B189,SignalHeads[Code],0))),IF(D189=\"\",0,INDEX(SignalHeads[Height ** (feet)],MATCH(D189,SignalHeads[Code],0))),IF(E189=\"\",0,INDEX(SignalHeads[Height ** (feet)],MATCH(E189,SignalHeads[Code],0))),IF(F189=\"\",0,INDEX(SignalHeads[Height ** (feet)],MATCH(F189,SignalHeads[Code],0))),IF(G189=\"\",0,INDEX(SignalHeads[Height ** (feet)],MATCH(G189,SignalHeads[Code],0))),IF(H189=\"\",0,INDEX(SignalHeads[Height ** (feet)],MATCH(H189,SignalHeads[Code],0))),IF(I189=\"\",0,INDEX(SignalHeads[Height ** (feet)],MATCH(I189,SignalHeads[Code],0))))","v":0},{"$f":"IF(S189=0,\"\",ROUNDDOWN(12*(((Q189-S189)-MIN($Q$26:$Q$425-$S$26:$S$425)-(MAX($S$26:$S$425*(($Q$26:$Q$425-$S$26:$S$425)=MIN($Q$26:$Q$425-$S$26:$S$425)))-S189))+(MIN($Q$26:$Q$425-$S$26:$S$425)-$I$10)),0)/12)","v":""},"",{"$error":"#N/A"},17]
[165,null,null,null,null,null,null,null,null,{"$f":"SUM(IF(B190=\"\",0,INDEX(SignalHeads[Perp. Wind Area (sft)],MATCH(B190,SignalHeads[Code],0))),IF(D190=\"\",0,INDEX(SignalHeads[Perp. Wind Area (sft)],MATCH(D190,SignalHeads[Code],0))),IF(E190=\"\",0,INDEX(SignalHeads[Perp. Wind Area (sft)],MATCH(E190,SignalHeads[Code],0))),IF(F190=\"\",0,INDEX(SignalHeads[Perp. Wind Area (sft)],MATCH(F190,SignalHeads[Code],0))),IF(G190=\"\",0,INDEX(SignalHeads[Perp. Wind Area (sft)],MATCH(G190,SignalHeads[Code],0))),IF(H190=\"\",0,INDEX(SignalHeads[Perp. Wind Area (sft)],MATCH(H190,SignalHeads[Code],0))),IF(I190=\"\",0,INDEX(SignalHeads[Perp. Wind Area (sft)],MATCH(I190,SignalHeads[Code],0))))","v":0},{"$f":"SUM(IF(B190=\"\",0,INDEX(SignalHeads[Weight*** (lbs)],MATCH(B190,SignalHeads[Code],0))),IF(D190=\"\",0,INDEX(SignalHeads[Weight*** (lbs)],MATCH(D190,SignalHeads[Code],0))),IF(E190=\"\",0,INDEX(SignalHeads[Weight*** (lbs)],MATCH(E190,SignalHeads[Code],0))),IF(F190=\"\",0,INDEX(SignalHeads[Weight*** (lbs)],MATCH(F190,SignalHeads[Code],0))),IF(G190=\"\",0,INDEX(SignalHeads[Weight*** (lbs)],MATCH(G190,SignalHeads[Code],0))),IF(H190=\"\",0,INDEX(SignalHeads[Weight*** (lbs)],MATCH(H190,SignalHeads[Code],0))),IF(I190=\"\",0,INDEX(SignalHeads[Weight*** (lbs)],MATCH(I190,SignalHeads[Code],0))))","v":0},{"$f":"IF(A190<=$I$8,INDEX(DesignConstants[Value],MATCH(\"Span Wire Weight (plf)\",DesignConstants[Design Constant],0)),0)","v":1.155},0,189.9975,{"$error":"#VALUE!"},{"$error":"#VALUE!"},{"$error":"#N/A"},{"$error":"#N/A"},{"$f":"SUM(IF(B190=\"\",0,INDEX(SignalHeads[Height ** (feet)],MATCH(B190,SignalHeads[Code],0))),IF(D190=\"\",0,INDEX(SignalHeads[Height ** (feet)],MATCH(D190,SignalHeads[Code],0))),IF(E190=\"\",0,INDEX(SignalHeads[Height ** (feet)],MATCH(E190,SignalHeads[Code],0))),IF(F190=\"\",0,INDEX(SignalHeads[Height ** (feet)],MATCH(F190,SignalHeads[Code],0))),IF(G190=\"\",0,INDEX(SignalHeads[Height ** (feet)],MATCH(G190,SignalHeads[Code],0))),IF(H190=\"\",0,INDEX(SignalHeads[Height ** (feet)],MATCH(H190,SignalHeads[Code],0))),IF(I190=\"\",0,INDEX(SignalHeads[Height ** (feet)],MATCH(I190,SignalHeads[Code],0))))","v":0},{"$f":"IF(S190=0,\"\",ROUNDDOWN(12*(((Q190-S190)-MIN($Q$26:$Q$425-$S$26:$S$425)-(MAX($S$26:$S$425*(($Q$26:$Q$425-$S$26:$S$425)=MIN($Q$26:$Q$425-$S$26:$S$425)))-S190))+(MIN($Q$26:$Q$425-$S$26:$S$425)-$I$10)),0)/12)","v":""},"",{"$error":"#N/A"},17]
[166,null,null,null,null,null,null,null,null,{"$f":"SUM(IF(B191=\"\",0,INDEX(SignalHeads[Perp. Wind Area (sft)],MATCH(B191,SignalHeads[Code],0))),IF(D191=\"\",0,INDEX(SignalHeads[Perp. Wind Area (sft)],MATCH(D191,SignalHeads[Code],0))),IF(E191=\"\",0,INDEX(SignalHeads[Perp. Wind Area (sft)],MATCH(E191,SignalHeads[Code],0))),IF(F191=\"\",0,INDEX(SignalHeads[Perp. Wind Area (sft)],MATCH(F191,SignalHeads[Code],0))),IF(G191=\"\",0,INDEX(SignalHeads[Perp. Wind Area (sft)],MATCH(G191,SignalHeads[Code],0))),IF(H191=\"\",0,INDEX(SignalHeads[Perp. Wind Area (sft)],MATCH(H191,SignalHeads[Code],0))),IF(I191=\"\",0,INDEX(SignalHeads[Perp. Wind Area (sft)],MATCH(I191,SignalHeads[Code],0))))","v":0},{"$f":"SUM(IF(B191=\"\",0,INDEX(SignalHeads[Weight*** (lbs)],MATCH(B191,SignalHeads[Code],0))),IF(D191=\"\",0,INDEX(SignalHeads[Weight*** (lbs)],MATCH(D191,SignalHeads[Code],0))),IF(E191=\"\",0,INDEX(SignalHeads[Weight*** (lbs)],MATCH(E191,SignalHeads[Code],0))),IF(F191=\"\",0,INDEX(SignalHeads[Weight*** (lbs)],MATCH(F191,SignalHeads[Code],0))),IF(G191=\"\",0,INDEX(SignalHeads[Weight*** (lbs)],MATCH(G191,SignalHeads[Code],0))),IF(H191=\"\",0,INDEX(SignalHeads[Weight*** (lbs)],MATCH(H191,SignalHeads[Code],0))),IF(I191=\"\",0,INDEX(SignalHeads[Weight*** (lbs)],MATCH(I191,SignalHeads[Code],0))))","v":0},{"$f":"IF(A191<=$I$8,INDEX(DesignConstants[Value],MATCH(\"Span Wire Weight (plf)\",DesignConstants[Design Constant],0)),0)","v":1.155},0,191.1525,{"$error":"#VALUE!"},{"$error":"#VALUE!"},{"$error":"#N/A"},{"$error":"#N/A"},{"$f":"SUM(IF(B191=\"\",0,INDEX(SignalHeads[Height ** (feet)],MATCH(B191,SignalHeads[Code],0))),IF(D191=\"\",0,INDEX(SignalHeads[Height ** (feet)],MATCH(D191,SignalHeads[Code],0))),IF(E191=\"\",0,INDEX(SignalHeads[Height ** (feet)],MATCH(E191,SignalHeads[Code],0))),IF(F191=\"\",0,INDEX(SignalHeads[Height ** (feet)],MATCH(F191,SignalHeads[Code],0))),IF(G191=\"\",0,INDEX(SignalHeads[Height ** (feet)],MATCH(G191,SignalHeads[Code],0))),IF(H191=\"\",0,INDEX(SignalHeads[Height ** (feet)],MATCH(H191,SignalHeads[Code],0))),IF(I191=\"\",0,INDEX(SignalHeads[Height ** (feet)],MATCH(I191,SignalHeads[Code],0))))","v":0},{"$f":"IF(S191=0,\"\",ROUNDDOWN(12*(((Q191-S191)-MIN($Q$26:$Q$425-$S$26:$S$425)-(MAX($S$26:$S$425*(($Q$26:$Q$425-$S$26:$S$425)=MIN($Q$26:$Q$425-$S$26:$S$425)))-S191))+(MIN($Q$26:$Q$425-$S$26:$S$425)-$I$10)),0)/12)","v":""},"",{"$error":"#N/A"},17]
[167,null,null,null,null,null,null,null,null,{"$f":"SUM(IF(B192=\"\",0,INDEX(SignalHeads[Perp. Wind Area (sft)],MATCH(B192,SignalHeads[Code],0))),IF(D192=\"\",0,INDEX(SignalHeads[Perp. Wind Area (sft)],MATCH(D192,SignalHeads[Code],0))),IF(E192=\"\",0,INDEX(SignalHeads[Perp. Wind Area (sft)],MATCH(E192,SignalHeads[Code],0))),IF(F192=\"\",0,INDEX(SignalHeads[Perp. Wind Area (sft)],MATCH(F192,SignalHeads[Code],0))),IF(G192=\"\",0,INDEX(SignalHeads[Perp. Wind Area (sft)],MATCH(G192,SignalHeads[Code],0))),IF(H192=\"\",0,INDEX(SignalHeads[Perp. Wind Area (sft)],MATCH(H192,SignalHeads[Code],0))),IF(I192=\"\",0,INDEX(SignalHeads[Perp. Wind Area (sft)],MATCH(I192,SignalHeads[Code],0))))","v":0},{"$f":"SUM(IF(B192=\"\",0,INDEX(SignalHeads[Weight*** (lbs)],MATCH(B192,SignalHeads[Code],0))),IF(D192=\"\",0,INDEX(SignalHeads[Weight*** (lbs)],MATCH(D192,SignalHeads[Code],0))),IF(E192=\"\",0,INDEX(SignalHeads[Weight*** (lbs)],MATCH(E192,SignalHeads[Code],0))),IF(F192=\"\",0,INDEX(SignalHeads[Weight*** (lbs)],MATCH(F192,SignalHeads[Code],0))),IF(G192=\"\",0,INDEX(SignalHeads[Weight*** (lbs)],MATCH(G192,SignalHeads[Code],0))),IF(H192=\"\",0,INDEX(SignalHeads[Weight*** (lbs)],MATCH(H192,SignalHeads[Code],0))),IF(I192=\"\",0,INDEX(SignalHeads[Weight*** (lbs)],MATCH(I192,SignalHeads[Code],0))))","v":0},{"$f":"IF(A192<=$I$8,INDEX(DesignConstants[Value],MATCH(\"Span Wire Weight (plf)\",DesignConstants[Design Constant],0)),0)","v":1.155},0,192.3075,{"$error":"#VALUE!"},{"$error":"#VALUE!"},{"$error":"#N/A"},{"$error":"#N/A"},{"$f":"SUM(IF(B192=\"\",0,INDEX(SignalHeads[Height ** (feet)],MATCH(B192,SignalHeads[Code],0))),IF(D192=\"\",0,INDEX(SignalHeads[Height ** (feet)],MATCH(D192,SignalHeads[Code],0))),IF(E192=\"\",0,INDEX(SignalHeads[Height ** (feet)],MATCH(E192,SignalHeads[Code],0))),IF(F192=\"\",0,INDEX(SignalHeads[Height ** (feet)],MATCH(F192,SignalHeads[Code],0))),IF(G192=\"\",0,INDEX(SignalHeads[Height ** (feet)],MATCH(G192,SignalHeads[Code],0))),IF(H192=\"\",0,INDEX(SignalHeads[Height ** (feet)],MATCH(H192,SignalHeads[Code],0))),IF(I192=\"\",0,INDEX(SignalHeads[Height ** (feet)],MATCH(I192,SignalHeads[Code],0))))","v":0},{"$f":"IF(S192=0,\"\",ROUNDDOWN(12*(((Q192-S192)-MIN($Q$26:$Q$425-$S$26:$S$425)-(MAX($S$26:$S$425*(($Q$26:$Q$425-$S$26:$S$425)=MIN($Q$26:$Q$425-$S$26:$S$425)))-S192))+(MIN($Q$26:$Q$425-$S$26:$S$425)-$I$10)),0)/12)","v":""},"",{"$error":"#N/A"},17]
[168,null,null,null,null,null,null,null,null,{"$f":"SUM(IF(B193=\"\",0,INDEX(SignalHeads[Perp. Wind Area (sft)],MATCH(B193,SignalHeads[Code],0))),IF(D193=\"\",0,INDEX(SignalHeads[Perp. Wind Area (sft)],MATCH(D193,SignalHeads[Code],0))),IF(E193=\"\",0,INDEX(SignalHeads[Perp. Wind Area (sft)],MATCH(E193,SignalHeads[Code],0))),IF(F193=\"\",0,INDEX(SignalHeads[Perp. Wind Area (sft)],MATCH(F193,SignalHeads[Code],0))),IF(G193=\"\",0,INDEX(SignalHeads[Perp. Wind Area (sft)],MATCH(G193,SignalHeads[Code],0))),IF(H193=\"\",0,INDEX(SignalHeads[Perp. Wind Area (sft)],MATCH(H193,SignalHeads[Code],0))),IF(I193=\"\",0,INDEX(SignalHeads[Perp. Wind Area (sft)],MATCH(I193,SignalHeads[Code],0))))","v":0},{"$f":"SUM(IF(B193=\"\",0,INDEX(SignalHeads[Weight*** (lbs)],MATCH(B193,SignalHeads[Code],0))),IF(D193=\"\",0,INDEX(SignalHeads[Weight*** (lbs)],MATCH(D193,SignalHeads[Code],0))),IF(E193=\"\",0,INDEX(SignalHeads[Weight*** (lbs)],MATCH(E193,SignalHeads[Code],0))),IF(F193=\"\",0,INDEX(SignalHeads[Weight*** (lbs)],MATCH(F193,SignalHeads[Code],0))),IF(G193=\"\",0,INDEX(SignalHeads[Weight*** (lbs)],MATCH(G193,SignalHeads[Code],0))),IF(H193=\"\",0,INDEX(SignalHeads[Weight*** (lbs)],MATCH(H193,SignalHeads[Code],0))),IF(I193=\"\",0,INDEX(SignalHeads[Weight*** (lbs)],MATCH(I193,SignalHeads[Code],0))))","v":0},{"$f":"IF(A193<=$I$8,INDEX(DesignConstants[Value],MATCH(\"Span Wire Weight (plf)\",DesignConstants[Design Constant],0)),0)","v":1.155},0,193.46250000000001,{"$error":"#VALUE!"},{"$error":"#VALUE!"},{"$error":"#N/A"},{"$error":"#N/A"},{"$f":"SUM(IF(B193=\"\",0,INDEX(SignalHeads[Height ** (feet)],MATCH(B193,SignalHeads[Code],0))),IF(D193=\"\",0,INDEX(SignalHeads[Height ** (feet)],MATCH(D193,SignalHeads[Code],0))),IF(E193=\"\",0,INDEX(SignalHeads[Height ** (feet)],MATCH(E193,SignalHeads[Code],0))),IF(F193=\"\",0,INDEX(SignalHeads[Height ** (feet)],MATCH(F193,SignalHeads[Code],0))),IF(G193=\"\",0,INDEX(SignalHeads[Height ** (feet)],MATCH(G193,SignalHeads[Code],0))),IF(H193=\"\",0,INDEX(SignalHeads[Height ** (feet)],MATCH(H193,SignalHeads[Code],0))),IF(I193=\"\",0,INDEX(SignalHeads[Height ** (feet)],MATCH(I193,SignalHeads[Code],0))))","v":0},{"$f":"IF(S193=0,\"\",ROUNDDOWN(12*(((Q193-S193)-MIN($Q$26:$Q$425-$S$26:$S$425)-(MAX($S$26:$S$425*(($Q$26:$Q$425-$S$26:$S$425)=MIN($Q$26:$Q$425-$S$26:$S$425)))-S193))+(MIN($Q$26:$Q$425-$S$26:$S$425)-$I$10)),0)/12)","v":""},"",{"$error":"#N/A"},17]
[169,null,null,null,null,null,null,null,null,{"$f":"SUM(IF(B194=\"\",0,INDEX(SignalHeads[Perp. Wind Area (sft)],MATCH(B194,SignalHeads[Code],0))),IF(D194=\"\",0,INDEX(SignalHeads[Perp. Wind Area (sft)],MATCH(D194,SignalHeads[Code],0))),IF(E194=\"\",0,INDEX(SignalHeads[Perp. Wind Area (sft)],MATCH(E194,SignalHeads[Code],0))),IF(F194=\"\",0,INDEX(SignalHeads[Perp. Wind Area (sft)],MATCH(F194,SignalHeads[Code],0))),IF(G194=\"\",0,INDEX(SignalHeads[Perp. Wind Area (sft)],MATCH(G194,SignalHeads[Code],0))),IF(H194=\"\",0,INDEX(SignalHeads[Perp. Wind Area (sft)],MATCH(H194,SignalHeads[Code],0))),IF(I194=\"\",0,INDEX(SignalHeads[Perp. Wind Area (sft)],MATCH(I194,SignalHeads[Code],0))))","v":0},{"$f":"SUM(IF(B194=\"\",0,INDEX(SignalHeads[Weight*** (lbs)],MATCH(B194,SignalHeads[Code],0))),IF(D194=\"\",0,INDEX(SignalHeads[Weight*** (lbs)],MATCH(D194,SignalHeads[Code],0))),IF(E194=\"\",0,INDEX(SignalHeads[Weight*** (lbs)],MATCH(E194,SignalHeads[Code],0))),IF(F194=\"\",0,INDEX(SignalHeads[Weight*** (lbs)],MATCH(F194,SignalHeads[Code],0))),IF(G194=\"\",0,INDEX(SignalHeads[Weight*** (lbs)],MATCH(G194,SignalHeads[Code],0))),IF(H194=\"\",0,INDEX(SignalHeads[Weight*** (lbs)],MATCH(H194,SignalHeads[Code],0))),IF(I194=\"\",0,INDEX(SignalHeads[Weight*** (lbs)],MATCH(I194,SignalHeads[Code],0))))","v":0},{"$f":"IF(A194<=$I$8,INDEX(DesignConstants[Value],MATCH(\"Span Wire Weight (plf)\",DesignConstants[Design Constant],0)),0)","v":1.155},0,194.61750000000001,{"$error":"#VALUE!"},{"$error":"#VALUE!"},{"$error":"#N/A"},{"$error":"#N/A"},{"$f":"SUM(IF(B194=\"\",0,INDEX(SignalHeads[Height ** (feet)],MATCH(B194,SignalHeads[Code],0))),IF(D194=\"\",0,INDEX(SignalHeads[Height ** (feet)],MATCH(D194,SignalHeads[Code],0))),IF(E194=\"\",0,INDEX(SignalHeads[Height ** (feet)],MATCH(E194,SignalHeads[Code],0))),IF(F194=\"\",0,INDEX(SignalHeads[Height ** (feet)],MATCH(F194,SignalHeads[Code],0))),IF(G194=\"\",0,INDEX(SignalHeads[Height ** (feet)],MATCH(G194,SignalHeads[Code],0))),IF(H194=\"\",0,INDEX(SignalHeads[Height ** (feet)],MATCH(H194,SignalHeads[Code],0))),IF(I194=\"\",0,INDEX(SignalHeads[Height ** (feet)],MATCH(I194,SignalHeads[Code],0))))","v":0},{"$f":"IF(S194=0,\"\",ROUNDDOWN(12*(((Q194-S194)-MIN($Q$26:$Q$425-$S$26:$S$425)-(MAX($S$26:$S$425*(($Q$26:$Q$425-$S$26:$S$425)=MIN($Q$26:$Q$425-$S$26:$S$425)))-S194))+(MIN($Q$26:$Q$425-$S$26:$S$425)-$I$10)),0)/12)","v":""},"",{"$error":"#N/A"},17]
[170,null,null,null,null,null,null,null,null,{"$f":"SUM(IF(B195=\"\",0,INDEX(SignalHeads[Perp. Wind Area (sft)],MATCH(B195,SignalHeads[Code],0))),IF(D195=\"\",0,INDEX(SignalHeads[Perp. Wind Area (sft)],MATCH(D195,SignalHeads[Code],0))),IF(E195=\"\",0,INDEX(SignalHeads[Perp. Wind Area (sft)],MATCH(E195,SignalHeads[Code],0))),IF(F195=\"\",0,INDEX(SignalHeads[Perp. Wind Area (sft)],MATCH(F195,SignalHeads[Code],0))),IF(G195=\"\",0,INDEX(SignalHeads[Perp. Wind Area (sft)],MATCH(G195,SignalHeads[Code],0))),IF(H195=\"\",0,INDEX(SignalHeads[Perp. Wind Area (sft)],MATCH(H195,SignalHeads[Code],0))),IF(I195=\"\",0,INDEX(SignalHeads[Perp. Wind Area (sft)],MATCH(I195,SignalHeads[Code],0))))","v":0},{"$f":"SUM(IF(B195=\"\",0,INDEX(SignalHeads[Weight*** (lbs)],MATCH(B195,SignalHeads[Code],0))),IF(D195=\"\",0,INDEX(SignalHeads[Weight*** (lbs)],MATCH(D195,SignalHeads[Code],0))),IF(E195=\"\",0,INDEX(SignalHeads[Weight*** (lbs)],MATCH(E195,SignalHeads[Code],0))),IF(F195=\"\",0,INDEX(SignalHeads[Weight*** (lbs)],MATCH(F195,SignalHeads[Code],0))),IF(G195=\"\",0,INDEX(SignalHeads[Weight*** (lbs)],MATCH(G195,SignalHeads[Code],0))),IF(H195=\"\",0,INDEX(SignalHeads[Weight*** (lbs)],MATCH(H195,SignalHeads[Code],0))),IF(I195=\"\",0,INDEX(SignalHeads[Weight*** (lbs)],MATCH(I195,SignalHeads[Code],0))))","v":0},{"$f":"IF(A195<=$I$8,INDEX(DesignConstants[Value],MATCH(\"Span Wire Weight (plf)\",DesignConstants[Design Constant],0)),0)","v":1.155},0,195.77250000000001,{"$error":"#VALUE!"},{"$error":"#VALUE!"},{"$error":"#N/A"},{"$error":"#N/A"},{"$f":"SUM(IF(B195=\"\",0,INDEX(SignalHeads[Height ** (feet)],MATCH(B195,SignalHeads[Code],0))),IF(D195=\"\",0,INDEX(SignalHeads[Height ** (feet)],MATCH(D195,SignalHeads[Code],0))),IF(E195=\"\",0,INDEX(SignalHeads[Height ** (feet)],MATCH(E195,SignalHeads[Code],0))),IF(F195=\"\",0,INDEX(SignalHeads[Height ** (feet)],MATCH(F195,SignalHeads[Code],0))),IF(G195=\"\",0,INDEX(SignalHeads[Height ** (feet)],MATCH(G195,SignalHeads[Code],0))),IF(H195=\"\",0,INDEX(SignalHeads[Height ** (feet)],MATCH(H195,SignalHeads[Code],0))),IF(I195=\"\",0,INDEX(SignalHeads[Height ** (feet)],MATCH(I195,SignalHeads[Code],0))))","v":0},{"$f":"IF(S195=0,\"\",ROUNDDOWN(12*(((Q195-S195)-MIN($Q$26:$Q$425-$S$26:$S$425)-(MAX($S$26:$S$425*(($Q$26:$Q$425-$S$26:$S$425)=MIN($Q$26:$Q$425-$S$26:$S$425)))-S195))+(MIN($Q$26:$Q$425-$S$26:$S$425)-$I$10)),0)/12)","v":""},"",{"$error":"#N/A"},17]
[171,null,null,null,null,null,null,null,null,{"$f":"SUM(IF(B196=\"\",0,INDEX(SignalHeads[Perp. Wind Area (sft)],MATCH(B196,SignalHeads[Code],0))),IF(D196=\"\",0,INDEX(SignalHeads[Perp. Wind Area (sft)],MATCH(D196,SignalHeads[Code],0))),IF(E196=\"\",0,INDEX(SignalHeads[Perp. Wind Area (sft)],MATCH(E196,SignalHeads[Code],0))),IF(F196=\"\",0,INDEX(SignalHeads[Perp. Wind Area (sft)],MATCH(F196,SignalHeads[Code],0))),IF(G196=\"\",0,INDEX(SignalHeads[Perp. Wind Area (sft)],MATCH(G196,SignalHeads[Code],0))),IF(H196=\"\",0,INDEX(SignalHeads[Perp. Wind Area (sft)],MATCH(H196,SignalHeads[Code],0))),IF(I196=\"\",0,INDEX(SignalHeads[Perp. Wind Area (sft)],MATCH(I196,SignalHeads[Code],0))))","v":0},{"$f":"SUM(IF(B196=\"\",0,INDEX(SignalHeads[Weight*** (lbs)],MATCH(B196,SignalHeads[Code],0))),IF(D196=\"\",0,INDEX(SignalHeads[Weight*** (lbs)],MATCH(D196,SignalHeads[Code],0))),IF(E196=\"\",0,INDEX(SignalHeads[Weight*** (lbs)],MATCH(E196,SignalHeads[Code],0))),IF(F196=\"\",0,INDEX(SignalHeads[Weight*** (lbs)],MATCH(F196,SignalHeads[Code],0))),IF(G196=\"\",0,INDEX(SignalHeads[Weight*** (lbs)],MATCH(G196,SignalHeads[Code],0))),IF(H196=\"\",0,INDEX(SignalHeads[Weight*** (lbs)],MATCH(H196,SignalHeads[Code],0))),IF(I196=\"\",0,INDEX(SignalHeads[Weight*** (lbs)],MATCH(I196,SignalHeads[Code],0))))","v":0},{"$f":"IF(A196<=$I$8,INDEX(DesignConstants[Value],MATCH(\"Span Wire Weight (plf)\",DesignConstants[Design Constant],0)),0)","v":1.155},0,196.92750000000001,{"$error":"#VALUE!"},{"$error":"#VALUE!"},{"$error":"#N/A"},{"$error":"#N/A"},{"$f":"SUM(IF(B196=\"\",0,INDEX(SignalHeads[Height ** (feet)],MATCH(B196,SignalHeads[Code],0))),IF(D196=\"\",0,INDEX(SignalHeads[Height ** (feet)],MATCH(D196,SignalHeads[Code],0))),IF(E196=\"\",0,INDEX(SignalHeads[Height ** (feet)],MATCH(E196,SignalHeads[Code],0))),IF(F196=\"\",0,INDEX(SignalHeads[Height ** (feet)],MATCH(F196,SignalHeads[Code],0))),IF(G196=\"\",0,INDEX(SignalHeads[Height ** (feet)],MATCH(G196,SignalHeads[Code],0))),IF(H196=\"\",0,INDEX(SignalHeads[Height ** (feet)],MATCH(H196,SignalHeads[Code],0))),IF(I196=\"\",0,INDEX(SignalHeads[Height ** (feet)],MATCH(I196,SignalHeads[Code],0))))","v":0},{"$f":"IF(S196=0,\"\",ROUNDDOWN(12*(((Q196-S196)-MIN($Q$26:$Q$425-$S$26:$S$425)-(MAX($S$26:$S$425*(($Q$26:$Q$425-$S$26:$S$425)=MIN($Q$26:$Q$425-$S$26:$S$425)))-S196))+(MIN($Q$26:$Q$425-$S$26:$S$425)-$I$10)),0)/12)","v":""},"",{"$error":"#N/A"},17]
[172,null,null,null,null,null,null,null,null,{"$f":"SUM(IF(B197=\"\",0,INDEX(SignalHeads[Perp. Wind Area (sft)],MATCH(B197,SignalHeads[Code],0))),IF(D197=\"\",0,INDEX(SignalHeads[Perp. Wind Area (sft)],MATCH(D197,SignalHeads[Code],0))),IF(E197=\"\",0,INDEX(SignalHeads[Perp. Wind Area (sft)],MATCH(E197,SignalHeads[Code],0))),IF(F197=\"\",0,INDEX(SignalHeads[Perp. Wind Area (sft)],MATCH(F197,SignalHeads[Code],0))),IF(G197=\"\",0,INDEX(SignalHeads[Perp. Wind Area (sft)],MATCH(G197,SignalHeads[Code],0))),IF(H197=\"\",0,INDEX(SignalHeads[Perp. Wind Area (sft)],MATCH(H197,SignalHeads[Code],0))),IF(I197=\"\",0,INDEX(SignalHeads[Perp. Wind Area (sft)],MATCH(I197,SignalHeads[Code],0))))","v":0},{"$f":"SUM(IF(B197=\"\",0,INDEX(SignalHeads[Weight*** (lbs)],MATCH(B197,SignalHeads[Code],0))),IF(D197=\"\",0,INDEX(SignalHeads[Weight*** (lbs)],MATCH(D197,SignalHeads[Code],0))),IF(E197=\"\",0,INDEX(SignalHeads[Weight*** (lbs)],MATCH(E197,SignalHeads[Code],0))),IF(F197=\"\",0,INDEX(SignalHeads[Weight*** (lbs)],MATCH(F197,SignalHeads[Code],0))),IF(G197=\"\",0,INDEX(SignalHeads[Weight*** (lbs)],MATCH(G197,SignalHeads[Code],0))),IF(H197=\"\",0,INDEX(SignalHeads[Weight*** (lbs)],MATCH(H197,SignalHeads[Code],0))),IF(I197=\"\",0,INDEX(SignalHeads[Weight*** (lbs)],MATCH(I197,SignalHeads[Code],0))))","v":0},{"$f":"IF(A197<=$I$8,INDEX(DesignConstants[Value],MATCH(\"Span Wire Weight (plf)\",DesignConstants[Design Constant],0)),0)","v":1.155},0,198.08250000000001,{"$error":"#VALUE!"},{"$error":"#VALUE!"},{"$error":"#N/A"},{"$error":"#N/A"},{"$f":"SUM(IF(B197=\"\",0,INDEX(SignalHeads[Height ** (feet)],MATCH(B197,SignalHeads[Code],0))),IF(D197=\"\",0,INDEX(SignalHeads[Height ** (feet)],MATCH(D197,SignalHeads[Code],0))),IF(E197=\"\",0,INDEX(SignalHeads[Height ** (feet)],MATCH(E197,SignalHeads[Code],0))),IF(F197=\"\",0,INDEX(SignalHeads[Height ** (feet)],MATCH(F197,SignalHeads[Code],0))),IF(G197=\"\",0,INDEX(SignalHeads[Height ** (feet)],MATCH(G197,SignalHeads[Code],0))),IF(H197=\"\",0,INDEX(SignalHeads[Height ** (feet)],MATCH(H197,SignalHeads[Code],0))),IF(I197=\"\",0,INDEX(SignalHeads[Height ** (feet)],MATCH(I197,SignalHeads[Code],0))))","v":0},{"$f":"IF(S197=0,\"\",ROUNDDOWN(12*(((Q197-S197)-MIN($Q$26:$Q$425-$S$26:$S$425)-(MAX($S$26:$S$425*(($Q$26:$Q$425-$S$26:$S$425)=MIN($Q$26:$Q$425-$S$26:$S$425)))-S197))+(MIN($Q$26:$Q$425-$S$26:$S$425)-$I$10)),0)/12)","v":""},"",{"$error":"#N/A"},17]
[173,null,null,null,null,null,null,null,null,{"$f":"SUM(IF(B198=\"\",0,INDEX(SignalHeads[Perp. Wind Area (sft)],MATCH(B198,SignalHeads[Code],0))),IF(D198=\"\",0,INDEX(SignalHeads[Perp. Wind Area (sft)],MATCH(D198,SignalHeads[Code],0))),IF(E198=\"\",0,INDEX(SignalHeads[Perp. Wind Area (sft)],MATCH(E198,SignalHeads[Code],0))),IF(F198=\"\",0,INDEX(SignalHeads[Perp. Wind Area (sft)],MATCH(F198,SignalHeads[Code],0))),IF(G198=\"\",0,INDEX(SignalHeads[Perp. Wind Area (sft)],MATCH(G198,SignalHeads[Code],0))),IF(H198=\"\",0,INDEX(SignalHeads[Perp. Wind Area (sft)],MATCH(H198,SignalHeads[Code],0))),IF(I198=\"\",0,INDEX(SignalHeads[Perp. Wind Area (sft)],MATCH(I198,SignalHeads[Code],0))))","v":0},{"$f":"SUM(IF(B198=\"\",0,INDEX(SignalHeads[Weight*** (lbs)],MATCH(B198,SignalHeads[Code],0))),IF(D198=\"\",0,INDEX(SignalHeads[Weight*** (lbs)],MATCH(D198,SignalHeads[Code],0))),IF(E198=\"\",0,INDEX(SignalHeads[Weight*** (lbs)],MATCH(E198,SignalHeads[Code],0))),IF(F198=\"\",0,INDEX(SignalHeads[Weight*** (lbs)],MATCH(F198,SignalHeads[Code],0))),IF(G198=\"\",0,INDEX(SignalHeads[Weight*** (lbs)],MATCH(G198,SignalHeads[Code],0))),IF(H198=\"\",0,INDEX(SignalHeads[Weight*** (lbs)],MATCH(H198,SignalHeads[Code],0))),IF(I198=\"\",0,INDEX(SignalHeads[Weight*** (lbs)],MATCH(I198,SignalHeads[Code],0))))","v":0},{"$f":"IF(A198<=$I$8,INDEX(DesignConstants[Value],MATCH(\"Span Wire Weight (plf)\",DesignConstants[Design Constant],0)),0)","v":1.155},0,199.23750000000001,{"$error":"#VALUE!"},{"$error":"#VALUE!"},{"$error":"#N/A"},{"$error":"#N/A"},{"$f":"SUM(IF(B198=\"\",0,INDEX(SignalHeads[Height ** (feet)],MATCH(B198,SignalHeads[Code],0))),IF(D198=\"\",0,INDEX(SignalHeads[Height ** (feet)],MATCH(D198,SignalHeads[Code],0))),IF(E198=\"\",0,INDEX(SignalHeads[Height ** (feet)],MATCH(E198,SignalHeads[Code],0))),IF(F198=\"\",0,INDEX(SignalHeads[Height ** (feet)],MATCH(F198,SignalHeads[Code],0))),IF(G198=\"\",0,INDEX(SignalHeads[Height ** (feet)],MATCH(G198,SignalHeads[Code],0))),IF(H198=\"\",0,INDEX(SignalHeads[Height ** (feet)],MATCH(H198,SignalHeads[Code],0))),IF(I198=\"\",0,INDEX(SignalHeads[Height ** (feet)],MATCH(I198,SignalHeads[Code],0))))","v":0},{"$f":"IF(S198=0,\"\",ROUNDDOWN(12*(((Q198-S198)-MIN($Q$26:$Q$425-$S$26:$S$425)-(MAX($S$26:$S$425*(($Q$26:$Q$425-$S$26:$S$425)=MIN($Q$26:$Q$425-$S$26:$S$425)))-S198))+(MIN($Q$26:$Q$425-$S$26:$S$425)-$I$10)),0)/12)","v":""},"",{"$error":"#N/A"},17]
[174,null,null,null,null,null,null,null,null,{"$f":"SUM(IF(B199=\"\",0,INDEX(SignalHeads[Perp. Wind Area (sft)],MATCH(B199,SignalHeads[Code],0))),IF(D199=\"\",0,INDEX(SignalHeads[Perp. Wind Area (sft)],MATCH(D199,SignalHeads[Code],0))),IF(E199=\"\",0,INDEX(SignalHeads[Perp. Wind Area (sft)],MATCH(E199,SignalHeads[Code],0))),IF(F199=\"\",0,INDEX(SignalHeads[Perp. Wind Area (sft)],MATCH(F199,SignalHeads[Code],0))),IF(G199=\"\",0,INDEX(SignalHeads[Perp. Wind Area (sft)],MATCH(G199,SignalHeads[Code],0))),IF(H199=\"\",0,INDEX(SignalHeads[Perp. Wind Area (sft)],MATCH(H199,SignalHeads[Code],0))),IF(I199=\"\",0,INDEX(SignalHeads[Perp. Wind Area (sft)],MATCH(I199,SignalHeads[Code],0))))","v":0},{"$f":"SUM(IF(B199=\"\",0,INDEX(SignalHeads[Weight*** (lbs)],MATCH(B199,SignalHeads[Code],0))),IF(D199=\"\",0,INDEX(SignalHeads[Weight*** (lbs)],MATCH(D199,SignalHeads[Code],0))),IF(E199=\"\",0,INDEX(SignalHeads[Weight*** (lbs)],MATCH(E199,SignalHeads[Code],0))),IF(F199=\"\",0,INDEX(SignalHeads[Weight*** (lbs)],MATCH(F199,SignalHeads[Code],0))),IF(G199=\"\",0,INDEX(SignalHeads[Weight*** (lbs)],MATCH(G199,SignalHeads[Code],0))),IF(H199=\"\",0,INDEX(SignalHeads[Weight*** (lbs)],MATCH(H199,SignalHeads[Code],0))),IF(I199=\"\",0,INDEX(SignalHeads[Weight*** (lbs)],MATCH(I199,SignalHeads[Code],0))))","v":0},{"$f":"IF(A199<=$I$8,INDEX(DesignConstants[Value],MATCH(\"Span Wire Weight (plf)\",DesignConstants[Design Constant],0)),0)","v":1.155},0,200.39250000000001,{"$error":"#VALUE!"},{"$error":"#VALUE!"},{"$error":"#N/A"},{"$error":"#N/A"},{"$f":"SUM(IF(B199=\"\",0,INDEX(SignalHeads[Height ** (feet)],MATCH(B199,SignalHeads[Code],0))),IF(D199=\"\",0,INDEX(SignalHeads[Height ** (feet)],MATCH(D199,SignalHeads[Code],0))),IF(E199=\"\",0,INDEX(SignalHeads[Height ** (feet)],MATCH(E199,SignalHeads[Code],0))),IF(F199=\"\",0,INDEX(SignalHeads[Height ** (feet)],MATCH(F199,SignalHeads[Code],0))),IF(G199=\"\",0,INDEX(SignalHeads[Height ** (feet)],MATCH(G199,SignalHeads[Code],0))),IF(H199=\"\",0,INDEX(SignalHeads[Height ** (feet)],MATCH(H199,SignalHeads[Code],0))),IF(I199=\"\",0,INDEX(SignalHeads[Height ** (feet)],MATCH(I199,SignalHeads[Code],0))))","v":0},{"$f":"IF(S199=0,\"\",ROUNDDOWN(12*(((Q199-S199)-MIN($Q$26:$Q$425-$S$26:$S$425)-(MAX($S$26:$S$425*(($Q$26:$Q$425-$S$26:$S$425)=MIN($Q$26:$Q$425-$S$26:$S$425)))-S199))+(MIN($Q$26:$Q$425-$S$26:$S$425)-$I$10)),0)/12)","v":""},"",{"$error":"#N/A"},17]
[175,null,null,null,null,null,null,null,null,{"$f":"SUM(IF(B200=\"\",0,INDEX(SignalHeads[Perp. Wind Area (sft)],MATCH(B200,SignalHeads[Code],0))),IF(D200=\"\",0,INDEX(SignalHeads[Perp. Wind Area (sft)],MATCH(D200,SignalHeads[Code],0))),IF(E200=\"\",0,INDEX(SignalHeads[Perp. Wind Area (sft)],MATCH(E200,SignalHeads[Code],0))),IF(F200=\"\",0,INDEX(SignalHeads[Perp. Wind Area (sft)],MATCH(F200,SignalHeads[Code],0))),IF(G200=\"\",0,INDEX(SignalHeads[Perp. Wind Area (sft)],MATCH(G200,SignalHeads[Code],0))),IF(H200=\"\",0,INDEX(SignalHeads[Perp. Wind Area (sft)],MATCH(H200,SignalHeads[Code],0))),IF(I200=\"\",0,INDEX(SignalHeads[Perp. Wind Area (sft)],MATCH(I200,SignalHeads[Code],0))))","v":0},{"$f":"SUM(IF(B200=\"\",0,INDEX(SignalHeads[Weight*** (lbs)],MATCH(B200,SignalHeads[Code],0))),IF(D200=\"\",0,INDEX(SignalHeads[Weight*** (lbs)],MATCH(D200,SignalHeads[Code],0))),IF(E200=\"\",0,INDEX(SignalHeads[Weight*** (lbs)],MATCH(E200,SignalHeads[Code],0))),IF(F200=\"\",0,INDEX(SignalHeads[Weight*** (lbs)],MATCH(F200,SignalHeads[Code],0))),IF(G200=\"\",0,INDEX(SignalHeads[Weight*** (lbs)],MATCH(G200,SignalHeads[Code],0))),IF(H200=\"\",0,INDEX(SignalHeads[Weight*** (lbs)],MATCH(H200,SignalHeads[Code],0))),IF(I200=\"\",0,INDEX(SignalHeads[Weight*** (lbs)],MATCH(I200,SignalHeads[Code],0))))","v":0},{"$f":"IF(A200<=$I$8,INDEX(DesignConstants[Value],MATCH(\"Span Wire Weight (plf)\",DesignConstants[Design Constant],0)),0)","v":1.155},0,201.54750000000001,{"$error":"#VALUE!"},{"$error":"#VALUE!"},{"$error":"#N/A"},{"$error":"#N/A"},{"$f":"SUM(IF(B200=\"\",0,INDEX(SignalHeads[Height ** (feet)],MATCH(B200,SignalHeads[Code],0))),IF(D200=\"\",0,INDEX(SignalHeads[Height ** (feet)],MATCH(D200,SignalHeads[Code],0))),IF(E200=\"\",0,INDEX(SignalHeads[Height ** (feet)],MATCH(E200,SignalHeads[Code],0))),IF(F200=\"\",0,INDEX(SignalHeads[Height ** (feet)],MATCH(F200,SignalHeads[Code],0))),IF(G200=\"\",0,INDEX(SignalHeads[Height ** (feet)],MATCH(G200,SignalHeads[Code],0))),IF(H200=\"\",0,INDEX(SignalHeads[Height ** (feet)],MATCH(H200,SignalHeads[Code],0))),IF(I200=\"\",0,INDEX(SignalHeads[Height ** (feet)],MATCH(I200,SignalHeads[Code],0))))","v":0},{"$f":"IF(S200=0,\"\",ROUNDDOWN(12*(((Q200-S200)-MIN($Q$26:$Q$425-$S$26:$S$425)-(MAX($S$26:$S$425*(($Q$26:$Q$425-$S$26:$S$425)=MIN($Q$26:$Q$425-$S$26:$S$425)))-S200))+(MIN($Q$26:$Q$425-$S$26:$S$425)-$I$10)),0)/12)","v":""},"",{"$error":"#N/A"},17]
[176,null,null,null,null,null,null,null,null,{"$f":"SUM(IF(B201=\"\",0,INDEX(SignalHeads[Perp. Wind Area (sft)],MATCH(B201,SignalHeads[Code],0))),IF(D201=\"\",0,INDEX(SignalHeads[Perp. Wind Area (sft)],MATCH(D201,SignalHeads[Code],0))),IF(E201=\"\",0,INDEX(SignalHeads[Perp. Wind Area (sft)],MATCH(E201,SignalHeads[Code],0))),IF(F201=\"\",0,INDEX(SignalHeads[Perp. Wind Area (sft)],MATCH(F201,SignalHeads[Code],0))),IF(G201=\"\",0,INDEX(SignalHeads[Perp. Wind Area (sft)],MATCH(G201,SignalHeads[Code],0))),IF(H201=\"\",0,INDEX(SignalHeads[Perp. Wind Area (sft)],MATCH(H201,SignalHeads[Code],0))),IF(I201=\"\",0,INDEX(SignalHeads[Perp. Wind Area (sft)],MATCH(I201,SignalHeads[Code],0))))","v":0},{"$f":"SUM(IF(B201=\"\",0,INDEX(SignalHeads[Weight*** (lbs)],MATCH(B201,SignalHeads[Code],0))),IF(D201=\"\",0,INDEX(SignalHeads[Weight*** (lbs)],MATCH(D201,SignalHeads[Code],0))),IF(E201=\"\",0,INDEX(SignalHeads[Weight*** (lbs)],MATCH(E201,SignalHeads[Code],0))),IF(F201=\"\",0,INDEX(SignalHeads[Weight*** (lbs)],MATCH(F201,SignalHeads[Code],0))),IF(G201=\"\",0,INDEX(SignalHeads[Weight*** (lbs)],MATCH(G201,SignalHeads[Code],0))),IF(H201=\"\",0,INDEX(SignalHeads[Weight*** (lbs)],MATCH(H201,SignalHeads[Code],0))),IF(I201=\"\",0,INDEX(SignalHeads[Weight*** (lbs)],MATCH(I201,SignalHeads[Code],0))))","v":0},{"$f":"IF(A201<=$I$8,INDEX(DesignConstants[Value],MATCH(\"Span Wire Weight (plf)\",DesignConstants[Design Constant],0)),0)","v":1.155},0,202.70250000000001,{"$error":"#VALUE!"},{"$error":"#VALUE!"},{"$error":"#N/A"},{"$error":"#N/A"},{"$f":"SUM(IF(B201=\"\",0,INDEX(SignalHeads[Height ** (feet)],MATCH(B201,SignalHeads[Code],0))),IF(D201=\"\",0,INDEX(SignalHeads[Height ** (feet)],MATCH(D201,SignalHeads[Code],0))),IF(E201=\"\",0,INDEX(SignalHeads[Height ** (feet)],MATCH(E201,SignalHeads[Code],0))),IF(F201=\"\",0,INDEX(SignalHeads[Height ** (feet)],MATCH(F201,SignalHeads[Code],0))),IF(G201=\"\",0,INDEX(SignalHeads[Height ** (feet)],MATCH(G201,SignalHeads[Code],0))),IF(H201=\"\",0,INDEX(SignalHeads[Height ** (feet)],MATCH(H201,SignalHeads[Code],0))),IF(I201=\"\",0,INDEX(SignalHeads[Height ** (feet)],MATCH(I201,SignalHeads[Code],0))))","v":0},{"$f":"IF(S201=0,\"\",ROUNDDOWN(12*(((Q201-S201)-MIN($Q$26:$Q$425-$S$26:$S$425)-(MAX($S$26:$S$425*(($Q$26:$Q$425-$S$26:$S$425)=MIN($Q$26:$Q$425-$S$26:$S$425)))-S201))+(MIN($Q$26:$Q$425-$S$26:$S$425)-$I$10)),0)/12)","v":""},"",{"$error":"#N/A"},17]
[177,null,null,null,null,null,null,null,null,{"$f":"SUM(IF(B202=\"\",0,INDEX(SignalHeads[Perp. Wind Area (sft)],MATCH(B202,SignalHeads[Code],0))),IF(D202=\"\",0,INDEX(SignalHeads[Perp. Wind Area (sft)],MATCH(D202,SignalHeads[Code],0))),IF(E202=\"\",0,INDEX(SignalHeads[Perp. Wind Area (sft)],MATCH(E202,SignalHeads[Code],0))),IF(F202=\"\",0,INDEX(SignalHeads[Perp. Wind Area (sft)],MATCH(F202,SignalHeads[Code],0))),IF(G202=\"\",0,INDEX(SignalHeads[Perp. Wind Area (sft)],MATCH(G202,SignalHeads[Code],0))),IF(H202=\"\",0,INDEX(SignalHeads[Perp. Wind Area (sft)],MATCH(H202,SignalHeads[Code],0))),IF(I202=\"\",0,INDEX(SignalHeads[Perp. Wind Area (sft)],MATCH(I202,SignalHeads[Code],0))))","v":0},{"$f":"SUM(IF(B202=\"\",0,INDEX(SignalHeads[Weight*** (lbs)],MATCH(B202,SignalHeads[Code],0))),IF(D202=\"\",0,INDEX(SignalHeads[Weight*** (lbs)],MATCH(D202,SignalHeads[Code],0))),IF(E202=\"\",0,INDEX(SignalHeads[Weight*** (lbs)],MATCH(E202,SignalHeads[Code],0))),IF(F202=\"\",0,INDEX(SignalHeads[Weight*** (lbs)],MATCH(F202,SignalHeads[Code],0))),IF(G202=\"\",0,INDEX(SignalHeads[Weight*** (lbs)],MATCH(G202,SignalHeads[Code],0))),IF(H202=\"\",0,INDEX(SignalHeads[Weight*** (lbs)],MATCH(H202,SignalHeads[Code],0))),IF(I202=\"\",0,INDEX(SignalHeads[Weight*** (lbs)],MATCH(I202,SignalHeads[Code],0))))","v":0},{"$f":"IF(A202<=$I$8,INDEX(DesignConstants[Value],MATCH(\"Span Wire Weight (plf)\",DesignConstants[Design Constant],0)),0)","v":1.155},0,203.85750000000002,{"$error":"#VALUE!"},{"$error":"#VALUE!"},{"$error":"#N/A"},{"$error":"#N/A"},{"$f":"SUM(IF(B202=\"\",0,INDEX(SignalHeads[Height ** (feet)],MATCH(B202,SignalHeads[Code],0))),IF(D202=\"\",0,INDEX(SignalHeads[Height ** (feet)],MATCH(D202,SignalHeads[Code],0))),IF(E202=\"\",0,INDEX(SignalHeads[Height ** (feet)],MATCH(E202,SignalHeads[Code],0))),IF(F202=\"\",0,INDEX(SignalHeads[Height ** (feet)],MATCH(F202,SignalHeads[Code],0))),IF(G202=\"\",0,INDEX(SignalHeads[Height ** (feet)],MATCH(G202,SignalHeads[Code],0))),IF(H202=\"\",0,INDEX(SignalHeads[Height ** (feet)],MATCH(H202,SignalHeads[Code],0))),IF(I202=\"\",0,INDEX(SignalHeads[Height ** (feet)],MATCH(I202,SignalHeads[Code],0))))","v":0},{"$f":"IF(S202=0,\"\",ROUNDDOWN(12*(((Q202-S202)-MIN($Q$26:$Q$425-$S$26:$S$425)-(MAX($S$26:$S$425*(($Q$26:$Q$425-$S$26:$S$425)=MIN($Q$26:$Q$425-$S$26:$S$425)))-S202))+(MIN($Q$26:$Q$425-$S$26:$S$425)-$I$10)),0)/12)","v":""},"",{"$error":"#N/A"},17]
[178,null,null,null,null,null,null,null,null,{"$f":"SUM(IF(B203=\"\",0,INDEX(SignalHeads[Perp. Wind Area (sft)],MATCH(B203,SignalHeads[Code],0))),IF(D203=\"\",0,INDEX(SignalHeads[Perp. Wind Area (sft)],MATCH(D203,SignalHeads[Code],0))),IF(E203=\"\",0,INDEX(SignalHeads[Perp. Wind Area (sft)],MATCH(E203,SignalHeads[Code],0))),IF(F203=\"\",0,INDEX(SignalHeads[Perp. Wind Area (sft)],MATCH(F203,SignalHeads[Code],0))),IF(G203=\"\",0,INDEX(SignalHeads[Perp. Wind Area (sft)],MATCH(G203,SignalHeads[Code],0))),IF(H203=\"\",0,INDEX(SignalHeads[Perp. Wind Area (sft)],MATCH(H203,SignalHeads[Code],0))),IF(I203=\"\",0,INDEX(SignalHeads[Perp. Wind Area (sft)],MATCH(I203,SignalHeads[Code],0))))","v":0},{"$f":"SUM(IF(B203=\"\",0,INDEX(SignalHeads[Weight*** (lbs)],MATCH(B203,SignalHeads[Code],0))),IF(D203=\"\",0,INDEX(SignalHeads[Weight*** (lbs)],MATCH(D203,SignalHeads[Code],0))),IF(E203=\"\",0,INDEX(SignalHeads[Weight*** (lbs)],MATCH(E203,SignalHeads[Code],0))),IF(F203=\"\",0,INDEX(SignalHeads[Weight*** (lbs)],MATCH(F203,SignalHeads[Code],0))),IF(G203=\"\",0,INDEX(SignalHeads[Weight*** (lbs)],MATCH(G203,SignalHeads[Code],0))),IF(H203=\"\",0,INDEX(SignalHeads[Weight*** (lbs)],MATCH(H203,SignalHeads[Code],0))),IF(I203=\"\",0,INDEX(SignalHeads[Weight*** (lbs)],MATCH(I203,SignalHeads[Code],0))))","v":0},{"$f":"IF(A203<=$I$8,INDEX(DesignConstants[Value],MATCH(\"Span Wire Weight (plf)\",DesignConstants[Design Constant],0)),0)","v":1.155},0,205.01250000000002,{"$error":"#VALUE!"},{"$error":"#VALUE!"},{"$error":"#N/A"},{"$error":"#N/A"},{"$f":"SUM(IF(B203=\"\",0,INDEX(SignalHeads[Height ** (feet)],MATCH(B203,SignalHeads[Code],0))),IF(D203=\"\",0,INDEX(SignalHeads[Height ** (feet)],MATCH(D203,SignalHeads[Code],0))),IF(E203=\"\",0,INDEX(SignalHeads[Height ** (feet)],MATCH(E203,SignalHeads[Code],0))),IF(F203=\"\",0,INDEX(SignalHeads[Height ** (feet)],MATCH(F203,SignalHeads[Code],0))),IF(G203=\"\",0,INDEX(SignalHeads[Height ** (feet)],MATCH(G203,SignalHeads[Code],0))),IF(H203=\"\",0,INDEX(SignalHeads[Height ** (feet)],MATCH(H203,SignalHeads[Code],0))),IF(I203=\"\",0,INDEX(SignalHeads[Height ** (feet)],MATCH(I203,SignalHeads[Code],0))))","v":0},{"$f":"IF(S203=0,\"\",ROUNDDOWN(12*(((Q203-S203)-MIN($Q$26:$Q$425-$S$26:$S$425)-(MAX($S$26:$S$425*(($Q$26:$Q$425-$S$26:$S$425)=MIN($Q$26:$Q$425-$S$26:$S$425)))-S203))+(MIN($Q$26:$Q$425-$S$26:$S$425)-$I$10)),0)/12)","v":""},"",{"$error":"#N/A"},17]
[179,null,null,null,null,null,null,null,null,{"$f":"SUM(IF(B204=\"\",0,INDEX(SignalHeads[Perp. Wind Area (sft)],MATCH(B204,SignalHeads[Code],0))),IF(D204=\"\",0,INDEX(SignalHeads[Perp. Wind Area (sft)],MATCH(D204,SignalHeads[Code],0))),IF(E204=\"\",0,INDEX(SignalHeads[Perp. Wind Area (sft)],MATCH(E204,SignalHeads[Code],0))),IF(F204=\"\",0,INDEX(SignalHeads[Perp. Wind Area (sft)],MATCH(F204,SignalHeads[Code],0))),IF(G204=\"\",0,INDEX(SignalHeads[Perp. Wind Area (sft)],MATCH(G204,SignalHeads[Code],0))),IF(H204=\"\",0,INDEX(SignalHeads[Perp. Wind Area (sft)],MATCH(H204,SignalHeads[Code],0))),IF(I204=\"\",0,INDEX(SignalHeads[Perp. Wind Area (sft)],MATCH(I204,SignalHeads[Code],0))))","v":0},{"$f":"SUM(IF(B204=\"\",0,INDEX(SignalHeads[Weight*** (lbs)],MATCH(B204,SignalHeads[Code],0))),IF(D204=\"\",0,INDEX(SignalHeads[Weight*** (lbs)],MATCH(D204,SignalHeads[Code],0))),IF(E204=\"\",0,INDEX(SignalHeads[Weight*** (lbs)],MATCH(E204,SignalHeads[Code],0))),IF(F204=\"\",0,INDEX(SignalHeads[Weight*** (lbs)],MATCH(F204,SignalHeads[Code],0))),IF(G204=\"\",0,INDEX(SignalHeads[Weight*** (lbs)],MATCH(G204,SignalHeads[Code],0))),IF(H204=\"\",0,INDEX(SignalHeads[Weight*** (lbs)],MATCH(H204,SignalHeads[Code],0))),IF(I204=\"\",0,INDEX(SignalHeads[Weight*** (lbs)],MATCH(I204,SignalHeads[Code],0))))","v":0},{"$f":"IF(A204<=$I$8,INDEX(DesignConstants[Value],MATCH(\"Span Wire Weight (plf)\",DesignConstants[Design Constant],0)),0)","v":1.155},0,206.16750000000002,{"$error":"#VALUE!"},{"$error":"#VALUE!"},{"$error":"#N/A"},{"$error":"#N/A"},{"$f":"SUM(IF(B204=\"\",0,INDEX(SignalHeads[Height ** (feet)],MATCH(B204,SignalHeads[Code],0))),IF(D204=\"\",0,INDEX(SignalHeads[Height ** (feet)],MATCH(D204,SignalHeads[Code],0))),IF(E204=\"\",0,INDEX(SignalHeads[Height ** (feet)],MATCH(E204,SignalHeads[Code],0))),IF(F204=\"\",0,INDEX(SignalHeads[Height ** (feet)],MATCH(F204,SignalHeads[Code],0))),IF(G204=\"\",0,INDEX(SignalHeads[Height ** (feet)],MATCH(G204,SignalHeads[Code],0))),IF(H204=\"\",0,INDEX(SignalHeads[Height ** (feet)],MATCH(H204,SignalHeads[Code],0))),IF(I204=\"\",0,INDEX(SignalHeads[Height ** (feet)],MATCH(I204,SignalHeads[Code],0))))","v":0},{"$f":"IF(S204=0,\"\",ROUNDDOWN(12*(((Q204-S204)-MIN($Q$26:$Q$425-$S$26:$S$425)-(MAX($S$26:$S$425*(($Q$26:$Q$425-$S$26:$S$425)=MIN($Q$26:$Q$425-$S$26:$S$425)))-S204))+(MIN($Q$26:$Q$425-$S$26:$S$425)-$I$10)),0)/12)","v":""},"",{"$error":"#N/A"},17]
[180,null,null,null,null,null,null,null,null,{"$f":"SUM(IF(B205=\"\",0,INDEX(SignalHeads[Perp. Wind Area (sft)],MATCH(B205,SignalHeads[Code],0))),IF(D205=\"\",0,INDEX(SignalHeads[Perp. Wind Area (sft)],MATCH(D205,SignalHeads[Code],0))),IF(E205=\"\",0,INDEX(SignalHeads[Perp. Wind Area (sft)],MATCH(E205,SignalHeads[Code],0))),IF(F205=\"\",0,INDEX(SignalHeads[Perp. Wind Area (sft)],MATCH(F205,SignalHeads[Code],0))),IF(G205=\"\",0,INDEX(SignalHeads[Perp. Wind Area (sft)],MATCH(G205,SignalHeads[Code],0))),IF(H205=\"\",0,INDEX(SignalHeads[Perp. Wind Area (sft)],MATCH(H205,SignalHeads[Code],0))),IF(I205=\"\",0,INDEX(SignalHeads[Perp. Wind Area (sft)],MATCH(I205,SignalHeads[Code],0))))","v":0},{"$f":"SUM(IF(B205=\"\",0,INDEX(SignalHeads[Weight*** (lbs)],MATCH(B205,SignalHeads[Code],0))),IF(D205=\"\",0,INDEX(SignalHeads[Weight*** (lbs)],MATCH(D205,SignalHeads[Code],0))),IF(E205=\"\",0,INDEX(SignalHeads[Weight*** (lbs)],MATCH(E205,SignalHeads[Code],0))),IF(F205=\"\",0,INDEX(SignalHeads[Weight*** (lbs)],MATCH(F205,SignalHeads[Code],0))),IF(G205=\"\",0,INDEX(SignalHeads[Weight*** (lbs)],MATCH(G205,SignalHeads[Code],0))),IF(H205=\"\",0,INDEX(SignalHeads[Weight*** (lbs)],MATCH(H205,SignalHeads[Code],0))),IF(I205=\"\",0,INDEX(SignalHeads[Weight*** (lbs)],MATCH(I205,SignalHeads[Code],0))))","v":0},{"$f":"IF(A205<=$I$8,INDEX(DesignConstants[Value],MATCH(\"Span Wire Weight (plf)\",DesignConstants[Design Constant],0)),0)","v":1.155},0,207.32249999999999,{"$error":"#VALUE!"},{"$error":"#VALUE!"},{"$error":"#N/A"},{"$error":"#N/A"},{"$f":"SUM(IF(B205=\"\",0,INDEX(SignalHeads[Height ** (feet)],MATCH(B205,SignalHeads[Code],0))),IF(D205=\"\",0,INDEX(SignalHeads[Height ** (feet)],MATCH(D205,SignalHeads[Code],0))),IF(E205=\"\",0,INDEX(SignalHeads[Height ** (feet)],MATCH(E205,SignalHeads[Code],0))),IF(F205=\"\",0,INDEX(SignalHeads[Height ** (feet)],MATCH(F205,SignalHeads[Code],0))),IF(G205=\"\",0,INDEX(SignalHeads[Height ** (feet)],MATCH(G205,SignalHeads[Code],0))),IF(H205=\"\",0,INDEX(SignalHeads[Height ** (feet)],MATCH(H205,SignalHeads[Code],0))),IF(I205=\"\",0,INDEX(SignalHeads[Height ** (feet)],MATCH(I205,SignalHeads[Code],0))))","v":0},{"$f":"IF(S205=0,\"\",ROUNDDOWN(12*(((Q205-S205)-MIN($Q$26:$Q$425-$S$26:$S$425)-(MAX($S$26:$S$425*(($Q$26:$Q$425-$S$26:$S$425)=MIN($Q$26:$Q$425-$S$26:$S$425)))-S205))+(MIN($Q$26:$Q$425-$S$26:$S$425)-$I$10)),0)/12)","v":""},"",{"$error":"#N/A"},17]
[181,null,null,null,null,null,null,null,null,{"$f":"SUM(IF(B206=\"\",0,INDEX(SignalHeads[Perp. Wind Area (sft)],MATCH(B206,SignalHeads[Code],0))),IF(D206=\"\",0,INDEX(SignalHeads[Perp. Wind Area (sft)],MATCH(D206,SignalHeads[Code],0))),IF(E206=\"\",0,INDEX(SignalHeads[Perp. Wind Area (sft)],MATCH(E206,SignalHeads[Code],0))),IF(F206=\"\",0,INDEX(SignalHeads[Perp. Wind Area (sft)],MATCH(F206,SignalHeads[Code],0))),IF(G206=\"\",0,INDEX(SignalHeads[Perp. Wind Area (sft)],MATCH(G206,SignalHeads[Code],0))),IF(H206=\"\",0,INDEX(SignalHeads[Perp. Wind Area (sft)],MATCH(H206,SignalHeads[Code],0))),IF(I206=\"\",0,INDEX(SignalHeads[Perp. Wind Area (sft)],MATCH(I206,SignalHeads[Code],0))))","v":0},{"$f":"SUM(IF(B206=\"\",0,INDEX(SignalHeads[Weight*** (lbs)],MATCH(B206,SignalHeads[Code],0))),IF(D206=\"\",0,INDEX(SignalHeads[Weight*** (lbs)],MATCH(D206,SignalHeads[Code],0))),IF(E206=\"\",0,INDEX(SignalHeads[Weight*** (lbs)],MATCH(E206,SignalHeads[Code],0))),IF(F206=\"\",0,INDEX(SignalHeads[Weight*** (lbs)],MATCH(F206,SignalHeads[Code],0))),IF(G206=\"\",0,INDEX(SignalHeads[Weight*** (lbs)],MATCH(G206,SignalHeads[Code],0))),IF(H206=\"\",0,INDEX(SignalHeads[Weight*** (lbs)],MATCH(H206,SignalHeads[Code],0))),IF(I206=\"\",0,INDEX(SignalHeads[Weight*** (lbs)],MATCH(I206,SignalHeads[Code],0))))","v":0},{"$f":"IF(A206<=$I$8,INDEX(DesignConstants[Value],MATCH(\"Span Wire Weight (plf)\",DesignConstants[Design Constant],0)),0)","v":1.155},0,208.47749999999999,{"$error":"#VALUE!"},{"$error":"#VALUE!"},{"$error":"#N/A"},{"$error":"#N/A"},{"$f":"SUM(IF(B206=\"\",0,INDEX(SignalHeads[Height ** (feet)],MATCH(B206,SignalHeads[Code],0))),IF(D206=\"\",0,INDEX(SignalHeads[Height ** (feet)],MATCH(D206,SignalHeads[Code],0))),IF(E206=\"\",0,INDEX(SignalHeads[Height ** (feet)],MATCH(E206,SignalHeads[Code],0))),IF(F206=\"\",0,INDEX(SignalHeads[Height ** (feet)],MATCH(F206,SignalHeads[Code],0))),IF(G206=\"\",0,INDEX(SignalHeads[Height ** (feet)],MATCH(G206,SignalHeads[Code],0))),IF(H206=\"\",0,INDEX(SignalHeads[Height ** (feet)],MATCH(H206,SignalHeads[Code],0))),IF(I206=\"\",0,INDEX(SignalHeads[Height ** (feet)],MATCH(I206,SignalHeads[Code],0))))","v":0},{"$f":"IF(S206=0,\"\",ROUNDDOWN(12*(((Q206-S206)-MIN($Q$26:$Q$425-$S$26:$S$425)-(MAX($S$26:$S$425*(($Q$26:$Q$425-$S$26:$S$425)=MIN($Q$26:$Q$425-$S$26:$S$425)))-S206))+(MIN($Q$26:$Q$425-$S$26:$S$425)-$I$10)),0)/12)","v":""},"",{"$error":"#N/A"},17]
[182,null,null,null,null,null,null,null,null,{"$f":"SUM(IF(B207=\"\",0,INDEX(SignalHeads[Perp. Wind Area (sft)],MATCH(B207,SignalHeads[Code],0))),IF(D207=\"\",0,INDEX(SignalHeads[Perp. Wind Area (sft)],MATCH(D207,SignalHeads[Code],0))),IF(E207=\"\",0,INDEX(SignalHeads[Perp. Wind Area (sft)],MATCH(E207,SignalHeads[Code],0))),IF(F207=\"\",0,INDEX(SignalHeads[Perp. Wind Area (sft)],MATCH(F207,SignalHeads[Code],0))),IF(G207=\"\",0,INDEX(SignalHeads[Perp. Wind Area (sft)],MATCH(G207,SignalHeads[Code],0))),IF(H207=\"\",0,INDEX(SignalHeads[Perp. Wind Area (sft)],MATCH(H207,SignalHeads[Code],0))),IF(I207=\"\",0,INDEX(SignalHeads[Perp. Wind Area (sft)],MATCH(I207,SignalHeads[Code],0))))","v":0},{"$f":"SUM(IF(B207=\"\",0,INDEX(SignalHeads[Weight*** (lbs)],MATCH(B207,SignalHeads[Code],0))),IF(D207=\"\",0,INDEX(SignalHeads[Weight*** (lbs)],MATCH(D207,SignalHeads[Code],0))),IF(E207=\"\",0,INDEX(SignalHeads[Weight*** (lbs)],MATCH(E207,SignalHeads[Code],0))),IF(F207=\"\",0,INDEX(SignalHeads[Weight*** (lbs)],MATCH(F207,SignalHeads[Code],0))),IF(G207=\"\",0,INDEX(SignalHeads[Weight*** (lbs)],MATCH(G207,SignalHeads[Code],0))),IF(H207=\"\",0,INDEX(SignalHeads[Weight*** (lbs)],MATCH(H207,SignalHeads[Code],0))),IF(I207=\"\",0,INDEX(SignalHeads[Weight*** (lbs)],MATCH(I207,SignalHeads[Code],0))))","v":0},{"$f":"IF(A207<=$I$8,INDEX(DesignConstants[Value],MATCH(\"Span Wire Weight (plf)\",DesignConstants[Design Constant],0)),0)","v":1.155},0,209.63249999999999,{"$error":"#VALUE!"},{"$error":"#VALUE!"},{"$error":"#N/A"},{"$error":"#N/A"},{"$f":"SUM(IF(B207=\"\",0,INDEX(SignalHeads[Height ** (feet)],MATCH(B207,SignalHeads[Code],0))),IF(D207=\"\",0,INDEX(SignalHeads[Height ** (feet)],MATCH(D207,SignalHeads[Code],0))),IF(E207=\"\",0,INDEX(SignalHeads[Height ** (feet)],MATCH(E207,SignalHeads[Code],0))),IF(F207=\"\",0,INDEX(SignalHeads[Height ** (feet)],MATCH(F207,SignalHeads[Code],0))),IF(G207=\"\",0,INDEX(SignalHeads[Height ** (feet)],MATCH(G207,SignalHeads[Code],0))),IF(H207=\"\",0,INDEX(SignalHeads[Height ** (feet)],MATCH(H207,SignalHeads[Code],0))),IF(I207=\"\",0,INDEX(SignalHeads[Height ** (feet)],MATCH(I207,SignalHeads[Code],0))))","v":0},{"$f":"IF(S207=0,\"\",ROUNDDOWN(12*(((Q207-S207)-MIN($Q$26:$Q$425-$S$26:$S$425)-(MAX($S$26:$S$425*(($Q$26:$Q$425-$S$26:$S$425)=MIN($Q$26:$Q$425-$S$26:$S$425)))-S207))+(MIN($Q$26:$Q$425-$S$26:$S$425)-$I$10)),0)/12)","v":""},"",{"$error":"#N/A"},17]
[183,null,null,null,null,null,null,null,null,{"$f":"SUM(IF(B208=\"\",0,INDEX(SignalHeads[Perp. Wind Area (sft)],MATCH(B208,SignalHeads[Code],0))),IF(D208=\"\",0,INDEX(SignalHeads[Perp. Wind Area (sft)],MATCH(D208,SignalHeads[Code],0))),IF(E208=\"\",0,INDEX(SignalHeads[Perp. Wind Area (sft)],MATCH(E208,SignalHeads[Code],0))),IF(F208=\"\",0,INDEX(SignalHeads[Perp. Wind Area (sft)],MATCH(F208,SignalHeads[Code],0))),IF(G208=\"\",0,INDEX(SignalHeads[Perp. Wind Area (sft)],MATCH(G208,SignalHeads[Code],0))),IF(H208=\"\",0,INDEX(SignalHeads[Perp. Wind Area (sft)],MATCH(H208,SignalHeads[Code],0))),IF(I208=\"\",0,INDEX(SignalHeads[Perp. Wind Area (sft)],MATCH(I208,SignalHeads[Code],0))))","v":0},{"$f":"SUM(IF(B208=\"\",0,INDEX(SignalHeads[Weight*** (lbs)],MATCH(B208,SignalHeads[Code],0))),IF(D208=\"\",0,INDEX(SignalHeads[Weight*** (lbs)],MATCH(D208,SignalHeads[Code],0))),IF(E208=\"\",0,INDEX(SignalHeads[Weight*** (lbs)],MATCH(E208,SignalHeads[Code],0))),IF(F208=\"\",0,INDEX(SignalHeads[Weight*** (lbs)],MATCH(F208,SignalHeads[Code],0))),IF(G208=\"\",0,INDEX(SignalHeads[Weight*** (lbs)],MATCH(G208,SignalHeads[Code],0))),IF(H208=\"\",0,INDEX(SignalHeads[Weight*** (lbs)],MATCH(H208,SignalHeads[Code],0))),IF(I208=\"\",0,INDEX(SignalHeads[Weight*** (lbs)],MATCH(I208,SignalHeads[Code],0))))","v":0},{"$f":"IF(A208<=$I$8,INDEX(DesignConstants[Value],MATCH(\"Span Wire Weight (plf)\",DesignConstants[Design Constant],0)),0)","v":1.155},0,210.78749999999999,{"$error":"#VALUE!"},{"$error":"#VALUE!"},{"$error":"#N/A"},{"$error":"#N/A"},{"$f":"SUM(IF(B208=\"\",0,INDEX(SignalHeads[Height ** (feet)],MATCH(B208,SignalHeads[Code],0))),IF(D208=\"\",0,INDEX(SignalHeads[Height ** (feet)],MATCH(D208,SignalHeads[Code],0))),IF(E208=\"\",0,INDEX(SignalHeads[Height ** (feet)],MATCH(E208,SignalHeads[Code],0))),IF(F208=\"\",0,INDEX(SignalHeads[Height ** (feet)],MATCH(F208,SignalHeads[Code],0))),IF(G208=\"\",0,INDEX(SignalHeads[Height ** (feet)],MATCH(G208,SignalHeads[Code],0))),IF(H208=\"\",0,INDEX(SignalHeads[Height ** (feet)],MATCH(H208,SignalHeads[Code],0))),IF(I208=\"\",0,INDEX(SignalHeads[Height ** (feet)],MATCH(I208,SignalHeads[Code],0))))","v":0},{"$f":"IF(S208=0,\"\",ROUNDDOWN(12*(((Q208-S208)-MIN($Q$26:$Q$425-$S$26:$S$425)-(MAX($S$26:$S$425*(($Q$26:$Q$425-$S$26:$S$425)=MIN($Q$26:$Q$425-$S$26:$S$425)))-S208))+(MIN($Q$26:$Q$425-$S$26:$S$425)-$I$10)),0)/12)","v":""},"",{"$error":"#N/A"},17]
[184,null,null,null,null,null,null,null,null,{"$f":"SUM(IF(B209=\"\",0,INDEX(SignalHeads[Perp. Wind Area (sft)],MATCH(B209,SignalHeads[Code],0))),IF(D209=\"\",0,INDEX(SignalHeads[Perp. Wind Area (sft)],MATCH(D209,SignalHeads[Code],0))),IF(E209=\"\",0,INDEX(SignalHeads[Perp. Wind Area (sft)],MATCH(E209,SignalHeads[Code],0))),IF(F209=\"\",0,INDEX(SignalHeads[Perp. Wind Area (sft)],MATCH(F209,SignalHeads[Code],0))),IF(G209=\"\",0,INDEX(SignalHeads[Perp. Wind Area (sft)],MATCH(G209,SignalHeads[Code],0))),IF(H209=\"\",0,INDEX(SignalHeads[Perp. Wind Area (sft)],MATCH(H209,SignalHeads[Code],0))),IF(I209=\"\",0,INDEX(SignalHeads[Perp. Wind Area (sft)],MATCH(I209,SignalHeads[Code],0))))","v":0},{"$f":"SUM(IF(B209=\"\",0,INDEX(SignalHeads[Weight*** (lbs)],MATCH(B209,SignalHeads[Code],0))),IF(D209=\"\",0,INDEX(SignalHeads[Weight*** (lbs)],MATCH(D209,SignalHeads[Code],0))),IF(E209=\"\",0,INDEX(SignalHeads[Weight*** (lbs)],MATCH(E209,SignalHeads[Code],0))),IF(F209=\"\",0,INDEX(SignalHeads[Weight*** (lbs)],MATCH(F209,SignalHeads[Code],0))),IF(G209=\"\",0,INDEX(SignalHeads[Weight*** (lbs)],MATCH(G209,SignalHeads[Code],0))),IF(H209=\"\",0,INDEX(SignalHeads[Weight*** (lbs)],MATCH(H209,SignalHeads[Code],0))),IF(I209=\"\",0,INDEX(SignalHeads[Weight*** (lbs)],MATCH(I209,SignalHeads[Code],0))))","v":0},{"$f":"IF(A209<=$I$8,INDEX(DesignConstants[Value],MATCH(\"Span Wire Weight (plf)\",DesignConstants[Design Constant],0)),0)","v":1.155},0,211.9425,{"$error":"#VALUE!"},{"$error":"#VALUE!"},{"$error":"#N/A"},{"$error":"#N/A"},{"$f":"SUM(IF(B209=\"\",0,INDEX(SignalHeads[Height ** (feet)],MATCH(B209,SignalHeads[Code],0))),IF(D209=\"\",0,INDEX(SignalHeads[Height ** (feet)],MATCH(D209,SignalHeads[Code],0))),IF(E209=\"\",0,INDEX(SignalHeads[Height ** (feet)],MATCH(E209,SignalHeads[Code],0))),IF(F209=\"\",0,INDEX(SignalHeads[Height ** (feet)],MATCH(F209,SignalHeads[Code],0))),IF(G209=\"\",0,INDEX(SignalHeads[Height ** (feet)],MATCH(G209,SignalHeads[Code],0))),IF(H209=\"\",0,INDEX(SignalHeads[Height ** (feet)],MATCH(H209,SignalHeads[Code],0))),IF(I209=\"\",0,INDEX(SignalHeads[Height ** (feet)],MATCH(I209,SignalHeads[Code],0))))","v":0},{"$f":"IF(S209=0,\"\",ROUNDDOWN(12*(((Q209-S209)-MIN($Q$26:$Q$425-$S$26:$S$425)-(MAX($S$26:$S$425*(($Q$26:$Q$425-$S$26:$S$425)=MIN($Q$26:$Q$425-$S$26:$S$425)))-S209))+(MIN($Q$26:$Q$425-$S$26:$S$425)-$I$10)),0)/12)","v":""},"",{"$error":"#N/A"},17]
[185,null,null,null,null,null,null,null,null,{"$f":"SUM(IF(B210=\"\",0,INDEX(SignalHeads[Perp. Wind Area (sft)],MATCH(B210,SignalHeads[Code],0))),IF(D210=\"\",0,INDEX(SignalHeads[Perp. Wind Area (sft)],MATCH(D210,SignalHeads[Code],0))),IF(E210=\"\",0,INDEX(SignalHeads[Perp. Wind Area (sft)],MATCH(E210,SignalHeads[Code],0))),IF(F210=\"\",0,INDEX(SignalHeads[Perp. Wind Area (sft)],MATCH(F210,SignalHeads[Code],0))),IF(G210=\"\",0,INDEX(SignalHeads[Perp. Wind Area (sft)],MATCH(G210,SignalHeads[Code],0))),IF(H210=\"\",0,INDEX(SignalHeads[Perp. Wind Area (sft)],MATCH(H210,SignalHeads[Code],0))),IF(I210=\"\",0,INDEX(SignalHeads[Perp. Wind Area (sft)],MATCH(I210,SignalHeads[Code],0))))","v":0},{"$f":"SUM(IF(B210=\"\",0,INDEX(SignalHeads[Weight*** (lbs)],MATCH(B210,SignalHeads[Code],0))),IF(D210=\"\",0,INDEX(SignalHeads[Weight*** (lbs)],MATCH(D210,SignalHeads[Code],0))),IF(E210=\"\",0,INDEX(SignalHeads[Weight*** (lbs)],MATCH(E210,SignalHeads[Code],0))),IF(F210=\"\",0,INDEX(SignalHeads[Weight*** (lbs)],MATCH(F210,SignalHeads[Code],0))),IF(G210=\"\",0,INDEX(SignalHeads[Weight*** (lbs)],MATCH(G210,SignalHeads[Code],0))),IF(H210=\"\",0,INDEX(SignalHeads[Weight*** (lbs)],MATCH(H210,SignalHeads[Code],0))),IF(I210=\"\",0,INDEX(SignalHeads[Weight*** (lbs)],MATCH(I210,SignalHeads[Code],0))))","v":0},{"$f":"IF(A210<=$I$8,INDEX(DesignConstants[Value],MATCH(\"Span Wire Weight (plf)\",DesignConstants[Design Constant],0)),0)","v":1.155},0,213.0975,{"$error":"#VALUE!"},{"$error":"#VALUE!"},{"$error":"#N/A"},{"$error":"#N/A"},{"$f":"SUM(IF(B210=\"\",0,INDEX(SignalHeads[Height ** (feet)],MATCH(B210,SignalHeads[Code],0))),IF(D210=\"\",0,INDEX(SignalHeads[Height ** (feet)],MATCH(D210,SignalHeads[Code],0))),IF(E210=\"\",0,INDEX(SignalHeads[Height ** (feet)],MATCH(E210,SignalHeads[Code],0))),IF(F210=\"\",0,INDEX(SignalHeads[Height ** (feet)],MATCH(F210,SignalHeads[Code],0))),IF(G210=\"\",0,INDEX(SignalHeads[Height ** (feet)],MATCH(G210,SignalHeads[Code],0))),IF(H210=\"\",0,INDEX(SignalHeads[Height ** (feet)],MATCH(H210,SignalHeads[Code],0))),IF(I210=\"\",0,INDEX(SignalHeads[Height ** (feet)],MATCH(I210,SignalHeads[Code],0))))","v":0},{"$f":"IF(S210=0,\"\",ROUNDDOWN(12*(((Q210-S210)-MIN($Q$26:$Q$425-$S$26:$S$425)-(MAX($S$26:$S$425*(($Q$26:$Q$425-$S$26:$S$425)=MIN($Q$26:$Q$425-$S$26:$S$425)))-S210))+(MIN($Q$26:$Q$425-$S$26:$S$425)-$I$10)),0)/12)","v":""},"",{"$error":"#N/A"},17]
[186,null,null,null,null,null,null,null,null,{"$f":"SUM(IF(B211=\"\",0,INDEX(SignalHeads[Perp. Wind Area (sft)],MATCH(B211,SignalHeads[Code],0))),IF(D211=\"\",0,INDEX(SignalHeads[Perp. Wind Area (sft)],MATCH(D211,SignalHeads[Code],0))),IF(E211=\"\",0,INDEX(SignalHeads[Perp. Wind Area (sft)],MATCH(E211,SignalHeads[Code],0))),IF(F211=\"\",0,INDEX(SignalHeads[Perp. Wind Area (sft)],MATCH(F211,SignalHeads[Code],0))),IF(G211=\"\",0,INDEX(SignalHeads[Perp. Wind Area (sft)],MATCH(G211,SignalHeads[Code],0))),IF(H211=\"\",0,INDEX(SignalHeads[Perp. Wind Area (sft)],MATCH(H211,SignalHeads[Code],0))),IF(I211=\"\",0,INDEX(SignalHeads[Perp. Wind Area (sft)],MATCH(I211,SignalHeads[Code],0))))","v":0},{"$f":"SUM(IF(B211=\"\",0,INDEX(SignalHeads[Weight*** (lbs)],MATCH(B211,SignalHeads[Code],0))),IF(D211=\"\",0,INDEX(SignalHeads[Weight*** (lbs)],MATCH(D211,SignalHeads[Code],0))),IF(E211=\"\",0,INDEX(SignalHeads[Weight*** (lbs)],MATCH(E211,SignalHeads[Code],0))),IF(F211=\"\",0,INDEX(SignalHeads[Weight*** (lbs)],MATCH(F211,SignalHeads[Code],0))),IF(G211=\"\",0,INDEX(SignalHeads[Weight*** (lbs)],MATCH(G211,SignalHeads[Code],0))),IF(H211=\"\",0,INDEX(SignalHeads[Weight*** (lbs)],MATCH(H211,SignalHeads[Code],0))),IF(I211=\"\",0,INDEX(SignalHeads[Weight*** (lbs)],MATCH(I211,SignalHeads[Code],0))))","v":0},{"$f":"IF(A211<=$I$8,INDEX(DesignConstants[Value],MATCH(\"Span Wire Weight (plf)\",DesignConstants[Design Constant],0)),0)","v":1.155},0,214.2525,{"$error":"#VALUE!"},{"$error":"#VALUE!"},{"$error":"#N/A"},{"$error":"#N/A"},{"$f":"SUM(IF(B211=\"\",0,INDEX(SignalHeads[Height ** (feet)],MATCH(B211,SignalHeads[Code],0))),IF(D211=\"\",0,INDEX(SignalHeads[Height ** (feet)],MATCH(D211,SignalHeads[Code],0))),IF(E211=\"\",0,INDEX(SignalHeads[Height ** (feet)],MATCH(E211,SignalHeads[Code],0))),IF(F211=\"\",0,INDEX(SignalHeads[Height ** (feet)],MATCH(F211,SignalHeads[Code],0))),IF(G211=\"\",0,INDEX(SignalHeads[Height ** (feet)],MATCH(G211,SignalHeads[Code],0))),IF(H211=\"\",0,INDEX(SignalHeads[Height ** (feet)],MATCH(H211,SignalHeads[Code],0))),IF(I211=\"\",0,INDEX(SignalHeads[Height ** (feet)],MATCH(I211,SignalHeads[Code],0))))","v":0},{"$f":"IF(S211=0,\"\",ROUNDDOWN(12*(((Q211-S211)-MIN($Q$26:$Q$425-$S$26:$S$425)-(MAX($S$26:$S$425*(($Q$26:$Q$425-$S$26:$S$425)=MIN($Q$26:$Q$425-$S$26:$S$425)))-S211))+(MIN($Q$26:$Q$425-$S$26:$S$425)-$I$10)),0)/12)","v":""},"",{"$error":"#N/A"},17]
[187,null,null,null,null,null,null,null,null,{"$f":"SUM(IF(B212=\"\",0,INDEX(SignalHeads[Perp. Wind Area (sft)],MATCH(B212,SignalHeads[Code],0))),IF(D212=\"\",0,INDEX(SignalHeads[Perp. Wind Area (sft)],MATCH(D212,SignalHeads[Code],0))),IF(E212=\"\",0,INDEX(SignalHeads[Perp. Wind Area (sft)],MATCH(E212,SignalHeads[Code],0))),IF(F212=\"\",0,INDEX(SignalHeads[Perp. Wind Area (sft)],MATCH(F212,SignalHeads[Code],0))),IF(G212=\"\",0,INDEX(SignalHeads[Perp. Wind Area (sft)],MATCH(G212,SignalHeads[Code],0))),IF(H212=\"\",0,INDEX(SignalHeads[Perp. Wind Area (sft)],MATCH(H212,SignalHeads[Code],0))),IF(I212=\"\",0,INDEX(SignalHeads[Perp. Wind Area (sft)],MATCH(I212,SignalHeads[Code],0))))","v":0},{"$f":"SUM(IF(B212=\"\",0,INDEX(SignalHeads[Weight*** (lbs)],MATCH(B212,SignalHeads[Code],0))),IF(D212=\"\",0,INDEX(SignalHeads[Weight*** (lbs)],MATCH(D212,SignalHeads[Code],0))),IF(E212=\"\",0,INDEX(SignalHeads[Weight*** (lbs)],MATCH(E212,SignalHeads[Code],0))),IF(F212=\"\",0,INDEX(SignalHeads[Weight*** (lbs)],MATCH(F212,SignalHeads[Code],0))),IF(G212=\"\",0,INDEX(SignalHeads[Weight*** (lbs)],MATCH(G212,SignalHeads[Code],0))),IF(H212=\"\",0,INDEX(SignalHeads[Weight*** (lbs)],MATCH(H212,SignalHeads[Code],0))),IF(I212=\"\",0,INDEX(SignalHeads[Weight*** (lbs)],MATCH(I212,SignalHeads[Code],0))))","v":0},{"$f":"IF(A212<=$I$8,INDEX(DesignConstants[Value],MATCH(\"Span Wire Weight (plf)\",DesignConstants[Design Constant],0)),0)","v":1.155},0,215.4075,{"$error":"#VALUE!"},{"$error":"#VALUE!"},{"$error":"#N/A"},{"$error":"#N/A"},{"$f":"SUM(IF(B212=\"\",0,INDEX(SignalHeads[Height ** (feet)],MATCH(B212,SignalHeads[Code],0))),IF(D212=\"\",0,INDEX(SignalHeads[Height ** (feet)],MATCH(D212,SignalHeads[Code],0))),IF(E212=\"\",0,INDEX(SignalHeads[Height ** (feet)],MATCH(E212,SignalHeads[Code],0))),IF(F212=\"\",0,INDEX(SignalHeads[Height ** (feet)],MATCH(F212,SignalHeads[Code],0))),IF(G212=\"\",0,INDEX(SignalHeads[Height ** (feet)],MATCH(G212,SignalHeads[Code],0))),IF(H212=\"\",0,INDEX(SignalHeads[Height ** (feet)],MATCH(H212,SignalHeads[Code],0))),IF(I212=\"\",0,INDEX(SignalHeads[Height ** (feet)],MATCH(I212,SignalHeads[Code],0))))","v":0},{"$f":"IF(S212=0,\"\",ROUNDDOWN(12*(((Q212-S212)-MIN($Q$26:$Q$425-$S$26:$S$425)-(MAX($S$26:$S$425*(($Q$26:$Q$425-$S$26:$S$425)=MIN($Q$26:$Q$425-$S$26:$S$425)))-S212))+(MIN($Q$26:$Q$425-$S$26:$S$425)-$I$10)),0)/12)","v":""},"",{"$error":"#N/A"},17]
[188,null,null,null,null,null,null,null,null,{"$f":"SUM(IF(B213=\"\",0,INDEX(SignalHeads[Perp. Wind Area (sft)],MATCH(B213,SignalHeads[Code],0))),IF(D213=\"\",0,INDEX(SignalHeads[Perp. Wind Area (sft)],MATCH(D213,SignalHeads[Code],0))),IF(E213=\"\",0,INDEX(SignalHeads[Perp. Wind Area (sft)],MATCH(E213,SignalHeads[Code],0))),IF(F213=\"\",0,INDEX(SignalHeads[Perp. Wind Area (sft)],MATCH(F213,SignalHeads[Code],0))),IF(G213=\"\",0,INDEX(SignalHeads[Perp. Wind Area (sft)],MATCH(G213,SignalHeads[Code],0))),IF(H213=\"\",0,INDEX(SignalHeads[Perp. Wind Area (sft)],MATCH(H213,SignalHeads[Code],0))),IF(I213=\"\",0,INDEX(SignalHeads[Perp. Wind Area (sft)],MATCH(I213,SignalHeads[Code],0))))","v":0},{"$f":"SUM(IF(B213=\"\",0,INDEX(SignalHeads[Weight*** (lbs)],MATCH(B213,SignalHeads[Code],0))),IF(D213=\"\",0,INDEX(SignalHeads[Weight*** (lbs)],MATCH(D213,SignalHeads[Code],0))),IF(E213=\"\",0,INDEX(SignalHeads[Weight*** (lbs)],MATCH(E213,SignalHeads[Code],0))),IF(F213=\"\",0,INDEX(SignalHeads[Weight*** (lbs)],MATCH(F213,SignalHeads[Code],0))),IF(G213=\"\",0,INDEX(SignalHeads[Weight*** (lbs)],MATCH(G213,SignalHeads[Code],0))),IF(H213=\"\",0,INDEX(SignalHeads[Weight*** (lbs)],MATCH(H213,SignalHeads[Code],0))),IF(I213=\"\",0,INDEX(SignalHeads[Weight*** (lbs)],MATCH(I213,SignalHeads[Code],0))))","v":0},{"$f":"IF(A213<=$I$8,INDEX(DesignConstants[Value],MATCH(\"Span Wire Weight (plf)\",DesignConstants[Design Constant],0)),0)","v":1.155},0,216.5625,{"$error":"#VALUE!"},{"$error":"#VALUE!"},{"$error":"#N/A"},{"$error":"#N/A"},{"$f":"SUM(IF(B213=\"\",0,INDEX(SignalHeads[Height ** (feet)],MATCH(B213,SignalHeads[Code],0))),IF(D213=\"\",0,INDEX(SignalHeads[Height ** (feet)],MATCH(D213,SignalHeads[Code],0))),IF(E213=\"\",0,INDEX(SignalHeads[Height ** (feet)],MATCH(E213,SignalHeads[Code],0))),IF(F213=\"\",0,INDEX(SignalHeads[Height ** (feet)],MATCH(F213,SignalHeads[Code],0))),IF(G213=\"\",0,INDEX(SignalHeads[Height ** (feet)],MATCH(G213,SignalHeads[Code],0))),IF(H213=\"\",0,INDEX(SignalHeads[Height ** (feet)],MATCH(H213,SignalHeads[Code],0))),IF(I213=\"\",0,INDEX(SignalHeads[Height ** (feet)],MATCH(I213,SignalHeads[Code],0))))","v":0},{"$f":"IF(S213=0,\"\",ROUNDDOWN(12*(((Q213-S213)-MIN($Q$26:$Q$425-$S$26:$S$425)-(MAX($S$26:$S$425*(($Q$26:$Q$425-$S$26:$S$425)=MIN($Q$26:$Q$425-$S$26:$S$425)))-S213))+(MIN($Q$26:$Q$425-$S$26:$S$425)-$I$10)),0)/12)","v":""},"",{"$error":"#N/A"},17]
[189,null,null,null,null,null,null,null,null,{"$f":"SUM(IF(B214=\"\",0,INDEX(SignalHeads[Perp. Wind Area (sft)],MATCH(B214,SignalHeads[Code],0))),IF(D214=\"\",0,INDEX(SignalHeads[Perp. Wind Area (sft)],MATCH(D214,SignalHeads[Code],0))),IF(E214=\"\",0,INDEX(SignalHeads[Perp. Wind Area (sft)],MATCH(E214,SignalHeads[Code],0))),IF(F214=\"\",0,INDEX(SignalHeads[Perp. Wind Area (sft)],MATCH(F214,SignalHeads[Code],0))),IF(G214=\"\",0,INDEX(SignalHeads[Perp. Wind Area (sft)],MATCH(G214,SignalHeads[Code],0))),IF(H214=\"\",0,INDEX(SignalHeads[Perp. Wind Area (sft)],MATCH(H214,SignalHeads[Code],0))),IF(I214=\"\",0,INDEX(SignalHeads[Perp. Wind Area (sft)],MATCH(I214,SignalHeads[Code],0))))","v":0},{"$f":"SUM(IF(B214=\"\",0,INDEX(SignalHeads[Weight*** (lbs)],MATCH(B214,SignalHeads[Code],0))),IF(D214=\"\",0,INDEX(SignalHeads[Weight*** (lbs)],MATCH(D214,SignalHeads[Code],0))),IF(E214=\"\",0,INDEX(SignalHeads[Weight*** (lbs)],MATCH(E214,SignalHeads[Code],0))),IF(F214=\"\",0,INDEX(SignalHeads[Weight*** (lbs)],MATCH(F214,SignalHeads[Code],0))),IF(G214=\"\",0,INDEX(SignalHeads[Weight*** (lbs)],MATCH(G214,SignalHeads[Code],0))),IF(H214=\"\",0,INDEX(SignalHeads[Weight*** (lbs)],MATCH(H214,SignalHeads[Code],0))),IF(I214=\"\",0,INDEX(SignalHeads[Weight*** (lbs)],MATCH(I214,SignalHeads[Code],0))))","v":0},{"$f":"IF(A214<=$I$8,INDEX(DesignConstants[Value],MATCH(\"Span Wire Weight (plf)\",DesignConstants[Design Constant],0)),0)","v":1.155},0,217.7175,{"$error":"#VALUE!"},{"$error":"#VALUE!"},{"$error":"#N/A"},{"$error":"#N/A"},{"$f":"SUM(IF(B214=\"\",0,INDEX(SignalHeads[Height ** (feet)],MATCH(B214,SignalHeads[Code],0))),IF(D214=\"\",0,INDEX(SignalHeads[Height ** (feet)],MATCH(D214,SignalHeads[Code],0))),IF(E214=\"\",0,INDEX(SignalHeads[Height ** (feet)],MATCH(E214,SignalHeads[Code],0))),IF(F214=\"\",0,INDEX(SignalHeads[Height ** (feet)],MATCH(F214,SignalHeads[Code],0))),IF(G214=\"\",0,INDEX(SignalHeads[Height ** (feet)],MATCH(G214,SignalHeads[Code],0))),IF(H214=\"\",0,INDEX(SignalHeads[Height ** (feet)],MATCH(H214,SignalHeads[Code],0))),IF(I214=\"\",0,INDEX(SignalHeads[Height ** (feet)],MATCH(I214,SignalHeads[Code],0))))","v":0},{"$f":"IF(S214=0,\"\",ROUNDDOWN(12*(((Q214-S214)-MIN($Q$26:$Q$425-$S$26:$S$425)-(MAX($S$26:$S$425*(($Q$26:$Q$425-$S$26:$S$425)=MIN($Q$26:$Q$425-$S$26:$S$425)))-S214))+(MIN($Q$26:$Q$425-$S$26:$S$425)-$I$10)),0)/12)","v":""},"",{"$error":"#N/A"},17]
[190,null,null,null,null,null,null,null,null,{"$f":"SUM(IF(B215=\"\",0,INDEX(SignalHeads[Perp. Wind Area (sft)],MATCH(B215,SignalHeads[Code],0))),IF(D215=\"\",0,INDEX(SignalHeads[Perp. Wind Area (sft)],MATCH(D215,SignalHeads[Code],0))),IF(E215=\"\",0,INDEX(SignalHeads[Perp. Wind Area (sft)],MATCH(E215,SignalHeads[Code],0))),IF(F215=\"\",0,INDEX(SignalHeads[Perp. Wind Area (sft)],MATCH(F215,SignalHeads[Code],0))),IF(G215=\"\",0,INDEX(SignalHeads[Perp. Wind Area (sft)],MATCH(G215,SignalHeads[Code],0))),IF(H215=\"\",0,INDEX(SignalHeads[Perp. Wind Area (sft)],MATCH(H215,SignalHeads[Code],0))),IF(I215=\"\",0,INDEX(SignalHeads[Perp. Wind Area (sft)],MATCH(I215,SignalHeads[Code],0))))","v":0},{"$f":"SUM(IF(B215=\"\",0,INDEX(SignalHeads[Weight*** (lbs)],MATCH(B215,SignalHeads[Code],0))),IF(D215=\"\",0,INDEX(SignalHeads[Weight*** (lbs)],MATCH(D215,SignalHeads[Code],0))),IF(E215=\"\",0,INDEX(SignalHeads[Weight*** (lbs)],MATCH(E215,SignalHeads[Code],0))),IF(F215=\"\",0,INDEX(SignalHeads[Weight*** (lbs)],MATCH(F215,SignalHeads[Code],0))),IF(G215=\"\",0,INDEX(SignalHeads[Weight*** (lbs)],MATCH(G215,SignalHeads[Code],0))),IF(H215=\"\",0,INDEX(SignalHeads[Weight*** (lbs)],MATCH(H215,SignalHeads[Code],0))),IF(I215=\"\",0,INDEX(SignalHeads[Weight*** (lbs)],MATCH(I215,SignalHeads[Code],0))))","v":0},{"$f":"IF(A215<=$I$8,INDEX(DesignConstants[Value],MATCH(\"Span Wire Weight (plf)\",DesignConstants[Design Constant],0)),0)","v":1.155},0,218.8725,{"$error":"#VALUE!"},{"$error":"#VALUE!"},{"$error":"#N/A"},{"$error":"#N/A"},{"$f":"SUM(IF(B215=\"\",0,INDEX(SignalHeads[Height ** (feet)],MATCH(B215,SignalHeads[Code],0))),IF(D215=\"\",0,INDEX(SignalHeads[Height ** (feet)],MATCH(D215,SignalHeads[Code],0))),IF(E215=\"\",0,INDEX(SignalHeads[Height ** (feet)],MATCH(E215,SignalHeads[Code],0))),IF(F215=\"\",0,INDEX(SignalHeads[Height ** (feet)],MATCH(F215,SignalHeads[Code],0))),IF(G215=\"\",0,INDEX(SignalHeads[Height ** (feet)],MATCH(G215,SignalHeads[Code],0))),IF(H215=\"\",0,INDEX(SignalHeads[Height ** (feet)],MATCH(H215,SignalHeads[Code],0))),IF(I215=\"\",0,INDEX(SignalHeads[Height ** (feet)],MATCH(I215,SignalHeads[Code],0))))","v":0},{"$f":"IF(S215=0,\"\",ROUNDDOWN(12*(((Q215-S215)-MIN($Q$26:$Q$425-$S$26:$S$425)-(MAX($S$26:$S$425*(($Q$26:$Q$425-$S$26:$S$425)=MIN($Q$26:$Q$425-$S$26:$S$425)))-S215))+(MIN($Q$26:$Q$425-$S$26:$S$425)-$I$10)),0)/12)","v":""},"",{"$error":"#N/A"},17]
[191,null,null,null,null,null,null,null,null,{"$f":"SUM(IF(B216=\"\",0,INDEX(SignalHeads[Perp. Wind Area (sft)],MATCH(B216,SignalHeads[Code],0))),IF(D216=\"\",0,INDEX(SignalHeads[Perp. Wind Area (sft)],MATCH(D216,SignalHeads[Code],0))),IF(E216=\"\",0,INDEX(SignalHeads[Perp. Wind Area (sft)],MATCH(E216,SignalHeads[Code],0))),IF(F216=\"\",0,INDEX(SignalHeads[Perp. Wind Area (sft)],MATCH(F216,SignalHeads[Code],0))),IF(G216=\"\",0,INDEX(SignalHeads[Perp. Wind Area (sft)],MATCH(G216,SignalHeads[Code],0))),IF(H216=\"\",0,INDEX(SignalHeads[Perp. Wind Area (sft)],MATCH(H216,SignalHeads[Code],0))),IF(I216=\"\",0,INDEX(SignalHeads[Perp. Wind Area (sft)],MATCH(I216,SignalHeads[Code],0))))","v":0},{"$f":"SUM(IF(B216=\"\",0,INDEX(SignalHeads[Weight*** (lbs)],MATCH(B216,SignalHeads[Code],0))),IF(D216=\"\",0,INDEX(SignalHeads[Weight*** (lbs)],MATCH(D216,SignalHeads[Code],0))),IF(E216=\"\",0,INDEX(SignalHeads[Weight*** (lbs)],MATCH(E216,SignalHeads[Code],0))),IF(F216=\"\",0,INDEX(SignalHeads[Weight*** (lbs)],MATCH(F216,SignalHeads[Code],0))),IF(G216=\"\",0,INDEX(SignalHeads[Weight*** (lbs)],MATCH(G216,SignalHeads[Code],0))),IF(H216=\"\",0,INDEX(SignalHeads[Weight*** (lbs)],MATCH(H216,SignalHeads[Code],0))),IF(I216=\"\",0,INDEX(SignalHeads[Weight*** (lbs)],MATCH(I216,SignalHeads[Code],0))))","v":0},{"$f":"IF(A216<=$I$8,INDEX(DesignConstants[Value],MATCH(\"Span Wire Weight (plf)\",DesignConstants[Design Constant],0)),0)","v":1.155},0,220.0275,{"$error":"#VALUE!"},{"$error":"#VALUE!"},{"$error":"#N/A"},{"$error":"#N/A"},{"$f":"SUM(IF(B216=\"\",0,INDEX(SignalHeads[Height ** (feet)],MATCH(B216,SignalHeads[Code],0))),IF(D216=\"\",0,INDEX(SignalHeads[Height ** (feet)],MATCH(D216,SignalHeads[Code],0))),IF(E216=\"\",0,INDEX(SignalHeads[Height ** (feet)],MATCH(E216,SignalHeads[Code],0))),IF(F216=\"\",0,INDEX(SignalHeads[Height ** (feet)],MATCH(F216,SignalHeads[Code],0))),IF(G216=\"\",0,INDEX(SignalHeads[Height ** (feet)],MATCH(G216,SignalHeads[Code],0))),IF(H216=\"\",0,INDEX(SignalHeads[Height ** (feet)],MATCH(H216,SignalHeads[Code],0))),IF(I216=\"\",0,INDEX(SignalHeads[Height ** (feet)],MATCH(I216,SignalHeads[Code],0))))","v":0},{"$f":"IF(S216=0,\"\",ROUNDDOWN(12*(((Q216-S216)-MIN($Q$26:$Q$425-$S$26:$S$425)-(MAX($S$26:$S$425*(($Q$26:$Q$425-$S$26:$S$425)=MIN($Q$26:$Q$425-$S$26:$S$425)))-S216))+(MIN($Q$26:$Q$425-$S$26:$S$425)-$I$10)),0)/12)","v":""},"",{"$error":"#N/A"},17]
[192,null,null,null,null,null,null,null,null,{"$f":"SUM(IF(B217=\"\",0,INDEX(SignalHeads[Perp. Wind Area (sft)],MATCH(B217,SignalHeads[Code],0))),IF(D217=\"\",0,INDEX(SignalHeads[Perp. Wind Area (sft)],MATCH(D217,SignalHeads[Code],0))),IF(E217=\"\",0,INDEX(SignalHeads[Perp. Wind Area (sft)],MATCH(E217,SignalHeads[Code],0))),IF(F217=\"\",0,INDEX(SignalHeads[Perp. Wind Area (sft)],MATCH(F217,SignalHeads[Code],0))),IF(G217=\"\",0,INDEX(SignalHeads[Perp. Wind Area (sft)],MATCH(G217,SignalHeads[Code],0))),IF(H217=\"\",0,INDEX(SignalHeads[Perp. Wind Area (sft)],MATCH(H217,SignalHeads[Code],0))),IF(I217=\"\",0,INDEX(SignalHeads[Perp. Wind Area (sft)],MATCH(I217,SignalHeads[Code],0))))","v":0},{"$f":"SUM(IF(B217=\"\",0,INDEX(SignalHeads[Weight*** (lbs)],MATCH(B217,SignalHeads[Code],0))),IF(D217=\"\",0,INDEX(SignalHeads[Weight*** (lbs)],MATCH(D217,SignalHeads[Code],0))),IF(E217=\"\",0,INDEX(SignalHeads[Weight*** (lbs)],MATCH(E217,SignalHeads[Code],0))),IF(F217=\"\",0,INDEX(SignalHeads[Weight*** (lbs)],MATCH(F217,SignalHeads[Code],0))),IF(G217=\"\",0,INDEX(SignalHeads[Weight*** (lbs)],MATCH(G217,SignalHeads[Code],0))),IF(H217=\"\",0,INDEX(SignalHeads[Weight*** (lbs)],MATCH(H217,SignalHeads[Code],0))),IF(I217=\"\",0,INDEX(SignalHeads[Weight*** (lbs)],MATCH(I217,SignalHeads[Code],0))))","v":0},{"$f":"IF(A217<=$I$8,INDEX(DesignConstants[Value],MATCH(\"Span Wire Weight (plf)\",DesignConstants[Design Constant],0)),0)","v":1.155},0,221.1825,{"$error":"#VALUE!"},{"$error":"#VALUE!"},{"$error":"#N/A"},{"$error":"#N/A"},{"$f":"SUM(IF(B217=\"\",0,INDEX(SignalHeads[Height ** (feet)],MATCH(B217,SignalHeads[Code],0))),IF(D217=\"\",0,INDEX(SignalHeads[Height ** (feet)],MATCH(D217,SignalHeads[Code],0))),IF(E217=\"\",0,INDEX(SignalHeads[Height ** (feet)],MATCH(E217,SignalHeads[Code],0))),IF(F217=\"\",0,INDEX(SignalHeads[Height ** (feet)],MATCH(F217,SignalHeads[Code],0))),IF(G217=\"\",0,INDEX(SignalHeads[Height ** (feet)],MATCH(G217,SignalHeads[Code],0))),IF(H217=\"\",0,INDEX(SignalHeads[Height ** (feet)],MATCH(H217,SignalHeads[Code],0))),IF(I217=\"\",0,INDEX(SignalHeads[Height ** (feet)],MATCH(I217,SignalHeads[Code],0))))","v":0},{"$f":"IF(S217=0,\"\",ROUNDDOWN(12*(((Q217-S217)-MIN($Q$26:$Q$425-$S$26:$S$425)-(MAX($S$26:$S$425*(($Q$26:$Q$425-$S$26:$S$425)=MIN($Q$26:$Q$425-$S$26:$S$425)))-S217))+(MIN($Q$26:$Q$425-$S$26:$S$425)-$I$10)),0)/12)","v":""},"",{"$error":"#N/A"},17]
[193,null,null,null,null,null,null,null,null,{"$f":"SUM(IF(B218=\"\",0,INDEX(SignalHeads[Perp. Wind Area (sft)],MATCH(B218,SignalHeads[Code],0))),IF(D218=\"\",0,INDEX(SignalHeads[Perp. Wind Area (sft)],MATCH(D218,SignalHeads[Code],0))),IF(E218=\"\",0,INDEX(SignalHeads[Perp. Wind Area (sft)],MATCH(E218,SignalHeads[Code],0))),IF(F218=\"\",0,INDEX(SignalHeads[Perp. Wind Area (sft)],MATCH(F218,SignalHeads[Code],0))),IF(G218=\"\",0,INDEX(SignalHeads[Perp. Wind Area (sft)],MATCH(G218,SignalHeads[Code],0))),IF(H218=\"\",0,INDEX(SignalHeads[Perp. Wind Area (sft)],MATCH(H218,SignalHeads[Code],0))),IF(I218=\"\",0,INDEX(SignalHeads[Perp. Wind Area (sft)],MATCH(I218,SignalHeads[Code],0))))","v":0},{"$f":"SUM(IF(B218=\"\",0,INDEX(SignalHeads[Weight*** (lbs)],MATCH(B218,SignalHeads[Code],0))),IF(D218=\"\",0,INDEX(SignalHeads[Weight*** (lbs)],MATCH(D218,SignalHeads[Code],0))),IF(E218=\"\",0,INDEX(SignalHeads[Weight*** (lbs)],MATCH(E218,SignalHeads[Code],0))),IF(F218=\"\",0,INDEX(SignalHeads[Weight*** (lbs)],MATCH(F218,SignalHeads[Code],0))),IF(G218=\"\",0,INDEX(SignalHeads[Weight*** (lbs)],MATCH(G218,SignalHeads[Code],0))),IF(H218=\"\",0,INDEX(SignalHeads[Weight*** (lbs)],MATCH(H218,SignalHeads[Code],0))),IF(I218=\"\",0,INDEX(SignalHeads[Weight*** (lbs)],MATCH(I218,SignalHeads[Code],0))))","v":0},{"$f":"IF(A218<=$I$8,INDEX(DesignConstants[Value],MATCH(\"Span Wire Weight (plf)\",DesignConstants[Design Constant],0)),0)","v":1.155},{"$f":"IF(K218=\"\",0,K218*A218)","v":0},{"$f":"L218*(A218-0.5)","v":222.33750000000001},{"$error":"#VALUE!"},{"$f":"(0.5*L218+O218+K218)/$I$4","v":{"$error":"#VALUE!"}},{"$error":"#N/A"},{"$f":"IF(A218>$I$8,0,(IFERROR(INDEX($S$13:$S$14,MATCH(MAX($S$11:$S$12),$S$11:$S$12,FALSE)),$S$8)-(IFERROR(INDEX($N$13:$N$14,MATCH(MAX($N$11:$N$12),$N$11:$N$12,FALSE)),$N$8)))/$I$18*A218+IFERROR(INDEX($N$13:$N$14,MATCH(MAX($N$11:$N$12),$N$11:$N$12,FALSE)),$N$8))","v":{"$error":"#N/A"}},{"$f":"SUM(IF(B218=\"\",0,INDEX(SignalHeads[Height ** (feet)],MATCH(B218,SignalHeads[Code],0))),IF(D218=\"\",0,INDEX(SignalHeads[Height ** (feet)],MATCH(D218,SignalHeads[Code],0))),IF(E218=\"\",0,INDEX(SignalHeads[Height ** (feet)],MATCH(E218,SignalHeads[Code],0))),IF(F218=\"\",0,INDEX(SignalHeads[Height ** (feet)],MATCH(F218,SignalHeads[Code],0))),IF(G218=\"\",0,INDEX(SignalHeads[Height ** (feet)],MATCH(G218,SignalHeads[Code],0))),IF(H218=\"\",0,INDEX(SignalHeads[Height ** (feet)],MATCH(H218,SignalHeads[Code],0))),IF(I218=\"\",0,INDEX(SignalHeads[Height ** (feet)],MATCH(I218,SignalHeads[Code],0))))","v":0},{"$f":"IF(S218=0,\"\",ROUNDDOWN(12*(((Q218-S218)-MIN($Q$26:$Q$425-$S$26:$S$425)-(MAX($S$26:$S$425*(($Q$26:$Q$425-$S$26:$S$425)=MIN($Q$26:$Q$425-$S$26:$S$425)))-S218))+(MIN($Q$26:$Q$425-$S$26:$S$425)-$I$10)),0)/12)","v":""},"",{"$error":"#N/A"},{"$f":"$I$10","v":17}]
[194,null,null,null,null,null,null,null,null,{"$f":"SUM(IF(B219=\"\",0,INDEX(SignalHeads[Perp. Wind Area (sft)],MATCH(B219,SignalHeads[Code],0))),IF(D219=\"\",0,INDEX(SignalHeads[Perp. Wind Area (sft)],MATCH(D219,SignalHeads[Code],0))),IF(E219=\"\",0,INDEX(SignalHeads[Perp. Wind Area (sft)],MATCH(E219,SignalHeads[Code],0))),IF(F219=\"\",0,INDEX(SignalHeads[Perp. Wind Area (sft)],MATCH(F219,SignalHeads[Code],0))),IF(G219=\"\",0,INDEX(SignalHeads[Perp. Wind Area (sft)],MATCH(G219,SignalHeads[Code],0))),IF(H219=\"\",0,INDEX(SignalHeads[Perp. Wind Area (sft)],MATCH(H219,SignalHeads[Code],0))),IF(I219=\"\",0,INDEX(SignalHeads[Perp. Wind Area (sft)],MATCH(I219,SignalHeads[Code],0))))","v":0},{"$f":"SUM(IF(B219=\"\",0,INDEX(SignalHeads[Weight*** (lbs)],MATCH(B219,SignalHeads[Code],0))),IF(D219=\"\",0,INDEX(SignalHeads[Weight*** (lbs)],MATCH(D219,SignalHeads[Code],0))),IF(E219=\"\",0,INDEX(SignalHeads[Weight*** (lbs)],MATCH(E219,SignalHeads[Code],0))),IF(F219=\"\",0,INDEX(SignalHeads[Weight*** (lbs)],MATCH(F219,SignalHeads[Code],0))),IF(G219=\"\",0,INDEX(SignalHeads[Weight*** (lbs)],MATCH(G219,SignalHeads[Code],0))),IF(H219=\"\",0,INDEX(SignalHeads[Weight*** (lbs)],MATCH(H219,SignalHeads[Code],0))),IF(I219=\"\",0,INDEX(SignalHeads[Weight*** (lbs)],MATCH(I219,SignalHeads[Code],0))))","v":0},{"$f":"IF(A219<=$I$8,INDEX(DesignConstants[Value],MATCH(\"Span Wire Weight (plf)\",DesignConstants[Design Constant],0)),0)","v":1.155},0,223.49250000000001,{"$f":"O218-K219-L219","v":{"$error":"#VALUE!"}},{"$error":"#VALUE!"},{"$f":"Q218-P219","v":{"$error":"#N/A"}},{"$error":"#N/A"},{"$f":"SUM(IF(B219=\"\",0,INDEX(SignalHeads[Height ** (feet)],MATCH(B219,SignalHeads[Code],0))),IF(D219=\"\",0,INDEX(SignalHeads[Height ** (feet)],MATCH(D219,SignalHeads[Code],0))),IF(E219=\"\",0,INDEX(SignalHeads[Height ** (feet)],MATCH(E219,SignalHeads[Code],0))),IF(F219=\"\",0,INDEX(SignalHeads[Height ** (feet)],MATCH(F219,SignalHeads[Code],0))),IF(G219=\"\",0,INDEX(SignalHeads[Height ** (feet)],MATCH(G219,SignalHeads[Code],0))),IF(H219=\"\",0,INDEX(SignalHeads[Height ** (feet)],MATCH(H219,SignalHeads[Code],0))),IF(I219=\"\",0,INDEX(SignalHeads[Height ** (feet)],MATCH(I219,SignalHeads[Code],0))))","v":0},{"$f":"IF(S219=0,\"\",ROUNDDOWN(12*(((Q219-S219)-MIN($Q$26:$Q$425-$S$26:$S$425)-(MAX($S$26:$S$425*(($Q$26:$Q$425-$S$26:$S$425)=MIN($Q$26:$Q$425-$S$26:$S$425)))-S219))+(MIN($Q$26:$Q$425-$S$26:$S$425)-$I$10)),0)/12)","v":""},{"$f":"IF(T219=\"\",\"\",INT(T219)&\"'-\"&ROUND((T219-INT(T219))*12,0)&\"\"\"\")","v":""},{"$f":"IF(A219<=$I$8,Q219-S219-IF(ISNUMBER(T219),T219,0),\"\")","v":{"$error":"#N/A"}},17]
[195,null,null,null,null,null,null,null,null,{"$f":"SUM(IF(B220=\"\",0,INDEX(SignalHeads[Perp. Wind Area (sft)],MATCH(B220,SignalHeads[Code],0))),IF(D220=\"\",0,INDEX(SignalHeads[Perp. Wind Area (sft)],MATCH(D220,SignalHeads[Code],0))),IF(E220=\"\",0,INDEX(SignalHeads[Perp. Wind Area (sft)],MATCH(E220,SignalHeads[Code],0))),IF(F220=\"\",0,INDEX(SignalHeads[Perp. Wind Area (sft)],MATCH(F220,SignalHeads[Code],0))),IF(G220=\"\",0,INDEX(SignalHeads[Perp. Wind Area (sft)],MATCH(G220,SignalHeads[Code],0))),IF(H220=\"\",0,INDEX(SignalHeads[Perp. Wind Area (sft)],MATCH(H220,SignalHeads[Code],0))),IF(I220=\"\",0,INDEX(SignalHeads[Perp. Wind Area (sft)],MATCH(I220,SignalHeads[Code],0))))","v":0},{"$f":"SUM(IF(B220=\"\",0,INDEX(SignalHeads[Weight*** (lbs)],MATCH(B220,SignalHeads[Code],0))),IF(D220=\"\",0,INDEX(SignalHeads[Weight*** (lbs)],MATCH(D220,SignalHeads[Code],0))),IF(E220=\"\",0,INDEX(SignalHeads[Weight*** (lbs)],MATCH(E220,SignalHeads[Code],0))),IF(F220=\"\",0,INDEX(SignalHeads[Weight*** (lbs)],MATCH(F220,SignalHeads[Code],0))),IF(G220=\"\",0,INDEX(SignalHeads[Weight*** (lbs)],MATCH(G220,SignalHeads[Code],0))),IF(H220=\"\",0,INDEX(SignalHeads[Weight*** (lbs)],MATCH(H220,SignalHeads[Code],0))),IF(I220=\"\",0,INDEX(SignalHeads[Weight*** (lbs)],MATCH(I220,SignalHeads[Code],0))))","v":0},{"$f":"IF(A220<=$I$8,INDEX(DesignConstants[Value],MATCH(\"Span Wire Weight (plf)\",DesignConstants[Design Constant],0)),0)","v":1.155},0,224.64750000000001,{"$error":"#VALUE!"},{"$error":"#VALUE!"},{"$error":"#N/A"},{"$error":"#N/A"},{"$f":"SUM(IF(B220=\"\",0,INDEX(SignalHeads[Height ** (feet)],MATCH(B220,SignalHeads[Code],0))),IF(D220=\"\",0,INDEX(SignalHeads[Height ** (feet)],MATCH(D220,SignalHeads[Code],0))),IF(E220=\"\",0,INDEX(SignalHeads[Height ** (feet)],MATCH(E220,SignalHeads[Code],0))),IF(F220=\"\",0,INDEX(SignalHeads[Height ** (feet)],MATCH(F220,SignalHeads[Code],0))),IF(G220=\"\",0,INDEX(SignalHeads[Height ** (feet)],MATCH(G220,SignalHeads[Code],0))),IF(H220=\"\",0,INDEX(SignalHeads[Height ** (feet)],MATCH(H220,SignalHeads[Code],0))),IF(I220=\"\",0,INDEX(SignalHeads[Height ** (feet)],MATCH(I220,SignalHeads[Code],0))))","v":0},{"$f":"IF(S220=0,\"\",ROUNDDOWN(12*(((Q220-S220)-MIN($Q$26:$Q$425-$S$26:$S$425)-(MAX($S$26:$S$425*(($Q$26:$Q$425-$S$26:$S$425)=MIN($Q$26:$Q$425-$S$26:$S$425)))-S220))+(MIN($Q$26:$Q$425-$S$26:$S$425)-$I$10)),0)/12)","v":""},"",{"$error":"#N/A"},17]
[196,null,null,null,null,null,null,null,null,{"$f":"SUM(IF(B221=\"\",0,INDEX(SignalHeads[Perp. Wind Area (sft)],MATCH(B221,SignalHeads[Code],0))),IF(D221=\"\",0,INDEX(SignalHeads[Perp. Wind Area (sft)],MATCH(D221,SignalHeads[Code],0))),IF(E221=\"\",0,INDEX(SignalHeads[Perp. Wind Area (sft)],MATCH(E221,SignalHeads[Code],0))),IF(F221=\"\",0,INDEX(SignalHeads[Perp. Wind Area (sft)],MATCH(F221,SignalHeads[Code],0))),IF(G221=\"\",0,INDEX(SignalHeads[Perp. Wind Area (sft)],MATCH(G221,SignalHeads[Code],0))),IF(H221=\"\",0,INDEX(SignalHeads[Perp. Wind Area (sft)],MATCH(H221,SignalHeads[Code],0))),IF(I221=\"\",0,INDEX(SignalHeads[Perp. Wind Area (sft)],MATCH(I221,SignalHeads[Code],0))))","v":0},{"$f":"SUM(IF(B221=\"\",0,INDEX(SignalHeads[Weight*** (lbs)],MATCH(B221,SignalHeads[Code],0))),IF(D221=\"\",0,INDEX(SignalHeads[Weight*** (lbs)],MATCH(D221,SignalHeads[Code],0))),IF(E221=\"\",0,INDEX(SignalHeads[Weight*** (lbs)],MATCH(E221,SignalHeads[Code],0))),IF(F221=\"\",0,INDEX(SignalHeads[Weight*** (lbs)],MATCH(F221,SignalHeads[Code],0))),IF(G221=\"\",0,INDEX(SignalHeads[Weight*** (lbs)],MATCH(G221,SignalHeads[Code],0))),IF(H221=\"\",0,INDEX(SignalHeads[Weight*** (lbs)],MATCH(H221,SignalHeads[Code],0))),IF(I221=\"\",0,INDEX(SignalHeads[Weight*** (lbs)],MATCH(I221,SignalHeads[Code],0))))","v":0},{"$f":"IF(A221<=$I$8,INDEX(DesignConstants[Value],MATCH(\"Span Wire Weight (plf)\",DesignConstants[Design Constant],0)),0)","v":1.155},0,225.80250000000001,{"$error":"#VALUE!"},{"$error":"#VALUE!"},{"$error":"#N/A"},{"$error":"#N/A"},{"$f":"SUM(IF(B221=\"\",0,INDEX(SignalHeads[Height ** (feet)],MATCH(B221,SignalHeads[Code],0))),IF(D221=\"\",0,INDEX(SignalHeads[Height ** (feet)],MATCH(D221,SignalHeads[Code],0))),IF(E221=\"\",0,INDEX(SignalHeads[Height ** (feet)],MATCH(E221,SignalHeads[Code],0))),IF(F221=\"\",0,INDEX(SignalHeads[Height ** (feet)],MATCH(F221,SignalHeads[Code],0))),IF(G221=\"\",0,INDEX(SignalHeads[Height ** (feet)],MATCH(G221,SignalHeads[Code],0))),IF(H221=\"\",0,INDEX(SignalHeads[Height ** (feet)],MATCH(H221,SignalHeads[Code],0))),IF(I221=\"\",0,INDEX(SignalHeads[Height ** (feet)],MATCH(I221,SignalHeads[Code],0))))","v":0},{"$f":"IF(S221=0,\"\",ROUNDDOWN(12*(((Q221-S221)-MIN($Q$26:$Q$425-$S$26:$S$425)-(MAX($S$26:$S$425*(($Q$26:$Q$425-$S$26:$S$425)=MIN($Q$26:$Q$425-$S$26:$S$425)))-S221))+(MIN($Q$26:$Q$425-$S$26:$S$425)-$I$10)),0)/12)","v":""},"",{"$error":"#N/A"},17]
[197,null,null,null,null,null,null,null,null,{"$f":"SUM(IF(B222=\"\",0,INDEX(SignalHeads[Perp. Wind Area (sft)],MATCH(B222,SignalHeads[Code],0))),IF(D222=\"\",0,INDEX(SignalHeads[Perp. Wind Area (sft)],MATCH(D222,SignalHeads[Code],0))),IF(E222=\"\",0,INDEX(SignalHeads[Perp. Wind Area (sft)],MATCH(E222,SignalHeads[Code],0))),IF(F222=\"\",0,INDEX(SignalHeads[Perp. Wind Area (sft)],MATCH(F222,SignalHeads[Code],0))),IF(G222=\"\",0,INDEX(SignalHeads[Perp. Wind Area (sft)],MATCH(G222,SignalHeads[Code],0))),IF(H222=\"\",0,INDEX(SignalHeads[Perp. Wind Area (sft)],MATCH(H222,SignalHeads[Code],0))),IF(I222=\"\",0,INDEX(SignalHeads[Perp. Wind Area (sft)],MATCH(I222,SignalHeads[Code],0))))","v":0},{"$f":"SUM(IF(B222=\"\",0,INDEX(SignalHeads[Weight*** (lbs)],MATCH(B222,SignalHeads[Code],0))),IF(D222=\"\",0,INDEX(SignalHeads[Weight*** (lbs)],MATCH(D222,SignalHeads[Code],0))),IF(E222=\"\",0,INDEX(SignalHeads[Weight*** (lbs)],MATCH(E222,SignalHeads[Code],0))),IF(F222=\"\",0,INDEX(SignalHeads[Weight*** (lbs)],MATCH(F222,SignalHeads[Code],0))),IF(G222=\"\",0,INDEX(SignalHeads[Weight*** (lbs)],MATCH(G222,SignalHeads[Code],0))),IF(H222=\"\",0,INDEX(SignalHeads[Weight*** (lbs)],MATCH(H222,SignalHeads[Code],0))),IF(I222=\"\",0,INDEX(SignalHeads[Weight*** (lbs)],MATCH(I222,SignalHeads[Code],0))))","v":0},{"$f":"IF(A222<=$I$8,INDEX(DesignConstants[Value],MATCH(\"Span Wire Weight (plf)\",DesignConstants[Design Constant],0)),0)","v":1.155},0,226.95750000000001,{"$error":"#VALUE!"},{"$error":"#VALUE!"},{"$error":"#N/A"},{"$error":"#N/A"},{"$f":"SUM(IF(B222=\"\",0,INDEX(SignalHeads[Height ** (feet)],MATCH(B222,SignalHeads[Code],0))),IF(D222=\"\",0,INDEX(SignalHeads[Height ** (feet)],MATCH(D222,SignalHeads[Code],0))),IF(E222=\"\",0,INDEX(SignalHeads[Height ** (feet)],MATCH(E222,SignalHeads[Code],0))),IF(F222=\"\",0,INDEX(SignalHeads[Height ** (feet)],MATCH(F222,SignalHeads[Code],0))),IF(G222=\"\",0,INDEX(SignalHeads[Height ** (feet)],MATCH(G222,SignalHeads[Code],0))),IF(H222=\"\",0,INDEX(SignalHeads[Height ** (feet)],MATCH(H222,SignalHeads[Code],0))),IF(I222=\"\",0,INDEX(SignalHeads[Height ** (feet)],MATCH(I222,SignalHeads[Code],0))))","v":0},{"$f":"IF(S222=0,\"\",ROUNDDOWN(12*(((Q222-S222)-MIN($Q$26:$Q$425-$S$26:$S$425)-(MAX($S$26:$S$425*(($Q$26:$Q$425-$S$26:$S$425)=MIN($Q$26:$Q$425-$S$26:$S$425)))-S222))+(MIN($Q$26:$Q$425-$S$26:$S$425)-$I$10)),0)/12)","v":""},"",{"$error":"#N/A"},17]
[198,null,null,null,null,null,null,null,null,{"$f":"SUM(IF(B223=\"\",0,INDEX(SignalHeads[Perp. Wind Area (sft)],MATCH(B223,SignalHeads[Code],0))),IF(D223=\"\",0,INDEX(SignalHeads[Perp. Wind Area (sft)],MATCH(D223,SignalHeads[Code],0))),IF(E223=\"\",0,INDEX(SignalHeads[Perp. Wind Area (sft)],MATCH(E223,SignalHeads[Code],0))),IF(F223=\"\",0,INDEX(SignalHeads[Perp. Wind Area (sft)],MATCH(F223,SignalHeads[Code],0))),IF(G223=\"\",0,INDEX(SignalHeads[Perp. Wind Area (sft)],MATCH(G223,SignalHeads[Code],0))),IF(H223=\"\",0,INDEX(SignalHeads[Perp. Wind Area (sft)],MATCH(H223,SignalHeads[Code],0))),IF(I223=\"\",0,INDEX(SignalHeads[Perp. Wind Area (sft)],MATCH(I223,SignalHeads[Code],0))))","v":0},{"$f":"SUM(IF(B223=\"\",0,INDEX(SignalHeads[Weight*** (lbs)],MATCH(B223,SignalHeads[Code],0))),IF(D223=\"\",0,INDEX(SignalHeads[Weight*** (lbs)],MATCH(D223,SignalHeads[Code],0))),IF(E223=\"\",0,INDEX(SignalHeads[Weight*** (lbs)],MATCH(E223,SignalHeads[Code],0))),IF(F223=\"\",0,INDEX(SignalHeads[Weight*** (lbs)],MATCH(F223,SignalHeads[Code],0))),IF(G223=\"\",0,INDEX(SignalHeads[Weight*** (lbs)],MATCH(G223,SignalHeads[Code],0))),IF(H223=\"\",0,INDEX(SignalHeads[Weight*** (lbs)],MATCH(H223,SignalHeads[Code],0))),IF(I223=\"\",0,INDEX(SignalHeads[Weight*** (lbs)],MATCH(I223,SignalHeads[Code],0))))","v":0},{"$f":"IF(A223<=$I$8,INDEX(DesignConstants[Value],MATCH(\"Span Wire Weight (plf)\",DesignConstants[Design Constant],0)),0)","v":1.155},0,228.11250000000001,{"$error":"#VALUE!"},{"$error":"#VALUE!"},{"$error":"#N/A"},{"$error":"#N/A"},{"$f":"SUM(IF(B223=\"\",0,INDEX(SignalHeads[Height ** (feet)],MATCH(B223,SignalHeads[Code],0))),IF(D223=\"\",0,INDEX(SignalHeads[Height ** (feet)],MATCH(D223,SignalHeads[Code],0))),IF(E223=\"\",0,INDEX(SignalHeads[Height ** (feet)],MATCH(E223,SignalHeads[Code],0))),IF(F223=\"\",0,INDEX(SignalHeads[Height ** (feet)],MATCH(F223,SignalHeads[Code],0))),IF(G223=\"\",0,INDEX(SignalHeads[Height ** (feet)],MATCH(G223,SignalHeads[Code],0))),IF(H223=\"\",0,INDEX(SignalHeads[Height ** (feet)],MATCH(H223,SignalHeads[Code],0))),IF(I223=\"\",0,INDEX(SignalHeads[Height ** (feet)],MATCH(I223,SignalHeads[Code],0))))","v":0},{"$f":"IF(S223=0,\"\",ROUNDDOWN(12*(((Q223-S223)-MIN($Q$26:$Q$425-$S$26:$S$425)-(MAX($S$26:$S$425*(($Q$26:$Q$425-$S$26:$S$425)=MIN($Q$26:$Q$425-$S$26:$S$425)))-S223))+(MIN($Q$26:$Q$425-$S$26:$S$425)-$I$10)),0)/12)","v":""},"",{"$error":"#N/A"},17]
[199,null,null,null,null,null,null,null,null,{"$f":"SUM(IF(B224=\"\",0,INDEX(SignalHeads[Perp. Wind Area (sft)],MATCH(B224,SignalHeads[Code],0))),IF(D224=\"\",0,INDEX(SignalHeads[Perp. Wind Area (sft)],MATCH(D224,SignalHeads[Code],0))),IF(E224=\"\",0,INDEX(SignalHeads[Perp. Wind Area (sft)],MATCH(E224,SignalHeads[Code],0))),IF(F224=\"\",0,INDEX(SignalHeads[Perp. Wind Area (sft)],MATCH(F224,SignalHeads[Code],0))),IF(G224=\"\",0,INDEX(SignalHeads[Perp. Wind Area (sft)],MATCH(G224,SignalHeads[Code],0))),IF(H224=\"\",0,INDEX(SignalHeads[Perp. Wind Area (sft)],MATCH(H224,SignalHeads[Code],0))),IF(I224=\"\",0,INDEX(SignalHeads[Perp. Wind Area (sft)],MATCH(I224,SignalHeads[Code],0))))","v":0},{"$f":"SUM(IF(B224=\"\",0,INDEX(SignalHeads[Weight*** (lbs)],MATCH(B224,SignalHeads[Code],0))),IF(D224=\"\",0,INDEX(SignalHeads[Weight*** (lbs)],MATCH(D224,SignalHeads[Code],0))),IF(E224=\"\",0,INDEX(SignalHeads[Weight*** (lbs)],MATCH(E224,SignalHeads[Code],0))),IF(F224=\"\",0,INDEX(SignalHeads[Weight*** (lbs)],MATCH(F224,SignalHeads[Code],0))),IF(G224=\"\",0,INDEX(SignalHeads[Weight*** (lbs)],MATCH(G224,SignalHeads[Code],0))),IF(H224=\"\",0,INDEX(SignalHeads[Weight*** (lbs)],MATCH(H224,SignalHeads[Code],0))),IF(I224=\"\",0,INDEX(SignalHeads[Weight*** (lbs)],MATCH(I224,SignalHeads[Code],0))))","v":0},{"$f":"IF(A224<=$I$8,INDEX(DesignConstants[Value],MATCH(\"Span Wire Weight (plf)\",DesignConstants[Design Constant],0)),0)","v":1.155},0,229.26750000000001,{"$error":"#VALUE!"},{"$error":"#VALUE!"},{"$error":"#N/A"},{"$error":"#N/A"},{"$f":"SUM(IF(B224=\"\",0,INDEX(SignalHeads[Height ** (feet)],MATCH(B224,SignalHeads[Code],0))),IF(D224=\"\",0,INDEX(SignalHeads[Height ** (feet)],MATCH(D224,SignalHeads[Code],0))),IF(E224=\"\",0,INDEX(SignalHeads[Height ** (feet)],MATCH(E224,SignalHeads[Code],0))),IF(F224=\"\",0,INDEX(SignalHeads[Height ** (feet)],MATCH(F224,SignalHeads[Code],0))),IF(G224=\"\",0,INDEX(SignalHeads[Height ** (feet)],MATCH(G224,SignalHeads[Code],0))),IF(H224=\"\",0,INDEX(SignalHeads[Height ** (feet)],MATCH(H224,SignalHeads[Code],0))),IF(I224=\"\",0,INDEX(SignalHeads[Height ** (feet)],MATCH(I224,SignalHeads[Code],0))))","v":0},{"$f":"IF(S224=0,\"\",ROUNDDOWN(12*(((Q224-S224)-MIN($Q$26:$Q$425-$S$26:$S$425)-(MAX($S$26:$S$425*(($Q$26:$Q$425-$S$26:$S$425)=MIN($Q$26:$Q$425-$S$26:$S$425)))-S224))+(MIN($Q$26:$Q$425-$S$26:$S$425)-$I$10)),0)/12)","v":""},"",{"$error":"#N/A"},17]
[200,null,null,null,null,null,null,null,null,{"$f":"SUM(IF(B225=\"\",0,INDEX(SignalHeads[Perp. Wind Area (sft)],MATCH(B225,SignalHeads[Code],0))),IF(D225=\"\",0,INDEX(SignalHeads[Perp. Wind Area (sft)],MATCH(D225,SignalHeads[Code],0))),IF(E225=\"\",0,INDEX(SignalHeads[Perp. Wind Area (sft)],MATCH(E225,SignalHeads[Code],0))),IF(F225=\"\",0,INDEX(SignalHeads[Perp. Wind Area (sft)],MATCH(F225,SignalHeads[Code],0))),IF(G225=\"\",0,INDEX(SignalHeads[Perp. Wind Area (sft)],MATCH(G225,SignalHeads[Code],0))),IF(H225=\"\",0,INDEX(SignalHeads[Perp. Wind Area (sft)],MATCH(H225,SignalHeads[Code],0))),IF(I225=\"\",0,INDEX(SignalHeads[Perp. Wind Area (sft)],MATCH(I225,SignalHeads[Code],0))))","v":0},{"$f":"SUM(IF(B225=\"\",0,INDEX(SignalHeads[Weight*** (lbs)],MATCH(B225,SignalHeads[Code],0))),IF(D225=\"\",0,INDEX(SignalHeads[Weight*** (lbs)],MATCH(D225,SignalHeads[Code],0))),IF(E225=\"\",0,INDEX(SignalHeads[Weight*** (lbs)],MATCH(E225,SignalHeads[Code],0))),IF(F225=\"\",0,INDEX(SignalHeads[Weight*** (lbs)],MATCH(F225,SignalHeads[Code],0))),IF(G225=\"\",0,INDEX(SignalHeads[Weight*** (lbs)],MATCH(G225,SignalHeads[Code],0))),IF(H225=\"\",0,INDEX(SignalHeads[Weight*** (lbs)],MATCH(H225,SignalHeads[Code],0))),IF(I225=\"\",0,INDEX(SignalHeads[Weight*** (lbs)],MATCH(I225,SignalHeads[Code],0))))","v":0},{"$f":"IF(A225<=$I$8,INDEX(DesignConstants[Value],MATCH(\"Span Wire Weight (plf)\",DesignConstants[Design Constant],0)),0)","v":1.155},0,230.42250000000001,{"$error":"#VALUE!"},{"$error":"#VALUE!"},{"$error":"#N/A"},{"$error":"#N/A"},{"$f":"SUM(IF(B225=\"\",0,INDEX(SignalHeads[Height ** (feet)],MATCH(B225,SignalHeads[Code],0))),IF(D225=\"\",0,INDEX(SignalHeads[Height ** (feet)],MATCH(D225,SignalHeads[Code],0))),IF(E225=\"\",0,INDEX(SignalHeads[Height ** (feet)],MATCH(E225,SignalHeads[Code],0))),IF(F225=\"\",0,INDEX(SignalHeads[Height ** (feet)],MATCH(F225,SignalHeads[Code],0))),IF(G225=\"\",0,INDEX(SignalHeads[Height ** (feet)],MATCH(G225,SignalHeads[Code],0))),IF(H225=\"\",0,INDEX(SignalHeads[Height ** (feet)],MATCH(H225,SignalHeads[Code],0))),IF(I225=\"\",0,INDEX(SignalHeads[Height ** (feet)],MATCH(I225,SignalHeads[Code],0))))","v":0},{"$f":"IF(S225=0,\"\",ROUNDDOWN(12*(((Q225-S225)-MIN($Q$26:$Q$425-$S$26:$S$425)-(MAX($S$26:$S$425*(($Q$26:$Q$425-$S$26:$S$425)=MIN($Q$26:$Q$425-$S$26:$S$425)))-S225))+(MIN($Q$26:$Q$425-$S$26:$S$425)-$I$10)),0)/12)","v":""},"",{"$error":"#N/A"},17]
[201,null,null,null,null,null,null,null,null,{"$f":"SUM(IF(B226=\"\",0,INDEX(SignalHeads[Perp. Wind Area (sft)],MATCH(B226,SignalHeads[Code],0))),IF(D226=\"\",0,INDEX(SignalHeads[Perp. Wind Area (sft)],MATCH(D226,SignalHeads[Code],0))),IF(E226=\"\",0,INDEX(SignalHeads[Perp. Wind Area (sft)],MATCH(E226,SignalHeads[Code],0))),IF(F226=\"\",0,INDEX(SignalHeads[Perp. Wind Area (sft)],MATCH(F226,SignalHeads[Code],0))),IF(G226=\"\",0,INDEX(SignalHeads[Perp. Wind Area (sft)],MATCH(G226,SignalHeads[Code],0))),IF(H226=\"\",0,INDEX(SignalHeads[Perp. Wind Area (sft)],MATCH(H226,SignalHeads[Code],0))),IF(I226=\"\",0,INDEX(SignalHeads[Perp. Wind Area (sft)],MATCH(I226,SignalHeads[Code],0))))","v":0},{"$f":"SUM(IF(B226=\"\",0,INDEX(SignalHeads[Weight*** (lbs)],MATCH(B226,SignalHeads[Code],0))),IF(D226=\"\",0,INDEX(SignalHeads[Weight*** (lbs)],MATCH(D226,SignalHeads[Code],0))),IF(E226=\"\",0,INDEX(SignalHeads[Weight*** (lbs)],MATCH(E226,SignalHeads[Code],0))),IF(F226=\"\",0,INDEX(SignalHeads[Weight*** (lbs)],MATCH(F226,SignalHeads[Code],0))),IF(G226=\"\",0,INDEX(SignalHeads[Weight*** (lbs)],MATCH(G226,SignalHeads[Code],0))),IF(H226=\"\",0,INDEX(SignalHeads[Weight*** (lbs)],MATCH(H226,SignalHeads[Code],0))),IF(I226=\"\",0,INDEX(SignalHeads[Weight*** (lbs)],MATCH(I226,SignalHeads[Code],0))))","v":0},{"$f":"IF(A226<=$I$8,INDEX(DesignConstants[Value],MATCH(\"Span Wire Weight (plf)\",DesignConstants[Design Constant],0)),0)","v":1.155},0,231.57750000000001,{"$error":"#VALUE!"},{"$error":"#VALUE!"},{"$error":"#N/A"},{"$error":"#N/A"},{"$f":"SUM(IF(B226=\"\",0,INDEX(SignalHeads[Height ** (feet)],MATCH(B226,SignalHeads[Code],0))),IF(D226=\"\",0,INDEX(SignalHeads[Height ** (feet)],MATCH(D226,SignalHeads[Code],0))),IF(E226=\"\",0,INDEX(SignalHeads[Height ** (feet)],MATCH(E226,SignalHeads[Code],0))),IF(F226=\"\",0,INDEX(SignalHeads[Height ** (feet)],MATCH(F226,SignalHeads[Code],0))),IF(G226=\"\",0,INDEX(SignalHeads[Height ** (feet)],MATCH(G226,SignalHeads[Code],0))),IF(H226=\"\",0,INDEX(SignalHeads[Height ** (feet)],MATCH(H226,SignalHeads[Code],0))),IF(I226=\"\",0,INDEX(SignalHeads[Height ** (feet)],MATCH(I226,SignalHeads[Code],0))))","v":0},{"$f":"IF(S226=0,\"\",ROUNDDOWN(12*(((Q226-S226)-MIN($Q$26:$Q$425-$S$26:$S$425)-(MAX($S$26:$S$425*(($Q$26:$Q$425-$S$26:$S$425)=MIN($Q$26:$Q$425-$S$26:$S$425)))-S226))+(MIN($Q$26:$Q$425-$S$26:$S$425)-$I$10)),0)/12)","v":""},"",{"$error":"#N/A"},17]
[202,null,null,null,null,null,null,null,null,{"$f":"SUM(IF(B227=\"\",0,INDEX(SignalHeads[Perp. Wind Area (sft)],MATCH(B227,SignalHeads[Code],0))),IF(D227=\"\",0,INDEX(SignalHeads[Perp. Wind Area (sft)],MATCH(D227,SignalHeads[Code],0))),IF(E227=\"\",0,INDEX(SignalHeads[Perp. Wind Area (sft)],MATCH(E227,SignalHeads[Code],0))),IF(F227=\"\",0,INDEX(SignalHeads[Perp. Wind Area (sft)],MATCH(F227,SignalHeads[Code],0))),IF(G227=\"\",0,INDEX(SignalHeads[Perp. Wind Area (sft)],MATCH(G227,SignalHeads[Code],0))),IF(H227=\"\",0,INDEX(SignalHeads[Perp. Wind Area (sft)],MATCH(H227,SignalHeads[Code],0))),IF(I227=\"\",0,INDEX(SignalHeads[Perp. Wind Area (sft)],MATCH(I227,SignalHeads[Code],0))))","v":0},{"$f":"SUM(IF(B227=\"\",0,INDEX(SignalHeads[Weight*** (lbs)],MATCH(B227,SignalHeads[Code],0))),IF(D227=\"\",0,INDEX(SignalHeads[Weight*** (lbs)],MATCH(D227,SignalHeads[Code],0))),IF(E227=\"\",0,INDEX(SignalHeads[Weight*** (lbs)],MATCH(E227,SignalHeads[Code],0))),IF(F227=\"\",0,INDEX(SignalHeads[Weight*** (lbs)],MATCH(F227,SignalHeads[Code],0))),IF(G227=\"\",0,INDEX(SignalHeads[Weight*** (lbs)],MATCH(G227,SignalHeads[Code],0))),IF(H227=\"\",0,INDEX(SignalHeads[Weight*** (lbs)],MATCH(H227,SignalHeads[Code],0))),IF(I227=\"\",0,INDEX(SignalHeads[Weight*** (lbs)],MATCH(I227,SignalHeads[Code],0))))","v":0},{"$f":"IF(A227<=$I$8,INDEX(DesignConstants[Value],MATCH(\"Span Wire Weight (plf)\",DesignConstants[Design Constant],0)),0)","v":1.155},0,232.73250000000002,{"$error":"#VALUE!"},{"$error":"#VALUE!"},{"$error":"#N/A"},{"$error":"#N/A"},{"$f":"SUM(IF(B227=\"\",0,INDEX(SignalHeads[Height ** (feet)],MATCH(B227,SignalHeads[Code],0))),IF(D227=\"\",0,INDEX(SignalHeads[Height ** (feet)],MATCH(D227,SignalHeads[Code],0))),IF(E227=\"\",0,INDEX(SignalHeads[Height ** (feet)],MATCH(E227,SignalHeads[Code],0))),IF(F227=\"\",0,INDEX(SignalHeads[Height ** (feet)],MATCH(F227,SignalHeads[Code],0))),IF(G227=\"\",0,INDEX(SignalHeads[Height ** (feet)],MATCH(G227,SignalHeads[Code],0))),IF(H227=\"\",0,INDEX(SignalHeads[Height ** (feet)],MATCH(H227,SignalHeads[Code],0))),IF(I227=\"\",0,INDEX(SignalHeads[Height ** (feet)],MATCH(I227,SignalHeads[Code],0))))","v":0},{"$f":"IF(S227=0,\"\",ROUNDDOWN(12*(((Q227-S227)-MIN($Q$26:$Q$425-$S$26:$S$425)-(MAX($S$26:$S$425*(($Q$26:$Q$425-$S$26:$S$425)=MIN($Q$26:$Q$425-$S$26:$S$425)))-S227))+(MIN($Q$26:$Q$425-$S$26:$S$425)-$I$10)),0)/12)","v":""},"",{"$error":"#N/A"},17]
[203,null,null,null,null,null,null,null,null,{"$f":"SUM(IF(B228=\"\",0,INDEX(SignalHeads[Perp. Wind Area (sft)],MATCH(B228,SignalHeads[Code],0))),IF(D228=\"\",0,INDEX(SignalHeads[Perp. Wind Area (sft)],MATCH(D228,SignalHeads[Code],0))),IF(E228=\"\",0,INDEX(SignalHeads[Perp. Wind Area (sft)],MATCH(E228,SignalHeads[Code],0))),IF(F228=\"\",0,INDEX(SignalHeads[Perp. Wind Area (sft)],MATCH(F228,SignalHeads[Code],0))),IF(G228=\"\",0,INDEX(SignalHeads[Perp. Wind Area (sft)],MATCH(G228,SignalHeads[Code],0))),IF(H228=\"\",0,INDEX(SignalHeads[Perp. Wind Area (sft)],MATCH(H228,SignalHeads[Code],0))),IF(I228=\"\",0,INDEX(SignalHeads[Perp. Wind Area (sft)],MATCH(I228,SignalHeads[Code],0))))","v":0},{"$f":"SUM(IF(B228=\"\",0,INDEX(SignalHeads[Weight*** (lbs)],MATCH(B228,SignalHeads[Code],0))),IF(D228=\"\",0,INDEX(SignalHeads[Weight*** (lbs)],MATCH(D228,SignalHeads[Code],0))),IF(E228=\"\",0,INDEX(SignalHeads[Weight*** (lbs)],MATCH(E228,SignalHeads[Code],0))),IF(F228=\"\",0,INDEX(SignalHeads[Weight*** (lbs)],MATCH(F228,SignalHeads[Code],0))),IF(G228=\"\",0,INDEX(SignalHeads[Weight*** (lbs)],MATCH(G228,SignalHeads[Code],0))),IF(H228=\"\",0,INDEX(SignalHeads[Weight*** (lbs)],MATCH(H228,SignalHeads[Code],0))),IF(I228=\"\",0,INDEX(SignalHeads[Weight*** (lbs)],MATCH(I228,SignalHeads[Code],0))))","v":0},{"$f":"IF(A228<=$I$8,INDEX(DesignConstants[Value],MATCH(\"Span Wire Weight (plf)\",DesignConstants[Design Constant],0)),0)","v":1.155},0,233.88750000000002,{"$error":"#VALUE!"},{"$error":"#VALUE!"},{"$error":"#N/A"},{"$error":"#N/A"},{"$f":"SUM(IF(B228=\"\",0,INDEX(SignalHeads[Height ** (feet)],MATCH(B228,SignalHeads[Code],0))),IF(D228=\"\",0,INDEX(SignalHeads[Height ** (feet)],MATCH(D228,SignalHeads[Code],0))),IF(E228=\"\",0,INDEX(SignalHeads[Height ** (feet)],MATCH(E228,SignalHeads[Code],0))),IF(F228=\"\",0,INDEX(SignalHeads[Height ** (feet)],MATCH(F228,SignalHeads[Code],0))),IF(G228=\"\",0,INDEX(SignalHeads[Height ** (feet)],MATCH(G228,SignalHeads[Code],0))),IF(H228=\"\",0,INDEX(SignalHeads[Height ** (feet)],MATCH(H228,SignalHeads[Code],0))),IF(I228=\"\",0,INDEX(SignalHeads[Height ** (feet)],MATCH(I228,SignalHeads[Code],0))))","v":0},{"$f":"IF(S228=0,\"\",ROUNDDOWN(12*(((Q228-S228)-MIN($Q$26:$Q$425-$S$26:$S$425)-(MAX($S$26:$S$425*(($Q$26:$Q$425-$S$26:$S$425)=MIN($Q$26:$Q$425-$S$26:$S$425)))-S228))+(MIN($Q$26:$Q$425-$S$26:$S$425)-$I$10)),0)/12)","v":""},"",{"$error":"#N/A"},17]
[204,null,null,null,null,null,null,null,null,{"$f":"SUM(IF(B229=\"\",0,INDEX(SignalHeads[Perp. Wind Area (sft)],MATCH(B229,SignalHeads[Code],0))),IF(D229=\"\",0,INDEX(SignalHeads[Perp. Wind Area (sft)],MATCH(D229,SignalHeads[Code],0))),IF(E229=\"\",0,INDEX(SignalHeads[Perp. Wind Area (sft)],MATCH(E229,SignalHeads[Code],0))),IF(F229=\"\",0,INDEX(SignalHeads[Perp. Wind Area (sft)],MATCH(F229,SignalHeads[Code],0))),IF(G229=\"\",0,INDEX(SignalHeads[Perp. Wind Area (sft)],MATCH(G229,SignalHeads[Code],0))),IF(H229=\"\",0,INDEX(SignalHeads[Perp. Wind Area (sft)],MATCH(H229,SignalHeads[Code],0))),IF(I229=\"\",0,INDEX(SignalHeads[Perp. Wind Area (sft)],MATCH(I229,SignalHeads[Code],0))))","v":0},{"$f":"SUM(IF(B229=\"\",0,INDEX(SignalHeads[Weight*** (lbs)],MATCH(B229,SignalHeads[Code],0))),IF(D229=\"\",0,INDEX(SignalHeads[Weight*** (lbs)],MATCH(D229,SignalHeads[Code],0))),IF(E229=\"\",0,INDEX(SignalHeads[Weight*** (lbs)],MATCH(E229,SignalHeads[Code],0))),IF(F229=\"\",0,INDEX(SignalHeads[Weight*** (lbs)],MATCH(F229,SignalHeads[Code],0))),IF(G229=\"\",0,INDEX(SignalHeads[Weight*** (lbs)],MATCH(G229,SignalHeads[Code],0))),IF(H229=\"\",0,INDEX(SignalHeads[Weight*** (lbs)],MATCH(H229,SignalHeads[Code],0))),IF(I229=\"\",0,INDEX(SignalHeads[Weight*** (lbs)],MATCH(I229,SignalHeads[Code],0))))","v":0},{"$f":"IF(A229<=$I$8,INDEX(DesignConstants[Value],MATCH(\"Span Wire Weight (plf)\",DesignConstants[Design Constant],0)),0)","v":1.155},0,235.04250000000002,{"$error":"#VALUE!"},{"$error":"#VALUE!"},{"$error":"#N/A"},{"$error":"#N/A"},{"$f":"SUM(IF(B229=\"\",0,INDEX(SignalHeads[Height ** (feet)],MATCH(B229,SignalHeads[Code],0))),IF(D229=\"\",0,INDEX(SignalHeads[Height ** (feet)],MATCH(D229,SignalHeads[Code],0))),IF(E229=\"\",0,INDEX(SignalHeads[Height ** (feet)],MATCH(E229,SignalHeads[Code],0))),IF(F229=\"\",0,INDEX(SignalHeads[Height ** (feet)],MATCH(F229,SignalHeads[Code],0))),IF(G229=\"\",0,INDEX(SignalHeads[Height ** (feet)],MATCH(G229,SignalHeads[Code],0))),IF(H229=\"\",0,INDEX(SignalHeads[Height ** (feet)],MATCH(H229,SignalHeads[Code],0))),IF(I229=\"\",0,INDEX(SignalHeads[Height ** (feet)],MATCH(I229,SignalHeads[Code],0))))","v":0},{"$f":"IF(S229=0,\"\",ROUNDDOWN(12*(((Q229-S229)-MIN($Q$26:$Q$425-$S$26:$S$425)-(MAX($S$26:$S$425*(($Q$26:$Q$425-$S$26:$S$425)=MIN($Q$26:$Q$425-$S$26:$S$425)))-S229))+(MIN($Q$26:$Q$425-$S$26:$S$425)-$I$10)),0)/12)","v":""},"",{"$error":"#N/A"},17]
[205,null,null,null,null,null,null,null,null,{"$f":"SUM(IF(B230=\"\",0,INDEX(SignalHeads[Perp. Wind Area (sft)],MATCH(B230,SignalHeads[Code],0))),IF(D230=\"\",0,INDEX(SignalHeads[Perp. Wind Area (sft)],MATCH(D230,SignalHeads[Code],0))),IF(E230=\"\",0,INDEX(SignalHeads[Perp. Wind Area (sft)],MATCH(E230,SignalHeads[Code],0))),IF(F230=\"\",0,INDEX(SignalHeads[Perp. Wind Area (sft)],MATCH(F230,SignalHeads[Code],0))),IF(G230=\"\",0,INDEX(SignalHeads[Perp. Wind Area (sft)],MATCH(G230,SignalHeads[Code],0))),IF(H230=\"\",0,INDEX(SignalHeads[Perp. Wind Area (sft)],MATCH(H230,SignalHeads[Code],0))),IF(I230=\"\",0,INDEX(SignalHeads[Perp. Wind Area (sft)],MATCH(I230,SignalHeads[Code],0))))","v":0},{"$f":"SUM(IF(B230=\"\",0,INDEX(SignalHeads[Weight*** (lbs)],MATCH(B230,SignalHeads[Code],0))),IF(D230=\"\",0,INDEX(SignalHeads[Weight*** (lbs)],MATCH(D230,SignalHeads[Code],0))),IF(E230=\"\",0,INDEX(SignalHeads[Weight*** (lbs)],MATCH(E230,SignalHeads[Code],0))),IF(F230=\"\",0,INDEX(SignalHeads[Weight*** (lbs)],MATCH(F230,SignalHeads[Code],0))),IF(G230=\"\",0,INDEX(SignalHeads[Weight*** (lbs)],MATCH(G230,SignalHeads[Code],0))),IF(H230=\"\",0,INDEX(SignalHeads[Weight*** (lbs)],MATCH(H230,SignalHeads[Code],0))),IF(I230=\"\",0,INDEX(SignalHeads[Weight*** (lbs)],MATCH(I230,SignalHeads[Code],0))))","v":0},{"$f":"IF(A230<=$I$8,INDEX(DesignConstants[Value],MATCH(\"Span Wire Weight (plf)\",DesignConstants[Design Constant],0)),0)","v":1.155},0,236.19750000000002,{"$error":"#VALUE!"},{"$error":"#VALUE!"},{"$error":"#N/A"},{"$error":"#N/A"},{"$f":"SUM(IF(B230=\"\",0,INDEX(SignalHeads[Height ** (feet)],MATCH(B230,SignalHeads[Code],0))),IF(D230=\"\",0,INDEX(SignalHeads[Height ** (feet)],MATCH(D230,SignalHeads[Code],0))),IF(E230=\"\",0,INDEX(SignalHeads[Height ** (feet)],MATCH(E230,SignalHeads[Code],0))),IF(F230=\"\",0,INDEX(SignalHeads[Height ** (feet)],MATCH(F230,SignalHeads[Code],0))),IF(G230=\"\",0,INDEX(SignalHeads[Height ** (feet)],MATCH(G230,SignalHeads[Code],0))),IF(H230=\"\",0,INDEX(SignalHeads[Height ** (feet)],MATCH(H230,SignalHeads[Code],0))),IF(I230=\"\",0,INDEX(SignalHeads[Height ** (feet)],MATCH(I230,SignalHeads[Code],0))))","v":0},{"$f":"IF(S230=0,\"\",ROUNDDOWN(12*(((Q230-S230)-MIN($Q$26:$Q$425-$S$26:$S$425)-(MAX($S$26:$S$425*(($Q$26:$Q$425-$S$26:$S$425)=MIN($Q$26:$Q$425-$S$26:$S$425)))-S230))+(MIN($Q$26:$Q$425-$S$26:$S$425)-$I$10)),0)/12)","v":""},"",{"$error":"#N/A"},17]
[206,null,null,null,null,null,null,null,null,{"$f":"SUM(IF(B231=\"\",0,INDEX(SignalHeads[Perp. Wind Area (sft)],MATCH(B231,SignalHeads[Code],0))),IF(D231=\"\",0,INDEX(SignalHeads[Perp. Wind Area (sft)],MATCH(D231,SignalHeads[Code],0))),IF(E231=\"\",0,INDEX(SignalHeads[Perp. Wind Area (sft)],MATCH(E231,SignalHeads[Code],0))),IF(F231=\"\",0,INDEX(SignalHeads[Perp. Wind Area (sft)],MATCH(F231,SignalHeads[Code],0))),IF(G231=\"\",0,INDEX(SignalHeads[Perp. Wind Area (sft)],MATCH(G231,SignalHeads[Code],0))),IF(H231=\"\",0,INDEX(SignalHeads[Perp. Wind Area (sft)],MATCH(H231,SignalHeads[Code],0))),IF(I231=\"\",0,INDEX(SignalHeads[Perp. Wind Area (sft)],MATCH(I231,SignalHeads[Code],0))))","v":0},{"$f":"SUM(IF(B231=\"\",0,INDEX(SignalHeads[Weight*** (lbs)],MATCH(B231,SignalHeads[Code],0))),IF(D231=\"\",0,INDEX(SignalHeads[Weight*** (lbs)],MATCH(D231,SignalHeads[Code],0))),IF(E231=\"\",0,INDEX(SignalHeads[Weight*** (lbs)],MATCH(E231,SignalHeads[Code],0))),IF(F231=\"\",0,INDEX(SignalHeads[Weight*** (lbs)],MATCH(F231,SignalHeads[Code],0))),IF(G231=\"\",0,INDEX(SignalHeads[Weight*** (lbs)],MATCH(G231,SignalHeads[Code],0))),IF(H231=\"\",0,INDEX(SignalHeads[Weight*** (lbs)],MATCH(H231,SignalHeads[Code],0))),IF(I231=\"\",0,INDEX(SignalHeads[Weight*** (lbs)],MATCH(I231,SignalHeads[Code],0))))","v":0},{"$f":"IF(A231<=$I$8,INDEX(DesignConstants[Value],MATCH(\"Span Wire Weight (plf)\",DesignConstants[Design Constant],0)),0)","v":1.155},0,237.35249999999999,{"$error":"#VALUE!"},{"$error":"#VALUE!"},{"$error":"#N/A"},{"$error":"#N/A"},{"$f":"SUM(IF(B231=\"\",0,INDEX(SignalHeads[Height ** (feet)],MATCH(B231,SignalHeads[Code],0))),IF(D231=\"\",0,INDEX(SignalHeads[Height ** (feet)],MATCH(D231,SignalHeads[Code],0))),IF(E231=\"\",0,INDEX(SignalHeads[Height ** (feet)],MATCH(E231,SignalHeads[Code],0))),IF(F231=\"\",0,INDEX(SignalHeads[Height ** (feet)],MATCH(F231,SignalHeads[Code],0))),IF(G231=\"\",0,INDEX(SignalHeads[Height ** (feet)],MATCH(G231,SignalHeads[Code],0))),IF(H231=\"\",0,INDEX(SignalHeads[Height ** (feet)],MATCH(H231,SignalHeads[Code],0))),IF(I231=\"\",0,INDEX(SignalHeads[Height ** (feet)],MATCH(I231,SignalHeads[Code],0))))","v":0},{"$f":"IF(S231=0,\"\",ROUNDDOWN(12*(((Q231-S231)-MIN($Q$26:$Q$425-$S$26:$S$425)-(MAX($S$26:$S$425*(($Q$26:$Q$425-$S$26:$S$425)=MIN($Q$26:$Q$425-$S$26:$S$425)))-S231))+(MIN($Q$26:$Q$425-$S$26:$S$425)-$I$10)),0)/12)","v":""},"",{"$error":"#N/A"},17]
[207,null,null,null,null,null,null,null,null,{"$f":"SUM(IF(B232=\"\",0,INDEX(SignalHeads[Perp. Wind Area (sft)],MATCH(B232,SignalHeads[Code],0))),IF(D232=\"\",0,INDEX(SignalHeads[Perp. Wind Area (sft)],MATCH(D232,SignalHeads[Code],0))),IF(E232=\"\",0,INDEX(SignalHeads[Perp. Wind Area (sft)],MATCH(E232,SignalHeads[Code],0))),IF(F232=\"\",0,INDEX(SignalHeads[Perp. Wind Area (sft)],MATCH(F232,SignalHeads[Code],0))),IF(G232=\"\",0,INDEX(SignalHeads[Perp. Wind Area (sft)],MATCH(G232,SignalHeads[Code],0))),IF(H232=\"\",0,INDEX(SignalHeads[Perp. Wind Area (sft)],MATCH(H232,SignalHeads[Code],0))),IF(I232=\"\",0,INDEX(SignalHeads[Perp. Wind Area (sft)],MATCH(I232,SignalHeads[Code],0))))","v":0},{"$f":"SUM(IF(B232=\"\",0,INDEX(SignalHeads[Weight*** (lbs)],MATCH(B232,SignalHeads[Code],0))),IF(D232=\"\",0,INDEX(SignalHeads[Weight*** (lbs)],MATCH(D232,SignalHeads[Code],0))),IF(E232=\"\",0,INDEX(SignalHeads[Weight*** (lbs)],MATCH(E232,SignalHeads[Code],0))),IF(F232=\"\",0,INDEX(SignalHeads[Weight*** (lbs)],MATCH(F232,SignalHeads[Code],0))),IF(G232=\"\",0,INDEX(SignalHeads[Weight*** (lbs)],MATCH(G232,SignalHeads[Code],0))),IF(H232=\"\",0,INDEX(SignalHeads[Weight*** (lbs)],MATCH(H232,SignalHeads[Code],0))),IF(I232=\"\",0,INDEX(SignalHeads[Weight*** (lbs)],MATCH(I232,SignalHeads[Code],0))))","v":0},{"$f":"IF(A232<=$I$8,INDEX(DesignConstants[Value],MATCH(\"Span Wire Weight (plf)\",DesignConstants[Design Constant],0)),0)","v":1.155},0,238.50749999999999,{"$error":"#VALUE!"},{"$error":"#VALUE!"},{"$error":"#N/A"},{"$error":"#N/A"},{"$f":"SUM(IF(B232=\"\",0,INDEX(SignalHeads[Height ** (feet)],MATCH(B232,SignalHeads[Code],0))),IF(D232=\"\",0,INDEX(SignalHeads[Height ** (feet)],MATCH(D232,SignalHeads[Code],0))),IF(E232=\"\",0,INDEX(SignalHeads[Height ** (feet)],MATCH(E232,SignalHeads[Code],0))),IF(F232=\"\",0,INDEX(SignalHeads[Height ** (feet)],MATCH(F232,SignalHeads[Code],0))),IF(G232=\"\",0,INDEX(SignalHeads[Height ** (feet)],MATCH(G232,SignalHeads[Code],0))),IF(H232=\"\",0,INDEX(SignalHeads[Height ** (feet)],MATCH(H232,SignalHeads[Code],0))),IF(I232=\"\",0,INDEX(SignalHeads[Height ** (feet)],MATCH(I232,SignalHeads[Code],0))))","v":0},{"$f":"IF(S232=0,\"\",ROUNDDOWN(12*(((Q232-S232)-MIN($Q$26:$Q$425-$S$26:$S$425)-(MAX($S$26:$S$425*(($Q$26:$Q$425-$S$26:$S$425)=MIN($Q$26:$Q$425-$S$26:$S$425)))-S232))+(MIN($Q$26:$Q$425-$S$26:$S$425)-$I$10)),0)/12)","v":""},"",{"$error":"#N/A"},17]
[208,null,null,null,null,null,null,null,null,{"$f":"SUM(IF(B233=\"\",0,INDEX(SignalHeads[Perp. Wind Area (sft)],MATCH(B233,SignalHeads[Code],0))),IF(D233=\"\",0,INDEX(SignalHeads[Perp. Wind Area (sft)],MATCH(D233,SignalHeads[Code],0))),IF(E233=\"\",0,INDEX(SignalHeads[Perp. Wind Area (sft)],MATCH(E233,SignalHeads[Code],0))),IF(F233=\"\",0,INDEX(SignalHeads[Perp. Wind Area (sft)],MATCH(F233,SignalHeads[Code],0))),IF(G233=\"\",0,INDEX(SignalHeads[Perp. Wind Area (sft)],MATCH(G233,SignalHeads[Code],0))),IF(H233=\"\",0,INDEX(SignalHeads[Perp. Wind Area (sft)],MATCH(H233,SignalHeads[Code],0))),IF(I233=\"\",0,INDEX(SignalHeads[Perp. Wind Area (sft)],MATCH(I233,SignalHeads[Code],0))))","v":0},{"$f":"SUM(IF(B233=\"\",0,INDEX(SignalHeads[Weight*** (lbs)],MATCH(B233,SignalHeads[Code],0))),IF(D233=\"\",0,INDEX(SignalHeads[Weight*** (lbs)],MATCH(D233,SignalHeads[Code],0))),IF(E233=\"\",0,INDEX(SignalHeads[Weight*** (lbs)],MATCH(E233,SignalHeads[Code],0))),IF(F233=\"\",0,INDEX(SignalHeads[Weight*** (lbs)],MATCH(F233,SignalHeads[Code],0))),IF(G233=\"\",0,INDEX(SignalHeads[Weight*** (lbs)],MATCH(G233,SignalHeads[Code],0))),IF(H233=\"\",0,INDEX(SignalHeads[Weight*** (lbs)],MATCH(H233,SignalHeads[Code],0))),IF(I233=\"\",0,INDEX(SignalHeads[Weight*** (lbs)],MATCH(I233,SignalHeads[Code],0))))","v":0},{"$f":"IF(A233<=$I$8,INDEX(DesignConstants[Value],MATCH(\"Span Wire Weight (plf)\",DesignConstants[Design Constant],0)),0)","v":1.155},0,239.66249999999999,{"$error":"#VALUE!"},{"$error":"#VALUE!"},{"$error":"#N/A"},{"$error":"#N/A"},{"$f":"SUM(IF(B233=\"\",0,INDEX(SignalHeads[Height ** (feet)],MATCH(B233,SignalHeads[Code],0))),IF(D233=\"\",0,INDEX(SignalHeads[Height ** (feet)],MATCH(D233,SignalHeads[Code],0))),IF(E233=\"\",0,INDEX(SignalHeads[Height ** (feet)],MATCH(E233,SignalHeads[Code],0))),IF(F233=\"\",0,INDEX(SignalHeads[Height ** (feet)],MATCH(F233,SignalHeads[Code],0))),IF(G233=\"\",0,INDEX(SignalHeads[Height ** (feet)],MATCH(G233,SignalHeads[Code],0))),IF(H233=\"\",0,INDEX(SignalHeads[Height ** (feet)],MATCH(H233,SignalHeads[Code],0))),IF(I233=\"\",0,INDEX(SignalHeads[Height ** (feet)],MATCH(I233,SignalHeads[Code],0))))","v":0},{"$f":"IF(S233=0,\"\",ROUNDDOWN(12*(((Q233-S233)-MIN($Q$26:$Q$425-$S$26:$S$425)-(MAX($S$26:$S$425*(($Q$26:$Q$425-$S$26:$S$425)=MIN($Q$26:$Q$425-$S$26:$S$425)))-S233))+(MIN($Q$26:$Q$425-$S$26:$S$425)-$I$10)),0)/12)","v":""},"",{"$error":"#N/A"},17]
[209,null,null,null,null,null,null,null,null,{"$f":"SUM(IF(B234=\"\",0,INDEX(SignalHeads[Perp. Wind Area (sft)],MATCH(B234,SignalHeads[Code],0))),IF(D234=\"\",0,INDEX(SignalHeads[Perp. Wind Area (sft)],MATCH(D234,SignalHeads[Code],0))),IF(E234=\"\",0,INDEX(SignalHeads[Perp. Wind Area (sft)],MATCH(E234,SignalHeads[Code],0))),IF(F234=\"\",0,INDEX(SignalHeads[Perp. Wind Area (sft)],MATCH(F234,SignalHeads[Code],0))),IF(G234=\"\",0,INDEX(SignalHeads[Perp. Wind Area (sft)],MATCH(G234,SignalHeads[Code],0))),IF(H234=\"\",0,INDEX(SignalHeads[Perp. Wind Area (sft)],MATCH(H234,SignalHeads[Code],0))),IF(I234=\"\",0,INDEX(SignalHeads[Perp. Wind Area (sft)],MATCH(I234,SignalHeads[Code],0))))","v":0},{"$f":"SUM(IF(B234=\"\",0,INDEX(SignalHeads[Weight*** (lbs)],MATCH(B234,SignalHeads[Code],0))),IF(D234=\"\",0,INDEX(SignalHeads[Weight*** (lbs)],MATCH(D234,SignalHeads[Code],0))),IF(E234=\"\",0,INDEX(SignalHeads[Weight*** (lbs)],MATCH(E234,SignalHeads[Code],0))),IF(F234=\"\",0,INDEX(SignalHeads[Weight*** (lbs)],MATCH(F234,SignalHeads[Code],0))),IF(G234=\"\",0,INDEX(SignalHeads[Weight*** (lbs)],MATCH(G234,SignalHeads[Code],0))),IF(H234=\"\",0,INDEX(SignalHeads[Weight*** (lbs)],MATCH(H234,SignalHeads[Code],0))),IF(I234=\"\",0,INDEX(SignalHeads[Weight*** (lbs)],MATCH(I234,SignalHeads[Code],0))))","v":0},{"$f":"IF(A234<=$I$8,INDEX(DesignConstants[Value],MATCH(\"Span Wire Weight (plf)\",DesignConstants[Design Constant],0)),0)","v":1.155},0,240.8175,{"$error":"#VALUE!"},{"$error":"#VALUE!"},{"$error":"#N/A"},{"$error":"#N/A"},{"$f":"SUM(IF(B234=\"\",0,INDEX(SignalHeads[Height ** (feet)],MATCH(B234,SignalHeads[Code],0))),IF(D234=\"\",0,INDEX(SignalHeads[Height ** (feet)],MATCH(D234,SignalHeads[Code],0))),IF(E234=\"\",0,INDEX(SignalHeads[Height ** (feet)],MATCH(E234,SignalHeads[Code],0))),IF(F234=\"\",0,INDEX(SignalHeads[Height ** (feet)],MATCH(F234,SignalHeads[Code],0))),IF(G234=\"\",0,INDEX(SignalHeads[Height ** (feet)],MATCH(G234,SignalHeads[Code],0))),IF(H234=\"\",0,INDEX(SignalHeads[Height ** (feet)],MATCH(H234,SignalHeads[Code],0))),IF(I234=\"\",0,INDEX(SignalHeads[Height ** (feet)],MATCH(I234,SignalHeads[Code],0))))","v":0},{"$f":"IF(S234=0,\"\",ROUNDDOWN(12*(((Q234-S234)-MIN($Q$26:$Q$425-$S$26:$S$425)-(MAX($S$26:$S$425*(($Q$26:$Q$425-$S$26:$S$425)=MIN($Q$26:$Q$425-$S$26:$S$425)))-S234))+(MIN($Q$26:$Q$425-$S$26:$S$425)-$I$10)),0)/12)","v":""},"",{"$error":"#N/A"},17]
[210,null,null,null,null,null,null,null,null,{"$f":"SUM(IF(B235=\"\",0,INDEX(SignalHeads[Perp. Wind Area (sft)],MATCH(B235,SignalHeads[Code],0))),IF(D235=\"\",0,INDEX(SignalHeads[Perp. Wind Area (sft)],MATCH(D235,SignalHeads[Code],0))),IF(E235=\"\",0,INDEX(SignalHeads[Perp. Wind Area (sft)],MATCH(E235,SignalHeads[Code],0))),IF(F235=\"\",0,INDEX(SignalHeads[Perp. Wind Area (sft)],MATCH(F235,SignalHeads[Code],0))),IF(G235=\"\",0,INDEX(SignalHeads[Perp. Wind Area (sft)],MATCH(G235,SignalHeads[Code],0))),IF(H235=\"\",0,INDEX(SignalHeads[Perp. Wind Area (sft)],MATCH(H235,SignalHeads[Code],0))),IF(I235=\"\",0,INDEX(SignalHeads[Perp. Wind Area (sft)],MATCH(I235,SignalHeads[Code],0))))","v":0},{"$f":"SUM(IF(B235=\"\",0,INDEX(SignalHeads[Weight*** (lbs)],MATCH(B235,SignalHeads[Code],0))),IF(D235=\"\",0,INDEX(SignalHeads[Weight*** (lbs)],MATCH(D235,SignalHeads[Code],0))),IF(E235=\"\",0,INDEX(SignalHeads[Weight*** (lbs)],MATCH(E235,SignalHeads[Code],0))),IF(F235=\"\",0,INDEX(SignalHeads[Weight*** (lbs)],MATCH(F235,SignalHeads[Code],0))),IF(G235=\"\",0,INDEX(SignalHeads[Weight*** (lbs)],MATCH(G235,SignalHeads[Code],0))),IF(H235=\"\",0,INDEX(SignalHeads[Weight*** (lbs)],MATCH(H235,SignalHeads[Code],0))),IF(I235=\"\",0,INDEX(SignalHeads[Weight*** (lbs)],MATCH(I235,SignalHeads[Code],0))))","v":0},{"$f":"IF(A235<=$I$8,INDEX(DesignConstants[Value],MATCH(\"Span Wire Weight (plf)\",DesignConstants[Design Constant],0)),0)","v":1.155},0,241.9725,{"$error":"#VALUE!"},{"$error":"#VALUE!"},{"$error":"#N/A"},{"$error":"#N/A"},{"$f":"SUM(IF(B235=\"\",0,INDEX(SignalHeads[Height ** (feet)],MATCH(B235,SignalHeads[Code],0))),IF(D235=\"\",0,INDEX(SignalHeads[Height ** (feet)],MATCH(D235,SignalHeads[Code],0))),IF(E235=\"\",0,INDEX(SignalHeads[Height ** (feet)],MATCH(E235,SignalHeads[Code],0))),IF(F235=\"\",0,INDEX(SignalHeads[Height ** (feet)],MATCH(F235,SignalHeads[Code],0))),IF(G235=\"\",0,INDEX(SignalHeads[Height ** (feet)],MATCH(G235,SignalHeads[Code],0))),IF(H235=\"\",0,INDEX(SignalHeads[Height ** (feet)],MATCH(H235,SignalHeads[Code],0))),IF(I235=\"\",0,INDEX(SignalHeads[Height ** (feet)],MATCH(I235,SignalHeads[Code],0))))","v":0},{"$f":"IF(S235=0,\"\",ROUNDDOWN(12*(((Q235-S235)-MIN($Q$26:$Q$425-$S$26:$S$425)-(MAX($S$26:$S$425*(($Q$26:$Q$425-$S$26:$S$425)=MIN($Q$26:$Q$425-$S$26:$S$425)))-S235))+(MIN($Q$26:$Q$425-$S$26:$S$425)-$I$10)),0)/12)","v":""},"",{"$error":"#N/A"},17]
[211,null,null,null,null,null,null,null,null,{"$f":"SUM(IF(B236=\"\",0,INDEX(SignalHeads[Perp. Wind Area (sft)],MATCH(B236,SignalHeads[Code],0))),IF(D236=\"\",0,INDEX(SignalHeads[Perp. Wind Area (sft)],MATCH(D236,SignalHeads[Code],0))),IF(E236=\"\",0,INDEX(SignalHeads[Perp. Wind Area (sft)],MATCH(E236,SignalHeads[Code],0))),IF(F236=\"\",0,INDEX(SignalHeads[Perp. Wind Area (sft)],MATCH(F236,SignalHeads[Code],0))),IF(G236=\"\",0,INDEX(SignalHeads[Perp. Wind Area (sft)],MATCH(G236,SignalHeads[Code],0))),IF(H236=\"\",0,INDEX(SignalHeads[Perp. Wind Area (sft)],MATCH(H236,SignalHeads[Code],0))),IF(I236=\"\",0,INDEX(SignalHeads[Perp. Wind Area (sft)],MATCH(I236,SignalHeads[Code],0))))","v":0},{"$f":"SUM(IF(B236=\"\",0,INDEX(SignalHeads[Weight*** (lbs)],MATCH(B236,SignalHeads[Code],0))),IF(D236=\"\",0,INDEX(SignalHeads[Weight*** (lbs)],MATCH(D236,SignalHeads[Code],0))),IF(E236=\"\",0,INDEX(SignalHeads[Weight*** (lbs)],MATCH(E236,SignalHeads[Code],0))),IF(F236=\"\",0,INDEX(SignalHeads[Weight*** (lbs)],MATCH(F236,SignalHeads[Code],0))),IF(G236=\"\",0,INDEX(SignalHeads[Weight*** (lbs)],MATCH(G236,SignalHeads[Code],0))),IF(H236=\"\",0,INDEX(SignalHeads[Weight*** (lbs)],MATCH(H236,SignalHeads[Code],0))),IF(I236=\"\",0,INDEX(SignalHeads[Weight*** (lbs)],MATCH(I236,SignalHeads[Code],0))))","v":0},{"$f":"IF(A236<=$I$8,INDEX(DesignConstants[Value],MATCH(\"Span Wire Weight (plf)\",DesignConstants[Design Constant],0)),0)","v":1.155},0,243.1275,{"$error":"#VALUE!"},{"$error":"#VALUE!"},{"$error":"#N/A"},{"$error":"#N/A"},{"$f":"SUM(IF(B236=\"\",0,INDEX(SignalHeads[Height ** (feet)],MATCH(B236,SignalHeads[Code],0))),IF(D236=\"\",0,INDEX(SignalHeads[Height ** (feet)],MATCH(D236,SignalHeads[Code],0))),IF(E236=\"\",0,INDEX(SignalHeads[Height ** (feet)],MATCH(E236,SignalHeads[Code],0))),IF(F236=\"\",0,INDEX(SignalHeads[Height ** (feet)],MATCH(F236,SignalHeads[Code],0))),IF(G236=\"\",0,INDEX(SignalHeads[Height ** (feet)],MATCH(G236,SignalHeads[Code],0))),IF(H236=\"\",0,INDEX(SignalHeads[Height ** (feet)],MATCH(H236,SignalHeads[Code],0))),IF(I236=\"\",0,INDEX(SignalHeads[Height ** (feet)],MATCH(I236,SignalHeads[Code],0))))","v":0},{"$f":"IF(S236=0,\"\",ROUNDDOWN(12*(((Q236-S236)-MIN($Q$26:$Q$425-$S$26:$S$425)-(MAX($S$26:$S$425*(($Q$26:$Q$425-$S$26:$S$425)=MIN($Q$26:$Q$425-$S$26:$S$425)))-S236))+(MIN($Q$26:$Q$425-$S$26:$S$425)-$I$10)),0)/12)","v":""},"",{"$error":"#N/A"},17]
[212,null,null,null,null,null,null,null,null,{"$f":"SUM(IF(B237=\"\",0,INDEX(SignalHeads[Perp. Wind Area (sft)],MATCH(B237,SignalHeads[Code],0))),IF(D237=\"\",0,INDEX(SignalHeads[Perp. Wind Area (sft)],MATCH(D237,SignalHeads[Code],0))),IF(E237=\"\",0,INDEX(SignalHeads[Perp. Wind Area (sft)],MATCH(E237,SignalHeads[Code],0))),IF(F237=\"\",0,INDEX(SignalHeads[Perp. Wind Area (sft)],MATCH(F237,SignalHeads[Code],0))),IF(G237=\"\",0,INDEX(SignalHeads[Perp. Wind Area (sft)],MATCH(G237,SignalHeads[Code],0))),IF(H237=\"\",0,INDEX(SignalHeads[Perp. Wind Area (sft)],MATCH(H237,SignalHeads[Code],0))),IF(I237=\"\",0,INDEX(SignalHeads[Perp. Wind Area (sft)],MATCH(I237,SignalHeads[Code],0))))","v":0},{"$f":"SUM(IF(B237=\"\",0,INDEX(SignalHeads[Weight*** (lbs)],MATCH(B237,SignalHeads[Code],0))),IF(D237=\"\",0,INDEX(SignalHeads[Weight*** (lbs)],MATCH(D237,SignalHeads[Code],0))),IF(E237=\"\",0,INDEX(SignalHeads[Weight*** (lbs)],MATCH(E237,SignalHeads[Code],0))),IF(F237=\"\",0,INDEX(SignalHeads[Weight*** (lbs)],MATCH(F237,SignalHeads[Code],0))),IF(G237=\"\",0,INDEX(SignalHeads[Weight*** (lbs)],MATCH(G237,SignalHeads[Code],0))),IF(H237=\"\",0,INDEX(SignalHeads[Weight*** (lbs)],MATCH(H237,SignalHeads[Code],0))),IF(I237=\"\",0,INDEX(SignalHeads[Weight*** (lbs)],MATCH(I237,SignalHeads[Code],0))))","v":0},{"$f":"IF(A237<=$I$8,INDEX(DesignConstants[Value],MATCH(\"Span Wire Weight (plf)\",DesignConstants[Design Constant],0)),0)","v":1.155},0,244.2825,{"$error":"#VALUE!"},{"$error":"#VALUE!"},{"$error":"#N/A"},{"$error":"#N/A"},{"$f":"SUM(IF(B237=\"\",0,INDEX(SignalHeads[Height ** (feet)],MATCH(B237,SignalHeads[Code],0))),IF(D237=\"\",0,INDEX(SignalHeads[Height ** (feet)],MATCH(D237,SignalHeads[Code],0))),IF(E237=\"\",0,INDEX(SignalHeads[Height ** (feet)],MATCH(E237,SignalHeads[Code],0))),IF(F237=\"\",0,INDEX(SignalHeads[Height ** (feet)],MATCH(F237,SignalHeads[Code],0))),IF(G237=\"\",0,INDEX(SignalHeads[Height ** (feet)],MATCH(G237,SignalHeads[Code],0))),IF(H237=\"\",0,INDEX(SignalHeads[Height ** (feet)],MATCH(H237,SignalHeads[Code],0))),IF(I237=\"\",0,INDEX(SignalHeads[Height ** (feet)],MATCH(I237,SignalHeads[Code],0))))","v":0},{"$f":"IF(S237=0,\"\",ROUNDDOWN(12*(((Q237-S237)-MIN($Q$26:$Q$425-$S$26:$S$425)-(MAX($S$26:$S$425*(($Q$26:$Q$425-$S$26:$S$425)=MIN($Q$26:$Q$425-$S$26:$S$425)))-S237))+(MIN($Q$26:$Q$425-$S$26:$S$425)-$I$10)),0)/12)","v":""},"",{"$error":"#N/A"},17]
[213,null,null,null,null,null,null,null,null,{"$f":"SUM(IF(B238=\"\",0,INDEX(SignalHeads[Perp. Wind Area (sft)],MATCH(B238,SignalHeads[Code],0))),IF(D238=\"\",0,INDEX(SignalHeads[Perp. Wind Area (sft)],MATCH(D238,SignalHeads[Code],0))),IF(E238=\"\",0,INDEX(SignalHeads[Perp. Wind Area (sft)],MATCH(E238,SignalHeads[Code],0))),IF(F238=\"\",0,INDEX(SignalHeads[Perp. Wind Area (sft)],MATCH(F238,SignalHeads[Code],0))),IF(G238=\"\",0,INDEX(SignalHeads[Perp. Wind Area (sft)],MATCH(G238,SignalHeads[Code],0))),IF(H238=\"\",0,INDEX(SignalHeads[Perp. Wind Area (sft)],MATCH(H238,SignalHeads[Code],0))),IF(I238=\"\",0,INDEX(SignalHeads[Perp. Wind Area (sft)],MATCH(I238,SignalHeads[Code],0))))","v":0},{"$f":"SUM(IF(B238=\"\",0,INDEX(SignalHeads[Weight*** (lbs)],MATCH(B238,SignalHeads[Code],0))),IF(D238=\"\",0,INDEX(SignalHeads[Weight*** (lbs)],MATCH(D238,SignalHeads[Code],0))),IF(E238=\"\",0,INDEX(SignalHeads[Weight*** (lbs)],MATCH(E238,SignalHeads[Code],0))),IF(F238=\"\",0,INDEX(SignalHeads[Weight*** (lbs)],MATCH(F238,SignalHeads[Code],0))),IF(G238=\"\",0,INDEX(SignalHeads[Weight*** (lbs)],MATCH(G238,SignalHeads[Code],0))),IF(H238=\"\",0,INDEX(SignalHeads[Weight*** (lbs)],MATCH(H238,SignalHeads[Code],0))),IF(I238=\"\",0,INDEX(SignalHeads[Weight*** (lbs)],MATCH(I238,SignalHeads[Code],0))))","v":0},{"$f":"IF(A238<=$I$8,INDEX(DesignConstants[Value],MATCH(\"Span Wire Weight (plf)\",DesignConstants[Design Constant],0)),0)","v":1.155},0,245.4375,{"$error":"#VALUE!"},{"$error":"#VALUE!"},{"$error":"#N/A"},{"$error":"#N/A"},{"$f":"SUM(IF(B238=\"\",0,INDEX(SignalHeads[Height ** (feet)],MATCH(B238,SignalHeads[Code],0))),IF(D238=\"\",0,INDEX(SignalHeads[Height ** (feet)],MATCH(D238,SignalHeads[Code],0))),IF(E238=\"\",0,INDEX(SignalHeads[Height ** (feet)],MATCH(E238,SignalHeads[Code],0))),IF(F238=\"\",0,INDEX(SignalHeads[Height ** (feet)],MATCH(F238,SignalHeads[Code],0))),IF(G238=\"\",0,INDEX(SignalHeads[Height ** (feet)],MATCH(G238,SignalHeads[Code],0))),IF(H238=\"\",0,INDEX(SignalHeads[Height ** (feet)],MATCH(H238,SignalHeads[Code],0))),IF(I238=\"\",0,INDEX(SignalHeads[Height ** (feet)],MATCH(I238,SignalHeads[Code],0))))","v":0},{"$f":"IF(S238=0,\"\",ROUNDDOWN(12*(((Q238-S238)-MIN($Q$26:$Q$425-$S$26:$S$425)-(MAX($S$26:$S$425*(($Q$26:$Q$425-$S$26:$S$425)=MIN($Q$26:$Q$425-$S$26:$S$425)))-S238))+(MIN($Q$26:$Q$425-$S$26:$S$425)-$I$10)),0)/12)","v":""},"",{"$error":"#N/A"},17]
[214,null,null,null,null,null,null,null,null,{"$f":"SUM(IF(B239=\"\",0,INDEX(SignalHeads[Perp. Wind Area (sft)],MATCH(B239,SignalHeads[Code],0))),IF(D239=\"\",0,INDEX(SignalHeads[Perp. Wind Area (sft)],MATCH(D239,SignalHeads[Code],0))),IF(E239=\"\",0,INDEX(SignalHeads[Perp. Wind Area (sft)],MATCH(E239,SignalHeads[Code],0))),IF(F239=\"\",0,INDEX(SignalHeads[Perp. Wind Area (sft)],MATCH(F239,SignalHeads[Code],0))),IF(G239=\"\",0,INDEX(SignalHeads[Perp. Wind Area (sft)],MATCH(G239,SignalHeads[Code],0))),IF(H239=\"\",0,INDEX(SignalHeads[Perp. Wind Area (sft)],MATCH(H239,SignalHeads[Code],0))),IF(I239=\"\",0,INDEX(SignalHeads[Perp. Wind Area (sft)],MATCH(I239,SignalHeads[Code],0))))","v":0},{"$f":"SUM(IF(B239=\"\",0,INDEX(SignalHeads[Weight*** (lbs)],MATCH(B239,SignalHeads[Code],0))),IF(D239=\"\",0,INDEX(SignalHeads[Weight*** (lbs)],MATCH(D239,SignalHeads[Code],0))),IF(E239=\"\",0,INDEX(SignalHeads[Weight*** (lbs)],MATCH(E239,SignalHeads[Code],0))),IF(F239=\"\",0,INDEX(SignalHeads[Weight*** (lbs)],MATCH(F239,SignalHeads[Code],0))),IF(G239=\"\",0,INDEX(SignalHeads[Weight*** (lbs)],MATCH(G239,SignalHeads[Code],0))),IF(H239=\"\",0,INDEX(SignalHeads[Weight*** (lbs)],MATCH(H239,SignalHeads[Code],0))),IF(I239=\"\",0,INDEX(SignalHeads[Weight*** (lbs)],MATCH(I239,SignalHeads[Code],0))))","v":0},{"$f":"IF(A239<=$I$8,INDEX(DesignConstants[Value],MATCH(\"Span Wire Weight (plf)\",DesignConstants[Design Constant],0)),0)","v":1.155},0,246.5925,{"$error":"#VALUE!"},{"$error":"#VALUE!"},{"$error":"#N/A"},{"$error":"#N/A"},{"$f":"SUM(IF(B239=\"\",0,INDEX(SignalHeads[Height ** (feet)],MATCH(B239,SignalHeads[Code],0))),IF(D239=\"\",0,INDEX(SignalHeads[Height ** (feet)],MATCH(D239,SignalHeads[Code],0))),IF(E239=\"\",0,INDEX(SignalHeads[Height ** (feet)],MATCH(E239,SignalHeads[Code],0))),IF(F239=\"\",0,INDEX(SignalHeads[Height ** (feet)],MATCH(F239,SignalHeads[Code],0))),IF(G239=\"\",0,INDEX(SignalHeads[Height ** (feet)],MATCH(G239,SignalHeads[Code],0))),IF(H239=\"\",0,INDEX(SignalHeads[Height ** (feet)],MATCH(H239,SignalHeads[Code],0))),IF(I239=\"\",0,INDEX(SignalHeads[Height ** (feet)],MATCH(I239,SignalHeads[Code],0))))","v":0},{"$f":"IF(S239=0,\"\",ROUNDDOWN(12*(((Q239-S239)-MIN($Q$26:$Q$425-$S$26:$S$425)-(MAX($S$26:$S$425*(($Q$26:$Q$425-$S$26:$S$425)=MIN($Q$26:$Q$425-$S$26:$S$425)))-S239))+(MIN($Q$26:$Q$425-$S$26:$S$425)-$I$10)),0)/12)","v":""},"",{"$error":"#N/A"},17]
[215,null,null,null,null,null,null,null,null,{"$f":"SUM(IF(B240=\"\",0,INDEX(SignalHeads[Perp. Wind Area (sft)],MATCH(B240,SignalHeads[Code],0))),IF(D240=\"\",0,INDEX(SignalHeads[Perp. Wind Area (sft)],MATCH(D240,SignalHeads[Code],0))),IF(E240=\"\",0,INDEX(SignalHeads[Perp. Wind Area (sft)],MATCH(E240,SignalHeads[Code],0))),IF(F240=\"\",0,INDEX(SignalHeads[Perp. Wind Area (sft)],MATCH(F240,SignalHeads[Code],0))),IF(G240=\"\",0,INDEX(SignalHeads[Perp. Wind Area (sft)],MATCH(G240,SignalHeads[Code],0))),IF(H240=\"\",0,INDEX(SignalHeads[Perp. Wind Area (sft)],MATCH(H240,SignalHeads[Code],0))),IF(I240=\"\",0,INDEX(SignalHeads[Perp. Wind Area (sft)],MATCH(I240,SignalHeads[Code],0))))","v":0},{"$f":"SUM(IF(B240=\"\",0,INDEX(SignalHeads[Weight*** (lbs)],MATCH(B240,SignalHeads[Code],0))),IF(D240=\"\",0,INDEX(SignalHeads[Weight*** (lbs)],MATCH(D240,SignalHeads[Code],0))),IF(E240=\"\",0,INDEX(SignalHeads[Weight*** (lbs)],MATCH(E240,SignalHeads[Code],0))),IF(F240=\"\",0,INDEX(SignalHeads[Weight*** (lbs)],MATCH(F240,SignalHeads[Code],0))),IF(G240=\"\",0,INDEX(SignalHeads[Weight*** (lbs)],MATCH(G240,SignalHeads[Code],0))),IF(H240=\"\",0,INDEX(SignalHeads[Weight*** (lbs)],MATCH(H240,SignalHeads[Code],0))),IF(I240=\"\",0,INDEX(SignalHeads[Weight*** (lbs)],MATCH(I240,SignalHeads[Code],0))))","v":0},{"$f":"IF(A240<=$I$8,INDEX(DesignConstants[Value],MATCH(\"Span Wire Weight (plf)\",DesignConstants[Design Constant],0)),0)","v":1.155},0,247.7475,{"$error":"#VALUE!"},{"$error":"#VALUE!"},{"$error":"#N/A"},{"$error":"#N/A"},{"$f":"SUM(IF(B240=\"\",0,INDEX(SignalHeads[Height ** (feet)],MATCH(B240,SignalHeads[Code],0))),IF(D240=\"\",0,INDEX(SignalHeads[Height ** (feet)],MATCH(D240,SignalHeads[Code],0))),IF(E240=\"\",0,INDEX(SignalHeads[Height ** (feet)],MATCH(E240,SignalHeads[Code],0))),IF(F240=\"\",0,INDEX(SignalHeads[Height ** (feet)],MATCH(F240,SignalHeads[Code],0))),IF(G240=\"\",0,INDEX(SignalHeads[Height ** (feet)],MATCH(G240,SignalHeads[Code],0))),IF(H240=\"\",0,INDEX(SignalHeads[Height ** (feet)],MATCH(H240,SignalHeads[Code],0))),IF(I240=\"\",0,INDEX(SignalHeads[Height ** (feet)],MATCH(I240,SignalHeads[Code],0))))","v":0},{"$f":"IF(S240=0,\"\",ROUNDDOWN(12*(((Q240-S240)-MIN($Q$26:$Q$425-$S$26:$S$425)-(MAX($S$26:$S$425*(($Q$26:$Q$425-$S$26:$S$425)=MIN($Q$26:$Q$425-$S$26:$S$425)))-S240))+(MIN($Q$26:$Q$425-$S$26:$S$425)-$I$10)),0)/12)","v":""},"",{"$error":"#N/A"},17]
[216,null,null,null,null,null,null,null,null,{"$f":"SUM(IF(B241=\"\",0,INDEX(SignalHeads[Perp. Wind Area (sft)],MATCH(B241,SignalHeads[Code],0))),IF(D241=\"\",0,INDEX(SignalHeads[Perp. Wind Area (sft)],MATCH(D241,SignalHeads[Code],0))),IF(E241=\"\",0,INDEX(SignalHeads[Perp. Wind Area (sft)],MATCH(E241,SignalHeads[Code],0))),IF(F241=\"\",0,INDEX(SignalHeads[Perp. Wind Area (sft)],MATCH(F241,SignalHeads[Code],0))),IF(G241=\"\",0,INDEX(SignalHeads[Perp. Wind Area (sft)],MATCH(G241,SignalHeads[Code],0))),IF(H241=\"\",0,INDEX(SignalHeads[Perp. Wind Area (sft)],MATCH(H241,SignalHeads[Code],0))),IF(I241=\"\",0,INDEX(SignalHeads[Perp. Wind Area (sft)],MATCH(I241,SignalHeads[Code],0))))","v":0},{"$f":"SUM(IF(B241=\"\",0,INDEX(SignalHeads[Weight*** (lbs)],MATCH(B241,SignalHeads[Code],0))),IF(D241=\"\",0,INDEX(SignalHeads[Weight*** (lbs)],MATCH(D241,SignalHeads[Code],0))),IF(E241=\"\",0,INDEX(SignalHeads[Weight*** (lbs)],MATCH(E241,SignalHeads[Code],0))),IF(F241=\"\",0,INDEX(SignalHeads[Weight*** (lbs)],MATCH(F241,SignalHeads[Code],0))),IF(G241=\"\",0,INDEX(SignalHeads[Weight*** (lbs)],MATCH(G241,SignalHeads[Code],0))),IF(H241=\"\",0,INDEX(SignalHeads[Weight*** (lbs)],MATCH(H241,SignalHeads[Code],0))),IF(I241=\"\",0,INDEX(SignalHeads[Weight*** (lbs)],MATCH(I241,SignalHeads[Code],0))))","v":0},{"$f":"IF(A241<=$I$8,INDEX(DesignConstants[Value],MATCH(\"Span Wire Weight (plf)\",DesignConstants[Design Constant],0)),0)","v":1.155},0,248.9025,{"$error":"#VALUE!"},{"$error":"#VALUE!"},{"$error":"#N/A"},{"$error":"#N/A"},{"$f":"SUM(IF(B241=\"\",0,INDEX(SignalHeads[Height ** (feet)],MATCH(B241,SignalHeads[Code],0))),IF(D241=\"\",0,INDEX(SignalHeads[Height ** (feet)],MATCH(D241,SignalHeads[Code],0))),IF(E241=\"\",0,INDEX(SignalHeads[Height ** (feet)],MATCH(E241,SignalHeads[Code],0))),IF(F241=\"\",0,INDEX(SignalHeads[Height ** (feet)],MATCH(F241,SignalHeads[Code],0))),IF(G241=\"\",0,INDEX(SignalHeads[Height ** (feet)],MATCH(G241,SignalHeads[Code],0))),IF(H241=\"\",0,INDEX(SignalHeads[Height ** (feet)],MATCH(H241,SignalHeads[Code],0))),IF(I241=\"\",0,INDEX(SignalHeads[Height ** (feet)],MATCH(I241,SignalHeads[Code],0))))","v":0},{"$f":"IF(S241=0,\"\",ROUNDDOWN(12*(((Q241-S241)-MIN($Q$26:$Q$425-$S$26:$S$425)-(MAX($S$26:$S$425*(($Q$26:$Q$425-$S$26:$S$425)=MIN($Q$26:$Q$425-$S$26:$S$425)))-S241))+(MIN($Q$26:$Q$425-$S$26:$S$425)-$I$10)),0)/12)","v":""},"",{"$error":"#N/A"},17]
[217,null,null,null,null,null,null,null,null,{"$f":"SUM(IF(B242=\"\",0,INDEX(SignalHeads[Perp. Wind Area (sft)],MATCH(B242,SignalHeads[Code],0))),IF(D242=\"\",0,INDEX(SignalHeads[Perp. Wind Area (sft)],MATCH(D242,SignalHeads[Code],0))),IF(E242=\"\",0,INDEX(SignalHeads[Perp. Wind Area (sft)],MATCH(E242,SignalHeads[Code],0))),IF(F242=\"\",0,INDEX(SignalHeads[Perp. Wind Area (sft)],MATCH(F242,SignalHeads[Code],0))),IF(G242=\"\",0,INDEX(SignalHeads[Perp. Wind Area (sft)],MATCH(G242,SignalHeads[Code],0))),IF(H242=\"\",0,INDEX(SignalHeads[Perp. Wind Area (sft)],MATCH(H242,SignalHeads[Code],0))),IF(I242=\"\",0,INDEX(SignalHeads[Perp. Wind Area (sft)],MATCH(I242,SignalHeads[Code],0))))","v":0},{"$f":"SUM(IF(B242=\"\",0,INDEX(SignalHeads[Weight*** (lbs)],MATCH(B242,SignalHeads[Code],0))),IF(D242=\"\",0,INDEX(SignalHeads[Weight*** (lbs)],MATCH(D242,SignalHeads[Code],0))),IF(E242=\"\",0,INDEX(SignalHeads[Weight*** (lbs)],MATCH(E242,SignalHeads[Code],0))),IF(F242=\"\",0,INDEX(SignalHeads[Weight*** (lbs)],MATCH(F242,SignalHeads[Code],0))),IF(G242=\"\",0,INDEX(SignalHeads[Weight*** (lbs)],MATCH(G242,SignalHeads[Code],0))),IF(H242=\"\",0,INDEX(SignalHeads[Weight*** (lbs)],MATCH(H242,SignalHeads[Code],0))),IF(I242=\"\",0,INDEX(SignalHeads[Weight*** (lbs)],MATCH(I242,SignalHeads[Code],0))))","v":0},{"$f":"IF(A242<=$I$8,INDEX(DesignConstants[Value],MATCH(\"Span Wire Weight (plf)\",DesignConstants[Design Constant],0)),0)","v":1.155},0,250.0575,{"$error":"#VALUE!"},{"$error":"#VALUE!"},{"$error":"#N/A"},{"$error":"#N/A"},{"$f":"SUM(IF(B242=\"\",0,INDEX(SignalHeads[Height ** (feet)],MATCH(B242,SignalHeads[Code],0))),IF(D242=\"\",0,INDEX(SignalHeads[Height ** (feet)],MATCH(D242,SignalHeads[Code],0))),IF(E242=\"\",0,INDEX(SignalHeads[Height ** (feet)],MATCH(E242,SignalHeads[Code],0))),IF(F242=\"\",0,INDEX(SignalHeads[Height ** (feet)],MATCH(F242,SignalHeads[Code],0))),IF(G242=\"\",0,INDEX(SignalHeads[Height ** (feet)],MATCH(G242,SignalHeads[Code],0))),IF(H242=\"\",0,INDEX(SignalHeads[Height ** (feet)],MATCH(H242,SignalHeads[Code],0))),IF(I242=\"\",0,INDEX(SignalHeads[Height ** (feet)],MATCH(I242,SignalHeads[Code],0))))","v":0},{"$f":"IF(S242=0,\"\",ROUNDDOWN(12*(((Q242-S242)-MIN($Q$26:$Q$425-$S$26:$S$425)-(MAX($S$26:$S$425*(($Q$26:$Q$425-$S$26:$S$425)=MIN($Q$26:$Q$425-$S$26:$S$425)))-S242))+(MIN($Q$26:$Q$425-$S$26:$S$425)-$I$10)),0)/12)","v":""},"",{"$error":"#N/A"},17]
[218,null,null,null,null,null,null,null,null,{"$f":"SUM(IF(B243=\"\",0,INDEX(SignalHeads[Perp. Wind Area (sft)],MATCH(B243,SignalHeads[Code],0))),IF(D243=\"\",0,INDEX(SignalHeads[Perp. Wind Area (sft)],MATCH(D243,SignalHeads[Code],0))),IF(E243=\"\",0,INDEX(SignalHeads[Perp. Wind Area (sft)],MATCH(E243,SignalHeads[Code],0))),IF(F243=\"\",0,INDEX(SignalHeads[Perp. Wind Area (sft)],MATCH(F243,SignalHeads[Code],0))),IF(G243=\"\",0,INDEX(SignalHeads[Perp. Wind Area (sft)],MATCH(G243,SignalHeads[Code],0))),IF(H243=\"\",0,INDEX(SignalHeads[Perp. Wind Area (sft)],MATCH(H243,SignalHeads[Code],0))),IF(I243=\"\",0,INDEX(SignalHeads[Perp. Wind Area (sft)],MATCH(I243,SignalHeads[Code],0))))","v":0},{"$f":"SUM(IF(B243=\"\",0,INDEX(SignalHeads[Weight*** (lbs)],MATCH(B243,SignalHeads[Code],0))),IF(D243=\"\",0,INDEX(SignalHeads[Weight*** (lbs)],MATCH(D243,SignalHeads[Code],0))),IF(E243=\"\",0,INDEX(SignalHeads[Weight*** (lbs)],MATCH(E243,SignalHeads[Code],0))),IF(F243=\"\",0,INDEX(SignalHeads[Weight*** (lbs)],MATCH(F243,SignalHeads[Code],0))),IF(G243=\"\",0,INDEX(SignalHeads[Weight*** (lbs)],MATCH(G243,SignalHeads[Code],0))),IF(H243=\"\",0,INDEX(SignalHeads[Weight*** (lbs)],MATCH(H243,SignalHeads[Code],0))),IF(I243=\"\",0,INDEX(SignalHeads[Weight*** (lbs)],MATCH(I243,SignalHeads[Code],0))))","v":0},{"$f":"IF(A243<=$I$8,INDEX(DesignConstants[Value],MATCH(\"Span Wire Weight (plf)\",DesignConstants[Design Constant],0)),0)","v":1.155},0,251.21250000000001,{"$error":"#VALUE!"},{"$error":"#VALUE!"},{"$error":"#N/A"},{"$error":"#N/A"},{"$f":"SUM(IF(B243=\"\",0,INDEX(SignalHeads[Height ** (feet)],MATCH(B243,SignalHeads[Code],0))),IF(D243=\"\",0,INDEX(SignalHeads[Height ** (feet)],MATCH(D243,SignalHeads[Code],0))),IF(E243=\"\",0,INDEX(SignalHeads[Height ** (feet)],MATCH(E243,SignalHeads[Code],0))),IF(F243=\"\",0,INDEX(SignalHeads[Height ** (feet)],MATCH(F243,SignalHeads[Code],0))),IF(G243=\"\",0,INDEX(SignalHeads[Height ** (feet)],MATCH(G243,SignalHeads[Code],0))),IF(H243=\"\",0,INDEX(SignalHeads[Height ** (feet)],MATCH(H243,SignalHeads[Code],0))),IF(I243=\"\",0,INDEX(SignalHeads[Height ** (feet)],MATCH(I243,SignalHeads[Code],0))))","v":0},{"$f":"IF(S243=0,\"\",ROUNDDOWN(12*(((Q243-S243)-MIN($Q$26:$Q$425-$S$26:$S$425)-(MAX($S$26:$S$425*(($Q$26:$Q$425-$S$26:$S$425)=MIN($Q$26:$Q$425-$S$26:$S$425)))-S243))+(MIN($Q$26:$Q$425-$S$26:$S$425)-$I$10)),0)/12)","v":""},"",{"$error":"#N/A"},17]
[219,null,null,null,null,null,null,null,null,{"$f":"SUM(IF(B244=\"\",0,INDEX(SignalHeads[Perp. Wind Area (sft)],MATCH(B244,SignalHeads[Code],0))),IF(D244=\"\",0,INDEX(SignalHeads[Perp. Wind Area (sft)],MATCH(D244,SignalHeads[Code],0))),IF(E244=\"\",0,INDEX(SignalHeads[Perp. Wind Area (sft)],MATCH(E244,SignalHeads[Code],0))),IF(F244=\"\",0,INDEX(SignalHeads[Perp. Wind Area (sft)],MATCH(F244,SignalHeads[Code],0))),IF(G244=\"\",0,INDEX(SignalHeads[Perp. Wind Area (sft)],MATCH(G244,SignalHeads[Code],0))),IF(H244=\"\",0,INDEX(SignalHeads[Perp. Wind Area (sft)],MATCH(H244,SignalHeads[Code],0))),IF(I244=\"\",0,INDEX(SignalHeads[Perp. Wind Area (sft)],MATCH(I244,SignalHeads[Code],0))))","v":0},{"$f":"SUM(IF(B244=\"\",0,INDEX(SignalHeads[Weight*** (lbs)],MATCH(B244,SignalHeads[Code],0))),IF(D244=\"\",0,INDEX(SignalHeads[Weight*** (lbs)],MATCH(D244,SignalHeads[Code],0))),IF(E244=\"\",0,INDEX(SignalHeads[Weight*** (lbs)],MATCH(E244,SignalHeads[Code],0))),IF(F244=\"\",0,INDEX(SignalHeads[Weight*** (lbs)],MATCH(F244,SignalHeads[Code],0))),IF(G244=\"\",0,INDEX(SignalHeads[Weight*** (lbs)],MATCH(G244,SignalHeads[Code],0))),IF(H244=\"\",0,INDEX(SignalHeads[Weight*** (lbs)],MATCH(H244,SignalHeads[Code],0))),IF(I244=\"\",0,INDEX(SignalHeads[Weight*** (lbs)],MATCH(I244,SignalHeads[Code],0))))","v":0},{"$f":"IF(A244<=$I$8,INDEX(DesignConstants[Value],MATCH(\"Span Wire Weight (plf)\",DesignConstants[Design Constant],0)),0)","v":1.155},0,252.36750000000001,{"$error":"#VALUE!"},{"$error":"#VALUE!"},{"$error":"#N/A"},{"$error":"#N/A"},{"$f":"SUM(IF(B244=\"\",0,INDEX(SignalHeads[Height ** (feet)],MATCH(B244,SignalHeads[Code],0))),IF(D244=\"\",0,INDEX(SignalHeads[Height ** (feet)],MATCH(D244,SignalHeads[Code],0))),IF(E244=\"\",0,INDEX(SignalHeads[Height ** (feet)],MATCH(E244,SignalHeads[Code],0))),IF(F244=\"\",0,INDEX(SignalHeads[Height ** (feet)],MATCH(F244,SignalHeads[Code],0))),IF(G244=\"\",0,INDEX(SignalHeads[Height ** (feet)],MATCH(G244,SignalHeads[Code],0))),IF(H244=\"\",0,INDEX(SignalHeads[Height ** (feet)],MATCH(H244,SignalHeads[Code],0))),IF(I244=\"\",0,INDEX(SignalHeads[Height ** (feet)],MATCH(I244,SignalHeads[Code],0))))","v":0},{"$f":"IF(S244=0,\"\",ROUNDDOWN(12*(((Q244-S244)-MIN($Q$26:$Q$425-$S$26:$S$425)-(MAX($S$26:$S$425*(($Q$26:$Q$425-$S$26:$S$425)=MIN($Q$26:$Q$425-$S$26:$S$425)))-S244))+(MIN($Q$26:$Q$425-$S$26:$S$425)-$I$10)),0)/12)","v":""},"",{"$error":"#N/A"},17]
[220,null,null,null,null,null,null,null,null,{"$f":"SUM(IF(B245=\"\",0,INDEX(SignalHeads[Perp. Wind Area (sft)],MATCH(B245,SignalHeads[Code],0))),IF(D245=\"\",0,INDEX(SignalHeads[Perp. Wind Area (sft)],MATCH(D245,SignalHeads[Code],0))),IF(E245=\"\",0,INDEX(SignalHeads[Perp. Wind Area (sft)],MATCH(E245,SignalHeads[Code],0))),IF(F245=\"\",0,INDEX(SignalHeads[Perp. Wind Area (sft)],MATCH(F245,SignalHeads[Code],0))),IF(G245=\"\",0,INDEX(SignalHeads[Perp. Wind Area (sft)],MATCH(G245,SignalHeads[Code],0))),IF(H245=\"\",0,INDEX(SignalHeads[Perp. Wind Area (sft)],MATCH(H245,SignalHeads[Code],0))),IF(I245=\"\",0,INDEX(SignalHeads[Perp. Wind Area (sft)],MATCH(I245,SignalHeads[Code],0))))","v":0},{"$f":"SUM(IF(B245=\"\",0,INDEX(SignalHeads[Weight*** (lbs)],MATCH(B245,SignalHeads[Code],0))),IF(D245=\"\",0,INDEX(SignalHeads[Weight*** (lbs)],MATCH(D245,SignalHeads[Code],0))),IF(E245=\"\",0,INDEX(SignalHeads[Weight*** (lbs)],MATCH(E245,SignalHeads[Code],0))),IF(F245=\"\",0,INDEX(SignalHeads[Weight*** (lbs)],MATCH(F245,SignalHeads[Code],0))),IF(G245=\"\",0,INDEX(SignalHeads[Weight*** (lbs)],MATCH(G245,SignalHeads[Code],0))),IF(H245=\"\",0,INDEX(SignalHeads[Weight*** (lbs)],MATCH(H245,SignalHeads[Code],0))),IF(I245=\"\",0,INDEX(SignalHeads[Weight*** (lbs)],MATCH(I245,SignalHeads[Code],0))))","v":0},{"$f":"IF(A245<=$I$8,INDEX(DesignConstants[Value],MATCH(\"Span Wire Weight (plf)\",DesignConstants[Design Constant],0)),0)","v":1.155},0,253.52250000000001,{"$error":"#VALUE!"},{"$error":"#VALUE!"},{"$error":"#N/A"},{"$error":"#N/A"},{"$f":"SUM(IF(B245=\"\",0,INDEX(SignalHeads[Height ** (feet)],MATCH(B245,SignalHeads[Code],0))),IF(D245=\"\",0,INDEX(SignalHeads[Height ** (feet)],MATCH(D245,SignalHeads[Code],0))),IF(E245=\"\",0,INDEX(SignalHeads[Height ** (feet)],MATCH(E245,SignalHeads[Code],0))),IF(F245=\"\",0,INDEX(SignalHeads[Height ** (feet)],MATCH(F245,SignalHeads[Code],0))),IF(G245=\"\",0,INDEX(SignalHeads[Height ** (feet)],MATCH(G245,SignalHeads[Code],0))),IF(H245=\"\",0,INDEX(SignalHeads[Height ** (feet)],MATCH(H245,SignalHeads[Code],0))),IF(I245=\"\",0,INDEX(SignalHeads[Height ** (feet)],MATCH(I245,SignalHeads[Code],0))))","v":0},{"$f":"IF(S245=0,\"\",ROUNDDOWN(12*(((Q245-S245)-MIN($Q$26:$Q$425-$S$26:$S$425)-(MAX($S$26:$S$425*(($Q$26:$Q$425-$S$26:$S$425)=MIN($Q$26:$Q$425-$S$26:$S$425)))-S245))+(MIN($Q$26:$Q$425-$S$26:$S$425)-$I$10)),0)/12)","v":""},"",{"$error":"#N/A"},17]
[221,null,null,null,null,null,null,null,null,{"$f":"SUM(IF(B246=\"\",0,INDEX(SignalHeads[Perp. Wind Area (sft)],MATCH(B246,SignalHeads[Code],0))),IF(D246=\"\",0,INDEX(SignalHeads[Perp. Wind Area (sft)],MATCH(D246,SignalHeads[Code],0))),IF(E246=\"\",0,INDEX(SignalHeads[Perp. Wind Area (sft)],MATCH(E246,SignalHeads[Code],0))),IF(F246=\"\",0,INDEX(SignalHeads[Perp. Wind Area (sft)],MATCH(F246,SignalHeads[Code],0))),IF(G246=\"\",0,INDEX(SignalHeads[Perp. Wind Area (sft)],MATCH(G246,SignalHeads[Code],0))),IF(H246=\"\",0,INDEX(SignalHeads[Perp. Wind Area (sft)],MATCH(H246,SignalHeads[Code],0))),IF(I246=\"\",0,INDEX(SignalHeads[Perp. Wind Area (sft)],MATCH(I246,SignalHeads[Code],0))))","v":0},{"$f":"SUM(IF(B246=\"\",0,INDEX(SignalHeads[Weight*** (lbs)],MATCH(B246,SignalHeads[Code],0))),IF(D246=\"\",0,INDEX(SignalHeads[Weight*** (lbs)],MATCH(D246,SignalHeads[Code],0))),IF(E246=\"\",0,INDEX(SignalHeads[Weight*** (lbs)],MATCH(E246,SignalHeads[Code],0))),IF(F246=\"\",0,INDEX(SignalHeads[Weight*** (lbs)],MATCH(F246,SignalHeads[Code],0))),IF(G246=\"\",0,INDEX(SignalHeads[Weight*** (lbs)],MATCH(G246,SignalHeads[Code],0))),IF(H246=\"\",0,INDEX(SignalHeads[Weight*** (lbs)],MATCH(H246,SignalHeads[Code],0))),IF(I246=\"\",0,INDEX(SignalHeads[Weight*** (lbs)],MATCH(I246,SignalHeads[Code],0))))","v":0},{"$f":"IF(A246<=$I$8,INDEX(DesignConstants[Value],MATCH(\"Span Wire Weight (plf)\",DesignConstants[Design Constant],0)),0)","v":1.155},0,254.67750000000001,{"$error":"#VALUE!"},{"$error":"#VALUE!"},{"$error":"#N/A"},{"$error":"#N/A"},{"$f":"SUM(IF(B246=\"\",0,INDEX(SignalHeads[Height ** (feet)],MATCH(B246,SignalHeads[Code],0))),IF(D246=\"\",0,INDEX(SignalHeads[Height ** (feet)],MATCH(D246,SignalHeads[Code],0))),IF(E246=\"\",0,INDEX(SignalHeads[Height ** (feet)],MATCH(E246,SignalHeads[Code],0))),IF(F246=\"\",0,INDEX(SignalHeads[Height ** (feet)],MATCH(F246,SignalHeads[Code],0))),IF(G246=\"\",0,INDEX(SignalHeads[Height ** (feet)],MATCH(G246,SignalHeads[Code],0))),IF(H246=\"\",0,INDEX(SignalHeads[Height ** (feet)],MATCH(H246,SignalHeads[Code],0))),IF(I246=\"\",0,INDEX(SignalHeads[Height ** (feet)],MATCH(I246,SignalHeads[Code],0))))","v":0},{"$f":"IF(S246=0,\"\",ROUNDDOWN(12*(((Q246-S246)-MIN($Q$26:$Q$425-$S$26:$S$425)-(MAX($S$26:$S$425*(($Q$26:$Q$425-$S$26:$S$425)=MIN($Q$26:$Q$425-$S$26:$S$425)))-S246))+(MIN($Q$26:$Q$425-$S$26:$S$425)-$I$10)),0)/12)","v":""},"",{"$error":"#N/A"},17]
[222,null,null,null,null,null,null,null,null,{"$f":"SUM(IF(B247=\"\",0,INDEX(SignalHeads[Perp. Wind Area (sft)],MATCH(B247,SignalHeads[Code],0))),IF(D247=\"\",0,INDEX(SignalHeads[Perp. Wind Area (sft)],MATCH(D247,SignalHeads[Code],0))),IF(E247=\"\",0,INDEX(SignalHeads[Perp. Wind Area (sft)],MATCH(E247,SignalHeads[Code],0))),IF(F247=\"\",0,INDEX(SignalHeads[Perp. Wind Area (sft)],MATCH(F247,SignalHeads[Code],0))),IF(G247=\"\",0,INDEX(SignalHeads[Perp. Wind Area (sft)],MATCH(G247,SignalHeads[Code],0))),IF(H247=\"\",0,INDEX(SignalHeads[Perp. Wind Area (sft)],MATCH(H247,SignalHeads[Code],0))),IF(I247=\"\",0,INDEX(SignalHeads[Perp. Wind Area (sft)],MATCH(I247,SignalHeads[Code],0))))","v":0},{"$f":"SUM(IF(B247=\"\",0,INDEX(SignalHeads[Weight*** (lbs)],MATCH(B247,SignalHeads[Code],0))),IF(D247=\"\",0,INDEX(SignalHeads[Weight*** (lbs)],MATCH(D247,SignalHeads[Code],0))),IF(E247=\"\",0,INDEX(SignalHeads[Weight*** (lbs)],MATCH(E247,SignalHeads[Code],0))),IF(F247=\"\",0,INDEX(SignalHeads[Weight*** (lbs)],MATCH(F247,SignalHeads[Code],0))),IF(G247=\"\",0,INDEX(SignalHeads[Weight*** (lbs)],MATCH(G247,SignalHeads[Code],0))),IF(H247=\"\",0,INDEX(SignalHeads[Weight*** (lbs)],MATCH(H247,SignalHeads[Code],0))),IF(I247=\"\",0,INDEX(SignalHeads[Weight*** (lbs)],MATCH(I247,SignalHeads[Code],0))))","v":0},{"$f":"IF(A247<=$I$8,INDEX(DesignConstants[Value],MATCH(\"Span Wire Weight (plf)\",DesignConstants[Design Constant],0)),0)","v":1.155},0,255.83250000000001,{"$error":"#VALUE!"},{"$error":"#VALUE!"},{"$error":"#N/A"},{"$error":"#N/A"},{"$f":"SUM(IF(B247=\"\",0,INDEX(SignalHeads[Height ** (feet)],MATCH(B247,SignalHeads[Code],0))),IF(D247=\"\",0,INDEX(SignalHeads[Height ** (feet)],MATCH(D247,SignalHeads[Code],0))),IF(E247=\"\",0,INDEX(SignalHeads[Height ** (feet)],MATCH(E247,SignalHeads[Code],0))),IF(F247=\"\",0,INDEX(SignalHeads[Height ** (feet)],MATCH(F247,SignalHeads[Code],0))),IF(G247=\"\",0,INDEX(SignalHeads[Height ** (feet)],MATCH(G247,SignalHeads[Code],0))),IF(H247=\"\",0,INDEX(SignalHeads[Height ** (feet)],MATCH(H247,SignalHeads[Code],0))),IF(I247=\"\",0,INDEX(SignalHeads[Height ** (feet)],MATCH(I247,SignalHeads[Code],0))))","v":0},{"$f":"IF(S247=0,\"\",ROUNDDOWN(12*(((Q247-S247)-MIN($Q$26:$Q$425-$S$26:$S$425)-(MAX($S$26:$S$425*(($Q$26:$Q$425-$S$26:$S$425)=MIN($Q$26:$Q$425-$S$26:$S$425)))-S247))+(MIN($Q$26:$Q$425-$S$26:$S$425)-$I$10)),0)/12)","v":""},"",{"$error":"#N/A"},17]
[223,null,null,null,null,null,null,null,null,{"$f":"SUM(IF(B248=\"\",0,INDEX(SignalHeads[Perp. Wind Area (sft)],MATCH(B248,SignalHeads[Code],0))),IF(D248=\"\",0,INDEX(SignalHeads[Perp. Wind Area (sft)],MATCH(D248,SignalHeads[Code],0))),IF(E248=\"\",0,INDEX(SignalHeads[Perp. Wind Area (sft)],MATCH(E248,SignalHeads[Code],0))),IF(F248=\"\",0,INDEX(SignalHeads[Perp. Wind Area (sft)],MATCH(F248,SignalHeads[Code],0))),IF(G248=\"\",0,INDEX(SignalHeads[Perp. Wind Area (sft)],MATCH(G248,SignalHeads[Code],0))),IF(H248=\"\",0,INDEX(SignalHeads[Perp. Wind Area (sft)],MATCH(H248,SignalHeads[Code],0))),IF(I248=\"\",0,INDEX(SignalHeads[Perp. Wind Area (sft)],MATCH(I248,SignalHeads[Code],0))))","v":0},{"$f":"SUM(IF(B248=\"\",0,INDEX(SignalHeads[Weight*** (lbs)],MATCH(B248,SignalHeads[Code],0))),IF(D248=\"\",0,INDEX(SignalHeads[Weight*** (lbs)],MATCH(D248,SignalHeads[Code],0))),IF(E248=\"\",0,INDEX(SignalHeads[Weight*** (lbs)],MATCH(E248,SignalHeads[Code],0))),IF(F248=\"\",0,INDEX(SignalHeads[Weight*** (lbs)],MATCH(F248,SignalHeads[Code],0))),IF(G248=\"\",0,INDEX(SignalHeads[Weight*** (lbs)],MATCH(G248,SignalHeads[Code],0))),IF(H248=\"\",0,INDEX(SignalHeads[Weight*** (lbs)],MATCH(H248,SignalHeads[Code],0))),IF(I248=\"\",0,INDEX(SignalHeads[Weight*** (lbs)],MATCH(I248,SignalHeads[Code],0))))","v":0},{"$f":"IF(A248<=$I$8,INDEX(DesignConstants[Value],MATCH(\"Span Wire Weight (plf)\",DesignConstants[Design Constant],0)),0)","v":1.155},0,256.98750000000001,{"$error":"#VALUE!"},{"$error":"#VALUE!"},{"$error":"#N/A"},{"$error":"#N/A"},{"$f":"SUM(IF(B248=\"\",0,INDEX(SignalHeads[Height ** (feet)],MATCH(B248,SignalHeads[Code],0))),IF(D248=\"\",0,INDEX(SignalHeads[Height ** (feet)],MATCH(D248,SignalHeads[Code],0))),IF(E248=\"\",0,INDEX(SignalHeads[Height ** (feet)],MATCH(E248,SignalHeads[Code],0))),IF(F248=\"\",0,INDEX(SignalHeads[Height ** (feet)],MATCH(F248,SignalHeads[Code],0))),IF(G248=\"\",0,INDEX(SignalHeads[Height ** (feet)],MATCH(G248,SignalHeads[Code],0))),IF(H248=\"\",0,INDEX(SignalHeads[Height ** (feet)],MATCH(H248,SignalHeads[Code],0))),IF(I248=\"\",0,INDEX(SignalHeads[Height ** (feet)],MATCH(I248,SignalHeads[Code],0))))","v":0},{"$f":"IF(S248=0,\"\",ROUNDDOWN(12*(((Q248-S248)-MIN($Q$26:$Q$425-$S$26:$S$425)-(MAX($S$26:$S$425*(($Q$26:$Q$425-$S$26:$S$425)=MIN($Q$26:$Q$425-$S$26:$S$425)))-S248))+(MIN($Q$26:$Q$425-$S$26:$S$425)-$I$10)),0)/12)","v":""},"",{"$error":"#N/A"},17]
[224,null,null,null,null,null,null,null,null,{"$f":"SUM(IF(B249=\"\",0,INDEX(SignalHeads[Perp. Wind Area (sft)],MATCH(B249,SignalHeads[Code],0))),IF(D249=\"\",0,INDEX(SignalHeads[Perp. Wind Area (sft)],MATCH(D249,SignalHeads[Code],0))),IF(E249=\"\",0,INDEX(SignalHeads[Perp. Wind Area (sft)],MATCH(E249,SignalHeads[Code],0))),IF(F249=\"\",0,INDEX(SignalHeads[Perp. Wind Area (sft)],MATCH(F249,SignalHeads[Code],0))),IF(G249=\"\",0,INDEX(SignalHeads[Perp. Wind Area (sft)],MATCH(G249,SignalHeads[Code],0))),IF(H249=\"\",0,INDEX(SignalHeads[Perp. Wind Area (sft)],MATCH(H249,SignalHeads[Code],0))),IF(I249=\"\",0,INDEX(SignalHeads[Perp. Wind Area (sft)],MATCH(I249,SignalHeads[Code],0))))","v":0},{"$f":"SUM(IF(B249=\"\",0,INDEX(SignalHeads[Weight*** (lbs)],MATCH(B249,SignalHeads[Code],0))),IF(D249=\"\",0,INDEX(SignalHeads[Weight*** (lbs)],MATCH(D249,SignalHeads[Code],0))),IF(E249=\"\",0,INDEX(SignalHeads[Weight*** (lbs)],MATCH(E249,SignalHeads[Code],0))),IF(F249=\"\",0,INDEX(SignalHeads[Weight*** (lbs)],MATCH(F249,SignalHeads[Code],0))),IF(G249=\"\",0,INDEX(SignalHeads[Weight*** (lbs)],MATCH(G249,SignalHeads[Code],0))),IF(H249=\"\",0,INDEX(SignalHeads[Weight*** (lbs)],MATCH(H249,SignalHeads[Code],0))),IF(I249=\"\",0,INDEX(SignalHeads[Weight*** (lbs)],MATCH(I249,SignalHeads[Code],0))))","v":0},{"$f":"IF(A249<=$I$8,INDEX(DesignConstants[Value],MATCH(\"Span Wire Weight (plf)\",DesignConstants[Design Constant],0)),0)","v":1.155},0,258.14249999999998,{"$error":"#VALUE!"},{"$error":"#VALUE!"},{"$error":"#N/A"},{"$error":"#N/A"},{"$f":"SUM(IF(B249=\"\",0,INDEX(SignalHeads[Height ** (feet)],MATCH(B249,SignalHeads[Code],0))),IF(D249=\"\",0,INDEX(SignalHeads[Height ** (feet)],MATCH(D249,SignalHeads[Code],0))),IF(E249=\"\",0,INDEX(SignalHeads[Height ** (feet)],MATCH(E249,SignalHeads[Code],0))),IF(F249=\"\",0,INDEX(SignalHeads[Height ** (feet)],MATCH(F249,SignalHeads[Code],0))),IF(G249=\"\",0,INDEX(SignalHeads[Height ** (feet)],MATCH(G249,SignalHeads[Code],0))),IF(H249=\"\",0,INDEX(SignalHeads[Height ** (feet)],MATCH(H249,SignalHeads[Code],0))),IF(I249=\"\",0,INDEX(SignalHeads[Height ** (feet)],MATCH(I249,SignalHeads[Code],0))))","v":0},{"$f":"IF(S249=0,\"\",ROUNDDOWN(12*(((Q249-S249)-MIN($Q$26:$Q$425-$S$26:$S$425)-(MAX($S$26:$S$425*(($Q$26:$Q$425-$S$26:$S$425)=MIN($Q$26:$Q$425-$S$26:$S$425)))-S249))+(MIN($Q$26:$Q$425-$S$26:$S$425)-$I$10)),0)/12)","v":""},"",{"$error":"#N/A"},17]
[225,null,null,null,null,null,null,null,null,{"$f":"SUM(IF(B250=\"\",0,INDEX(SignalHeads[Perp. Wind Area (sft)],MATCH(B250,SignalHeads[Code],0))),IF(D250=\"\",0,INDEX(SignalHeads[Perp. Wind Area (sft)],MATCH(D250,SignalHeads[Code],0))),IF(E250=\"\",0,INDEX(SignalHeads[Perp. Wind Area (sft)],MATCH(E250,SignalHeads[Code],0))),IF(F250=\"\",0,INDEX(SignalHeads[Perp. Wind Area (sft)],MATCH(F250,SignalHeads[Code],0))),IF(G250=\"\",0,INDEX(SignalHeads[Perp. Wind Area (sft)],MATCH(G250,SignalHeads[Code],0))),IF(H250=\"\",0,INDEX(SignalHeads[Perp. Wind Area (sft)],MATCH(H250,SignalHeads[Code],0))),IF(I250=\"\",0,INDEX(SignalHeads[Perp. Wind Area (sft)],MATCH(I250,SignalHeads[Code],0))))","v":0},{"$f":"SUM(IF(B250=\"\",0,INDEX(SignalHeads[Weight*** (lbs)],MATCH(B250,SignalHeads[Code],0))),IF(D250=\"\",0,INDEX(SignalHeads[Weight*** (lbs)],MATCH(D250,SignalHeads[Code],0))),IF(E250=\"\",0,INDEX(SignalHeads[Weight*** (lbs)],MATCH(E250,SignalHeads[Code],0))),IF(F250=\"\",0,INDEX(SignalHeads[Weight*** (lbs)],MATCH(F250,SignalHeads[Code],0))),IF(G250=\"\",0,INDEX(SignalHeads[Weight*** (lbs)],MATCH(G250,SignalHeads[Code],0))),IF(H250=\"\",0,INDEX(SignalHeads[Weight*** (lbs)],MATCH(H250,SignalHeads[Code],0))),IF(I250=\"\",0,INDEX(SignalHeads[Weight*** (lbs)],MATCH(I250,SignalHeads[Code],0))))","v":0},{"$f":"IF(A250<=$I$8,INDEX(DesignConstants[Value],MATCH(\"Span Wire Weight (plf)\",DesignConstants[Design Constant],0)),0)","v":1.155},0,259.29750000000001,{"$error":"#VALUE!"},{"$error":"#VALUE!"},{"$error":"#N/A"},{"$error":"#N/A"},{"$f":"SUM(IF(B250=\"\",0,INDEX(SignalHeads[Height ** (feet)],MATCH(B250,SignalHeads[Code],0))),IF(D250=\"\",0,INDEX(SignalHeads[Height ** (feet)],MATCH(D250,SignalHeads[Code],0))),IF(E250=\"\",0,INDEX(SignalHeads[Height ** (feet)],MATCH(E250,SignalHeads[Code],0))),IF(F250=\"\",0,INDEX(SignalHeads[Height ** (feet)],MATCH(F250,SignalHeads[Code],0))),IF(G250=\"\",0,INDEX(SignalHeads[Height ** (feet)],MATCH(G250,SignalHeads[Code],0))),IF(H250=\"\",0,INDEX(SignalHeads[Height ** (feet)],MATCH(H250,SignalHeads[Code],0))),IF(I250=\"\",0,INDEX(SignalHeads[Height ** (feet)],MATCH(I250,SignalHeads[Code],0))))","v":0},{"$f":"IF(S250=0,\"\",ROUNDDOWN(12*(((Q250-S250)-MIN($Q$26:$Q$425-$S$26:$S$425)-(MAX($S$26:$S$425*(($Q$26:$Q$425-$S$26:$S$425)=MIN($Q$26:$Q$425-$S$26:$S$425)))-S250))+(MIN($Q$26:$Q$425-$S$26:$S$425)-$I$10)),0)/12)","v":""},"",{"$error":"#N/A"},17]
[226,null,null,null,null,null,null,null,null,{"$f":"SUM(IF(B251=\"\",0,INDEX(SignalHeads[Perp. Wind Area (sft)],MATCH(B251,SignalHeads[Code],0))),IF(D251=\"\",0,INDEX(SignalHeads[Perp. Wind Area (sft)],MATCH(D251,SignalHeads[Code],0))),IF(E251=\"\",0,INDEX(SignalHeads[Perp. Wind Area (sft)],MATCH(E251,SignalHeads[Code],0))),IF(F251=\"\",0,INDEX(SignalHeads[Perp. Wind Area (sft)],MATCH(F251,SignalHeads[Code],0))),IF(G251=\"\",0,INDEX(SignalHeads[Perp. Wind Area (sft)],MATCH(G251,SignalHeads[Code],0))),IF(H251=\"\",0,INDEX(SignalHeads[Perp. Wind Area (sft)],MATCH(H251,SignalHeads[Code],0))),IF(I251=\"\",0,INDEX(SignalHeads[Perp. Wind Area (sft)],MATCH(I251,SignalHeads[Code],0))))","v":0},{"$f":"SUM(IF(B251=\"\",0,INDEX(SignalHeads[Weight*** (lbs)],MATCH(B251,SignalHeads[Code],0))),IF(D251=\"\",0,INDEX(SignalHeads[Weight*** (lbs)],MATCH(D251,SignalHeads[Code],0))),IF(E251=\"\",0,INDEX(SignalHeads[Weight*** (lbs)],MATCH(E251,SignalHeads[Code],0))),IF(F251=\"\",0,INDEX(SignalHeads[Weight*** (lbs)],MATCH(F251,SignalHeads[Code],0))),IF(G251=\"\",0,INDEX(SignalHeads[Weight*** (lbs)],MATCH(G251,SignalHeads[Code],0))),IF(H251=\"\",0,INDEX(SignalHeads[Weight*** (lbs)],MATCH(H251,SignalHeads[Code],0))),IF(I251=\"\",0,INDEX(SignalHeads[Weight*** (lbs)],MATCH(I251,SignalHeads[Code],0))))","v":0},{"$f":"IF(A251<=$I$8,INDEX(DesignConstants[Value],MATCH(\"Span Wire Weight (plf)\",DesignConstants[Design Constant],0)),0)","v":1.155},0,260.45249999999999,{"$error":"#VALUE!"},{"$error":"#VALUE!"},{"$error":"#N/A"},{"$error":"#N/A"},{"$f":"SUM(IF(B251=\"\",0,INDEX(SignalHeads[Height ** (feet)],MATCH(B251,SignalHeads[Code],0))),IF(D251=\"\",0,INDEX(SignalHeads[Height ** (feet)],MATCH(D251,SignalHeads[Code],0))),IF(E251=\"\",0,INDEX(SignalHeads[Height ** (feet)],MATCH(E251,SignalHeads[Code],0))),IF(F251=\"\",0,INDEX(SignalHeads[Height ** (feet)],MATCH(F251,SignalHeads[Code],0))),IF(G251=\"\",0,INDEX(SignalHeads[Height ** (feet)],MATCH(G251,SignalHeads[Code],0))),IF(H251=\"\",0,INDEX(SignalHeads[Height ** (feet)],MATCH(H251,SignalHeads[Code],0))),IF(I251=\"\",0,INDEX(SignalHeads[Height ** (feet)],MATCH(I251,SignalHeads[Code],0))))","v":0},{"$f":"IF(S251=0,\"\",ROUNDDOWN(12*(((Q251-S251)-MIN($Q$26:$Q$425-$S$26:$S$425)-(MAX($S$26:$S$425*(($Q$26:$Q$425-$S$26:$S$425)=MIN($Q$26:$Q$425-$S$26:$S$425)))-S251))+(MIN($Q$26:$Q$425-$S$26:$S$425)-$I$10)),0)/12)","v":""},"",{"$error":"#N/A"},17]
[227,null,null,null,null,null,null,null,null,{"$f":"SUM(IF(B252=\"\",0,INDEX(SignalHeads[Perp. Wind Area (sft)],MATCH(B252,SignalHeads[Code],0))),IF(D252=\"\",0,INDEX(SignalHeads[Perp. Wind Area (sft)],MATCH(D252,SignalHeads[Code],0))),IF(E252=\"\",0,INDEX(SignalHeads[Perp. Wind Area (sft)],MATCH(E252,SignalHeads[Code],0))),IF(F252=\"\",0,INDEX(SignalHeads[Perp. Wind Area (sft)],MATCH(F252,SignalHeads[Code],0))),IF(G252=\"\",0,INDEX(SignalHeads[Perp. Wind Area (sft)],MATCH(G252,SignalHeads[Code],0))),IF(H252=\"\",0,INDEX(SignalHeads[Perp. Wind Area (sft)],MATCH(H252,SignalHeads[Code],0))),IF(I252=\"\",0,INDEX(SignalHeads[Perp. Wind Area (sft)],MATCH(I252,SignalHeads[Code],0))))","v":0},{"$f":"SUM(IF(B252=\"\",0,INDEX(SignalHeads[Weight*** (lbs)],MATCH(B252,SignalHeads[Code],0))),IF(D252=\"\",0,INDEX(SignalHeads[Weight*** (lbs)],MATCH(D252,SignalHeads[Code],0))),IF(E252=\"\",0,INDEX(SignalHeads[Weight*** (lbs)],MATCH(E252,SignalHeads[Code],0))),IF(F252=\"\",0,INDEX(SignalHeads[Weight*** (lbs)],MATCH(F252,SignalHeads[Code],0))),IF(G252=\"\",0,INDEX(SignalHeads[Weight*** (lbs)],MATCH(G252,SignalHeads[Code],0))),IF(H252=\"\",0,INDEX(SignalHeads[Weight*** (lbs)],MATCH(H252,SignalHeads[Code],0))),IF(I252=\"\",0,INDEX(SignalHeads[Weight*** (lbs)],MATCH(I252,SignalHeads[Code],0))))","v":0},{"$f":"IF(A252<=$I$8,INDEX(DesignConstants[Value],MATCH(\"Span Wire Weight (plf)\",DesignConstants[Design Constant],0)),0)","v":1.155},0,261.60750000000002,{"$error":"#VALUE!"},{"$error":"#VALUE!"},{"$error":"#N/A"},{"$error":"#N/A"},{"$f":"SUM(IF(B252=\"\",0,INDEX(SignalHeads[Height ** (feet)],MATCH(B252,SignalHeads[Code],0))),IF(D252=\"\",0,INDEX(SignalHeads[Height ** (feet)],MATCH(D252,SignalHeads[Code],0))),IF(E252=\"\",0,INDEX(SignalHeads[Height ** (feet)],MATCH(E252,SignalHeads[Code],0))),IF(F252=\"\",0,INDEX(SignalHeads[Height ** (feet)],MATCH(F252,SignalHeads[Code],0))),IF(G252=\"\",0,INDEX(SignalHeads[Height ** (feet)],MATCH(G252,SignalHeads[Code],0))),IF(H252=\"\",0,INDEX(SignalHeads[Height ** (feet)],MATCH(H252,SignalHeads[Code],0))),IF(I252=\"\",0,INDEX(SignalHeads[Height ** (feet)],MATCH(I252,SignalHeads[Code],0))))","v":0},{"$f":"IF(S252=0,\"\",ROUNDDOWN(12*(((Q252-S252)-MIN($Q$26:$Q$425-$S$26:$S$425)-(MAX($S$26:$S$425*(($Q$26:$Q$425-$S$26:$S$425)=MIN($Q$26:$Q$425-$S$26:$S$425)))-S252))+(MIN($Q$26:$Q$425-$S$26:$S$425)-$I$10)),0)/12)","v":""},"",{"$error":"#N/A"},17]
[228,null,null,null,null,null,null,null,null,{"$f":"SUM(IF(B253=\"\",0,INDEX(SignalHeads[Perp. Wind Area (sft)],MATCH(B253,SignalHeads[Code],0))),IF(D253=\"\",0,INDEX(SignalHeads[Perp. Wind Area (sft)],MATCH(D253,SignalHeads[Code],0))),IF(E253=\"\",0,INDEX(SignalHeads[Perp. Wind Area (sft)],MATCH(E253,SignalHeads[Code],0))),IF(F253=\"\",0,INDEX(SignalHeads[Perp. Wind Area (sft)],MATCH(F253,SignalHeads[Code],0))),IF(G253=\"\",0,INDEX(SignalHeads[Perp. Wind Area (sft)],MATCH(G253,SignalHeads[Code],0))),IF(H253=\"\",0,INDEX(SignalHeads[Perp. Wind Area (sft)],MATCH(H253,SignalHeads[Code],0))),IF(I253=\"\",0,INDEX(SignalHeads[Perp. Wind Area (sft)],MATCH(I253,SignalHeads[Code],0))))","v":0},{"$f":"SUM(IF(B253=\"\",0,INDEX(SignalHeads[Weight*** (lbs)],MATCH(B253,SignalHeads[Code],0))),IF(D253=\"\",0,INDEX(SignalHeads[Weight*** (lbs)],MATCH(D253,SignalHeads[Code],0))),IF(E253=\"\",0,INDEX(SignalHeads[Weight*** (lbs)],MATCH(E253,SignalHeads[Code],0))),IF(F253=\"\",0,INDEX(SignalHeads[Weight*** (lbs)],MATCH(F253,SignalHeads[Code],0))),IF(G253=\"\",0,INDEX(SignalHeads[Weight*** (lbs)],MATCH(G253,SignalHeads[Code],0))),IF(H253=\"\",0,INDEX(SignalHeads[Weight*** (lbs)],MATCH(H253,SignalHeads[Code],0))),IF(I253=\"\",0,INDEX(SignalHeads[Weight*** (lbs)],MATCH(I253,SignalHeads[Code],0))))","v":0},{"$f":"IF(A253<=$I$8,INDEX(DesignConstants[Value],MATCH(\"Span Wire Weight (plf)\",DesignConstants[Design Constant],0)),0)","v":1.155},0,262.76249999999999,{"$error":"#VALUE!"},{"$error":"#VALUE!"},{"$error":"#N/A"},{"$error":"#N/A"},{"$f":"SUM(IF(B253=\"\",0,INDEX(SignalHeads[Height ** (feet)],MATCH(B253,SignalHeads[Code],0))),IF(D253=\"\",0,INDEX(SignalHeads[Height ** (feet)],MATCH(D253,SignalHeads[Code],0))),IF(E253=\"\",0,INDEX(SignalHeads[Height ** (feet)],MATCH(E253,SignalHeads[Code],0))),IF(F253=\"\",0,INDEX(SignalHeads[Height ** (feet)],MATCH(F253,SignalHeads[Code],0))),IF(G253=\"\",0,INDEX(SignalHeads[Height ** (feet)],MATCH(G253,SignalHeads[Code],0))),IF(H253=\"\",0,INDEX(SignalHeads[Height ** (feet)],MATCH(H253,SignalHeads[Code],0))),IF(I253=\"\",0,INDEX(SignalHeads[Height ** (feet)],MATCH(I253,SignalHeads[Code],0))))","v":0},{"$f":"IF(S253=0,\"\",ROUNDDOWN(12*(((Q253-S253)-MIN($Q$26:$Q$425-$S$26:$S$425)-(MAX($S$26:$S$425*(($Q$26:$Q$425-$S$26:$S$425)=MIN($Q$26:$Q$425-$S$26:$S$425)))-S253))+(MIN($Q$26:$Q$425-$S$26:$S$425)-$I$10)),0)/12)","v":""},"",{"$error":"#N/A"},17]
[229,null,null,null,null,null,null,null,null,{"$f":"SUM(IF(B254=\"\",0,INDEX(SignalHeads[Perp. Wind Area (sft)],MATCH(B254,SignalHeads[Code],0))),IF(D254=\"\",0,INDEX(SignalHeads[Perp. Wind Area (sft)],MATCH(D254,SignalHeads[Code],0))),IF(E254=\"\",0,INDEX(SignalHeads[Perp. Wind Area (sft)],MATCH(E254,SignalHeads[Code],0))),IF(F254=\"\",0,INDEX(SignalHeads[Perp. Wind Area (sft)],MATCH(F254,SignalHeads[Code],0))),IF(G254=\"\",0,INDEX(SignalHeads[Perp. Wind Area (sft)],MATCH(G254,SignalHeads[Code],0))),IF(H254=\"\",0,INDEX(SignalHeads[Perp. Wind Area (sft)],MATCH(H254,SignalHeads[Code],0))),IF(I254=\"\",0,INDEX(SignalHeads[Perp. Wind Area (sft)],MATCH(I254,SignalHeads[Code],0))))","v":0},{"$f":"SUM(IF(B254=\"\",0,INDEX(SignalHeads[Weight*** (lbs)],MATCH(B254,SignalHeads[Code],0))),IF(D254=\"\",0,INDEX(SignalHeads[Weight*** (lbs)],MATCH(D254,SignalHeads[Code],0))),IF(E254=\"\",0,INDEX(SignalHeads[Weight*** (lbs)],MATCH(E254,SignalHeads[Code],0))),IF(F254=\"\",0,INDEX(SignalHeads[Weight*** (lbs)],MATCH(F254,SignalHeads[Code],0))),IF(G254=\"\",0,INDEX(SignalHeads[Weight*** (lbs)],MATCH(G254,SignalHeads[Code],0))),IF(H254=\"\",0,INDEX(SignalHeads[Weight*** (lbs)],MATCH(H254,SignalHeads[Code],0))),IF(I254=\"\",0,INDEX(SignalHeads[Weight*** (lbs)],MATCH(I254,SignalHeads[Code],0))))","v":0},{"$f":"IF(A254<=$I$8,INDEX(DesignConstants[Value],MATCH(\"Span Wire Weight (plf)\",DesignConstants[Design Constant],0)),0)","v":1.155},0,263.91750000000002,{"$error":"#VALUE!"},{"$error":"#VALUE!"},{"$error":"#N/A"},{"$error":"#N/A"},{"$f":"SUM(IF(B254=\"\",0,INDEX(SignalHeads[Height ** (feet)],MATCH(B254,SignalHeads[Code],0))),IF(D254=\"\",0,INDEX(SignalHeads[Height ** (feet)],MATCH(D254,SignalHeads[Code],0))),IF(E254=\"\",0,INDEX(SignalHeads[Height ** (feet)],MATCH(E254,SignalHeads[Code],0))),IF(F254=\"\",0,INDEX(SignalHeads[Height ** (feet)],MATCH(F254,SignalHeads[Code],0))),IF(G254=\"\",0,INDEX(SignalHeads[Height ** (feet)],MATCH(G254,SignalHeads[Code],0))),IF(H254=\"\",0,INDEX(SignalHeads[Height ** (feet)],MATCH(H254,SignalHeads[Code],0))),IF(I254=\"\",0,INDEX(SignalHeads[Height ** (feet)],MATCH(I254,SignalHeads[Code],0))))","v":0},{"$f":"IF(S254=0,\"\",ROUNDDOWN(12*(((Q254-S254)-MIN($Q$26:$Q$425-$S$26:$S$425)-(MAX($S$26:$S$425*(($Q$26:$Q$425-$S$26:$S$425)=MIN($Q$26:$Q$425-$S$26:$S$425)))-S254))+(MIN($Q$26:$Q$425-$S$26:$S$425)-$I$10)),0)/12)","v":""},"",{"$error":"#N/A"},17]
[230,null,null,null,null,null,null,null,null,{"$f":"SUM(IF(B255=\"\",0,INDEX(SignalHeads[Perp. Wind Area (sft)],MATCH(B255,SignalHeads[Code],0))),IF(D255=\"\",0,INDEX(SignalHeads[Perp. Wind Area (sft)],MATCH(D255,SignalHeads[Code],0))),IF(E255=\"\",0,INDEX(SignalHeads[Perp. Wind Area (sft)],MATCH(E255,SignalHeads[Code],0))),IF(F255=\"\",0,INDEX(SignalHeads[Perp. Wind Area (sft)],MATCH(F255,SignalHeads[Code],0))),IF(G255=\"\",0,INDEX(SignalHeads[Perp. Wind Area (sft)],MATCH(G255,SignalHeads[Code],0))),IF(H255=\"\",0,INDEX(SignalHeads[Perp. Wind Area (sft)],MATCH(H255,SignalHeads[Code],0))),IF(I255=\"\",0,INDEX(SignalHeads[Perp. Wind Area (sft)],MATCH(I255,SignalHeads[Code],0))))","v":0},{"$f":"SUM(IF(B255=\"\",0,INDEX(SignalHeads[Weight*** (lbs)],MATCH(B255,SignalHeads[Code],0))),IF(D255=\"\",0,INDEX(SignalHeads[Weight*** (lbs)],MATCH(D255,SignalHeads[Code],0))),IF(E255=\"\",0,INDEX(SignalHeads[Weight*** (lbs)],MATCH(E255,SignalHeads[Code],0))),IF(F255=\"\",0,INDEX(SignalHeads[Weight*** (lbs)],MATCH(F255,SignalHeads[Code],0))),IF(G255=\"\",0,INDEX(SignalHeads[Weight*** (lbs)],MATCH(G255,SignalHeads[Code],0))),IF(H255=\"\",0,INDEX(SignalHeads[Weight*** (lbs)],MATCH(H255,SignalHeads[Code],0))),IF(I255=\"\",0,INDEX(SignalHeads[Weight*** (lbs)],MATCH(I255,SignalHeads[Code],0))))","v":0},{"$f":"IF(A255<=$I$8,INDEX(DesignConstants[Value],MATCH(\"Span Wire Weight (plf)\",DesignConstants[Design Constant],0)),0)","v":1.155},0,265.07249999999999,{"$error":"#VALUE!"},{"$error":"#VALUE!"},{"$error":"#N/A"},{"$error":"#N/A"},{"$f":"SUM(IF(B255=\"\",0,INDEX(SignalHeads[Height ** (feet)],MATCH(B255,SignalHeads[Code],0))),IF(D255=\"\",0,INDEX(SignalHeads[Height ** (feet)],MATCH(D255,SignalHeads[Code],0))),IF(E255=\"\",0,INDEX(SignalHeads[Height ** (feet)],MATCH(E255,SignalHeads[Code],0))),IF(F255=\"\",0,INDEX(SignalHeads[Height ** (feet)],MATCH(F255,SignalHeads[Code],0))),IF(G255=\"\",0,INDEX(SignalHeads[Height ** (feet)],MATCH(G255,SignalHeads[Code],0))),IF(H255=\"\",0,INDEX(SignalHeads[Height ** (feet)],MATCH(H255,SignalHeads[Code],0))),IF(I255=\"\",0,INDEX(SignalHeads[Height ** (feet)],MATCH(I255,SignalHeads[Code],0))))","v":0},{"$f":"IF(S255=0,\"\",ROUNDDOWN(12*(((Q255-S255)-MIN($Q$26:$Q$425-$S$26:$S$425)-(MAX($S$26:$S$425*(($Q$26:$Q$425-$S$26:$S$425)=MIN($Q$26:$Q$425-$S$26:$S$425)))-S255))+(MIN($Q$26:$Q$425-$S$26:$S$425)-$I$10)),0)/12)","v":""},"",{"$error":"#N/A"},17]
[231,null,null,null,null,null,null,null,null,{"$f":"SUM(IF(B256=\"\",0,INDEX(SignalHeads[Perp. Wind Area (sft)],MATCH(B256,SignalHeads[Code],0))),IF(D256=\"\",0,INDEX(SignalHeads[Perp. Wind Area (sft)],MATCH(D256,SignalHeads[Code],0))),IF(E256=\"\",0,INDEX(SignalHeads[Perp. Wind Area (sft)],MATCH(E256,SignalHeads[Code],0))),IF(F256=\"\",0,INDEX(SignalHeads[Perp. Wind Area (sft)],MATCH(F256,SignalHeads[Code],0))),IF(G256=\"\",0,INDEX(SignalHeads[Perp. Wind Area (sft)],MATCH(G256,SignalHeads[Code],0))),IF(H256=\"\",0,INDEX(SignalHeads[Perp. Wind Area (sft)],MATCH(H256,SignalHeads[Code],0))),IF(I256=\"\",0,INDEX(SignalHeads[Perp. Wind Area (sft)],MATCH(I256,SignalHeads[Code],0))))","v":0},{"$f":"SUM(IF(B256=\"\",0,INDEX(SignalHeads[Weight*** (lbs)],MATCH(B256,SignalHeads[Code],0))),IF(D256=\"\",0,INDEX(SignalHeads[Weight*** (lbs)],MATCH(D256,SignalHeads[Code],0))),IF(E256=\"\",0,INDEX(SignalHeads[Weight*** (lbs)],MATCH(E256,SignalHeads[Code],0))),IF(F256=\"\",0,INDEX(SignalHeads[Weight*** (lbs)],MATCH(F256,SignalHeads[Code],0))),IF(G256=\"\",0,INDEX(SignalHeads[Weight*** (lbs)],MATCH(G256,SignalHeads[Code],0))),IF(H256=\"\",0,INDEX(SignalHeads[Weight*** (lbs)],MATCH(H256,SignalHeads[Code],0))),IF(I256=\"\",0,INDEX(SignalHeads[Weight*** (lbs)],MATCH(I256,SignalHeads[Code],0))))","v":0},{"$f":"IF(A256<=$I$8,INDEX(DesignConstants[Value],MATCH(\"Span Wire Weight (plf)\",DesignConstants[Design Constant],0)),0)","v":1.155},0,266.22750000000002,{"$error":"#VALUE!"},{"$error":"#VALUE!"},{"$error":"#N/A"},{"$error":"#N/A"},{"$f":"SUM(IF(B256=\"\",0,INDEX(SignalHeads[Height ** (feet)],MATCH(B256,SignalHeads[Code],0))),IF(D256=\"\",0,INDEX(SignalHeads[Height ** (feet)],MATCH(D256,SignalHeads[Code],0))),IF(E256=\"\",0,INDEX(SignalHeads[Height ** (feet)],MATCH(E256,SignalHeads[Code],0))),IF(F256=\"\",0,INDEX(SignalHeads[Height ** (feet)],MATCH(F256,SignalHeads[Code],0))),IF(G256=\"\",0,INDEX(SignalHeads[Height ** (feet)],MATCH(G256,SignalHeads[Code],0))),IF(H256=\"\",0,INDEX(SignalHeads[Height ** (feet)],MATCH(H256,SignalHeads[Code],0))),IF(I256=\"\",0,INDEX(SignalHeads[Height ** (feet)],MATCH(I256,SignalHeads[Code],0))))","v":0},{"$f":"IF(S256=0,\"\",ROUNDDOWN(12*(((Q256-S256)-MIN($Q$26:$Q$425-$S$26:$S$425)-(MAX($S$26:$S$425*(($Q$26:$Q$425-$S$26:$S$425)=MIN($Q$26:$Q$425-$S$26:$S$425)))-S256))+(MIN($Q$26:$Q$425-$S$26:$S$425)-$I$10)),0)/12)","v":""},"",{"$error":"#N/A"},17]
[232,null,null,null,null,null,null,null,null,{"$f":"SUM(IF(B257=\"\",0,INDEX(SignalHeads[Perp. Wind Area (sft)],MATCH(B257,SignalHeads[Code],0))),IF(D257=\"\",0,INDEX(SignalHeads[Perp. Wind Area (sft)],MATCH(D257,SignalHeads[Code],0))),IF(E257=\"\",0,INDEX(SignalHeads[Perp. Wind Area (sft)],MATCH(E257,SignalHeads[Code],0))),IF(F257=\"\",0,INDEX(SignalHeads[Perp. Wind Area (sft)],MATCH(F257,SignalHeads[Code],0))),IF(G257=\"\",0,INDEX(SignalHeads[Perp. Wind Area (sft)],MATCH(G257,SignalHeads[Code],0))),IF(H257=\"\",0,INDEX(SignalHeads[Perp. Wind Area (sft)],MATCH(H257,SignalHeads[Code],0))),IF(I257=\"\",0,INDEX(SignalHeads[Perp. Wind Area (sft)],MATCH(I257,SignalHeads[Code],0))))","v":0},{"$f":"SUM(IF(B257=\"\",0,INDEX(SignalHeads[Weight*** (lbs)],MATCH(B257,SignalHeads[Code],0))),IF(D257=\"\",0,INDEX(SignalHeads[Weight*** (lbs)],MATCH(D257,SignalHeads[Code],0))),IF(E257=\"\",0,INDEX(SignalHeads[Weight*** (lbs)],MATCH(E257,SignalHeads[Code],0))),IF(F257=\"\",0,INDEX(SignalHeads[Weight*** (lbs)],MATCH(F257,SignalHeads[Code],0))),IF(G257=\"\",0,INDEX(SignalHeads[Weight*** (lbs)],MATCH(G257,SignalHeads[Code],0))),IF(H257=\"\",0,INDEX(SignalHeads[Weight*** (lbs)],MATCH(H257,SignalHeads[Code],0))),IF(I257=\"\",0,INDEX(SignalHeads[Weight*** (lbs)],MATCH(I257,SignalHeads[Code],0))))","v":0},{"$f":"IF(A257<=$I$8,INDEX(DesignConstants[Value],MATCH(\"Span Wire Weight (plf)\",DesignConstants[Design Constant],0)),0)","v":1.155},0,267.38249999999999,{"$error":"#VALUE!"},{"$error":"#VALUE!"},{"$error":"#N/A"},{"$error":"#N/A"},{"$f":"SUM(IF(B257=\"\",0,INDEX(SignalHeads[Height ** (feet)],MATCH(B257,SignalHeads[Code],0))),IF(D257=\"\",0,INDEX(SignalHeads[Height ** (feet)],MATCH(D257,SignalHeads[Code],0))),IF(E257=\"\",0,INDEX(SignalHeads[Height ** (feet)],MATCH(E257,SignalHeads[Code],0))),IF(F257=\"\",0,INDEX(SignalHeads[Height ** (feet)],MATCH(F257,SignalHeads[Code],0))),IF(G257=\"\",0,INDEX(SignalHeads[Height ** (feet)],MATCH(G257,SignalHeads[Code],0))),IF(H257=\"\",0,INDEX(SignalHeads[Height ** (feet)],MATCH(H257,SignalHeads[Code],0))),IF(I257=\"\",0,INDEX(SignalHeads[Height ** (feet)],MATCH(I257,SignalHeads[Code],0))))","v":0},{"$f":"IF(S257=0,\"\",ROUNDDOWN(12*(((Q257-S257)-MIN($Q$26:$Q$425-$S$26:$S$425)-(MAX($S$26:$S$425*(($Q$26:$Q$425-$S$26:$S$425)=MIN($Q$26:$Q$425-$S$26:$S$425)))-S257))+(MIN($Q$26:$Q$425-$S$26:$S$425)-$I$10)),0)/12)","v":""},"",{"$error":"#N/A"},17]
[233,null,null,null,null,null,null,null,null,{"$f":"SUM(IF(B258=\"\",0,INDEX(SignalHeads[Perp. Wind Area (sft)],MATCH(B258,SignalHeads[Code],0))),IF(D258=\"\",0,INDEX(SignalHeads[Perp. Wind Area (sft)],MATCH(D258,SignalHeads[Code],0))),IF(E258=\"\",0,INDEX(SignalHeads[Perp. Wind Area (sft)],MATCH(E258,SignalHeads[Code],0))),IF(F258=\"\",0,INDEX(SignalHeads[Perp. Wind Area (sft)],MATCH(F258,SignalHeads[Code],0))),IF(G258=\"\",0,INDEX(SignalHeads[Perp. Wind Area (sft)],MATCH(G258,SignalHeads[Code],0))),IF(H258=\"\",0,INDEX(SignalHeads[Perp. Wind Area (sft)],MATCH(H258,SignalHeads[Code],0))),IF(I258=\"\",0,INDEX(SignalHeads[Perp. Wind Area (sft)],MATCH(I258,SignalHeads[Code],0))))","v":0},{"$f":"SUM(IF(B258=\"\",0,INDEX(SignalHeads[Weight*** (lbs)],MATCH(B258,SignalHeads[Code],0))),IF(D258=\"\",0,INDEX(SignalHeads[Weight*** (lbs)],MATCH(D258,SignalHeads[Code],0))),IF(E258=\"\",0,INDEX(SignalHeads[Weight*** (lbs)],MATCH(E258,SignalHeads[Code],0))),IF(F258=\"\",0,INDEX(SignalHeads[Weight*** (lbs)],MATCH(F258,SignalHeads[Code],0))),IF(G258=\"\",0,INDEX(SignalHeads[Weight*** (lbs)],MATCH(G258,SignalHeads[Code],0))),IF(H258=\"\",0,INDEX(SignalHeads[Weight*** (lbs)],MATCH(H258,SignalHeads[Code],0))),IF(I258=\"\",0,INDEX(SignalHeads[Weight*** (lbs)],MATCH(I258,SignalHeads[Code],0))))","v":0},{"$f":"IF(A258<=$I$8,INDEX(DesignConstants[Value],MATCH(\"Span Wire Weight (plf)\",DesignConstants[Design Constant],0)),0)","v":1.155},0,268.53750000000002,{"$error":"#VALUE!"},{"$error":"#VALUE!"},{"$error":"#N/A"},{"$error":"#N/A"},{"$f":"SUM(IF(B258=\"\",0,INDEX(SignalHeads[Height ** (feet)],MATCH(B258,SignalHeads[Code],0))),IF(D258=\"\",0,INDEX(SignalHeads[Height ** (feet)],MATCH(D258,SignalHeads[Code],0))),IF(E258=\"\",0,INDEX(SignalHeads[Height ** (feet)],MATCH(E258,SignalHeads[Code],0))),IF(F258=\"\",0,INDEX(SignalHeads[Height ** (feet)],MATCH(F258,SignalHeads[Code],0))),IF(G258=\"\",0,INDEX(SignalHeads[Height ** (feet)],MATCH(G258,SignalHeads[Code],0))),IF(H258=\"\",0,INDEX(SignalHeads[Height ** (feet)],MATCH(H258,SignalHeads[Code],0))),IF(I258=\"\",0,INDEX(SignalHeads[Height ** (feet)],MATCH(I258,SignalHeads[Code],0))))","v":0},{"$f":"IF(S258=0,\"\",ROUNDDOWN(12*(((Q258-S258)-MIN($Q$26:$Q$425-$S$26:$S$425)-(MAX($S$26:$S$425*(($Q$26:$Q$425-$S$26:$S$425)=MIN($Q$26:$Q$425-$S$26:$S$425)))-S258))+(MIN($Q$26:$Q$425-$S$26:$S$425)-$I$10)),0)/12)","v":""},"",{"$error":"#N/A"},17]
[234,null,null,null,null,null,null,null,null,{"$f":"SUM(IF(B259=\"\",0,INDEX(SignalHeads[Perp. Wind Area (sft)],MATCH(B259,SignalHeads[Code],0))),IF(D259=\"\",0,INDEX(SignalHeads[Perp. Wind Area (sft)],MATCH(D259,SignalHeads[Code],0))),IF(E259=\"\",0,INDEX(SignalHeads[Perp. Wind Area (sft)],MATCH(E259,SignalHeads[Code],0))),IF(F259=\"\",0,INDEX(SignalHeads[Perp. Wind Area (sft)],MATCH(F259,SignalHeads[Code],0))),IF(G259=\"\",0,INDEX(SignalHeads[Perp. Wind Area (sft)],MATCH(G259,SignalHeads[Code],0))),IF(H259=\"\",0,INDEX(SignalHeads[Perp. Wind Area (sft)],MATCH(H259,SignalHeads[Code],0))),IF(I259=\"\",0,INDEX(SignalHeads[Perp. Wind Area (sft)],MATCH(I259,SignalHeads[Code],0))))","v":0},{"$f":"SUM(IF(B259=\"\",0,INDEX(SignalHeads[Weight*** (lbs)],MATCH(B259,SignalHeads[Code],0))),IF(D259=\"\",0,INDEX(SignalHeads[Weight*** (lbs)],MATCH(D259,SignalHeads[Code],0))),IF(E259=\"\",0,INDEX(SignalHeads[Weight*** (lbs)],MATCH(E259,SignalHeads[Code],0))),IF(F259=\"\",0,INDEX(SignalHeads[Weight*** (lbs)],MATCH(F259,SignalHeads[Code],0))),IF(G259=\"\",0,INDEX(SignalHeads[Weight*** (lbs)],MATCH(G259,SignalHeads[Code],0))),IF(H259=\"\",0,INDEX(SignalHeads[Weight*** (lbs)],MATCH(H259,SignalHeads[Code],0))),IF(I259=\"\",0,INDEX(SignalHeads[Weight*** (lbs)],MATCH(I259,SignalHeads[Code],0))))","v":0},{"$f":"IF(A259<=$I$8,INDEX(DesignConstants[Value],MATCH(\"Span Wire Weight (plf)\",DesignConstants[Design Constant],0)),0)","v":1.155},0,269.6925,{"$error":"#VALUE!"},{"$error":"#VALUE!"},{"$error":"#N/A"},{"$error":"#N/A"},{"$f":"SUM(IF(B259=\"\",0,INDEX(SignalHeads[Height ** (feet)],MATCH(B259,SignalHeads[Code],0))),IF(D259=\"\",0,INDEX(SignalHeads[Height ** (feet)],MATCH(D259,SignalHeads[Code],0))),IF(E259=\"\",0,INDEX(SignalHeads[Height ** (feet)],MATCH(E259,SignalHeads[Code],0))),IF(F259=\"\",0,INDEX(SignalHeads[Height ** (feet)],MATCH(F259,SignalHeads[Code],0))),IF(G259=\"\",0,INDEX(SignalHeads[Height ** (feet)],MATCH(G259,SignalHeads[Code],0))),IF(H259=\"\",0,INDEX(SignalHeads[Height ** (feet)],MATCH(H259,SignalHeads[Code],0))),IF(I259=\"\",0,INDEX(SignalHeads[Height ** (feet)],MATCH(I259,SignalHeads[Code],0))))","v":0},{"$f":"IF(S259=0,\"\",ROUNDDOWN(12*(((Q259-S259)-MIN($Q$26:$Q$425-$S$26:$S$425)-(MAX($S$26:$S$425*(($Q$26:$Q$425-$S$26:$S$425)=MIN($Q$26:$Q$425-$S$26:$S$425)))-S259))+(MIN($Q$26:$Q$425-$S$26:$S$425)-$I$10)),0)/12)","v":""},"",{"$error":"#N/A"},17]
[235,null,null,null,null,null,null,null,null,{"$f":"SUM(IF(B260=\"\",0,INDEX(SignalHeads[Perp. Wind Area (sft)],MATCH(B260,SignalHeads[Code],0))),IF(D260=\"\",0,INDEX(SignalHeads[Perp. Wind Area (sft)],MATCH(D260,SignalHeads[Code],0))),IF(E260=\"\",0,INDEX(SignalHeads[Perp. Wind Area (sft)],MATCH(E260,SignalHeads[Code],0))),IF(F260=\"\",0,INDEX(SignalHeads[Perp. Wind Area (sft)],MATCH(F260,SignalHeads[Code],0))),IF(G260=\"\",0,INDEX(SignalHeads[Perp. Wind Area (sft)],MATCH(G260,SignalHeads[Code],0))),IF(H260=\"\",0,INDEX(SignalHeads[Perp. Wind Area (sft)],MATCH(H260,SignalHeads[Code],0))),IF(I260=\"\",0,INDEX(SignalHeads[Perp. Wind Area (sft)],MATCH(I260,SignalHeads[Code],0))))","v":0},{"$f":"SUM(IF(B260=\"\",0,INDEX(SignalHeads[Weight*** (lbs)],MATCH(B260,SignalHeads[Code],0))),IF(D260=\"\",0,INDEX(SignalHeads[Weight*** (lbs)],MATCH(D260,SignalHeads[Code],0))),IF(E260=\"\",0,INDEX(SignalHeads[Weight*** (lbs)],MATCH(E260,SignalHeads[Code],0))),IF(F260=\"\",0,INDEX(SignalHeads[Weight*** (lbs)],MATCH(F260,SignalHeads[Code],0))),IF(G260=\"\",0,INDEX(SignalHeads[Weight*** (lbs)],MATCH(G260,SignalHeads[Code],0))),IF(H260=\"\",0,INDEX(SignalHeads[Weight*** (lbs)],MATCH(H260,SignalHeads[Code],0))),IF(I260=\"\",0,INDEX(SignalHeads[Weight*** (lbs)],MATCH(I260,SignalHeads[Code],0))))","v":0},{"$f":"IF(A260<=$I$8,INDEX(DesignConstants[Value],MATCH(\"Span Wire Weight (plf)\",DesignConstants[Design Constant],0)),0)","v":1.155},0,270.84750000000003,{"$error":"#VALUE!"},{"$error":"#VALUE!"},{"$error":"#N/A"},{"$error":"#N/A"},{"$f":"SUM(IF(B260=\"\",0,INDEX(SignalHeads[Height ** (feet)],MATCH(B260,SignalHeads[Code],0))),IF(D260=\"\",0,INDEX(SignalHeads[Height ** (feet)],MATCH(D260,SignalHeads[Code],0))),IF(E260=\"\",0,INDEX(SignalHeads[Height ** (feet)],MATCH(E260,SignalHeads[Code],0))),IF(F260=\"\",0,INDEX(SignalHeads[Height ** (feet)],MATCH(F260,SignalHeads[Code],0))),IF(G260=\"\",0,INDEX(SignalHeads[Height ** (feet)],MATCH(G260,SignalHeads[Code],0))),IF(H260=\"\",0,INDEX(SignalHeads[Height ** (feet)],MATCH(H260,SignalHeads[Code],0))),IF(I260=\"\",0,INDEX(SignalHeads[Height ** (feet)],MATCH(I260,SignalHeads[Code],0))))","v":0},{"$f":"IF(S260=0,\"\",ROUNDDOWN(12*(((Q260-S260)-MIN($Q$26:$Q$425-$S$26:$S$425)-(MAX($S$26:$S$425*(($Q$26:$Q$425-$S$26:$S$425)=MIN($Q$26:$Q$425-$S$26:$S$425)))-S260))+(MIN($Q$26:$Q$425-$S$26:$S$425)-$I$10)),0)/12)","v":""},"",{"$error":"#N/A"},17]
[236,null,null,null,null,null,null,null,null,{"$f":"SUM(IF(B261=\"\",0,INDEX(SignalHeads[Perp. Wind Area (sft)],MATCH(B261,SignalHeads[Code],0))),IF(D261=\"\",0,INDEX(SignalHeads[Perp. Wind Area (sft)],MATCH(D261,SignalHeads[Code],0))),IF(E261=\"\",0,INDEX(SignalHeads[Perp. Wind Area (sft)],MATCH(E261,SignalHeads[Code],0))),IF(F261=\"\",0,INDEX(SignalHeads[Perp. Wind Area (sft)],MATCH(F261,SignalHeads[Code],0))),IF(G261=\"\",0,INDEX(SignalHeads[Perp. Wind Area (sft)],MATCH(G261,SignalHeads[Code],0))),IF(H261=\"\",0,INDEX(SignalHeads[Perp. Wind Area (sft)],MATCH(H261,SignalHeads[Code],0))),IF(I261=\"\",0,INDEX(SignalHeads[Perp. Wind Area (sft)],MATCH(I261,SignalHeads[Code],0))))","v":0},{"$f":"SUM(IF(B261=\"\",0,INDEX(SignalHeads[Weight*** (lbs)],MATCH(B261,SignalHeads[Code],0))),IF(D261=\"\",0,INDEX(SignalHeads[Weight*** (lbs)],MATCH(D261,SignalHeads[Code],0))),IF(E261=\"\",0,INDEX(SignalHeads[Weight*** (lbs)],MATCH(E261,SignalHeads[Code],0))),IF(F261=\"\",0,INDEX(SignalHeads[Weight*** (lbs)],MATCH(F261,SignalHeads[Code],0))),IF(G261=\"\",0,INDEX(SignalHeads[Weight*** (lbs)],MATCH(G261,SignalHeads[Code],0))),IF(H261=\"\",0,INDEX(SignalHeads[Weight*** (lbs)],MATCH(H261,SignalHeads[Code],0))),IF(I261=\"\",0,INDEX(SignalHeads[Weight*** (lbs)],MATCH(I261,SignalHeads[Code],0))))","v":0},{"$f":"IF(A261<=$I$8,INDEX(DesignConstants[Value],MATCH(\"Span Wire Weight (plf)\",DesignConstants[Design Constant],0)),0)","v":1.155},0,272.0025,{"$error":"#VALUE!"},{"$error":"#VALUE!"},{"$error":"#N/A"},{"$error":"#N/A"},{"$f":"SUM(IF(B261=\"\",0,INDEX(SignalHeads[Height ** (feet)],MATCH(B261,SignalHeads[Code],0))),IF(D261=\"\",0,INDEX(SignalHeads[Height ** (feet)],MATCH(D261,SignalHeads[Code],0))),IF(E261=\"\",0,INDEX(SignalHeads[Height ** (feet)],MATCH(E261,SignalHeads[Code],0))),IF(F261=\"\",0,INDEX(SignalHeads[Height ** (feet)],MATCH(F261,SignalHeads[Code],0))),IF(G261=\"\",0,INDEX(SignalHeads[Height ** (feet)],MATCH(G261,SignalHeads[Code],0))),IF(H261=\"\",0,INDEX(SignalHeads[Height ** (feet)],MATCH(H261,SignalHeads[Code],0))),IF(I261=\"\",0,INDEX(SignalHeads[Height ** (feet)],MATCH(I261,SignalHeads[Code],0))))","v":0},{"$f":"IF(S261=0,\"\",ROUNDDOWN(12*(((Q261-S261)-MIN($Q$26:$Q$425-$S$26:$S$425)-(MAX($S$26:$S$425*(($Q$26:$Q$425-$S$26:$S$425)=MIN($Q$26:$Q$425-$S$26:$S$425)))-S261))+(MIN($Q$26:$Q$425-$S$26:$S$425)-$I$10)),0)/12)","v":""},"",{"$error":"#N/A"},17]
[237,null,null,null,null,null,null,null,null,{"$f":"SUM(IF(B262=\"\",0,INDEX(SignalHeads[Perp. Wind Area (sft)],MATCH(B262,SignalHeads[Code],0))),IF(D262=\"\",0,INDEX(SignalHeads[Perp. Wind Area (sft)],MATCH(D262,SignalHeads[Code],0))),IF(E262=\"\",0,INDEX(SignalHeads[Perp. Wind Area (sft)],MATCH(E262,SignalHeads[Code],0))),IF(F262=\"\",0,INDEX(SignalHeads[Perp. Wind Area (sft)],MATCH(F262,SignalHeads[Code],0))),IF(G262=\"\",0,INDEX(SignalHeads[Perp. Wind Area (sft)],MATCH(G262,SignalHeads[Code],0))),IF(H262=\"\",0,INDEX(SignalHeads[Perp. Wind Area (sft)],MATCH(H262,SignalHeads[Code],0))),IF(I262=\"\",0,INDEX(SignalHeads[Perp. Wind Area (sft)],MATCH(I262,SignalHeads[Code],0))))","v":0},{"$f":"SUM(IF(B262=\"\",0,INDEX(SignalHeads[Weight*** (lbs)],MATCH(B262,SignalHeads[Code],0))),IF(D262=\"\",0,INDEX(SignalHeads[Weight*** (lbs)],MATCH(D262,SignalHeads[Code],0))),IF(E262=\"\",0,INDEX(SignalHeads[Weight*** (lbs)],MATCH(E262,SignalHeads[Code],0))),IF(F262=\"\",0,INDEX(SignalHeads[Weight*** (lbs)],MATCH(F262,SignalHeads[Code],0))),IF(G262=\"\",0,INDEX(SignalHeads[Weight*** (lbs)],MATCH(G262,SignalHeads[Code],0))),IF(H262=\"\",0,INDEX(SignalHeads[Weight*** (lbs)],MATCH(H262,SignalHeads[Code],0))),IF(I262=\"\",0,INDEX(SignalHeads[Weight*** (lbs)],MATCH(I262,SignalHeads[Code],0))))","v":0},{"$f":"IF(A262<=$I$8,INDEX(DesignConstants[Value],MATCH(\"Span Wire Weight (plf)\",DesignConstants[Design Constant],0)),0)","v":1.155},0,273.15750000000003,{"$error":"#VALUE!"},{"$error":"#VALUE!"},{"$error":"#N/A"},{"$error":"#N/A"},{"$f":"SUM(IF(B262=\"\",0,INDEX(SignalHeads[Height ** (feet)],MATCH(B262,SignalHeads[Code],0))),IF(D262=\"\",0,INDEX(SignalHeads[Height ** (feet)],MATCH(D262,SignalHeads[Code],0))),IF(E262=\"\",0,INDEX(SignalHeads[Height ** (feet)],MATCH(E262,SignalHeads[Code],0))),IF(F262=\"\",0,INDEX(SignalHeads[Height ** (feet)],MATCH(F262,SignalHeads[Code],0))),IF(G262=\"\",0,INDEX(SignalHeads[Height ** (feet)],MATCH(G262,SignalHeads[Code],0))),IF(H262=\"\",0,INDEX(SignalHeads[Height ** (feet)],MATCH(H262,SignalHeads[Code],0))),IF(I262=\"\",0,INDEX(SignalHeads[Height ** (feet)],MATCH(I262,SignalHeads[Code],0))))","v":0},{"$f":"IF(S262=0,\"\",ROUNDDOWN(12*(((Q262-S262)-MIN($Q$26:$Q$425-$S$26:$S$425)-(MAX($S$26:$S$425*(($Q$26:$Q$425-$S$26:$S$425)=MIN($Q$26:$Q$425-$S$26:$S$425)))-S262))+(MIN($Q$26:$Q$425-$S$26:$S$425)-$I$10)),0)/12)","v":""},"",{"$error":"#N/A"},17]
[238,null,null,null,null,null,null,null,null,{"$f":"SUM(IF(B263=\"\",0,INDEX(SignalHeads[Perp. Wind Area (sft)],MATCH(B263,SignalHeads[Code],0))),IF(D263=\"\",0,INDEX(SignalHeads[Perp. Wind Area (sft)],MATCH(D263,SignalHeads[Code],0))),IF(E263=\"\",0,INDEX(SignalHeads[Perp. Wind Area (sft)],MATCH(E263,SignalHeads[Code],0))),IF(F263=\"\",0,INDEX(SignalHeads[Perp. Wind Area (sft)],MATCH(F263,SignalHeads[Code],0))),IF(G263=\"\",0,INDEX(SignalHeads[Perp. Wind Area (sft)],MATCH(G263,SignalHeads[Code],0))),IF(H263=\"\",0,INDEX(SignalHeads[Perp. Wind Area (sft)],MATCH(H263,SignalHeads[Code],0))),IF(I263=\"\",0,INDEX(SignalHeads[Perp. Wind Area (sft)],MATCH(I263,SignalHeads[Code],0))))","v":0},{"$f":"SUM(IF(B263=\"\",0,INDEX(SignalHeads[Weight*** (lbs)],MATCH(B263,SignalHeads[Code],0))),IF(D263=\"\",0,INDEX(SignalHeads[Weight*** (lbs)],MATCH(D263,SignalHeads[Code],0))),IF(E263=\"\",0,INDEX(SignalHeads[Weight*** (lbs)],MATCH(E263,SignalHeads[Code],0))),IF(F263=\"\",0,INDEX(SignalHeads[Weight*** (lbs)],MATCH(F263,SignalHeads[Code],0))),IF(G263=\"\",0,INDEX(SignalHeads[Weight*** (lbs)],MATCH(G263,SignalHeads[Code],0))),IF(H263=\"\",0,INDEX(SignalHeads[Weight*** (lbs)],MATCH(H263,SignalHeads[Code],0))),IF(I263=\"\",0,INDEX(SignalHeads[Weight*** (lbs)],MATCH(I263,SignalHeads[Code],0))))","v":0},{"$f":"IF(A263<=$I$8,INDEX(DesignConstants[Value],MATCH(\"Span Wire Weight (plf)\",DesignConstants[Design Constant],0)),0)","v":1.155},0,274.3125,{"$error":"#VALUE!"},{"$error":"#VALUE!"},{"$error":"#N/A"},{"$error":"#N/A"},{"$f":"SUM(IF(B263=\"\",0,INDEX(SignalHeads[Height ** (feet)],MATCH(B263,SignalHeads[Code],0))),IF(D263=\"\",0,INDEX(SignalHeads[Height ** (feet)],MATCH(D263,SignalHeads[Code],0))),IF(E263=\"\",0,INDEX(SignalHeads[Height ** (feet)],MATCH(E263,SignalHeads[Code],0))),IF(F263=\"\",0,INDEX(SignalHeads[Height ** (feet)],MATCH(F263,SignalHeads[Code],0))),IF(G263=\"\",0,INDEX(SignalHeads[Height ** (feet)],MATCH(G263,SignalHeads[Code],0))),IF(H263=\"\",0,INDEX(SignalHeads[Height ** (feet)],MATCH(H263,SignalHeads[Code],0))),IF(I263=\"\",0,INDEX(SignalHeads[Height ** (feet)],MATCH(I263,SignalHeads[Code],0))))","v":0},{"$f":"IF(S263=0,\"\",ROUNDDOWN(12*(((Q263-S263)-MIN($Q$26:$Q$425-$S$26:$S$425)-(MAX($S$26:$S$425*(($Q$26:$Q$425-$S$26:$S$425)=MIN($Q$26:$Q$425-$S$26:$S$425)))-S263))+(MIN($Q$26:$Q$425-$S$26:$S$425)-$I$10)),0)/12)","v":""},"",{"$error":"#N/A"},17]
[239,null,null,null,null,null,null,null,null,{"$f":"SUM(IF(B264=\"\",0,INDEX(SignalHeads[Perp. Wind Area (sft)],MATCH(B264,SignalHeads[Code],0))),IF(D264=\"\",0,INDEX(SignalHeads[Perp. Wind Area (sft)],MATCH(D264,SignalHeads[Code],0))),IF(E264=\"\",0,INDEX(SignalHeads[Perp. Wind Area (sft)],MATCH(E264,SignalHeads[Code],0))),IF(F264=\"\",0,INDEX(SignalHeads[Perp. Wind Area (sft)],MATCH(F264,SignalHeads[Code],0))),IF(G264=\"\",0,INDEX(SignalHeads[Perp. Wind Area (sft)],MATCH(G264,SignalHeads[Code],0))),IF(H264=\"\",0,INDEX(SignalHeads[Perp. Wind Area (sft)],MATCH(H264,SignalHeads[Code],0))),IF(I264=\"\",0,INDEX(SignalHeads[Perp. Wind Area (sft)],MATCH(I264,SignalHeads[Code],0))))","v":0},{"$f":"SUM(IF(B264=\"\",0,INDEX(SignalHeads[Weight*** (lbs)],MATCH(B264,SignalHeads[Code],0))),IF(D264=\"\",0,INDEX(SignalHeads[Weight*** (lbs)],MATCH(D264,SignalHeads[Code],0))),IF(E264=\"\",0,INDEX(SignalHeads[Weight*** (lbs)],MATCH(E264,SignalHeads[Code],0))),IF(F264=\"\",0,INDEX(SignalHeads[Weight*** (lbs)],MATCH(F264,SignalHeads[Code],0))),IF(G264=\"\",0,INDEX(SignalHeads[Weight*** (lbs)],MATCH(G264,SignalHeads[Code],0))),IF(H264=\"\",0,INDEX(SignalHeads[Weight*** (lbs)],MATCH(H264,SignalHeads[Code],0))),IF(I264=\"\",0,INDEX(SignalHeads[Weight*** (lbs)],MATCH(I264,SignalHeads[Code],0))))","v":0},{"$f":"IF(A264<=$I$8,INDEX(DesignConstants[Value],MATCH(\"Span Wire Weight (plf)\",DesignConstants[Design Constant],0)),0)","v":1.155},0,275.46750000000003,{"$error":"#VALUE!"},{"$error":"#VALUE!"},{"$error":"#N/A"},{"$error":"#N/A"},{"$f":"SUM(IF(B264=\"\",0,INDEX(SignalHeads[Height ** (feet)],MATCH(B264,SignalHeads[Code],0))),IF(D264=\"\",0,INDEX(SignalHeads[Height ** (feet)],MATCH(D264,SignalHeads[Code],0))),IF(E264=\"\",0,INDEX(SignalHeads[Height ** (feet)],MATCH(E264,SignalHeads[Code],0))),IF(F264=\"\",0,INDEX(SignalHeads[Height ** (feet)],MATCH(F264,SignalHeads[Code],0))),IF(G264=\"\",0,INDEX(SignalHeads[Height ** (feet)],MATCH(G264,SignalHeads[Code],0))),IF(H264=\"\",0,INDEX(SignalHeads[Height ** (feet)],MATCH(H264,SignalHeads[Code],0))),IF(I264=\"\",0,INDEX(SignalHeads[Height ** (feet)],MATCH(I264,SignalHeads[Code],0))))","v":0},{"$f":"IF(S264=0,\"\",ROUNDDOWN(12*(((Q264-S264)-MIN($Q$26:$Q$425-$S$26:$S$425)-(MAX($S$26:$S$425*(($Q$26:$Q$425-$S$26:$S$425)=MIN($Q$26:$Q$425-$S$26:$S$425)))-S264))+(MIN($Q$26:$Q$425-$S$26:$S$425)-$I$10)),0)/12)","v":""},"",{"$error":"#N/A"},17]
[240,null,null,null,null,null,null,null,null,{"$f":"SUM(IF(B265=\"\",0,INDEX(SignalHeads[Perp. Wind Area (sft)],MATCH(B265,SignalHeads[Code],0))),IF(D265=\"\",0,INDEX(SignalHeads[Perp. Wind Area (sft)],MATCH(D265,SignalHeads[Code],0))),IF(E265=\"\",0,INDEX(SignalHeads[Perp. Wind Area (sft)],MATCH(E265,SignalHeads[Code],0))),IF(F265=\"\",0,INDEX(SignalHeads[Perp. Wind Area (sft)],MATCH(F265,SignalHeads[Code],0))),IF(G265=\"\",0,INDEX(SignalHeads[Perp. Wind Area (sft)],MATCH(G265,SignalHeads[Code],0))),IF(H265=\"\",0,INDEX(SignalHeads[Perp. Wind Area (sft)],MATCH(H265,SignalHeads[Code],0))),IF(I265=\"\",0,INDEX(SignalHeads[Perp. Wind Area (sft)],MATCH(I265,SignalHeads[Code],0))))","v":0},{"$f":"SUM(IF(B265=\"\",0,INDEX(SignalHeads[Weight*** (lbs)],MATCH(B265,SignalHeads[Code],0))),IF(D265=\"\",0,INDEX(SignalHeads[Weight*** (lbs)],MATCH(D265,SignalHeads[Code],0))),IF(E265=\"\",0,INDEX(SignalHeads[Weight*** (lbs)],MATCH(E265,SignalHeads[Code],0))),IF(F265=\"\",0,INDEX(SignalHeads[Weight*** (lbs)],MATCH(F265,SignalHeads[Code],0))),IF(G265=\"\",0,INDEX(SignalHeads[Weight*** (lbs)],MATCH(G265,SignalHeads[Code],0))),IF(H265=\"\",0,INDEX(SignalHeads[Weight*** (lbs)],MATCH(H265,SignalHeads[Code],0))),IF(I265=\"\",0,INDEX(SignalHeads[Weight*** (lbs)],MATCH(I265,SignalHeads[Code],0))))","v":0},{"$f":"IF(A265<=$I$8,INDEX(DesignConstants[Value],MATCH(\"Span Wire Weight (plf)\",DesignConstants[Design Constant],0)),0)","v":1.155},0,276.6225,{"$error":"#VALUE!"},{"$error":"#VALUE!"},{"$error":"#N/A"},{"$error":"#N/A"},{"$f":"SUM(IF(B265=\"\",0,INDEX(SignalHeads[Height ** (feet)],MATCH(B265,SignalHeads[Code],0))),IF(D265=\"\",0,INDEX(SignalHeads[Height ** (feet)],MATCH(D265,SignalHeads[Code],0))),IF(E265=\"\",0,INDEX(SignalHeads[Height ** (feet)],MATCH(E265,SignalHeads[Code],0))),IF(F265=\"\",0,INDEX(SignalHeads[Height ** (feet)],MATCH(F265,SignalHeads[Code],0))),IF(G265=\"\",0,INDEX(SignalHeads[Height ** (feet)],MATCH(G265,SignalHeads[Code],0))),IF(H265=\"\",0,INDEX(SignalHeads[Height ** (feet)],MATCH(H265,SignalHeads[Code],0))),IF(I265=\"\",0,INDEX(SignalHeads[Height ** (feet)],MATCH(I265,SignalHeads[Code],0))))","v":0},{"$f":"IF(S265=0,\"\",ROUNDDOWN(12*(((Q265-S265)-MIN($Q$26:$Q$425-$S$26:$S$425)-(MAX($S$26:$S$425*(($Q$26:$Q$425-$S$26:$S$425)=MIN($Q$26:$Q$425-$S$26:$S$425)))-S265))+(MIN($Q$26:$Q$425-$S$26:$S$425)-$I$10)),0)/12)","v":""},"",{"$error":"#N/A"},17]
[241,null,null,null,null,null,null,null,null,{"$f":"SUM(IF(B266=\"\",0,INDEX(SignalHeads[Perp. Wind Area (sft)],MATCH(B266,SignalHeads[Code],0))),IF(D266=\"\",0,INDEX(SignalHeads[Perp. Wind Area (sft)],MATCH(D266,SignalHeads[Code],0))),IF(E266=\"\",0,INDEX(SignalHeads[Perp. Wind Area (sft)],MATCH(E266,SignalHeads[Code],0))),IF(F266=\"\",0,INDEX(SignalHeads[Perp. Wind Area (sft)],MATCH(F266,SignalHeads[Code],0))),IF(G266=\"\",0,INDEX(SignalHeads[Perp. Wind Area (sft)],MATCH(G266,SignalHeads[Code],0))),IF(H266=\"\",0,INDEX(SignalHeads[Perp. Wind Area (sft)],MATCH(H266,SignalHeads[Code],0))),IF(I266=\"\",0,INDEX(SignalHeads[Perp. Wind Area (sft)],MATCH(I266,SignalHeads[Code],0))))","v":0},{"$f":"SUM(IF(B266=\"\",0,INDEX(SignalHeads[Weight*** (lbs)],MATCH(B266,SignalHeads[Code],0))),IF(D266=\"\",0,INDEX(SignalHeads[Weight*** (lbs)],MATCH(D266,SignalHeads[Code],0))),IF(E266=\"\",0,INDEX(SignalHeads[Weight*** (lbs)],MATCH(E266,SignalHeads[Code],0))),IF(F266=\"\",0,INDEX(SignalHeads[Weight*** (lbs)],MATCH(F266,SignalHeads[Code],0))),IF(G266=\"\",0,INDEX(SignalHeads[Weight*** (lbs)],MATCH(G266,SignalHeads[Code],0))),IF(H266=\"\",0,INDEX(SignalHeads[Weight*** (lbs)],MATCH(H266,SignalHeads[Code],0))),IF(I266=\"\",0,INDEX(SignalHeads[Weight*** (lbs)],MATCH(I266,SignalHeads[Code],0))))","v":0},{"$f":"IF(A266<=$I$8,INDEX(DesignConstants[Value],MATCH(\"Span Wire Weight (plf)\",DesignConstants[Design Constant],0)),0)","v":1.155},0,277.77750000000003,{"$error":"#VALUE!"},{"$error":"#VALUE!"},{"$error":"#N/A"},{"$error":"#N/A"},{"$f":"SUM(IF(B266=\"\",0,INDEX(SignalHeads[Height ** (feet)],MATCH(B266,SignalHeads[Code],0))),IF(D266=\"\",0,INDEX(SignalHeads[Height ** (feet)],MATCH(D266,SignalHeads[Code],0))),IF(E266=\"\",0,INDEX(SignalHeads[Height ** (feet)],MATCH(E266,SignalHeads[Code],0))),IF(F266=\"\",0,INDEX(SignalHeads[Height ** (feet)],MATCH(F266,SignalHeads[Code],0))),IF(G266=\"\",0,INDEX(SignalHeads[Height ** (feet)],MATCH(G266,SignalHeads[Code],0))),IF(H266=\"\",0,INDEX(SignalHeads[Height ** (feet)],MATCH(H266,SignalHeads[Code],0))),IF(I266=\"\",0,INDEX(SignalHeads[Height ** (feet)],MATCH(I266,SignalHeads[Code],0))))","v":0},{"$f":"IF(S266=0,\"\",ROUNDDOWN(12*(((Q266-S266)-MIN($Q$26:$Q$425-$S$26:$S$425)-(MAX($S$26:$S$425*(($Q$26:$Q$425-$S$26:$S$425)=MIN($Q$26:$Q$425-$S$26:$S$425)))-S266))+(MIN($Q$26:$Q$425-$S$26:$S$425)-$I$10)),0)/12)","v":""},"",{"$error":"#N/A"},17]
[242,null,null,null,null,null,null,null,null,{"$f":"SUM(IF(B267=\"\",0,INDEX(SignalHeads[Perp. Wind Area (sft)],MATCH(B267,SignalHeads[Code],0))),IF(D267=\"\",0,INDEX(SignalHeads[Perp. Wind Area (sft)],MATCH(D267,SignalHeads[Code],0))),IF(E267=\"\",0,INDEX(SignalHeads[Perp. Wind Area (sft)],MATCH(E267,SignalHeads[Code],0))),IF(F267=\"\",0,INDEX(SignalHeads[Perp. Wind Area (sft)],MATCH(F267,SignalHeads[Code],0))),IF(G267=\"\",0,INDEX(SignalHeads[Perp. Wind Area (sft)],MATCH(G267,SignalHeads[Code],0))),IF(H267=\"\",0,INDEX(SignalHeads[Perp. Wind Area (sft)],MATCH(H267,SignalHeads[Code],0))),IF(I267=\"\",0,INDEX(SignalHeads[Perp. Wind Area (sft)],MATCH(I267,SignalHeads[Code],0))))","v":0},{"$f":"SUM(IF(B267=\"\",0,INDEX(SignalHeads[Weight*** (lbs)],MATCH(B267,SignalHeads[Code],0))),IF(D267=\"\",0,INDEX(SignalHeads[Weight*** (lbs)],MATCH(D267,SignalHeads[Code],0))),IF(E267=\"\",0,INDEX(SignalHeads[Weight*** (lbs)],MATCH(E267,SignalHeads[Code],0))),IF(F267=\"\",0,INDEX(SignalHeads[Weight*** (lbs)],MATCH(F267,SignalHeads[Code],0))),IF(G267=\"\",0,INDEX(SignalHeads[Weight*** (lbs)],MATCH(G267,SignalHeads[Code],0))),IF(H267=\"\",0,INDEX(SignalHeads[Weight*** (lbs)],MATCH(H267,SignalHeads[Code],0))),IF(I267=\"\",0,INDEX(SignalHeads[Weight*** (lbs)],MATCH(I267,SignalHeads[Code],0))))","v":0},{"$f":"IF(A267<=$I$8,INDEX(DesignConstants[Value],MATCH(\"Span Wire Weight (plf)\",DesignConstants[Design Constant],0)),0)","v":1.155},0,278.9325,{"$error":"#VALUE!"},{"$error":"#VALUE!"},{"$error":"#N/A"},{"$error":"#N/A"},{"$f":"SUM(IF(B267=\"\",0,INDEX(SignalHeads[Height ** (feet)],MATCH(B267,SignalHeads[Code],0))),IF(D267=\"\",0,INDEX(SignalHeads[Height ** (feet)],MATCH(D267,SignalHeads[Code],0))),IF(E267=\"\",0,INDEX(SignalHeads[Height ** (feet)],MATCH(E267,SignalHeads[Code],0))),IF(F267=\"\",0,INDEX(SignalHeads[Height ** (feet)],MATCH(F267,SignalHeads[Code],0))),IF(G267=\"\",0,INDEX(SignalHeads[Height ** (feet)],MATCH(G267,SignalHeads[Code],0))),IF(H267=\"\",0,INDEX(SignalHeads[Height ** (feet)],MATCH(H267,SignalHeads[Code],0))),IF(I267=\"\",0,INDEX(SignalHeads[Height ** (feet)],MATCH(I267,SignalHeads[Code],0))))","v":0},{"$f":"IF(S267=0,\"\",ROUNDDOWN(12*(((Q267-S267)-MIN($Q$26:$Q$425-$S$26:$S$425)-(MAX($S$26:$S$425*(($Q$26:$Q$425-$S$26:$S$425)=MIN($Q$26:$Q$425-$S$26:$S$425)))-S267))+(MIN($Q$26:$Q$425-$S$26:$S$425)-$I$10)),0)/12)","v":""},"",{"$error":"#N/A"},17]
[243,null,null,null,null,null,null,null,null,{"$f":"SUM(IF(B268=\"\",0,INDEX(SignalHeads[Perp. Wind Area (sft)],MATCH(B268,SignalHeads[Code],0))),IF(D268=\"\",0,INDEX(SignalHeads[Perp. Wind Area (sft)],MATCH(D268,SignalHeads[Code],0))),IF(E268=\"\",0,INDEX(SignalHeads[Perp. Wind Area (sft)],MATCH(E268,SignalHeads[Code],0))),IF(F268=\"\",0,INDEX(SignalHeads[Perp. Wind Area (sft)],MATCH(F268,SignalHeads[Code],0))),IF(G268=\"\",0,INDEX(SignalHeads[Perp. Wind Area (sft)],MATCH(G268,SignalHeads[Code],0))),IF(H268=\"\",0,INDEX(SignalHeads[Perp. Wind Area (sft)],MATCH(H268,SignalHeads[Code],0))),IF(I268=\"\",0,INDEX(SignalHeads[Perp. Wind Area (sft)],MATCH(I268,SignalHeads[Code],0))))","v":0},{"$f":"SUM(IF(B268=\"\",0,INDEX(SignalHeads[Weight*** (lbs)],MATCH(B268,SignalHeads[Code],0))),IF(D268=\"\",0,INDEX(SignalHeads[Weight*** (lbs)],MATCH(D268,SignalHeads[Code],0))),IF(E268=\"\",0,INDEX(SignalHeads[Weight*** (lbs)],MATCH(E268,SignalHeads[Code],0))),IF(F268=\"\",0,INDEX(SignalHeads[Weight*** (lbs)],MATCH(F268,SignalHeads[Code],0))),IF(G268=\"\",0,INDEX(SignalHeads[Weight*** (lbs)],MATCH(G268,SignalHeads[Code],0))),IF(H268=\"\",0,INDEX(SignalHeads[Weight*** (lbs)],MATCH(H268,SignalHeads[Code],0))),IF(I268=\"\",0,INDEX(SignalHeads[Weight*** (lbs)],MATCH(I268,SignalHeads[Code],0))))","v":0},{"$f":"IF(A268<=$I$8,INDEX(DesignConstants[Value],MATCH(\"Span Wire Weight (plf)\",DesignConstants[Design Constant],0)),0)","v":1.155},0,280.08750000000003,{"$error":"#VALUE!"},{"$error":"#VALUE!"},{"$error":"#N/A"},{"$error":"#N/A"},{"$f":"SUM(IF(B268=\"\",0,INDEX(SignalHeads[Height ** (feet)],MATCH(B268,SignalHeads[Code],0))),IF(D268=\"\",0,INDEX(SignalHeads[Height ** (feet)],MATCH(D268,SignalHeads[Code],0))),IF(E268=\"\",0,INDEX(SignalHeads[Height ** (feet)],MATCH(E268,SignalHeads[Code],0))),IF(F268=\"\",0,INDEX(SignalHeads[Height ** (feet)],MATCH(F268,SignalHeads[Code],0))),IF(G268=\"\",0,INDEX(SignalHeads[Height ** (feet)],MATCH(G268,SignalHeads[Code],0))),IF(H268=\"\",0,INDEX(SignalHeads[Height ** (feet)],MATCH(H268,SignalHeads[Code],0))),IF(I268=\"\",0,INDEX(SignalHeads[Height ** (feet)],MATCH(I268,SignalHeads[Code],0))))","v":0},{"$f":"IF(S268=0,\"\",ROUNDDOWN(12*(((Q268-S268)-MIN($Q$26:$Q$425-$S$26:$S$425)-(MAX($S$26:$S$425*(($Q$26:$Q$425-$S$26:$S$425)=MIN($Q$26:$Q$425-$S$26:$S$425)))-S268))+(MIN($Q$26:$Q$425-$S$26:$S$425)-$I$10)),0)/12)","v":""},"",{"$error":"#N/A"},17]
[244,null,null,null,null,null,null,null,null,{"$f":"SUM(IF(B269=\"\",0,INDEX(SignalHeads[Perp. Wind Area (sft)],MATCH(B269,SignalHeads[Code],0))),IF(D269=\"\",0,INDEX(SignalHeads[Perp. Wind Area (sft)],MATCH(D269,SignalHeads[Code],0))),IF(E269=\"\",0,INDEX(SignalHeads[Perp. Wind Area (sft)],MATCH(E269,SignalHeads[Code],0))),IF(F269=\"\",0,INDEX(SignalHeads[Perp. Wind Area (sft)],MATCH(F269,SignalHeads[Code],0))),IF(G269=\"\",0,INDEX(SignalHeads[Perp. Wind Area (sft)],MATCH(G269,SignalHeads[Code],0))),IF(H269=\"\",0,INDEX(SignalHeads[Perp. Wind Area (sft)],MATCH(H269,SignalHeads[Code],0))),IF(I269=\"\",0,INDEX(SignalHeads[Perp. Wind Area (sft)],MATCH(I269,SignalHeads[Code],0))))","v":0},{"$f":"SUM(IF(B269=\"\",0,INDEX(SignalHeads[Weight*** (lbs)],MATCH(B269,SignalHeads[Code],0))),IF(D269=\"\",0,INDEX(SignalHeads[Weight*** (lbs)],MATCH(D269,SignalHeads[Code],0))),IF(E269=\"\",0,INDEX(SignalHeads[Weight*** (lbs)],MATCH(E269,SignalHeads[Code],0))),IF(F269=\"\",0,INDEX(SignalHeads[Weight*** (lbs)],MATCH(F269,SignalHeads[Code],0))),IF(G269=\"\",0,INDEX(SignalHeads[Weight*** (lbs)],MATCH(G269,SignalHeads[Code],0))),IF(H269=\"\",0,INDEX(SignalHeads[Weight*** (lbs)],MATCH(H269,SignalHeads[Code],0))),IF(I269=\"\",0,INDEX(SignalHeads[Weight*** (lbs)],MATCH(I269,SignalHeads[Code],0))))","v":0},{"$f":"IF(A269<=$I$8,INDEX(DesignConstants[Value],MATCH(\"Span Wire Weight (plf)\",DesignConstants[Design Constant],0)),0)","v":1.155},0,281.24250000000001,{"$error":"#VALUE!"},{"$error":"#VALUE!"},{"$error":"#N/A"},{"$error":"#N/A"},{"$f":"SUM(IF(B269=\"\",0,INDEX(SignalHeads[Height ** (feet)],MATCH(B269,SignalHeads[Code],0))),IF(D269=\"\",0,INDEX(SignalHeads[Height ** (feet)],MATCH(D269,SignalHeads[Code],0))),IF(E269=\"\",0,INDEX(SignalHeads[Height ** (feet)],MATCH(E269,SignalHeads[Code],0))),IF(F269=\"\",0,INDEX(SignalHeads[Height ** (feet)],MATCH(F269,SignalHeads[Code],0))),IF(G269=\"\",0,INDEX(SignalHeads[Height ** (feet)],MATCH(G269,SignalHeads[Code],0))),IF(H269=\"\",0,INDEX(SignalHeads[Height ** (feet)],MATCH(H269,SignalHeads[Code],0))),IF(I269=\"\",0,INDEX(SignalHeads[Height ** (feet)],MATCH(I269,SignalHeads[Code],0))))","v":0},{"$f":"IF(S269=0,\"\",ROUNDDOWN(12*(((Q269-S269)-MIN($Q$26:$Q$425-$S$26:$S$425)-(MAX($S$26:$S$425*(($Q$26:$Q$425-$S$26:$S$425)=MIN($Q$26:$Q$425-$S$26:$S$425)))-S269))+(MIN($Q$26:$Q$425-$S$26:$S$425)-$I$10)),0)/12)","v":""},"",{"$error":"#N/A"},17]
[245,null,null,null,null,null,null,null,null,{"$f":"SUM(IF(B270=\"\",0,INDEX(SignalHeads[Perp. Wind Area (sft)],MATCH(B270,SignalHeads[Code],0))),IF(D270=\"\",0,INDEX(SignalHeads[Perp. Wind Area (sft)],MATCH(D270,SignalHeads[Code],0))),IF(E270=\"\",0,INDEX(SignalHeads[Perp. Wind Area (sft)],MATCH(E270,SignalHeads[Code],0))),IF(F270=\"\",0,INDEX(SignalHeads[Perp. Wind Area (sft)],MATCH(F270,SignalHeads[Code],0))),IF(G270=\"\",0,INDEX(SignalHeads[Perp. Wind Area (sft)],MATCH(G270,SignalHeads[Code],0))),IF(H270=\"\",0,INDEX(SignalHeads[Perp. Wind Area (sft)],MATCH(H270,SignalHeads[Code],0))),IF(I270=\"\",0,INDEX(SignalHeads[Perp. Wind Area (sft)],MATCH(I270,SignalHeads[Code],0))))","v":0},{"$f":"SUM(IF(B270=\"\",0,INDEX(SignalHeads[Weight*** (lbs)],MATCH(B270,SignalHeads[Code],0))),IF(D270=\"\",0,INDEX(SignalHeads[Weight*** (lbs)],MATCH(D270,SignalHeads[Code],0))),IF(E270=\"\",0,INDEX(SignalHeads[Weight*** (lbs)],MATCH(E270,SignalHeads[Code],0))),IF(F270=\"\",0,INDEX(SignalHeads[Weight*** (lbs)],MATCH(F270,SignalHeads[Code],0))),IF(G270=\"\",0,INDEX(SignalHeads[Weight*** (lbs)],MATCH(G270,SignalHeads[Code],0))),IF(H270=\"\",0,INDEX(SignalHeads[Weight*** (lbs)],MATCH(H270,SignalHeads[Code],0))),IF(I270=\"\",0,INDEX(SignalHeads[Weight*** (lbs)],MATCH(I270,SignalHeads[Code],0))))","v":0},{"$f":"IF(A270<=$I$8,INDEX(DesignConstants[Value],MATCH(\"Span Wire Weight (plf)\",DesignConstants[Design Constant],0)),0)","v":1.155},0,282.39749999999998,{"$error":"#VALUE!"},{"$error":"#VALUE!"},{"$error":"#N/A"},{"$error":"#N/A"},{"$f":"SUM(IF(B270=\"\",0,INDEX(SignalHeads[Height ** (feet)],MATCH(B270,SignalHeads[Code],0))),IF(D270=\"\",0,INDEX(SignalHeads[Height ** (feet)],MATCH(D270,SignalHeads[Code],0))),IF(E270=\"\",0,INDEX(SignalHeads[Height ** (feet)],MATCH(E270,SignalHeads[Code],0))),IF(F270=\"\",0,INDEX(SignalHeads[Height ** (feet)],MATCH(F270,SignalHeads[Code],0))),IF(G270=\"\",0,INDEX(SignalHeads[Height ** (feet)],MATCH(G270,SignalHeads[Code],0))),IF(H270=\"\",0,INDEX(SignalHeads[Height ** (feet)],MATCH(H270,SignalHeads[Code],0))),IF(I270=\"\",0,INDEX(SignalHeads[Height ** (feet)],MATCH(I270,SignalHeads[Code],0))))","v":0},{"$f":"IF(S270=0,\"\",ROUNDDOWN(12*(((Q270-S270)-MIN($Q$26:$Q$425-$S$26:$S$425)-(MAX($S$26:$S$425*(($Q$26:$Q$425-$S$26:$S$425)=MIN($Q$26:$Q$425-$S$26:$S$425)))-S270))+(MIN($Q$26:$Q$425-$S$26:$S$425)-$I$10)),0)/12)","v":""},"",{"$error":"#N/A"},17]
[246,null,null,null,null,null,null,null,null,{"$f":"SUM(IF(B271=\"\",0,INDEX(SignalHeads[Perp. Wind Area (sft)],MATCH(B271,SignalHeads[Code],0))),IF(D271=\"\",0,INDEX(SignalHeads[Perp. Wind Area (sft)],MATCH(D271,SignalHeads[Code],0))),IF(E271=\"\",0,INDEX(SignalHeads[Perp. Wind Area (sft)],MATCH(E271,SignalHeads[Code],0))),IF(F271=\"\",0,INDEX(SignalHeads[Perp. Wind Area (sft)],MATCH(F271,SignalHeads[Code],0))),IF(G271=\"\",0,INDEX(SignalHeads[Perp. Wind Area (sft)],MATCH(G271,SignalHeads[Code],0))),IF(H271=\"\",0,INDEX(SignalHeads[Perp. Wind Area (sft)],MATCH(H271,SignalHeads[Code],0))),IF(I271=\"\",0,INDEX(SignalHeads[Perp. Wind Area (sft)],MATCH(I271,SignalHeads[Code],0))))","v":0},{"$f":"SUM(IF(B271=\"\",0,INDEX(SignalHeads[Weight*** (lbs)],MATCH(B271,SignalHeads[Code],0))),IF(D271=\"\",0,INDEX(SignalHeads[Weight*** (lbs)],MATCH(D271,SignalHeads[Code],0))),IF(E271=\"\",0,INDEX(SignalHeads[Weight*** (lbs)],MATCH(E271,SignalHeads[Code],0))),IF(F271=\"\",0,INDEX(SignalHeads[Weight*** (lbs)],MATCH(F271,SignalHeads[Code],0))),IF(G271=\"\",0,INDEX(SignalHeads[Weight*** (lbs)],MATCH(G271,SignalHeads[Code],0))),IF(H271=\"\",0,INDEX(SignalHeads[Weight*** (lbs)],MATCH(H271,SignalHeads[Code],0))),IF(I271=\"\",0,INDEX(SignalHeads[Weight*** (lbs)],MATCH(I271,SignalHeads[Code],0))))","v":0},{"$f":"IF(A271<=$I$8,INDEX(DesignConstants[Value],MATCH(\"Span Wire Weight (plf)\",DesignConstants[Design Constant],0)),0)","v":1.155},0,283.55250000000001,{"$error":"#VALUE!"},{"$error":"#VALUE!"},{"$error":"#N/A"},{"$error":"#N/A"},{"$f":"SUM(IF(B271=\"\",0,INDEX(SignalHeads[Height ** (feet)],MATCH(B271,SignalHeads[Code],0))),IF(D271=\"\",0,INDEX(SignalHeads[Height ** (feet)],MATCH(D271,SignalHeads[Code],0))),IF(E271=\"\",0,INDEX(SignalHeads[Height ** (feet)],MATCH(E271,SignalHeads[Code],0))),IF(F271=\"\",0,INDEX(SignalHeads[Height ** (feet)],MATCH(F271,SignalHeads[Code],0))),IF(G271=\"\",0,INDEX(SignalHeads[Height ** (feet)],MATCH(G271,SignalHeads[Code],0))),IF(H271=\"\",0,INDEX(SignalHeads[Height ** (feet)],MATCH(H271,SignalHeads[Code],0))),IF(I271=\"\",0,INDEX(SignalHeads[Height ** (feet)],MATCH(I271,SignalHeads[Code],0))))","v":0},{"$f":"IF(S271=0,\"\",ROUNDDOWN(12*(((Q271-S271)-MIN($Q$26:$Q$425-$S$26:$S$425)-(MAX($S$26:$S$425*(($Q$26:$Q$425-$S$26:$S$425)=MIN($Q$26:$Q$425-$S$26:$S$425)))-S271))+(MIN($Q$26:$Q$425-$S$26:$S$425)-$I$10)),0)/12)","v":""},"",{"$error":"#N/A"},17]
[247,null,null,null,null,null,null,null,null,{"$f":"SUM(IF(B272=\"\",0,INDEX(SignalHeads[Perp. Wind Area (sft)],MATCH(B272,SignalHeads[Code],0))),IF(D272=\"\",0,INDEX(SignalHeads[Perp. Wind Area (sft)],MATCH(D272,SignalHeads[Code],0))),IF(E272=\"\",0,INDEX(SignalHeads[Perp. Wind Area (sft)],MATCH(E272,SignalHeads[Code],0))),IF(F272=\"\",0,INDEX(SignalHeads[Perp. Wind Area (sft)],MATCH(F272,SignalHeads[Code],0))),IF(G272=\"\",0,INDEX(SignalHeads[Perp. Wind Area (sft)],MATCH(G272,SignalHeads[Code],0))),IF(H272=\"\",0,INDEX(SignalHeads[Perp. Wind Area (sft)],MATCH(H272,SignalHeads[Code],0))),IF(I272=\"\",0,INDEX(SignalHeads[Perp. Wind Area (sft)],MATCH(I272,SignalHeads[Code],0))))","v":0},{"$f":"SUM(IF(B272=\"\",0,INDEX(SignalHeads[Weight*** (lbs)],MATCH(B272,SignalHeads[Code],0))),IF(D272=\"\",0,INDEX(SignalHeads[Weight*** (lbs)],MATCH(D272,SignalHeads[Code],0))),IF(E272=\"\",0,INDEX(SignalHeads[Weight*** (lbs)],MATCH(E272,SignalHeads[Code],0))),IF(F272=\"\",0,INDEX(SignalHeads[Weight*** (lbs)],MATCH(F272,SignalHeads[Code],0))),IF(G272=\"\",0,INDEX(SignalHeads[Weight*** (lbs)],MATCH(G272,SignalHeads[Code],0))),IF(H272=\"\",0,INDEX(SignalHeads[Weight*** (lbs)],MATCH(H272,SignalHeads[Code],0))),IF(I272=\"\",0,INDEX(SignalHeads[Weight*** (lbs)],MATCH(I272,SignalHeads[Code],0))))","v":0},{"$f":"IF(A272<=$I$8,INDEX(DesignConstants[Value],MATCH(\"Span Wire Weight (plf)\",DesignConstants[Design Constant],0)),0)","v":1.155},0,284.70749999999998,{"$error":"#VALUE!"},{"$error":"#VALUE!"},{"$error":"#N/A"},{"$error":"#N/A"},{"$f":"SUM(IF(B272=\"\",0,INDEX(SignalHeads[Height ** (feet)],MATCH(B272,SignalHeads[Code],0))),IF(D272=\"\",0,INDEX(SignalHeads[Height ** (feet)],MATCH(D272,SignalHeads[Code],0))),IF(E272=\"\",0,INDEX(SignalHeads[Height ** (feet)],MATCH(E272,SignalHeads[Code],0))),IF(F272=\"\",0,INDEX(SignalHeads[Height ** (feet)],MATCH(F272,SignalHeads[Code],0))),IF(G272=\"\",0,INDEX(SignalHeads[Height ** (feet)],MATCH(G272,SignalHeads[Code],0))),IF(H272=\"\",0,INDEX(SignalHeads[Height ** (feet)],MATCH(H272,SignalHeads[Code],0))),IF(I272=\"\",0,INDEX(SignalHeads[Height ** (feet)],MATCH(I272,SignalHeads[Code],0))))","v":0},{"$f":"IF(S272=0,\"\",ROUNDDOWN(12*(((Q272-S272)-MIN($Q$26:$Q$425-$S$26:$S$425)-(MAX($S$26:$S$425*(($Q$26:$Q$425-$S$26:$S$425)=MIN($Q$26:$Q$425-$S$26:$S$425)))-S272))+(MIN($Q$26:$Q$425-$S$26:$S$425)-$I$10)),0)/12)","v":""},"",{"$error":"#N/A"},17]
[248,null,null,null,null,null,null,null,null,{"$f":"SUM(IF(B273=\"\",0,INDEX(SignalHeads[Perp. Wind Area (sft)],MATCH(B273,SignalHeads[Code],0))),IF(D273=\"\",0,INDEX(SignalHeads[Perp. Wind Area (sft)],MATCH(D273,SignalHeads[Code],0))),IF(E273=\"\",0,INDEX(SignalHeads[Perp. Wind Area (sft)],MATCH(E273,SignalHeads[Code],0))),IF(F273=\"\",0,INDEX(SignalHeads[Perp. Wind Area (sft)],MATCH(F273,SignalHeads[Code],0))),IF(G273=\"\",0,INDEX(SignalHeads[Perp. Wind Area (sft)],MATCH(G273,SignalHeads[Code],0))),IF(H273=\"\",0,INDEX(SignalHeads[Perp. Wind Area (sft)],MATCH(H273,SignalHeads[Code],0))),IF(I273=\"\",0,INDEX(SignalHeads[Perp. Wind Area (sft)],MATCH(I273,SignalHeads[Code],0))))","v":0},{"$f":"SUM(IF(B273=\"\",0,INDEX(SignalHeads[Weight*** (lbs)],MATCH(B273,SignalHeads[Code],0))),IF(D273=\"\",0,INDEX(SignalHeads[Weight*** (lbs)],MATCH(D273,SignalHeads[Code],0))),IF(E273=\"\",0,INDEX(SignalHeads[Weight*** (lbs)],MATCH(E273,SignalHeads[Code],0))),IF(F273=\"\",0,INDEX(SignalHeads[Weight*** (lbs)],MATCH(F273,SignalHeads[Code],0))),IF(G273=\"\",0,INDEX(SignalHeads[Weight*** (lbs)],MATCH(G273,SignalHeads[Code],0))),IF(H273=\"\",0,INDEX(SignalHeads[Weight*** (lbs)],MATCH(H273,SignalHeads[Code],0))),IF(I273=\"\",0,INDEX(SignalHeads[Weight*** (lbs)],MATCH(I273,SignalHeads[Code],0))))","v":0},{"$f":"IF(A273<=$I$8,INDEX(DesignConstants[Value],MATCH(\"Span Wire Weight (plf)\",DesignConstants[Design Constant],0)),0)","v":1.155},0,285.86250000000001,{"$error":"#VALUE!"},{"$error":"#VALUE!"},{"$error":"#N/A"},{"$error":"#N/A"},{"$f":"SUM(IF(B273=\"\",0,INDEX(SignalHeads[Height ** (feet)],MATCH(B273,SignalHeads[Code],0))),IF(D273=\"\",0,INDEX(SignalHeads[Height ** (feet)],MATCH(D273,SignalHeads[Code],0))),IF(E273=\"\",0,INDEX(SignalHeads[Height ** (feet)],MATCH(E273,SignalHeads[Code],0))),IF(F273=\"\",0,INDEX(SignalHeads[Height ** (feet)],MATCH(F273,SignalHeads[Code],0))),IF(G273=\"\",0,INDEX(SignalHeads[Height ** (feet)],MATCH(G273,SignalHeads[Code],0))),IF(H273=\"\",0,INDEX(SignalHeads[Height ** (feet)],MATCH(H273,SignalHeads[Code],0))),IF(I273=\"\",0,INDEX(SignalHeads[Height ** (feet)],MATCH(I273,SignalHeads[Code],0))))","v":0},{"$f":"IF(S273=0,\"\",ROUNDDOWN(12*(((Q273-S273)-MIN($Q$26:$Q$425-$S$26:$S$425)-(MAX($S$26:$S$425*(($Q$26:$Q$425-$S$26:$S$425)=MIN($Q$26:$Q$425-$S$26:$S$425)))-S273))+(MIN($Q$26:$Q$425-$S$26:$S$425)-$I$10)),0)/12)","v":""},"",{"$error":"#N/A"},17]
[249,null,null,null,null,null,null,null,null,{"$f":"SUM(IF(B274=\"\",0,INDEX(SignalHeads[Perp. Wind Area (sft)],MATCH(B274,SignalHeads[Code],0))),IF(D274=\"\",0,INDEX(SignalHeads[Perp. Wind Area (sft)],MATCH(D274,SignalHeads[Code],0))),IF(E274=\"\",0,INDEX(SignalHeads[Perp. Wind Area (sft)],MATCH(E274,SignalHeads[Code],0))),IF(F274=\"\",0,INDEX(SignalHeads[Perp. Wind Area (sft)],MATCH(F274,SignalHeads[Code],0))),IF(G274=\"\",0,INDEX(SignalHeads[Perp. Wind Area (sft)],MATCH(G274,SignalHeads[Code],0))),IF(H274=\"\",0,INDEX(SignalHeads[Perp. Wind Area (sft)],MATCH(H274,SignalHeads[Code],0))),IF(I274=\"\",0,INDEX(SignalHeads[Perp. Wind Area (sft)],MATCH(I274,SignalHeads[Code],0))))","v":0},{"$f":"SUM(IF(B274=\"\",0,INDEX(SignalHeads[Weight*** (lbs)],MATCH(B274,SignalHeads[Code],0))),IF(D274=\"\",0,INDEX(SignalHeads[Weight*** (lbs)],MATCH(D274,SignalHeads[Code],0))),IF(E274=\"\",0,INDEX(SignalHeads[Weight*** (lbs)],MATCH(E274,SignalHeads[Code],0))),IF(F274=\"\",0,INDEX(SignalHeads[Weight*** (lbs)],MATCH(F274,SignalHeads[Code],0))),IF(G274=\"\",0,INDEX(SignalHeads[Weight*** (lbs)],MATCH(G274,SignalHeads[Code],0))),IF(H274=\"\",0,INDEX(SignalHeads[Weight*** (lbs)],MATCH(H274,SignalHeads[Code],0))),IF(I274=\"\",0,INDEX(SignalHeads[Weight*** (lbs)],MATCH(I274,SignalHeads[Code],0))))","v":0},{"$f":"IF(A274<=$I$8,INDEX(DesignConstants[Value],MATCH(\"Span Wire Weight (plf)\",DesignConstants[Design Constant],0)),0)","v":1.155},0,287.01749999999998,{"$error":"#VALUE!"},{"$error":"#VALUE!"},{"$error":"#N/A"},{"$error":"#N/A"},{"$f":"SUM(IF(B274=\"\",0,INDEX(SignalHeads[Height ** (feet)],MATCH(B274,SignalHeads[Code],0))),IF(D274=\"\",0,INDEX(SignalHeads[Height ** (feet)],MATCH(D274,SignalHeads[Code],0))),IF(E274=\"\",0,INDEX(SignalHeads[Height ** (feet)],MATCH(E274,SignalHeads[Code],0))),IF(F274=\"\",0,INDEX(SignalHeads[Height ** (feet)],MATCH(F274,SignalHeads[Code],0))),IF(G274=\"\",0,INDEX(SignalHeads[Height ** (feet)],MATCH(G274,SignalHeads[Code],0))),IF(H274=\"\",0,INDEX(SignalHeads[Height ** (feet)],MATCH(H274,SignalHeads[Code],0))),IF(I274=\"\",0,INDEX(SignalHeads[Height ** (feet)],MATCH(I274,SignalHeads[Code],0))))","v":0},{"$f":"IF(S274=0,\"\",ROUNDDOWN(12*(((Q274-S274)-MIN($Q$26:$Q$425-$S$26:$S$425)-(MAX($S$26:$S$425*(($Q$26:$Q$425-$S$26:$S$425)=MIN($Q$26:$Q$425-$S$26:$S$425)))-S274))+(MIN($Q$26:$Q$425-$S$26:$S$425)-$I$10)),0)/12)","v":""},"",{"$error":"#N/A"},17]
[250,null,null,null,null,null,null,null,null,{"$f":"SUM(IF(B275=\"\",0,INDEX(SignalHeads[Perp. Wind Area (sft)],MATCH(B275,SignalHeads[Code],0))),IF(D275=\"\",0,INDEX(SignalHeads[Perp. Wind Area (sft)],MATCH(D275,SignalHeads[Code],0))),IF(E275=\"\",0,INDEX(SignalHeads[Perp. Wind Area (sft)],MATCH(E275,SignalHeads[Code],0))),IF(F275=\"\",0,INDEX(SignalHeads[Perp. Wind Area (sft)],MATCH(F275,SignalHeads[Code],0))),IF(G275=\"\",0,INDEX(SignalHeads[Perp. Wind Area (sft)],MATCH(G275,SignalHeads[Code],0))),IF(H275=\"\",0,INDEX(SignalHeads[Perp. Wind Area (sft)],MATCH(H275,SignalHeads[Code],0))),IF(I275=\"\",0,INDEX(SignalHeads[Perp. Wind Area (sft)],MATCH(I275,SignalHeads[Code],0))))","v":0},{"$f":"SUM(IF(B275=\"\",0,INDEX(SignalHeads[Weight*** (lbs)],MATCH(B275,SignalHeads[Code],0))),IF(D275=\"\",0,INDEX(SignalHeads[Weight*** (lbs)],MATCH(D275,SignalHeads[Code],0))),IF(E275=\"\",0,INDEX(SignalHeads[Weight*** (lbs)],MATCH(E275,SignalHeads[Code],0))),IF(F275=\"\",0,INDEX(SignalHeads[Weight*** (lbs)],MATCH(F275,SignalHeads[Code],0))),IF(G275=\"\",0,INDEX(SignalHeads[Weight*** (lbs)],MATCH(G275,SignalHeads[Code],0))),IF(H275=\"\",0,INDEX(SignalHeads[Weight*** (lbs)],MATCH(H275,SignalHeads[Code],0))),IF(I275=\"\",0,INDEX(SignalHeads[Weight*** (lbs)],MATCH(I275,SignalHeads[Code],0))))","v":0},{"$f":"IF(A275<=$I$8,INDEX(DesignConstants[Value],MATCH(\"Span Wire Weight (plf)\",DesignConstants[Design Constant],0)),0)","v":1.155},0,288.17250000000001,{"$error":"#VALUE!"},{"$error":"#VALUE!"},{"$error":"#N/A"},{"$error":"#N/A"},{"$f":"SUM(IF(B275=\"\",0,INDEX(SignalHeads[Height ** (feet)],MATCH(B275,SignalHeads[Code],0))),IF(D275=\"\",0,INDEX(SignalHeads[Height ** (feet)],MATCH(D275,SignalHeads[Code],0))),IF(E275=\"\",0,INDEX(SignalHeads[Height ** (feet)],MATCH(E275,SignalHeads[Code],0))),IF(F275=\"\",0,INDEX(SignalHeads[Height ** (feet)],MATCH(F275,SignalHeads[Code],0))),IF(G275=\"\",0,INDEX(SignalHeads[Height ** (feet)],MATCH(G275,SignalHeads[Code],0))),IF(H275=\"\",0,INDEX(SignalHeads[Height ** (feet)],MATCH(H275,SignalHeads[Code],0))),IF(I275=\"\",0,INDEX(SignalHeads[Height ** (feet)],MATCH(I275,SignalHeads[Code],0))))","v":0},{"$f":"IF(S275=0,\"\",ROUNDDOWN(12*(((Q275-S275)-MIN($Q$26:$Q$425-$S$26:$S$425)-(MAX($S$26:$S$425*(($Q$26:$Q$425-$S$26:$S$425)=MIN($Q$26:$Q$425-$S$26:$S$425)))-S275))+(MIN($Q$26:$Q$425-$S$26:$S$425)-$I$10)),0)/12)","v":""},"",{"$error":"#N/A"},17]
[251,null,null,null,null,null,null,null,null,{"$f":"SUM(IF(B276=\"\",0,INDEX(SignalHeads[Perp. Wind Area (sft)],MATCH(B276,SignalHeads[Code],0))),IF(D276=\"\",0,INDEX(SignalHeads[Perp. Wind Area (sft)],MATCH(D276,SignalHeads[Code],0))),IF(E276=\"\",0,INDEX(SignalHeads[Perp. Wind Area (sft)],MATCH(E276,SignalHeads[Code],0))),IF(F276=\"\",0,INDEX(SignalHeads[Perp. Wind Area (sft)],MATCH(F276,SignalHeads[Code],0))),IF(G276=\"\",0,INDEX(SignalHeads[Perp. Wind Area (sft)],MATCH(G276,SignalHeads[Code],0))),IF(H276=\"\",0,INDEX(SignalHeads[Perp. Wind Area (sft)],MATCH(H276,SignalHeads[Code],0))),IF(I276=\"\",0,INDEX(SignalHeads[Perp. Wind Area (sft)],MATCH(I276,SignalHeads[Code],0))))","v":0},{"$f":"SUM(IF(B276=\"\",0,INDEX(SignalHeads[Weight*** (lbs)],MATCH(B276,SignalHeads[Code],0))),IF(D276=\"\",0,INDEX(SignalHeads[Weight*** (lbs)],MATCH(D276,SignalHeads[Code],0))),IF(E276=\"\",0,INDEX(SignalHeads[Weight*** (lbs)],MATCH(E276,SignalHeads[Code],0))),IF(F276=\"\",0,INDEX(SignalHeads[Weight*** (lbs)],MATCH(F276,SignalHeads[Code],0))),IF(G276=\"\",0,INDEX(SignalHeads[Weight*** (lbs)],MATCH(G276,SignalHeads[Code],0))),IF(H276=\"\",0,INDEX(SignalHeads[Weight*** (lbs)],MATCH(H276,SignalHeads[Code],0))),IF(I276=\"\",0,INDEX(SignalHeads[Weight*** (lbs)],MATCH(I276,SignalHeads[Code],0))))","v":0},{"$f":"IF(A276<=$I$8,INDEX(DesignConstants[Value],MATCH(\"Span Wire Weight (plf)\",DesignConstants[Design Constant],0)),0)","v":1.155},0,289.32749999999999,{"$error":"#VALUE!"},{"$error":"#VALUE!"},{"$error":"#N/A"},{"$error":"#N/A"},{"$f":"SUM(IF(B276=\"\",0,INDEX(SignalHeads[Height ** (feet)],MATCH(B276,SignalHeads[Code],0))),IF(D276=\"\",0,INDEX(SignalHeads[Height ** (feet)],MATCH(D276,SignalHeads[Code],0))),IF(E276=\"\",0,INDEX(SignalHeads[Height ** (feet)],MATCH(E276,SignalHeads[Code],0))),IF(F276=\"\",0,INDEX(SignalHeads[Height ** (feet)],MATCH(F276,SignalHeads[Code],0))),IF(G276=\"\",0,INDEX(SignalHeads[Height ** (feet)],MATCH(G276,SignalHeads[Code],0))),IF(H276=\"\",0,INDEX(SignalHeads[Height ** (feet)],MATCH(H276,SignalHeads[Code],0))),IF(I276=\"\",0,INDEX(SignalHeads[Height ** (feet)],MATCH(I276,SignalHeads[Code],0))))","v":0},{"$f":"IF(S276=0,\"\",ROUNDDOWN(12*(((Q276-S276)-MIN($Q$26:$Q$425-$S$26:$S$425)-(MAX($S$26:$S$425*(($Q$26:$Q$425-$S$26:$S$425)=MIN($Q$26:$Q$425-$S$26:$S$425)))-S276))+(MIN($Q$26:$Q$425-$S$26:$S$425)-$I$10)),0)/12)","v":""},"",{"$error":"#N/A"},17]
[252,null,null,null,null,null,null,null,null,{"$f":"SUM(IF(B277=\"\",0,INDEX(SignalHeads[Perp. Wind Area (sft)],MATCH(B277,SignalHeads[Code],0))),IF(D277=\"\",0,INDEX(SignalHeads[Perp. Wind Area (sft)],MATCH(D277,SignalHeads[Code],0))),IF(E277=\"\",0,INDEX(SignalHeads[Perp. Wind Area (sft)],MATCH(E277,SignalHeads[Code],0))),IF(F277=\"\",0,INDEX(SignalHeads[Perp. Wind Area (sft)],MATCH(F277,SignalHeads[Code],0))),IF(G277=\"\",0,INDEX(SignalHeads[Perp. Wind Area (sft)],MATCH(G277,SignalHeads[Code],0))),IF(H277=\"\",0,INDEX(SignalHeads[Perp. Wind Area (sft)],MATCH(H277,SignalHeads[Code],0))),IF(I277=\"\",0,INDEX(SignalHeads[Perp. Wind Area (sft)],MATCH(I277,SignalHeads[Code],0))))","v":0},{"$f":"SUM(IF(B277=\"\",0,INDEX(SignalHeads[Weight*** (lbs)],MATCH(B277,SignalHeads[Code],0))),IF(D277=\"\",0,INDEX(SignalHeads[Weight*** (lbs)],MATCH(D277,SignalHeads[Code],0))),IF(E277=\"\",0,INDEX(SignalHeads[Weight*** (lbs)],MATCH(E277,SignalHeads[Code],0))),IF(F277=\"\",0,INDEX(SignalHeads[Weight*** (lbs)],MATCH(F277,SignalHeads[Code],0))),IF(G277=\"\",0,INDEX(SignalHeads[Weight*** (lbs)],MATCH(G277,SignalHeads[Code],0))),IF(H277=\"\",0,INDEX(SignalHeads[Weight*** (lbs)],MATCH(H277,SignalHeads[Code],0))),IF(I277=\"\",0,INDEX(SignalHeads[Weight*** (lbs)],MATCH(I277,SignalHeads[Code],0))))","v":0},{"$f":"IF(A277<=$I$8,INDEX(DesignConstants[Value],MATCH(\"Span Wire Weight (plf)\",DesignConstants[Design Constant],0)),0)","v":1.155},0,290.48250000000002,{"$error":"#VALUE!"},{"$error":"#VALUE!"},{"$error":"#N/A"},{"$error":"#N/A"},{"$f":"SUM(IF(B277=\"\",0,INDEX(SignalHeads[Height ** (feet)],MATCH(B277,SignalHeads[Code],0))),IF(D277=\"\",0,INDEX(SignalHeads[Height ** (feet)],MATCH(D277,SignalHeads[Code],0))),IF(E277=\"\",0,INDEX(SignalHeads[Height ** (feet)],MATCH(E277,SignalHeads[Code],0))),IF(F277=\"\",0,INDEX(SignalHeads[Height ** (feet)],MATCH(F277,SignalHeads[Code],0))),IF(G277=\"\",0,INDEX(SignalHeads[Height ** (feet)],MATCH(G277,SignalHeads[Code],0))),IF(H277=\"\",0,INDEX(SignalHeads[Height ** (feet)],MATCH(H277,SignalHeads[Code],0))),IF(I277=\"\",0,INDEX(SignalHeads[Height ** (feet)],MATCH(I277,SignalHeads[Code],0))))","v":0},{"$f":"IF(S277=0,\"\",ROUNDDOWN(12*(((Q277-S277)-MIN($Q$26:$Q$425-$S$26:$S$425)-(MAX($S$26:$S$425*(($Q$26:$Q$425-$S$26:$S$425)=MIN($Q$26:$Q$425-$S$26:$S$425)))-S277))+(MIN($Q$26:$Q$425-$S$26:$S$425)-$I$10)),0)/12)","v":""},"",{"$error":"#N/A"},17]
[253,null,null,null,null,null,null,null,null,{"$f":"SUM(IF(B278=\"\",0,INDEX(SignalHeads[Perp. Wind Area (sft)],MATCH(B278,SignalHeads[Code],0))),IF(D278=\"\",0,INDEX(SignalHeads[Perp. Wind Area (sft)],MATCH(D278,SignalHeads[Code],0))),IF(E278=\"\",0,INDEX(SignalHeads[Perp. Wind Area (sft)],MATCH(E278,SignalHeads[Code],0))),IF(F278=\"\",0,INDEX(SignalHeads[Perp. Wind Area (sft)],MATCH(F278,SignalHeads[Code],0))),IF(G278=\"\",0,INDEX(SignalHeads[Perp. Wind Area (sft)],MATCH(G278,SignalHeads[Code],0))),IF(H278=\"\",0,INDEX(SignalHeads[Perp. Wind Area (sft)],MATCH(H278,SignalHeads[Code],0))),IF(I278=\"\",0,INDEX(SignalHeads[Perp. Wind Area (sft)],MATCH(I278,SignalHeads[Code],0))))","v":0},{"$f":"SUM(IF(B278=\"\",0,INDEX(SignalHeads[Weight*** (lbs)],MATCH(B278,SignalHeads[Code],0))),IF(D278=\"\",0,INDEX(SignalHeads[Weight*** (lbs)],MATCH(D278,SignalHeads[Code],0))),IF(E278=\"\",0,INDEX(SignalHeads[Weight*** (lbs)],MATCH(E278,SignalHeads[Code],0))),IF(F278=\"\",0,INDEX(SignalHeads[Weight*** (lbs)],MATCH(F278,SignalHeads[Code],0))),IF(G278=\"\",0,INDEX(SignalHeads[Weight*** (lbs)],MATCH(G278,SignalHeads[Code],0))),IF(H278=\"\",0,INDEX(SignalHeads[Weight*** (lbs)],MATCH(H278,SignalHeads[Code],0))),IF(I278=\"\",0,INDEX(SignalHeads[Weight*** (lbs)],MATCH(I278,SignalHeads[Code],0))))","v":0},{"$f":"IF(A278<=$I$8,INDEX(DesignConstants[Value],MATCH(\"Span Wire Weight (plf)\",DesignConstants[Design Constant],0)),0)","v":1.155},0,291.63749999999999,{"$error":"#VALUE!"},{"$error":"#VALUE!"},{"$error":"#N/A"},{"$error":"#N/A"},{"$f":"SUM(IF(B278=\"\",0,INDEX(SignalHeads[Height ** (feet)],MATCH(B278,SignalHeads[Code],0))),IF(D278=\"\",0,INDEX(SignalHeads[Height ** (feet)],MATCH(D278,SignalHeads[Code],0))),IF(E278=\"\",0,INDEX(SignalHeads[Height ** (feet)],MATCH(E278,SignalHeads[Code],0))),IF(F278=\"\",0,INDEX(SignalHeads[Height ** (feet)],MATCH(F278,SignalHeads[Code],0))),IF(G278=\"\",0,INDEX(SignalHeads[Height ** (feet)],MATCH(G278,SignalHeads[Code],0))),IF(H278=\"\",0,INDEX(SignalHeads[Height ** (feet)],MATCH(H278,SignalHeads[Code],0))),IF(I278=\"\",0,INDEX(SignalHeads[Height ** (feet)],MATCH(I278,SignalHeads[Code],0))))","v":0},{"$f":"IF(S278=0,\"\",ROUNDDOWN(12*(((Q278-S278)-MIN($Q$26:$Q$425-$S$26:$S$425)-(MAX($S$26:$S$425*(($Q$26:$Q$425-$S$26:$S$425)=MIN($Q$26:$Q$425-$S$26:$S$425)))-S278))+(MIN($Q$26:$Q$425-$S$26:$S$425)-$I$10)),0)/12)","v":""},"",{"$error":"#N/A"},17]
[254,null,null,null,null,null,null,null,null,{"$f":"SUM(IF(B279=\"\",0,INDEX(SignalHeads[Perp. Wind Area (sft)],MATCH(B279,SignalHeads[Code],0))),IF(D279=\"\",0,INDEX(SignalHeads[Perp. Wind Area (sft)],MATCH(D279,SignalHeads[Code],0))),IF(E279=\"\",0,INDEX(SignalHeads[Perp. Wind Area (sft)],MATCH(E279,SignalHeads[Code],0))),IF(F279=\"\",0,INDEX(SignalHeads[Perp. Wind Area (sft)],MATCH(F279,SignalHeads[Code],0))),IF(G279=\"\",0,INDEX(SignalHeads[Perp. Wind Area (sft)],MATCH(G279,SignalHeads[Code],0))),IF(H279=\"\",0,INDEX(SignalHeads[Perp. Wind Area (sft)],MATCH(H279,SignalHeads[Code],0))),IF(I279=\"\",0,INDEX(SignalHeads[Perp. Wind Area (sft)],MATCH(I279,SignalHeads[Code],0))))","v":0},{"$f":"SUM(IF(B279=\"\",0,INDEX(SignalHeads[Weight*** (lbs)],MATCH(B279,SignalHeads[Code],0))),IF(D279=\"\",0,INDEX(SignalHeads[Weight*** (lbs)],MATCH(D279,SignalHeads[Code],0))),IF(E279=\"\",0,INDEX(SignalHeads[Weight*** (lbs)],MATCH(E279,SignalHeads[Code],0))),IF(F279=\"\",0,INDEX(SignalHeads[Weight*** (lbs)],MATCH(F279,SignalHeads[Code],0))),IF(G279=\"\",0,INDEX(SignalHeads[Weight*** (lbs)],MATCH(G279,SignalHeads[Code],0))),IF(H279=\"\",0,INDEX(SignalHeads[Weight*** (lbs)],MATCH(H279,SignalHeads[Code],0))),IF(I279=\"\",0,INDEX(SignalHeads[Weight*** (lbs)],MATCH(I279,SignalHeads[Code],0))))","v":0},{"$f":"IF(A279<=$I$8,INDEX(DesignConstants[Value],MATCH(\"Span Wire Weight (plf)\",DesignConstants[Design Constant],0)),0)","v":1.155},0,292.79250000000002,{"$error":"#VALUE!"},{"$error":"#VALUE!"},{"$error":"#N/A"},{"$error":"#N/A"},{"$f":"SUM(IF(B279=\"\",0,INDEX(SignalHeads[Height ** (feet)],MATCH(B279,SignalHeads[Code],0))),IF(D279=\"\",0,INDEX(SignalHeads[Height ** (feet)],MATCH(D279,SignalHeads[Code],0))),IF(E279=\"\",0,INDEX(SignalHeads[Height ** (feet)],MATCH(E279,SignalHeads[Code],0))),IF(F279=\"\",0,INDEX(SignalHeads[Height ** (feet)],MATCH(F279,SignalHeads[Code],0))),IF(G279=\"\",0,INDEX(SignalHeads[Height ** (feet)],MATCH(G279,SignalHeads[Code],0))),IF(H279=\"\",0,INDEX(SignalHeads[Height ** (feet)],MATCH(H279,SignalHeads[Code],0))),IF(I279=\"\",0,INDEX(SignalHeads[Height ** (feet)],MATCH(I279,SignalHeads[Code],0))))","v":0},{"$f":"IF(S279=0,\"\",ROUNDDOWN(12*(((Q279-S279)-MIN($Q$26:$Q$425-$S$26:$S$425)-(MAX($S$26:$S$425*(($Q$26:$Q$425-$S$26:$S$425)=MIN($Q$26:$Q$425-$S$26:$S$425)))-S279))+(MIN($Q$26:$Q$425-$S$26:$S$425)-$I$10)),0)/12)","v":""},"",{"$error":"#N/A"},17]
[255,null,null,null,null,null,null,null,null,{"$f":"SUM(IF(B280=\"\",0,INDEX(SignalHeads[Perp. Wind Area (sft)],MATCH(B280,SignalHeads[Code],0))),IF(D280=\"\",0,INDEX(SignalHeads[Perp. Wind Area (sft)],MATCH(D280,SignalHeads[Code],0))),IF(E280=\"\",0,INDEX(SignalHeads[Perp. Wind Area (sft)],MATCH(E280,SignalHeads[Code],0))),IF(F280=\"\",0,INDEX(SignalHeads[Perp. Wind Area (sft)],MATCH(F280,SignalHeads[Code],0))),IF(G280=\"\",0,INDEX(SignalHeads[Perp. Wind Area (sft)],MATCH(G280,SignalHeads[Code],0))),IF(H280=\"\",0,INDEX(SignalHeads[Perp. Wind Area (sft)],MATCH(H280,SignalHeads[Code],0))),IF(I280=\"\",0,INDEX(SignalHeads[Perp. Wind Area (sft)],MATCH(I280,SignalHeads[Code],0))))","v":0},{"$f":"SUM(IF(B280=\"\",0,INDEX(SignalHeads[Weight*** (lbs)],MATCH(B280,SignalHeads[Code],0))),IF(D280=\"\",0,INDEX(SignalHeads[Weight*** (lbs)],MATCH(D280,SignalHeads[Code],0))),IF(E280=\"\",0,INDEX(SignalHeads[Weight*** (lbs)],MATCH(E280,SignalHeads[Code],0))),IF(F280=\"\",0,INDEX(SignalHeads[Weight*** (lbs)],MATCH(F280,SignalHeads[Code],0))),IF(G280=\"\",0,INDEX(SignalHeads[Weight*** (lbs)],MATCH(G280,SignalHeads[Code],0))),IF(H280=\"\",0,INDEX(SignalHeads[Weight*** (lbs)],MATCH(H280,SignalHeads[Code],0))),IF(I280=\"\",0,INDEX(SignalHeads[Weight*** (lbs)],MATCH(I280,SignalHeads[Code],0))))","v":0},{"$f":"IF(A280<=$I$8,INDEX(DesignConstants[Value],MATCH(\"Span Wire Weight (plf)\",DesignConstants[Design Constant],0)),0)","v":1.155},0,293.94749999999999,{"$error":"#VALUE!"},{"$error":"#VALUE!"},{"$error":"#N/A"},{"$error":"#N/A"},{"$f":"SUM(IF(B280=\"\",0,INDEX(SignalHeads[Height ** (feet)],MATCH(B280,SignalHeads[Code],0))),IF(D280=\"\",0,INDEX(SignalHeads[Height ** (feet)],MATCH(D280,SignalHeads[Code],0))),IF(E280=\"\",0,INDEX(SignalHeads[Height ** (feet)],MATCH(E280,SignalHeads[Code],0))),IF(F280=\"\",0,INDEX(SignalHeads[Height ** (feet)],MATCH(F280,SignalHeads[Code],0))),IF(G280=\"\",0,INDEX(SignalHeads[Height ** (feet)],MATCH(G280,SignalHeads[Code],0))),IF(H280=\"\",0,INDEX(SignalHeads[Height ** (feet)],MATCH(H280,SignalHeads[Code],0))),IF(I280=\"\",0,INDEX(SignalHeads[Height ** (feet)],MATCH(I280,SignalHeads[Code],0))))","v":0},{"$f":"IF(S280=0,\"\",ROUNDDOWN(12*(((Q280-S280)-MIN($Q$26:$Q$425-$S$26:$S$425)-(MAX($S$26:$S$425*(($Q$26:$Q$425-$S$26:$S$425)=MIN($Q$26:$Q$425-$S$26:$S$425)))-S280))+(MIN($Q$26:$Q$425-$S$26:$S$425)-$I$10)),0)/12)","v":""},"",{"$error":"#N/A"},17]
[256,null,null,null,null,null,null,null,null,{"$f":"SUM(IF(B281=\"\",0,INDEX(SignalHeads[Perp. Wind Area (sft)],MATCH(B281,SignalHeads[Code],0))),IF(D281=\"\",0,INDEX(SignalHeads[Perp. Wind Area (sft)],MATCH(D281,SignalHeads[Code],0))),IF(E281=\"\",0,INDEX(SignalHeads[Perp. Wind Area (sft)],MATCH(E281,SignalHeads[Code],0))),IF(F281=\"\",0,INDEX(SignalHeads[Perp. Wind Area (sft)],MATCH(F281,SignalHeads[Code],0))),IF(G281=\"\",0,INDEX(SignalHeads[Perp. Wind Area (sft)],MATCH(G281,SignalHeads[Code],0))),IF(H281=\"\",0,INDEX(SignalHeads[Perp. Wind Area (sft)],MATCH(H281,SignalHeads[Code],0))),IF(I281=\"\",0,INDEX(SignalHeads[Perp. Wind Area (sft)],MATCH(I281,SignalHeads[Code],0))))","v":0},{"$f":"SUM(IF(B281=\"\",0,INDEX(SignalHeads[Weight*** (lbs)],MATCH(B281,SignalHeads[Code],0))),IF(D281=\"\",0,INDEX(SignalHeads[Weight*** (lbs)],MATCH(D281,SignalHeads[Code],0))),IF(E281=\"\",0,INDEX(SignalHeads[Weight*** (lbs)],MATCH(E281,SignalHeads[Code],0))),IF(F281=\"\",0,INDEX(SignalHeads[Weight*** (lbs)],MATCH(F281,SignalHeads[Code],0))),IF(G281=\"\",0,INDEX(SignalHeads[Weight*** (lbs)],MATCH(G281,SignalHeads[Code],0))),IF(H281=\"\",0,INDEX(SignalHeads[Weight*** (lbs)],MATCH(H281,SignalHeads[Code],0))),IF(I281=\"\",0,INDEX(SignalHeads[Weight*** (lbs)],MATCH(I281,SignalHeads[Code],0))))","v":0},{"$f":"IF(A281<=$I$8,INDEX(DesignConstants[Value],MATCH(\"Span Wire Weight (plf)\",DesignConstants[Design Constant],0)),0)","v":1.155},0,295.10250000000002,{"$error":"#VALUE!"},{"$error":"#VALUE!"},{"$error":"#N/A"},{"$error":"#N/A"},{"$f":"SUM(IF(B281=\"\",0,INDEX(SignalHeads[Height ** (feet)],MATCH(B281,SignalHeads[Code],0))),IF(D281=\"\",0,INDEX(SignalHeads[Height ** (feet)],MATCH(D281,SignalHeads[Code],0))),IF(E281=\"\",0,INDEX(SignalHeads[Height ** (feet)],MATCH(E281,SignalHeads[Code],0))),IF(F281=\"\",0,INDEX(SignalHeads[Height ** (feet)],MATCH(F281,SignalHeads[Code],0))),IF(G281=\"\",0,INDEX(SignalHeads[Height ** (feet)],MATCH(G281,SignalHeads[Code],0))),IF(H281=\"\",0,INDEX(SignalHeads[Height ** (feet)],MATCH(H281,SignalHeads[Code],0))),IF(I281=\"\",0,INDEX(SignalHeads[Height ** (feet)],MATCH(I281,SignalHeads[Code],0))))","v":0},{"$f":"IF(S281=0,\"\",ROUNDDOWN(12*(((Q281-S281)-MIN($Q$26:$Q$425-$S$26:$S$425)-(MAX($S$26:$S$425*(($Q$26:$Q$425-$S$26:$S$425)=MIN($Q$26:$Q$425-$S$26:$S$425)))-S281))+(MIN($Q$26:$Q$425-$S$26:$S$425)-$I$10)),0)/12)","v":""},"",{"$error":"#N/A"},17]
[257,null,null,null,null,null,null,null,null,{"$f":"SUM(IF(B282=\"\",0,INDEX(SignalHeads[Perp. Wind Area (sft)],MATCH(B282,SignalHeads[Code],0))),IF(D282=\"\",0,INDEX(SignalHeads[Perp. Wind Area (sft)],MATCH(D282,SignalHeads[Code],0))),IF(E282=\"\",0,INDEX(SignalHeads[Perp. Wind Area (sft)],MATCH(E282,SignalHeads[Code],0))),IF(F282=\"\",0,INDEX(SignalHeads[Perp. Wind Area (sft)],MATCH(F282,SignalHeads[Code],0))),IF(G282=\"\",0,INDEX(SignalHeads[Perp. Wind Area (sft)],MATCH(G282,SignalHeads[Code],0))),IF(H282=\"\",0,INDEX(SignalHeads[Perp. Wind Area (sft)],MATCH(H282,SignalHeads[Code],0))),IF(I282=\"\",0,INDEX(SignalHeads[Perp. Wind Area (sft)],MATCH(I282,SignalHeads[Code],0))))","v":0},{"$f":"SUM(IF(B282=\"\",0,INDEX(SignalHeads[Weight*** (lbs)],MATCH(B282,SignalHeads[Code],0))),IF(D282=\"\",0,INDEX(SignalHeads[Weight*** (lbs)],MATCH(D282,SignalHeads[Code],0))),IF(E282=\"\",0,INDEX(SignalHeads[Weight*** (lbs)],MATCH(E282,SignalHeads[Code],0))),IF(F282=\"\",0,INDEX(SignalHeads[Weight*** (lbs)],MATCH(F282,SignalHeads[Code],0))),IF(G282=\"\",0,INDEX(SignalHeads[Weight*** (lbs)],MATCH(G282,SignalHeads[Code],0))),IF(H282=\"\",0,INDEX(SignalHeads[Weight*** (lbs)],MATCH(H282,SignalHeads[Code],0))),IF(I282=\"\",0,INDEX(SignalHeads[Weight*** (lbs)],MATCH(I282,SignalHeads[Code],0))))","v":0},{"$f":"IF(A282<=$I$8,INDEX(DesignConstants[Value],MATCH(\"Span Wire Weight (plf)\",DesignConstants[Design Constant],0)),0)","v":1.155},{"$f":"IF(K282=\"\",0,K282*A282)","v":0},{"$f":"L282*(A282-0.5)","v":296.25749999999999},{"$error":"#VALUE!"},{"$f":"(0.5*L282+O282+K282)/$I$4","v":{"$error":"#VALUE!"}},{"$error":"#N/A"},{"$f":"IF(A282>$I$8,0,(IFERROR(INDEX($S$13:$S$14,MATCH(MAX($S$11:$S$12),$S$11:$S$12,FALSE)),$S$8)-(IFERROR(INDEX($N$13:$N$14,MATCH(MAX($N$11:$N$12),$N$11:$N$12,FALSE)),$N$8)))/$I$18*A282+IFERROR(INDEX($N$13:$N$14,MATCH(MAX($N$11:$N$12),$N$11:$N$12,FALSE)),$N$8))","v":{"$error":"#N/A"}},{"$f":"SUM(IF(B282=\"\",0,INDEX(SignalHeads[Height ** (feet)],MATCH(B282,SignalHeads[Code],0))),IF(D282=\"\",0,INDEX(SignalHeads[Height ** (feet)],MATCH(D282,SignalHeads[Code],0))),IF(E282=\"\",0,INDEX(SignalHeads[Height ** (feet)],MATCH(E282,SignalHeads[Code],0))),IF(F282=\"\",0,INDEX(SignalHeads[Height ** (feet)],MATCH(F282,SignalHeads[Code],0))),IF(G282=\"\",0,INDEX(SignalHeads[Height ** (feet)],MATCH(G282,SignalHeads[Code],0))),IF(H282=\"\",0,INDEX(SignalHeads[Height ** (feet)],MATCH(H282,SignalHeads[Code],0))),IF(I282=\"\",0,INDEX(SignalHeads[Height ** (feet)],MATCH(I282,SignalHeads[Code],0))))","v":0},{"$f":"IF(S282=0,\"\",ROUNDDOWN(12*(((Q282-S282)-MIN($Q$26:$Q$425-$S$26:$S$425)-(MAX($S$26:$S$425*(($Q$26:$Q$425-$S$26:$S$425)=MIN($Q$26:$Q$425-$S$26:$S$425)))-S282))+(MIN($Q$26:$Q$425-$S$26:$S$425)-$I$10)),0)/12)","v":""},"",{"$error":"#N/A"},{"$f":"$I$10","v":17}]
[258,null,null,null,null,null,null,null,null,{"$f":"SUM(IF(B283=\"\",0,INDEX(SignalHeads[Perp. Wind Area (sft)],MATCH(B283,SignalHeads[Code],0))),IF(D283=\"\",0,INDEX(SignalHeads[Perp. Wind Area (sft)],MATCH(D283,SignalHeads[Code],0))),IF(E283=\"\",0,INDEX(SignalHeads[Perp. Wind Area (sft)],MATCH(E283,SignalHeads[Code],0))),IF(F283=\"\",0,INDEX(SignalHeads[Perp. Wind Area (sft)],MATCH(F283,SignalHeads[Code],0))),IF(G283=\"\",0,INDEX(SignalHeads[Perp. Wind Area (sft)],MATCH(G283,SignalHeads[Code],0))),IF(H283=\"\",0,INDEX(SignalHeads[Perp. Wind Area (sft)],MATCH(H283,SignalHeads[Code],0))),IF(I283=\"\",0,INDEX(SignalHeads[Perp. Wind Area (sft)],MATCH(I283,SignalHeads[Code],0))))","v":0},{"$f":"SUM(IF(B283=\"\",0,INDEX(SignalHeads[Weight*** (lbs)],MATCH(B283,SignalHeads[Code],0))),IF(D283=\"\",0,INDEX(SignalHeads[Weight*** (lbs)],MATCH(D283,SignalHeads[Code],0))),IF(E283=\"\",0,INDEX(SignalHeads[Weight*** (lbs)],MATCH(E283,SignalHeads[Code],0))),IF(F283=\"\",0,INDEX(SignalHeads[Weight*** (lbs)],MATCH(F283,SignalHeads[Code],0))),IF(G283=\"\",0,INDEX(SignalHeads[Weight*** (lbs)],MATCH(G283,SignalHeads[Code],0))),IF(H283=\"\",0,INDEX(SignalHeads[Weight*** (lbs)],MATCH(H283,SignalHeads[Code],0))),IF(I283=\"\",0,INDEX(SignalHeads[Weight*** (lbs)],MATCH(I283,SignalHeads[Code],0))))","v":0},{"$f":"IF(A283<=$I$8,INDEX(DesignConstants[Value],MATCH(\"Span Wire Weight (plf)\",DesignConstants[Design Constant],0)),0)","v":1.155},0,297.41250000000002,{"$f":"O282-K283-L283","v":{"$error":"#VALUE!"}},{"$error":"#VALUE!"},{"$f":"Q282-P283","v":{"$error":"#N/A"}},{"$error":"#N/A"},{"$f":"SUM(IF(B283=\"\",0,INDEX(SignalHeads[Height ** (feet)],MATCH(B283,SignalHeads[Code],0))),IF(D283=\"\",0,INDEX(SignalHeads[Height ** (feet)],MATCH(D283,SignalHeads[Code],0))),IF(E283=\"\",0,INDEX(SignalHeads[Height ** (feet)],MATCH(E283,SignalHeads[Code],0))),IF(F283=\"\",0,INDEX(SignalHeads[Height ** (feet)],MATCH(F283,SignalHeads[Code],0))),IF(G283=\"\",0,INDEX(SignalHeads[Height ** (feet)],MATCH(G283,SignalHeads[Code],0))),IF(H283=\"\",0,INDEX(SignalHeads[Height ** (feet)],MATCH(H283,SignalHeads[Code],0))),IF(I283=\"\",0,INDEX(SignalHeads[Height ** (feet)],MATCH(I283,SignalHeads[Code],0))))","v":0},{"$f":"IF(S283=0,\"\",ROUNDDOWN(12*(((Q283-S283)-MIN($Q$26:$Q$425-$S$26:$S$425)-(MAX($S$26:$S$425*(($Q$26:$Q$425-$S$26:$S$425)=MIN($Q$26:$Q$425-$S$26:$S$425)))-S283))+(MIN($Q$26:$Q$425-$S$26:$S$425)-$I$10)),0)/12)","v":""},{"$f":"IF(T283=\"\",\"\",INT(T283)&\"'-\"&ROUND((T283-INT(T283))*12,0)&\"\"\"\")","v":""},{"$f":"IF(A283<=$I$8,Q283-S283-IF(ISNUMBER(T283),T283,0),\"\")","v":{"$error":"#N/A"}},17]
[259,null,null,null,null,null,null,null,null,{"$f":"SUM(IF(B284=\"\",0,INDEX(SignalHeads[Perp. Wind Area (sft)],MATCH(B284,SignalHeads[Code],0))),IF(D284=\"\",0,INDEX(SignalHeads[Perp. Wind Area (sft)],MATCH(D284,SignalHeads[Code],0))),IF(E284=\"\",0,INDEX(SignalHeads[Perp. Wind Area (sft)],MATCH(E284,SignalHeads[Code],0))),IF(F284=\"\",0,INDEX(SignalHeads[Perp. Wind Area (sft)],MATCH(F284,SignalHeads[Code],0))),IF(G284=\"\",0,INDEX(SignalHeads[Perp. Wind Area (sft)],MATCH(G284,SignalHeads[Code],0))),IF(H284=\"\",0,INDEX(SignalHeads[Perp. Wind Area (sft)],MATCH(H284,SignalHeads[Code],0))),IF(I284=\"\",0,INDEX(SignalHeads[Perp. Wind Area (sft)],MATCH(I284,SignalHeads[Code],0))))","v":0},{"$f":"SUM(IF(B284=\"\",0,INDEX(SignalHeads[Weight*** (lbs)],MATCH(B284,SignalHeads[Code],0))),IF(D284=\"\",0,INDEX(SignalHeads[Weight*** (lbs)],MATCH(D284,SignalHeads[Code],0))),IF(E284=\"\",0,INDEX(SignalHeads[Weight*** (lbs)],MATCH(E284,SignalHeads[Code],0))),IF(F284=\"\",0,INDEX(SignalHeads[Weight*** (lbs)],MATCH(F284,SignalHeads[Code],0))),IF(G284=\"\",0,INDEX(SignalHeads[Weight*** (lbs)],MATCH(G284,SignalHeads[Code],0))),IF(H284=\"\",0,INDEX(SignalHeads[Weight*** (lbs)],MATCH(H284,SignalHeads[Code],0))),IF(I284=\"\",0,INDEX(SignalHeads[Weight*** (lbs)],MATCH(I284,SignalHeads[Code],0))))","v":0},{"$f":"IF(A284<=$I$8,INDEX(DesignConstants[Value],MATCH(\"Span Wire Weight (plf)\",DesignConstants[Design Constant],0)),0)","v":1.155},0,298.5675,{"$error":"#VALUE!"},{"$error":"#VALUE!"},{"$error":"#N/A"},{"$error":"#N/A"},{"$f":"SUM(IF(B284=\"\",0,INDEX(SignalHeads[Height ** (feet)],MATCH(B284,SignalHeads[Code],0))),IF(D284=\"\",0,INDEX(SignalHeads[Height ** (feet)],MATCH(D284,SignalHeads[Code],0))),IF(E284=\"\",0,INDEX(SignalHeads[Height ** (feet)],MATCH(E284,SignalHeads[Code],0))),IF(F284=\"\",0,INDEX(SignalHeads[Height ** (feet)],MATCH(F284,SignalHeads[Code],0))),IF(G284=\"\",0,INDEX(SignalHeads[Height ** (feet)],MATCH(G284,SignalHeads[Code],0))),IF(H284=\"\",0,INDEX(SignalHeads[Height ** (feet)],MATCH(H284,SignalHeads[Code],0))),IF(I284=\"\",0,INDEX(SignalHeads[Height ** (feet)],MATCH(I284,SignalHeads[Code],0))))","v":0},{"$f":"IF(S284=0,\"\",ROUNDDOWN(12*(((Q284-S284)-MIN($Q$26:$Q$425-$S$26:$S$425)-(MAX($S$26:$S$425*(($Q$26:$Q$425-$S$26:$S$425)=MIN($Q$26:$Q$425-$S$26:$S$425)))-S284))+(MIN($Q$26:$Q$425-$S$26:$S$425)-$I$10)),0)/12)","v":""},"",{"$error":"#N/A"},17]
[260,null,null,null,null,null,null,null,null,{"$f":"SUM(IF(B285=\"\",0,INDEX(SignalHeads[Perp. Wind Area (sft)],MATCH(B285,SignalHeads[Code],0))),IF(D285=\"\",0,INDEX(SignalHeads[Perp. Wind Area (sft)],MATCH(D285,SignalHeads[Code],0))),IF(E285=\"\",0,INDEX(SignalHeads[Perp. Wind Area (sft)],MATCH(E285,SignalHeads[Code],0))),IF(F285=\"\",0,INDEX(SignalHeads[Perp. Wind Area (sft)],MATCH(F285,SignalHeads[Code],0))),IF(G285=\"\",0,INDEX(SignalHeads[Perp. Wind Area (sft)],MATCH(G285,SignalHeads[Code],0))),IF(H285=\"\",0,INDEX(SignalHeads[Perp. Wind Area (sft)],MATCH(H285,SignalHeads[Code],0))),IF(I285=\"\",0,INDEX(SignalHeads[Perp. Wind Area (sft)],MATCH(I285,SignalHeads[Code],0))))","v":0},{"$f":"SUM(IF(B285=\"\",0,INDEX(SignalHeads[Weight*** (lbs)],MATCH(B285,SignalHeads[Code],0))),IF(D285=\"\",0,INDEX(SignalHeads[Weight*** (lbs)],MATCH(D285,SignalHeads[Code],0))),IF(E285=\"\",0,INDEX(SignalHeads[Weight*** (lbs)],MATCH(E285,SignalHeads[Code],0))),IF(F285=\"\",0,INDEX(SignalHeads[Weight*** (lbs)],MATCH(F285,SignalHeads[Code],0))),IF(G285=\"\",0,INDEX(SignalHeads[Weight*** (lbs)],MATCH(G285,SignalHeads[Code],0))),IF(H285=\"\",0,INDEX(SignalHeads[Weight*** (lbs)],MATCH(H285,SignalHeads[Code],0))),IF(I285=\"\",0,INDEX(SignalHeads[Weight*** (lbs)],MATCH(I285,SignalHeads[Code],0))))","v":0},{"$f":"IF(A285<=$I$8,INDEX(DesignConstants[Value],MATCH(\"Span Wire Weight (plf)\",DesignConstants[Design Constant],0)),0)","v":1.155},0,299.72250000000003,{"$error":"#VALUE!"},{"$error":"#VALUE!"},{"$error":"#N/A"},{"$error":"#N/A"},{"$f":"SUM(IF(B285=\"\",0,INDEX(SignalHeads[Height ** (feet)],MATCH(B285,SignalHeads[Code],0))),IF(D285=\"\",0,INDEX(SignalHeads[Height ** (feet)],MATCH(D285,SignalHeads[Code],0))),IF(E285=\"\",0,INDEX(SignalHeads[Height ** (feet)],MATCH(E285,SignalHeads[Code],0))),IF(F285=\"\",0,INDEX(SignalHeads[Height ** (feet)],MATCH(F285,SignalHeads[Code],0))),IF(G285=\"\",0,INDEX(SignalHeads[Height ** (feet)],MATCH(G285,SignalHeads[Code],0))),IF(H285=\"\",0,INDEX(SignalHeads[Height ** (feet)],MATCH(H285,SignalHeads[Code],0))),IF(I285=\"\",0,INDEX(SignalHeads[Height ** (feet)],MATCH(I285,SignalHeads[Code],0))))","v":0},{"$f":"IF(S285=0,\"\",ROUNDDOWN(12*(((Q285-S285)-MIN($Q$26:$Q$425-$S$26:$S$425)-(MAX($S$26:$S$425*(($Q$26:$Q$425-$S$26:$S$425)=MIN($Q$26:$Q$425-$S$26:$S$425)))-S285))+(MIN($Q$26:$Q$425-$S$26:$S$425)-$I$10)),0)/12)","v":""},"",{"$error":"#N/A"},17]
[261,null,null,null,null,null,null,null,null,{"$f":"SUM(IF(B286=\"\",0,INDEX(SignalHeads[Perp. Wind Area (sft)],MATCH(B286,SignalHeads[Code],0))),IF(D286=\"\",0,INDEX(SignalHeads[Perp. Wind Area (sft)],MATCH(D286,SignalHeads[Code],0))),IF(E286=\"\",0,INDEX(SignalHeads[Perp. Wind Area (sft)],MATCH(E286,SignalHeads[Code],0))),IF(F286=\"\",0,INDEX(SignalHeads[Perp. Wind Area (sft)],MATCH(F286,SignalHeads[Code],0))),IF(G286=\"\",0,INDEX(SignalHeads[Perp. Wind Area (sft)],MATCH(G286,SignalHeads[Code],0))),IF(H286=\"\",0,INDEX(SignalHeads[Perp. Wind Area (sft)],MATCH(H286,SignalHeads[Code],0))),IF(I286=\"\",0,INDEX(SignalHeads[Perp. Wind Area (sft)],MATCH(I286,SignalHeads[Code],0))))","v":0},{"$f":"SUM(IF(B286=\"\",0,INDEX(SignalHeads[Weight*** (lbs)],MATCH(B286,SignalHeads[Code],0))),IF(D286=\"\",0,INDEX(SignalHeads[Weight*** (lbs)],MATCH(D286,SignalHeads[Code],0))),IF(E286=\"\",0,INDEX(SignalHeads[Weight*** (lbs)],MATCH(E286,SignalHeads[Code],0))),IF(F286=\"\",0,INDEX(SignalHeads[Weight*** (lbs)],MATCH(F286,SignalHeads[Code],0))),IF(G286=\"\",0,INDEX(SignalHeads[Weight*** (lbs)],MATCH(G286,SignalHeads[Code],0))),IF(H286=\"\",0,INDEX(SignalHeads[Weight*** (lbs)],MATCH(H286,SignalHeads[Code],0))),IF(I286=\"\",0,INDEX(SignalHeads[Weight*** (lbs)],MATCH(I286,SignalHeads[Code],0))))","v":0},{"$f":"IF(A286<=$I$8,INDEX(DesignConstants[Value],MATCH(\"Span Wire Weight (plf)\",DesignConstants[Design Constant],0)),0)","v":1.155},0,300.8775,{"$error":"#VALUE!"},{"$error":"#VALUE!"},{"$error":"#N/A"},{"$error":"#N/A"},{"$f":"SUM(IF(B286=\"\",0,INDEX(SignalHeads[Height ** (feet)],MATCH(B286,SignalHeads[Code],0))),IF(D286=\"\",0,INDEX(SignalHeads[Height ** (feet)],MATCH(D286,SignalHeads[Code],0))),IF(E286=\"\",0,INDEX(SignalHeads[Height ** (feet)],MATCH(E286,SignalHeads[Code],0))),IF(F286=\"\",0,INDEX(SignalHeads[Height ** (feet)],MATCH(F286,SignalHeads[Code],0))),IF(G286=\"\",0,INDEX(SignalHeads[Height ** (feet)],MATCH(G286,SignalHeads[Code],0))),IF(H286=\"\",0,INDEX(SignalHeads[Height ** (feet)],MATCH(H286,SignalHeads[Code],0))),IF(I286=\"\",0,INDEX(SignalHeads[Height ** (feet)],MATCH(I286,SignalHeads[Code],0))))","v":0},{"$f":"IF(S286=0,\"\",ROUNDDOWN(12*(((Q286-S286)-MIN($Q$26:$Q$425-$S$26:$S$425)-(MAX($S$26:$S$425*(($Q$26:$Q$425-$S$26:$S$425)=MIN($Q$26:$Q$425-$S$26:$S$425)))-S286))+(MIN($Q$26:$Q$425-$S$26:$S$425)-$I$10)),0)/12)","v":""},"",{"$error":"#N/A"},17]
[262,null,null,null,null,null,null,null,null,{"$f":"SUM(IF(B287=\"\",0,INDEX(SignalHeads[Perp. Wind Area (sft)],MATCH(B287,SignalHeads[Code],0))),IF(D287=\"\",0,INDEX(SignalHeads[Perp. Wind Area (sft)],MATCH(D287,SignalHeads[Code],0))),IF(E287=\"\",0,INDEX(SignalHeads[Perp. Wind Area (sft)],MATCH(E287,SignalHeads[Code],0))),IF(F287=\"\",0,INDEX(SignalHeads[Perp. Wind Area (sft)],MATCH(F287,SignalHeads[Code],0))),IF(G287=\"\",0,INDEX(SignalHeads[Perp. Wind Area (sft)],MATCH(G287,SignalHeads[Code],0))),IF(H287=\"\",0,INDEX(SignalHeads[Perp. Wind Area (sft)],MATCH(H287,SignalHeads[Code],0))),IF(I287=\"\",0,INDEX(SignalHeads[Perp. Wind Area (sft)],MATCH(I287,SignalHeads[Code],0))))","v":0},{"$f":"SUM(IF(B287=\"\",0,INDEX(SignalHeads[Weight*** (lbs)],MATCH(B287,SignalHeads[Code],0))),IF(D287=\"\",0,INDEX(SignalHeads[Weight*** (lbs)],MATCH(D287,SignalHeads[Code],0))),IF(E287=\"\",0,INDEX(SignalHeads[Weight*** (lbs)],MATCH(E287,SignalHeads[Code],0))),IF(F287=\"\",0,INDEX(SignalHeads[Weight*** (lbs)],MATCH(F287,SignalHeads[Code],0))),IF(G287=\"\",0,INDEX(SignalHeads[Weight*** (lbs)],MATCH(G287,SignalHeads[Code],0))),IF(H287=\"\",0,INDEX(SignalHeads[Weight*** (lbs)],MATCH(H287,SignalHeads[Code],0))),IF(I287=\"\",0,INDEX(SignalHeads[Weight*** (lbs)],MATCH(I287,SignalHeads[Code],0))))","v":0},{"$f":"IF(A287<=$I$8,INDEX(DesignConstants[Value],MATCH(\"Span Wire Weight (plf)\",DesignConstants[Design Constant],0)),0)","v":1.155},0,302.03250000000003,{"$error":"#VALUE!"},{"$error":"#VALUE!"},{"$error":"#N/A"},{"$error":"#N/A"},{"$f":"SUM(IF(B287=\"\",0,INDEX(SignalHeads[Height ** (feet)],MATCH(B287,SignalHeads[Code],0))),IF(D287=\"\",0,INDEX(SignalHeads[Height ** (feet)],MATCH(D287,SignalHeads[Code],0))),IF(E287=\"\",0,INDEX(SignalHeads[Height ** (feet)],MATCH(E287,SignalHeads[Code],0))),IF(F287=\"\",0,INDEX(SignalHeads[Height ** (feet)],MATCH(F287,SignalHeads[Code],0))),IF(G287=\"\",0,INDEX(SignalHeads[Height ** (feet)],MATCH(G287,SignalHeads[Code],0))),IF(H287=\"\",0,INDEX(SignalHeads[Height ** (feet)],MATCH(H287,SignalHeads[Code],0))),IF(I287=\"\",0,INDEX(SignalHeads[Height ** (feet)],MATCH(I287,SignalHeads[Code],0))))","v":0},{"$f":"IF(S287=0,\"\",ROUNDDOWN(12*(((Q287-S287)-MIN($Q$26:$Q$425-$S$26:$S$425)-(MAX($S$26:$S$425*(($Q$26:$Q$425-$S$26:$S$425)=MIN($Q$26:$Q$425-$S$26:$S$425)))-S287))+(MIN($Q$26:$Q$425-$S$26:$S$425)-$I$10)),0)/12)","v":""},"",{"$error":"#N/A"},17]
[263,null,null,null,null,null,null,null,null,{"$f":"SUM(IF(B288=\"\",0,INDEX(SignalHeads[Perp. Wind Area (sft)],MATCH(B288,SignalHeads[Code],0))),IF(D288=\"\",0,INDEX(SignalHeads[Perp. Wind Area (sft)],MATCH(D288,SignalHeads[Code],0))),IF(E288=\"\",0,INDEX(SignalHeads[Perp. Wind Area (sft)],MATCH(E288,SignalHeads[Code],0))),IF(F288=\"\",0,INDEX(SignalHeads[Perp. Wind Area (sft)],MATCH(F288,SignalHeads[Code],0))),IF(G288=\"\",0,INDEX(SignalHeads[Perp. Wind Area (sft)],MATCH(G288,SignalHeads[Code],0))),IF(H288=\"\",0,INDEX(SignalHeads[Perp. Wind Area (sft)],MATCH(H288,SignalHeads[Code],0))),IF(I288=\"\",0,INDEX(SignalHeads[Perp. Wind Area (sft)],MATCH(I288,SignalHeads[Code],0))))","v":0},{"$f":"SUM(IF(B288=\"\",0,INDEX(SignalHeads[Weight*** (lbs)],MATCH(B288,SignalHeads[Code],0))),IF(D288=\"\",0,INDEX(SignalHeads[Weight*** (lbs)],MATCH(D288,SignalHeads[Code],0))),IF(E288=\"\",0,INDEX(SignalHeads[Weight*** (lbs)],MATCH(E288,SignalHeads[Code],0))),IF(F288=\"\",0,INDEX(SignalHeads[Weight*** (lbs)],MATCH(F288,SignalHeads[Code],0))),IF(G288=\"\",0,INDEX(SignalHeads[Weight*** (lbs)],MATCH(G288,SignalHeads[Code],0))),IF(H288=\"\",0,INDEX(SignalHeads[Weight*** (lbs)],MATCH(H288,SignalHeads[Code],0))),IF(I288=\"\",0,INDEX(SignalHeads[Weight*** (lbs)],MATCH(I288,SignalHeads[Code],0))))","v":0},{"$f":"IF(A288<=$I$8,INDEX(DesignConstants[Value],MATCH(\"Span Wire Weight (plf)\",DesignConstants[Design Constant],0)),0)","v":1.155},0,303.1875,{"$error":"#VALUE!"},{"$error":"#VALUE!"},{"$error":"#N/A"},{"$error":"#N/A"},{"$f":"SUM(IF(B288=\"\",0,INDEX(SignalHeads[Height ** (feet)],MATCH(B288,SignalHeads[Code],0))),IF(D288=\"\",0,INDEX(SignalHeads[Height ** (feet)],MATCH(D288,SignalHeads[Code],0))),IF(E288=\"\",0,INDEX(SignalHeads[Height ** (feet)],MATCH(E288,SignalHeads[Code],0))),IF(F288=\"\",0,INDEX(SignalHeads[Height ** (feet)],MATCH(F288,SignalHeads[Code],0))),IF(G288=\"\",0,INDEX(SignalHeads[Height ** (feet)],MATCH(G288,SignalHeads[Code],0))),IF(H288=\"\",0,INDEX(SignalHeads[Height ** (feet)],MATCH(H288,SignalHeads[Code],0))),IF(I288=\"\",0,INDEX(SignalHeads[Height ** (feet)],MATCH(I288,SignalHeads[Code],0))))","v":0},{"$f":"IF(S288=0,\"\",ROUNDDOWN(12*(((Q288-S288)-MIN($Q$26:$Q$425-$S$26:$S$425)-(MAX($S$26:$S$425*(($Q$26:$Q$425-$S$26:$S$425)=MIN($Q$26:$Q$425-$S$26:$S$425)))-S288))+(MIN($Q$26:$Q$425-$S$26:$S$425)-$I$10)),0)/12)","v":""},"",{"$error":"#N/A"},17]
[264,null,null,null,null,null,null,null,null,{"$f":"SUM(IF(B289=\"\",0,INDEX(SignalHeads[Perp. Wind Area (sft)],MATCH(B289,SignalHeads[Code],0))),IF(D289=\"\",0,INDEX(SignalHeads[Perp. Wind Area (sft)],MATCH(D289,SignalHeads[Code],0))),IF(E289=\"\",0,INDEX(SignalHeads[Perp. Wind Area (sft)],MATCH(E289,SignalHeads[Code],0))),IF(F289=\"\",0,INDEX(SignalHeads[Perp. Wind Area (sft)],MATCH(F289,SignalHeads[Code],0))),IF(G289=\"\",0,INDEX(SignalHeads[Perp. Wind Area (sft)],MATCH(G289,SignalHeads[Code],0))),IF(H289=\"\",0,INDEX(SignalHeads[Perp. Wind Area (sft)],MATCH(H289,SignalHeads[Code],0))),IF(I289=\"\",0,INDEX(SignalHeads[Perp. Wind Area (sft)],MATCH(I289,SignalHeads[Code],0))))","v":0},{"$f":"SUM(IF(B289=\"\",0,INDEX(SignalHeads[Weight*** (lbs)],MATCH(B289,SignalHeads[Code],0))),IF(D289=\"\",0,INDEX(SignalHeads[Weight*** (lbs)],MATCH(D289,SignalHeads[Code],0))),IF(E289=\"\",0,INDEX(SignalHeads[Weight*** (lbs)],MATCH(E289,SignalHeads[Code],0))),IF(F289=\"\",0,INDEX(SignalHeads[Weight*** (lbs)],MATCH(F289,SignalHeads[Code],0))),IF(G289=\"\",0,INDEX(SignalHeads[Weight*** (lbs)],MATCH(G289,SignalHeads[Code],0))),IF(H289=\"\",0,INDEX(SignalHeads[Weight*** (lbs)],MATCH(H289,SignalHeads[Code],0))),IF(I289=\"\",0,INDEX(SignalHeads[Weight*** (lbs)],MATCH(I289,SignalHeads[Code],0))))","v":0},{"$f":"IF(A289<=$I$8,INDEX(DesignConstants[Value],MATCH(\"Span Wire Weight (plf)\",DesignConstants[Design Constant],0)),0)","v":1.155},0,304.34250000000003,{"$error":"#VALUE!"},{"$error":"#VALUE!"},{"$error":"#N/A"},{"$error":"#N/A"},{"$f":"SUM(IF(B289=\"\",0,INDEX(SignalHeads[Height ** (feet)],MATCH(B289,SignalHeads[Code],0))),IF(D289=\"\",0,INDEX(SignalHeads[Height ** (feet)],MATCH(D289,SignalHeads[Code],0))),IF(E289=\"\",0,INDEX(SignalHeads[Height ** (feet)],MATCH(E289,SignalHeads[Code],0))),IF(F289=\"\",0,INDEX(SignalHeads[Height ** (feet)],MATCH(F289,SignalHeads[Code],0))),IF(G289=\"\",0,INDEX(SignalHeads[Height ** (feet)],MATCH(G289,SignalHeads[Code],0))),IF(H289=\"\",0,INDEX(SignalHeads[Height ** (feet)],MATCH(H289,SignalHeads[Code],0))),IF(I289=\"\",0,INDEX(SignalHeads[Height ** (feet)],MATCH(I289,SignalHeads[Code],0))))","v":0},{"$f":"IF(S289=0,\"\",ROUNDDOWN(12*(((Q289-S289)-MIN($Q$26:$Q$425-$S$26:$S$425)-(MAX($S$26:$S$425*(($Q$26:$Q$425-$S$26:$S$425)=MIN($Q$26:$Q$425-$S$26:$S$425)))-S289))+(MIN($Q$26:$Q$425-$S$26:$S$425)-$I$10)),0)/12)","v":""},"",{"$error":"#N/A"},17]
[265,null,null,null,null,null,null,null,null,{"$f":"SUM(IF(B290=\"\",0,INDEX(SignalHeads[Perp. Wind Area (sft)],MATCH(B290,SignalHeads[Code],0))),IF(D290=\"\",0,INDEX(SignalHeads[Perp. Wind Area (sft)],MATCH(D290,SignalHeads[Code],0))),IF(E290=\"\",0,INDEX(SignalHeads[Perp. Wind Area (sft)],MATCH(E290,SignalHeads[Code],0))),IF(F290=\"\",0,INDEX(SignalHeads[Perp. Wind Area (sft)],MATCH(F290,SignalHeads[Code],0))),IF(G290=\"\",0,INDEX(SignalHeads[Perp. Wind Area (sft)],MATCH(G290,SignalHeads[Code],0))),IF(H290=\"\",0,INDEX(SignalHeads[Perp. Wind Area (sft)],MATCH(H290,SignalHeads[Code],0))),IF(I290=\"\",0,INDEX(SignalHeads[Perp. Wind Area (sft)],MATCH(I290,SignalHeads[Code],0))))","v":0},{"$f":"SUM(IF(B290=\"\",0,INDEX(SignalHeads[Weight*** (lbs)],MATCH(B290,SignalHeads[Code],0))),IF(D290=\"\",0,INDEX(SignalHeads[Weight*** (lbs)],MATCH(D290,SignalHeads[Code],0))),IF(E290=\"\",0,INDEX(SignalHeads[Weight*** (lbs)],MATCH(E290,SignalHeads[Code],0))),IF(F290=\"\",0,INDEX(SignalHeads[Weight*** (lbs)],MATCH(F290,SignalHeads[Code],0))),IF(G290=\"\",0,INDEX(SignalHeads[Weight*** (lbs)],MATCH(G290,SignalHeads[Code],0))),IF(H290=\"\",0,INDEX(SignalHeads[Weight*** (lbs)],MATCH(H290,SignalHeads[Code],0))),IF(I290=\"\",0,INDEX(SignalHeads[Weight*** (lbs)],MATCH(I290,SignalHeads[Code],0))))","v":0},{"$f":"IF(A290<=$I$8,INDEX(DesignConstants[Value],MATCH(\"Span Wire Weight (plf)\",DesignConstants[Design Constant],0)),0)","v":1.155},0,305.4975,{"$error":"#VALUE!"},{"$error":"#VALUE!"},{"$error":"#N/A"},{"$error":"#N/A"},{"$f":"SUM(IF(B290=\"\",0,INDEX(SignalHeads[Height ** (feet)],MATCH(B290,SignalHeads[Code],0))),IF(D290=\"\",0,INDEX(SignalHeads[Height ** (feet)],MATCH(D290,SignalHeads[Code],0))),IF(E290=\"\",0,INDEX(SignalHeads[Height ** (feet)],MATCH(E290,SignalHeads[Code],0))),IF(F290=\"\",0,INDEX(SignalHeads[Height ** (feet)],MATCH(F290,SignalHeads[Code],0))),IF(G290=\"\",0,INDEX(SignalHeads[Height ** (feet)],MATCH(G290,SignalHeads[Code],0))),IF(H290=\"\",0,INDEX(SignalHeads[Height ** (feet)],MATCH(H290,SignalHeads[Code],0))),IF(I290=\"\",0,INDEX(SignalHeads[Height ** (feet)],MATCH(I290,SignalHeads[Code],0))))","v":0},{"$f":"IF(S290=0,\"\",ROUNDDOWN(12*(((Q290-S290)-MIN($Q$26:$Q$425-$S$26:$S$425)-(MAX($S$26:$S$425*(($Q$26:$Q$425-$S$26:$S$425)=MIN($Q$26:$Q$425-$S$26:$S$425)))-S290))+(MIN($Q$26:$Q$425-$S$26:$S$425)-$I$10)),0)/12)","v":""},"",{"$error":"#N/A"},17]
[266,null,null,null,null,null,null,null,null,{"$f":"SUM(IF(B291=\"\",0,INDEX(SignalHeads[Perp. Wind Area (sft)],MATCH(B291,SignalHeads[Code],0))),IF(D291=\"\",0,INDEX(SignalHeads[Perp. Wind Area (sft)],MATCH(D291,SignalHeads[Code],0))),IF(E291=\"\",0,INDEX(SignalHeads[Perp. Wind Area (sft)],MATCH(E291,SignalHeads[Code],0))),IF(F291=\"\",0,INDEX(SignalHeads[Perp. Wind Area (sft)],MATCH(F291,SignalHeads[Code],0))),IF(G291=\"\",0,INDEX(SignalHeads[Perp. Wind Area (sft)],MATCH(G291,SignalHeads[Code],0))),IF(H291=\"\",0,INDEX(SignalHeads[Perp. Wind Area (sft)],MATCH(H291,SignalHeads[Code],0))),IF(I291=\"\",0,INDEX(SignalHeads[Perp. Wind Area (sft)],MATCH(I291,SignalHeads[Code],0))))","v":0},{"$f":"SUM(IF(B291=\"\",0,INDEX(SignalHeads[Weight*** (lbs)],MATCH(B291,SignalHeads[Code],0))),IF(D291=\"\",0,INDEX(SignalHeads[Weight*** (lbs)],MATCH(D291,SignalHeads[Code],0))),IF(E291=\"\",0,INDEX(SignalHeads[Weight*** (lbs)],MATCH(E291,SignalHeads[Code],0))),IF(F291=\"\",0,INDEX(SignalHeads[Weight*** (lbs)],MATCH(F291,SignalHeads[Code],0))),IF(G291=\"\",0,INDEX(SignalHeads[Weight*** (lbs)],MATCH(G291,SignalHeads[Code],0))),IF(H291=\"\",0,INDEX(SignalHeads[Weight*** (lbs)],MATCH(H291,SignalHeads[Code],0))),IF(I291=\"\",0,INDEX(SignalHeads[Weight*** (lbs)],MATCH(I291,SignalHeads[Code],0))))","v":0},{"$f":"IF(A291<=$I$8,INDEX(DesignConstants[Value],MATCH(\"Span Wire Weight (plf)\",DesignConstants[Design Constant],0)),0)","v":1.155},0,306.65250000000003,{"$error":"#VALUE!"},{"$error":"#VALUE!"},{"$error":"#N/A"},{"$error":"#N/A"},{"$f":"SUM(IF(B291=\"\",0,INDEX(SignalHeads[Height ** (feet)],MATCH(B291,SignalHeads[Code],0))),IF(D291=\"\",0,INDEX(SignalHeads[Height ** (feet)],MATCH(D291,SignalHeads[Code],0))),IF(E291=\"\",0,INDEX(SignalHeads[Height ** (feet)],MATCH(E291,SignalHeads[Code],0))),IF(F291=\"\",0,INDEX(SignalHeads[Height ** (feet)],MATCH(F291,SignalHeads[Code],0))),IF(G291=\"\",0,INDEX(SignalHeads[Height ** (feet)],MATCH(G291,SignalHeads[Code],0))),IF(H291=\"\",0,INDEX(SignalHeads[Height ** (feet)],MATCH(H291,SignalHeads[Code],0))),IF(I291=\"\",0,INDEX(SignalHeads[Height ** (feet)],MATCH(I291,SignalHeads[Code],0))))","v":0},{"$f":"IF(S291=0,\"\",ROUNDDOWN(12*(((Q291-S291)-MIN($Q$26:$Q$425-$S$26:$S$425)-(MAX($S$26:$S$425*(($Q$26:$Q$425-$S$26:$S$425)=MIN($Q$26:$Q$425-$S$26:$S$425)))-S291))+(MIN($Q$26:$Q$425-$S$26:$S$425)-$I$10)),0)/12)","v":""},"",{"$error":"#N/A"},17]
[267,null,null,null,null,null,null,null,null,{"$f":"SUM(IF(B292=\"\",0,INDEX(SignalHeads[Perp. Wind Area (sft)],MATCH(B292,SignalHeads[Code],0))),IF(D292=\"\",0,INDEX(SignalHeads[Perp. Wind Area (sft)],MATCH(D292,SignalHeads[Code],0))),IF(E292=\"\",0,INDEX(SignalHeads[Perp. Wind Area (sft)],MATCH(E292,SignalHeads[Code],0))),IF(F292=\"\",0,INDEX(SignalHeads[Perp. Wind Area (sft)],MATCH(F292,SignalHeads[Code],0))),IF(G292=\"\",0,INDEX(SignalHeads[Perp. Wind Area (sft)],MATCH(G292,SignalHeads[Code],0))),IF(H292=\"\",0,INDEX(SignalHeads[Perp. Wind Area (sft)],MATCH(H292,SignalHeads[Code],0))),IF(I292=\"\",0,INDEX(SignalHeads[Perp. Wind Area (sft)],MATCH(I292,SignalHeads[Code],0))))","v":0},{"$f":"SUM(IF(B292=\"\",0,INDEX(SignalHeads[Weight*** (lbs)],MATCH(B292,SignalHeads[Code],0))),IF(D292=\"\",0,INDEX(SignalHeads[Weight*** (lbs)],MATCH(D292,SignalHeads[Code],0))),IF(E292=\"\",0,INDEX(SignalHeads[Weight*** (lbs)],MATCH(E292,SignalHeads[Code],0))),IF(F292=\"\",0,INDEX(SignalHeads[Weight*** (lbs)],MATCH(F292,SignalHeads[Code],0))),IF(G292=\"\",0,INDEX(SignalHeads[Weight*** (lbs)],MATCH(G292,SignalHeads[Code],0))),IF(H292=\"\",0,INDEX(SignalHeads[Weight*** (lbs)],MATCH(H292,SignalHeads[Code],0))),IF(I292=\"\",0,INDEX(SignalHeads[Weight*** (lbs)],MATCH(I292,SignalHeads[Code],0))))","v":0},{"$f":"IF(A292<=$I$8,INDEX(DesignConstants[Value],MATCH(\"Span Wire Weight (plf)\",DesignConstants[Design Constant],0)),0)","v":1.155},0,307.8075,{"$error":"#VALUE!"},{"$error":"#VALUE!"},{"$error":"#N/A"},{"$error":"#N/A"},{"$f":"SUM(IF(B292=\"\",0,INDEX(SignalHeads[Height ** (feet)],MATCH(B292,SignalHeads[Code],0))),IF(D292=\"\",0,INDEX(SignalHeads[Height ** (feet)],MATCH(D292,SignalHeads[Code],0))),IF(E292=\"\",0,INDEX(SignalHeads[Height ** (feet)],MATCH(E292,SignalHeads[Code],0))),IF(F292=\"\",0,INDEX(SignalHeads[Height ** (feet)],MATCH(F292,SignalHeads[Code],0))),IF(G292=\"\",0,INDEX(SignalHeads[Height ** (feet)],MATCH(G292,SignalHeads[Code],0))),IF(H292=\"\",0,INDEX(SignalHeads[Height ** (feet)],MATCH(H292,SignalHeads[Code],0))),IF(I292=\"\",0,INDEX(SignalHeads[Height ** (feet)],MATCH(I292,SignalHeads[Code],0))))","v":0},{"$f":"IF(S292=0,\"\",ROUNDDOWN(12*(((Q292-S292)-MIN($Q$26:$Q$425-$S$26:$S$425)-(MAX($S$26:$S$425*(($Q$26:$Q$425-$S$26:$S$425)=MIN($Q$26:$Q$425-$S$26:$S$425)))-S292))+(MIN($Q$26:$Q$425-$S$26:$S$425)-$I$10)),0)/12)","v":""},"",{"$error":"#N/A"},17]
[268,null,null,null,null,null,null,null,null,{"$f":"SUM(IF(B293=\"\",0,INDEX(SignalHeads[Perp. Wind Area (sft)],MATCH(B293,SignalHeads[Code],0))),IF(D293=\"\",0,INDEX(SignalHeads[Perp. Wind Area (sft)],MATCH(D293,SignalHeads[Code],0))),IF(E293=\"\",0,INDEX(SignalHeads[Perp. Wind Area (sft)],MATCH(E293,SignalHeads[Code],0))),IF(F293=\"\",0,INDEX(SignalHeads[Perp. Wind Area (sft)],MATCH(F293,SignalHeads[Code],0))),IF(G293=\"\",0,INDEX(SignalHeads[Perp. Wind Area (sft)],MATCH(G293,SignalHeads[Code],0))),IF(H293=\"\",0,INDEX(SignalHeads[Perp. Wind Area (sft)],MATCH(H293,SignalHeads[Code],0))),IF(I293=\"\",0,INDEX(SignalHeads[Perp. Wind Area (sft)],MATCH(I293,SignalHeads[Code],0))))","v":0},{"$f":"SUM(IF(B293=\"\",0,INDEX(SignalHeads[Weight*** (lbs)],MATCH(B293,SignalHeads[Code],0))),IF(D293=\"\",0,INDEX(SignalHeads[Weight*** (lbs)],MATCH(D293,SignalHeads[Code],0))),IF(E293=\"\",0,INDEX(SignalHeads[Weight*** (lbs)],MATCH(E293,SignalHeads[Code],0))),IF(F293=\"\",0,INDEX(SignalHeads[Weight*** (lbs)],MATCH(F293,SignalHeads[Code],0))),IF(G293=\"\",0,INDEX(SignalHeads[Weight*** (lbs)],MATCH(G293,SignalHeads[Code],0))),IF(H293=\"\",0,INDEX(SignalHeads[Weight*** (lbs)],MATCH(H293,SignalHeads[Code],0))),IF(I293=\"\",0,INDEX(SignalHeads[Weight*** (lbs)],MATCH(I293,SignalHeads[Code],0))))","v":0},{"$f":"IF(A293<=$I$8,INDEX(DesignConstants[Value],MATCH(\"Span Wire Weight (plf)\",DesignConstants[Design Constant],0)),0)","v":1.155},0,308.96250000000003,{"$error":"#VALUE!"},{"$error":"#VALUE!"},{"$error":"#N/A"},{"$error":"#N/A"},{"$f":"SUM(IF(B293=\"\",0,INDEX(SignalHeads[Height ** (feet)],MATCH(B293,SignalHeads[Code],0))),IF(D293=\"\",0,INDEX(SignalHeads[Height ** (feet)],MATCH(D293,SignalHeads[Code],0))),IF(E293=\"\",0,INDEX(SignalHeads[Height ** (feet)],MATCH(E293,SignalHeads[Code],0))),IF(F293=\"\",0,INDEX(SignalHeads[Height ** (feet)],MATCH(F293,SignalHeads[Code],0))),IF(G293=\"\",0,INDEX(SignalHeads[Height ** (feet)],MATCH(G293,SignalHeads[Code],0))),IF(H293=\"\",0,INDEX(SignalHeads[Height ** (feet)],MATCH(H293,SignalHeads[Code],0))),IF(I293=\"\",0,INDEX(SignalHeads[Height ** (feet)],MATCH(I293,SignalHeads[Code],0))))","v":0},{"$f":"IF(S293=0,\"\",ROUNDDOWN(12*(((Q293-S293)-MIN($Q$26:$Q$425-$S$26:$S$425)-(MAX($S$26:$S$425*(($Q$26:$Q$425-$S$26:$S$425)=MIN($Q$26:$Q$425-$S$26:$S$425)))-S293))+(MIN($Q$26:$Q$425-$S$26:$S$425)-$I$10)),0)/12)","v":""},"",{"$error":"#N/A"},17]
[269,null,null,null,null,null,null,null,null,{"$f":"SUM(IF(B294=\"\",0,INDEX(SignalHeads[Perp. Wind Area (sft)],MATCH(B294,SignalHeads[Code],0))),IF(D294=\"\",0,INDEX(SignalHeads[Perp. Wind Area (sft)],MATCH(D294,SignalHeads[Code],0))),IF(E294=\"\",0,INDEX(SignalHeads[Perp. Wind Area (sft)],MATCH(E294,SignalHeads[Code],0))),IF(F294=\"\",0,INDEX(SignalHeads[Perp. Wind Area (sft)],MATCH(F294,SignalHeads[Code],0))),IF(G294=\"\",0,INDEX(SignalHeads[Perp. Wind Area (sft)],MATCH(G294,SignalHeads[Code],0))),IF(H294=\"\",0,INDEX(SignalHeads[Perp. Wind Area (sft)],MATCH(H294,SignalHeads[Code],0))),IF(I294=\"\",0,INDEX(SignalHeads[Perp. Wind Area (sft)],MATCH(I294,SignalHeads[Code],0))))","v":0},{"$f":"SUM(IF(B294=\"\",0,INDEX(SignalHeads[Weight*** (lbs)],MATCH(B294,SignalHeads[Code],0))),IF(D294=\"\",0,INDEX(SignalHeads[Weight*** (lbs)],MATCH(D294,SignalHeads[Code],0))),IF(E294=\"\",0,INDEX(SignalHeads[Weight*** (lbs)],MATCH(E294,SignalHeads[Code],0))),IF(F294=\"\",0,INDEX(SignalHeads[Weight*** (lbs)],MATCH(F294,SignalHeads[Code],0))),IF(G294=\"\",0,INDEX(SignalHeads[Weight*** (lbs)],MATCH(G294,SignalHeads[Code],0))),IF(H294=\"\",0,INDEX(SignalHeads[Weight*** (lbs)],MATCH(H294,SignalHeads[Code],0))),IF(I294=\"\",0,INDEX(SignalHeads[Weight*** (lbs)],MATCH(I294,SignalHeads[Code],0))))","v":0},{"$f":"IF(A294<=$I$8,INDEX(DesignConstants[Value],MATCH(\"Span Wire Weight (plf)\",DesignConstants[Design Constant],0)),0)","v":1.155},0,310.11750000000001,{"$error":"#VALUE!"},{"$error":"#VALUE!"},{"$error":"#N/A"},{"$error":"#N/A"},{"$f":"SUM(IF(B294=\"\",0,INDEX(SignalHeads[Height ** (feet)],MATCH(B294,SignalHeads[Code],0))),IF(D294=\"\",0,INDEX(SignalHeads[Height ** (feet)],MATCH(D294,SignalHeads[Code],0))),IF(E294=\"\",0,INDEX(SignalHeads[Height ** (feet)],MATCH(E294,SignalHeads[Code],0))),IF(F294=\"\",0,INDEX(SignalHeads[Height ** (feet)],MATCH(F294,SignalHeads[Code],0))),IF(G294=\"\",0,INDEX(SignalHeads[Height ** (feet)],MATCH(G294,SignalHeads[Code],0))),IF(H294=\"\",0,INDEX(SignalHeads[Height ** (feet)],MATCH(H294,SignalHeads[Code],0))),IF(I294=\"\",0,INDEX(SignalHeads[Height ** (feet)],MATCH(I294,SignalHeads[Code],0))))","v":0},{"$f":"IF(S294=0,\"\",ROUNDDOWN(12*(((Q294-S294)-MIN($Q$26:$Q$425-$S$26:$S$425)-(MAX($S$26:$S$425*(($Q$26:$Q$425-$S$26:$S$425)=MIN($Q$26:$Q$425-$S$26:$S$425)))-S294))+(MIN($Q$26:$Q$425-$S$26:$S$425)-$I$10)),0)/12)","v":""},"",{"$error":"#N/A"},17]
[270,null,null,null,null,null,null,null,null,{"$f":"SUM(IF(B295=\"\",0,INDEX(SignalHeads[Perp. Wind Area (sft)],MATCH(B295,SignalHeads[Code],0))),IF(D295=\"\",0,INDEX(SignalHeads[Perp. Wind Area (sft)],MATCH(D295,SignalHeads[Code],0))),IF(E295=\"\",0,INDEX(SignalHeads[Perp. Wind Area (sft)],MATCH(E295,SignalHeads[Code],0))),IF(F295=\"\",0,INDEX(SignalHeads[Perp. Wind Area (sft)],MATCH(F295,SignalHeads[Code],0))),IF(G295=\"\",0,INDEX(SignalHeads[Perp. Wind Area (sft)],MATCH(G295,SignalHeads[Code],0))),IF(H295=\"\",0,INDEX(SignalHeads[Perp. Wind Area (sft)],MATCH(H295,SignalHeads[Code],0))),IF(I295=\"\",0,INDEX(SignalHeads[Perp. Wind Area (sft)],MATCH(I295,SignalHeads[Code],0))))","v":0},{"$f":"SUM(IF(B295=\"\",0,INDEX(SignalHeads[Weight*** (lbs)],MATCH(B295,SignalHeads[Code],0))),IF(D295=\"\",0,INDEX(SignalHeads[Weight*** (lbs)],MATCH(D295,SignalHeads[Code],0))),IF(E295=\"\",0,INDEX(SignalHeads[Weight*** (lbs)],MATCH(E295,SignalHeads[Code],0))),IF(F295=\"\",0,INDEX(SignalHeads[Weight*** (lbs)],MATCH(F295,SignalHeads[Code],0))),IF(G295=\"\",0,INDEX(SignalHeads[Weight*** (lbs)],MATCH(G295,SignalHeads[Code],0))),IF(H295=\"\",0,INDEX(SignalHeads[Weight*** (lbs)],MATCH(H295,SignalHeads[Code],0))),IF(I295=\"\",0,INDEX(SignalHeads[Weight*** (lbs)],MATCH(I295,SignalHeads[Code],0))))","v":0},{"$f":"IF(A295<=$I$8,INDEX(DesignConstants[Value],MATCH(\"Span Wire Weight (plf)\",DesignConstants[Design Constant],0)),0)","v":1.155},0,311.27249999999998,{"$error":"#VALUE!"},{"$error":"#VALUE!"},{"$error":"#N/A"},{"$error":"#N/A"},{"$f":"SUM(IF(B295=\"\",0,INDEX(SignalHeads[Height ** (feet)],MATCH(B295,SignalHeads[Code],0))),IF(D295=\"\",0,INDEX(SignalHeads[Height ** (feet)],MATCH(D295,SignalHeads[Code],0))),IF(E295=\"\",0,INDEX(SignalHeads[Height ** (feet)],MATCH(E295,SignalHeads[Code],0))),IF(F295=\"\",0,INDEX(SignalHeads[Height ** (feet)],MATCH(F295,SignalHeads[Code],0))),IF(G295=\"\",0,INDEX(SignalHeads[Height ** (feet)],MATCH(G295,SignalHeads[Code],0))),IF(H295=\"\",0,INDEX(SignalHeads[Height ** (feet)],MATCH(H295,SignalHeads[Code],0))),IF(I295=\"\",0,INDEX(SignalHeads[Height ** (feet)],MATCH(I295,SignalHeads[Code],0))))","v":0},{"$f":"IF(S295=0,\"\",ROUNDDOWN(12*(((Q295-S295)-MIN($Q$26:$Q$425-$S$26:$S$425)-(MAX($S$26:$S$425*(($Q$26:$Q$425-$S$26:$S$425)=MIN($Q$26:$Q$425-$S$26:$S$425)))-S295))+(MIN($Q$26:$Q$425-$S$26:$S$425)-$I$10)),0)/12)","v":""},"",{"$error":"#N/A"},17]
[271,null,null,null,null,null,null,null,null,{"$f":"SUM(IF(B296=\"\",0,INDEX(SignalHeads[Perp. Wind Area (sft)],MATCH(B296,SignalHeads[Code],0))),IF(D296=\"\",0,INDEX(SignalHeads[Perp. Wind Area (sft)],MATCH(D296,SignalHeads[Code],0))),IF(E296=\"\",0,INDEX(SignalHeads[Perp. Wind Area (sft)],MATCH(E296,SignalHeads[Code],0))),IF(F296=\"\",0,INDEX(SignalHeads[Perp. Wind Area (sft)],MATCH(F296,SignalHeads[Code],0))),IF(G296=\"\",0,INDEX(SignalHeads[Perp. Wind Area (sft)],MATCH(G296,SignalHeads[Code],0))),IF(H296=\"\",0,INDEX(SignalHeads[Perp. Wind Area (sft)],MATCH(H296,SignalHeads[Code],0))),IF(I296=\"\",0,INDEX(SignalHeads[Perp. Wind Area (sft)],MATCH(I296,SignalHeads[Code],0))))","v":0},{"$f":"SUM(IF(B296=\"\",0,INDEX(SignalHeads[Weight*** (lbs)],MATCH(B296,SignalHeads[Code],0))),IF(D296=\"\",0,INDEX(SignalHeads[Weight*** (lbs)],MATCH(D296,SignalHeads[Code],0))),IF(E296=\"\",0,INDEX(SignalHeads[Weight*** (lbs)],MATCH(E296,SignalHeads[Code],0))),IF(F296=\"\",0,INDEX(SignalHeads[Weight*** (lbs)],MATCH(F296,SignalHeads[Code],0))),IF(G296=\"\",0,INDEX(SignalHeads[Weight*** (lbs)],MATCH(G296,SignalHeads[Code],0))),IF(H296=\"\",0,INDEX(SignalHeads[Weight*** (lbs)],MATCH(H296,SignalHeads[Code],0))),IF(I296=\"\",0,INDEX(SignalHeads[Weight*** (lbs)],MATCH(I296,SignalHeads[Code],0))))","v":0},{"$f":"IF(A296<=$I$8,INDEX(DesignConstants[Value],MATCH(\"Span Wire Weight (plf)\",DesignConstants[Design Constant],0)),0)","v":1.155},0,312.42750000000001,{"$error":"#VALUE!"},{"$error":"#VALUE!"},{"$error":"#N/A"},{"$error":"#N/A"},{"$f":"SUM(IF(B296=\"\",0,INDEX(SignalHeads[Height ** (feet)],MATCH(B296,SignalHeads[Code],0))),IF(D296=\"\",0,INDEX(SignalHeads[Height ** (feet)],MATCH(D296,SignalHeads[Code],0))),IF(E296=\"\",0,INDEX(SignalHeads[Height ** (feet)],MATCH(E296,SignalHeads[Code],0))),IF(F296=\"\",0,INDEX(SignalHeads[Height ** (feet)],MATCH(F296,SignalHeads[Code],0))),IF(G296=\"\",0,INDEX(SignalHeads[Height ** (feet)],MATCH(G296,SignalHeads[Code],0))),IF(H296=\"\",0,INDEX(SignalHeads[Height ** (feet)],MATCH(H296,SignalHeads[Code],0))),IF(I296=\"\",0,INDEX(SignalHeads[Height ** (feet)],MATCH(I296,SignalHeads[Code],0))))","v":0},{"$f":"IF(S296=0,\"\",ROUNDDOWN(12*(((Q296-S296)-MIN($Q$26:$Q$425-$S$26:$S$425)-(MAX($S$26:$S$425*(($Q$26:$Q$425-$S$26:$S$425)=MIN($Q$26:$Q$425-$S$26:$S$425)))-S296))+(MIN($Q$26:$Q$425-$S$26:$S$425)-$I$10)),0)/12)","v":""},"",{"$error":"#N/A"},17]
[272,null,null,null,null,null,null,null,null,{"$f":"SUM(IF(B297=\"\",0,INDEX(SignalHeads[Perp. Wind Area (sft)],MATCH(B297,SignalHeads[Code],0))),IF(D297=\"\",0,INDEX(SignalHeads[Perp. Wind Area (sft)],MATCH(D297,SignalHeads[Code],0))),IF(E297=\"\",0,INDEX(SignalHeads[Perp. Wind Area (sft)],MATCH(E297,SignalHeads[Code],0))),IF(F297=\"\",0,INDEX(SignalHeads[Perp. Wind Area (sft)],MATCH(F297,SignalHeads[Code],0))),IF(G297=\"\",0,INDEX(SignalHeads[Perp. Wind Area (sft)],MATCH(G297,SignalHeads[Code],0))),IF(H297=\"\",0,INDEX(SignalHeads[Perp. Wind Area (sft)],MATCH(H297,SignalHeads[Code],0))),IF(I297=\"\",0,INDEX(SignalHeads[Perp. Wind Area (sft)],MATCH(I297,SignalHeads[Code],0))))","v":0},{"$f":"SUM(IF(B297=\"\",0,INDEX(SignalHeads[Weight*** (lbs)],MATCH(B297,SignalHeads[Code],0))),IF(D297=\"\",0,INDEX(SignalHeads[Weight*** (lbs)],MATCH(D297,SignalHeads[Code],0))),IF(E297=\"\",0,INDEX(SignalHeads[Weight*** (lbs)],MATCH(E297,SignalHeads[Code],0))),IF(F297=\"\",0,INDEX(SignalHeads[Weight*** (lbs)],MATCH(F297,SignalHeads[Code],0))),IF(G297=\"\",0,INDEX(SignalHeads[Weight*** (lbs)],MATCH(G297,SignalHeads[Code],0))),IF(H297=\"\",0,INDEX(SignalHeads[Weight*** (lbs)],MATCH(H297,SignalHeads[Code],0))),IF(I297=\"\",0,INDEX(SignalHeads[Weight*** (lbs)],MATCH(I297,SignalHeads[Code],0))))","v":0},{"$f":"IF(A297<=$I$8,INDEX(DesignConstants[Value],MATCH(\"Span Wire Weight (plf)\",DesignConstants[Design Constant],0)),0)","v":1.155},0,313.58249999999998,{"$error":"#VALUE!"},{"$error":"#VALUE!"},{"$error":"#N/A"},{"$error":"#N/A"},{"$f":"SUM(IF(B297=\"\",0,INDEX(SignalHeads[Height ** (feet)],MATCH(B297,SignalHeads[Code],0))),IF(D297=\"\",0,INDEX(SignalHeads[Height ** (feet)],MATCH(D297,SignalHeads[Code],0))),IF(E297=\"\",0,INDEX(SignalHeads[Height ** (feet)],MATCH(E297,SignalHeads[Code],0))),IF(F297=\"\",0,INDEX(SignalHeads[Height ** (feet)],MATCH(F297,SignalHeads[Code],0))),IF(G297=\"\",0,INDEX(SignalHeads[Height ** (feet)],MATCH(G297,SignalHeads[Code],0))),IF(H297=\"\",0,INDEX(SignalHeads[Height ** (feet)],MATCH(H297,SignalHeads[Code],0))),IF(I297=\"\",0,INDEX(SignalHeads[Height ** (feet)],MATCH(I297,SignalHeads[Code],0))))","v":0},{"$f":"IF(S297=0,\"\",ROUNDDOWN(12*(((Q297-S297)-MIN($Q$26:$Q$425-$S$26:$S$425)-(MAX($S$26:$S$425*(($Q$26:$Q$425-$S$26:$S$425)=MIN($Q$26:$Q$425-$S$26:$S$425)))-S297))+(MIN($Q$26:$Q$425-$S$26:$S$425)-$I$10)),0)/12)","v":""},"",{"$error":"#N/A"},17]
[273,null,null,null,null,null,null,null,null,{"$f":"SUM(IF(B298=\"\",0,INDEX(SignalHeads[Perp. Wind Area (sft)],MATCH(B298,SignalHeads[Code],0))),IF(D298=\"\",0,INDEX(SignalHeads[Perp. Wind Area (sft)],MATCH(D298,SignalHeads[Code],0))),IF(E298=\"\",0,INDEX(SignalHeads[Perp. Wind Area (sft)],MATCH(E298,SignalHeads[Code],0))),IF(F298=\"\",0,INDEX(SignalHeads[Perp. Wind Area (sft)],MATCH(F298,SignalHeads[Code],0))),IF(G298=\"\",0,INDEX(SignalHeads[Perp. Wind Area (sft)],MATCH(G298,SignalHeads[Code],0))),IF(H298=\"\",0,INDEX(SignalHeads[Perp. Wind Area (sft)],MATCH(H298,SignalHeads[Code],0))),IF(I298=\"\",0,INDEX(SignalHeads[Perp. Wind Area (sft)],MATCH(I298,SignalHeads[Code],0))))","v":0},{"$f":"SUM(IF(B298=\"\",0,INDEX(SignalHeads[Weight*** (lbs)],MATCH(B298,SignalHeads[Code],0))),IF(D298=\"\",0,INDEX(SignalHeads[Weight*** (lbs)],MATCH(D298,SignalHeads[Code],0))),IF(E298=\"\",0,INDEX(SignalHeads[Weight*** (lbs)],MATCH(E298,SignalHeads[Code],0))),IF(F298=\"\",0,INDEX(SignalHeads[Weight*** (lbs)],MATCH(F298,SignalHeads[Code],0))),IF(G298=\"\",0,INDEX(SignalHeads[Weight*** (lbs)],MATCH(G298,SignalHeads[Code],0))),IF(H298=\"\",0,INDEX(SignalHeads[Weight*** (lbs)],MATCH(H298,SignalHeads[Code],0))),IF(I298=\"\",0,INDEX(SignalHeads[Weight*** (lbs)],MATCH(I298,SignalHeads[Code],0))))","v":0},{"$f":"IF(A298<=$I$8,INDEX(DesignConstants[Value],MATCH(\"Span Wire Weight (plf)\",DesignConstants[Design Constant],0)),0)","v":1.155},0,314.73750000000001,{"$error":"#VALUE!"},{"$error":"#VALUE!"},{"$error":"#N/A"},{"$error":"#N/A"},{"$f":"SUM(IF(B298=\"\",0,INDEX(SignalHeads[Height ** (feet)],MATCH(B298,SignalHeads[Code],0))),IF(D298=\"\",0,INDEX(SignalHeads[Height ** (feet)],MATCH(D298,SignalHeads[Code],0))),IF(E298=\"\",0,INDEX(SignalHeads[Height ** (feet)],MATCH(E298,SignalHeads[Code],0))),IF(F298=\"\",0,INDEX(SignalHeads[Height ** (feet)],MATCH(F298,SignalHeads[Code],0))),IF(G298=\"\",0,INDEX(SignalHeads[Height ** (feet)],MATCH(G298,SignalHeads[Code],0))),IF(H298=\"\",0,INDEX(SignalHeads[Height ** (feet)],MATCH(H298,SignalHeads[Code],0))),IF(I298=\"\",0,INDEX(SignalHeads[Height ** (feet)],MATCH(I298,SignalHeads[Code],0))))","v":0},{"$f":"IF(S298=0,\"\",ROUNDDOWN(12*(((Q298-S298)-MIN($Q$26:$Q$425-$S$26:$S$425)-(MAX($S$26:$S$425*(($Q$26:$Q$425-$S$26:$S$425)=MIN($Q$26:$Q$425-$S$26:$S$425)))-S298))+(MIN($Q$26:$Q$425-$S$26:$S$425)-$I$10)),0)/12)","v":""},"",{"$error":"#N/A"},17]
[274,null,null,null,null,null,null,null,null,{"$f":"SUM(IF(B299=\"\",0,INDEX(SignalHeads[Perp. Wind Area (sft)],MATCH(B299,SignalHeads[Code],0))),IF(D299=\"\",0,INDEX(SignalHeads[Perp. Wind Area (sft)],MATCH(D299,SignalHeads[Code],0))),IF(E299=\"\",0,INDEX(SignalHeads[Perp. Wind Area (sft)],MATCH(E299,SignalHeads[Code],0))),IF(F299=\"\",0,INDEX(SignalHeads[Perp. Wind Area (sft)],MATCH(F299,SignalHeads[Code],0))),IF(G299=\"\",0,INDEX(SignalHeads[Perp. Wind Area (sft)],MATCH(G299,SignalHeads[Code],0))),IF(H299=\"\",0,INDEX(SignalHeads[Perp. Wind Area (sft)],MATCH(H299,SignalHeads[Code],0))),IF(I299=\"\",0,INDEX(SignalHeads[Perp. Wind Area (sft)],MATCH(I299,SignalHeads[Code],0))))","v":0},{"$f":"SUM(IF(B299=\"\",0,INDEX(SignalHeads[Weight*** (lbs)],MATCH(B299,SignalHeads[Code],0))),IF(D299=\"\",0,INDEX(SignalHeads[Weight*** (lbs)],MATCH(D299,SignalHeads[Code],0))),IF(E299=\"\",0,INDEX(SignalHeads[Weight*** (lbs)],MATCH(E299,SignalHeads[Code],0))),IF(F299=\"\",0,INDEX(SignalHeads[Weight*** (lbs)],MATCH(F299,SignalHeads[Code],0))),IF(G299=\"\",0,INDEX(SignalHeads[Weight*** (lbs)],MATCH(G299,SignalHeads[Code],0))),IF(H299=\"\",0,INDEX(SignalHeads[Weight*** (lbs)],MATCH(H299,SignalHeads[Code],0))),IF(I299=\"\",0,INDEX(SignalHeads[Weight*** (lbs)],MATCH(I299,SignalHeads[Code],0))))","v":0},{"$f":"IF(A299<=$I$8,INDEX(DesignConstants[Value],MATCH(\"Span Wire Weight (plf)\",DesignConstants[Design Constant],0)),0)","v":1.155},0,315.89249999999998,{"$error":"#VALUE!"},{"$error":"#VALUE!"},{"$error":"#N/A"},{"$error":"#N/A"},{"$f":"SUM(IF(B299=\"\",0,INDEX(SignalHeads[Height ** (feet)],MATCH(B299,SignalHeads[Code],0))),IF(D299=\"\",0,INDEX(SignalHeads[Height ** (feet)],MATCH(D299,SignalHeads[Code],0))),IF(E299=\"\",0,INDEX(SignalHeads[Height ** (feet)],MATCH(E299,SignalHeads[Code],0))),IF(F299=\"\",0,INDEX(SignalHeads[Height ** (feet)],MATCH(F299,SignalHeads[Code],0))),IF(G299=\"\",0,INDEX(SignalHeads[Height ** (feet)],MATCH(G299,SignalHeads[Code],0))),IF(H299=\"\",0,INDEX(SignalHeads[Height ** (feet)],MATCH(H299,SignalHeads[Code],0))),IF(I299=\"\",0,INDEX(SignalHeads[Height ** (feet)],MATCH(I299,SignalHeads[Code],0))))","v":0},{"$f":"IF(S299=0,\"\",ROUNDDOWN(12*(((Q299-S299)-MIN($Q$26:$Q$425-$S$26:$S$425)-(MAX($S$26:$S$425*(($Q$26:$Q$425-$S$26:$S$425)=MIN($Q$26:$Q$425-$S$26:$S$425)))-S299))+(MIN($Q$26:$Q$425-$S$26:$S$425)-$I$10)),0)/12)","v":""},"",{"$error":"#N/A"},17]
[275,null,null,null,null,null,null,null,null,{"$f":"SUM(IF(B300=\"\",0,INDEX(SignalHeads[Perp. Wind Area (sft)],MATCH(B300,SignalHeads[Code],0))),IF(D300=\"\",0,INDEX(SignalHeads[Perp. Wind Area (sft)],MATCH(D300,SignalHeads[Code],0))),IF(E300=\"\",0,INDEX(SignalHeads[Perp. Wind Area (sft)],MATCH(E300,SignalHeads[Code],0))),IF(F300=\"\",0,INDEX(SignalHeads[Perp. Wind Area (sft)],MATCH(F300,SignalHeads[Code],0))),IF(G300=\"\",0,INDEX(SignalHeads[Perp. Wind Area (sft)],MATCH(G300,SignalHeads[Code],0))),IF(H300=\"\",0,INDEX(SignalHeads[Perp. Wind Area (sft)],MATCH(H300,SignalHeads[Code],0))),IF(I300=\"\",0,INDEX(SignalHeads[Perp. Wind Area (sft)],MATCH(I300,SignalHeads[Code],0))))","v":0},{"$f":"SUM(IF(B300=\"\",0,INDEX(SignalHeads[Weight*** (lbs)],MATCH(B300,SignalHeads[Code],0))),IF(D300=\"\",0,INDEX(SignalHeads[Weight*** (lbs)],MATCH(D300,SignalHeads[Code],0))),IF(E300=\"\",0,INDEX(SignalHeads[Weight*** (lbs)],MATCH(E300,SignalHeads[Code],0))),IF(F300=\"\",0,INDEX(SignalHeads[Weight*** (lbs)],MATCH(F300,SignalHeads[Code],0))),IF(G300=\"\",0,INDEX(SignalHeads[Weight*** (lbs)],MATCH(G300,SignalHeads[Code],0))),IF(H300=\"\",0,INDEX(SignalHeads[Weight*** (lbs)],MATCH(H300,SignalHeads[Code],0))),IF(I300=\"\",0,INDEX(SignalHeads[Weight*** (lbs)],MATCH(I300,SignalHeads[Code],0))))","v":0},{"$f":"IF(A300<=$I$8,INDEX(DesignConstants[Value],MATCH(\"Span Wire Weight (plf)\",DesignConstants[Design Constant],0)),0)","v":1.155},0,317.04750000000001,{"$error":"#VALUE!"},{"$error":"#VALUE!"},{"$error":"#N/A"},{"$error":"#N/A"},{"$f":"SUM(IF(B300=\"\",0,INDEX(SignalHeads[Height ** (feet)],MATCH(B300,SignalHeads[Code],0))),IF(D300=\"\",0,INDEX(SignalHeads[Height ** (feet)],MATCH(D300,SignalHeads[Code],0))),IF(E300=\"\",0,INDEX(SignalHeads[Height ** (feet)],MATCH(E300,SignalHeads[Code],0))),IF(F300=\"\",0,INDEX(SignalHeads[Height ** (feet)],MATCH(F300,SignalHeads[Code],0))),IF(G300=\"\",0,INDEX(SignalHeads[Height ** (feet)],MATCH(G300,SignalHeads[Code],0))),IF(H300=\"\",0,INDEX(SignalHeads[Height ** (feet)],MATCH(H300,SignalHeads[Code],0))),IF(I300=\"\",0,INDEX(SignalHeads[Height ** (feet)],MATCH(I300,SignalHeads[Code],0))))","v":0},{"$f":"IF(S300=0,\"\",ROUNDDOWN(12*(((Q300-S300)-MIN($Q$26:$Q$425-$S$26:$S$425)-(MAX($S$26:$S$425*(($Q$26:$Q$425-$S$26:$S$425)=MIN($Q$26:$Q$425-$S$26:$S$425)))-S300))+(MIN($Q$26:$Q$425-$S$26:$S$425)-$I$10)),0)/12)","v":""},"",{"$error":"#N/A"},17]
[276,null,null,null,null,null,null,null,null,{"$f":"SUM(IF(B301=\"\",0,INDEX(SignalHeads[Perp. Wind Area (sft)],MATCH(B301,SignalHeads[Code],0))),IF(D301=\"\",0,INDEX(SignalHeads[Perp. Wind Area (sft)],MATCH(D301,SignalHeads[Code],0))),IF(E301=\"\",0,INDEX(SignalHeads[Perp. Wind Area (sft)],MATCH(E301,SignalHeads[Code],0))),IF(F301=\"\",0,INDEX(SignalHeads[Perp. Wind Area (sft)],MATCH(F301,SignalHeads[Code],0))),IF(G301=\"\",0,INDEX(SignalHeads[Perp. Wind Area (sft)],MATCH(G301,SignalHeads[Code],0))),IF(H301=\"\",0,INDEX(SignalHeads[Perp. Wind Area (sft)],MATCH(H301,SignalHeads[Code],0))),IF(I301=\"\",0,INDEX(SignalHeads[Perp. Wind Area (sft)],MATCH(I301,SignalHeads[Code],0))))","v":0},{"$f":"SUM(IF(B301=\"\",0,INDEX(SignalHeads[Weight*** (lbs)],MATCH(B301,SignalHeads[Code],0))),IF(D301=\"\",0,INDEX(SignalHeads[Weight*** (lbs)],MATCH(D301,SignalHeads[Code],0))),IF(E301=\"\",0,INDEX(SignalHeads[Weight*** (lbs)],MATCH(E301,SignalHeads[Code],0))),IF(F301=\"\",0,INDEX(SignalHeads[Weight*** (lbs)],MATCH(F301,SignalHeads[Code],0))),IF(G301=\"\",0,INDEX(SignalHeads[Weight*** (lbs)],MATCH(G301,SignalHeads[Code],0))),IF(H301=\"\",0,INDEX(SignalHeads[Weight*** (lbs)],MATCH(H301,SignalHeads[Code],0))),IF(I301=\"\",0,INDEX(SignalHeads[Weight*** (lbs)],MATCH(I301,SignalHeads[Code],0))))","v":0},{"$f":"IF(A301<=$I$8,INDEX(DesignConstants[Value],MATCH(\"Span Wire Weight (plf)\",DesignConstants[Design Constant],0)),0)","v":1.155},0,318.20249999999999,{"$error":"#VALUE!"},{"$error":"#VALUE!"},{"$error":"#N/A"},{"$error":"#N/A"},{"$f":"SUM(IF(B301=\"\",0,INDEX(SignalHeads[Height ** (feet)],MATCH(B301,SignalHeads[Code],0))),IF(D301=\"\",0,INDEX(SignalHeads[Height ** (feet)],MATCH(D301,SignalHeads[Code],0))),IF(E301=\"\",0,INDEX(SignalHeads[Height ** (feet)],MATCH(E301,SignalHeads[Code],0))),IF(F301=\"\",0,INDEX(SignalHeads[Height ** (feet)],MATCH(F301,SignalHeads[Code],0))),IF(G301=\"\",0,INDEX(SignalHeads[Height ** (feet)],MATCH(G301,SignalHeads[Code],0))),IF(H301=\"\",0,INDEX(SignalHeads[Height ** (feet)],MATCH(H301,SignalHeads[Code],0))),IF(I301=\"\",0,INDEX(SignalHeads[Height ** (feet)],MATCH(I301,SignalHeads[Code],0))))","v":0},{"$f":"IF(S301=0,\"\",ROUNDDOWN(12*(((Q301-S301)-MIN($Q$26:$Q$425-$S$26:$S$425)-(MAX($S$26:$S$425*(($Q$26:$Q$425-$S$26:$S$425)=MIN($Q$26:$Q$425-$S$26:$S$425)))-S301))+(MIN($Q$26:$Q$425-$S$26:$S$425)-$I$10)),0)/12)","v":""},"",{"$error":"#N/A"},17]
[277,null,null,null,null,null,null,null,null,{"$f":"SUM(IF(B302=\"\",0,INDEX(SignalHeads[Perp. Wind Area (sft)],MATCH(B302,SignalHeads[Code],0))),IF(D302=\"\",0,INDEX(SignalHeads[Perp. Wind Area (sft)],MATCH(D302,SignalHeads[Code],0))),IF(E302=\"\",0,INDEX(SignalHeads[Perp. Wind Area (sft)],MATCH(E302,SignalHeads[Code],0))),IF(F302=\"\",0,INDEX(SignalHeads[Perp. Wind Area (sft)],MATCH(F302,SignalHeads[Code],0))),IF(G302=\"\",0,INDEX(SignalHeads[Perp. Wind Area (sft)],MATCH(G302,SignalHeads[Code],0))),IF(H302=\"\",0,INDEX(SignalHeads[Perp. Wind Area (sft)],MATCH(H302,SignalHeads[Code],0))),IF(I302=\"\",0,INDEX(SignalHeads[Perp. Wind Area (sft)],MATCH(I302,SignalHeads[Code],0))))","v":0},{"$f":"SUM(IF(B302=\"\",0,INDEX(SignalHeads[Weight*** (lbs)],MATCH(B302,SignalHeads[Code],0))),IF(D302=\"\",0,INDEX(SignalHeads[Weight*** (lbs)],MATCH(D302,SignalHeads[Code],0))),IF(E302=\"\",0,INDEX(SignalHeads[Weight*** (lbs)],MATCH(E302,SignalHeads[Code],0))),IF(F302=\"\",0,INDEX(SignalHeads[Weight*** (lbs)],MATCH(F302,SignalHeads[Code],0))),IF(G302=\"\",0,INDEX(SignalHeads[Weight*** (lbs)],MATCH(G302,SignalHeads[Code],0))),IF(H302=\"\",0,INDEX(SignalHeads[Weight*** (lbs)],MATCH(H302,SignalHeads[Code],0))),IF(I302=\"\",0,INDEX(SignalHeads[Weight*** (lbs)],MATCH(I302,SignalHeads[Code],0))))","v":0},{"$f":"IF(A302<=$I$8,INDEX(DesignConstants[Value],MATCH(\"Span Wire Weight (plf)\",DesignConstants[Design Constant],0)),0)","v":1.155},0,319.35750000000002,{"$error":"#VALUE!"},{"$error":"#VALUE!"},{"$error":"#N/A"},{"$error":"#N/A"},{"$f":"SUM(IF(B302=\"\",0,INDEX(SignalHeads[Height ** (feet)],MATCH(B302,SignalHeads[Code],0))),IF(D302=\"\",0,INDEX(SignalHeads[Height ** (feet)],MATCH(D302,SignalHeads[Code],0))),IF(E302=\"\",0,INDEX(SignalHeads[Height ** (feet)],MATCH(E302,SignalHeads[Code],0))),IF(F302=\"\",0,INDEX(SignalHeads[Height ** (feet)],MATCH(F302,SignalHeads[Code],0))),IF(G302=\"\",0,INDEX(SignalHeads[Height ** (feet)],MATCH(G302,SignalHeads[Code],0))),IF(H302=\"\",0,INDEX(SignalHeads[Height ** (feet)],MATCH(H302,SignalHeads[Code],0))),IF(I302=\"\",0,INDEX(SignalHeads[Height ** (feet)],MATCH(I302,SignalHeads[Code],0))))","v":0},{"$f":"IF(S302=0,\"\",ROUNDDOWN(12*(((Q302-S302)-MIN($Q$26:$Q$425-$S$26:$S$425)-(MAX($S$26:$S$425*(($Q$26:$Q$425-$S$26:$S$425)=MIN($Q$26:$Q$425-$S$26:$S$425)))-S302))+(MIN($Q$26:$Q$425-$S$26:$S$425)-$I$10)),0)/12)","v":""},"",{"$error":"#N/A"},17]
[278,null,null,null,null,null,null,null,null,{"$f":"SUM(IF(B303=\"\",0,INDEX(SignalHeads[Perp. Wind Area (sft)],MATCH(B303,SignalHeads[Code],0))),IF(D303=\"\",0,INDEX(SignalHeads[Perp. Wind Area (sft)],MATCH(D303,SignalHeads[Code],0))),IF(E303=\"\",0,INDEX(SignalHeads[Perp. Wind Area (sft)],MATCH(E303,SignalHeads[Code],0))),IF(F303=\"\",0,INDEX(SignalHeads[Perp. Wind Area (sft)],MATCH(F303,SignalHeads[Code],0))),IF(G303=\"\",0,INDEX(SignalHeads[Perp. Wind Area (sft)],MATCH(G303,SignalHeads[Code],0))),IF(H303=\"\",0,INDEX(SignalHeads[Perp. Wind Area (sft)],MATCH(H303,SignalHeads[Code],0))),IF(I303=\"\",0,INDEX(SignalHeads[Perp. Wind Area (sft)],MATCH(I303,SignalHeads[Code],0))))","v":0},{"$f":"SUM(IF(B303=\"\",0,INDEX(SignalHeads[Weight*** (lbs)],MATCH(B303,SignalHeads[Code],0))),IF(D303=\"\",0,INDEX(SignalHeads[Weight*** (lbs)],MATCH(D303,SignalHeads[Code],0))),IF(E303=\"\",0,INDEX(SignalHeads[Weight*** (lbs)],MATCH(E303,SignalHeads[Code],0))),IF(F303=\"\",0,INDEX(SignalHeads[Weight*** (lbs)],MATCH(F303,SignalHeads[Code],0))),IF(G303=\"\",0,INDEX(SignalHeads[Weight*** (lbs)],MATCH(G303,SignalHeads[Code],0))),IF(H303=\"\",0,INDEX(SignalHeads[Weight*** (lbs)],MATCH(H303,SignalHeads[Code],0))),IF(I303=\"\",0,INDEX(SignalHeads[Weight*** (lbs)],MATCH(I303,SignalHeads[Code],0))))","v":0},{"$f":"IF(A303<=$I$8,INDEX(DesignConstants[Value],MATCH(\"Span Wire Weight (plf)\",DesignConstants[Design Constant],0)),0)","v":1.155},0,320.51249999999999,{"$error":"#VALUE!"},{"$error":"#VALUE!"},{"$error":"#N/A"},{"$error":"#N/A"},{"$f":"SUM(IF(B303=\"\",0,INDEX(SignalHeads[Height ** (feet)],MATCH(B303,SignalHeads[Code],0))),IF(D303=\"\",0,INDEX(SignalHeads[Height ** (feet)],MATCH(D303,SignalHeads[Code],0))),IF(E303=\"\",0,INDEX(SignalHeads[Height ** (feet)],MATCH(E303,SignalHeads[Code],0))),IF(F303=\"\",0,INDEX(SignalHeads[Height ** (feet)],MATCH(F303,SignalHeads[Code],0))),IF(G303=\"\",0,INDEX(SignalHeads[Height ** (feet)],MATCH(G303,SignalHeads[Code],0))),IF(H303=\"\",0,INDEX(SignalHeads[Height ** (feet)],MATCH(H303,SignalHeads[Code],0))),IF(I303=\"\",0,INDEX(SignalHeads[Height ** (feet)],MATCH(I303,SignalHeads[Code],0))))","v":0},{"$f":"IF(S303=0,\"\",ROUNDDOWN(12*(((Q303-S303)-MIN($Q$26:$Q$425-$S$26:$S$425)-(MAX($S$26:$S$425*(($Q$26:$Q$425-$S$26:$S$425)=MIN($Q$26:$Q$425-$S$26:$S$425)))-S303))+(MIN($Q$26:$Q$425-$S$26:$S$425)-$I$10)),0)/12)","v":""},"",{"$error":"#N/A"},17]
[279,null,null,null,null,null,null,null,null,{"$f":"SUM(IF(B304=\"\",0,INDEX(SignalHeads[Perp. Wind Area (sft)],MATCH(B304,SignalHeads[Code],0))),IF(D304=\"\",0,INDEX(SignalHeads[Perp. Wind Area (sft)],MATCH(D304,SignalHeads[Code],0))),IF(E304=\"\",0,INDEX(SignalHeads[Perp. Wind Area (sft)],MATCH(E304,SignalHeads[Code],0))),IF(F304=\"\",0,INDEX(SignalHeads[Perp. Wind Area (sft)],MATCH(F304,SignalHeads[Code],0))),IF(G304=\"\",0,INDEX(SignalHeads[Perp. Wind Area (sft)],MATCH(G304,SignalHeads[Code],0))),IF(H304=\"\",0,INDEX(SignalHeads[Perp. Wind Area (sft)],MATCH(H304,SignalHeads[Code],0))),IF(I304=\"\",0,INDEX(SignalHeads[Perp. Wind Area (sft)],MATCH(I304,SignalHeads[Code],0))))","v":0},{"$f":"SUM(IF(B304=\"\",0,INDEX(SignalHeads[Weight*** (lbs)],MATCH(B304,SignalHeads[Code],0))),IF(D304=\"\",0,INDEX(SignalHeads[Weight*** (lbs)],MATCH(D304,SignalHeads[Code],0))),IF(E304=\"\",0,INDEX(SignalHeads[Weight*** (lbs)],MATCH(E304,SignalHeads[Code],0))),IF(F304=\"\",0,INDEX(SignalHeads[Weight*** (lbs)],MATCH(F304,SignalHeads[Code],0))),IF(G304=\"\",0,INDEX(SignalHeads[Weight*** (lbs)],MATCH(G304,SignalHeads[Code],0))),IF(H304=\"\",0,INDEX(SignalHeads[Weight*** (lbs)],MATCH(H304,SignalHeads[Code],0))),IF(I304=\"\",0,INDEX(SignalHeads[Weight*** (lbs)],MATCH(I304,SignalHeads[Code],0))))","v":0},{"$f":"IF(A304<=$I$8,INDEX(DesignConstants[Value],MATCH(\"Span Wire Weight (plf)\",DesignConstants[Design Constant],0)),0)","v":1.155},0,321.66750000000002,{"$error":"#VALUE!"},{"$error":"#VALUE!"},{"$error":"#N/A"},{"$error":"#N/A"},{"$f":"SUM(IF(B304=\"\",0,INDEX(SignalHeads[Height ** (feet)],MATCH(B304,SignalHeads[Code],0))),IF(D304=\"\",0,INDEX(SignalHeads[Height ** (feet)],MATCH(D304,SignalHeads[Code],0))),IF(E304=\"\",0,INDEX(SignalHeads[Height ** (feet)],MATCH(E304,SignalHeads[Code],0))),IF(F304=\"\",0,INDEX(SignalHeads[Height ** (feet)],MATCH(F304,SignalHeads[Code],0))),IF(G304=\"\",0,INDEX(SignalHeads[Height ** (feet)],MATCH(G304,SignalHeads[Code],0))),IF(H304=\"\",0,INDEX(SignalHeads[Height ** (feet)],MATCH(H304,SignalHeads[Code],0))),IF(I304=\"\",0,INDEX(SignalHeads[Height ** (feet)],MATCH(I304,SignalHeads[Code],0))))","v":0},{"$f":"IF(S304=0,\"\",ROUNDDOWN(12*(((Q304-S304)-MIN($Q$26:$Q$425-$S$26:$S$425)-(MAX($S$26:$S$425*(($Q$26:$Q$425-$S$26:$S$425)=MIN($Q$26:$Q$425-$S$26:$S$425)))-S304))+(MIN($Q$26:$Q$425-$S$26:$S$425)-$I$10)),0)/12)","v":""},"",{"$error":"#N/A"},17]
[280,null,null,null,null,null,null,null,null,{"$f":"SUM(IF(B305=\"\",0,INDEX(SignalHeads[Perp. Wind Area (sft)],MATCH(B305,SignalHeads[Code],0))),IF(D305=\"\",0,INDEX(SignalHeads[Perp. Wind Area (sft)],MATCH(D305,SignalHeads[Code],0))),IF(E305=\"\",0,INDEX(SignalHeads[Perp. Wind Area (sft)],MATCH(E305,SignalHeads[Code],0))),IF(F305=\"\",0,INDEX(SignalHeads[Perp. Wind Area (sft)],MATCH(F305,SignalHeads[Code],0))),IF(G305=\"\",0,INDEX(SignalHeads[Perp. Wind Area (sft)],MATCH(G305,SignalHeads[Code],0))),IF(H305=\"\",0,INDEX(SignalHeads[Perp. Wind Area (sft)],MATCH(H305,SignalHeads[Code],0))),IF(I305=\"\",0,INDEX(SignalHeads[Perp. Wind Area (sft)],MATCH(I305,SignalHeads[Code],0))))","v":0},{"$f":"SUM(IF(B305=\"\",0,INDEX(SignalHeads[Weight*** (lbs)],MATCH(B305,SignalHeads[Code],0))),IF(D305=\"\",0,INDEX(SignalHeads[Weight*** (lbs)],MATCH(D305,SignalHeads[Code],0))),IF(E305=\"\",0,INDEX(SignalHeads[Weight*** (lbs)],MATCH(E305,SignalHeads[Code],0))),IF(F305=\"\",0,INDEX(SignalHeads[Weight*** (lbs)],MATCH(F305,SignalHeads[Code],0))),IF(G305=\"\",0,INDEX(SignalHeads[Weight*** (lbs)],MATCH(G305,SignalHeads[Code],0))),IF(H305=\"\",0,INDEX(SignalHeads[Weight*** (lbs)],MATCH(H305,SignalHeads[Code],0))),IF(I305=\"\",0,INDEX(SignalHeads[Weight*** (lbs)],MATCH(I305,SignalHeads[Code],0))))","v":0},{"$f":"IF(A305<=$I$8,INDEX(DesignConstants[Value],MATCH(\"Span Wire Weight (plf)\",DesignConstants[Design Constant],0)),0)","v":1.155},0,322.82249999999999,{"$error":"#VALUE!"},{"$error":"#VALUE!"},{"$error":"#N/A"},{"$error":"#N/A"},{"$f":"SUM(IF(B305=\"\",0,INDEX(SignalHeads[Height ** (feet)],MATCH(B305,SignalHeads[Code],0))),IF(D305=\"\",0,INDEX(SignalHeads[Height ** (feet)],MATCH(D305,SignalHeads[Code],0))),IF(E305=\"\",0,INDEX(SignalHeads[Height ** (feet)],MATCH(E305,SignalHeads[Code],0))),IF(F305=\"\",0,INDEX(SignalHeads[Height ** (feet)],MATCH(F305,SignalHeads[Code],0))),IF(G305=\"\",0,INDEX(SignalHeads[Height ** (feet)],MATCH(G305,SignalHeads[Code],0))),IF(H305=\"\",0,INDEX(SignalHeads[Height ** (feet)],MATCH(H305,SignalHeads[Code],0))),IF(I305=\"\",0,INDEX(SignalHeads[Height ** (feet)],MATCH(I305,SignalHeads[Code],0))))","v":0},{"$f":"IF(S305=0,\"\",ROUNDDOWN(12*(((Q305-S305)-MIN($Q$26:$Q$425-$S$26:$S$425)-(MAX($S$26:$S$425*(($Q$26:$Q$425-$S$26:$S$425)=MIN($Q$26:$Q$425-$S$26:$S$425)))-S305))+(MIN($Q$26:$Q$425-$S$26:$S$425)-$I$10)),0)/12)","v":""},"",{"$error":"#N/A"},17]
[281,null,null,null,null,null,null,null,null,{"$f":"SUM(IF(B306=\"\",0,INDEX(SignalHeads[Perp. Wind Area (sft)],MATCH(B306,SignalHeads[Code],0))),IF(D306=\"\",0,INDEX(SignalHeads[Perp. Wind Area (sft)],MATCH(D306,SignalHeads[Code],0))),IF(E306=\"\",0,INDEX(SignalHeads[Perp. Wind Area (sft)],MATCH(E306,SignalHeads[Code],0))),IF(F306=\"\",0,INDEX(SignalHeads[Perp. Wind Area (sft)],MATCH(F306,SignalHeads[Code],0))),IF(G306=\"\",0,INDEX(SignalHeads[Perp. Wind Area (sft)],MATCH(G306,SignalHeads[Code],0))),IF(H306=\"\",0,INDEX(SignalHeads[Perp. Wind Area (sft)],MATCH(H306,SignalHeads[Code],0))),IF(I306=\"\",0,INDEX(SignalHeads[Perp. Wind Area (sft)],MATCH(I306,SignalHeads[Code],0))))","v":0},{"$f":"SUM(IF(B306=\"\",0,INDEX(SignalHeads[Weight*** (lbs)],MATCH(B306,SignalHeads[Code],0))),IF(D306=\"\",0,INDEX(SignalHeads[Weight*** (lbs)],MATCH(D306,SignalHeads[Code],0))),IF(E306=\"\",0,INDEX(SignalHeads[Weight*** (lbs)],MATCH(E306,SignalHeads[Code],0))),IF(F306=\"\",0,INDEX(SignalHeads[Weight*** (lbs)],MATCH(F306,SignalHeads[Code],0))),IF(G306=\"\",0,INDEX(SignalHeads[Weight*** (lbs)],MATCH(G306,SignalHeads[Code],0))),IF(H306=\"\",0,INDEX(SignalHeads[Weight*** (lbs)],MATCH(H306,SignalHeads[Code],0))),IF(I306=\"\",0,INDEX(SignalHeads[Weight*** (lbs)],MATCH(I306,SignalHeads[Code],0))))","v":0},{"$f":"IF(A306<=$I$8,INDEX(DesignConstants[Value],MATCH(\"Span Wire Weight (plf)\",DesignConstants[Design Constant],0)),0)","v":1.155},0,323.97750000000002,{"$error":"#VALUE!"},{"$error":"#VALUE!"},{"$error":"#N/A"},{"$error":"#N/A"},{"$f":"SUM(IF(B306=\"\",0,INDEX(SignalHeads[Height ** (feet)],MATCH(B306,SignalHeads[Code],0))),IF(D306=\"\",0,INDEX(SignalHeads[Height ** (feet)],MATCH(D306,SignalHeads[Code],0))),IF(E306=\"\",0,INDEX(SignalHeads[Height ** (feet)],MATCH(E306,SignalHeads[Code],0))),IF(F306=\"\",0,INDEX(SignalHeads[Height ** (feet)],MATCH(F306,SignalHeads[Code],0))),IF(G306=\"\",0,INDEX(SignalHeads[Height ** (feet)],MATCH(G306,SignalHeads[Code],0))),IF(H306=\"\",0,INDEX(SignalHeads[Height ** (feet)],MATCH(H306,SignalHeads[Code],0))),IF(I306=\"\",0,INDEX(SignalHeads[Height ** (feet)],MATCH(I306,SignalHeads[Code],0))))","v":0},{"$f":"IF(S306=0,\"\",ROUNDDOWN(12*(((Q306-S306)-MIN($Q$26:$Q$425-$S$26:$S$425)-(MAX($S$26:$S$425*(($Q$26:$Q$425-$S$26:$S$425)=MIN($Q$26:$Q$425-$S$26:$S$425)))-S306))+(MIN($Q$26:$Q$425-$S$26:$S$425)-$I$10)),0)/12)","v":""},"",{"$error":"#N/A"},17]
[282,null,null,null,null,null,null,null,null,{"$f":"SUM(IF(B307=\"\",0,INDEX(SignalHeads[Perp. Wind Area (sft)],MATCH(B307,SignalHeads[Code],0))),IF(D307=\"\",0,INDEX(SignalHeads[Perp. Wind Area (sft)],MATCH(D307,SignalHeads[Code],0))),IF(E307=\"\",0,INDEX(SignalHeads[Perp. Wind Area (sft)],MATCH(E307,SignalHeads[Code],0))),IF(F307=\"\",0,INDEX(SignalHeads[Perp. Wind Area (sft)],MATCH(F307,SignalHeads[Code],0))),IF(G307=\"\",0,INDEX(SignalHeads[Perp. Wind Area (sft)],MATCH(G307,SignalHeads[Code],0))),IF(H307=\"\",0,INDEX(SignalHeads[Perp. Wind Area (sft)],MATCH(H307,SignalHeads[Code],0))),IF(I307=\"\",0,INDEX(SignalHeads[Perp. Wind Area (sft)],MATCH(I307,SignalHeads[Code],0))))","v":0},{"$f":"SUM(IF(B307=\"\",0,INDEX(SignalHeads[Weight*** (lbs)],MATCH(B307,SignalHeads[Code],0))),IF(D307=\"\",0,INDEX(SignalHeads[Weight*** (lbs)],MATCH(D307,SignalHeads[Code],0))),IF(E307=\"\",0,INDEX(SignalHeads[Weight*** (lbs)],MATCH(E307,SignalHeads[Code],0))),IF(F307=\"\",0,INDEX(SignalHeads[Weight*** (lbs)],MATCH(F307,SignalHeads[Code],0))),IF(G307=\"\",0,INDEX(SignalHeads[Weight*** (lbs)],MATCH(G307,SignalHeads[Code],0))),IF(H307=\"\",0,INDEX(SignalHeads[Weight*** (lbs)],MATCH(H307,SignalHeads[Code],0))),IF(I307=\"\",0,INDEX(SignalHeads[Weight*** (lbs)],MATCH(I307,SignalHeads[Code],0))))","v":0},{"$f":"IF(A307<=$I$8,INDEX(DesignConstants[Value],MATCH(\"Span Wire Weight (plf)\",DesignConstants[Design Constant],0)),0)","v":1.155},0,325.13249999999999,{"$error":"#VALUE!"},{"$error":"#VALUE!"},{"$error":"#N/A"},{"$error":"#N/A"},{"$f":"SUM(IF(B307=\"\",0,INDEX(SignalHeads[Height ** (feet)],MATCH(B307,SignalHeads[Code],0))),IF(D307=\"\",0,INDEX(SignalHeads[Height ** (feet)],MATCH(D307,SignalHeads[Code],0))),IF(E307=\"\",0,INDEX(SignalHeads[Height ** (feet)],MATCH(E307,SignalHeads[Code],0))),IF(F307=\"\",0,INDEX(SignalHeads[Height ** (feet)],MATCH(F307,SignalHeads[Code],0))),IF(G307=\"\",0,INDEX(SignalHeads[Height ** (feet)],MATCH(G307,SignalHeads[Code],0))),IF(H307=\"\",0,INDEX(SignalHeads[Height ** (feet)],MATCH(H307,SignalHeads[Code],0))),IF(I307=\"\",0,INDEX(SignalHeads[Height ** (feet)],MATCH(I307,SignalHeads[Code],0))))","v":0},{"$f":"IF(S307=0,\"\",ROUNDDOWN(12*(((Q307-S307)-MIN($Q$26:$Q$425-$S$26:$S$425)-(MAX($S$26:$S$425*(($Q$26:$Q$425-$S$26:$S$425)=MIN($Q$26:$Q$425-$S$26:$S$425)))-S307))+(MIN($Q$26:$Q$425-$S$26:$S$425)-$I$10)),0)/12)","v":""},"",{"$error":"#N/A"},17]
[283,null,null,null,null,null,null,null,null,{"$f":"SUM(IF(B308=\"\",0,INDEX(SignalHeads[Perp. Wind Area (sft)],MATCH(B308,SignalHeads[Code],0))),IF(D308=\"\",0,INDEX(SignalHeads[Perp. Wind Area (sft)],MATCH(D308,SignalHeads[Code],0))),IF(E308=\"\",0,INDEX(SignalHeads[Perp. Wind Area (sft)],MATCH(E308,SignalHeads[Code],0))),IF(F308=\"\",0,INDEX(SignalHeads[Perp. Wind Area (sft)],MATCH(F308,SignalHeads[Code],0))),IF(G308=\"\",0,INDEX(SignalHeads[Perp. Wind Area (sft)],MATCH(G308,SignalHeads[Code],0))),IF(H308=\"\",0,INDEX(SignalHeads[Perp. Wind Area (sft)],MATCH(H308,SignalHeads[Code],0))),IF(I308=\"\",0,INDEX(SignalHeads[Perp. Wind Area (sft)],MATCH(I308,SignalHeads[Code],0))))","v":0},{"$f":"SUM(IF(B308=\"\",0,INDEX(SignalHeads[Weight*** (lbs)],MATCH(B308,SignalHeads[Code],0))),IF(D308=\"\",0,INDEX(SignalHeads[Weight*** (lbs)],MATCH(D308,SignalHeads[Code],0))),IF(E308=\"\",0,INDEX(SignalHeads[Weight*** (lbs)],MATCH(E308,SignalHeads[Code],0))),IF(F308=\"\",0,INDEX(SignalHeads[Weight*** (lbs)],MATCH(F308,SignalHeads[Code],0))),IF(G308=\"\",0,INDEX(SignalHeads[Weight*** (lbs)],MATCH(G308,SignalHeads[Code],0))),IF(H308=\"\",0,INDEX(SignalHeads[Weight*** (lbs)],MATCH(H308,SignalHeads[Code],0))),IF(I308=\"\",0,INDEX(SignalHeads[Weight*** (lbs)],MATCH(I308,SignalHeads[Code],0))))","v":0},{"$f":"IF(A308<=$I$8,INDEX(DesignConstants[Value],MATCH(\"Span Wire Weight (plf)\",DesignConstants[Design Constant],0)),0)","v":1.155},0,326.28750000000002,{"$error":"#VALUE!"},{"$error":"#VALUE!"},{"$error":"#N/A"},{"$error":"#N/A"},{"$f":"SUM(IF(B308=\"\",0,INDEX(SignalHeads[Height ** (feet)],MATCH(B308,SignalHeads[Code],0))),IF(D308=\"\",0,INDEX(SignalHeads[Height ** (feet)],MATCH(D308,SignalHeads[Code],0))),IF(E308=\"\",0,INDEX(SignalHeads[Height ** (feet)],MATCH(E308,SignalHeads[Code],0))),IF(F308=\"\",0,INDEX(SignalHeads[Height ** (feet)],MATCH(F308,SignalHeads[Code],0))),IF(G308=\"\",0,INDEX(SignalHeads[Height ** (feet)],MATCH(G308,SignalHeads[Code],0))),IF(H308=\"\",0,INDEX(SignalHeads[Height ** (feet)],MATCH(H308,SignalHeads[Code],0))),IF(I308=\"\",0,INDEX(SignalHeads[Height ** (feet)],MATCH(I308,SignalHeads[Code],0))))","v":0},{"$f":"IF(S308=0,\"\",ROUNDDOWN(12*(((Q308-S308)-MIN($Q$26:$Q$425-$S$26:$S$425)-(MAX($S$26:$S$425*(($Q$26:$Q$425-$S$26:$S$425)=MIN($Q$26:$Q$425-$S$26:$S$425)))-S308))+(MIN($Q$26:$Q$425-$S$26:$S$425)-$I$10)),0)/12)","v":""},"",{"$error":"#N/A"},17]
[284,null,null,null,null,null,null,null,null,{"$f":"SUM(IF(B309=\"\",0,INDEX(SignalHeads[Perp. Wind Area (sft)],MATCH(B309,SignalHeads[Code],0))),IF(D309=\"\",0,INDEX(SignalHeads[Perp. Wind Area (sft)],MATCH(D309,SignalHeads[Code],0))),IF(E309=\"\",0,INDEX(SignalHeads[Perp. Wind Area (sft)],MATCH(E309,SignalHeads[Code],0))),IF(F309=\"\",0,INDEX(SignalHeads[Perp. Wind Area (sft)],MATCH(F309,SignalHeads[Code],0))),IF(G309=\"\",0,INDEX(SignalHeads[Perp. Wind Area (sft)],MATCH(G309,SignalHeads[Code],0))),IF(H309=\"\",0,INDEX(SignalHeads[Perp. Wind Area (sft)],MATCH(H309,SignalHeads[Code],0))),IF(I309=\"\",0,INDEX(SignalHeads[Perp. Wind Area (sft)],MATCH(I309,SignalHeads[Code],0))))","v":0},{"$f":"SUM(IF(B309=\"\",0,INDEX(SignalHeads[Weight*** (lbs)],MATCH(B309,SignalHeads[Code],0))),IF(D309=\"\",0,INDEX(SignalHeads[Weight*** (lbs)],MATCH(D309,SignalHeads[Code],0))),IF(E309=\"\",0,INDEX(SignalHeads[Weight*** (lbs)],MATCH(E309,SignalHeads[Code],0))),IF(F309=\"\",0,INDEX(SignalHeads[Weight*** (lbs)],MATCH(F309,SignalHeads[Code],0))),IF(G309=\"\",0,INDEX(SignalHeads[Weight*** (lbs)],MATCH(G309,SignalHeads[Code],0))),IF(H309=\"\",0,INDEX(SignalHeads[Weight*** (lbs)],MATCH(H309,SignalHeads[Code],0))),IF(I309=\"\",0,INDEX(SignalHeads[Weight*** (lbs)],MATCH(I309,SignalHeads[Code],0))))","v":0},{"$f":"IF(A309<=$I$8,INDEX(DesignConstants[Value],MATCH(\"Span Wire Weight (plf)\",DesignConstants[Design Constant],0)),0)","v":1.155},0,327.4425,{"$error":"#VALUE!"},{"$error":"#VALUE!"},{"$error":"#N/A"},{"$error":"#N/A"},{"$f":"SUM(IF(B309=\"\",0,INDEX(SignalHeads[Height ** (feet)],MATCH(B309,SignalHeads[Code],0))),IF(D309=\"\",0,INDEX(SignalHeads[Height ** (feet)],MATCH(D309,SignalHeads[Code],0))),IF(E309=\"\",0,INDEX(SignalHeads[Height ** (feet)],MATCH(E309,SignalHeads[Code],0))),IF(F309=\"\",0,INDEX(SignalHeads[Height ** (feet)],MATCH(F309,SignalHeads[Code],0))),IF(G309=\"\",0,INDEX(SignalHeads[Height ** (feet)],MATCH(G309,SignalHeads[Code],0))),IF(H309=\"\",0,INDEX(SignalHeads[Height ** (feet)],MATCH(H309,SignalHeads[Code],0))),IF(I309=\"\",0,INDEX(SignalHeads[Height ** (feet)],MATCH(I309,SignalHeads[Code],0))))","v":0},{"$f":"IF(S309=0,\"\",ROUNDDOWN(12*(((Q309-S309)-MIN($Q$26:$Q$425-$S$26:$S$425)-(MAX($S$26:$S$425*(($Q$26:$Q$425-$S$26:$S$425)=MIN($Q$26:$Q$425-$S$26:$S$425)))-S309))+(MIN($Q$26:$Q$425-$S$26:$S$425)-$I$10)),0)/12)","v":""},"",{"$error":"#N/A"},17]
[285,null,null,null,null,null,null,null,null,{"$f":"SUM(IF(B310=\"\",0,INDEX(SignalHeads[Perp. Wind Area (sft)],MATCH(B310,SignalHeads[Code],0))),IF(D310=\"\",0,INDEX(SignalHeads[Perp. Wind Area (sft)],MATCH(D310,SignalHeads[Code],0))),IF(E310=\"\",0,INDEX(SignalHeads[Perp. Wind Area (sft)],MATCH(E310,SignalHeads[Code],0))),IF(F310=\"\",0,INDEX(SignalHeads[Perp. Wind Area (sft)],MATCH(F310,SignalHeads[Code],0))),IF(G310=\"\",0,INDEX(SignalHeads[Perp. Wind Area (sft)],MATCH(G310,SignalHeads[Code],0))),IF(H310=\"\",0,INDEX(SignalHeads[Perp. Wind Area (sft)],MATCH(H310,SignalHeads[Code],0))),IF(I310=\"\",0,INDEX(SignalHeads[Perp. Wind Area (sft)],MATCH(I310,SignalHeads[Code],0))))","v":0},{"$f":"SUM(IF(B310=\"\",0,INDEX(SignalHeads[Weight*** (lbs)],MATCH(B310,SignalHeads[Code],0))),IF(D310=\"\",0,INDEX(SignalHeads[Weight*** (lbs)],MATCH(D310,SignalHeads[Code],0))),IF(E310=\"\",0,INDEX(SignalHeads[Weight*** (lbs)],MATCH(E310,SignalHeads[Code],0))),IF(F310=\"\",0,INDEX(SignalHeads[Weight*** (lbs)],MATCH(F310,SignalHeads[Code],0))),IF(G310=\"\",0,INDEX(SignalHeads[Weight*** (lbs)],MATCH(G310,SignalHeads[Code],0))),IF(H310=\"\",0,INDEX(SignalHeads[Weight*** (lbs)],MATCH(H310,SignalHeads[Code],0))),IF(I310=\"\",0,INDEX(SignalHeads[Weight*** (lbs)],MATCH(I310,SignalHeads[Code],0))))","v":0},{"$f":"IF(A310<=$I$8,INDEX(DesignConstants[Value],MATCH(\"Span Wire Weight (plf)\",DesignConstants[Design Constant],0)),0)","v":1.155},0,328.59750000000003,{"$error":"#VALUE!"},{"$error":"#VALUE!"},{"$error":"#N/A"},{"$error":"#N/A"},{"$f":"SUM(IF(B310=\"\",0,INDEX(SignalHeads[Height ** (feet)],MATCH(B310,SignalHeads[Code],0))),IF(D310=\"\",0,INDEX(SignalHeads[Height ** (feet)],MATCH(D310,SignalHeads[Code],0))),IF(E310=\"\",0,INDEX(SignalHeads[Height ** (feet)],MATCH(E310,SignalHeads[Code],0))),IF(F310=\"\",0,INDEX(SignalHeads[Height ** (feet)],MATCH(F310,SignalHeads[Code],0))),IF(G310=\"\",0,INDEX(SignalHeads[Height ** (feet)],MATCH(G310,SignalHeads[Code],0))),IF(H310=\"\",0,INDEX(SignalHeads[Height ** (feet)],MATCH(H310,SignalHeads[Code],0))),IF(I310=\"\",0,INDEX(SignalHeads[Height ** (feet)],MATCH(I310,SignalHeads[Code],0))))","v":0},{"$f":"IF(S310=0,\"\",ROUNDDOWN(12*(((Q310-S310)-MIN($Q$26:$Q$425-$S$26:$S$425)-(MAX($S$26:$S$425*(($Q$26:$Q$425-$S$26:$S$425)=MIN($Q$26:$Q$425-$S$26:$S$425)))-S310))+(MIN($Q$26:$Q$425-$S$26:$S$425)-$I$10)),0)/12)","v":""},"",{"$error":"#N/A"},17]
[286,null,null,null,null,null,null,null,null,{"$f":"SUM(IF(B311=\"\",0,INDEX(SignalHeads[Perp. Wind Area (sft)],MATCH(B311,SignalHeads[Code],0))),IF(D311=\"\",0,INDEX(SignalHeads[Perp. Wind Area (sft)],MATCH(D311,SignalHeads[Code],0))),IF(E311=\"\",0,INDEX(SignalHeads[Perp. Wind Area (sft)],MATCH(E311,SignalHeads[Code],0))),IF(F311=\"\",0,INDEX(SignalHeads[Perp. Wind Area (sft)],MATCH(F311,SignalHeads[Code],0))),IF(G311=\"\",0,INDEX(SignalHeads[Perp. Wind Area (sft)],MATCH(G311,SignalHeads[Code],0))),IF(H311=\"\",0,INDEX(SignalHeads[Perp. Wind Area (sft)],MATCH(H311,SignalHeads[Code],0))),IF(I311=\"\",0,INDEX(SignalHeads[Perp. Wind Area (sft)],MATCH(I311,SignalHeads[Code],0))))","v":0},{"$f":"SUM(IF(B311=\"\",0,INDEX(SignalHeads[Weight*** (lbs)],MATCH(B311,SignalHeads[Code],0))),IF(D311=\"\",0,INDEX(SignalHeads[Weight*** (lbs)],MATCH(D311,SignalHeads[Code],0))),IF(E311=\"\",0,INDEX(SignalHeads[Weight*** (lbs)],MATCH(E311,SignalHeads[Code],0))),IF(F311=\"\",0,INDEX(SignalHeads[Weight*** (lbs)],MATCH(F311,SignalHeads[Code],0))),IF(G311=\"\",0,INDEX(SignalHeads[Weight*** (lbs)],MATCH(G311,SignalHeads[Code],0))),IF(H311=\"\",0,INDEX(SignalHeads[Weight*** (lbs)],MATCH(H311,SignalHeads[Code],0))),IF(I311=\"\",0,INDEX(SignalHeads[Weight*** (lbs)],MATCH(I311,SignalHeads[Code],0))))","v":0},{"$f":"IF(A311<=$I$8,INDEX(DesignConstants[Value],MATCH(\"Span Wire Weight (plf)\",DesignConstants[Design Constant],0)),0)","v":1.155},0,329.7525,{"$error":"#VALUE!"},{"$error":"#VALUE!"},{"$error":"#N/A"},{"$error":"#N/A"},{"$f":"SUM(IF(B311=\"\",0,INDEX(SignalHeads[Height ** (feet)],MATCH(B311,SignalHeads[Code],0))),IF(D311=\"\",0,INDEX(SignalHeads[Height ** (feet)],MATCH(D311,SignalHeads[Code],0))),IF(E311=\"\",0,INDEX(SignalHeads[Height ** (feet)],MATCH(E311,SignalHeads[Code],0))),IF(F311=\"\",0,INDEX(SignalHeads[Height ** (feet)],MATCH(F311,SignalHeads[Code],0))),IF(G311=\"\",0,INDEX(SignalHeads[Height ** (feet)],MATCH(G311,SignalHeads[Code],0))),IF(H311=\"\",0,INDEX(SignalHeads[Height ** (feet)],MATCH(H311,SignalHeads[Code],0))),IF(I311=\"\",0,INDEX(SignalHeads[Height ** (feet)],MATCH(I311,SignalHeads[Code],0))))","v":0},{"$f":"IF(S311=0,\"\",ROUNDDOWN(12*(((Q311-S311)-MIN($Q$26:$Q$425-$S$26:$S$425)-(MAX($S$26:$S$425*(($Q$26:$Q$425-$S$26:$S$425)=MIN($Q$26:$Q$425-$S$26:$S$425)))-S311))+(MIN($Q$26:$Q$425-$S$26:$S$425)-$I$10)),0)/12)","v":""},"",{"$error":"#N/A"},17]
[287,null,null,null,null,null,null,null,null,{"$f":"SUM(IF(B312=\"\",0,INDEX(SignalHeads[Perp. Wind Area (sft)],MATCH(B312,SignalHeads[Code],0))),IF(D312=\"\",0,INDEX(SignalHeads[Perp. Wind Area (sft)],MATCH(D312,SignalHeads[Code],0))),IF(E312=\"\",0,INDEX(SignalHeads[Perp. Wind Area (sft)],MATCH(E312,SignalHeads[Code],0))),IF(F312=\"\",0,INDEX(SignalHeads[Perp. Wind Area (sft)],MATCH(F312,SignalHeads[Code],0))),IF(G312=\"\",0,INDEX(SignalHeads[Perp. Wind Area (sft)],MATCH(G312,SignalHeads[Code],0))),IF(H312=\"\",0,INDEX(SignalHeads[Perp. Wind Area (sft)],MATCH(H312,SignalHeads[Code],0))),IF(I312=\"\",0,INDEX(SignalHeads[Perp. Wind Area (sft)],MATCH(I312,SignalHeads[Code],0))))","v":0},{"$f":"SUM(IF(B312=\"\",0,INDEX(SignalHeads[Weight*** (lbs)],MATCH(B312,SignalHeads[Code],0))),IF(D312=\"\",0,INDEX(SignalHeads[Weight*** (lbs)],MATCH(D312,SignalHeads[Code],0))),IF(E312=\"\",0,INDEX(SignalHeads[Weight*** (lbs)],MATCH(E312,SignalHeads[Code],0))),IF(F312=\"\",0,INDEX(SignalHeads[Weight*** (lbs)],MATCH(F312,SignalHeads[Code],0))),IF(G312=\"\",0,INDEX(SignalHeads[Weight*** (lbs)],MATCH(G312,SignalHeads[Code],0))),IF(H312=\"\",0,INDEX(SignalHeads[Weight*** (lbs)],MATCH(H312,SignalHeads[Code],0))),IF(I312=\"\",0,INDEX(SignalHeads[Weight*** (lbs)],MATCH(I312,SignalHeads[Code],0))))","v":0},{"$f":"IF(A312<=$I$8,INDEX(DesignConstants[Value],MATCH(\"Span Wire Weight (plf)\",DesignConstants[Design Constant],0)),0)","v":1.155},0,330.90750000000003,{"$error":"#VALUE!"},{"$error":"#VALUE!"},{"$error":"#N/A"},{"$error":"#N/A"},{"$f":"SUM(IF(B312=\"\",0,INDEX(SignalHeads[Height ** (feet)],MATCH(B312,SignalHeads[Code],0))),IF(D312=\"\",0,INDEX(SignalHeads[Height ** (feet)],MATCH(D312,SignalHeads[Code],0))),IF(E312=\"\",0,INDEX(SignalHeads[Height ** (feet)],MATCH(E312,SignalHeads[Code],0))),IF(F312=\"\",0,INDEX(SignalHeads[Height ** (feet)],MATCH(F312,SignalHeads[Code],0))),IF(G312=\"\",0,INDEX(SignalHeads[Height ** (feet)],MATCH(G312,SignalHeads[Code],0))),IF(H312=\"\",0,INDEX(SignalHeads[Height ** (feet)],MATCH(H312,SignalHeads[Code],0))),IF(I312=\"\",0,INDEX(SignalHeads[Height ** (feet)],MATCH(I312,SignalHeads[Code],0))))","v":0},{"$f":"IF(S312=0,\"\",ROUNDDOWN(12*(((Q312-S312)-MIN($Q$26:$Q$425-$S$26:$S$425)-(MAX($S$26:$S$425*(($Q$26:$Q$425-$S$26:$S$425)=MIN($Q$26:$Q$425-$S$26:$S$425)))-S312))+(MIN($Q$26:$Q$425-$S$26:$S$425)-$I$10)),0)/12)","v":""},"",{"$error":"#N/A"},17]
[288,null,null,null,null,null,null,null,null,{"$f":"SUM(IF(B313=\"\",0,INDEX(SignalHeads[Perp. Wind Area (sft)],MATCH(B313,SignalHeads[Code],0))),IF(D313=\"\",0,INDEX(SignalHeads[Perp. Wind Area (sft)],MATCH(D313,SignalHeads[Code],0))),IF(E313=\"\",0,INDEX(SignalHeads[Perp. Wind Area (sft)],MATCH(E313,SignalHeads[Code],0))),IF(F313=\"\",0,INDEX(SignalHeads[Perp. Wind Area (sft)],MATCH(F313,SignalHeads[Code],0))),IF(G313=\"\",0,INDEX(SignalHeads[Perp. Wind Area (sft)],MATCH(G313,SignalHeads[Code],0))),IF(H313=\"\",0,INDEX(SignalHeads[Perp. Wind Area (sft)],MATCH(H313,SignalHeads[Code],0))),IF(I313=\"\",0,INDEX(SignalHeads[Perp. Wind Area (sft)],MATCH(I313,SignalHeads[Code],0))))","v":0},{"$f":"SUM(IF(B313=\"\",0,INDEX(SignalHeads[Weight*** (lbs)],MATCH(B313,SignalHeads[Code],0))),IF(D313=\"\",0,INDEX(SignalHeads[Weight*** (lbs)],MATCH(D313,SignalHeads[Code],0))),IF(E313=\"\",0,INDEX(SignalHeads[Weight*** (lbs)],MATCH(E313,SignalHeads[Code],0))),IF(F313=\"\",0,INDEX(SignalHeads[Weight*** (lbs)],MATCH(F313,SignalHeads[Code],0))),IF(G313=\"\",0,INDEX(SignalHeads[Weight*** (lbs)],MATCH(G313,SignalHeads[Code],0))),IF(H313=\"\",0,INDEX(SignalHeads[Weight*** (lbs)],MATCH(H313,SignalHeads[Code],0))),IF(I313=\"\",0,INDEX(SignalHeads[Weight*** (lbs)],MATCH(I313,SignalHeads[Code],0))))","v":0},{"$f":"IF(A313<=$I$8,INDEX(DesignConstants[Value],MATCH(\"Span Wire Weight (plf)\",DesignConstants[Design Constant],0)),0)","v":1.155},0,332.0625,{"$error":"#VALUE!"},{"$error":"#VALUE!"},{"$error":"#N/A"},{"$error":"#N/A"},{"$f":"SUM(IF(B313=\"\",0,INDEX(SignalHeads[Height ** (feet)],MATCH(B313,SignalHeads[Code],0))),IF(D313=\"\",0,INDEX(SignalHeads[Height ** (feet)],MATCH(D313,SignalHeads[Code],0))),IF(E313=\"\",0,INDEX(SignalHeads[Height ** (feet)],MATCH(E313,SignalHeads[Code],0))),IF(F313=\"\",0,INDEX(SignalHeads[Height ** (feet)],MATCH(F313,SignalHeads[Code],0))),IF(G313=\"\",0,INDEX(SignalHeads[Height ** (feet)],MATCH(G313,SignalHeads[Code],0))),IF(H313=\"\",0,INDEX(SignalHeads[Height ** (feet)],MATCH(H313,SignalHeads[Code],0))),IF(I313=\"\",0,INDEX(SignalHeads[Height ** (feet)],MATCH(I313,SignalHeads[Code],0))))","v":0},{"$f":"IF(S313=0,\"\",ROUNDDOWN(12*(((Q313-S313)-MIN($Q$26:$Q$425-$S$26:$S$425)-(MAX($S$26:$S$425*(($Q$26:$Q$425-$S$26:$S$425)=MIN($Q$26:$Q$425-$S$26:$S$425)))-S313))+(MIN($Q$26:$Q$425-$S$26:$S$425)-$I$10)),0)/12)","v":""},"",{"$error":"#N/A"},17]
[289,null,null,null,null,null,null,null,null,{"$f":"SUM(IF(B314=\"\",0,INDEX(SignalHeads[Perp. Wind Area (sft)],MATCH(B314,SignalHeads[Code],0))),IF(D314=\"\",0,INDEX(SignalHeads[Perp. Wind Area (sft)],MATCH(D314,SignalHeads[Code],0))),IF(E314=\"\",0,INDEX(SignalHeads[Perp. Wind Area (sft)],MATCH(E314,SignalHeads[Code],0))),IF(F314=\"\",0,INDEX(SignalHeads[Perp. Wind Area (sft)],MATCH(F314,SignalHeads[Code],0))),IF(G314=\"\",0,INDEX(SignalHeads[Perp. Wind Area (sft)],MATCH(G314,SignalHeads[Code],0))),IF(H314=\"\",0,INDEX(SignalHeads[Perp. Wind Area (sft)],MATCH(H314,SignalHeads[Code],0))),IF(I314=\"\",0,INDEX(SignalHeads[Perp. Wind Area (sft)],MATCH(I314,SignalHeads[Code],0))))","v":0},{"$f":"SUM(IF(B314=\"\",0,INDEX(SignalHeads[Weight*** (lbs)],MATCH(B314,SignalHeads[Code],0))),IF(D314=\"\",0,INDEX(SignalHeads[Weight*** (lbs)],MATCH(D314,SignalHeads[Code],0))),IF(E314=\"\",0,INDEX(SignalHeads[Weight*** (lbs)],MATCH(E314,SignalHeads[Code],0))),IF(F314=\"\",0,INDEX(SignalHeads[Weight*** (lbs)],MATCH(F314,SignalHeads[Code],0))),IF(G314=\"\",0,INDEX(SignalHeads[Weight*** (lbs)],MATCH(G314,SignalHeads[Code],0))),IF(H314=\"\",0,INDEX(SignalHeads[Weight*** (lbs)],MATCH(H314,SignalHeads[Code],0))),IF(I314=\"\",0,INDEX(SignalHeads[Weight*** (lbs)],MATCH(I314,SignalHeads[Code],0))))","v":0},{"$f":"IF(A314<=$I$8,INDEX(DesignConstants[Value],MATCH(\"Span Wire Weight (plf)\",DesignConstants[Design Constant],0)),0)","v":1.155},0,333.21750000000003,{"$error":"#VALUE!"},{"$error":"#VALUE!"},{"$error":"#N/A"},{"$error":"#N/A"},{"$f":"SUM(IF(B314=\"\",0,INDEX(SignalHeads[Height ** (feet)],MATCH(B314,SignalHeads[Code],0))),IF(D314=\"\",0,INDEX(SignalHeads[Height ** (feet)],MATCH(D314,SignalHeads[Code],0))),IF(E314=\"\",0,INDEX(SignalHeads[Height ** (feet)],MATCH(E314,SignalHeads[Code],0))),IF(F314=\"\",0,INDEX(SignalHeads[Height ** (feet)],MATCH(F314,SignalHeads[Code],0))),IF(G314=\"\",0,INDEX(SignalHeads[Height ** (feet)],MATCH(G314,SignalHeads[Code],0))),IF(H314=\"\",0,INDEX(SignalHeads[Height ** (feet)],MATCH(H314,SignalHeads[Code],0))),IF(I314=\"\",0,INDEX(SignalHeads[Height ** (feet)],MATCH(I314,SignalHeads[Code],0))))","v":0},{"$f":"IF(S314=0,\"\",ROUNDDOWN(12*(((Q314-S314)-MIN($Q$26:$Q$425-$S$26:$S$425)-(MAX($S$26:$S$425*(($Q$26:$Q$425-$S$26:$S$425)=MIN($Q$26:$Q$425-$S$26:$S$425)))-S314))+(MIN($Q$26:$Q$425-$S$26:$S$425)-$I$10)),0)/12)","v":""},"",{"$error":"#N/A"},17]
[290,null,null,null,null,null,null,null,null,{"$f":"SUM(IF(B315=\"\",0,INDEX(SignalHeads[Perp. Wind Area (sft)],MATCH(B315,SignalHeads[Code],0))),IF(D315=\"\",0,INDEX(SignalHeads[Perp. Wind Area (sft)],MATCH(D315,SignalHeads[Code],0))),IF(E315=\"\",0,INDEX(SignalHeads[Perp. Wind Area (sft)],MATCH(E315,SignalHeads[Code],0))),IF(F315=\"\",0,INDEX(SignalHeads[Perp. Wind Area (sft)],MATCH(F315,SignalHeads[Code],0))),IF(G315=\"\",0,INDEX(SignalHeads[Perp. Wind Area (sft)],MATCH(G315,SignalHeads[Code],0))),IF(H315=\"\",0,INDEX(SignalHeads[Perp. Wind Area (sft)],MATCH(H315,SignalHeads[Code],0))),IF(I315=\"\",0,INDEX(SignalHeads[Perp. Wind Area (sft)],MATCH(I315,SignalHeads[Code],0))))","v":0},{"$f":"SUM(IF(B315=\"\",0,INDEX(SignalHeads[Weight*** (lbs)],MATCH(B315,SignalHeads[Code],0))),IF(D315=\"\",0,INDEX(SignalHeads[Weight*** (lbs)],MATCH(D315,SignalHeads[Code],0))),IF(E315=\"\",0,INDEX(SignalHeads[Weight*** (lbs)],MATCH(E315,SignalHeads[Code],0))),IF(F315=\"\",0,INDEX(SignalHeads[Weight*** (lbs)],MATCH(F315,SignalHeads[Code],0))),IF(G315=\"\",0,INDEX(SignalHeads[Weight*** (lbs)],MATCH(G315,SignalHeads[Code],0))),IF(H315=\"\",0,INDEX(SignalHeads[Weight*** (lbs)],MATCH(H315,SignalHeads[Code],0))),IF(I315=\"\",0,INDEX(SignalHeads[Weight*** (lbs)],MATCH(I315,SignalHeads[Code],0))))","v":0},{"$f":"IF(A315<=$I$8,INDEX(DesignConstants[Value],MATCH(\"Span Wire Weight (plf)\",DesignConstants[Design Constant],0)),0)","v":1.155},0,334.3725,{"$error":"#VALUE!"},{"$error":"#VALUE!"},{"$error":"#N/A"},{"$error":"#N/A"},{"$f":"SUM(IF(B315=\"\",0,INDEX(SignalHeads[Height ** (feet)],MATCH(B315,SignalHeads[Code],0))),IF(D315=\"\",0,INDEX(SignalHeads[Height ** (feet)],MATCH(D315,SignalHeads[Code],0))),IF(E315=\"\",0,INDEX(SignalHeads[Height ** (feet)],MATCH(E315,SignalHeads[Code],0))),IF(F315=\"\",0,INDEX(SignalHeads[Height ** (feet)],MATCH(F315,SignalHeads[Code],0))),IF(G315=\"\",0,INDEX(SignalHeads[Height ** (feet)],MATCH(G315,SignalHeads[Code],0))),IF(H315=\"\",0,INDEX(SignalHeads[Height ** (feet)],MATCH(H315,SignalHeads[Code],0))),IF(I315=\"\",0,INDEX(SignalHeads[Height ** (feet)],MATCH(I315,SignalHeads[Code],0))))","v":0},{"$f":"IF(S315=0,\"\",ROUNDDOWN(12*(((Q315-S315)-MIN($Q$26:$Q$425-$S$26:$S$425)-(MAX($S$26:$S$425*(($Q$26:$Q$425-$S$26:$S$425)=MIN($Q$26:$Q$425-$S$26:$S$425)))-S315))+(MIN($Q$26:$Q$425-$S$26:$S$425)-$I$10)),0)/12)","v":""},"",{"$error":"#N/A"},17]
[291,null,null,null,null,null,null,null,null,{"$f":"SUM(IF(B316=\"\",0,INDEX(SignalHeads[Perp. Wind Area (sft)],MATCH(B316,SignalHeads[Code],0))),IF(D316=\"\",0,INDEX(SignalHeads[Perp. Wind Area (sft)],MATCH(D316,SignalHeads[Code],0))),IF(E316=\"\",0,INDEX(SignalHeads[Perp. Wind Area (sft)],MATCH(E316,SignalHeads[Code],0))),IF(F316=\"\",0,INDEX(SignalHeads[Perp. Wind Area (sft)],MATCH(F316,SignalHeads[Code],0))),IF(G316=\"\",0,INDEX(SignalHeads[Perp. Wind Area (sft)],MATCH(G316,SignalHeads[Code],0))),IF(H316=\"\",0,INDEX(SignalHeads[Perp. Wind Area (sft)],MATCH(H316,SignalHeads[Code],0))),IF(I316=\"\",0,INDEX(SignalHeads[Perp. Wind Area (sft)],MATCH(I316,SignalHeads[Code],0))))","v":0},{"$f":"SUM(IF(B316=\"\",0,INDEX(SignalHeads[Weight*** (lbs)],MATCH(B316,SignalHeads[Code],0))),IF(D316=\"\",0,INDEX(SignalHeads[Weight*** (lbs)],MATCH(D316,SignalHeads[Code],0))),IF(E316=\"\",0,INDEX(SignalHeads[Weight*** (lbs)],MATCH(E316,SignalHeads[Code],0))),IF(F316=\"\",0,INDEX(SignalHeads[Weight*** (lbs)],MATCH(F316,SignalHeads[Code],0))),IF(G316=\"\",0,INDEX(SignalHeads[Weight*** (lbs)],MATCH(G316,SignalHeads[Code],0))),IF(H316=\"\",0,INDEX(SignalHeads[Weight*** (lbs)],MATCH(H316,SignalHeads[Code],0))),IF(I316=\"\",0,INDEX(SignalHeads[Weight*** (lbs)],MATCH(I316,SignalHeads[Code],0))))","v":0},{"$f":"IF(A316<=$I$8,INDEX(DesignConstants[Value],MATCH(\"Span Wire Weight (plf)\",DesignConstants[Design Constant],0)),0)","v":1.155},0,335.52750000000003,{"$error":"#VALUE!"},{"$error":"#VALUE!"},{"$error":"#N/A"},{"$error":"#N/A"},{"$f":"SUM(IF(B316=\"\",0,INDEX(SignalHeads[Height ** (feet)],MATCH(B316,SignalHeads[Code],0))),IF(D316=\"\",0,INDEX(SignalHeads[Height ** (feet)],MATCH(D316,SignalHeads[Code],0))),IF(E316=\"\",0,INDEX(SignalHeads[Height ** (feet)],MATCH(E316,SignalHeads[Code],0))),IF(F316=\"\",0,INDEX(SignalHeads[Height ** (feet)],MATCH(F316,SignalHeads[Code],0))),IF(G316=\"\",0,INDEX(SignalHeads[Height ** (feet)],MATCH(G316,SignalHeads[Code],0))),IF(H316=\"\",0,INDEX(SignalHeads[Height ** (feet)],MATCH(H316,SignalHeads[Code],0))),IF(I316=\"\",0,INDEX(SignalHeads[Height ** (feet)],MATCH(I316,SignalHeads[Code],0))))","v":0},{"$f":"IF(S316=0,\"\",ROUNDDOWN(12*(((Q316-S316)-MIN($Q$26:$Q$425-$S$26:$S$425)-(MAX($S$26:$S$425*(($Q$26:$Q$425-$S$26:$S$425)=MIN($Q$26:$Q$425-$S$26:$S$425)))-S316))+(MIN($Q$26:$Q$425-$S$26:$S$425)-$I$10)),0)/12)","v":""},"",{"$error":"#N/A"},17]
[292,null,null,null,null,null,null,null,null,{"$f":"SUM(IF(B317=\"\",0,INDEX(SignalHeads[Perp. Wind Area (sft)],MATCH(B317,SignalHeads[Code],0))),IF(D317=\"\",0,INDEX(SignalHeads[Perp. Wind Area (sft)],MATCH(D317,SignalHeads[Code],0))),IF(E317=\"\",0,INDEX(SignalHeads[Perp. Wind Area (sft)],MATCH(E317,SignalHeads[Code],0))),IF(F317=\"\",0,INDEX(SignalHeads[Perp. Wind Area (sft)],MATCH(F317,SignalHeads[Code],0))),IF(G317=\"\",0,INDEX(SignalHeads[Perp. Wind Area (sft)],MATCH(G317,SignalHeads[Code],0))),IF(H317=\"\",0,INDEX(SignalHeads[Perp. Wind Area (sft)],MATCH(H317,SignalHeads[Code],0))),IF(I317=\"\",0,INDEX(SignalHeads[Perp. Wind Area (sft)],MATCH(I317,SignalHeads[Code],0))))","v":0},{"$f":"SUM(IF(B317=\"\",0,INDEX(SignalHeads[Weight*** (lbs)],MATCH(B317,SignalHeads[Code],0))),IF(D317=\"\",0,INDEX(SignalHeads[Weight*** (lbs)],MATCH(D317,SignalHeads[Code],0))),IF(E317=\"\",0,INDEX(SignalHeads[Weight*** (lbs)],MATCH(E317,SignalHeads[Code],0))),IF(F317=\"\",0,INDEX(SignalHeads[Weight*** (lbs)],MATCH(F317,SignalHeads[Code],0))),IF(G317=\"\",0,INDEX(SignalHeads[Weight*** (lbs)],MATCH(G317,SignalHeads[Code],0))),IF(H317=\"\",0,INDEX(SignalHeads[Weight*** (lbs)],MATCH(H317,SignalHeads[Code],0))),IF(I317=\"\",0,INDEX(SignalHeads[Weight*** (lbs)],MATCH(I317,SignalHeads[Code],0))))","v":0},{"$f":"IF(A317<=$I$8,INDEX(DesignConstants[Value],MATCH(\"Span Wire Weight (plf)\",DesignConstants[Design Constant],0)),0)","v":1.155},0,336.6825,{"$error":"#VALUE!"},{"$error":"#VALUE!"},{"$error":"#N/A"},{"$error":"#N/A"},{"$f":"SUM(IF(B317=\"\",0,INDEX(SignalHeads[Height ** (feet)],MATCH(B317,SignalHeads[Code],0))),IF(D317=\"\",0,INDEX(SignalHeads[Height ** (feet)],MATCH(D317,SignalHeads[Code],0))),IF(E317=\"\",0,INDEX(SignalHeads[Height ** (feet)],MATCH(E317,SignalHeads[Code],0))),IF(F317=\"\",0,INDEX(SignalHeads[Height ** (feet)],MATCH(F317,SignalHeads[Code],0))),IF(G317=\"\",0,INDEX(SignalHeads[Height ** (feet)],MATCH(G317,SignalHeads[Code],0))),IF(H317=\"\",0,INDEX(SignalHeads[Height ** (feet)],MATCH(H317,SignalHeads[Code],0))),IF(I317=\"\",0,INDEX(SignalHeads[Height ** (feet)],MATCH(I317,SignalHeads[Code],0))))","v":0},{"$f":"IF(S317=0,\"\",ROUNDDOWN(12*(((Q317-S317)-MIN($Q$26:$Q$425-$S$26:$S$425)-(MAX($S$26:$S$425*(($Q$26:$Q$425-$S$26:$S$425)=MIN($Q$26:$Q$425-$S$26:$S$425)))-S317))+(MIN($Q$26:$Q$425-$S$26:$S$425)-$I$10)),0)/12)","v":""},"",{"$error":"#N/A"},17]
[293,null,null,null,null,null,null,null,null,{"$f":"SUM(IF(B318=\"\",0,INDEX(SignalHeads[Perp. Wind Area (sft)],MATCH(B318,SignalHeads[Code],0))),IF(D318=\"\",0,INDEX(SignalHeads[Perp. Wind Area (sft)],MATCH(D318,SignalHeads[Code],0))),IF(E318=\"\",0,INDEX(SignalHeads[Perp. Wind Area (sft)],MATCH(E318,SignalHeads[Code],0))),IF(F318=\"\",0,INDEX(SignalHeads[Perp. Wind Area (sft)],MATCH(F318,SignalHeads[Code],0))),IF(G318=\"\",0,INDEX(SignalHeads[Perp. Wind Area (sft)],MATCH(G318,SignalHeads[Code],0))),IF(H318=\"\",0,INDEX(SignalHeads[Perp. Wind Area (sft)],MATCH(H318,SignalHeads[Code],0))),IF(I318=\"\",0,INDEX(SignalHeads[Perp. Wind Area (sft)],MATCH(I318,SignalHeads[Code],0))))","v":0},{"$f":"SUM(IF(B318=\"\",0,INDEX(SignalHeads[Weight*** (lbs)],MATCH(B318,SignalHeads[Code],0))),IF(D318=\"\",0,INDEX(SignalHeads[Weight*** (lbs)],MATCH(D318,SignalHeads[Code],0))),IF(E318=\"\",0,INDEX(SignalHeads[Weight*** (lbs)],MATCH(E318,SignalHeads[Code],0))),IF(F318=\"\",0,INDEX(SignalHeads[Weight*** (lbs)],MATCH(F318,SignalHeads[Code],0))),IF(G318=\"\",0,INDEX(SignalHeads[Weight*** (lbs)],MATCH(G318,SignalHeads[Code],0))),IF(H318=\"\",0,INDEX(SignalHeads[Weight*** (lbs)],MATCH(H318,SignalHeads[Code],0))),IF(I318=\"\",0,INDEX(SignalHeads[Weight*** (lbs)],MATCH(I318,SignalHeads[Code],0))))","v":0},{"$f":"IF(A318<=$I$8,INDEX(DesignConstants[Value],MATCH(\"Span Wire Weight (plf)\",DesignConstants[Design Constant],0)),0)","v":1.155},0,337.83750000000003,{"$error":"#VALUE!"},{"$error":"#VALUE!"},{"$error":"#N/A"},{"$error":"#N/A"},{"$f":"SUM(IF(B318=\"\",0,INDEX(SignalHeads[Height ** (feet)],MATCH(B318,SignalHeads[Code],0))),IF(D318=\"\",0,INDEX(SignalHeads[Height ** (feet)],MATCH(D318,SignalHeads[Code],0))),IF(E318=\"\",0,INDEX(SignalHeads[Height ** (feet)],MATCH(E318,SignalHeads[Code],0))),IF(F318=\"\",0,INDEX(SignalHeads[Height ** (feet)],MATCH(F318,SignalHeads[Code],0))),IF(G318=\"\",0,INDEX(SignalHeads[Height ** (feet)],MATCH(G318,SignalHeads[Code],0))),IF(H318=\"\",0,INDEX(SignalHeads[Height ** (feet)],MATCH(H318,SignalHeads[Code],0))),IF(I318=\"\",0,INDEX(SignalHeads[Height ** (feet)],MATCH(I318,SignalHeads[Code],0))))","v":0},{"$f":"IF(S318=0,\"\",ROUNDDOWN(12*(((Q318-S318)-MIN($Q$26:$Q$425-$S$26:$S$425)-(MAX($S$26:$S$425*(($Q$26:$Q$425-$S$26:$S$425)=MIN($Q$26:$Q$425-$S$26:$S$425)))-S318))+(MIN($Q$26:$Q$425-$S$26:$S$425)-$I$10)),0)/12)","v":""},"",{"$error":"#N/A"},17]
[294,null,null,null,null,null,null,null,null,{"$f":"SUM(IF(B319=\"\",0,INDEX(SignalHeads[Perp. Wind Area (sft)],MATCH(B319,SignalHeads[Code],0))),IF(D319=\"\",0,INDEX(SignalHeads[Perp. Wind Area (sft)],MATCH(D319,SignalHeads[Code],0))),IF(E319=\"\",0,INDEX(SignalHeads[Perp. Wind Area (sft)],MATCH(E319,SignalHeads[Code],0))),IF(F319=\"\",0,INDEX(SignalHeads[Perp. Wind Area (sft)],MATCH(F319,SignalHeads[Code],0))),IF(G319=\"\",0,INDEX(SignalHeads[Perp. Wind Area (sft)],MATCH(G319,SignalHeads[Code],0))),IF(H319=\"\",0,INDEX(SignalHeads[Perp. Wind Area (sft)],MATCH(H319,SignalHeads[Code],0))),IF(I319=\"\",0,INDEX(SignalHeads[Perp. Wind Area (sft)],MATCH(I319,SignalHeads[Code],0))))","v":0},{"$f":"SUM(IF(B319=\"\",0,INDEX(SignalHeads[Weight*** (lbs)],MATCH(B319,SignalHeads[Code],0))),IF(D319=\"\",0,INDEX(SignalHeads[Weight*** (lbs)],MATCH(D319,SignalHeads[Code],0))),IF(E319=\"\",0,INDEX(SignalHeads[Weight*** (lbs)],MATCH(E319,SignalHeads[Code],0))),IF(F319=\"\",0,INDEX(SignalHeads[Weight*** (lbs)],MATCH(F319,SignalHeads[Code],0))),IF(G319=\"\",0,INDEX(SignalHeads[Weight*** (lbs)],MATCH(G319,SignalHeads[Code],0))),IF(H319=\"\",0,INDEX(SignalHeads[Weight*** (lbs)],MATCH(H319,SignalHeads[Code],0))),IF(I319=\"\",0,INDEX(SignalHeads[Weight*** (lbs)],MATCH(I319,SignalHeads[Code],0))))","v":0},{"$f":"IF(A319<=$I$8,INDEX(DesignConstants[Value],MATCH(\"Span Wire Weight (plf)\",DesignConstants[Design Constant],0)),0)","v":1.155},0,338.99250000000001,{"$error":"#VALUE!"},{"$error":"#VALUE!"},{"$error":"#N/A"},{"$error":"#N/A"},{"$f":"SUM(IF(B319=\"\",0,INDEX(SignalHeads[Height ** (feet)],MATCH(B319,SignalHeads[Code],0))),IF(D319=\"\",0,INDEX(SignalHeads[Height ** (feet)],MATCH(D319,SignalHeads[Code],0))),IF(E319=\"\",0,INDEX(SignalHeads[Height ** (feet)],MATCH(E319,SignalHeads[Code],0))),IF(F319=\"\",0,INDEX(SignalHeads[Height ** (feet)],MATCH(F319,SignalHeads[Code],0))),IF(G319=\"\",0,INDEX(SignalHeads[Height ** (feet)],MATCH(G319,SignalHeads[Code],0))),IF(H319=\"\",0,INDEX(SignalHeads[Height ** (feet)],MATCH(H319,SignalHeads[Code],0))),IF(I319=\"\",0,INDEX(SignalHeads[Height ** (feet)],MATCH(I319,SignalHeads[Code],0))))","v":0},{"$f":"IF(S319=0,\"\",ROUNDDOWN(12*(((Q319-S319)-MIN($Q$26:$Q$425-$S$26:$S$425)-(MAX($S$26:$S$425*(($Q$26:$Q$425-$S$26:$S$425)=MIN($Q$26:$Q$425-$S$26:$S$425)))-S319))+(MIN($Q$26:$Q$425-$S$26:$S$425)-$I$10)),0)/12)","v":""},"",{"$error":"#N/A"},17]
[295,null,null,null,null,null,null,null,null,{"$f":"SUM(IF(B320=\"\",0,INDEX(SignalHeads[Perp. Wind Area (sft)],MATCH(B320,SignalHeads[Code],0))),IF(D320=\"\",0,INDEX(SignalHeads[Perp. Wind Area (sft)],MATCH(D320,SignalHeads[Code],0))),IF(E320=\"\",0,INDEX(SignalHeads[Perp. Wind Area (sft)],MATCH(E320,SignalHeads[Code],0))),IF(F320=\"\",0,INDEX(SignalHeads[Perp. Wind Area (sft)],MATCH(F320,SignalHeads[Code],0))),IF(G320=\"\",0,INDEX(SignalHeads[Perp. Wind Area (sft)],MATCH(G320,SignalHeads[Code],0))),IF(H320=\"\",0,INDEX(SignalHeads[Perp. Wind Area (sft)],MATCH(H320,SignalHeads[Code],0))),IF(I320=\"\",0,INDEX(SignalHeads[Perp. Wind Area (sft)],MATCH(I320,SignalHeads[Code],0))))","v":0},{"$f":"SUM(IF(B320=\"\",0,INDEX(SignalHeads[Weight*** (lbs)],MATCH(B320,SignalHeads[Code],0))),IF(D320=\"\",0,INDEX(SignalHeads[Weight*** (lbs)],MATCH(D320,SignalHeads[Code],0))),IF(E320=\"\",0,INDEX(SignalHeads[Weight*** (lbs)],MATCH(E320,SignalHeads[Code],0))),IF(F320=\"\",0,INDEX(SignalHeads[Weight*** (lbs)],MATCH(F320,SignalHeads[Code],0))),IF(G320=\"\",0,INDEX(SignalHeads[Weight*** (lbs)],MATCH(G320,SignalHeads[Code],0))),IF(H320=\"\",0,INDEX(SignalHeads[Weight*** (lbs)],MATCH(H320,SignalHeads[Code],0))),IF(I320=\"\",0,INDEX(SignalHeads[Weight*** (lbs)],MATCH(I320,SignalHeads[Code],0))))","v":0},{"$f":"IF(A320<=$I$8,INDEX(DesignConstants[Value],MATCH(\"Span Wire Weight (plf)\",DesignConstants[Design Constant],0)),0)","v":1.155},0,340.14749999999998,{"$error":"#VALUE!"},{"$error":"#VALUE!"},{"$error":"#N/A"},{"$error":"#N/A"},{"$f":"SUM(IF(B320=\"\",0,INDEX(SignalHeads[Height ** (feet)],MATCH(B320,SignalHeads[Code],0))),IF(D320=\"\",0,INDEX(SignalHeads[Height ** (feet)],MATCH(D320,SignalHeads[Code],0))),IF(E320=\"\",0,INDEX(SignalHeads[Height ** (feet)],MATCH(E320,SignalHeads[Code],0))),IF(F320=\"\",0,INDEX(SignalHeads[Height ** (feet)],MATCH(F320,SignalHeads[Code],0))),IF(G320=\"\",0,INDEX(SignalHeads[Height ** (feet)],MATCH(G320,SignalHeads[Code],0))),IF(H320=\"\",0,INDEX(SignalHeads[Height ** (feet)],MATCH(H320,SignalHeads[Code],0))),IF(I320=\"\",0,INDEX(SignalHeads[Height ** (feet)],MATCH(I320,SignalHeads[Code],0))))","v":0},{"$f":"IF(S320=0,\"\",ROUNDDOWN(12*(((Q320-S320)-MIN($Q$26:$Q$425-$S$26:$S$425)-(MAX($S$26:$S$425*(($Q$26:$Q$425-$S$26:$S$425)=MIN($Q$26:$Q$425-$S$26:$S$425)))-S320))+(MIN($Q$26:$Q$425-$S$26:$S$425)-$I$10)),0)/12)","v":""},"",{"$error":"#N/A"},17]
[296,null,null,null,null,null,null,null,null,{"$f":"SUM(IF(B321=\"\",0,INDEX(SignalHeads[Perp. Wind Area (sft)],MATCH(B321,SignalHeads[Code],0))),IF(D321=\"\",0,INDEX(SignalHeads[Perp. Wind Area (sft)],MATCH(D321,SignalHeads[Code],0))),IF(E321=\"\",0,INDEX(SignalHeads[Perp. Wind Area (sft)],MATCH(E321,SignalHeads[Code],0))),IF(F321=\"\",0,INDEX(SignalHeads[Perp. Wind Area (sft)],MATCH(F321,SignalHeads[Code],0))),IF(G321=\"\",0,INDEX(SignalHeads[Perp. Wind Area (sft)],MATCH(G321,SignalHeads[Code],0))),IF(H321=\"\",0,INDEX(SignalHeads[Perp. Wind Area (sft)],MATCH(H321,SignalHeads[Code],0))),IF(I321=\"\",0,INDEX(SignalHeads[Perp. Wind Area (sft)],MATCH(I321,SignalHeads[Code],0))))","v":0},{"$f":"SUM(IF(B321=\"\",0,INDEX(SignalHeads[Weight*** (lbs)],MATCH(B321,SignalHeads[Code],0))),IF(D321=\"\",0,INDEX(SignalHeads[Weight*** (lbs)],MATCH(D321,SignalHeads[Code],0))),IF(E321=\"\",0,INDEX(SignalHeads[Weight*** (lbs)],MATCH(E321,SignalHeads[Code],0))),IF(F321=\"\",0,INDEX(SignalHeads[Weight*** (lbs)],MATCH(F321,SignalHeads[Code],0))),IF(G321=\"\",0,INDEX(SignalHeads[Weight*** (lbs)],MATCH(G321,SignalHeads[Code],0))),IF(H321=\"\",0,INDEX(SignalHeads[Weight*** (lbs)],MATCH(H321,SignalHeads[Code],0))),IF(I321=\"\",0,INDEX(SignalHeads[Weight*** (lbs)],MATCH(I321,SignalHeads[Code],0))))","v":0},{"$f":"IF(A321<=$I$8,INDEX(DesignConstants[Value],MATCH(\"Span Wire Weight (plf)\",DesignConstants[Design Constant],0)),0)","v":1.155},0,341.30250000000001,{"$error":"#VALUE!"},{"$error":"#VALUE!"},{"$error":"#N/A"},{"$error":"#N/A"},{"$f":"SUM(IF(B321=\"\",0,INDEX(SignalHeads[Height ** (feet)],MATCH(B321,SignalHeads[Code],0))),IF(D321=\"\",0,INDEX(SignalHeads[Height ** (feet)],MATCH(D321,SignalHeads[Code],0))),IF(E321=\"\",0,INDEX(SignalHeads[Height ** (feet)],MATCH(E321,SignalHeads[Code],0))),IF(F321=\"\",0,INDEX(SignalHeads[Height ** (feet)],MATCH(F321,SignalHeads[Code],0))),IF(G321=\"\",0,INDEX(SignalHeads[Height ** (feet)],MATCH(G321,SignalHeads[Code],0))),IF(H321=\"\",0,INDEX(SignalHeads[Height ** (feet)],MATCH(H321,SignalHeads[Code],0))),IF(I321=\"\",0,INDEX(SignalHeads[Height ** (feet)],MATCH(I321,SignalHeads[Code],0))))","v":0},{"$f":"IF(S321=0,\"\",ROUNDDOWN(12*(((Q321-S321)-MIN($Q$26:$Q$425-$S$26:$S$425)-(MAX($S$26:$S$425*(($Q$26:$Q$425-$S$26:$S$425)=MIN($Q$26:$Q$425-$S$26:$S$425)))-S321))+(MIN($Q$26:$Q$425-$S$26:$S$425)-$I$10)),0)/12)","v":""},"",{"$error":"#N/A"},17]
[297,null,null,null,null,null,null,null,null,{"$f":"SUM(IF(B322=\"\",0,INDEX(SignalHeads[Perp. Wind Area (sft)],MATCH(B322,SignalHeads[Code],0))),IF(D322=\"\",0,INDEX(SignalHeads[Perp. Wind Area (sft)],MATCH(D322,SignalHeads[Code],0))),IF(E322=\"\",0,INDEX(SignalHeads[Perp. Wind Area (sft)],MATCH(E322,SignalHeads[Code],0))),IF(F322=\"\",0,INDEX(SignalHeads[Perp. Wind Area (sft)],MATCH(F322,SignalHeads[Code],0))),IF(G322=\"\",0,INDEX(SignalHeads[Perp. Wind Area (sft)],MATCH(G322,SignalHeads[Code],0))),IF(H322=\"\",0,INDEX(SignalHeads[Perp. Wind Area (sft)],MATCH(H322,SignalHeads[Code],0))),IF(I322=\"\",0,INDEX(SignalHeads[Perp. Wind Area (sft)],MATCH(I322,SignalHeads[Code],0))))","v":0},{"$f":"SUM(IF(B322=\"\",0,INDEX(SignalHeads[Weight*** (lbs)],MATCH(B322,SignalHeads[Code],0))),IF(D322=\"\",0,INDEX(SignalHeads[Weight*** (lbs)],MATCH(D322,SignalHeads[Code],0))),IF(E322=\"\",0,INDEX(SignalHeads[Weight*** (lbs)],MATCH(E322,SignalHeads[Code],0))),IF(F322=\"\",0,INDEX(SignalHeads[Weight*** (lbs)],MATCH(F322,SignalHeads[Code],0))),IF(G322=\"\",0,INDEX(SignalHeads[Weight*** (lbs)],MATCH(G322,SignalHeads[Code],0))),IF(H322=\"\",0,INDEX(SignalHeads[Weight*** (lbs)],MATCH(H322,SignalHeads[Code],0))),IF(I322=\"\",0,INDEX(SignalHeads[Weight*** (lbs)],MATCH(I322,SignalHeads[Code],0))))","v":0},{"$f":"IF(A322<=$I$8,INDEX(DesignConstants[Value],MATCH(\"Span Wire Weight (plf)\",DesignConstants[Design Constant],0)),0)","v":1.155},0,342.45749999999998,{"$error":"#VALUE!"},{"$error":"#VALUE!"},{"$error":"#N/A"},{"$error":"#N/A"},{"$f":"SUM(IF(B322=\"\",0,INDEX(SignalHeads[Height ** (feet)],MATCH(B322,SignalHeads[Code],0))),IF(D322=\"\",0,INDEX(SignalHeads[Height ** (feet)],MATCH(D322,SignalHeads[Code],0))),IF(E322=\"\",0,INDEX(SignalHeads[Height ** (feet)],MATCH(E322,SignalHeads[Code],0))),IF(F322=\"\",0,INDEX(SignalHeads[Height ** (feet)],MATCH(F322,SignalHeads[Code],0))),IF(G322=\"\",0,INDEX(SignalHeads[Height ** (feet)],MATCH(G322,SignalHeads[Code],0))),IF(H322=\"\",0,INDEX(SignalHeads[Height ** (feet)],MATCH(H322,SignalHeads[Code],0))),IF(I322=\"\",0,INDEX(SignalHeads[Height ** (feet)],MATCH(I322,SignalHeads[Code],0))))","v":0},{"$f":"IF(S322=0,\"\",ROUNDDOWN(12*(((Q322-S322)-MIN($Q$26:$Q$425-$S$26:$S$425)-(MAX($S$26:$S$425*(($Q$26:$Q$425-$S$26:$S$425)=MIN($Q$26:$Q$425-$S$26:$S$425)))-S322))+(MIN($Q$26:$Q$425-$S$26:$S$425)-$I$10)),0)/12)","v":""},"",{"$error":"#N/A"},17]
[298,null,null,null,null,null,null,null,null,{"$f":"SUM(IF(B323=\"\",0,INDEX(SignalHeads[Perp. Wind Area (sft)],MATCH(B323,SignalHeads[Code],0))),IF(D323=\"\",0,INDEX(SignalHeads[Perp. Wind Area (sft)],MATCH(D323,SignalHeads[Code],0))),IF(E323=\"\",0,INDEX(SignalHeads[Perp. Wind Area (sft)],MATCH(E323,SignalHeads[Code],0))),IF(F323=\"\",0,INDEX(SignalHeads[Perp. Wind Area (sft)],MATCH(F323,SignalHeads[Code],0))),IF(G323=\"\",0,INDEX(SignalHeads[Perp. Wind Area (sft)],MATCH(G323,SignalHeads[Code],0))),IF(H323=\"\",0,INDEX(SignalHeads[Perp. Wind Area (sft)],MATCH(H323,SignalHeads[Code],0))),IF(I323=\"\",0,INDEX(SignalHeads[Perp. Wind Area (sft)],MATCH(I323,SignalHeads[Code],0))))","v":0},{"$f":"SUM(IF(B323=\"\",0,INDEX(SignalHeads[Weight*** (lbs)],MATCH(B323,SignalHeads[Code],0))),IF(D323=\"\",0,INDEX(SignalHeads[Weight*** (lbs)],MATCH(D323,SignalHeads[Code],0))),IF(E323=\"\",0,INDEX(SignalHeads[Weight*** (lbs)],MATCH(E323,SignalHeads[Code],0))),IF(F323=\"\",0,INDEX(SignalHeads[Weight*** (lbs)],MATCH(F323,SignalHeads[Code],0))),IF(G323=\"\",0,INDEX(SignalHeads[Weight*** (lbs)],MATCH(G323,SignalHeads[Code],0))),IF(H323=\"\",0,INDEX(SignalHeads[Weight*** (lbs)],MATCH(H323,SignalHeads[Code],0))),IF(I323=\"\",0,INDEX(SignalHeads[Weight*** (lbs)],MATCH(I323,SignalHeads[Code],0))))","v":0},{"$f":"IF(A323<=$I$8,INDEX(DesignConstants[Value],MATCH(\"Span Wire Weight (plf)\",DesignConstants[Design Constant],0)),0)","v":1.155},0,343.61250000000001,{"$error":"#VALUE!"},{"$error":"#VALUE!"},{"$error":"#N/A"},{"$error":"#N/A"},{"$f":"SUM(IF(B323=\"\",0,INDEX(SignalHeads[Height ** (feet)],MATCH(B323,SignalHeads[Code],0))),IF(D323=\"\",0,INDEX(SignalHeads[Height ** (feet)],MATCH(D323,SignalHeads[Code],0))),IF(E323=\"\",0,INDEX(SignalHeads[Height ** (feet)],MATCH(E323,SignalHeads[Code],0))),IF(F323=\"\",0,INDEX(SignalHeads[Height ** (feet)],MATCH(F323,SignalHeads[Code],0))),IF(G323=\"\",0,INDEX(SignalHeads[Height ** (feet)],MATCH(G323,SignalHeads[Code],0))),IF(H323=\"\",0,INDEX(SignalHeads[Height ** (feet)],MATCH(H323,SignalHeads[Code],0))),IF(I323=\"\",0,INDEX(SignalHeads[Height ** (feet)],MATCH(I323,SignalHeads[Code],0))))","v":0},{"$f":"IF(S323=0,\"\",ROUNDDOWN(12*(((Q323-S323)-MIN($Q$26:$Q$425-$S$26:$S$425)-(MAX($S$26:$S$425*(($Q$26:$Q$425-$S$26:$S$425)=MIN($Q$26:$Q$425-$S$26:$S$425)))-S323))+(MIN($Q$26:$Q$425-$S$26:$S$425)-$I$10)),0)/12)","v":""},"",{"$error":"#N/A"},17]
[299,null,null,null,null,null,null,null,null,{"$f":"SUM(IF(B324=\"\",0,INDEX(SignalHeads[Perp. Wind Area (sft)],MATCH(B324,SignalHeads[Code],0))),IF(D324=\"\",0,INDEX(SignalHeads[Perp. Wind Area (sft)],MATCH(D324,SignalHeads[Code],0))),IF(E324=\"\",0,INDEX(SignalHeads[Perp. Wind Area (sft)],MATCH(E324,SignalHeads[Code],0))),IF(F324=\"\",0,INDEX(SignalHeads[Perp. Wind Area (sft)],MATCH(F324,SignalHeads[Code],0))),IF(G324=\"\",0,INDEX(SignalHeads[Perp. Wind Area (sft)],MATCH(G324,SignalHeads[Code],0))),IF(H324=\"\",0,INDEX(SignalHeads[Perp. Wind Area (sft)],MATCH(H324,SignalHeads[Code],0))),IF(I324=\"\",0,INDEX(SignalHeads[Perp. Wind Area (sft)],MATCH(I324,SignalHeads[Code],0))))","v":0},{"$f":"SUM(IF(B324=\"\",0,INDEX(SignalHeads[Weight*** (lbs)],MATCH(B324,SignalHeads[Code],0))),IF(D324=\"\",0,INDEX(SignalHeads[Weight*** (lbs)],MATCH(D324,SignalHeads[Code],0))),IF(E324=\"\",0,INDEX(SignalHeads[Weight*** (lbs)],MATCH(E324,SignalHeads[Code],0))),IF(F324=\"\",0,INDEX(SignalHeads[Weight*** (lbs)],MATCH(F324,SignalHeads[Code],0))),IF(G324=\"\",0,INDEX(SignalHeads[Weight*** (lbs)],MATCH(G324,SignalHeads[Code],0))),IF(H324=\"\",0,INDEX(SignalHeads[Weight*** (lbs)],MATCH(H324,SignalHeads[Code],0))),IF(I324=\"\",0,INDEX(SignalHeads[Weight*** (lbs)],MATCH(I324,SignalHeads[Code],0))))","v":0},{"$f":"IF(A324<=$I$8,INDEX(DesignConstants[Value],MATCH(\"Span Wire Weight (plf)\",DesignConstants[Design Constant],0)),0)","v":1.155},0,344.76749999999998,{"$error":"#VALUE!"},{"$error":"#VALUE!"},{"$error":"#N/A"},{"$error":"#N/A"},{"$f":"SUM(IF(B324=\"\",0,INDEX(SignalHeads[Height ** (feet)],MATCH(B324,SignalHeads[Code],0))),IF(D324=\"\",0,INDEX(SignalHeads[Height ** (feet)],MATCH(D324,SignalHeads[Code],0))),IF(E324=\"\",0,INDEX(SignalHeads[Height ** (feet)],MATCH(E324,SignalHeads[Code],0))),IF(F324=\"\",0,INDEX(SignalHeads[Height ** (feet)],MATCH(F324,SignalHeads[Code],0))),IF(G324=\"\",0,INDEX(SignalHeads[Height ** (feet)],MATCH(G324,SignalHeads[Code],0))),IF(H324=\"\",0,INDEX(SignalHeads[Height ** (feet)],MATCH(H324,SignalHeads[Code],0))),IF(I324=\"\",0,INDEX(SignalHeads[Height ** (feet)],MATCH(I324,SignalHeads[Code],0))))","v":0},{"$f":"IF(S324=0,\"\",ROUNDDOWN(12*(((Q324-S324)-MIN($Q$26:$Q$425-$S$26:$S$425)-(MAX($S$26:$S$425*(($Q$26:$Q$425-$S$26:$S$425)=MIN($Q$26:$Q$425-$S$26:$S$425)))-S324))+(MIN($Q$26:$Q$425-$S$26:$S$425)-$I$10)),0)/12)","v":""},"",{"$error":"#N/A"},17]
[300,null,null,null,null,null,null,null,null,{"$f":"SUM(IF(B325=\"\",0,INDEX(SignalHeads[Perp. Wind Area (sft)],MATCH(B325,SignalHeads[Code],0))),IF(D325=\"\",0,INDEX(SignalHeads[Perp. Wind Area (sft)],MATCH(D325,SignalHeads[Code],0))),IF(E325=\"\",0,INDEX(SignalHeads[Perp. Wind Area (sft)],MATCH(E325,SignalHeads[Code],0))),IF(F325=\"\",0,INDEX(SignalHeads[Perp. Wind Area (sft)],MATCH(F325,SignalHeads[Code],0))),IF(G325=\"\",0,INDEX(SignalHeads[Perp. Wind Area (sft)],MATCH(G325,SignalHeads[Code],0))),IF(H325=\"\",0,INDEX(SignalHeads[Perp. Wind Area (sft)],MATCH(H325,SignalHeads[Code],0))),IF(I325=\"\",0,INDEX(SignalHeads[Perp. Wind Area (sft)],MATCH(I325,SignalHeads[Code],0))))","v":0},{"$f":"SUM(IF(B325=\"\",0,INDEX(SignalHeads[Weight*** (lbs)],MATCH(B325,SignalHeads[Code],0))),IF(D325=\"\",0,INDEX(SignalHeads[Weight*** (lbs)],MATCH(D325,SignalHeads[Code],0))),IF(E325=\"\",0,INDEX(SignalHeads[Weight*** (lbs)],MATCH(E325,SignalHeads[Code],0))),IF(F325=\"\",0,INDEX(SignalHeads[Weight*** (lbs)],MATCH(F325,SignalHeads[Code],0))),IF(G325=\"\",0,INDEX(SignalHeads[Weight*** (lbs)],MATCH(G325,SignalHeads[Code],0))),IF(H325=\"\",0,INDEX(SignalHeads[Weight*** (lbs)],MATCH(H325,SignalHeads[Code],0))),IF(I325=\"\",0,INDEX(SignalHeads[Weight*** (lbs)],MATCH(I325,SignalHeads[Code],0))))","v":0},{"$f":"IF(A325<=$I$8,INDEX(DesignConstants[Value],MATCH(\"Span Wire Weight (plf)\",DesignConstants[Design Constant],0)),0)","v":1.155},0,345.92250000000001,{"$error":"#VALUE!"},{"$error":"#VALUE!"},{"$error":"#N/A"},{"$error":"#N/A"},{"$f":"SUM(IF(B325=\"\",0,INDEX(SignalHeads[Height ** (feet)],MATCH(B325,SignalHeads[Code],0))),IF(D325=\"\",0,INDEX(SignalHeads[Height ** (feet)],MATCH(D325,SignalHeads[Code],0))),IF(E325=\"\",0,INDEX(SignalHeads[Height ** (feet)],MATCH(E325,SignalHeads[Code],0))),IF(F325=\"\",0,INDEX(SignalHeads[Height ** (feet)],MATCH(F325,SignalHeads[Code],0))),IF(G325=\"\",0,INDEX(SignalHeads[Height ** (feet)],MATCH(G325,SignalHeads[Code],0))),IF(H325=\"\",0,INDEX(SignalHeads[Height ** (feet)],MATCH(H325,SignalHeads[Code],0))),IF(I325=\"\",0,INDEX(SignalHeads[Height ** (feet)],MATCH(I325,SignalHeads[Code],0))))","v":0},{"$f":"IF(S325=0,\"\",ROUNDDOWN(12*(((Q325-S325)-MIN($Q$26:$Q$425-$S$26:$S$425)-(MAX($S$26:$S$425*(($Q$26:$Q$425-$S$26:$S$425)=MIN($Q$26:$Q$425-$S$26:$S$425)))-S325))+(MIN($Q$26:$Q$425-$S$26:$S$425)-$I$10)),0)/12)","v":""},"",{"$error":"#N/A"},17]
[301,null,null,null,null,null,null,null,null,{"$f":"SUM(IF(B326=\"\",0,INDEX(SignalHeads[Perp. Wind Area (sft)],MATCH(B326,SignalHeads[Code],0))),IF(D326=\"\",0,INDEX(SignalHeads[Perp. Wind Area (sft)],MATCH(D326,SignalHeads[Code],0))),IF(E326=\"\",0,INDEX(SignalHeads[Perp. Wind Area (sft)],MATCH(E326,SignalHeads[Code],0))),IF(F326=\"\",0,INDEX(SignalHeads[Perp. Wind Area (sft)],MATCH(F326,SignalHeads[Code],0))),IF(G326=\"\",0,INDEX(SignalHeads[Perp. Wind Area (sft)],MATCH(G326,SignalHeads[Code],0))),IF(H326=\"\",0,INDEX(SignalHeads[Perp. Wind Area (sft)],MATCH(H326,SignalHeads[Code],0))),IF(I326=\"\",0,INDEX(SignalHeads[Perp. Wind Area (sft)],MATCH(I326,SignalHeads[Code],0))))","v":0},{"$f":"SUM(IF(B326=\"\",0,INDEX(SignalHeads[Weight*** (lbs)],MATCH(B326,SignalHeads[Code],0))),IF(D326=\"\",0,INDEX(SignalHeads[Weight*** (lbs)],MATCH(D326,SignalHeads[Code],0))),IF(E326=\"\",0,INDEX(SignalHeads[Weight*** (lbs)],MATCH(E326,SignalHeads[Code],0))),IF(F326=\"\",0,INDEX(SignalHeads[Weight*** (lbs)],MATCH(F326,SignalHeads[Code],0))),IF(G326=\"\",0,INDEX(SignalHeads[Weight*** (lbs)],MATCH(G326,SignalHeads[Code],0))),IF(H326=\"\",0,INDEX(SignalHeads[Weight*** (lbs)],MATCH(H326,SignalHeads[Code],0))),IF(I326=\"\",0,INDEX(SignalHeads[Weight*** (lbs)],MATCH(I326,SignalHeads[Code],0))))","v":0},{"$f":"IF(A326<=$I$8,INDEX(DesignConstants[Value],MATCH(\"Span Wire Weight (plf)\",DesignConstants[Design Constant],0)),0)","v":1.155},0,347.07749999999999,{"$error":"#VALUE!"},{"$error":"#VALUE!"},{"$error":"#N/A"},{"$error":"#N/A"},{"$f":"SUM(IF(B326=\"\",0,INDEX(SignalHeads[Height ** (feet)],MATCH(B326,SignalHeads[Code],0))),IF(D326=\"\",0,INDEX(SignalHeads[Height ** (feet)],MATCH(D326,SignalHeads[Code],0))),IF(E326=\"\",0,INDEX(SignalHeads[Height ** (feet)],MATCH(E326,SignalHeads[Code],0))),IF(F326=\"\",0,INDEX(SignalHeads[Height ** (feet)],MATCH(F326,SignalHeads[Code],0))),IF(G326=\"\",0,INDEX(SignalHeads[Height ** (feet)],MATCH(G326,SignalHeads[Code],0))),IF(H326=\"\",0,INDEX(SignalHeads[Height ** (feet)],MATCH(H326,SignalHeads[Code],0))),IF(I326=\"\",0,INDEX(SignalHeads[Height ** (feet)],MATCH(I326,SignalHeads[Code],0))))","v":0},{"$f":"IF(S326=0,\"\",ROUNDDOWN(12*(((Q326-S326)-MIN($Q$26:$Q$425-$S$26:$S$425)-(MAX($S$26:$S$425*(($Q$26:$Q$425-$S$26:$S$425)=MIN($Q$26:$Q$425-$S$26:$S$425)))-S326))+(MIN($Q$26:$Q$425-$S$26:$S$425)-$I$10)),0)/12)","v":""},"",{"$error":"#N/A"},17]
[302,null,null,null,null,null,null,null,null,{"$f":"SUM(IF(B327=\"\",0,INDEX(SignalHeads[Perp. Wind Area (sft)],MATCH(B327,SignalHeads[Code],0))),IF(D327=\"\",0,INDEX(SignalHeads[Perp. Wind Area (sft)],MATCH(D327,SignalHeads[Code],0))),IF(E327=\"\",0,INDEX(SignalHeads[Perp. Wind Area (sft)],MATCH(E327,SignalHeads[Code],0))),IF(F327=\"\",0,INDEX(SignalHeads[Perp. Wind Area (sft)],MATCH(F327,SignalHeads[Code],0))),IF(G327=\"\",0,INDEX(SignalHeads[Perp. Wind Area (sft)],MATCH(G327,SignalHeads[Code],0))),IF(H327=\"\",0,INDEX(SignalHeads[Perp. Wind Area (sft)],MATCH(H327,SignalHeads[Code],0))),IF(I327=\"\",0,INDEX(SignalHeads[Perp. Wind Area (sft)],MATCH(I327,SignalHeads[Code],0))))","v":0},{"$f":"SUM(IF(B327=\"\",0,INDEX(SignalHeads[Weight*** (lbs)],MATCH(B327,SignalHeads[Code],0))),IF(D327=\"\",0,INDEX(SignalHeads[Weight*** (lbs)],MATCH(D327,SignalHeads[Code],0))),IF(E327=\"\",0,INDEX(SignalHeads[Weight*** (lbs)],MATCH(E327,SignalHeads[Code],0))),IF(F327=\"\",0,INDEX(SignalHeads[Weight*** (lbs)],MATCH(F327,SignalHeads[Code],0))),IF(G327=\"\",0,INDEX(SignalHeads[Weight*** (lbs)],MATCH(G327,SignalHeads[Code],0))),IF(H327=\"\",0,INDEX(SignalHeads[Weight*** (lbs)],MATCH(H327,SignalHeads[Code],0))),IF(I327=\"\",0,INDEX(SignalHeads[Weight*** (lbs)],MATCH(I327,SignalHeads[Code],0))))","v":0},{"$f":"IF(A327<=$I$8,INDEX(DesignConstants[Value],MATCH(\"Span Wire Weight (plf)\",DesignConstants[Design Constant],0)),0)","v":1.155},0,348.23250000000002,{"$error":"#VALUE!"},{"$error":"#VALUE!"},{"$error":"#N/A"},{"$error":"#N/A"},{"$f":"SUM(IF(B327=\"\",0,INDEX(SignalHeads[Height ** (feet)],MATCH(B327,SignalHeads[Code],0))),IF(D327=\"\",0,INDEX(SignalHeads[Height ** (feet)],MATCH(D327,SignalHeads[Code],0))),IF(E327=\"\",0,INDEX(SignalHeads[Height ** (feet)],MATCH(E327,SignalHeads[Code],0))),IF(F327=\"\",0,INDEX(SignalHeads[Height ** (feet)],MATCH(F327,SignalHeads[Code],0))),IF(G327=\"\",0,INDEX(SignalHeads[Height ** (feet)],MATCH(G327,SignalHeads[Code],0))),IF(H327=\"\",0,INDEX(SignalHeads[Height ** (feet)],MATCH(H327,SignalHeads[Code],0))),IF(I327=\"\",0,INDEX(SignalHeads[Height ** (feet)],MATCH(I327,SignalHeads[Code],0))))","v":0},{"$f":"IF(S327=0,\"\",ROUNDDOWN(12*(((Q327-S327)-MIN($Q$26:$Q$425-$S$26:$S$425)-(MAX($S$26:$S$425*(($Q$26:$Q$425-$S$26:$S$425)=MIN($Q$26:$Q$425-$S$26:$S$425)))-S327))+(MIN($Q$26:$Q$425-$S$26:$S$425)-$I$10)),0)/12)","v":""},"",{"$error":"#N/A"},17]
[303,null,null,null,null,null,null,null,null,{"$f":"SUM(IF(B328=\"\",0,INDEX(SignalHeads[Perp. Wind Area (sft)],MATCH(B328,SignalHeads[Code],0))),IF(D328=\"\",0,INDEX(SignalHeads[Perp. Wind Area (sft)],MATCH(D328,SignalHeads[Code],0))),IF(E328=\"\",0,INDEX(SignalHeads[Perp. Wind Area (sft)],MATCH(E328,SignalHeads[Code],0))),IF(F328=\"\",0,INDEX(SignalHeads[Perp. Wind Area (sft)],MATCH(F328,SignalHeads[Code],0))),IF(G328=\"\",0,INDEX(SignalHeads[Perp. Wind Area (sft)],MATCH(G328,SignalHeads[Code],0))),IF(H328=\"\",0,INDEX(SignalHeads[Perp. Wind Area (sft)],MATCH(H328,SignalHeads[Code],0))),IF(I328=\"\",0,INDEX(SignalHeads[Perp. Wind Area (sft)],MATCH(I328,SignalHeads[Code],0))))","v":0},{"$f":"SUM(IF(B328=\"\",0,INDEX(SignalHeads[Weight*** (lbs)],MATCH(B328,SignalHeads[Code],0))),IF(D328=\"\",0,INDEX(SignalHeads[Weight*** (lbs)],MATCH(D328,SignalHeads[Code],0))),IF(E328=\"\",0,INDEX(SignalHeads[Weight*** (lbs)],MATCH(E328,SignalHeads[Code],0))),IF(F328=\"\",0,INDEX(SignalHeads[Weight*** (lbs)],MATCH(F328,SignalHeads[Code],0))),IF(G328=\"\",0,INDEX(SignalHeads[Weight*** (lbs)],MATCH(G328,SignalHeads[Code],0))),IF(H328=\"\",0,INDEX(SignalHeads[Weight*** (lbs)],MATCH(H328,SignalHeads[Code],0))),IF(I328=\"\",0,INDEX(SignalHeads[Weight*** (lbs)],MATCH(I328,SignalHeads[Code],0))))","v":0},{"$f":"IF(A328<=$I$8,INDEX(DesignConstants[Value],MATCH(\"Span Wire Weight (plf)\",DesignConstants[Design Constant],0)),0)","v":1.155},0,349.38749999999999,{"$error":"#VALUE!"},{"$error":"#VALUE!"},{"$error":"#N/A"},{"$error":"#N/A"},{"$f":"SUM(IF(B328=\"\",0,INDEX(SignalHeads[Height ** (feet)],MATCH(B328,SignalHeads[Code],0))),IF(D328=\"\",0,INDEX(SignalHeads[Height ** (feet)],MATCH(D328,SignalHeads[Code],0))),IF(E328=\"\",0,INDEX(SignalHeads[Height ** (feet)],MATCH(E328,SignalHeads[Code],0))),IF(F328=\"\",0,INDEX(SignalHeads[Height ** (feet)],MATCH(F328,SignalHeads[Code],0))),IF(G328=\"\",0,INDEX(SignalHeads[Height ** (feet)],MATCH(G328,SignalHeads[Code],0))),IF(H328=\"\",0,INDEX(SignalHeads[Height ** (feet)],MATCH(H328,SignalHeads[Code],0))),IF(I328=\"\",0,INDEX(SignalHeads[Height ** (feet)],MATCH(I328,SignalHeads[Code],0))))","v":0},{"$f":"IF(S328=0,\"\",ROUNDDOWN(12*(((Q328-S328)-MIN($Q$26:$Q$425-$S$26:$S$425)-(MAX($S$26:$S$425*(($Q$26:$Q$425-$S$26:$S$425)=MIN($Q$26:$Q$425-$S$26:$S$425)))-S328))+(MIN($Q$26:$Q$425-$S$26:$S$425)-$I$10)),0)/12)","v":""},"",{"$error":"#N/A"},17]
[304,null,null,null,null,null,null,null,null,{"$f":"SUM(IF(B329=\"\",0,INDEX(SignalHeads[Perp. Wind Area (sft)],MATCH(B329,SignalHeads[Code],0))),IF(D329=\"\",0,INDEX(SignalHeads[Perp. Wind Area (sft)],MATCH(D329,SignalHeads[Code],0))),IF(E329=\"\",0,INDEX(SignalHeads[Perp. Wind Area (sft)],MATCH(E329,SignalHeads[Code],0))),IF(F329=\"\",0,INDEX(SignalHeads[Perp. Wind Area (sft)],MATCH(F329,SignalHeads[Code],0))),IF(G329=\"\",0,INDEX(SignalHeads[Perp. Wind Area (sft)],MATCH(G329,SignalHeads[Code],0))),IF(H329=\"\",0,INDEX(SignalHeads[Perp. Wind Area (sft)],MATCH(H329,SignalHeads[Code],0))),IF(I329=\"\",0,INDEX(SignalHeads[Perp. Wind Area (sft)],MATCH(I329,SignalHeads[Code],0))))","v":0},{"$f":"SUM(IF(B329=\"\",0,INDEX(SignalHeads[Weight*** (lbs)],MATCH(B329,SignalHeads[Code],0))),IF(D329=\"\",0,INDEX(SignalHeads[Weight*** (lbs)],MATCH(D329,SignalHeads[Code],0))),IF(E329=\"\",0,INDEX(SignalHeads[Weight*** (lbs)],MATCH(E329,SignalHeads[Code],0))),IF(F329=\"\",0,INDEX(SignalHeads[Weight*** (lbs)],MATCH(F329,SignalHeads[Code],0))),IF(G329=\"\",0,INDEX(SignalHeads[Weight*** (lbs)],MATCH(G329,SignalHeads[Code],0))),IF(H329=\"\",0,INDEX(SignalHeads[Weight*** (lbs)],MATCH(H329,SignalHeads[Code],0))),IF(I329=\"\",0,INDEX(SignalHeads[Weight*** (lbs)],MATCH(I329,SignalHeads[Code],0))))","v":0},{"$f":"IF(A329<=$I$8,INDEX(DesignConstants[Value],MATCH(\"Span Wire Weight (plf)\",DesignConstants[Design Constant],0)),0)","v":1.155},0,350.54250000000002,{"$error":"#VALUE!"},{"$error":"#VALUE!"},{"$error":"#N/A"},{"$error":"#N/A"},{"$f":"SUM(IF(B329=\"\",0,INDEX(SignalHeads[Height ** (feet)],MATCH(B329,SignalHeads[Code],0))),IF(D329=\"\",0,INDEX(SignalHeads[Height ** (feet)],MATCH(D329,SignalHeads[Code],0))),IF(E329=\"\",0,INDEX(SignalHeads[Height ** (feet)],MATCH(E329,SignalHeads[Code],0))),IF(F329=\"\",0,INDEX(SignalHeads[Height ** (feet)],MATCH(F329,SignalHeads[Code],0))),IF(G329=\"\",0,INDEX(SignalHeads[Height ** (feet)],MATCH(G329,SignalHeads[Code],0))),IF(H329=\"\",0,INDEX(SignalHeads[Height ** (feet)],MATCH(H329,SignalHeads[Code],0))),IF(I329=\"\",0,INDEX(SignalHeads[Height ** (feet)],MATCH(I329,SignalHeads[Code],0))))","v":0},{"$f":"IF(S329=0,\"\",ROUNDDOWN(12*(((Q329-S329)-MIN($Q$26:$Q$425-$S$26:$S$425)-(MAX($S$26:$S$425*(($Q$26:$Q$425-$S$26:$S$425)=MIN($Q$26:$Q$425-$S$26:$S$425)))-S329))+(MIN($Q$26:$Q$425-$S$26:$S$425)-$I$10)),0)/12)","v":""},"",{"$error":"#N/A"},17]
[305,null,null,null,null,null,null,null,null,{"$f":"SUM(IF(B330=\"\",0,INDEX(SignalHeads[Perp. Wind Area (sft)],MATCH(B330,SignalHeads[Code],0))),IF(D330=\"\",0,INDEX(SignalHeads[Perp. Wind Area (sft)],MATCH(D330,SignalHeads[Code],0))),IF(E330=\"\",0,INDEX(SignalHeads[Perp. Wind Area (sft)],MATCH(E330,SignalHeads[Code],0))),IF(F330=\"\",0,INDEX(SignalHeads[Perp. Wind Area (sft)],MATCH(F330,SignalHeads[Code],0))),IF(G330=\"\",0,INDEX(SignalHeads[Perp. Wind Area (sft)],MATCH(G330,SignalHeads[Code],0))),IF(H330=\"\",0,INDEX(SignalHeads[Perp. Wind Area (sft)],MATCH(H330,SignalHeads[Code],0))),IF(I330=\"\",0,INDEX(SignalHeads[Perp. Wind Area (sft)],MATCH(I330,SignalHeads[Code],0))))","v":0},{"$f":"SUM(IF(B330=\"\",0,INDEX(SignalHeads[Weight*** (lbs)],MATCH(B330,SignalHeads[Code],0))),IF(D330=\"\",0,INDEX(SignalHeads[Weight*** (lbs)],MATCH(D330,SignalHeads[Code],0))),IF(E330=\"\",0,INDEX(SignalHeads[Weight*** (lbs)],MATCH(E330,SignalHeads[Code],0))),IF(F330=\"\",0,INDEX(SignalHeads[Weight*** (lbs)],MATCH(F330,SignalHeads[Code],0))),IF(G330=\"\",0,INDEX(SignalHeads[Weight*** (lbs)],MATCH(G330,SignalHeads[Code],0))),IF(H330=\"\",0,INDEX(SignalHeads[Weight*** (lbs)],MATCH(H330,SignalHeads[Code],0))),IF(I330=\"\",0,INDEX(SignalHeads[Weight*** (lbs)],MATCH(I330,SignalHeads[Code],0))))","v":0},{"$f":"IF(A330<=$I$8,INDEX(DesignConstants[Value],MATCH(\"Span Wire Weight (plf)\",DesignConstants[Design Constant],0)),0)","v":1.155},0,351.69749999999999,{"$error":"#VALUE!"},{"$error":"#VALUE!"},{"$error":"#N/A"},{"$error":"#N/A"},{"$f":"SUM(IF(B330=\"\",0,INDEX(SignalHeads[Height ** (feet)],MATCH(B330,SignalHeads[Code],0))),IF(D330=\"\",0,INDEX(SignalHeads[Height ** (feet)],MATCH(D330,SignalHeads[Code],0))),IF(E330=\"\",0,INDEX(SignalHeads[Height ** (feet)],MATCH(E330,SignalHeads[Code],0))),IF(F330=\"\",0,INDEX(SignalHeads[Height ** (feet)],MATCH(F330,SignalHeads[Code],0))),IF(G330=\"\",0,INDEX(SignalHeads[Height ** (feet)],MATCH(G330,SignalHeads[Code],0))),IF(H330=\"\",0,INDEX(SignalHeads[Height ** (feet)],MATCH(H330,SignalHeads[Code],0))),IF(I330=\"\",0,INDEX(SignalHeads[Height ** (feet)],MATCH(I330,SignalHeads[Code],0))))","v":0},{"$f":"IF(S330=0,\"\",ROUNDDOWN(12*(((Q330-S330)-MIN($Q$26:$Q$425-$S$26:$S$425)-(MAX($S$26:$S$425*(($Q$26:$Q$425-$S$26:$S$425)=MIN($Q$26:$Q$425-$S$26:$S$425)))-S330))+(MIN($Q$26:$Q$425-$S$26:$S$425)-$I$10)),0)/12)","v":""},"",{"$error":"#N/A"},17]
[306,null,null,null,null,null,null,null,null,{"$f":"SUM(IF(B331=\"\",0,INDEX(SignalHeads[Perp. Wind Area (sft)],MATCH(B331,SignalHeads[Code],0))),IF(D331=\"\",0,INDEX(SignalHeads[Perp. Wind Area (sft)],MATCH(D331,SignalHeads[Code],0))),IF(E331=\"\",0,INDEX(SignalHeads[Perp. Wind Area (sft)],MATCH(E331,SignalHeads[Code],0))),IF(F331=\"\",0,INDEX(SignalHeads[Perp. Wind Area (sft)],MATCH(F331,SignalHeads[Code],0))),IF(G331=\"\",0,INDEX(SignalHeads[Perp. Wind Area (sft)],MATCH(G331,SignalHeads[Code],0))),IF(H331=\"\",0,INDEX(SignalHeads[Perp. Wind Area (sft)],MATCH(H331,SignalHeads[Code],0))),IF(I331=\"\",0,INDEX(SignalHeads[Perp. Wind Area (sft)],MATCH(I331,SignalHeads[Code],0))))","v":0},{"$f":"SUM(IF(B331=\"\",0,INDEX(SignalHeads[Weight*** (lbs)],MATCH(B331,SignalHeads[Code],0))),IF(D331=\"\",0,INDEX(SignalHeads[Weight*** (lbs)],MATCH(D331,SignalHeads[Code],0))),IF(E331=\"\",0,INDEX(SignalHeads[Weight*** (lbs)],MATCH(E331,SignalHeads[Code],0))),IF(F331=\"\",0,INDEX(SignalHeads[Weight*** (lbs)],MATCH(F331,SignalHeads[Code],0))),IF(G331=\"\",0,INDEX(SignalHeads[Weight*** (lbs)],MATCH(G331,SignalHeads[Code],0))),IF(H331=\"\",0,INDEX(SignalHeads[Weight*** (lbs)],MATCH(H331,SignalHeads[Code],0))),IF(I331=\"\",0,INDEX(SignalHeads[Weight*** (lbs)],MATCH(I331,SignalHeads[Code],0))))","v":0},{"$f":"IF(A331<=$I$8,INDEX(DesignConstants[Value],MATCH(\"Span Wire Weight (plf)\",DesignConstants[Design Constant],0)),0)","v":1.155},0,352.85250000000002,{"$error":"#VALUE!"},{"$error":"#VALUE!"},{"$error":"#N/A"},{"$error":"#N/A"},{"$f":"SUM(IF(B331=\"\",0,INDEX(SignalHeads[Height ** (feet)],MATCH(B331,SignalHeads[Code],0))),IF(D331=\"\",0,INDEX(SignalHeads[Height ** (feet)],MATCH(D331,SignalHeads[Code],0))),IF(E331=\"\",0,INDEX(SignalHeads[Height ** (feet)],MATCH(E331,SignalHeads[Code],0))),IF(F331=\"\",0,INDEX(SignalHeads[Height ** (feet)],MATCH(F331,SignalHeads[Code],0))),IF(G331=\"\",0,INDEX(SignalHeads[Height ** (feet)],MATCH(G331,SignalHeads[Code],0))),IF(H331=\"\",0,INDEX(SignalHeads[Height ** (feet)],MATCH(H331,SignalHeads[Code],0))),IF(I331=\"\",0,INDEX(SignalHeads[Height ** (feet)],MATCH(I331,SignalHeads[Code],0))))","v":0},{"$f":"IF(S331=0,\"\",ROUNDDOWN(12*(((Q331-S331)-MIN($Q$26:$Q$425-$S$26:$S$425)-(MAX($S$26:$S$425*(($Q$26:$Q$425-$S$26:$S$425)=MIN($Q$26:$Q$425-$S$26:$S$425)))-S331))+(MIN($Q$26:$Q$425-$S$26:$S$425)-$I$10)),0)/12)","v":""},"",{"$error":"#N/A"},17]
[307,null,null,null,null,null,null,null,null,{"$f":"SUM(IF(B332=\"\",0,INDEX(SignalHeads[Perp. Wind Area (sft)],MATCH(B332,SignalHeads[Code],0))),IF(D332=\"\",0,INDEX(SignalHeads[Perp. Wind Area (sft)],MATCH(D332,SignalHeads[Code],0))),IF(E332=\"\",0,INDEX(SignalHeads[Perp. Wind Area (sft)],MATCH(E332,SignalHeads[Code],0))),IF(F332=\"\",0,INDEX(SignalHeads[Perp. Wind Area (sft)],MATCH(F332,SignalHeads[Code],0))),IF(G332=\"\",0,INDEX(SignalHeads[Perp. Wind Area (sft)],MATCH(G332,SignalHeads[Code],0))),IF(H332=\"\",0,INDEX(SignalHeads[Perp. Wind Area (sft)],MATCH(H332,SignalHeads[Code],0))),IF(I332=\"\",0,INDEX(SignalHeads[Perp. Wind Area (sft)],MATCH(I332,SignalHeads[Code],0))))","v":0},{"$f":"SUM(IF(B332=\"\",0,INDEX(SignalHeads[Weight*** (lbs)],MATCH(B332,SignalHeads[Code],0))),IF(D332=\"\",0,INDEX(SignalHeads[Weight*** (lbs)],MATCH(D332,SignalHeads[Code],0))),IF(E332=\"\",0,INDEX(SignalHeads[Weight*** (lbs)],MATCH(E332,SignalHeads[Code],0))),IF(F332=\"\",0,INDEX(SignalHeads[Weight*** (lbs)],MATCH(F332,SignalHeads[Code],0))),IF(G332=\"\",0,INDEX(SignalHeads[Weight*** (lbs)],MATCH(G332,SignalHeads[Code],0))),IF(H332=\"\",0,INDEX(SignalHeads[Weight*** (lbs)],MATCH(H332,SignalHeads[Code],0))),IF(I332=\"\",0,INDEX(SignalHeads[Weight*** (lbs)],MATCH(I332,SignalHeads[Code],0))))","v":0},{"$f":"IF(A332<=$I$8,INDEX(DesignConstants[Value],MATCH(\"Span Wire Weight (plf)\",DesignConstants[Design Constant],0)),0)","v":1.155},0,354.00749999999999,{"$error":"#VALUE!"},{"$error":"#VALUE!"},{"$error":"#N/A"},{"$error":"#N/A"},{"$f":"SUM(IF(B332=\"\",0,INDEX(SignalHeads[Height ** (feet)],MATCH(B332,SignalHeads[Code],0))),IF(D332=\"\",0,INDEX(SignalHeads[Height ** (feet)],MATCH(D332,SignalHeads[Code],0))),IF(E332=\"\",0,INDEX(SignalHeads[Height ** (feet)],MATCH(E332,SignalHeads[Code],0))),IF(F332=\"\",0,INDEX(SignalHeads[Height ** (feet)],MATCH(F332,SignalHeads[Code],0))),IF(G332=\"\",0,INDEX(SignalHeads[Height ** (feet)],MATCH(G332,SignalHeads[Code],0))),IF(H332=\"\",0,INDEX(SignalHeads[Height ** (feet)],MATCH(H332,SignalHeads[Code],0))),IF(I332=\"\",0,INDEX(SignalHeads[Height ** (feet)],MATCH(I332,SignalHeads[Code],0))))","v":0},{"$f":"IF(S332=0,\"\",ROUNDDOWN(12*(((Q332-S332)-MIN($Q$26:$Q$425-$S$26:$S$425)-(MAX($S$26:$S$425*(($Q$26:$Q$425-$S$26:$S$425)=MIN($Q$26:$Q$425-$S$26:$S$425)))-S332))+(MIN($Q$26:$Q$425-$S$26:$S$425)-$I$10)),0)/12)","v":""},"",{"$error":"#N/A"},17]
[308,null,null,null,null,null,null,null,null,{"$f":"SUM(IF(B333=\"\",0,INDEX(SignalHeads[Perp. Wind Area (sft)],MATCH(B333,SignalHeads[Code],0))),IF(D333=\"\",0,INDEX(SignalHeads[Perp. Wind Area (sft)],MATCH(D333,SignalHeads[Code],0))),IF(E333=\"\",0,INDEX(SignalHeads[Perp. Wind Area (sft)],MATCH(E333,SignalHeads[Code],0))),IF(F333=\"\",0,INDEX(SignalHeads[Perp. Wind Area (sft)],MATCH(F333,SignalHeads[Code],0))),IF(G333=\"\",0,INDEX(SignalHeads[Perp. Wind Area (sft)],MATCH(G333,SignalHeads[Code],0))),IF(H333=\"\",0,INDEX(SignalHeads[Perp. Wind Area (sft)],MATCH(H333,SignalHeads[Code],0))),IF(I333=\"\",0,INDEX(SignalHeads[Perp. Wind Area (sft)],MATCH(I333,SignalHeads[Code],0))))","v":0},{"$f":"SUM(IF(B333=\"\",0,INDEX(SignalHeads[Weight*** (lbs)],MATCH(B333,SignalHeads[Code],0))),IF(D333=\"\",0,INDEX(SignalHeads[Weight*** (lbs)],MATCH(D333,SignalHeads[Code],0))),IF(E333=\"\",0,INDEX(SignalHeads[Weight*** (lbs)],MATCH(E333,SignalHeads[Code],0))),IF(F333=\"\",0,INDEX(SignalHeads[Weight*** (lbs)],MATCH(F333,SignalHeads[Code],0))),IF(G333=\"\",0,INDEX(SignalHeads[Weight*** (lbs)],MATCH(G333,SignalHeads[Code],0))),IF(H333=\"\",0,INDEX(SignalHeads[Weight*** (lbs)],MATCH(H333,SignalHeads[Code],0))),IF(I333=\"\",0,INDEX(SignalHeads[Weight*** (lbs)],MATCH(I333,SignalHeads[Code],0))))","v":0},{"$f":"IF(A333<=$I$8,INDEX(DesignConstants[Value],MATCH(\"Span Wire Weight (plf)\",DesignConstants[Design Constant],0)),0)","v":1.155},0,355.16250000000002,{"$error":"#VALUE!"},{"$error":"#VALUE!"},{"$error":"#N/A"},{"$error":"#N/A"},{"$f":"SUM(IF(B333=\"\",0,INDEX(SignalHeads[Height ** (feet)],MATCH(B333,SignalHeads[Code],0))),IF(D333=\"\",0,INDEX(SignalHeads[Height ** (feet)],MATCH(D333,SignalHeads[Code],0))),IF(E333=\"\",0,INDEX(SignalHeads[Height ** (feet)],MATCH(E333,SignalHeads[Code],0))),IF(F333=\"\",0,INDEX(SignalHeads[Height ** (feet)],MATCH(F333,SignalHeads[Code],0))),IF(G333=\"\",0,INDEX(SignalHeads[Height ** (feet)],MATCH(G333,SignalHeads[Code],0))),IF(H333=\"\",0,INDEX(SignalHeads[Height ** (feet)],MATCH(H333,SignalHeads[Code],0))),IF(I333=\"\",0,INDEX(SignalHeads[Height ** (feet)],MATCH(I333,SignalHeads[Code],0))))","v":0},{"$f":"IF(S333=0,\"\",ROUNDDOWN(12*(((Q333-S333)-MIN($Q$26:$Q$425-$S$26:$S$425)-(MAX($S$26:$S$425*(($Q$26:$Q$425-$S$26:$S$425)=MIN($Q$26:$Q$425-$S$26:$S$425)))-S333))+(MIN($Q$26:$Q$425-$S$26:$S$425)-$I$10)),0)/12)","v":""},"",{"$error":"#N/A"},17]
[309,null,null,null,null,null,null,null,null,{"$f":"SUM(IF(B334=\"\",0,INDEX(SignalHeads[Perp. Wind Area (sft)],MATCH(B334,SignalHeads[Code],0))),IF(D334=\"\",0,INDEX(SignalHeads[Perp. Wind Area (sft)],MATCH(D334,SignalHeads[Code],0))),IF(E334=\"\",0,INDEX(SignalHeads[Perp. Wind Area (sft)],MATCH(E334,SignalHeads[Code],0))),IF(F334=\"\",0,INDEX(SignalHeads[Perp. Wind Area (sft)],MATCH(F334,SignalHeads[Code],0))),IF(G334=\"\",0,INDEX(SignalHeads[Perp. Wind Area (sft)],MATCH(G334,SignalHeads[Code],0))),IF(H334=\"\",0,INDEX(SignalHeads[Perp. Wind Area (sft)],MATCH(H334,SignalHeads[Code],0))),IF(I334=\"\",0,INDEX(SignalHeads[Perp. Wind Area (sft)],MATCH(I334,SignalHeads[Code],0))))","v":0},{"$f":"SUM(IF(B334=\"\",0,INDEX(SignalHeads[Weight*** (lbs)],MATCH(B334,SignalHeads[Code],0))),IF(D334=\"\",0,INDEX(SignalHeads[Weight*** (lbs)],MATCH(D334,SignalHeads[Code],0))),IF(E334=\"\",0,INDEX(SignalHeads[Weight*** (lbs)],MATCH(E334,SignalHeads[Code],0))),IF(F334=\"\",0,INDEX(SignalHeads[Weight*** (lbs)],MATCH(F334,SignalHeads[Code],0))),IF(G334=\"\",0,INDEX(SignalHeads[Weight*** (lbs)],MATCH(G334,SignalHeads[Code],0))),IF(H334=\"\",0,INDEX(SignalHeads[Weight*** (lbs)],MATCH(H334,SignalHeads[Code],0))),IF(I334=\"\",0,INDEX(SignalHeads[Weight*** (lbs)],MATCH(I334,SignalHeads[Code],0))))","v":0},{"$f":"IF(A334<=$I$8,INDEX(DesignConstants[Value],MATCH(\"Span Wire Weight (plf)\",DesignConstants[Design Constant],0)),0)","v":1.155},0,356.3175,{"$error":"#VALUE!"},{"$error":"#VALUE!"},{"$error":"#N/A"},{"$error":"#N/A"},{"$f":"SUM(IF(B334=\"\",0,INDEX(SignalHeads[Height ** (feet)],MATCH(B334,SignalHeads[Code],0))),IF(D334=\"\",0,INDEX(SignalHeads[Height ** (feet)],MATCH(D334,SignalHeads[Code],0))),IF(E334=\"\",0,INDEX(SignalHeads[Height ** (feet)],MATCH(E334,SignalHeads[Code],0))),IF(F334=\"\",0,INDEX(SignalHeads[Height ** (feet)],MATCH(F334,SignalHeads[Code],0))),IF(G334=\"\",0,INDEX(SignalHeads[Height ** (feet)],MATCH(G334,SignalHeads[Code],0))),IF(H334=\"\",0,INDEX(SignalHeads[Height ** (feet)],MATCH(H334,SignalHeads[Code],0))),IF(I334=\"\",0,INDEX(SignalHeads[Height ** (feet)],MATCH(I334,SignalHeads[Code],0))))","v":0},{"$f":"IF(S334=0,\"\",ROUNDDOWN(12*(((Q334-S334)-MIN($Q$26:$Q$425-$S$26:$S$425)-(MAX($S$26:$S$425*(($Q$26:$Q$425-$S$26:$S$425)=MIN($Q$26:$Q$425-$S$26:$S$425)))-S334))+(MIN($Q$26:$Q$425-$S$26:$S$425)-$I$10)),0)/12)","v":""},"",{"$error":"#N/A"},17]
[310,null,null,null,null,null,null,null,null,{"$f":"SUM(IF(B335=\"\",0,INDEX(SignalHeads[Perp. Wind Area (sft)],MATCH(B335,SignalHeads[Code],0))),IF(D335=\"\",0,INDEX(SignalHeads[Perp. Wind Area (sft)],MATCH(D335,SignalHeads[Code],0))),IF(E335=\"\",0,INDEX(SignalHeads[Perp. Wind Area (sft)],MATCH(E335,SignalHeads[Code],0))),IF(F335=\"\",0,INDEX(SignalHeads[Perp. Wind Area (sft)],MATCH(F335,SignalHeads[Code],0))),IF(G335=\"\",0,INDEX(SignalHeads[Perp. Wind Area (sft)],MATCH(G335,SignalHeads[Code],0))),IF(H335=\"\",0,INDEX(SignalHeads[Perp. Wind Area (sft)],MATCH(H335,SignalHeads[Code],0))),IF(I335=\"\",0,INDEX(SignalHeads[Perp. Wind Area (sft)],MATCH(I335,SignalHeads[Code],0))))","v":0},{"$f":"SUM(IF(B335=\"\",0,INDEX(SignalHeads[Weight*** (lbs)],MATCH(B335,SignalHeads[Code],0))),IF(D335=\"\",0,INDEX(SignalHeads[Weight*** (lbs)],MATCH(D335,SignalHeads[Code],0))),IF(E335=\"\",0,INDEX(SignalHeads[Weight*** (lbs)],MATCH(E335,SignalHeads[Code],0))),IF(F335=\"\",0,INDEX(SignalHeads[Weight*** (lbs)],MATCH(F335,SignalHeads[Code],0))),IF(G335=\"\",0,INDEX(SignalHeads[Weight*** (lbs)],MATCH(G335,SignalHeads[Code],0))),IF(H335=\"\",0,INDEX(SignalHeads[Weight*** (lbs)],MATCH(H335,SignalHeads[Code],0))),IF(I335=\"\",0,INDEX(SignalHeads[Weight*** (lbs)],MATCH(I335,SignalHeads[Code],0))))","v":0},{"$f":"IF(A335<=$I$8,INDEX(DesignConstants[Value],MATCH(\"Span Wire Weight (plf)\",DesignConstants[Design Constant],0)),0)","v":1.155},0,357.47250000000003,{"$error":"#VALUE!"},{"$error":"#VALUE!"},{"$error":"#N/A"},{"$error":"#N/A"},{"$f":"SUM(IF(B335=\"\",0,INDEX(SignalHeads[Height ** (feet)],MATCH(B335,SignalHeads[Code],0))),IF(D335=\"\",0,INDEX(SignalHeads[Height ** (feet)],MATCH(D335,SignalHeads[Code],0))),IF(E335=\"\",0,INDEX(SignalHeads[Height ** (feet)],MATCH(E335,SignalHeads[Code],0))),IF(F335=\"\",0,INDEX(SignalHeads[Height ** (feet)],MATCH(F335,SignalHeads[Code],0))),IF(G335=\"\",0,INDEX(SignalHeads[Height ** (feet)],MATCH(G335,SignalHeads[Code],0))),IF(H335=\"\",0,INDEX(SignalHeads[Height ** (feet)],MATCH(H335,SignalHeads[Code],0))),IF(I335=\"\",0,INDEX(SignalHeads[Height ** (feet)],MATCH(I335,SignalHeads[Code],0))))","v":0},{"$f":"IF(S335=0,\"\",ROUNDDOWN(12*(((Q335-S335)-MIN($Q$26:$Q$425-$S$26:$S$425)-(MAX($S$26:$S$425*(($Q$26:$Q$425-$S$26:$S$425)=MIN($Q$26:$Q$425-$S$26:$S$425)))-S335))+(MIN($Q$26:$Q$425-$S$26:$S$425)-$I$10)),0)/12)","v":""},"",{"$error":"#N/A"},17]
[311,null,null,null,null,null,null,null,null,{"$f":"SUM(IF(B336=\"\",0,INDEX(SignalHeads[Perp. Wind Area (sft)],MATCH(B336,SignalHeads[Code],0))),IF(D336=\"\",0,INDEX(SignalHeads[Perp. Wind Area (sft)],MATCH(D336,SignalHeads[Code],0))),IF(E336=\"\",0,INDEX(SignalHeads[Perp. Wind Area (sft)],MATCH(E336,SignalHeads[Code],0))),IF(F336=\"\",0,INDEX(SignalHeads[Perp. Wind Area (sft)],MATCH(F336,SignalHeads[Code],0))),IF(G336=\"\",0,INDEX(SignalHeads[Perp. Wind Area (sft)],MATCH(G336,SignalHeads[Code],0))),IF(H336=\"\",0,INDEX(SignalHeads[Perp. Wind Area (sft)],MATCH(H336,SignalHeads[Code],0))),IF(I336=\"\",0,INDEX(SignalHeads[Perp. Wind Area (sft)],MATCH(I336,SignalHeads[Code],0))))","v":0},{"$f":"SUM(IF(B336=\"\",0,INDEX(SignalHeads[Weight*** (lbs)],MATCH(B336,SignalHeads[Code],0))),IF(D336=\"\",0,INDEX(SignalHeads[Weight*** (lbs)],MATCH(D336,SignalHeads[Code],0))),IF(E336=\"\",0,INDEX(SignalHeads[Weight*** (lbs)],MATCH(E336,SignalHeads[Code],0))),IF(F336=\"\",0,INDEX(SignalHeads[Weight*** (lbs)],MATCH(F336,SignalHeads[Code],0))),IF(G336=\"\",0,INDEX(SignalHeads[Weight*** (lbs)],MATCH(G336,SignalHeads[Code],0))),IF(H336=\"\",0,INDEX(SignalHeads[Weight*** (lbs)],MATCH(H336,SignalHeads[Code],0))),IF(I336=\"\",0,INDEX(SignalHeads[Weight*** (lbs)],MATCH(I336,SignalHeads[Code],0))))","v":0},{"$f":"IF(A336<=$I$8,INDEX(DesignConstants[Value],MATCH(\"Span Wire Weight (plf)\",DesignConstants[Design Constant],0)),0)","v":1.155},0,358.6275,{"$error":"#VALUE!"},{"$error":"#VALUE!"},{"$error":"#N/A"},{"$error":"#N/A"},{"$f":"SUM(IF(B336=\"\",0,INDEX(SignalHeads[Height ** (feet)],MATCH(B336,SignalHeads[Code],0))),IF(D336=\"\",0,INDEX(SignalHeads[Height ** (feet)],MATCH(D336,SignalHeads[Code],0))),IF(E336=\"\",0,INDEX(SignalHeads[Height ** (feet)],MATCH(E336,SignalHeads[Code],0))),IF(F336=\"\",0,INDEX(SignalHeads[Height ** (feet)],MATCH(F336,SignalHeads[Code],0))),IF(G336=\"\",0,INDEX(SignalHeads[Height ** (feet)],MATCH(G336,SignalHeads[Code],0))),IF(H336=\"\",0,INDEX(SignalHeads[Height ** (feet)],MATCH(H336,SignalHeads[Code],0))),IF(I336=\"\",0,INDEX(SignalHeads[Height ** (feet)],MATCH(I336,SignalHeads[Code],0))))","v":0},{"$f":"IF(S336=0,\"\",ROUNDDOWN(12*(((Q336-S336)-MIN($Q$26:$Q$425-$S$26:$S$425)-(MAX($S$26:$S$425*(($Q$26:$Q$425-$S$26:$S$425)=MIN($Q$26:$Q$425-$S$26:$S$425)))-S336))+(MIN($Q$26:$Q$425-$S$26:$S$425)-$I$10)),0)/12)","v":""},"",{"$error":"#N/A"},17]
[312,null,null,null,null,null,null,null,null,{"$f":"SUM(IF(B337=\"\",0,INDEX(SignalHeads[Perp. Wind Area (sft)],MATCH(B337,SignalHeads[Code],0))),IF(D337=\"\",0,INDEX(SignalHeads[Perp. Wind Area (sft)],MATCH(D337,SignalHeads[Code],0))),IF(E337=\"\",0,INDEX(SignalHeads[Perp. Wind Area (sft)],MATCH(E337,SignalHeads[Code],0))),IF(F337=\"\",0,INDEX(SignalHeads[Perp. Wind Area (sft)],MATCH(F337,SignalHeads[Code],0))),IF(G337=\"\",0,INDEX(SignalHeads[Perp. Wind Area (sft)],MATCH(G337,SignalHeads[Code],0))),IF(H337=\"\",0,INDEX(SignalHeads[Perp. Wind Area (sft)],MATCH(H337,SignalHeads[Code],0))),IF(I337=\"\",0,INDEX(SignalHeads[Perp. Wind Area (sft)],MATCH(I337,SignalHeads[Code],0))))","v":0},{"$f":"SUM(IF(B337=\"\",0,INDEX(SignalHeads[Weight*** (lbs)],MATCH(B337,SignalHeads[Code],0))),IF(D337=\"\",0,INDEX(SignalHeads[Weight*** (lbs)],MATCH(D337,SignalHeads[Code],0))),IF(E337=\"\",0,INDEX(SignalHeads[Weight*** (lbs)],MATCH(E337,SignalHeads[Code],0))),IF(F337=\"\",0,INDEX(SignalHeads[Weight*** (lbs)],MATCH(F337,SignalHeads[Code],0))),IF(G337=\"\",0,INDEX(SignalHeads[Weight*** (lbs)],MATCH(G337,SignalHeads[Code],0))),IF(H337=\"\",0,INDEX(SignalHeads[Weight*** (lbs)],MATCH(H337,SignalHeads[Code],0))),IF(I337=\"\",0,INDEX(SignalHeads[Weight*** (lbs)],MATCH(I337,SignalHeads[Code],0))))","v":0},{"$f":"IF(A337<=$I$8,INDEX(DesignConstants[Value],MATCH(\"Span Wire Weight (plf)\",DesignConstants[Design Constant],0)),0)","v":1.155},0,359.78250000000003,{"$error":"#VALUE!"},{"$error":"#VALUE!"},{"$error":"#N/A"},{"$error":"#N/A"},{"$f":"SUM(IF(B337=\"\",0,INDEX(SignalHeads[Height ** (feet)],MATCH(B337,SignalHeads[Code],0))),IF(D337=\"\",0,INDEX(SignalHeads[Height ** (feet)],MATCH(D337,SignalHeads[Code],0))),IF(E337=\"\",0,INDEX(SignalHeads[Height ** (feet)],MATCH(E337,SignalHeads[Code],0))),IF(F337=\"\",0,INDEX(SignalHeads[Height ** (feet)],MATCH(F337,SignalHeads[Code],0))),IF(G337=\"\",0,INDEX(SignalHeads[Height ** (feet)],MATCH(G337,SignalHeads[Code],0))),IF(H337=\"\",0,INDEX(SignalHeads[Height ** (feet)],MATCH(H337,SignalHeads[Code],0))),IF(I337=\"\",0,INDEX(SignalHeads[Height ** (feet)],MATCH(I337,SignalHeads[Code],0))))","v":0},{"$f":"IF(S337=0,\"\",ROUNDDOWN(12*(((Q337-S337)-MIN($Q$26:$Q$425-$S$26:$S$425)-(MAX($S$26:$S$425*(($Q$26:$Q$425-$S$26:$S$425)=MIN($Q$26:$Q$425-$S$26:$S$425)))-S337))+(MIN($Q$26:$Q$425-$S$26:$S$425)-$I$10)),0)/12)","v":""},"",{"$error":"#N/A"},17]
[313,null,null,null,null,null,null,null,null,{"$f":"SUM(IF(B338=\"\",0,INDEX(SignalHeads[Perp. Wind Area (sft)],MATCH(B338,SignalHeads[Code],0))),IF(D338=\"\",0,INDEX(SignalHeads[Perp. Wind Area (sft)],MATCH(D338,SignalHeads[Code],0))),IF(E338=\"\",0,INDEX(SignalHeads[Perp. Wind Area (sft)],MATCH(E338,SignalHeads[Code],0))),IF(F338=\"\",0,INDEX(SignalHeads[Perp. Wind Area (sft)],MATCH(F338,SignalHeads[Code],0))),IF(G338=\"\",0,INDEX(SignalHeads[Perp. Wind Area (sft)],MATCH(G338,SignalHeads[Code],0))),IF(H338=\"\",0,INDEX(SignalHeads[Perp. Wind Area (sft)],MATCH(H338,SignalHeads[Code],0))),IF(I338=\"\",0,INDEX(SignalHeads[Perp. Wind Area (sft)],MATCH(I338,SignalHeads[Code],0))))","v":0},{"$f":"SUM(IF(B338=\"\",0,INDEX(SignalHeads[Weight*** (lbs)],MATCH(B338,SignalHeads[Code],0))),IF(D338=\"\",0,INDEX(SignalHeads[Weight*** (lbs)],MATCH(D338,SignalHeads[Code],0))),IF(E338=\"\",0,INDEX(SignalHeads[Weight*** (lbs)],MATCH(E338,SignalHeads[Code],0))),IF(F338=\"\",0,INDEX(SignalHeads[Weight*** (lbs)],MATCH(F338,SignalHeads[Code],0))),IF(G338=\"\",0,INDEX(SignalHeads[Weight*** (lbs)],MATCH(G338,SignalHeads[Code],0))),IF(H338=\"\",0,INDEX(SignalHeads[Weight*** (lbs)],MATCH(H338,SignalHeads[Code],0))),IF(I338=\"\",0,INDEX(SignalHeads[Weight*** (lbs)],MATCH(I338,SignalHeads[Code],0))))","v":0},{"$f":"IF(A338<=$I$8,INDEX(DesignConstants[Value],MATCH(\"Span Wire Weight (plf)\",DesignConstants[Design Constant],0)),0)","v":1.155},0,360.9375,{"$error":"#VALUE!"},{"$error":"#VALUE!"},{"$error":"#N/A"},{"$error":"#N/A"},{"$f":"SUM(IF(B338=\"\",0,INDEX(SignalHeads[Height ** (feet)],MATCH(B338,SignalHeads[Code],0))),IF(D338=\"\",0,INDEX(SignalHeads[Height ** (feet)],MATCH(D338,SignalHeads[Code],0))),IF(E338=\"\",0,INDEX(SignalHeads[Height ** (feet)],MATCH(E338,SignalHeads[Code],0))),IF(F338=\"\",0,INDEX(SignalHeads[Height ** (feet)],MATCH(F338,SignalHeads[Code],0))),IF(G338=\"\",0,INDEX(SignalHeads[Height ** (feet)],MATCH(G338,SignalHeads[Code],0))),IF(H338=\"\",0,INDEX(SignalHeads[Height ** (feet)],MATCH(H338,SignalHeads[Code],0))),IF(I338=\"\",0,INDEX(SignalHeads[Height ** (feet)],MATCH(I338,SignalHeads[Code],0))))","v":0},{"$f":"IF(S338=0,\"\",ROUNDDOWN(12*(((Q338-S338)-MIN($Q$26:$Q$425-$S$26:$S$425)-(MAX($S$26:$S$425*(($Q$26:$Q$425-$S$26:$S$425)=MIN($Q$26:$Q$425-$S$26:$S$425)))-S338))+(MIN($Q$26:$Q$425-$S$26:$S$425)-$I$10)),0)/12)","v":""},"",{"$error":"#N/A"},17]
[314,null,null,null,null,null,null,null,null,{"$f":"SUM(IF(B339=\"\",0,INDEX(SignalHeads[Perp. Wind Area (sft)],MATCH(B339,SignalHeads[Code],0))),IF(D339=\"\",0,INDEX(SignalHeads[Perp. Wind Area (sft)],MATCH(D339,SignalHeads[Code],0))),IF(E339=\"\",0,INDEX(SignalHeads[Perp. Wind Area (sft)],MATCH(E339,SignalHeads[Code],0))),IF(F339=\"\",0,INDEX(SignalHeads[Perp. Wind Area (sft)],MATCH(F339,SignalHeads[Code],0))),IF(G339=\"\",0,INDEX(SignalHeads[Perp. Wind Area (sft)],MATCH(G339,SignalHeads[Code],0))),IF(H339=\"\",0,INDEX(SignalHeads[Perp. Wind Area (sft)],MATCH(H339,SignalHeads[Code],0))),IF(I339=\"\",0,INDEX(SignalHeads[Perp. Wind Area (sft)],MATCH(I339,SignalHeads[Code],0))))","v":0},{"$f":"SUM(IF(B339=\"\",0,INDEX(SignalHeads[Weight*** (lbs)],MATCH(B339,SignalHeads[Code],0))),IF(D339=\"\",0,INDEX(SignalHeads[Weight*** (lbs)],MATCH(D339,SignalHeads[Code],0))),IF(E339=\"\",0,INDEX(SignalHeads[Weight*** (lbs)],MATCH(E339,SignalHeads[Code],0))),IF(F339=\"\",0,INDEX(SignalHeads[Weight*** (lbs)],MATCH(F339,SignalHeads[Code],0))),IF(G339=\"\",0,INDEX(SignalHeads[Weight*** (lbs)],MATCH(G339,SignalHeads[Code],0))),IF(H339=\"\",0,INDEX(SignalHeads[Weight*** (lbs)],MATCH(H339,SignalHeads[Code],0))),IF(I339=\"\",0,INDEX(SignalHeads[Weight*** (lbs)],MATCH(I339,SignalHeads[Code],0))))","v":0},{"$f":"IF(A339<=$I$8,INDEX(DesignConstants[Value],MATCH(\"Span Wire Weight (plf)\",DesignConstants[Design Constant],0)),0)","v":1.155},0,362.09250000000003,{"$error":"#VALUE!"},{"$error":"#VALUE!"},{"$error":"#N/A"},{"$error":"#N/A"},{"$f":"SUM(IF(B339=\"\",0,INDEX(SignalHeads[Height ** (feet)],MATCH(B339,SignalHeads[Code],0))),IF(D339=\"\",0,INDEX(SignalHeads[Height ** (feet)],MATCH(D339,SignalHeads[Code],0))),IF(E339=\"\",0,INDEX(SignalHeads[Height ** (feet)],MATCH(E339,SignalHeads[Code],0))),IF(F339=\"\",0,INDEX(SignalHeads[Height ** (feet)],MATCH(F339,SignalHeads[Code],0))),IF(G339=\"\",0,INDEX(SignalHeads[Height ** (feet)],MATCH(G339,SignalHeads[Code],0))),IF(H339=\"\",0,INDEX(SignalHeads[Height ** (feet)],MATCH(H339,SignalHeads[Code],0))),IF(I339=\"\",0,INDEX(SignalHeads[Height ** (feet)],MATCH(I339,SignalHeads[Code],0))))","v":0},{"$f":"IF(S339=0,\"\",ROUNDDOWN(12*(((Q339-S339)-MIN($Q$26:$Q$425-$S$26:$S$425)-(MAX($S$26:$S$425*(($Q$26:$Q$425-$S$26:$S$425)=MIN($Q$26:$Q$425-$S$26:$S$425)))-S339))+(MIN($Q$26:$Q$425-$S$26:$S$425)-$I$10)),0)/12)","v":""},"",{"$error":"#N/A"},17]
[315,null,null,null,null,null,null,null,null,{"$f":"SUM(IF(B340=\"\",0,INDEX(SignalHeads[Perp. Wind Area (sft)],MATCH(B340,SignalHeads[Code],0))),IF(D340=\"\",0,INDEX(SignalHeads[Perp. Wind Area (sft)],MATCH(D340,SignalHeads[Code],0))),IF(E340=\"\",0,INDEX(SignalHeads[Perp. Wind Area (sft)],MATCH(E340,SignalHeads[Code],0))),IF(F340=\"\",0,INDEX(SignalHeads[Perp. Wind Area (sft)],MATCH(F340,SignalHeads[Code],0))),IF(G340=\"\",0,INDEX(SignalHeads[Perp. Wind Area (sft)],MATCH(G340,SignalHeads[Code],0))),IF(H340=\"\",0,INDEX(SignalHeads[Perp. Wind Area (sft)],MATCH(H340,SignalHeads[Code],0))),IF(I340=\"\",0,INDEX(SignalHeads[Perp. Wind Area (sft)],MATCH(I340,SignalHeads[Code],0))))","v":0},{"$f":"SUM(IF(B340=\"\",0,INDEX(SignalHeads[Weight*** (lbs)],MATCH(B340,SignalHeads[Code],0))),IF(D340=\"\",0,INDEX(SignalHeads[Weight*** (lbs)],MATCH(D340,SignalHeads[Code],0))),IF(E340=\"\",0,INDEX(SignalHeads[Weight*** (lbs)],MATCH(E340,SignalHeads[Code],0))),IF(F340=\"\",0,INDEX(SignalHeads[Weight*** (lbs)],MATCH(F340,SignalHeads[Code],0))),IF(G340=\"\",0,INDEX(SignalHeads[Weight*** (lbs)],MATCH(G340,SignalHeads[Code],0))),IF(H340=\"\",0,INDEX(SignalHeads[Weight*** (lbs)],MATCH(H340,SignalHeads[Code],0))),IF(I340=\"\",0,INDEX(SignalHeads[Weight*** (lbs)],MATCH(I340,SignalHeads[Code],0))))","v":0},{"$f":"IF(A340<=$I$8,INDEX(DesignConstants[Value],MATCH(\"Span Wire Weight (plf)\",DesignConstants[Design Constant],0)),0)","v":1.155},0,363.2475,{"$error":"#VALUE!"},{"$error":"#VALUE!"},{"$error":"#N/A"},{"$error":"#N/A"},{"$f":"SUM(IF(B340=\"\",0,INDEX(SignalHeads[Height ** (feet)],MATCH(B340,SignalHeads[Code],0))),IF(D340=\"\",0,INDEX(SignalHeads[Height ** (feet)],MATCH(D340,SignalHeads[Code],0))),IF(E340=\"\",0,INDEX(SignalHeads[Height ** (feet)],MATCH(E340,SignalHeads[Code],0))),IF(F340=\"\",0,INDEX(SignalHeads[Height ** (feet)],MATCH(F340,SignalHeads[Code],0))),IF(G340=\"\",0,INDEX(SignalHeads[Height ** (feet)],MATCH(G340,SignalHeads[Code],0))),IF(H340=\"\",0,INDEX(SignalHeads[Height ** (feet)],MATCH(H340,SignalHeads[Code],0))),IF(I340=\"\",0,INDEX(SignalHeads[Height ** (feet)],MATCH(I340,SignalHeads[Code],0))))","v":0},{"$f":"IF(S340=0,\"\",ROUNDDOWN(12*(((Q340-S340)-MIN($Q$26:$Q$425-$S$26:$S$425)-(MAX($S$26:$S$425*(($Q$26:$Q$425-$S$26:$S$425)=MIN($Q$26:$Q$425-$S$26:$S$425)))-S340))+(MIN($Q$26:$Q$425-$S$26:$S$425)-$I$10)),0)/12)","v":""},"",{"$error":"#N/A"},17]
[316,null,null,null,null,null,null,null,null,{"$f":"SUM(IF(B341=\"\",0,INDEX(SignalHeads[Perp. Wind Area (sft)],MATCH(B341,SignalHeads[Code],0))),IF(D341=\"\",0,INDEX(SignalHeads[Perp. Wind Area (sft)],MATCH(D341,SignalHeads[Code],0))),IF(E341=\"\",0,INDEX(SignalHeads[Perp. Wind Area (sft)],MATCH(E341,SignalHeads[Code],0))),IF(F341=\"\",0,INDEX(SignalHeads[Perp. Wind Area (sft)],MATCH(F341,SignalHeads[Code],0))),IF(G341=\"\",0,INDEX(SignalHeads[Perp. Wind Area (sft)],MATCH(G341,SignalHeads[Code],0))),IF(H341=\"\",0,INDEX(SignalHeads[Perp. Wind Area (sft)],MATCH(H341,SignalHeads[Code],0))),IF(I341=\"\",0,INDEX(SignalHeads[Perp. Wind Area (sft)],MATCH(I341,SignalHeads[Code],0))))","v":0},{"$f":"SUM(IF(B341=\"\",0,INDEX(SignalHeads[Weight*** (lbs)],MATCH(B341,SignalHeads[Code],0))),IF(D341=\"\",0,INDEX(SignalHeads[Weight*** (lbs)],MATCH(D341,SignalHeads[Code],0))),IF(E341=\"\",0,INDEX(SignalHeads[Weight*** (lbs)],MATCH(E341,SignalHeads[Code],0))),IF(F341=\"\",0,INDEX(SignalHeads[Weight*** (lbs)],MATCH(F341,SignalHeads[Code],0))),IF(G341=\"\",0,INDEX(SignalHeads[Weight*** (lbs)],MATCH(G341,SignalHeads[Code],0))),IF(H341=\"\",0,INDEX(SignalHeads[Weight*** (lbs)],MATCH(H341,SignalHeads[Code],0))),IF(I341=\"\",0,INDEX(SignalHeads[Weight*** (lbs)],MATCH(I341,SignalHeads[Code],0))))","v":0},{"$f":"IF(A341<=$I$8,INDEX(DesignConstants[Value],MATCH(\"Span Wire Weight (plf)\",DesignConstants[Design Constant],0)),0)","v":1.155},0,364.40250000000003,{"$error":"#VALUE!"},{"$error":"#VALUE!"},{"$error":"#N/A"},{"$error":"#N/A"},{"$f":"SUM(IF(B341=\"\",0,INDEX(SignalHeads[Height ** (feet)],MATCH(B341,SignalHeads[Code],0))),IF(D341=\"\",0,INDEX(SignalHeads[Height ** (feet)],MATCH(D341,SignalHeads[Code],0))),IF(E341=\"\",0,INDEX(SignalHeads[Height ** (feet)],MATCH(E341,SignalHeads[Code],0))),IF(F341=\"\",0,INDEX(SignalHeads[Height ** (feet)],MATCH(F341,SignalHeads[Code],0))),IF(G341=\"\",0,INDEX(SignalHeads[Height ** (feet)],MATCH(G341,SignalHeads[Code],0))),IF(H341=\"\",0,INDEX(SignalHeads[Height ** (feet)],MATCH(H341,SignalHeads[Code],0))),IF(I341=\"\",0,INDEX(SignalHeads[Height ** (feet)],MATCH(I341,SignalHeads[Code],0))))","v":0},{"$f":"IF(S341=0,\"\",ROUNDDOWN(12*(((Q341-S341)-MIN($Q$26:$Q$425-$S$26:$S$425)-(MAX($S$26:$S$425*(($Q$26:$Q$425-$S$26:$S$425)=MIN($Q$26:$Q$425-$S$26:$S$425)))-S341))+(MIN($Q$26:$Q$425-$S$26:$S$425)-$I$10)),0)/12)","v":""},"",{"$error":"#N/A"},17]
[317,null,null,null,null,null,null,null,null,{"$f":"SUM(IF(B342=\"\",0,INDEX(SignalHeads[Perp. Wind Area (sft)],MATCH(B342,SignalHeads[Code],0))),IF(D342=\"\",0,INDEX(SignalHeads[Perp. Wind Area (sft)],MATCH(D342,SignalHeads[Code],0))),IF(E342=\"\",0,INDEX(SignalHeads[Perp. Wind Area (sft)],MATCH(E342,SignalHeads[Code],0))),IF(F342=\"\",0,INDEX(SignalHeads[Perp. Wind Area (sft)],MATCH(F342,SignalHeads[Code],0))),IF(G342=\"\",0,INDEX(SignalHeads[Perp. Wind Area (sft)],MATCH(G342,SignalHeads[Code],0))),IF(H342=\"\",0,INDEX(SignalHeads[Perp. Wind Area (sft)],MATCH(H342,SignalHeads[Code],0))),IF(I342=\"\",0,INDEX(SignalHeads[Perp. Wind Area (sft)],MATCH(I342,SignalHeads[Code],0))))","v":0},{"$f":"SUM(IF(B342=\"\",0,INDEX(SignalHeads[Weight*** (lbs)],MATCH(B342,SignalHeads[Code],0))),IF(D342=\"\",0,INDEX(SignalHeads[Weight*** (lbs)],MATCH(D342,SignalHeads[Code],0))),IF(E342=\"\",0,INDEX(SignalHeads[Weight*** (lbs)],MATCH(E342,SignalHeads[Code],0))),IF(F342=\"\",0,INDEX(SignalHeads[Weight*** (lbs)],MATCH(F342,SignalHeads[Code],0))),IF(G342=\"\",0,INDEX(SignalHeads[Weight*** (lbs)],MATCH(G342,SignalHeads[Code],0))),IF(H342=\"\",0,INDEX(SignalHeads[Weight*** (lbs)],MATCH(H342,SignalHeads[Code],0))),IF(I342=\"\",0,INDEX(SignalHeads[Weight*** (lbs)],MATCH(I342,SignalHeads[Code],0))))","v":0},{"$f":"IF(A342<=$I$8,INDEX(DesignConstants[Value],MATCH(\"Span Wire Weight (plf)\",DesignConstants[Design Constant],0)),0)","v":1.155},0,365.5575,{"$error":"#VALUE!"},{"$error":"#VALUE!"},{"$error":"#N/A"},{"$error":"#N/A"},{"$f":"SUM(IF(B342=\"\",0,INDEX(SignalHeads[Height ** (feet)],MATCH(B342,SignalHeads[Code],0))),IF(D342=\"\",0,INDEX(SignalHeads[Height ** (feet)],MATCH(D342,SignalHeads[Code],0))),IF(E342=\"\",0,INDEX(SignalHeads[Height ** (feet)],MATCH(E342,SignalHeads[Code],0))),IF(F342=\"\",0,INDEX(SignalHeads[Height ** (feet)],MATCH(F342,SignalHeads[Code],0))),IF(G342=\"\",0,INDEX(SignalHeads[Height ** (feet)],MATCH(G342,SignalHeads[Code],0))),IF(H342=\"\",0,INDEX(SignalHeads[Height ** (feet)],MATCH(H342,SignalHeads[Code],0))),IF(I342=\"\",0,INDEX(SignalHeads[Height ** (feet)],MATCH(I342,SignalHeads[Code],0))))","v":0},{"$f":"IF(S342=0,\"\",ROUNDDOWN(12*(((Q342-S342)-MIN($Q$26:$Q$425-$S$26:$S$425)-(MAX($S$26:$S$425*(($Q$26:$Q$425-$S$26:$S$425)=MIN($Q$26:$Q$425-$S$26:$S$425)))-S342))+(MIN($Q$26:$Q$425-$S$26:$S$425)-$I$10)),0)/12)","v":""},"",{"$error":"#N/A"},17]
[318,null,null,null,null,null,null,null,null,{"$f":"SUM(IF(B343=\"\",0,INDEX(SignalHeads[Perp. Wind Area (sft)],MATCH(B343,SignalHeads[Code],0))),IF(D343=\"\",0,INDEX(SignalHeads[Perp. Wind Area (sft)],MATCH(D343,SignalHeads[Code],0))),IF(E343=\"\",0,INDEX(SignalHeads[Perp. Wind Area (sft)],MATCH(E343,SignalHeads[Code],0))),IF(F343=\"\",0,INDEX(SignalHeads[Perp. Wind Area (sft)],MATCH(F343,SignalHeads[Code],0))),IF(G343=\"\",0,INDEX(SignalHeads[Perp. Wind Area (sft)],MATCH(G343,SignalHeads[Code],0))),IF(H343=\"\",0,INDEX(SignalHeads[Perp. Wind Area (sft)],MATCH(H343,SignalHeads[Code],0))),IF(I343=\"\",0,INDEX(SignalHeads[Perp. Wind Area (sft)],MATCH(I343,SignalHeads[Code],0))))","v":0},{"$f":"SUM(IF(B343=\"\",0,INDEX(SignalHeads[Weight*** (lbs)],MATCH(B343,SignalHeads[Code],0))),IF(D343=\"\",0,INDEX(SignalHeads[Weight*** (lbs)],MATCH(D343,SignalHeads[Code],0))),IF(E343=\"\",0,INDEX(SignalHeads[Weight*** (lbs)],MATCH(E343,SignalHeads[Code],0))),IF(F343=\"\",0,INDEX(SignalHeads[Weight*** (lbs)],MATCH(F343,SignalHeads[Code],0))),IF(G343=\"\",0,INDEX(SignalHeads[Weight*** (lbs)],MATCH(G343,SignalHeads[Code],0))),IF(H343=\"\",0,INDEX(SignalHeads[Weight*** (lbs)],MATCH(H343,SignalHeads[Code],0))),IF(I343=\"\",0,INDEX(SignalHeads[Weight*** (lbs)],MATCH(I343,SignalHeads[Code],0))))","v":0},{"$f":"IF(A343<=$I$8,INDEX(DesignConstants[Value],MATCH(\"Span Wire Weight (plf)\",DesignConstants[Design Constant],0)),0)","v":1.155},0,366.71250000000003,{"$error":"#VALUE!"},{"$error":"#VALUE!"},{"$error":"#N/A"},{"$error":"#N/A"},{"$f":"SUM(IF(B343=\"\",0,INDEX(SignalHeads[Height ** (feet)],MATCH(B343,SignalHeads[Code],0))),IF(D343=\"\",0,INDEX(SignalHeads[Height ** (feet)],MATCH(D343,SignalHeads[Code],0))),IF(E343=\"\",0,INDEX(SignalHeads[Height ** (feet)],MATCH(E343,SignalHeads[Code],0))),IF(F343=\"\",0,INDEX(SignalHeads[Height ** (feet)],MATCH(F343,SignalHeads[Code],0))),IF(G343=\"\",0,INDEX(SignalHeads[Height ** (feet)],MATCH(G343,SignalHeads[Code],0))),IF(H343=\"\",0,INDEX(SignalHeads[Height ** (feet)],MATCH(H343,SignalHeads[Code],0))),IF(I343=\"\",0,INDEX(SignalHeads[Height ** (feet)],MATCH(I343,SignalHeads[Code],0))))","v":0},{"$f":"IF(S343=0,\"\",ROUNDDOWN(12*(((Q343-S343)-MIN($Q$26:$Q$425-$S$26:$S$425)-(MAX($S$26:$S$425*(($Q$26:$Q$425-$S$26:$S$425)=MIN($Q$26:$Q$425-$S$26:$S$425)))-S343))+(MIN($Q$26:$Q$425-$S$26:$S$425)-$I$10)),0)/12)","v":""},"",{"$error":"#N/A"},17]
[319,null,null,null,null,null,null,null,null,{"$f":"SUM(IF(B344=\"\",0,INDEX(SignalHeads[Perp. Wind Area (sft)],MATCH(B344,SignalHeads[Code],0))),IF(D344=\"\",0,INDEX(SignalHeads[Perp. Wind Area (sft)],MATCH(D344,SignalHeads[Code],0))),IF(E344=\"\",0,INDEX(SignalHeads[Perp. Wind Area (sft)],MATCH(E344,SignalHeads[Code],0))),IF(F344=\"\",0,INDEX(SignalHeads[Perp. Wind Area (sft)],MATCH(F344,SignalHeads[Code],0))),IF(G344=\"\",0,INDEX(SignalHeads[Perp. Wind Area (sft)],MATCH(G344,SignalHeads[Code],0))),IF(H344=\"\",0,INDEX(SignalHeads[Perp. Wind Area (sft)],MATCH(H344,SignalHeads[Code],0))),IF(I344=\"\",0,INDEX(SignalHeads[Perp. Wind Area (sft)],MATCH(I344,SignalHeads[Code],0))))","v":0},{"$f":"SUM(IF(B344=\"\",0,INDEX(SignalHeads[Weight*** (lbs)],MATCH(B344,SignalHeads[Code],0))),IF(D344=\"\",0,INDEX(SignalHeads[Weight*** (lbs)],MATCH(D344,SignalHeads[Code],0))),IF(E344=\"\",0,INDEX(SignalHeads[Weight*** (lbs)],MATCH(E344,SignalHeads[Code],0))),IF(F344=\"\",0,INDEX(SignalHeads[Weight*** (lbs)],MATCH(F344,SignalHeads[Code],0))),IF(G344=\"\",0,INDEX(SignalHeads[Weight*** (lbs)],MATCH(G344,SignalHeads[Code],0))),IF(H344=\"\",0,INDEX(SignalHeads[Weight*** (lbs)],MATCH(H344,SignalHeads[Code],0))),IF(I344=\"\",0,INDEX(SignalHeads[Weight*** (lbs)],MATCH(I344,SignalHeads[Code],0))))","v":0},{"$f":"IF(A344<=$I$8,INDEX(DesignConstants[Value],MATCH(\"Span Wire Weight (plf)\",DesignConstants[Design Constant],0)),0)","v":1.155},0,367.86750000000001,{"$error":"#VALUE!"},{"$error":"#VALUE!"},{"$error":"#N/A"},{"$error":"#N/A"},{"$f":"SUM(IF(B344=\"\",0,INDEX(SignalHeads[Height ** (feet)],MATCH(B344,SignalHeads[Code],0))),IF(D344=\"\",0,INDEX(SignalHeads[Height ** (feet)],MATCH(D344,SignalHeads[Code],0))),IF(E344=\"\",0,INDEX(SignalHeads[Height ** (feet)],MATCH(E344,SignalHeads[Code],0))),IF(F344=\"\",0,INDEX(SignalHeads[Height ** (feet)],MATCH(F344,SignalHeads[Code],0))),IF(G344=\"\",0,INDEX(SignalHeads[Height ** (feet)],MATCH(G344,SignalHeads[Code],0))),IF(H344=\"\",0,INDEX(SignalHeads[Height ** (feet)],MATCH(H344,SignalHeads[Code],0))),IF(I344=\"\",0,INDEX(SignalHeads[Height ** (feet)],MATCH(I344,SignalHeads[Code],0))))","v":0},{"$f":"IF(S344=0,\"\",ROUNDDOWN(12*(((Q344-S344)-MIN($Q$26:$Q$425-$S$26:$S$425)-(MAX($S$26:$S$425*(($Q$26:$Q$425-$S$26:$S$425)=MIN($Q$26:$Q$425-$S$26:$S$425)))-S344))+(MIN($Q$26:$Q$425-$S$26:$S$425)-$I$10)),0)/12)","v":""},"",{"$error":"#N/A"},17]
[320,null,null,null,null,null,null,null,null,{"$f":"SUM(IF(B345=\"\",0,INDEX(SignalHeads[Perp. Wind Area (sft)],MATCH(B345,SignalHeads[Code],0))),IF(D345=\"\",0,INDEX(SignalHeads[Perp. Wind Area (sft)],MATCH(D345,SignalHeads[Code],0))),IF(E345=\"\",0,INDEX(SignalHeads[Perp. Wind Area (sft)],MATCH(E345,SignalHeads[Code],0))),IF(F345=\"\",0,INDEX(SignalHeads[Perp. Wind Area (sft)],MATCH(F345,SignalHeads[Code],0))),IF(G345=\"\",0,INDEX(SignalHeads[Perp. Wind Area (sft)],MATCH(G345,SignalHeads[Code],0))),IF(H345=\"\",0,INDEX(SignalHeads[Perp. Wind Area (sft)],MATCH(H345,SignalHeads[Code],0))),IF(I345=\"\",0,INDEX(SignalHeads[Perp. Wind Area (sft)],MATCH(I345,SignalHeads[Code],0))))","v":0},{"$f":"SUM(IF(B345=\"\",0,INDEX(SignalHeads[Weight*** (lbs)],MATCH(B345,SignalHeads[Code],0))),IF(D345=\"\",0,INDEX(SignalHeads[Weight*** (lbs)],MATCH(D345,SignalHeads[Code],0))),IF(E345=\"\",0,INDEX(SignalHeads[Weight*** (lbs)],MATCH(E345,SignalHeads[Code],0))),IF(F345=\"\",0,INDEX(SignalHeads[Weight*** (lbs)],MATCH(F345,SignalHeads[Code],0))),IF(G345=\"\",0,INDEX(SignalHeads[Weight*** (lbs)],MATCH(G345,SignalHeads[Code],0))),IF(H345=\"\",0,INDEX(SignalHeads[Weight*** (lbs)],MATCH(H345,SignalHeads[Code],0))),IF(I345=\"\",0,INDEX(SignalHeads[Weight*** (lbs)],MATCH(I345,SignalHeads[Code],0))))","v":0},{"$f":"IF(A345<=$I$8,INDEX(DesignConstants[Value],MATCH(\"Span Wire Weight (plf)\",DesignConstants[Design Constant],0)),0)","v":1.155},0,369.02250000000004,{"$error":"#VALUE!"},{"$error":"#VALUE!"},{"$error":"#N/A"},{"$error":"#N/A"},{"$f":"SUM(IF(B345=\"\",0,INDEX(SignalHeads[Height ** (feet)],MATCH(B345,SignalHeads[Code],0))),IF(D345=\"\",0,INDEX(SignalHeads[Height ** (feet)],MATCH(D345,SignalHeads[Code],0))),IF(E345=\"\",0,INDEX(SignalHeads[Height ** (feet)],MATCH(E345,SignalHeads[Code],0))),IF(F345=\"\",0,INDEX(SignalHeads[Height ** (feet)],MATCH(F345,SignalHeads[Code],0))),IF(G345=\"\",0,INDEX(SignalHeads[Height ** (feet)],MATCH(G345,SignalHeads[Code],0))),IF(H345=\"\",0,INDEX(SignalHeads[Height ** (feet)],MATCH(H345,SignalHeads[Code],0))),IF(I345=\"\",0,INDEX(SignalHeads[Height ** (feet)],MATCH(I345,SignalHeads[Code],0))))","v":0},{"$f":"IF(S345=0,\"\",ROUNDDOWN(12*(((Q345-S345)-MIN($Q$26:$Q$425-$S$26:$S$425)-(MAX($S$26:$S$425*(($Q$26:$Q$425-$S$26:$S$425)=MIN($Q$26:$Q$425-$S$26:$S$425)))-S345))+(MIN($Q$26:$Q$425-$S$26:$S$425)-$I$10)),0)/12)","v":""},"",{"$error":"#N/A"},17]
[321,null,null,null,null,null,null,null,null,{"$f":"SUM(IF(B346=\"\",0,INDEX(SignalHeads[Perp. Wind Area (sft)],MATCH(B346,SignalHeads[Code],0))),IF(D346=\"\",0,INDEX(SignalHeads[Perp. Wind Area (sft)],MATCH(D346,SignalHeads[Code],0))),IF(E346=\"\",0,INDEX(SignalHeads[Perp. Wind Area (sft)],MATCH(E346,SignalHeads[Code],0))),IF(F346=\"\",0,INDEX(SignalHeads[Perp. Wind Area (sft)],MATCH(F346,SignalHeads[Code],0))),IF(G346=\"\",0,INDEX(SignalHeads[Perp. Wind Area (sft)],MATCH(G346,SignalHeads[Code],0))),IF(H346=\"\",0,INDEX(SignalHeads[Perp. Wind Area (sft)],MATCH(H346,SignalHeads[Code],0))),IF(I346=\"\",0,INDEX(SignalHeads[Perp. Wind Area (sft)],MATCH(I346,SignalHeads[Code],0))))","v":0},{"$f":"SUM(IF(B346=\"\",0,INDEX(SignalHeads[Weight*** (lbs)],MATCH(B346,SignalHeads[Code],0))),IF(D346=\"\",0,INDEX(SignalHeads[Weight*** (lbs)],MATCH(D346,SignalHeads[Code],0))),IF(E346=\"\",0,INDEX(SignalHeads[Weight*** (lbs)],MATCH(E346,SignalHeads[Code],0))),IF(F346=\"\",0,INDEX(SignalHeads[Weight*** (lbs)],MATCH(F346,SignalHeads[Code],0))),IF(G346=\"\",0,INDEX(SignalHeads[Weight*** (lbs)],MATCH(G346,SignalHeads[Code],0))),IF(H346=\"\",0,INDEX(SignalHeads[Weight*** (lbs)],MATCH(H346,SignalHeads[Code],0))),IF(I346=\"\",0,INDEX(SignalHeads[Weight*** (lbs)],MATCH(I346,SignalHeads[Code],0))))","v":0},{"$f":"IF(A346<=$I$8,INDEX(DesignConstants[Value],MATCH(\"Span Wire Weight (plf)\",DesignConstants[Design Constant],0)),0)","v":1.155},{"$f":"IF(K346=\"\",0,K346*A346)","v":0},{"$f":"L346*(A346-0.5)","v":370.17750000000001},{"$error":"#VALUE!"},{"$f":"(0.5*L346+O346+K346)/$I$4","v":{"$error":"#VALUE!"}},{"$error":"#N/A"},{"$f":"IF(A346>$I$8,0,(IFERROR(INDEX($S$13:$S$14,MATCH(MAX($S$11:$S$12),$S$11:$S$12,FALSE)),$S$8)-(IFERROR(INDEX($N$13:$N$14,MATCH(MAX($N$11:$N$12),$N$11:$N$12,FALSE)),$N$8)))/$I$18*A346+IFERROR(INDEX($N$13:$N$14,MATCH(MAX($N$11:$N$12),$N$11:$N$12,FALSE)),$N$8))","v":{"$error":"#N/A"}},{"$f":"SUM(IF(B346=\"\",0,INDEX(SignalHeads[Height ** (feet)],MATCH(B346,SignalHeads[Code],0))),IF(D346=\"\",0,INDEX(SignalHeads[Height ** (feet)],MATCH(D346,SignalHeads[Code],0))),IF(E346=\"\",0,INDEX(SignalHeads[Height ** (feet)],MATCH(E346,SignalHeads[Code],0))),IF(F346=\"\",0,INDEX(SignalHeads[Height ** (feet)],MATCH(F346,SignalHeads[Code],0))),IF(G346=\"\",0,INDEX(SignalHeads[Height ** (feet)],MATCH(G346,SignalHeads[Code],0))),IF(H346=\"\",0,INDEX(SignalHeads[Height ** (feet)],MATCH(H346,SignalHeads[Code],0))),IF(I346=\"\",0,INDEX(SignalHeads[Height ** (feet)],MATCH(I346,SignalHeads[Code],0))))","v":0},{"$f":"IF(S346=0,\"\",ROUNDDOWN(12*(((Q346-S346)-MIN($Q$26:$Q$425-$S$26:$S$425)-(MAX($S$26:$S$425*(($Q$26:$Q$425-$S$26:$S$425)=MIN($Q$26:$Q$425-$S$26:$S$425)))-S346))+(MIN($Q$26:$Q$425-$S$26:$S$425)-$I$10)),0)/12)","v":""},"",{"$error":"#N/A"},{"$f":"$I$10","v":17}]
[322,null,null,null,null,null,null,null,null,{"$f":"SUM(IF(B347=\"\",0,INDEX(SignalHeads[Perp. Wind Area (sft)],MATCH(B347,SignalHeads[Code],0))),IF(D347=\"\",0,INDEX(SignalHeads[Perp. Wind Area (sft)],MATCH(D347,SignalHeads[Code],0))),IF(E347=\"\",0,INDEX(SignalHeads[Perp. Wind Area (sft)],MATCH(E347,SignalHeads[Code],0))),IF(F347=\"\",0,INDEX(SignalHeads[Perp. Wind Area (sft)],MATCH(F347,SignalHeads[Code],0))),IF(G347=\"\",0,INDEX(SignalHeads[Perp. Wind Area (sft)],MATCH(G347,SignalHeads[Code],0))),IF(H347=\"\",0,INDEX(SignalHeads[Perp. Wind Area (sft)],MATCH(H347,SignalHeads[Code],0))),IF(I347=\"\",0,INDEX(SignalHeads[Perp. Wind Area (sft)],MATCH(I347,SignalHeads[Code],0))))","v":0},{"$f":"SUM(IF(B347=\"\",0,INDEX(SignalHeads[Weight*** (lbs)],MATCH(B347,SignalHeads[Code],0))),IF(D347=\"\",0,INDEX(SignalHeads[Weight*** (lbs)],MATCH(D347,SignalHeads[Code],0))),IF(E347=\"\",0,INDEX(SignalHeads[Weight*** (lbs)],MATCH(E347,SignalHeads[Code],0))),IF(F347=\"\",0,INDEX(SignalHeads[Weight*** (lbs)],MATCH(F347,SignalHeads[Code],0))),IF(G347=\"\",0,INDEX(SignalHeads[Weight*** (lbs)],MATCH(G347,SignalHeads[Code],0))),IF(H347=\"\",0,INDEX(SignalHeads[Weight*** (lbs)],MATCH(H347,SignalHeads[Code],0))),IF(I347=\"\",0,INDEX(SignalHeads[Weight*** (lbs)],MATCH(I347,SignalHeads[Code],0))))","v":0},{"$f":"IF(A347<=$I$8,INDEX(DesignConstants[Value],MATCH(\"Span Wire Weight (plf)\",DesignConstants[Design Constant],0)),0)","v":1.155},0,371.33249999999998,{"$f":"O346-K347-L347","v":{"$error":"#VALUE!"}},{"$error":"#VALUE!"},{"$f":"Q346-P347","v":{"$error":"#N/A"}},{"$error":"#N/A"},{"$f":"SUM(IF(B347=\"\",0,INDEX(SignalHeads[Height ** (feet)],MATCH(B347,SignalHeads[Code],0))),IF(D347=\"\",0,INDEX(SignalHeads[Height ** (feet)],MATCH(D347,SignalHeads[Code],0))),IF(E347=\"\",0,INDEX(SignalHeads[Height ** (feet)],MATCH(E347,SignalHeads[Code],0))),IF(F347=\"\",0,INDEX(SignalHeads[Height ** (feet)],MATCH(F347,SignalHeads[Code],0))),IF(G347=\"\",0,INDEX(SignalHeads[Height ** (feet)],MATCH(G347,SignalHeads[Code],0))),IF(H347=\"\",0,INDEX(SignalHeads[Height ** (feet)],MATCH(H347,SignalHeads[Code],0))),IF(I347=\"\",0,INDEX(SignalHeads[Height ** (feet)],MATCH(I347,SignalHeads[Code],0))))","v":0},{"$f":"IF(S347=0,\"\",ROUNDDOWN(12*(((Q347-S347)-MIN($Q$26:$Q$425-$S$26:$S$425)-(MAX($S$26:$S$425*(($Q$26:$Q$425-$S$26:$S$425)=MIN($Q$26:$Q$425-$S$26:$S$425)))-S347))+(MIN($Q$26:$Q$425-$S$26:$S$425)-$I$10)),0)/12)","v":""},{"$f":"IF(T347=\"\",\"\",INT(T347)&\"'-\"&ROUND((T347-INT(T347))*12,0)&\"\"\"\")","v":""},{"$f":"IF(A347<=$I$8,Q347-S347-IF(ISNUMBER(T347),T347,0),\"\")","v":{"$error":"#N/A"}},17]
[323,null,null,null,null,null,null,null,null,{"$f":"SUM(IF(B348=\"\",0,INDEX(SignalHeads[Perp. Wind Area (sft)],MATCH(B348,SignalHeads[Code],0))),IF(D348=\"\",0,INDEX(SignalHeads[Perp. Wind Area (sft)],MATCH(D348,SignalHeads[Code],0))),IF(E348=\"\",0,INDEX(SignalHeads[Perp. Wind Area (sft)],MATCH(E348,SignalHeads[Code],0))),IF(F348=\"\",0,INDEX(SignalHeads[Perp. Wind Area (sft)],MATCH(F348,SignalHeads[Code],0))),IF(G348=\"\",0,INDEX(SignalHeads[Perp. Wind Area (sft)],MATCH(G348,SignalHeads[Code],0))),IF(H348=\"\",0,INDEX(SignalHeads[Perp. Wind Area (sft)],MATCH(H348,SignalHeads[Code],0))),IF(I348=\"\",0,INDEX(SignalHeads[Perp. Wind Area (sft)],MATCH(I348,SignalHeads[Code],0))))","v":0},{"$f":"SUM(IF(B348=\"\",0,INDEX(SignalHeads[Weight*** (lbs)],MATCH(B348,SignalHeads[Code],0))),IF(D348=\"\",0,INDEX(SignalHeads[Weight*** (lbs)],MATCH(D348,SignalHeads[Code],0))),IF(E348=\"\",0,INDEX(SignalHeads[Weight*** (lbs)],MATCH(E348,SignalHeads[Code],0))),IF(F348=\"\",0,INDEX(SignalHeads[Weight*** (lbs)],MATCH(F348,SignalHeads[Code],0))),IF(G348=\"\",0,INDEX(SignalHeads[Weight*** (lbs)],MATCH(G348,SignalHeads[Code],0))),IF(H348=\"\",0,INDEX(SignalHeads[Weight*** (lbs)],MATCH(H348,SignalHeads[Code],0))),IF(I348=\"\",0,INDEX(SignalHeads[Weight*** (lbs)],MATCH(I348,SignalHeads[Code],0))))","v":0},{"$f":"IF(A348<=$I$8,INDEX(DesignConstants[Value],MATCH(\"Span Wire Weight (plf)\",DesignConstants[Design Constant],0)),0)","v":1.155},0,372.48750000000001,{"$error":"#VALUE!"},{"$error":"#VALUE!"},{"$error":"#N/A"},{"$error":"#N/A"},{"$f":"SUM(IF(B348=\"\",0,INDEX(SignalHeads[Height ** (feet)],MATCH(B348,SignalHeads[Code],0))),IF(D348=\"\",0,INDEX(SignalHeads[Height ** (feet)],MATCH(D348,SignalHeads[Code],0))),IF(E348=\"\",0,INDEX(SignalHeads[Height ** (feet)],MATCH(E348,SignalHeads[Code],0))),IF(F348=\"\",0,INDEX(SignalHeads[Height ** (feet)],MATCH(F348,SignalHeads[Code],0))),IF(G348=\"\",0,INDEX(SignalHeads[Height ** (feet)],MATCH(G348,SignalHeads[Code],0))),IF(H348=\"\",0,INDEX(SignalHeads[Height ** (feet)],MATCH(H348,SignalHeads[Code],0))),IF(I348=\"\",0,INDEX(SignalHeads[Height ** (feet)],MATCH(I348,SignalHeads[Code],0))))","v":0},{"$f":"IF(S348=0,\"\",ROUNDDOWN(12*(((Q348-S348)-MIN($Q$26:$Q$425-$S$26:$S$425)-(MAX($S$26:$S$425*(($Q$26:$Q$425-$S$26:$S$425)=MIN($Q$26:$Q$425-$S$26:$S$425)))-S348))+(MIN($Q$26:$Q$425-$S$26:$S$425)-$I$10)),0)/12)","v":""},"",{"$error":"#N/A"},17]
[324,null,null,null,null,null,null,null,null,{"$f":"SUM(IF(B349=\"\",0,INDEX(SignalHeads[Perp. Wind Area (sft)],MATCH(B349,SignalHeads[Code],0))),IF(D349=\"\",0,INDEX(SignalHeads[Perp. Wind Area (sft)],MATCH(D349,SignalHeads[Code],0))),IF(E349=\"\",0,INDEX(SignalHeads[Perp. Wind Area (sft)],MATCH(E349,SignalHeads[Code],0))),IF(F349=\"\",0,INDEX(SignalHeads[Perp. Wind Area (sft)],MATCH(F349,SignalHeads[Code],0))),IF(G349=\"\",0,INDEX(SignalHeads[Perp. Wind Area (sft)],MATCH(G349,SignalHeads[Code],0))),IF(H349=\"\",0,INDEX(SignalHeads[Perp. Wind Area (sft)],MATCH(H349,SignalHeads[Code],0))),IF(I349=\"\",0,INDEX(SignalHeads[Perp. Wind Area (sft)],MATCH(I349,SignalHeads[Code],0))))","v":0},{"$f":"SUM(IF(B349=\"\",0,INDEX(SignalHeads[Weight*** (lbs)],MATCH(B349,SignalHeads[Code],0))),IF(D349=\"\",0,INDEX(SignalHeads[Weight*** (lbs)],MATCH(D349,SignalHeads[Code],0))),IF(E349=\"\",0,INDEX(SignalHeads[Weight*** (lbs)],MATCH(E349,SignalHeads[Code],0))),IF(F349=\"\",0,INDEX(SignalHeads[Weight*** (lbs)],MATCH(F349,SignalHeads[Code],0))),IF(G349=\"\",0,INDEX(SignalHeads[Weight*** (lbs)],MATCH(G349,SignalHeads[Code],0))),IF(H349=\"\",0,INDEX(SignalHeads[Weight*** (lbs)],MATCH(H349,SignalHeads[Code],0))),IF(I349=\"\",0,INDEX(SignalHeads[Weight*** (lbs)],MATCH(I349,SignalHeads[Code],0))))","v":0},{"$f":"IF(A349<=$I$8,INDEX(DesignConstants[Value],MATCH(\"Span Wire Weight (plf)\",DesignConstants[Design Constant],0)),0)","v":1.155},0,373.64249999999998,{"$error":"#VALUE!"},{"$error":"#VALUE!"},{"$error":"#N/A"},{"$error":"#N/A"},{"$f":"SUM(IF(B349=\"\",0,INDEX(SignalHeads[Height ** (feet)],MATCH(B349,SignalHeads[Code],0))),IF(D349=\"\",0,INDEX(SignalHeads[Height ** (feet)],MATCH(D349,SignalHeads[Code],0))),IF(E349=\"\",0,INDEX(SignalHeads[Height ** (feet)],MATCH(E349,SignalHeads[Code],0))),IF(F349=\"\",0,INDEX(SignalHeads[Height ** (feet)],MATCH(F349,SignalHeads[Code],0))),IF(G349=\"\",0,INDEX(SignalHeads[Height ** (feet)],MATCH(G349,SignalHeads[Code],0))),IF(H349=\"\",0,INDEX(SignalHeads[Height ** (feet)],MATCH(H349,SignalHeads[Code],0))),IF(I349=\"\",0,INDEX(SignalHeads[Height ** (feet)],MATCH(I349,SignalHeads[Code],0))))","v":0},{"$f":"IF(S349=0,\"\",ROUNDDOWN(12*(((Q349-S349)-MIN($Q$26:$Q$425-$S$26:$S$425)-(MAX($S$26:$S$425*(($Q$26:$Q$425-$S$26:$S$425)=MIN($Q$26:$Q$425-$S$26:$S$425)))-S349))+(MIN($Q$26:$Q$425-$S$26:$S$425)-$I$10)),0)/12)","v":""},"",{"$error":"#N/A"},17]
[325,null,null,null,null,null,null,null,null,{"$f":"SUM(IF(B350=\"\",0,INDEX(SignalHeads[Perp. Wind Area (sft)],MATCH(B350,SignalHeads[Code],0))),IF(D350=\"\",0,INDEX(SignalHeads[Perp. Wind Area (sft)],MATCH(D350,SignalHeads[Code],0))),IF(E350=\"\",0,INDEX(SignalHeads[Perp. Wind Area (sft)],MATCH(E350,SignalHeads[Code],0))),IF(F350=\"\",0,INDEX(SignalHeads[Perp. Wind Area (sft)],MATCH(F350,SignalHeads[Code],0))),IF(G350=\"\",0,INDEX(SignalHeads[Perp. Wind Area (sft)],MATCH(G350,SignalHeads[Code],0))),IF(H350=\"\",0,INDEX(SignalHeads[Perp. Wind Area (sft)],MATCH(H350,SignalHeads[Code],0))),IF(I350=\"\",0,INDEX(SignalHeads[Perp. Wind Area (sft)],MATCH(I350,SignalHeads[Code],0))))","v":0},{"$f":"SUM(IF(B350=\"\",0,INDEX(SignalHeads[Weight*** (lbs)],MATCH(B350,SignalHeads[Code],0))),IF(D350=\"\",0,INDEX(SignalHeads[Weight*** (lbs)],MATCH(D350,SignalHeads[Code],0))),IF(E350=\"\",0,INDEX(SignalHeads[Weight*** (lbs)],MATCH(E350,SignalHeads[Code],0))),IF(F350=\"\",0,INDEX(SignalHeads[Weight*** (lbs)],MATCH(F350,SignalHeads[Code],0))),IF(G350=\"\",0,INDEX(SignalHeads[Weight*** (lbs)],MATCH(G350,SignalHeads[Code],0))),IF(H350=\"\",0,INDEX(SignalHeads[Weight*** (lbs)],MATCH(H350,SignalHeads[Code],0))),IF(I350=\"\",0,INDEX(SignalHeads[Weight*** (lbs)],MATCH(I350,SignalHeads[Code],0))))","v":0},{"$f":"IF(A350<=$I$8,INDEX(DesignConstants[Value],MATCH(\"Span Wire Weight (plf)\",DesignConstants[Design Constant],0)),0)","v":1.155},0,374.79750000000001,{"$error":"#VALUE!"},{"$error":"#VALUE!"},{"$error":"#N/A"},{"$error":"#N/A"},{"$f":"SUM(IF(B350=\"\",0,INDEX(SignalHeads[Height ** (feet)],MATCH(B350,SignalHeads[Code],0))),IF(D350=\"\",0,INDEX(SignalHeads[Height ** (feet)],MATCH(D350,SignalHeads[Code],0))),IF(E350=\"\",0,INDEX(SignalHeads[Height ** (feet)],MATCH(E350,SignalHeads[Code],0))),IF(F350=\"\",0,INDEX(SignalHeads[Height ** (feet)],MATCH(F350,SignalHeads[Code],0))),IF(G350=\"\",0,INDEX(SignalHeads[Height ** (feet)],MATCH(G350,SignalHeads[Code],0))),IF(H350=\"\",0,INDEX(SignalHeads[Height ** (feet)],MATCH(H350,SignalHeads[Code],0))),IF(I350=\"\",0,INDEX(SignalHeads[Height ** (feet)],MATCH(I350,SignalHeads[Code],0))))","v":0},{"$f":"IF(S350=0,\"\",ROUNDDOWN(12*(((Q350-S350)-MIN($Q$26:$Q$425-$S$26:$S$425)-(MAX($S$26:$S$425*(($Q$26:$Q$425-$S$26:$S$425)=MIN($Q$26:$Q$425-$S$26:$S$425)))-S350))+(MIN($Q$26:$Q$425-$S$26:$S$425)-$I$10)),0)/12)","v":""},"",{"$error":"#N/A"},17]
[326,null,null,null,null,null,null,null,null,{"$f":"SUM(IF(B351=\"\",0,INDEX(SignalHeads[Perp. Wind Area (sft)],MATCH(B351,SignalHeads[Code],0))),IF(D351=\"\",0,INDEX(SignalHeads[Perp. Wind Area (sft)],MATCH(D351,SignalHeads[Code],0))),IF(E351=\"\",0,INDEX(SignalHeads[Perp. Wind Area (sft)],MATCH(E351,SignalHeads[Code],0))),IF(F351=\"\",0,INDEX(SignalHeads[Perp. Wind Area (sft)],MATCH(F351,SignalHeads[Code],0))),IF(G351=\"\",0,INDEX(SignalHeads[Perp. Wind Area (sft)],MATCH(G351,SignalHeads[Code],0))),IF(H351=\"\",0,INDEX(SignalHeads[Perp. Wind Area (sft)],MATCH(H351,SignalHeads[Code],0))),IF(I351=\"\",0,INDEX(SignalHeads[Perp. Wind Area (sft)],MATCH(I351,SignalHeads[Code],0))))","v":0},{"$f":"SUM(IF(B351=\"\",0,INDEX(SignalHeads[Weight*** (lbs)],MATCH(B351,SignalHeads[Code],0))),IF(D351=\"\",0,INDEX(SignalHeads[Weight*** (lbs)],MATCH(D351,SignalHeads[Code],0))),IF(E351=\"\",0,INDEX(SignalHeads[Weight*** (lbs)],MATCH(E351,SignalHeads[Code],0))),IF(F351=\"\",0,INDEX(SignalHeads[Weight*** (lbs)],MATCH(F351,SignalHeads[Code],0))),IF(G351=\"\",0,INDEX(SignalHeads[Weight*** (lbs)],MATCH(G351,SignalHeads[Code],0))),IF(H351=\"\",0,INDEX(SignalHeads[Weight*** (lbs)],MATCH(H351,SignalHeads[Code],0))),IF(I351=\"\",0,INDEX(SignalHeads[Weight*** (lbs)],MATCH(I351,SignalHeads[Code],0))))","v":0},{"$f":"IF(A351<=$I$8,INDEX(DesignConstants[Value],MATCH(\"Span Wire Weight (plf)\",DesignConstants[Design Constant],0)),0)","v":1.155},0,375.95249999999999,{"$error":"#VALUE!"},{"$error":"#VALUE!"},{"$error":"#N/A"},{"$error":"#N/A"},{"$f":"SUM(IF(B351=\"\",0,INDEX(SignalHeads[Height ** (feet)],MATCH(B351,SignalHeads[Code],0))),IF(D351=\"\",0,INDEX(SignalHeads[Height ** (feet)],MATCH(D351,SignalHeads[Code],0))),IF(E351=\"\",0,INDEX(SignalHeads[Height ** (feet)],MATCH(E351,SignalHeads[Code],0))),IF(F351=\"\",0,INDEX(SignalHeads[Height ** (feet)],MATCH(F351,SignalHeads[Code],0))),IF(G351=\"\",0,INDEX(SignalHeads[Height ** (feet)],MATCH(G351,SignalHeads[Code],0))),IF(H351=\"\",0,INDEX(SignalHeads[Height ** (feet)],MATCH(H351,SignalHeads[Code],0))),IF(I351=\"\",0,INDEX(SignalHeads[Height ** (feet)],MATCH(I351,SignalHeads[Code],0))))","v":0},{"$f":"IF(S351=0,\"\",ROUNDDOWN(12*(((Q351-S351)-MIN($Q$26:$Q$425-$S$26:$S$425)-(MAX($S$26:$S$425*(($Q$26:$Q$425-$S$26:$S$425)=MIN($Q$26:$Q$425-$S$26:$S$425)))-S351))+(MIN($Q$26:$Q$425-$S$26:$S$425)-$I$10)),0)/12)","v":""},"",{"$error":"#N/A"},17]
[327,null,null,null,null,null,null,null,null,{"$f":"SUM(IF(B352=\"\",0,INDEX(SignalHeads[Perp. Wind Area (sft)],MATCH(B352,SignalHeads[Code],0))),IF(D352=\"\",0,INDEX(SignalHeads[Perp. Wind Area (sft)],MATCH(D352,SignalHeads[Code],0))),IF(E352=\"\",0,INDEX(SignalHeads[Perp. Wind Area (sft)],MATCH(E352,SignalHeads[Code],0))),IF(F352=\"\",0,INDEX(SignalHeads[Perp. Wind Area (sft)],MATCH(F352,SignalHeads[Code],0))),IF(G352=\"\",0,INDEX(SignalHeads[Perp. Wind Area (sft)],MATCH(G352,SignalHeads[Code],0))),IF(H352=\"\",0,INDEX(SignalHeads[Perp. Wind Area (sft)],MATCH(H352,SignalHeads[Code],0))),IF(I352=\"\",0,INDEX(SignalHeads[Perp. Wind Area (sft)],MATCH(I352,SignalHeads[Code],0))))","v":0},{"$f":"SUM(IF(B352=\"\",0,INDEX(SignalHeads[Weight*** (lbs)],MATCH(B352,SignalHeads[Code],0))),IF(D352=\"\",0,INDEX(SignalHeads[Weight*** (lbs)],MATCH(D352,SignalHeads[Code],0))),IF(E352=\"\",0,INDEX(SignalHeads[Weight*** (lbs)],MATCH(E352,SignalHeads[Code],0))),IF(F352=\"\",0,INDEX(SignalHeads[Weight*** (lbs)],MATCH(F352,SignalHeads[Code],0))),IF(G352=\"\",0,INDEX(SignalHeads[Weight*** (lbs)],MATCH(G352,SignalHeads[Code],0))),IF(H352=\"\",0,INDEX(SignalHeads[Weight*** (lbs)],MATCH(H352,SignalHeads[Code],0))),IF(I352=\"\",0,INDEX(SignalHeads[Weight*** (lbs)],MATCH(I352,SignalHeads[Code],0))))","v":0},{"$f":"IF(A352<=$I$8,INDEX(DesignConstants[Value],MATCH(\"Span Wire Weight (plf)\",DesignConstants[Design Constant],0)),0)","v":1.155},0,377.10750000000002,{"$error":"#VALUE!"},{"$error":"#VALUE!"},{"$error":"#N/A"},{"$error":"#N/A"},{"$f":"SUM(IF(B352=\"\",0,INDEX(SignalHeads[Height ** (feet)],MATCH(B352,SignalHeads[Code],0))),IF(D352=\"\",0,INDEX(SignalHeads[Height ** (feet)],MATCH(D352,SignalHeads[Code],0))),IF(E352=\"\",0,INDEX(SignalHeads[Height ** (feet)],MATCH(E352,SignalHeads[Code],0))),IF(F352=\"\",0,INDEX(SignalHeads[Height ** (feet)],MATCH(F352,SignalHeads[Code],0))),IF(G352=\"\",0,INDEX(SignalHeads[Height ** (feet)],MATCH(G352,SignalHeads[Code],0))),IF(H352=\"\",0,INDEX(SignalHeads[Height ** (feet)],MATCH(H352,SignalHeads[Code],0))),IF(I352=\"\",0,INDEX(SignalHeads[Height ** (feet)],MATCH(I352,SignalHeads[Code],0))))","v":0},{"$f":"IF(S352=0,\"\",ROUNDDOWN(12*(((Q352-S352)-MIN($Q$26:$Q$425-$S$26:$S$425)-(MAX($S$26:$S$425*(($Q$26:$Q$425-$S$26:$S$425)=MIN($Q$26:$Q$425-$S$26:$S$425)))-S352))+(MIN($Q$26:$Q$425-$S$26:$S$425)-$I$10)),0)/12)","v":""},"",{"$error":"#N/A"},17]
[328,null,null,null,null,null,null,null,null,{"$f":"SUM(IF(B353=\"\",0,INDEX(SignalHeads[Perp. Wind Area (sft)],MATCH(B353,SignalHeads[Code],0))),IF(D353=\"\",0,INDEX(SignalHeads[Perp. Wind Area (sft)],MATCH(D353,SignalHeads[Code],0))),IF(E353=\"\",0,INDEX(SignalHeads[Perp. Wind Area (sft)],MATCH(E353,SignalHeads[Code],0))),IF(F353=\"\",0,INDEX(SignalHeads[Perp. Wind Area (sft)],MATCH(F353,SignalHeads[Code],0))),IF(G353=\"\",0,INDEX(SignalHeads[Perp. Wind Area (sft)],MATCH(G353,SignalHeads[Code],0))),IF(H353=\"\",0,INDEX(SignalHeads[Perp. Wind Area (sft)],MATCH(H353,SignalHeads[Code],0))),IF(I353=\"\",0,INDEX(SignalHeads[Perp. Wind Area (sft)],MATCH(I353,SignalHeads[Code],0))))","v":0},{"$f":"SUM(IF(B353=\"\",0,INDEX(SignalHeads[Weight*** (lbs)],MATCH(B353,SignalHeads[Code],0))),IF(D353=\"\",0,INDEX(SignalHeads[Weight*** (lbs)],MATCH(D353,SignalHeads[Code],0))),IF(E353=\"\",0,INDEX(SignalHeads[Weight*** (lbs)],MATCH(E353,SignalHeads[Code],0))),IF(F353=\"\",0,INDEX(SignalHeads[Weight*** (lbs)],MATCH(F353,SignalHeads[Code],0))),IF(G353=\"\",0,INDEX(SignalHeads[Weight*** (lbs)],MATCH(G353,SignalHeads[Code],0))),IF(H353=\"\",0,INDEX(SignalHeads[Weight*** (lbs)],MATCH(H353,SignalHeads[Code],0))),IF(I353=\"\",0,INDEX(SignalHeads[Weight*** (lbs)],MATCH(I353,SignalHeads[Code],0))))","v":0},{"$f":"IF(A353<=$I$8,INDEX(DesignConstants[Value],MATCH(\"Span Wire Weight (plf)\",DesignConstants[Design Constant],0)),0)","v":1.155},0,378.26249999999999,{"$error":"#VALUE!"},{"$error":"#VALUE!"},{"$error":"#N/A"},{"$error":"#N/A"},{"$f":"SUM(IF(B353=\"\",0,INDEX(SignalHeads[Height ** (feet)],MATCH(B353,SignalHeads[Code],0))),IF(D353=\"\",0,INDEX(SignalHeads[Height ** (feet)],MATCH(D353,SignalHeads[Code],0))),IF(E353=\"\",0,INDEX(SignalHeads[Height ** (feet)],MATCH(E353,SignalHeads[Code],0))),IF(F353=\"\",0,INDEX(SignalHeads[Height ** (feet)],MATCH(F353,SignalHeads[Code],0))),IF(G353=\"\",0,INDEX(SignalHeads[Height ** (feet)],MATCH(G353,SignalHeads[Code],0))),IF(H353=\"\",0,INDEX(SignalHeads[Height ** (feet)],MATCH(H353,SignalHeads[Code],0))),IF(I353=\"\",0,INDEX(SignalHeads[Height ** (feet)],MATCH(I353,SignalHeads[Code],0))))","v":0},{"$f":"IF(S353=0,\"\",ROUNDDOWN(12*(((Q353-S353)-MIN($Q$26:$Q$425-$S$26:$S$425)-(MAX($S$26:$S$425*(($Q$26:$Q$425-$S$26:$S$425)=MIN($Q$26:$Q$425-$S$26:$S$425)))-S353))+(MIN($Q$26:$Q$425-$S$26:$S$425)-$I$10)),0)/12)","v":""},"",{"$error":"#N/A"},17]
[329,null,null,null,null,null,null,null,null,{"$f":"SUM(IF(B354=\"\",0,INDEX(SignalHeads[Perp. Wind Area (sft)],MATCH(B354,SignalHeads[Code],0))),IF(D354=\"\",0,INDEX(SignalHeads[Perp. Wind Area (sft)],MATCH(D354,SignalHeads[Code],0))),IF(E354=\"\",0,INDEX(SignalHeads[Perp. Wind Area (sft)],MATCH(E354,SignalHeads[Code],0))),IF(F354=\"\",0,INDEX(SignalHeads[Perp. Wind Area (sft)],MATCH(F354,SignalHeads[Code],0))),IF(G354=\"\",0,INDEX(SignalHeads[Perp. Wind Area (sft)],MATCH(G354,SignalHeads[Code],0))),IF(H354=\"\",0,INDEX(SignalHeads[Perp. Wind Area (sft)],MATCH(H354,SignalHeads[Code],0))),IF(I354=\"\",0,INDEX(SignalHeads[Perp. Wind Area (sft)],MATCH(I354,SignalHeads[Code],0))))","v":0},{"$f":"SUM(IF(B354=\"\",0,INDEX(SignalHeads[Weight*** (lbs)],MATCH(B354,SignalHeads[Code],0))),IF(D354=\"\",0,INDEX(SignalHeads[Weight*** (lbs)],MATCH(D354,SignalHeads[Code],0))),IF(E354=\"\",0,INDEX(SignalHeads[Weight*** (lbs)],MATCH(E354,SignalHeads[Code],0))),IF(F354=\"\",0,INDEX(SignalHeads[Weight*** (lbs)],MATCH(F354,SignalHeads[Code],0))),IF(G354=\"\",0,INDEX(SignalHeads[Weight*** (lbs)],MATCH(G354,SignalHeads[Code],0))),IF(H354=\"\",0,INDEX(SignalHeads[Weight*** (lbs)],MATCH(H354,SignalHeads[Code],0))),IF(I354=\"\",0,INDEX(SignalHeads[Weight*** (lbs)],MATCH(I354,SignalHeads[Code],0))))","v":0},{"$f":"IF(A354<=$I$8,INDEX(DesignConstants[Value],MATCH(\"Span Wire Weight (plf)\",DesignConstants[Design Constant],0)),0)","v":1.155},0,379.41750000000002,{"$error":"#VALUE!"},{"$error":"#VALUE!"},{"$error":"#N/A"},{"$error":"#N/A"},{"$f":"SUM(IF(B354=\"\",0,INDEX(SignalHeads[Height ** (feet)],MATCH(B354,SignalHeads[Code],0))),IF(D354=\"\",0,INDEX(SignalHeads[Height ** (feet)],MATCH(D354,SignalHeads[Code],0))),IF(E354=\"\",0,INDEX(SignalHeads[Height ** (feet)],MATCH(E354,SignalHeads[Code],0))),IF(F354=\"\",0,INDEX(SignalHeads[Height ** (feet)],MATCH(F354,SignalHeads[Code],0))),IF(G354=\"\",0,INDEX(SignalHeads[Height ** (feet)],MATCH(G354,SignalHeads[Code],0))),IF(H354=\"\",0,INDEX(SignalHeads[Height ** (feet)],MATCH(H354,SignalHeads[Code],0))),IF(I354=\"\",0,INDEX(SignalHeads[Height ** (feet)],MATCH(I354,SignalHeads[Code],0))))","v":0},{"$f":"IF(S354=0,\"\",ROUNDDOWN(12*(((Q354-S354)-MIN($Q$26:$Q$425-$S$26:$S$425)-(MAX($S$26:$S$425*(($Q$26:$Q$425-$S$26:$S$425)=MIN($Q$26:$Q$425-$S$26:$S$425)))-S354))+(MIN($Q$26:$Q$425-$S$26:$S$425)-$I$10)),0)/12)","v":""},"",{"$error":"#N/A"},17]
[330,null,null,null,null,null,null,null,null,{"$f":"SUM(IF(B355=\"\",0,INDEX(SignalHeads[Perp. Wind Area (sft)],MATCH(B355,SignalHeads[Code],0))),IF(D355=\"\",0,INDEX(SignalHeads[Perp. Wind Area (sft)],MATCH(D355,SignalHeads[Code],0))),IF(E355=\"\",0,INDEX(SignalHeads[Perp. Wind Area (sft)],MATCH(E355,SignalHeads[Code],0))),IF(F355=\"\",0,INDEX(SignalHeads[Perp. Wind Area (sft)],MATCH(F355,SignalHeads[Code],0))),IF(G355=\"\",0,INDEX(SignalHeads[Perp. Wind Area (sft)],MATCH(G355,SignalHeads[Code],0))),IF(H355=\"\",0,INDEX(SignalHeads[Perp. Wind Area (sft)],MATCH(H355,SignalHeads[Code],0))),IF(I355=\"\",0,INDEX(SignalHeads[Perp. Wind Area (sft)],MATCH(I355,SignalHeads[Code],0))))","v":0},{"$f":"SUM(IF(B355=\"\",0,INDEX(SignalHeads[Weight*** (lbs)],MATCH(B355,SignalHeads[Code],0))),IF(D355=\"\",0,INDEX(SignalHeads[Weight*** (lbs)],MATCH(D355,SignalHeads[Code],0))),IF(E355=\"\",0,INDEX(SignalHeads[Weight*** (lbs)],MATCH(E355,SignalHeads[Code],0))),IF(F355=\"\",0,INDEX(SignalHeads[Weight*** (lbs)],MATCH(F355,SignalHeads[Code],0))),IF(G355=\"\",0,INDEX(SignalHeads[Weight*** (lbs)],MATCH(G355,SignalHeads[Code],0))),IF(H355=\"\",0,INDEX(SignalHeads[Weight*** (lbs)],MATCH(H355,SignalHeads[Code],0))),IF(I355=\"\",0,INDEX(SignalHeads[Weight*** (lbs)],MATCH(I355,SignalHeads[Code],0))))","v":0},{"$f":"IF(A355<=$I$8,INDEX(DesignConstants[Value],MATCH(\"Span Wire Weight (plf)\",DesignConstants[Design Constant],0)),0)","v":1.155},0,380.57249999999999,{"$error":"#VALUE!"},{"$error":"#VALUE!"},{"$error":"#N/A"},{"$error":"#N/A"},{"$f":"SUM(IF(B355=\"\",0,INDEX(SignalHeads[Height ** (feet)],MATCH(B355,SignalHeads[Code],0))),IF(D355=\"\",0,INDEX(SignalHeads[Height ** (feet)],MATCH(D355,SignalHeads[Code],0))),IF(E355=\"\",0,INDEX(SignalHeads[Height ** (feet)],MATCH(E355,SignalHeads[Code],0))),IF(F355=\"\",0,INDEX(SignalHeads[Height ** (feet)],MATCH(F355,SignalHeads[Code],0))),IF(G355=\"\",0,INDEX(SignalHeads[Height ** (feet)],MATCH(G355,SignalHeads[Code],0))),IF(H355=\"\",0,INDEX(SignalHeads[Height ** (feet)],MATCH(H355,SignalHeads[Code],0))),IF(I355=\"\",0,INDEX(SignalHeads[Height ** (feet)],MATCH(I355,SignalHeads[Code],0))))","v":0},{"$f":"IF(S355=0,\"\",ROUNDDOWN(12*(((Q355-S355)-MIN($Q$26:$Q$425-$S$26:$S$425)-(MAX($S$26:$S$425*(($Q$26:$Q$425-$S$26:$S$425)=MIN($Q$26:$Q$425-$S$26:$S$425)))-S355))+(MIN($Q$26:$Q$425-$S$26:$S$425)-$I$10)),0)/12)","v":""},"",{"$error":"#N/A"},17]
[331,null,null,null,null,null,null,null,null,{"$f":"SUM(IF(B356=\"\",0,INDEX(SignalHeads[Perp. Wind Area (sft)],MATCH(B356,SignalHeads[Code],0))),IF(D356=\"\",0,INDEX(SignalHeads[Perp. Wind Area (sft)],MATCH(D356,SignalHeads[Code],0))),IF(E356=\"\",0,INDEX(SignalHeads[Perp. Wind Area (sft)],MATCH(E356,SignalHeads[Code],0))),IF(F356=\"\",0,INDEX(SignalHeads[Perp. Wind Area (sft)],MATCH(F356,SignalHeads[Code],0))),IF(G356=\"\",0,INDEX(SignalHeads[Perp. Wind Area (sft)],MATCH(G356,SignalHeads[Code],0))),IF(H356=\"\",0,INDEX(SignalHeads[Perp. Wind Area (sft)],MATCH(H356,SignalHeads[Code],0))),IF(I356=\"\",0,INDEX(SignalHeads[Perp. Wind Area (sft)],MATCH(I356,SignalHeads[Code],0))))","v":0},{"$f":"SUM(IF(B356=\"\",0,INDEX(SignalHeads[Weight*** (lbs)],MATCH(B356,SignalHeads[Code],0))),IF(D356=\"\",0,INDEX(SignalHeads[Weight*** (lbs)],MATCH(D356,SignalHeads[Code],0))),IF(E356=\"\",0,INDEX(SignalHeads[Weight*** (lbs)],MATCH(E356,SignalHeads[Code],0))),IF(F356=\"\",0,INDEX(SignalHeads[Weight*** (lbs)],MATCH(F356,SignalHeads[Code],0))),IF(G356=\"\",0,INDEX(SignalHeads[Weight*** (lbs)],MATCH(G356,SignalHeads[Code],0))),IF(H356=\"\",0,INDEX(SignalHeads[Weight*** (lbs)],MATCH(H356,SignalHeads[Code],0))),IF(I356=\"\",0,INDEX(SignalHeads[Weight*** (lbs)],MATCH(I356,SignalHeads[Code],0))))","v":0},{"$f":"IF(A356<=$I$8,INDEX(DesignConstants[Value],MATCH(\"Span Wire Weight (plf)\",DesignConstants[Design Constant],0)),0)","v":1.155},0,381.72750000000002,{"$error":"#VALUE!"},{"$error":"#VALUE!"},{"$error":"#N/A"},{"$error":"#N/A"},{"$f":"SUM(IF(B356=\"\",0,INDEX(SignalHeads[Height ** (feet)],MATCH(B356,SignalHeads[Code],0))),IF(D356=\"\",0,INDEX(SignalHeads[Height ** (feet)],MATCH(D356,SignalHeads[Code],0))),IF(E356=\"\",0,INDEX(SignalHeads[Height ** (feet)],MATCH(E356,SignalHeads[Code],0))),IF(F356=\"\",0,INDEX(SignalHeads[Height ** (feet)],MATCH(F356,SignalHeads[Code],0))),IF(G356=\"\",0,INDEX(SignalHeads[Height ** (feet)],MATCH(G356,SignalHeads[Code],0))),IF(H356=\"\",0,INDEX(SignalHeads[Height ** (feet)],MATCH(H356,SignalHeads[Code],0))),IF(I356=\"\",0,INDEX(SignalHeads[Height ** (feet)],MATCH(I356,SignalHeads[Code],0))))","v":0},{"$f":"IF(S356=0,\"\",ROUNDDOWN(12*(((Q356-S356)-MIN($Q$26:$Q$425-$S$26:$S$425)-(MAX($S$26:$S$425*(($Q$26:$Q$425-$S$26:$S$425)=MIN($Q$26:$Q$425-$S$26:$S$425)))-S356))+(MIN($Q$26:$Q$425-$S$26:$S$425)-$I$10)),0)/12)","v":""},"",{"$error":"#N/A"},17]
[332,null,null,null,null,null,null,null,null,{"$f":"SUM(IF(B357=\"\",0,INDEX(SignalHeads[Perp. Wind Area (sft)],MATCH(B357,SignalHeads[Code],0))),IF(D357=\"\",0,INDEX(SignalHeads[Perp. Wind Area (sft)],MATCH(D357,SignalHeads[Code],0))),IF(E357=\"\",0,INDEX(SignalHeads[Perp. Wind Area (sft)],MATCH(E357,SignalHeads[Code],0))),IF(F357=\"\",0,INDEX(SignalHeads[Perp. Wind Area (sft)],MATCH(F357,SignalHeads[Code],0))),IF(G357=\"\",0,INDEX(SignalHeads[Perp. Wind Area (sft)],MATCH(G357,SignalHeads[Code],0))),IF(H357=\"\",0,INDEX(SignalHeads[Perp. Wind Area (sft)],MATCH(H357,SignalHeads[Code],0))),IF(I357=\"\",0,INDEX(SignalHeads[Perp. Wind Area (sft)],MATCH(I357,SignalHeads[Code],0))))","v":0},{"$f":"SUM(IF(B357=\"\",0,INDEX(SignalHeads[Weight*** (lbs)],MATCH(B357,SignalHeads[Code],0))),IF(D357=\"\",0,INDEX(SignalHeads[Weight*** (lbs)],MATCH(D357,SignalHeads[Code],0))),IF(E357=\"\",0,INDEX(SignalHeads[Weight*** (lbs)],MATCH(E357,SignalHeads[Code],0))),IF(F357=\"\",0,INDEX(SignalHeads[Weight*** (lbs)],MATCH(F357,SignalHeads[Code],0))),IF(G357=\"\",0,INDEX(SignalHeads[Weight*** (lbs)],MATCH(G357,SignalHeads[Code],0))),IF(H357=\"\",0,INDEX(SignalHeads[Weight*** (lbs)],MATCH(H357,SignalHeads[Code],0))),IF(I357=\"\",0,INDEX(SignalHeads[Weight*** (lbs)],MATCH(I357,SignalHeads[Code],0))))","v":0},{"$f":"IF(A357<=$I$8,INDEX(DesignConstants[Value],MATCH(\"Span Wire Weight (plf)\",DesignConstants[Design Constant],0)),0)","v":1.155},0,382.88249999999999,{"$error":"#VALUE!"},{"$error":"#VALUE!"},{"$error":"#N/A"},{"$error":"#N/A"},{"$f":"SUM(IF(B357=\"\",0,INDEX(SignalHeads[Height ** (feet)],MATCH(B357,SignalHeads[Code],0))),IF(D357=\"\",0,INDEX(SignalHeads[Height ** (feet)],MATCH(D357,SignalHeads[Code],0))),IF(E357=\"\",0,INDEX(SignalHeads[Height ** (feet)],MATCH(E357,SignalHeads[Code],0))),IF(F357=\"\",0,INDEX(SignalHeads[Height ** (feet)],MATCH(F357,SignalHeads[Code],0))),IF(G357=\"\",0,INDEX(SignalHeads[Height ** (feet)],MATCH(G357,SignalHeads[Code],0))),IF(H357=\"\",0,INDEX(SignalHeads[Height ** (feet)],MATCH(H357,SignalHeads[Code],0))),IF(I357=\"\",0,INDEX(SignalHeads[Height ** (feet)],MATCH(I357,SignalHeads[Code],0))))","v":0},{"$f":"IF(S357=0,\"\",ROUNDDOWN(12*(((Q357-S357)-MIN($Q$26:$Q$425-$S$26:$S$425)-(MAX($S$26:$S$425*(($Q$26:$Q$425-$S$26:$S$425)=MIN($Q$26:$Q$425-$S$26:$S$425)))-S357))+(MIN($Q$26:$Q$425-$S$26:$S$425)-$I$10)),0)/12)","v":""},"",{"$error":"#N/A"},17]
[333,null,null,null,null,null,null,null,null,{"$f":"SUM(IF(B358=\"\",0,INDEX(SignalHeads[Perp. Wind Area (sft)],MATCH(B358,SignalHeads[Code],0))),IF(D358=\"\",0,INDEX(SignalHeads[Perp. Wind Area (sft)],MATCH(D358,SignalHeads[Code],0))),IF(E358=\"\",0,INDEX(SignalHeads[Perp. Wind Area (sft)],MATCH(E358,SignalHeads[Code],0))),IF(F358=\"\",0,INDEX(SignalHeads[Perp. Wind Area (sft)],MATCH(F358,SignalHeads[Code],0))),IF(G358=\"\",0,INDEX(SignalHeads[Perp. Wind Area (sft)],MATCH(G358,SignalHeads[Code],0))),IF(H358=\"\",0,INDEX(SignalHeads[Perp. Wind Area (sft)],MATCH(H358,SignalHeads[Code],0))),IF(I358=\"\",0,INDEX(SignalHeads[Perp. Wind Area (sft)],MATCH(I358,SignalHeads[Code],0))))","v":0},{"$f":"SUM(IF(B358=\"\",0,INDEX(SignalHeads[Weight*** (lbs)],MATCH(B358,SignalHeads[Code],0))),IF(D358=\"\",0,INDEX(SignalHeads[Weight*** (lbs)],MATCH(D358,SignalHeads[Code],0))),IF(E358=\"\",0,INDEX(SignalHeads[Weight*** (lbs)],MATCH(E358,SignalHeads[Code],0))),IF(F358=\"\",0,INDEX(SignalHeads[Weight*** (lbs)],MATCH(F358,SignalHeads[Code],0))),IF(G358=\"\",0,INDEX(SignalHeads[Weight*** (lbs)],MATCH(G358,SignalHeads[Code],0))),IF(H358=\"\",0,INDEX(SignalHeads[Weight*** (lbs)],MATCH(H358,SignalHeads[Code],0))),IF(I358=\"\",0,INDEX(SignalHeads[Weight*** (lbs)],MATCH(I358,SignalHeads[Code],0))))","v":0},{"$f":"IF(A358<=$I$8,INDEX(DesignConstants[Value],MATCH(\"Span Wire Weight (plf)\",DesignConstants[Design Constant],0)),0)","v":1.155},0,384.03750000000002,{"$error":"#VALUE!"},{"$error":"#VALUE!"},{"$error":"#N/A"},{"$error":"#N/A"},{"$f":"SUM(IF(B358=\"\",0,INDEX(SignalHeads[Height ** (feet)],MATCH(B358,SignalHeads[Code],0))),IF(D358=\"\",0,INDEX(SignalHeads[Height ** (feet)],MATCH(D358,SignalHeads[Code],0))),IF(E358=\"\",0,INDEX(SignalHeads[Height ** (feet)],MATCH(E358,SignalHeads[Code],0))),IF(F358=\"\",0,INDEX(SignalHeads[Height ** (feet)],MATCH(F358,SignalHeads[Code],0))),IF(G358=\"\",0,INDEX(SignalHeads[Height ** (feet)],MATCH(G358,SignalHeads[Code],0))),IF(H358=\"\",0,INDEX(SignalHeads[Height ** (feet)],MATCH(H358,SignalHeads[Code],0))),IF(I358=\"\",0,INDEX(SignalHeads[Height ** (feet)],MATCH(I358,SignalHeads[Code],0))))","v":0},{"$f":"IF(S358=0,\"\",ROUNDDOWN(12*(((Q358-S358)-MIN($Q$26:$Q$425-$S$26:$S$425)-(MAX($S$26:$S$425*(($Q$26:$Q$425-$S$26:$S$425)=MIN($Q$26:$Q$425-$S$26:$S$425)))-S358))+(MIN($Q$26:$Q$425-$S$26:$S$425)-$I$10)),0)/12)","v":""},"",{"$error":"#N/A"},17]
[334,null,null,null,null,null,null,null,null,{"$f":"SUM(IF(B359=\"\",0,INDEX(SignalHeads[Perp. Wind Area (sft)],MATCH(B359,SignalHeads[Code],0))),IF(D359=\"\",0,INDEX(SignalHeads[Perp. Wind Area (sft)],MATCH(D359,SignalHeads[Code],0))),IF(E359=\"\",0,INDEX(SignalHeads[Perp. Wind Area (sft)],MATCH(E359,SignalHeads[Code],0))),IF(F359=\"\",0,INDEX(SignalHeads[Perp. Wind Area (sft)],MATCH(F359,SignalHeads[Code],0))),IF(G359=\"\",0,INDEX(SignalHeads[Perp. Wind Area (sft)],MATCH(G359,SignalHeads[Code],0))),IF(H359=\"\",0,INDEX(SignalHeads[Perp. Wind Area (sft)],MATCH(H359,SignalHeads[Code],0))),IF(I359=\"\",0,INDEX(SignalHeads[Perp. Wind Area (sft)],MATCH(I359,SignalHeads[Code],0))))","v":0},{"$f":"SUM(IF(B359=\"\",0,INDEX(SignalHeads[Weight*** (lbs)],MATCH(B359,SignalHeads[Code],0))),IF(D359=\"\",0,INDEX(SignalHeads[Weight*** (lbs)],MATCH(D359,SignalHeads[Code],0))),IF(E359=\"\",0,INDEX(SignalHeads[Weight*** (lbs)],MATCH(E359,SignalHeads[Code],0))),IF(F359=\"\",0,INDEX(SignalHeads[Weight*** (lbs)],MATCH(F359,SignalHeads[Code],0))),IF(G359=\"\",0,INDEX(SignalHeads[Weight*** (lbs)],MATCH(G359,SignalHeads[Code],0))),IF(H359=\"\",0,INDEX(SignalHeads[Weight*** (lbs)],MATCH(H359,SignalHeads[Code],0))),IF(I359=\"\",0,INDEX(SignalHeads[Weight*** (lbs)],MATCH(I359,SignalHeads[Code],0))))","v":0},{"$f":"IF(A359<=$I$8,INDEX(DesignConstants[Value],MATCH(\"Span Wire Weight (plf)\",DesignConstants[Design Constant],0)),0)","v":1.155},0,385.1925,{"$error":"#VALUE!"},{"$error":"#VALUE!"},{"$error":"#N/A"},{"$error":"#N/A"},{"$f":"SUM(IF(B359=\"\",0,INDEX(SignalHeads[Height ** (feet)],MATCH(B359,SignalHeads[Code],0))),IF(D359=\"\",0,INDEX(SignalHeads[Height ** (feet)],MATCH(D359,SignalHeads[Code],0))),IF(E359=\"\",0,INDEX(SignalHeads[Height ** (feet)],MATCH(E359,SignalHeads[Code],0))),IF(F359=\"\",0,INDEX(SignalHeads[Height ** (feet)],MATCH(F359,SignalHeads[Code],0))),IF(G359=\"\",0,INDEX(SignalHeads[Height ** (feet)],MATCH(G359,SignalHeads[Code],0))),IF(H359=\"\",0,INDEX(SignalHeads[Height ** (feet)],MATCH(H359,SignalHeads[Code],0))),IF(I359=\"\",0,INDEX(SignalHeads[Height ** (feet)],MATCH(I359,SignalHeads[Code],0))))","v":0},{"$f":"IF(S359=0,\"\",ROUNDDOWN(12*(((Q359-S359)-MIN($Q$26:$Q$425-$S$26:$S$425)-(MAX($S$26:$S$425*(($Q$26:$Q$425-$S$26:$S$425)=MIN($Q$26:$Q$425-$S$26:$S$425)))-S359))+(MIN($Q$26:$Q$425-$S$26:$S$425)-$I$10)),0)/12)","v":""},"",{"$error":"#N/A"},17]
[335,null,null,null,null,null,null,null,null,{"$f":"SUM(IF(B360=\"\",0,INDEX(SignalHeads[Perp. Wind Area (sft)],MATCH(B360,SignalHeads[Code],0))),IF(D360=\"\",0,INDEX(SignalHeads[Perp. Wind Area (sft)],MATCH(D360,SignalHeads[Code],0))),IF(E360=\"\",0,INDEX(SignalHeads[Perp. Wind Area (sft)],MATCH(E360,SignalHeads[Code],0))),IF(F360=\"\",0,INDEX(SignalHeads[Perp. Wind Area (sft)],MATCH(F360,SignalHeads[Code],0))),IF(G360=\"\",0,INDEX(SignalHeads[Perp. Wind Area (sft)],MATCH(G360,SignalHeads[Code],0))),IF(H360=\"\",0,INDEX(SignalHeads[Perp. Wind Area (sft)],MATCH(H360,SignalHeads[Code],0))),IF(I360=\"\",0,INDEX(SignalHeads[Perp. Wind Area (sft)],MATCH(I360,SignalHeads[Code],0))))","v":0},{"$f":"SUM(IF(B360=\"\",0,INDEX(SignalHeads[Weight*** (lbs)],MATCH(B360,SignalHeads[Code],0))),IF(D360=\"\",0,INDEX(SignalHeads[Weight*** (lbs)],MATCH(D360,SignalHeads[Code],0))),IF(E360=\"\",0,INDEX(SignalHeads[Weight*** (lbs)],MATCH(E360,SignalHeads[Code],0))),IF(F360=\"\",0,INDEX(SignalHeads[Weight*** (lbs)],MATCH(F360,SignalHeads[Code],0))),IF(G360=\"\",0,INDEX(SignalHeads[Weight*** (lbs)],MATCH(G360,SignalHeads[Code],0))),IF(H360=\"\",0,INDEX(SignalHeads[Weight*** (lbs)],MATCH(H360,SignalHeads[Code],0))),IF(I360=\"\",0,INDEX(SignalHeads[Weight*** (lbs)],MATCH(I360,SignalHeads[Code],0))))","v":0},{"$f":"IF(A360<=$I$8,INDEX(DesignConstants[Value],MATCH(\"Span Wire Weight (plf)\",DesignConstants[Design Constant],0)),0)","v":1.155},0,386.34750000000003,{"$error":"#VALUE!"},{"$error":"#VALUE!"},{"$error":"#N/A"},{"$error":"#N/A"},{"$f":"SUM(IF(B360=\"\",0,INDEX(SignalHeads[Height ** (feet)],MATCH(B360,SignalHeads[Code],0))),IF(D360=\"\",0,INDEX(SignalHeads[Height ** (feet)],MATCH(D360,SignalHeads[Code],0))),IF(E360=\"\",0,INDEX(SignalHeads[Height ** (feet)],MATCH(E360,SignalHeads[Code],0))),IF(F360=\"\",0,INDEX(SignalHeads[Height ** (feet)],MATCH(F360,SignalHeads[Code],0))),IF(G360=\"\",0,INDEX(SignalHeads[Height ** (feet)],MATCH(G360,SignalHeads[Code],0))),IF(H360=\"\",0,INDEX(SignalHeads[Height ** (feet)],MATCH(H360,SignalHeads[Code],0))),IF(I360=\"\",0,INDEX(SignalHeads[Height ** (feet)],MATCH(I360,SignalHeads[Code],0))))","v":0},{"$f":"IF(S360=0,\"\",ROUNDDOWN(12*(((Q360-S360)-MIN($Q$26:$Q$425-$S$26:$S$425)-(MAX($S$26:$S$425*(($Q$26:$Q$425-$S$26:$S$425)=MIN($Q$26:$Q$425-$S$26:$S$425)))-S360))+(MIN($Q$26:$Q$425-$S$26:$S$425)-$I$10)),0)/12)","v":""},"",{"$error":"#N/A"},17]
[336,null,null,null,null,null,null,null,null,{"$f":"SUM(IF(B361=\"\",0,INDEX(SignalHeads[Perp. Wind Area (sft)],MATCH(B361,SignalHeads[Code],0))),IF(D361=\"\",0,INDEX(SignalHeads[Perp. Wind Area (sft)],MATCH(D361,SignalHeads[Code],0))),IF(E361=\"\",0,INDEX(SignalHeads[Perp. Wind Area (sft)],MATCH(E361,SignalHeads[Code],0))),IF(F361=\"\",0,INDEX(SignalHeads[Perp. Wind Area (sft)],MATCH(F361,SignalHeads[Code],0))),IF(G361=\"\",0,INDEX(SignalHeads[Perp. Wind Area (sft)],MATCH(G361,SignalHeads[Code],0))),IF(H361=\"\",0,INDEX(SignalHeads[Perp. Wind Area (sft)],MATCH(H361,SignalHeads[Code],0))),IF(I361=\"\",0,INDEX(SignalHeads[Perp. Wind Area (sft)],MATCH(I361,SignalHeads[Code],0))))","v":0},{"$f":"SUM(IF(B361=\"\",0,INDEX(SignalHeads[Weight*** (lbs)],MATCH(B361,SignalHeads[Code],0))),IF(D361=\"\",0,INDEX(SignalHeads[Weight*** (lbs)],MATCH(D361,SignalHeads[Code],0))),IF(E361=\"\",0,INDEX(SignalHeads[Weight*** (lbs)],MATCH(E361,SignalHeads[Code],0))),IF(F361=\"\",0,INDEX(SignalHeads[Weight*** (lbs)],MATCH(F361,SignalHeads[Code],0))),IF(G361=\"\",0,INDEX(SignalHeads[Weight*** (lbs)],MATCH(G361,SignalHeads[Code],0))),IF(H361=\"\",0,INDEX(SignalHeads[Weight*** (lbs)],MATCH(H361,SignalHeads[Code],0))),IF(I361=\"\",0,INDEX(SignalHeads[Weight*** (lbs)],MATCH(I361,SignalHeads[Code],0))))","v":0},{"$f":"IF(A361<=$I$8,INDEX(DesignConstants[Value],MATCH(\"Span Wire Weight (plf)\",DesignConstants[Design Constant],0)),0)","v":1.155},0,387.5025,{"$error":"#VALUE!"},{"$error":"#VALUE!"},{"$error":"#N/A"},{"$error":"#N/A"},{"$f":"SUM(IF(B361=\"\",0,INDEX(SignalHeads[Height ** (feet)],MATCH(B361,SignalHeads[Code],0))),IF(D361=\"\",0,INDEX(SignalHeads[Height ** (feet)],MATCH(D361,SignalHeads[Code],0))),IF(E361=\"\",0,INDEX(SignalHeads[Height ** (feet)],MATCH(E361,SignalHeads[Code],0))),IF(F361=\"\",0,INDEX(SignalHeads[Height ** (feet)],MATCH(F361,SignalHeads[Code],0))),IF(G361=\"\",0,INDEX(SignalHeads[Height ** (feet)],MATCH(G361,SignalHeads[Code],0))),IF(H361=\"\",0,INDEX(SignalHeads[Height ** (feet)],MATCH(H361,SignalHeads[Code],0))),IF(I361=\"\",0,INDEX(SignalHeads[Height ** (feet)],MATCH(I361,SignalHeads[Code],0))))","v":0},{"$f":"IF(S361=0,\"\",ROUNDDOWN(12*(((Q361-S361)-MIN($Q$26:$Q$425-$S$26:$S$425)-(MAX($S$26:$S$425*(($Q$26:$Q$425-$S$26:$S$425)=MIN($Q$26:$Q$425-$S$26:$S$425)))-S361))+(MIN($Q$26:$Q$425-$S$26:$S$425)-$I$10)),0)/12)","v":""},"",{"$error":"#N/A"},17]
[337,null,null,null,null,null,null,null,null,{"$f":"SUM(IF(B362=\"\",0,INDEX(SignalHeads[Perp. Wind Area (sft)],MATCH(B362,SignalHeads[Code],0))),IF(D362=\"\",0,INDEX(SignalHeads[Perp. Wind Area (sft)],MATCH(D362,SignalHeads[Code],0))),IF(E362=\"\",0,INDEX(SignalHeads[Perp. Wind Area (sft)],MATCH(E362,SignalHeads[Code],0))),IF(F362=\"\",0,INDEX(SignalHeads[Perp. Wind Area (sft)],MATCH(F362,SignalHeads[Code],0))),IF(G362=\"\",0,INDEX(SignalHeads[Perp. Wind Area (sft)],MATCH(G362,SignalHeads[Code],0))),IF(H362=\"\",0,INDEX(SignalHeads[Perp. Wind Area (sft)],MATCH(H362,SignalHeads[Code],0))),IF(I362=\"\",0,INDEX(SignalHeads[Perp. Wind Area (sft)],MATCH(I362,SignalHeads[Code],0))))","v":0},{"$f":"SUM(IF(B362=\"\",0,INDEX(SignalHeads[Weight*** (lbs)],MATCH(B362,SignalHeads[Code],0))),IF(D362=\"\",0,INDEX(SignalHeads[Weight*** (lbs)],MATCH(D362,SignalHeads[Code],0))),IF(E362=\"\",0,INDEX(SignalHeads[Weight*** (lbs)],MATCH(E362,SignalHeads[Code],0))),IF(F362=\"\",0,INDEX(SignalHeads[Weight*** (lbs)],MATCH(F362,SignalHeads[Code],0))),IF(G362=\"\",0,INDEX(SignalHeads[Weight*** (lbs)],MATCH(G362,SignalHeads[Code],0))),IF(H362=\"\",0,INDEX(SignalHeads[Weight*** (lbs)],MATCH(H362,SignalHeads[Code],0))),IF(I362=\"\",0,INDEX(SignalHeads[Weight*** (lbs)],MATCH(I362,SignalHeads[Code],0))))","v":0},{"$f":"IF(A362<=$I$8,INDEX(DesignConstants[Value],MATCH(\"Span Wire Weight (plf)\",DesignConstants[Design Constant],0)),0)","v":1.155},0,388.65750000000003,{"$error":"#VALUE!"},{"$error":"#VALUE!"},{"$error":"#N/A"},{"$error":"#N/A"},{"$f":"SUM(IF(B362=\"\",0,INDEX(SignalHeads[Height ** (feet)],MATCH(B362,SignalHeads[Code],0))),IF(D362=\"\",0,INDEX(SignalHeads[Height ** (feet)],MATCH(D362,SignalHeads[Code],0))),IF(E362=\"\",0,INDEX(SignalHeads[Height ** (feet)],MATCH(E362,SignalHeads[Code],0))),IF(F362=\"\",0,INDEX(SignalHeads[Height ** (feet)],MATCH(F362,SignalHeads[Code],0))),IF(G362=\"\",0,INDEX(SignalHeads[Height ** (feet)],MATCH(G362,SignalHeads[Code],0))),IF(H362=\"\",0,INDEX(SignalHeads[Height ** (feet)],MATCH(H362,SignalHeads[Code],0))),IF(I362=\"\",0,INDEX(SignalHeads[Height ** (feet)],MATCH(I362,SignalHeads[Code],0))))","v":0},{"$f":"IF(S362=0,\"\",ROUNDDOWN(12*(((Q362-S362)-MIN($Q$26:$Q$425-$S$26:$S$425)-(MAX($S$26:$S$425*(($Q$26:$Q$425-$S$26:$S$425)=MIN($Q$26:$Q$425-$S$26:$S$425)))-S362))+(MIN($Q$26:$Q$425-$S$26:$S$425)-$I$10)),0)/12)","v":""},"",{"$error":"#N/A"},17]
[338,null,null,null,null,null,null,null,null,{"$f":"SUM(IF(B363=\"\",0,INDEX(SignalHeads[Perp. Wind Area (sft)],MATCH(B363,SignalHeads[Code],0))),IF(D363=\"\",0,INDEX(SignalHeads[Perp. Wind Area (sft)],MATCH(D363,SignalHeads[Code],0))),IF(E363=\"\",0,INDEX(SignalHeads[Perp. Wind Area (sft)],MATCH(E363,SignalHeads[Code],0))),IF(F363=\"\",0,INDEX(SignalHeads[Perp. Wind Area (sft)],MATCH(F363,SignalHeads[Code],0))),IF(G363=\"\",0,INDEX(SignalHeads[Perp. Wind Area (sft)],MATCH(G363,SignalHeads[Code],0))),IF(H363=\"\",0,INDEX(SignalHeads[Perp. Wind Area (sft)],MATCH(H363,SignalHeads[Code],0))),IF(I363=\"\",0,INDEX(SignalHeads[Perp. Wind Area (sft)],MATCH(I363,SignalHeads[Code],0))))","v":0},{"$f":"SUM(IF(B363=\"\",0,INDEX(SignalHeads[Weight*** (lbs)],MATCH(B363,SignalHeads[Code],0))),IF(D363=\"\",0,INDEX(SignalHeads[Weight*** (lbs)],MATCH(D363,SignalHeads[Code],0))),IF(E363=\"\",0,INDEX(SignalHeads[Weight*** (lbs)],MATCH(E363,SignalHeads[Code],0))),IF(F363=\"\",0,INDEX(SignalHeads[Weight*** (lbs)],MATCH(F363,SignalHeads[Code],0))),IF(G363=\"\",0,INDEX(SignalHeads[Weight*** (lbs)],MATCH(G363,SignalHeads[Code],0))),IF(H363=\"\",0,INDEX(SignalHeads[Weight*** (lbs)],MATCH(H363,SignalHeads[Code],0))),IF(I363=\"\",0,INDEX(SignalHeads[Weight*** (lbs)],MATCH(I363,SignalHeads[Code],0))))","v":0},{"$f":"IF(A363<=$I$8,INDEX(DesignConstants[Value],MATCH(\"Span Wire Weight (plf)\",DesignConstants[Design Constant],0)),0)","v":1.155},0,389.8125,{"$error":"#VALUE!"},{"$error":"#VALUE!"},{"$error":"#N/A"},{"$error":"#N/A"},{"$f":"SUM(IF(B363=\"\",0,INDEX(SignalHeads[Height ** (feet)],MATCH(B363,SignalHeads[Code],0))),IF(D363=\"\",0,INDEX(SignalHeads[Height ** (feet)],MATCH(D363,SignalHeads[Code],0))),IF(E363=\"\",0,INDEX(SignalHeads[Height ** (feet)],MATCH(E363,SignalHeads[Code],0))),IF(F363=\"\",0,INDEX(SignalHeads[Height ** (feet)],MATCH(F363,SignalHeads[Code],0))),IF(G363=\"\",0,INDEX(SignalHeads[Height ** (feet)],MATCH(G363,SignalHeads[Code],0))),IF(H363=\"\",0,INDEX(SignalHeads[Height ** (feet)],MATCH(H363,SignalHeads[Code],0))),IF(I363=\"\",0,INDEX(SignalHeads[Height ** (feet)],MATCH(I363,SignalHeads[Code],0))))","v":0},{"$f":"IF(S363=0,\"\",ROUNDDOWN(12*(((Q363-S363)-MIN($Q$26:$Q$425-$S$26:$S$425)-(MAX($S$26:$S$425*(($Q$26:$Q$425-$S$26:$S$425)=MIN($Q$26:$Q$425-$S$26:$S$425)))-S363))+(MIN($Q$26:$Q$425-$S$26:$S$425)-$I$10)),0)/12)","v":""},"",{"$error":"#N/A"},17]
[339,null,null,null,null,null,null,null,null,{"$f":"SUM(IF(B364=\"\",0,INDEX(SignalHeads[Perp. Wind Area (sft)],MATCH(B364,SignalHeads[Code],0))),IF(D364=\"\",0,INDEX(SignalHeads[Perp. Wind Area (sft)],MATCH(D364,SignalHeads[Code],0))),IF(E364=\"\",0,INDEX(SignalHeads[Perp. Wind Area (sft)],MATCH(E364,SignalHeads[Code],0))),IF(F364=\"\",0,INDEX(SignalHeads[Perp. Wind Area (sft)],MATCH(F364,SignalHeads[Code],0))),IF(G364=\"\",0,INDEX(SignalHeads[Perp. Wind Area (sft)],MATCH(G364,SignalHeads[Code],0))),IF(H364=\"\",0,INDEX(SignalHeads[Perp. Wind Area (sft)],MATCH(H364,SignalHeads[Code],0))),IF(I364=\"\",0,INDEX(SignalHeads[Perp. Wind Area (sft)],MATCH(I364,SignalHeads[Code],0))))","v":0},{"$f":"SUM(IF(B364=\"\",0,INDEX(SignalHeads[Weight*** (lbs)],MATCH(B364,SignalHeads[Code],0))),IF(D364=\"\",0,INDEX(SignalHeads[Weight*** (lbs)],MATCH(D364,SignalHeads[Code],0))),IF(E364=\"\",0,INDEX(SignalHeads[Weight*** (lbs)],MATCH(E364,SignalHeads[Code],0))),IF(F364=\"\",0,INDEX(SignalHeads[Weight*** (lbs)],MATCH(F364,SignalHeads[Code],0))),IF(G364=\"\",0,INDEX(SignalHeads[Weight*** (lbs)],MATCH(G364,SignalHeads[Code],0))),IF(H364=\"\",0,INDEX(SignalHeads[Weight*** (lbs)],MATCH(H364,SignalHeads[Code],0))),IF(I364=\"\",0,INDEX(SignalHeads[Weight*** (lbs)],MATCH(I364,SignalHeads[Code],0))))","v":0},{"$f":"IF(A364<=$I$8,INDEX(DesignConstants[Value],MATCH(\"Span Wire Weight (plf)\",DesignConstants[Design Constant],0)),0)","v":1.155},0,390.96750000000003,{"$error":"#VALUE!"},{"$error":"#VALUE!"},{"$error":"#N/A"},{"$error":"#N/A"},{"$f":"SUM(IF(B364=\"\",0,INDEX(SignalHeads[Height ** (feet)],MATCH(B364,SignalHeads[Code],0))),IF(D364=\"\",0,INDEX(SignalHeads[Height ** (feet)],MATCH(D364,SignalHeads[Code],0))),IF(E364=\"\",0,INDEX(SignalHeads[Height ** (feet)],MATCH(E364,SignalHeads[Code],0))),IF(F364=\"\",0,INDEX(SignalHeads[Height ** (feet)],MATCH(F364,SignalHeads[Code],0))),IF(G364=\"\",0,INDEX(SignalHeads[Height ** (feet)],MATCH(G364,SignalHeads[Code],0))),IF(H364=\"\",0,INDEX(SignalHeads[Height ** (feet)],MATCH(H364,SignalHeads[Code],0))),IF(I364=\"\",0,INDEX(SignalHeads[Height ** (feet)],MATCH(I364,SignalHeads[Code],0))))","v":0},{"$f":"IF(S364=0,\"\",ROUNDDOWN(12*(((Q364-S364)-MIN($Q$26:$Q$425-$S$26:$S$425)-(MAX($S$26:$S$425*(($Q$26:$Q$425-$S$26:$S$425)=MIN($Q$26:$Q$425-$S$26:$S$425)))-S364))+(MIN($Q$26:$Q$425-$S$26:$S$425)-$I$10)),0)/12)","v":""},"",{"$error":"#N/A"},17]
[340,null,null,null,null,null,null,null,null,{"$f":"SUM(IF(B365=\"\",0,INDEX(SignalHeads[Perp. Wind Area (sft)],MATCH(B365,SignalHeads[Code],0))),IF(D365=\"\",0,INDEX(SignalHeads[Perp. Wind Area (sft)],MATCH(D365,SignalHeads[Code],0))),IF(E365=\"\",0,INDEX(SignalHeads[Perp. Wind Area (sft)],MATCH(E365,SignalHeads[Code],0))),IF(F365=\"\",0,INDEX(SignalHeads[Perp. Wind Area (sft)],MATCH(F365,SignalHeads[Code],0))),IF(G365=\"\",0,INDEX(SignalHeads[Perp. Wind Area (sft)],MATCH(G365,SignalHeads[Code],0))),IF(H365=\"\",0,INDEX(SignalHeads[Perp. Wind Area (sft)],MATCH(H365,SignalHeads[Code],0))),IF(I365=\"\",0,INDEX(SignalHeads[Perp. Wind Area (sft)],MATCH(I365,SignalHeads[Code],0))))","v":0},{"$f":"SUM(IF(B365=\"\",0,INDEX(SignalHeads[Weight*** (lbs)],MATCH(B365,SignalHeads[Code],0))),IF(D365=\"\",0,INDEX(SignalHeads[Weight*** (lbs)],MATCH(D365,SignalHeads[Code],0))),IF(E365=\"\",0,INDEX(SignalHeads[Weight*** (lbs)],MATCH(E365,SignalHeads[Code],0))),IF(F365=\"\",0,INDEX(SignalHeads[Weight*** (lbs)],MATCH(F365,SignalHeads[Code],0))),IF(G365=\"\",0,INDEX(SignalHeads[Weight*** (lbs)],MATCH(G365,SignalHeads[Code],0))),IF(H365=\"\",0,INDEX(SignalHeads[Weight*** (lbs)],MATCH(H365,SignalHeads[Code],0))),IF(I365=\"\",0,INDEX(SignalHeads[Weight*** (lbs)],MATCH(I365,SignalHeads[Code],0))))","v":0},{"$f":"IF(A365<=$I$8,INDEX(DesignConstants[Value],MATCH(\"Span Wire Weight (plf)\",DesignConstants[Design Constant],0)),0)","v":1.155},0,392.1225,{"$error":"#VALUE!"},{"$error":"#VALUE!"},{"$error":"#N/A"},{"$error":"#N/A"},{"$f":"SUM(IF(B365=\"\",0,INDEX(SignalHeads[Height ** (feet)],MATCH(B365,SignalHeads[Code],0))),IF(D365=\"\",0,INDEX(SignalHeads[Height ** (feet)],MATCH(D365,SignalHeads[Code],0))),IF(E365=\"\",0,INDEX(SignalHeads[Height ** (feet)],MATCH(E365,SignalHeads[Code],0))),IF(F365=\"\",0,INDEX(SignalHeads[Height ** (feet)],MATCH(F365,SignalHeads[Code],0))),IF(G365=\"\",0,INDEX(SignalHeads[Height ** (feet)],MATCH(G365,SignalHeads[Code],0))),IF(H365=\"\",0,INDEX(SignalHeads[Height ** (feet)],MATCH(H365,SignalHeads[Code],0))),IF(I365=\"\",0,INDEX(SignalHeads[Height ** (feet)],MATCH(I365,SignalHeads[Code],0))))","v":0},{"$f":"IF(S365=0,\"\",ROUNDDOWN(12*(((Q365-S365)-MIN($Q$26:$Q$425-$S$26:$S$425)-(MAX($S$26:$S$425*(($Q$26:$Q$425-$S$26:$S$425)=MIN($Q$26:$Q$425-$S$26:$S$425)))-S365))+(MIN($Q$26:$Q$425-$S$26:$S$425)-$I$10)),0)/12)","v":""},"",{"$error":"#N/A"},17]
[341,null,null,null,null,null,null,null,null,{"$f":"SUM(IF(B366=\"\",0,INDEX(SignalHeads[Perp. Wind Area (sft)],MATCH(B366,SignalHeads[Code],0))),IF(D366=\"\",0,INDEX(SignalHeads[Perp. Wind Area (sft)],MATCH(D366,SignalHeads[Code],0))),IF(E366=\"\",0,INDEX(SignalHeads[Perp. Wind Area (sft)],MATCH(E366,SignalHeads[Code],0))),IF(F366=\"\",0,INDEX(SignalHeads[Perp. Wind Area (sft)],MATCH(F366,SignalHeads[Code],0))),IF(G366=\"\",0,INDEX(SignalHeads[Perp. Wind Area (sft)],MATCH(G366,SignalHeads[Code],0))),IF(H366=\"\",0,INDEX(SignalHeads[Perp. Wind Area (sft)],MATCH(H366,SignalHeads[Code],0))),IF(I366=\"\",0,INDEX(SignalHeads[Perp. Wind Area (sft)],MATCH(I366,SignalHeads[Code],0))))","v":0},{"$f":"SUM(IF(B366=\"\",0,INDEX(SignalHeads[Weight*** (lbs)],MATCH(B366,SignalHeads[Code],0))),IF(D366=\"\",0,INDEX(SignalHeads[Weight*** (lbs)],MATCH(D366,SignalHeads[Code],0))),IF(E366=\"\",0,INDEX(SignalHeads[Weight*** (lbs)],MATCH(E366,SignalHeads[Code],0))),IF(F366=\"\",0,INDEX(SignalHeads[Weight*** (lbs)],MATCH(F366,SignalHeads[Code],0))),IF(G366=\"\",0,INDEX(SignalHeads[Weight*** (lbs)],MATCH(G366,SignalHeads[Code],0))),IF(H366=\"\",0,INDEX(SignalHeads[Weight*** (lbs)],MATCH(H366,SignalHeads[Code],0))),IF(I366=\"\",0,INDEX(SignalHeads[Weight*** (lbs)],MATCH(I366,SignalHeads[Code],0))))","v":0},{"$f":"IF(A366<=$I$8,INDEX(DesignConstants[Value],MATCH(\"Span Wire Weight (plf)\",DesignConstants[Design Constant],0)),0)","v":1.155},0,393.27750000000003,{"$error":"#VALUE!"},{"$error":"#VALUE!"},{"$error":"#N/A"},{"$error":"#N/A"},{"$f":"SUM(IF(B366=\"\",0,INDEX(SignalHeads[Height ** (feet)],MATCH(B366,SignalHeads[Code],0))),IF(D366=\"\",0,INDEX(SignalHeads[Height ** (feet)],MATCH(D366,SignalHeads[Code],0))),IF(E366=\"\",0,INDEX(SignalHeads[Height ** (feet)],MATCH(E366,SignalHeads[Code],0))),IF(F366=\"\",0,INDEX(SignalHeads[Height ** (feet)],MATCH(F366,SignalHeads[Code],0))),IF(G366=\"\",0,INDEX(SignalHeads[Height ** (feet)],MATCH(G366,SignalHeads[Code],0))),IF(H366=\"\",0,INDEX(SignalHeads[Height ** (feet)],MATCH(H366,SignalHeads[Code],0))),IF(I366=\"\",0,INDEX(SignalHeads[Height ** (feet)],MATCH(I366,SignalHeads[Code],0))))","v":0},{"$f":"IF(S366=0,\"\",ROUNDDOWN(12*(((Q366-S366)-MIN($Q$26:$Q$425-$S$26:$S$425)-(MAX($S$26:$S$425*(($Q$26:$Q$425-$S$26:$S$425)=MIN($Q$26:$Q$425-$S$26:$S$425)))-S366))+(MIN($Q$26:$Q$425-$S$26:$S$425)-$I$10)),0)/12)","v":""},"",{"$error":"#N/A"},17]
[342,null,null,null,null,null,null,null,null,{"$f":"SUM(IF(B367=\"\",0,INDEX(SignalHeads[Perp. Wind Area (sft)],MATCH(B367,SignalHeads[Code],0))),IF(D367=\"\",0,INDEX(SignalHeads[Perp. Wind Area (sft)],MATCH(D367,SignalHeads[Code],0))),IF(E367=\"\",0,INDEX(SignalHeads[Perp. Wind Area (sft)],MATCH(E367,SignalHeads[Code],0))),IF(F367=\"\",0,INDEX(SignalHeads[Perp. Wind Area (sft)],MATCH(F367,SignalHeads[Code],0))),IF(G367=\"\",0,INDEX(SignalHeads[Perp. Wind Area (sft)],MATCH(G367,SignalHeads[Code],0))),IF(H367=\"\",0,INDEX(SignalHeads[Perp. Wind Area (sft)],MATCH(H367,SignalHeads[Code],0))),IF(I367=\"\",0,INDEX(SignalHeads[Perp. Wind Area (sft)],MATCH(I367,SignalHeads[Code],0))))","v":0},{"$f":"SUM(IF(B367=\"\",0,INDEX(SignalHeads[Weight*** (lbs)],MATCH(B367,SignalHeads[Code],0))),IF(D367=\"\",0,INDEX(SignalHeads[Weight*** (lbs)],MATCH(D367,SignalHeads[Code],0))),IF(E367=\"\",0,INDEX(SignalHeads[Weight*** (lbs)],MATCH(E367,SignalHeads[Code],0))),IF(F367=\"\",0,INDEX(SignalHeads[Weight*** (lbs)],MATCH(F367,SignalHeads[Code],0))),IF(G367=\"\",0,INDEX(SignalHeads[Weight*** (lbs)],MATCH(G367,SignalHeads[Code],0))),IF(H367=\"\",0,INDEX(SignalHeads[Weight*** (lbs)],MATCH(H367,SignalHeads[Code],0))),IF(I367=\"\",0,INDEX(SignalHeads[Weight*** (lbs)],MATCH(I367,SignalHeads[Code],0))))","v":0},{"$f":"IF(A367<=$I$8,INDEX(DesignConstants[Value],MATCH(\"Span Wire Weight (plf)\",DesignConstants[Design Constant],0)),0)","v":1.155},0,394.4325,{"$error":"#VALUE!"},{"$error":"#VALUE!"},{"$error":"#N/A"},{"$error":"#N/A"},{"$f":"SUM(IF(B367=\"\",0,INDEX(SignalHeads[Height ** (feet)],MATCH(B367,SignalHeads[Code],0))),IF(D367=\"\",0,INDEX(SignalHeads[Height ** (feet)],MATCH(D367,SignalHeads[Code],0))),IF(E367=\"\",0,INDEX(SignalHeads[Height ** (feet)],MATCH(E367,SignalHeads[Code],0))),IF(F367=\"\",0,INDEX(SignalHeads[Height ** (feet)],MATCH(F367,SignalHeads[Code],0))),IF(G367=\"\",0,INDEX(SignalHeads[Height ** (feet)],MATCH(G367,SignalHeads[Code],0))),IF(H367=\"\",0,INDEX(SignalHeads[Height ** (feet)],MATCH(H367,SignalHeads[Code],0))),IF(I367=\"\",0,INDEX(SignalHeads[Height ** (feet)],MATCH(I367,SignalHeads[Code],0))))","v":0},{"$f":"IF(S367=0,\"\",ROUNDDOWN(12*(((Q367-S367)-MIN($Q$26:$Q$425-$S$26:$S$425)-(MAX($S$26:$S$425*(($Q$26:$Q$425-$S$26:$S$425)=MIN($Q$26:$Q$425-$S$26:$S$425)))-S367))+(MIN($Q$26:$Q$425-$S$26:$S$425)-$I$10)),0)/12)","v":""},"",{"$error":"#N/A"},17]
[343,null,null,null,null,null,null,null,null,{"$f":"SUM(IF(B368=\"\",0,INDEX(SignalHeads[Perp. Wind Area (sft)],MATCH(B368,SignalHeads[Code],0))),IF(D368=\"\",0,INDEX(SignalHeads[Perp. Wind Area (sft)],MATCH(D368,SignalHeads[Code],0))),IF(E368=\"\",0,INDEX(SignalHeads[Perp. Wind Area (sft)],MATCH(E368,SignalHeads[Code],0))),IF(F368=\"\",0,INDEX(SignalHeads[Perp. Wind Area (sft)],MATCH(F368,SignalHeads[Code],0))),IF(G368=\"\",0,INDEX(SignalHeads[Perp. Wind Area (sft)],MATCH(G368,SignalHeads[Code],0))),IF(H368=\"\",0,INDEX(SignalHeads[Perp. Wind Area (sft)],MATCH(H368,SignalHeads[Code],0))),IF(I368=\"\",0,INDEX(SignalHeads[Perp. Wind Area (sft)],MATCH(I368,SignalHeads[Code],0))))","v":0},{"$f":"SUM(IF(B368=\"\",0,INDEX(SignalHeads[Weight*** (lbs)],MATCH(B368,SignalHeads[Code],0))),IF(D368=\"\",0,INDEX(SignalHeads[Weight*** (lbs)],MATCH(D368,SignalHeads[Code],0))),IF(E368=\"\",0,INDEX(SignalHeads[Weight*** (lbs)],MATCH(E368,SignalHeads[Code],0))),IF(F368=\"\",0,INDEX(SignalHeads[Weight*** (lbs)],MATCH(F368,SignalHeads[Code],0))),IF(G368=\"\",0,INDEX(SignalHeads[Weight*** (lbs)],MATCH(G368,SignalHeads[Code],0))),IF(H368=\"\",0,INDEX(SignalHeads[Weight*** (lbs)],MATCH(H368,SignalHeads[Code],0))),IF(I368=\"\",0,INDEX(SignalHeads[Weight*** (lbs)],MATCH(I368,SignalHeads[Code],0))))","v":0},{"$f":"IF(A368<=$I$8,INDEX(DesignConstants[Value],MATCH(\"Span Wire Weight (plf)\",DesignConstants[Design Constant],0)),0)","v":1.155},0,395.58750000000003,{"$error":"#VALUE!"},{"$error":"#VALUE!"},{"$error":"#N/A"},{"$error":"#N/A"},{"$f":"SUM(IF(B368=\"\",0,INDEX(SignalHeads[Height ** (feet)],MATCH(B368,SignalHeads[Code],0))),IF(D368=\"\",0,INDEX(SignalHeads[Height ** (feet)],MATCH(D368,SignalHeads[Code],0))),IF(E368=\"\",0,INDEX(SignalHeads[Height ** (feet)],MATCH(E368,SignalHeads[Code],0))),IF(F368=\"\",0,INDEX(SignalHeads[Height ** (feet)],MATCH(F368,SignalHeads[Code],0))),IF(G368=\"\",0,INDEX(SignalHeads[Height ** (feet)],MATCH(G368,SignalHeads[Code],0))),IF(H368=\"\",0,INDEX(SignalHeads[Height ** (feet)],MATCH(H368,SignalHeads[Code],0))),IF(I368=\"\",0,INDEX(SignalHeads[Height ** (feet)],MATCH(I368,SignalHeads[Code],0))))","v":0},{"$f":"IF(S368=0,\"\",ROUNDDOWN(12*(((Q368-S368)-MIN($Q$26:$Q$425-$S$26:$S$425)-(MAX($S$26:$S$425*(($Q$26:$Q$425-$S$26:$S$425)=MIN($Q$26:$Q$425-$S$26:$S$425)))-S368))+(MIN($Q$26:$Q$425-$S$26:$S$425)-$I$10)),0)/12)","v":""},"",{"$error":"#N/A"},17]
[344,null,null,null,null,null,null,null,null,{"$f":"SUM(IF(B369=\"\",0,INDEX(SignalHeads[Perp. Wind Area (sft)],MATCH(B369,SignalHeads[Code],0))),IF(D369=\"\",0,INDEX(SignalHeads[Perp. Wind Area (sft)],MATCH(D369,SignalHeads[Code],0))),IF(E369=\"\",0,INDEX(SignalHeads[Perp. Wind Area (sft)],MATCH(E369,SignalHeads[Code],0))),IF(F369=\"\",0,INDEX(SignalHeads[Perp. Wind Area (sft)],MATCH(F369,SignalHeads[Code],0))),IF(G369=\"\",0,INDEX(SignalHeads[Perp. Wind Area (sft)],MATCH(G369,SignalHeads[Code],0))),IF(H369=\"\",0,INDEX(SignalHeads[Perp. Wind Area (sft)],MATCH(H369,SignalHeads[Code],0))),IF(I369=\"\",0,INDEX(SignalHeads[Perp. Wind Area (sft)],MATCH(I369,SignalHeads[Code],0))))","v":0},{"$f":"SUM(IF(B369=\"\",0,INDEX(SignalHeads[Weight*** (lbs)],MATCH(B369,SignalHeads[Code],0))),IF(D369=\"\",0,INDEX(SignalHeads[Weight*** (lbs)],MATCH(D369,SignalHeads[Code],0))),IF(E369=\"\",0,INDEX(SignalHeads[Weight*** (lbs)],MATCH(E369,SignalHeads[Code],0))),IF(F369=\"\",0,INDEX(SignalHeads[Weight*** (lbs)],MATCH(F369,SignalHeads[Code],0))),IF(G369=\"\",0,INDEX(SignalHeads[Weight*** (lbs)],MATCH(G369,SignalHeads[Code],0))),IF(H369=\"\",0,INDEX(SignalHeads[Weight*** (lbs)],MATCH(H369,SignalHeads[Code],0))),IF(I369=\"\",0,INDEX(SignalHeads[Weight*** (lbs)],MATCH(I369,SignalHeads[Code],0))))","v":0},{"$f":"IF(A369<=$I$8,INDEX(DesignConstants[Value],MATCH(\"Span Wire Weight (plf)\",DesignConstants[Design Constant],0)),0)","v":1.155},0,396.74250000000001,{"$error":"#VALUE!"},{"$error":"#VALUE!"},{"$error":"#N/A"},{"$error":"#N/A"},{"$f":"SUM(IF(B369=\"\",0,INDEX(SignalHeads[Height ** (feet)],MATCH(B369,SignalHeads[Code],0))),IF(D369=\"\",0,INDEX(SignalHeads[Height ** (feet)],MATCH(D369,SignalHeads[Code],0))),IF(E369=\"\",0,INDEX(SignalHeads[Height ** (feet)],MATCH(E369,SignalHeads[Code],0))),IF(F369=\"\",0,INDEX(SignalHeads[Height ** (feet)],MATCH(F369,SignalHeads[Code],0))),IF(G369=\"\",0,INDEX(SignalHeads[Height ** (feet)],MATCH(G369,SignalHeads[Code],0))),IF(H369=\"\",0,INDEX(SignalHeads[Height ** (feet)],MATCH(H369,SignalHeads[Code],0))),IF(I369=\"\",0,INDEX(SignalHeads[Height ** (feet)],MATCH(I369,SignalHeads[Code],0))))","v":0},{"$f":"IF(S369=0,\"\",ROUNDDOWN(12*(((Q369-S369)-MIN($Q$26:$Q$425-$S$26:$S$425)-(MAX($S$26:$S$425*(($Q$26:$Q$425-$S$26:$S$425)=MIN($Q$26:$Q$425-$S$26:$S$425)))-S369))+(MIN($Q$26:$Q$425-$S$26:$S$425)-$I$10)),0)/12)","v":""},"",{"$error":"#N/A"},17]
[345,null,null,null,null,null,null,null,null,{"$f":"SUM(IF(B370=\"\",0,INDEX(SignalHeads[Perp. Wind Area (sft)],MATCH(B370,SignalHeads[Code],0))),IF(D370=\"\",0,INDEX(SignalHeads[Perp. Wind Area (sft)],MATCH(D370,SignalHeads[Code],0))),IF(E370=\"\",0,INDEX(SignalHeads[Perp. Wind Area (sft)],MATCH(E370,SignalHeads[Code],0))),IF(F370=\"\",0,INDEX(SignalHeads[Perp. Wind Area (sft)],MATCH(F370,SignalHeads[Code],0))),IF(G370=\"\",0,INDEX(SignalHeads[Perp. Wind Area (sft)],MATCH(G370,SignalHeads[Code],0))),IF(H370=\"\",0,INDEX(SignalHeads[Perp. Wind Area (sft)],MATCH(H370,SignalHeads[Code],0))),IF(I370=\"\",0,INDEX(SignalHeads[Perp. Wind Area (sft)],MATCH(I370,SignalHeads[Code],0))))","v":0},{"$f":"SUM(IF(B370=\"\",0,INDEX(SignalHeads[Weight*** (lbs)],MATCH(B370,SignalHeads[Code],0))),IF(D370=\"\",0,INDEX(SignalHeads[Weight*** (lbs)],MATCH(D370,SignalHeads[Code],0))),IF(E370=\"\",0,INDEX(SignalHeads[Weight*** (lbs)],MATCH(E370,SignalHeads[Code],0))),IF(F370=\"\",0,INDEX(SignalHeads[Weight*** (lbs)],MATCH(F370,SignalHeads[Code],0))),IF(G370=\"\",0,INDEX(SignalHeads[Weight*** (lbs)],MATCH(G370,SignalHeads[Code],0))),IF(H370=\"\",0,INDEX(SignalHeads[Weight*** (lbs)],MATCH(H370,SignalHeads[Code],0))),IF(I370=\"\",0,INDEX(SignalHeads[Weight*** (lbs)],MATCH(I370,SignalHeads[Code],0))))","v":0},{"$f":"IF(A370<=$I$8,INDEX(DesignConstants[Value],MATCH(\"Span Wire Weight (plf)\",DesignConstants[Design Constant],0)),0)","v":1.155},0,397.89750000000004,{"$error":"#VALUE!"},{"$error":"#VALUE!"},{"$error":"#N/A"},{"$error":"#N/A"},{"$f":"SUM(IF(B370=\"\",0,INDEX(SignalHeads[Height ** (feet)],MATCH(B370,SignalHeads[Code],0))),IF(D370=\"\",0,INDEX(SignalHeads[Height ** (feet)],MATCH(D370,SignalHeads[Code],0))),IF(E370=\"\",0,INDEX(SignalHeads[Height ** (feet)],MATCH(E370,SignalHeads[Code],0))),IF(F370=\"\",0,INDEX(SignalHeads[Height ** (feet)],MATCH(F370,SignalHeads[Code],0))),IF(G370=\"\",0,INDEX(SignalHeads[Height ** (feet)],MATCH(G370,SignalHeads[Code],0))),IF(H370=\"\",0,INDEX(SignalHeads[Height ** (feet)],MATCH(H370,SignalHeads[Code],0))),IF(I370=\"\",0,INDEX(SignalHeads[Height ** (feet)],MATCH(I370,SignalHeads[Code],0))))","v":0},{"$f":"IF(S370=0,\"\",ROUNDDOWN(12*(((Q370-S370)-MIN($Q$26:$Q$425-$S$26:$S$425)-(MAX($S$26:$S$425*(($Q$26:$Q$425-$S$26:$S$425)=MIN($Q$26:$Q$425-$S$26:$S$425)))-S370))+(MIN($Q$26:$Q$425-$S$26:$S$425)-$I$10)),0)/12)","v":""},"",{"$error":"#N/A"},17]
[346,null,null,null,null,null,null,null,null,{"$f":"SUM(IF(B371=\"\",0,INDEX(SignalHeads[Perp. Wind Area (sft)],MATCH(B371,SignalHeads[Code],0))),IF(D371=\"\",0,INDEX(SignalHeads[Perp. Wind Area (sft)],MATCH(D371,SignalHeads[Code],0))),IF(E371=\"\",0,INDEX(SignalHeads[Perp. Wind Area (sft)],MATCH(E371,SignalHeads[Code],0))),IF(F371=\"\",0,INDEX(SignalHeads[Perp. Wind Area (sft)],MATCH(F371,SignalHeads[Code],0))),IF(G371=\"\",0,INDEX(SignalHeads[Perp. Wind Area (sft)],MATCH(G371,SignalHeads[Code],0))),IF(H371=\"\",0,INDEX(SignalHeads[Perp. Wind Area (sft)],MATCH(H371,SignalHeads[Code],0))),IF(I371=\"\",0,INDEX(SignalHeads[Perp. Wind Area (sft)],MATCH(I371,SignalHeads[Code],0))))","v":0},{"$f":"SUM(IF(B371=\"\",0,INDEX(SignalHeads[Weight*** (lbs)],MATCH(B371,SignalHeads[Code],0))),IF(D371=\"\",0,INDEX(SignalHeads[Weight*** (lbs)],MATCH(D371,SignalHeads[Code],0))),IF(E371=\"\",0,INDEX(SignalHeads[Weight*** (lbs)],MATCH(E371,SignalHeads[Code],0))),IF(F371=\"\",0,INDEX(SignalHeads[Weight*** (lbs)],MATCH(F371,SignalHeads[Code],0))),IF(G371=\"\",0,INDEX(SignalHeads[Weight*** (lbs)],MATCH(G371,SignalHeads[Code],0))),IF(H371=\"\",0,INDEX(SignalHeads[Weight*** (lbs)],MATCH(H371,SignalHeads[Code],0))),IF(I371=\"\",0,INDEX(SignalHeads[Weight*** (lbs)],MATCH(I371,SignalHeads[Code],0))))","v":0},{"$f":"IF(A371<=$I$8,INDEX(DesignConstants[Value],MATCH(\"Span Wire Weight (plf)\",DesignConstants[Design Constant],0)),0)","v":1.155},0,399.05250000000001,{"$error":"#VALUE!"},{"$error":"#VALUE!"},{"$error":"#N/A"},{"$error":"#N/A"},{"$f":"SUM(IF(B371=\"\",0,INDEX(SignalHeads[Height ** (feet)],MATCH(B371,SignalHeads[Code],0))),IF(D371=\"\",0,INDEX(SignalHeads[Height ** (feet)],MATCH(D371,SignalHeads[Code],0))),IF(E371=\"\",0,INDEX(SignalHeads[Height ** (feet)],MATCH(E371,SignalHeads[Code],0))),IF(F371=\"\",0,INDEX(SignalHeads[Height ** (feet)],MATCH(F371,SignalHeads[Code],0))),IF(G371=\"\",0,INDEX(SignalHeads[Height ** (feet)],MATCH(G371,SignalHeads[Code],0))),IF(H371=\"\",0,INDEX(SignalHeads[Height ** (feet)],MATCH(H371,SignalHeads[Code],0))),IF(I371=\"\",0,INDEX(SignalHeads[Height ** (feet)],MATCH(I371,SignalHeads[Code],0))))","v":0},{"$f":"IF(S371=0,\"\",ROUNDDOWN(12*(((Q371-S371)-MIN($Q$26:$Q$425-$S$26:$S$425)-(MAX($S$26:$S$425*(($Q$26:$Q$425-$S$26:$S$425)=MIN($Q$26:$Q$425-$S$26:$S$425)))-S371))+(MIN($Q$26:$Q$425-$S$26:$S$425)-$I$10)),0)/12)","v":""},"",{"$error":"#N/A"},17]
[347,null,null,null,null,null,null,null,null,{"$f":"SUM(IF(B372=\"\",0,INDEX(SignalHeads[Perp. Wind Area (sft)],MATCH(B372,SignalHeads[Code],0))),IF(D372=\"\",0,INDEX(SignalHeads[Perp. Wind Area (sft)],MATCH(D372,SignalHeads[Code],0))),IF(E372=\"\",0,INDEX(SignalHeads[Perp. Wind Area (sft)],MATCH(E372,SignalHeads[Code],0))),IF(F372=\"\",0,INDEX(SignalHeads[Perp. Wind Area (sft)],MATCH(F372,SignalHeads[Code],0))),IF(G372=\"\",0,INDEX(SignalHeads[Perp. Wind Area (sft)],MATCH(G372,SignalHeads[Code],0))),IF(H372=\"\",0,INDEX(SignalHeads[Perp. Wind Area (sft)],MATCH(H372,SignalHeads[Code],0))),IF(I372=\"\",0,INDEX(SignalHeads[Perp. Wind Area (sft)],MATCH(I372,SignalHeads[Code],0))))","v":0},{"$f":"SUM(IF(B372=\"\",0,INDEX(SignalHeads[Weight*** (lbs)],MATCH(B372,SignalHeads[Code],0))),IF(D372=\"\",0,INDEX(SignalHeads[Weight*** (lbs)],MATCH(D372,SignalHeads[Code],0))),IF(E372=\"\",0,INDEX(SignalHeads[Weight*** (lbs)],MATCH(E372,SignalHeads[Code],0))),IF(F372=\"\",0,INDEX(SignalHeads[Weight*** (lbs)],MATCH(F372,SignalHeads[Code],0))),IF(G372=\"\",0,INDEX(SignalHeads[Weight*** (lbs)],MATCH(G372,SignalHeads[Code],0))),IF(H372=\"\",0,INDEX(SignalHeads[Weight*** (lbs)],MATCH(H372,SignalHeads[Code],0))),IF(I372=\"\",0,INDEX(SignalHeads[Weight*** (lbs)],MATCH(I372,SignalHeads[Code],0))))","v":0},{"$f":"IF(A372<=$I$8,INDEX(DesignConstants[Value],MATCH(\"Span Wire Weight (plf)\",DesignConstants[Design Constant],0)),0)","v":1.155},0,400.20749999999998,{"$error":"#VALUE!"},{"$error":"#VALUE!"},{"$error":"#N/A"},{"$error":"#N/A"},{"$f":"SUM(IF(B372=\"\",0,INDEX(SignalHeads[Height ** (feet)],MATCH(B372,SignalHeads[Code],0))),IF(D372=\"\",0,INDEX(SignalHeads[Height ** (feet)],MATCH(D372,SignalHeads[Code],0))),IF(E372=\"\",0,INDEX(SignalHeads[Height ** (feet)],MATCH(E372,SignalHeads[Code],0))),IF(F372=\"\",0,INDEX(SignalHeads[Height ** (feet)],MATCH(F372,SignalHeads[Code],0))),IF(G372=\"\",0,INDEX(SignalHeads[Height ** (feet)],MATCH(G372,SignalHeads[Code],0))),IF(H372=\"\",0,INDEX(SignalHeads[Height ** (feet)],MATCH(H372,SignalHeads[Code],0))),IF(I372=\"\",0,INDEX(SignalHeads[Height ** (feet)],MATCH(I372,SignalHeads[Code],0))))","v":0},{"$f":"IF(S372=0,\"\",ROUNDDOWN(12*(((Q372-S372)-MIN($Q$26:$Q$425-$S$26:$S$425)-(MAX($S$26:$S$425*(($Q$26:$Q$425-$S$26:$S$425)=MIN($Q$26:$Q$425-$S$26:$S$425)))-S372))+(MIN($Q$26:$Q$425-$S$26:$S$425)-$I$10)),0)/12)","v":""},"",{"$error":"#N/A"},17]
[348,null,null,null,null,null,null,null,null,{"$f":"SUM(IF(B373=\"\",0,INDEX(SignalHeads[Perp. Wind Area (sft)],MATCH(B373,SignalHeads[Code],0))),IF(D373=\"\",0,INDEX(SignalHeads[Perp. Wind Area (sft)],MATCH(D373,SignalHeads[Code],0))),IF(E373=\"\",0,INDEX(SignalHeads[Perp. Wind Area (sft)],MATCH(E373,SignalHeads[Code],0))),IF(F373=\"\",0,INDEX(SignalHeads[Perp. Wind Area (sft)],MATCH(F373,SignalHeads[Code],0))),IF(G373=\"\",0,INDEX(SignalHeads[Perp. Wind Area (sft)],MATCH(G373,SignalHeads[Code],0))),IF(H373=\"\",0,INDEX(SignalHeads[Perp. Wind Area (sft)],MATCH(H373,SignalHeads[Code],0))),IF(I373=\"\",0,INDEX(SignalHeads[Perp. Wind Area (sft)],MATCH(I373,SignalHeads[Code],0))))","v":0},{"$f":"SUM(IF(B373=\"\",0,INDEX(SignalHeads[Weight*** (lbs)],MATCH(B373,SignalHeads[Code],0))),IF(D373=\"\",0,INDEX(SignalHeads[Weight*** (lbs)],MATCH(D373,SignalHeads[Code],0))),IF(E373=\"\",0,INDEX(SignalHeads[Weight*** (lbs)],MATCH(E373,SignalHeads[Code],0))),IF(F373=\"\",0,INDEX(SignalHeads[Weight*** (lbs)],MATCH(F373,SignalHeads[Code],0))),IF(G373=\"\",0,INDEX(SignalHeads[Weight*** (lbs)],MATCH(G373,SignalHeads[Code],0))),IF(H373=\"\",0,INDEX(SignalHeads[Weight*** (lbs)],MATCH(H373,SignalHeads[Code],0))),IF(I373=\"\",0,INDEX(SignalHeads[Weight*** (lbs)],MATCH(I373,SignalHeads[Code],0))))","v":0},{"$f":"IF(A373<=$I$8,INDEX(DesignConstants[Value],MATCH(\"Span Wire Weight (plf)\",DesignConstants[Design Constant],0)),0)","v":1.155},0,401.36250000000001,{"$error":"#VALUE!"},{"$error":"#VALUE!"},{"$error":"#N/A"},{"$error":"#N/A"},{"$f":"SUM(IF(B373=\"\",0,INDEX(SignalHeads[Height ** (feet)],MATCH(B373,SignalHeads[Code],0))),IF(D373=\"\",0,INDEX(SignalHeads[Height ** (feet)],MATCH(D373,SignalHeads[Code],0))),IF(E373=\"\",0,INDEX(SignalHeads[Height ** (feet)],MATCH(E373,SignalHeads[Code],0))),IF(F373=\"\",0,INDEX(SignalHeads[Height ** (feet)],MATCH(F373,SignalHeads[Code],0))),IF(G373=\"\",0,INDEX(SignalHeads[Height ** (feet)],MATCH(G373,SignalHeads[Code],0))),IF(H373=\"\",0,INDEX(SignalHeads[Height ** (feet)],MATCH(H373,SignalHeads[Code],0))),IF(I373=\"\",0,INDEX(SignalHeads[Height ** (feet)],MATCH(I373,SignalHeads[Code],0))))","v":0},{"$f":"IF(S373=0,\"\",ROUNDDOWN(12*(((Q373-S373)-MIN($Q$26:$Q$425-$S$26:$S$425)-(MAX($S$26:$S$425*(($Q$26:$Q$425-$S$26:$S$425)=MIN($Q$26:$Q$425-$S$26:$S$425)))-S373))+(MIN($Q$26:$Q$425-$S$26:$S$425)-$I$10)),0)/12)","v":""},"",{"$error":"#N/A"},17]
[349,null,null,null,null,null,null,null,null,{"$f":"SUM(IF(B374=\"\",0,INDEX(SignalHeads[Perp. Wind Area (sft)],MATCH(B374,SignalHeads[Code],0))),IF(D374=\"\",0,INDEX(SignalHeads[Perp. Wind Area (sft)],MATCH(D374,SignalHeads[Code],0))),IF(E374=\"\",0,INDEX(SignalHeads[Perp. Wind Area (sft)],MATCH(E374,SignalHeads[Code],0))),IF(F374=\"\",0,INDEX(SignalHeads[Perp. Wind Area (sft)],MATCH(F374,SignalHeads[Code],0))),IF(G374=\"\",0,INDEX(SignalHeads[Perp. Wind Area (sft)],MATCH(G374,SignalHeads[Code],0))),IF(H374=\"\",0,INDEX(SignalHeads[Perp. Wind Area (sft)],MATCH(H374,SignalHeads[Code],0))),IF(I374=\"\",0,INDEX(SignalHeads[Perp. Wind Area (sft)],MATCH(I374,SignalHeads[Code],0))))","v":0},{"$f":"SUM(IF(B374=\"\",0,INDEX(SignalHeads[Weight*** (lbs)],MATCH(B374,SignalHeads[Code],0))),IF(D374=\"\",0,INDEX(SignalHeads[Weight*** (lbs)],MATCH(D374,SignalHeads[Code],0))),IF(E374=\"\",0,INDEX(SignalHeads[Weight*** (lbs)],MATCH(E374,SignalHeads[Code],0))),IF(F374=\"\",0,INDEX(SignalHeads[Weight*** (lbs)],MATCH(F374,SignalHeads[Code],0))),IF(G374=\"\",0,INDEX(SignalHeads[Weight*** (lbs)],MATCH(G374,SignalHeads[Code],0))),IF(H374=\"\",0,INDEX(SignalHeads[Weight*** (lbs)],MATCH(H374,SignalHeads[Code],0))),IF(I374=\"\",0,INDEX(SignalHeads[Weight*** (lbs)],MATCH(I374,SignalHeads[Code],0))))","v":0},{"$f":"IF(A374<=$I$8,INDEX(DesignConstants[Value],MATCH(\"Span Wire Weight (plf)\",DesignConstants[Design Constant],0)),0)","v":1.155},0,402.51749999999998,{"$error":"#VALUE!"},{"$error":"#VALUE!"},{"$error":"#N/A"},{"$error":"#N/A"},{"$f":"SUM(IF(B374=\"\",0,INDEX(SignalHeads[Height ** (feet)],MATCH(B374,SignalHeads[Code],0))),IF(D374=\"\",0,INDEX(SignalHeads[Height ** (feet)],MATCH(D374,SignalHeads[Code],0))),IF(E374=\"\",0,INDEX(SignalHeads[Height ** (feet)],MATCH(E374,SignalHeads[Code],0))),IF(F374=\"\",0,INDEX(SignalHeads[Height ** (feet)],MATCH(F374,SignalHeads[Code],0))),IF(G374=\"\",0,INDEX(SignalHeads[Height ** (feet)],MATCH(G374,SignalHeads[Code],0))),IF(H374=\"\",0,INDEX(SignalHeads[Height ** (feet)],MATCH(H374,SignalHeads[Code],0))),IF(I374=\"\",0,INDEX(SignalHeads[Height ** (feet)],MATCH(I374,SignalHeads[Code],0))))","v":0},{"$f":"IF(S374=0,\"\",ROUNDDOWN(12*(((Q374-S374)-MIN($Q$26:$Q$425-$S$26:$S$425)-(MAX($S$26:$S$425*(($Q$26:$Q$425-$S$26:$S$425)=MIN($Q$26:$Q$425-$S$26:$S$425)))-S374))+(MIN($Q$26:$Q$425-$S$26:$S$425)-$I$10)),0)/12)","v":""},"",{"$error":"#N/A"},17]
[350,null,null,null,null,null,null,null,null,{"$f":"SUM(IF(B375=\"\",0,INDEX(SignalHeads[Perp. Wind Area (sft)],MATCH(B375,SignalHeads[Code],0))),IF(D375=\"\",0,INDEX(SignalHeads[Perp. Wind Area (sft)],MATCH(D375,SignalHeads[Code],0))),IF(E375=\"\",0,INDEX(SignalHeads[Perp. Wind Area (sft)],MATCH(E375,SignalHeads[Code],0))),IF(F375=\"\",0,INDEX(SignalHeads[Perp. Wind Area (sft)],MATCH(F375,SignalHeads[Code],0))),IF(G375=\"\",0,INDEX(SignalHeads[Perp. Wind Area (sft)],MATCH(G375,SignalHeads[Code],0))),IF(H375=\"\",0,INDEX(SignalHeads[Perp. Wind Area (sft)],MATCH(H375,SignalHeads[Code],0))),IF(I375=\"\",0,INDEX(SignalHeads[Perp. Wind Area (sft)],MATCH(I375,SignalHeads[Code],0))))","v":0},{"$f":"SUM(IF(B375=\"\",0,INDEX(SignalHeads[Weight*** (lbs)],MATCH(B375,SignalHeads[Code],0))),IF(D375=\"\",0,INDEX(SignalHeads[Weight*** (lbs)],MATCH(D375,SignalHeads[Code],0))),IF(E375=\"\",0,INDEX(SignalHeads[Weight*** (lbs)],MATCH(E375,SignalHeads[Code],0))),IF(F375=\"\",0,INDEX(SignalHeads[Weight*** (lbs)],MATCH(F375,SignalHeads[Code],0))),IF(G375=\"\",0,INDEX(SignalHeads[Weight*** (lbs)],MATCH(G375,SignalHeads[Code],0))),IF(H375=\"\",0,INDEX(SignalHeads[Weight*** (lbs)],MATCH(H375,SignalHeads[Code],0))),IF(I375=\"\",0,INDEX(SignalHeads[Weight*** (lbs)],MATCH(I375,SignalHeads[Code],0))))","v":0},{"$f":"IF(A375<=$I$8,INDEX(DesignConstants[Value],MATCH(\"Span Wire Weight (plf)\",DesignConstants[Design Constant],0)),0)","v":1.155},0,403.67250000000001,{"$error":"#VALUE!"},{"$error":"#VALUE!"},{"$error":"#N/A"},{"$error":"#N/A"},{"$f":"SUM(IF(B375=\"\",0,INDEX(SignalHeads[Height ** (feet)],MATCH(B375,SignalHeads[Code],0))),IF(D375=\"\",0,INDEX(SignalHeads[Height ** (feet)],MATCH(D375,SignalHeads[Code],0))),IF(E375=\"\",0,INDEX(SignalHeads[Height ** (feet)],MATCH(E375,SignalHeads[Code],0))),IF(F375=\"\",0,INDEX(SignalHeads[Height ** (feet)],MATCH(F375,SignalHeads[Code],0))),IF(G375=\"\",0,INDEX(SignalHeads[Height ** (feet)],MATCH(G375,SignalHeads[Code],0))),IF(H375=\"\",0,INDEX(SignalHeads[Height ** (feet)],MATCH(H375,SignalHeads[Code],0))),IF(I375=\"\",0,INDEX(SignalHeads[Height ** (feet)],MATCH(I375,SignalHeads[Code],0))))","v":0},{"$f":"IF(S375=0,\"\",ROUNDDOWN(12*(((Q375-S375)-MIN($Q$26:$Q$425-$S$26:$S$425)-(MAX($S$26:$S$425*(($Q$26:$Q$425-$S$26:$S$425)=MIN($Q$26:$Q$425-$S$26:$S$425)))-S375))+(MIN($Q$26:$Q$425-$S$26:$S$425)-$I$10)),0)/12)","v":""},"",{"$error":"#N/A"},17]
[351,null,null,null,null,null,null,null,null,{"$f":"SUM(IF(B376=\"\",0,INDEX(SignalHeads[Perp. Wind Area (sft)],MATCH(B376,SignalHeads[Code],0))),IF(D376=\"\",0,INDEX(SignalHeads[Perp. Wind Area (sft)],MATCH(D376,SignalHeads[Code],0))),IF(E376=\"\",0,INDEX(SignalHeads[Perp. Wind Area (sft)],MATCH(E376,SignalHeads[Code],0))),IF(F376=\"\",0,INDEX(SignalHeads[Perp. Wind Area (sft)],MATCH(F376,SignalHeads[Code],0))),IF(G376=\"\",0,INDEX(SignalHeads[Perp. Wind Area (sft)],MATCH(G376,SignalHeads[Code],0))),IF(H376=\"\",0,INDEX(SignalHeads[Perp. Wind Area (sft)],MATCH(H376,SignalHeads[Code],0))),IF(I376=\"\",0,INDEX(SignalHeads[Perp. Wind Area (sft)],MATCH(I376,SignalHeads[Code],0))))","v":0},{"$f":"SUM(IF(B376=\"\",0,INDEX(SignalHeads[Weight*** (lbs)],MATCH(B376,SignalHeads[Code],0))),IF(D376=\"\",0,INDEX(SignalHeads[Weight*** (lbs)],MATCH(D376,SignalHeads[Code],0))),IF(E376=\"\",0,INDEX(SignalHeads[Weight*** (lbs)],MATCH(E376,SignalHeads[Code],0))),IF(F376=\"\",0,INDEX(SignalHeads[Weight*** (lbs)],MATCH(F376,SignalHeads[Code],0))),IF(G376=\"\",0,INDEX(SignalHeads[Weight*** (lbs)],MATCH(G376,SignalHeads[Code],0))),IF(H376=\"\",0,INDEX(SignalHeads[Weight*** (lbs)],MATCH(H376,SignalHeads[Code],0))),IF(I376=\"\",0,INDEX(SignalHeads[Weight*** (lbs)],MATCH(I376,SignalHeads[Code],0))))","v":0},{"$f":"IF(A376<=$I$8,INDEX(DesignConstants[Value],MATCH(\"Span Wire Weight (plf)\",DesignConstants[Design Constant],0)),0)","v":1.155},0,404.82749999999999,{"$error":"#VALUE!"},{"$error":"#VALUE!"},{"$error":"#N/A"},{"$error":"#N/A"},{"$f":"SUM(IF(B376=\"\",0,INDEX(SignalHeads[Height ** (feet)],MATCH(B376,SignalHeads[Code],0))),IF(D376=\"\",0,INDEX(SignalHeads[Height ** (feet)],MATCH(D376,SignalHeads[Code],0))),IF(E376=\"\",0,INDEX(SignalHeads[Height ** (feet)],MATCH(E376,SignalHeads[Code],0))),IF(F376=\"\",0,INDEX(SignalHeads[Height ** (feet)],MATCH(F376,SignalHeads[Code],0))),IF(G376=\"\",0,INDEX(SignalHeads[Height ** (feet)],MATCH(G376,SignalHeads[Code],0))),IF(H376=\"\",0,INDEX(SignalHeads[Height ** (feet)],MATCH(H376,SignalHeads[Code],0))),IF(I376=\"\",0,INDEX(SignalHeads[Height ** (feet)],MATCH(I376,SignalHeads[Code],0))))","v":0},{"$f":"IF(S376=0,\"\",ROUNDDOWN(12*(((Q376-S376)-MIN($Q$26:$Q$425-$S$26:$S$425)-(MAX($S$26:$S$425*(($Q$26:$Q$425-$S$26:$S$425)=MIN($Q$26:$Q$425-$S$26:$S$425)))-S376))+(MIN($Q$26:$Q$425-$S$26:$S$425)-$I$10)),0)/12)","v":""},"",{"$error":"#N/A"},17]
[352,null,null,null,null,null,null,null,null,{"$f":"SUM(IF(B377=\"\",0,INDEX(SignalHeads[Perp. Wind Area (sft)],MATCH(B377,SignalHeads[Code],0))),IF(D377=\"\",0,INDEX(SignalHeads[Perp. Wind Area (sft)],MATCH(D377,SignalHeads[Code],0))),IF(E377=\"\",0,INDEX(SignalHeads[Perp. Wind Area (sft)],MATCH(E377,SignalHeads[Code],0))),IF(F377=\"\",0,INDEX(SignalHeads[Perp. Wind Area (sft)],MATCH(F377,SignalHeads[Code],0))),IF(G377=\"\",0,INDEX(SignalHeads[Perp. Wind Area (sft)],MATCH(G377,SignalHeads[Code],0))),IF(H377=\"\",0,INDEX(SignalHeads[Perp. Wind Area (sft)],MATCH(H377,SignalHeads[Code],0))),IF(I377=\"\",0,INDEX(SignalHeads[Perp. Wind Area (sft)],MATCH(I377,SignalHeads[Code],0))))","v":0},{"$f":"SUM(IF(B377=\"\",0,INDEX(SignalHeads[Weight*** (lbs)],MATCH(B377,SignalHeads[Code],0))),IF(D377=\"\",0,INDEX(SignalHeads[Weight*** (lbs)],MATCH(D377,SignalHeads[Code],0))),IF(E377=\"\",0,INDEX(SignalHeads[Weight*** (lbs)],MATCH(E377,SignalHeads[Code],0))),IF(F377=\"\",0,INDEX(SignalHeads[Weight*** (lbs)],MATCH(F377,SignalHeads[Code],0))),IF(G377=\"\",0,INDEX(SignalHeads[Weight*** (lbs)],MATCH(G377,SignalHeads[Code],0))),IF(H377=\"\",0,INDEX(SignalHeads[Weight*** (lbs)],MATCH(H377,SignalHeads[Code],0))),IF(I377=\"\",0,INDEX(SignalHeads[Weight*** (lbs)],MATCH(I377,SignalHeads[Code],0))))","v":0},{"$f":"IF(A377<=$I$8,INDEX(DesignConstants[Value],MATCH(\"Span Wire Weight (plf)\",DesignConstants[Design Constant],0)),0)","v":1.155},0,405.98250000000002,{"$error":"#VALUE!"},{"$error":"#VALUE!"},{"$error":"#N/A"},{"$error":"#N/A"},{"$f":"SUM(IF(B377=\"\",0,INDEX(SignalHeads[Height ** (feet)],MATCH(B377,SignalHeads[Code],0))),IF(D377=\"\",0,INDEX(SignalHeads[Height ** (feet)],MATCH(D377,SignalHeads[Code],0))),IF(E377=\"\",0,INDEX(SignalHeads[Height ** (feet)],MATCH(E377,SignalHeads[Code],0))),IF(F377=\"\",0,INDEX(SignalHeads[Height ** (feet)],MATCH(F377,SignalHeads[Code],0))),IF(G377=\"\",0,INDEX(SignalHeads[Height ** (feet)],MATCH(G377,SignalHeads[Code],0))),IF(H377=\"\",0,INDEX(SignalHeads[Height ** (feet)],MATCH(H377,SignalHeads[Code],0))),IF(I377=\"\",0,INDEX(SignalHeads[Height ** (feet)],MATCH(I377,SignalHeads[Code],0))))","v":0},{"$f":"IF(S377=0,\"\",ROUNDDOWN(12*(((Q377-S377)-MIN($Q$26:$Q$425-$S$26:$S$425)-(MAX($S$26:$S$425*(($Q$26:$Q$425-$S$26:$S$425)=MIN($Q$26:$Q$425-$S$26:$S$425)))-S377))+(MIN($Q$26:$Q$425-$S$26:$S$425)-$I$10)),0)/12)","v":""},"",{"$error":"#N/A"},17]
[353,null,null,null,null,null,null,null,null,{"$f":"SUM(IF(B378=\"\",0,INDEX(SignalHeads[Perp. Wind Area (sft)],MATCH(B378,SignalHeads[Code],0))),IF(D378=\"\",0,INDEX(SignalHeads[Perp. Wind Area (sft)],MATCH(D378,SignalHeads[Code],0))),IF(E378=\"\",0,INDEX(SignalHeads[Perp. Wind Area (sft)],MATCH(E378,SignalHeads[Code],0))),IF(F378=\"\",0,INDEX(SignalHeads[Perp. Wind Area (sft)],MATCH(F378,SignalHeads[Code],0))),IF(G378=\"\",0,INDEX(SignalHeads[Perp. Wind Area (sft)],MATCH(G378,SignalHeads[Code],0))),IF(H378=\"\",0,INDEX(SignalHeads[Perp. Wind Area (sft)],MATCH(H378,SignalHeads[Code],0))),IF(I378=\"\",0,INDEX(SignalHeads[Perp. Wind Area (sft)],MATCH(I378,SignalHeads[Code],0))))","v":0},{"$f":"SUM(IF(B378=\"\",0,INDEX(SignalHeads[Weight*** (lbs)],MATCH(B378,SignalHeads[Code],0))),IF(D378=\"\",0,INDEX(SignalHeads[Weight*** (lbs)],MATCH(D378,SignalHeads[Code],0))),IF(E378=\"\",0,INDEX(SignalHeads[Weight*** (lbs)],MATCH(E378,SignalHeads[Code],0))),IF(F378=\"\",0,INDEX(SignalHeads[Weight*** (lbs)],MATCH(F378,SignalHeads[Code],0))),IF(G378=\"\",0,INDEX(SignalHeads[Weight*** (lbs)],MATCH(G378,SignalHeads[Code],0))),IF(H378=\"\",0,INDEX(SignalHeads[Weight*** (lbs)],MATCH(H378,SignalHeads[Code],0))),IF(I378=\"\",0,INDEX(SignalHeads[Weight*** (lbs)],MATCH(I378,SignalHeads[Code],0))))","v":0},{"$f":"IF(A378<=$I$8,INDEX(DesignConstants[Value],MATCH(\"Span Wire Weight (plf)\",DesignConstants[Design Constant],0)),0)","v":1.155},0,407.13749999999999,{"$error":"#VALUE!"},{"$error":"#VALUE!"},{"$error":"#N/A"},{"$error":"#N/A"},{"$f":"SUM(IF(B378=\"\",0,INDEX(SignalHeads[Height ** (feet)],MATCH(B378,SignalHeads[Code],0))),IF(D378=\"\",0,INDEX(SignalHeads[Height ** (feet)],MATCH(D378,SignalHeads[Code],0))),IF(E378=\"\",0,INDEX(SignalHeads[Height ** (feet)],MATCH(E378,SignalHeads[Code],0))),IF(F378=\"\",0,INDEX(SignalHeads[Height ** (feet)],MATCH(F378,SignalHeads[Code],0))),IF(G378=\"\",0,INDEX(SignalHeads[Height ** (feet)],MATCH(G378,SignalHeads[Code],0))),IF(H378=\"\",0,INDEX(SignalHeads[Height ** (feet)],MATCH(H378,SignalHeads[Code],0))),IF(I378=\"\",0,INDEX(SignalHeads[Height ** (feet)],MATCH(I378,SignalHeads[Code],0))))","v":0},{"$f":"IF(S378=0,\"\",ROUNDDOWN(12*(((Q378-S378)-MIN($Q$26:$Q$425-$S$26:$S$425)-(MAX($S$26:$S$425*(($Q$26:$Q$425-$S$26:$S$425)=MIN($Q$26:$Q$425-$S$26:$S$425)))-S378))+(MIN($Q$26:$Q$425-$S$26:$S$425)-$I$10)),0)/12)","v":""},"",{"$error":"#N/A"},17]
[354,null,null,null,null,null,null,null,null,{"$f":"SUM(IF(B379=\"\",0,INDEX(SignalHeads[Perp. Wind Area (sft)],MATCH(B379,SignalHeads[Code],0))),IF(D379=\"\",0,INDEX(SignalHeads[Perp. Wind Area (sft)],MATCH(D379,SignalHeads[Code],0))),IF(E379=\"\",0,INDEX(SignalHeads[Perp. Wind Area (sft)],MATCH(E379,SignalHeads[Code],0))),IF(F379=\"\",0,INDEX(SignalHeads[Perp. Wind Area (sft)],MATCH(F379,SignalHeads[Code],0))),IF(G379=\"\",0,INDEX(SignalHeads[Perp. Wind Area (sft)],MATCH(G379,SignalHeads[Code],0))),IF(H379=\"\",0,INDEX(SignalHeads[Perp. Wind Area (sft)],MATCH(H379,SignalHeads[Code],0))),IF(I379=\"\",0,INDEX(SignalHeads[Perp. Wind Area (sft)],MATCH(I379,SignalHeads[Code],0))))","v":0},{"$f":"SUM(IF(B379=\"\",0,INDEX(SignalHeads[Weight*** (lbs)],MATCH(B379,SignalHeads[Code],0))),IF(D379=\"\",0,INDEX(SignalHeads[Weight*** (lbs)],MATCH(D379,SignalHeads[Code],0))),IF(E379=\"\",0,INDEX(SignalHeads[Weight*** (lbs)],MATCH(E379,SignalHeads[Code],0))),IF(F379=\"\",0,INDEX(SignalHeads[Weight*** (lbs)],MATCH(F379,SignalHeads[Code],0))),IF(G379=\"\",0,INDEX(SignalHeads[Weight*** (lbs)],MATCH(G379,SignalHeads[Code],0))),IF(H379=\"\",0,INDEX(SignalHeads[Weight*** (lbs)],MATCH(H379,SignalHeads[Code],0))),IF(I379=\"\",0,INDEX(SignalHeads[Weight*** (lbs)],MATCH(I379,SignalHeads[Code],0))))","v":0},{"$f":"IF(A379<=$I$8,INDEX(DesignConstants[Value],MATCH(\"Span Wire Weight (plf)\",DesignConstants[Design Constant],0)),0)","v":1.155},0,408.29250000000002,{"$error":"#VALUE!"},{"$error":"#VALUE!"},{"$error":"#N/A"},{"$error":"#N/A"},{"$f":"SUM(IF(B379=\"\",0,INDEX(SignalHeads[Height ** (feet)],MATCH(B379,SignalHeads[Code],0))),IF(D379=\"\",0,INDEX(SignalHeads[Height ** (feet)],MATCH(D379,SignalHeads[Code],0))),IF(E379=\"\",0,INDEX(SignalHeads[Height ** (feet)],MATCH(E379,SignalHeads[Code],0))),IF(F379=\"\",0,INDEX(SignalHeads[Height ** (feet)],MATCH(F379,SignalHeads[Code],0))),IF(G379=\"\",0,INDEX(SignalHeads[Height ** (feet)],MATCH(G379,SignalHeads[Code],0))),IF(H379=\"\",0,INDEX(SignalHeads[Height ** (feet)],MATCH(H379,SignalHeads[Code],0))),IF(I379=\"\",0,INDEX(SignalHeads[Height ** (feet)],MATCH(I379,SignalHeads[Code],0))))","v":0},{"$f":"IF(S379=0,\"\",ROUNDDOWN(12*(((Q379-S379)-MIN($Q$26:$Q$425-$S$26:$S$425)-(MAX($S$26:$S$425*(($Q$26:$Q$425-$S$26:$S$425)=MIN($Q$26:$Q$425-$S$26:$S$425)))-S379))+(MIN($Q$26:$Q$425-$S$26:$S$425)-$I$10)),0)/12)","v":""},"",{"$error":"#N/A"},17]
[355,null,null,null,null,null,null,null,null,{"$f":"SUM(IF(B380=\"\",0,INDEX(SignalHeads[Perp. Wind Area (sft)],MATCH(B380,SignalHeads[Code],0))),IF(D380=\"\",0,INDEX(SignalHeads[Perp. Wind Area (sft)],MATCH(D380,SignalHeads[Code],0))),IF(E380=\"\",0,INDEX(SignalHeads[Perp. Wind Area (sft)],MATCH(E380,SignalHeads[Code],0))),IF(F380=\"\",0,INDEX(SignalHeads[Perp. Wind Area (sft)],MATCH(F380,SignalHeads[Code],0))),IF(G380=\"\",0,INDEX(SignalHeads[Perp. Wind Area (sft)],MATCH(G380,SignalHeads[Code],0))),IF(H380=\"\",0,INDEX(SignalHeads[Perp. Wind Area (sft)],MATCH(H380,SignalHeads[Code],0))),IF(I380=\"\",0,INDEX(SignalHeads[Perp. Wind Area (sft)],MATCH(I380,SignalHeads[Code],0))))","v":0},{"$f":"SUM(IF(B380=\"\",0,INDEX(SignalHeads[Weight*** (lbs)],MATCH(B380,SignalHeads[Code],0))),IF(D380=\"\",0,INDEX(SignalHeads[Weight*** (lbs)],MATCH(D380,SignalHeads[Code],0))),IF(E380=\"\",0,INDEX(SignalHeads[Weight*** (lbs)],MATCH(E380,SignalHeads[Code],0))),IF(F380=\"\",0,INDEX(SignalHeads[Weight*** (lbs)],MATCH(F380,SignalHeads[Code],0))),IF(G380=\"\",0,INDEX(SignalHeads[Weight*** (lbs)],MATCH(G380,SignalHeads[Code],0))),IF(H380=\"\",0,INDEX(SignalHeads[Weight*** (lbs)],MATCH(H380,SignalHeads[Code],0))),IF(I380=\"\",0,INDEX(SignalHeads[Weight*** (lbs)],MATCH(I380,SignalHeads[Code],0))))","v":0},{"$f":"IF(A380<=$I$8,INDEX(DesignConstants[Value],MATCH(\"Span Wire Weight (plf)\",DesignConstants[Design Constant],0)),0)","v":1.155},0,409.44749999999999,{"$error":"#VALUE!"},{"$error":"#VALUE!"},{"$error":"#N/A"},{"$error":"#N/A"},{"$f":"SUM(IF(B380=\"\",0,INDEX(SignalHeads[Height ** (feet)],MATCH(B380,SignalHeads[Code],0))),IF(D380=\"\",0,INDEX(SignalHeads[Height ** (feet)],MATCH(D380,SignalHeads[Code],0))),IF(E380=\"\",0,INDEX(SignalHeads[Height ** (feet)],MATCH(E380,SignalHeads[Code],0))),IF(F380=\"\",0,INDEX(SignalHeads[Height ** (feet)],MATCH(F380,SignalHeads[Code],0))),IF(G380=\"\",0,INDEX(SignalHeads[Height ** (feet)],MATCH(G380,SignalHeads[Code],0))),IF(H380=\"\",0,INDEX(SignalHeads[Height ** (feet)],MATCH(H380,SignalHeads[Code],0))),IF(I380=\"\",0,INDEX(SignalHeads[Height ** (feet)],MATCH(I380,SignalHeads[Code],0))))","v":0},{"$f":"IF(S380=0,\"\",ROUNDDOWN(12*(((Q380-S380)-MIN($Q$26:$Q$425-$S$26:$S$425)-(MAX($S$26:$S$425*(($Q$26:$Q$425-$S$26:$S$425)=MIN($Q$26:$Q$425-$S$26:$S$425)))-S380))+(MIN($Q$26:$Q$425-$S$26:$S$425)-$I$10)),0)/12)","v":""},"",{"$error":"#N/A"},17]
[356,null,null,null,null,null,null,null,null,{"$f":"SUM(IF(B381=\"\",0,INDEX(SignalHeads[Perp. Wind Area (sft)],MATCH(B381,SignalHeads[Code],0))),IF(D381=\"\",0,INDEX(SignalHeads[Perp. Wind Area (sft)],MATCH(D381,SignalHeads[Code],0))),IF(E381=\"\",0,INDEX(SignalHeads[Perp. Wind Area (sft)],MATCH(E381,SignalHeads[Code],0))),IF(F381=\"\",0,INDEX(SignalHeads[Perp. Wind Area (sft)],MATCH(F381,SignalHeads[Code],0))),IF(G381=\"\",0,INDEX(SignalHeads[Perp. Wind Area (sft)],MATCH(G381,SignalHeads[Code],0))),IF(H381=\"\",0,INDEX(SignalHeads[Perp. Wind Area (sft)],MATCH(H381,SignalHeads[Code],0))),IF(I381=\"\",0,INDEX(SignalHeads[Perp. Wind Area (sft)],MATCH(I381,SignalHeads[Code],0))))","v":0},{"$f":"SUM(IF(B381=\"\",0,INDEX(SignalHeads[Weight*** (lbs)],MATCH(B381,SignalHeads[Code],0))),IF(D381=\"\",0,INDEX(SignalHeads[Weight*** (lbs)],MATCH(D381,SignalHeads[Code],0))),IF(E381=\"\",0,INDEX(SignalHeads[Weight*** (lbs)],MATCH(E381,SignalHeads[Code],0))),IF(F381=\"\",0,INDEX(SignalHeads[Weight*** (lbs)],MATCH(F381,SignalHeads[Code],0))),IF(G381=\"\",0,INDEX(SignalHeads[Weight*** (lbs)],MATCH(G381,SignalHeads[Code],0))),IF(H381=\"\",0,INDEX(SignalHeads[Weight*** (lbs)],MATCH(H381,SignalHeads[Code],0))),IF(I381=\"\",0,INDEX(SignalHeads[Weight*** (lbs)],MATCH(I381,SignalHeads[Code],0))))","v":0},{"$f":"IF(A381<=$I$8,INDEX(DesignConstants[Value],MATCH(\"Span Wire Weight (plf)\",DesignConstants[Design Constant],0)),0)","v":1.155},0,410.60250000000002,{"$error":"#VALUE!"},{"$error":"#VALUE!"},{"$error":"#N/A"},{"$error":"#N/A"},{"$f":"SUM(IF(B381=\"\",0,INDEX(SignalHeads[Height ** (feet)],MATCH(B381,SignalHeads[Code],0))),IF(D381=\"\",0,INDEX(SignalHeads[Height ** (feet)],MATCH(D381,SignalHeads[Code],0))),IF(E381=\"\",0,INDEX(SignalHeads[Height ** (feet)],MATCH(E381,SignalHeads[Code],0))),IF(F381=\"\",0,INDEX(SignalHeads[Height ** (feet)],MATCH(F381,SignalHeads[Code],0))),IF(G381=\"\",0,INDEX(SignalHeads[Height ** (feet)],MATCH(G381,SignalHeads[Code],0))),IF(H381=\"\",0,INDEX(SignalHeads[Height ** (feet)],MATCH(H381,SignalHeads[Code],0))),IF(I381=\"\",0,INDEX(SignalHeads[Height ** (feet)],MATCH(I381,SignalHeads[Code],0))))","v":0},{"$f":"IF(S381=0,\"\",ROUNDDOWN(12*(((Q381-S381)-MIN($Q$26:$Q$425-$S$26:$S$425)-(MAX($S$26:$S$425*(($Q$26:$Q$425-$S$26:$S$425)=MIN($Q$26:$Q$425-$S$26:$S$425)))-S381))+(MIN($Q$26:$Q$425-$S$26:$S$425)-$I$10)),0)/12)","v":""},"",{"$error":"#N/A"},17]
[357,null,null,null,null,null,null,null,null,{"$f":"SUM(IF(B382=\"\",0,INDEX(SignalHeads[Perp. Wind Area (sft)],MATCH(B382,SignalHeads[Code],0))),IF(D382=\"\",0,INDEX(SignalHeads[Perp. Wind Area (sft)],MATCH(D382,SignalHeads[Code],0))),IF(E382=\"\",0,INDEX(SignalHeads[Perp. Wind Area (sft)],MATCH(E382,SignalHeads[Code],0))),IF(F382=\"\",0,INDEX(SignalHeads[Perp. Wind Area (sft)],MATCH(F382,SignalHeads[Code],0))),IF(G382=\"\",0,INDEX(SignalHeads[Perp. Wind Area (sft)],MATCH(G382,SignalHeads[Code],0))),IF(H382=\"\",0,INDEX(SignalHeads[Perp. Wind Area (sft)],MATCH(H382,SignalHeads[Code],0))),IF(I382=\"\",0,INDEX(SignalHeads[Perp. Wind Area (sft)],MATCH(I382,SignalHeads[Code],0))))","v":0},{"$f":"SUM(IF(B382=\"\",0,INDEX(SignalHeads[Weight*** (lbs)],MATCH(B382,SignalHeads[Code],0))),IF(D382=\"\",0,INDEX(SignalHeads[Weight*** (lbs)],MATCH(D382,SignalHeads[Code],0))),IF(E382=\"\",0,INDEX(SignalHeads[Weight*** (lbs)],MATCH(E382,SignalHeads[Code],0))),IF(F382=\"\",0,INDEX(SignalHeads[Weight*** (lbs)],MATCH(F382,SignalHeads[Code],0))),IF(G382=\"\",0,INDEX(SignalHeads[Weight*** (lbs)],MATCH(G382,SignalHeads[Code],0))),IF(H382=\"\",0,INDEX(SignalHeads[Weight*** (lbs)],MATCH(H382,SignalHeads[Code],0))),IF(I382=\"\",0,INDEX(SignalHeads[Weight*** (lbs)],MATCH(I382,SignalHeads[Code],0))))","v":0},{"$f":"IF(A382<=$I$8,INDEX(DesignConstants[Value],MATCH(\"Span Wire Weight (plf)\",DesignConstants[Design Constant],0)),0)","v":1.155},0,411.75749999999999,{"$error":"#VALUE!"},{"$error":"#VALUE!"},{"$error":"#N/A"},{"$error":"#N/A"},{"$f":"SUM(IF(B382=\"\",0,INDEX(SignalHeads[Height ** (feet)],MATCH(B382,SignalHeads[Code],0))),IF(D382=\"\",0,INDEX(SignalHeads[Height ** (feet)],MATCH(D382,SignalHeads[Code],0))),IF(E382=\"\",0,INDEX(SignalHeads[Height ** (feet)],MATCH(E382,SignalHeads[Code],0))),IF(F382=\"\",0,INDEX(SignalHeads[Height ** (feet)],MATCH(F382,SignalHeads[Code],0))),IF(G382=\"\",0,INDEX(SignalHeads[Height ** (feet)],MATCH(G382,SignalHeads[Code],0))),IF(H382=\"\",0,INDEX(SignalHeads[Height ** (feet)],MATCH(H382,SignalHeads[Code],0))),IF(I382=\"\",0,INDEX(SignalHeads[Height ** (feet)],MATCH(I382,SignalHeads[Code],0))))","v":0},{"$f":"IF(S382=0,\"\",ROUNDDOWN(12*(((Q382-S382)-MIN($Q$26:$Q$425-$S$26:$S$425)-(MAX($S$26:$S$425*(($Q$26:$Q$425-$S$26:$S$425)=MIN($Q$26:$Q$425-$S$26:$S$425)))-S382))+(MIN($Q$26:$Q$425-$S$26:$S$425)-$I$10)),0)/12)","v":""},"",{"$error":"#N/A"},17]
[358,null,null,null,null,null,null,null,null,{"$f":"SUM(IF(B383=\"\",0,INDEX(SignalHeads[Perp. Wind Area (sft)],MATCH(B383,SignalHeads[Code],0))),IF(D383=\"\",0,INDEX(SignalHeads[Perp. Wind Area (sft)],MATCH(D383,SignalHeads[Code],0))),IF(E383=\"\",0,INDEX(SignalHeads[Perp. Wind Area (sft)],MATCH(E383,SignalHeads[Code],0))),IF(F383=\"\",0,INDEX(SignalHeads[Perp. Wind Area (sft)],MATCH(F383,SignalHeads[Code],0))),IF(G383=\"\",0,INDEX(SignalHeads[Perp. Wind Area (sft)],MATCH(G383,SignalHeads[Code],0))),IF(H383=\"\",0,INDEX(SignalHeads[Perp. Wind Area (sft)],MATCH(H383,SignalHeads[Code],0))),IF(I383=\"\",0,INDEX(SignalHeads[Perp. Wind Area (sft)],MATCH(I383,SignalHeads[Code],0))))","v":0},{"$f":"SUM(IF(B383=\"\",0,INDEX(SignalHeads[Weight*** (lbs)],MATCH(B383,SignalHeads[Code],0))),IF(D383=\"\",0,INDEX(SignalHeads[Weight*** (lbs)],MATCH(D383,SignalHeads[Code],0))),IF(E383=\"\",0,INDEX(SignalHeads[Weight*** (lbs)],MATCH(E383,SignalHeads[Code],0))),IF(F383=\"\",0,INDEX(SignalHeads[Weight*** (lbs)],MATCH(F383,SignalHeads[Code],0))),IF(G383=\"\",0,INDEX(SignalHeads[Weight*** (lbs)],MATCH(G383,SignalHeads[Code],0))),IF(H383=\"\",0,INDEX(SignalHeads[Weight*** (lbs)],MATCH(H383,SignalHeads[Code],0))),IF(I383=\"\",0,INDEX(SignalHeads[Weight*** (lbs)],MATCH(I383,SignalHeads[Code],0))))","v":0},{"$f":"IF(A383<=$I$8,INDEX(DesignConstants[Value],MATCH(\"Span Wire Weight (plf)\",DesignConstants[Design Constant],0)),0)","v":1.155},0,412.91250000000002,{"$error":"#VALUE!"},{"$error":"#VALUE!"},{"$error":"#N/A"},{"$error":"#N/A"},{"$f":"SUM(IF(B383=\"\",0,INDEX(SignalHeads[Height ** (feet)],MATCH(B383,SignalHeads[Code],0))),IF(D383=\"\",0,INDEX(SignalHeads[Height ** (feet)],MATCH(D383,SignalHeads[Code],0))),IF(E383=\"\",0,INDEX(SignalHeads[Height ** (feet)],MATCH(E383,SignalHeads[Code],0))),IF(F383=\"\",0,INDEX(SignalHeads[Height ** (feet)],MATCH(F383,SignalHeads[Code],0))),IF(G383=\"\",0,INDEX(SignalHeads[Height ** (feet)],MATCH(G383,SignalHeads[Code],0))),IF(H383=\"\",0,INDEX(SignalHeads[Height ** (feet)],MATCH(H383,SignalHeads[Code],0))),IF(I383=\"\",0,INDEX(SignalHeads[Height ** (feet)],MATCH(I383,SignalHeads[Code],0))))","v":0},{"$f":"IF(S383=0,\"\",ROUNDDOWN(12*(((Q383-S383)-MIN($Q$26:$Q$425-$S$26:$S$425)-(MAX($S$26:$S$425*(($Q$26:$Q$425-$S$26:$S$425)=MIN($Q$26:$Q$425-$S$26:$S$425)))-S383))+(MIN($Q$26:$Q$425-$S$26:$S$425)-$I$10)),0)/12)","v":""},"",{"$error":"#N/A"},17]
[359,null,null,null,null,null,null,null,null,{"$f":"SUM(IF(B384=\"\",0,INDEX(SignalHeads[Perp. Wind Area (sft)],MATCH(B384,SignalHeads[Code],0))),IF(D384=\"\",0,INDEX(SignalHeads[Perp. Wind Area (sft)],MATCH(D384,SignalHeads[Code],0))),IF(E384=\"\",0,INDEX(SignalHeads[Perp. Wind Area (sft)],MATCH(E384,SignalHeads[Code],0))),IF(F384=\"\",0,INDEX(SignalHeads[Perp. Wind Area (sft)],MATCH(F384,SignalHeads[Code],0))),IF(G384=\"\",0,INDEX(SignalHeads[Perp. Wind Area (sft)],MATCH(G384,SignalHeads[Code],0))),IF(H384=\"\",0,INDEX(SignalHeads[Perp. Wind Area (sft)],MATCH(H384,SignalHeads[Code],0))),IF(I384=\"\",0,INDEX(SignalHeads[Perp. Wind Area (sft)],MATCH(I384,SignalHeads[Code],0))))","v":0},{"$f":"SUM(IF(B384=\"\",0,INDEX(SignalHeads[Weight*** (lbs)],MATCH(B384,SignalHeads[Code],0))),IF(D384=\"\",0,INDEX(SignalHeads[Weight*** (lbs)],MATCH(D384,SignalHeads[Code],0))),IF(E384=\"\",0,INDEX(SignalHeads[Weight*** (lbs)],MATCH(E384,SignalHeads[Code],0))),IF(F384=\"\",0,INDEX(SignalHeads[Weight*** (lbs)],MATCH(F384,SignalHeads[Code],0))),IF(G384=\"\",0,INDEX(SignalHeads[Weight*** (lbs)],MATCH(G384,SignalHeads[Code],0))),IF(H384=\"\",0,INDEX(SignalHeads[Weight*** (lbs)],MATCH(H384,SignalHeads[Code],0))),IF(I384=\"\",0,INDEX(SignalHeads[Weight*** (lbs)],MATCH(I384,SignalHeads[Code],0))))","v":0},{"$f":"IF(A384<=$I$8,INDEX(DesignConstants[Value],MATCH(\"Span Wire Weight (plf)\",DesignConstants[Design Constant],0)),0)","v":1.155},0,414.0675,{"$error":"#VALUE!"},{"$error":"#VALUE!"},{"$error":"#N/A"},{"$error":"#N/A"},{"$f":"SUM(IF(B384=\"\",0,INDEX(SignalHeads[Height ** (feet)],MATCH(B384,SignalHeads[Code],0))),IF(D384=\"\",0,INDEX(SignalHeads[Height ** (feet)],MATCH(D384,SignalHeads[Code],0))),IF(E384=\"\",0,INDEX(SignalHeads[Height ** (feet)],MATCH(E384,SignalHeads[Code],0))),IF(F384=\"\",0,INDEX(SignalHeads[Height ** (feet)],MATCH(F384,SignalHeads[Code],0))),IF(G384=\"\",0,INDEX(SignalHeads[Height ** (feet)],MATCH(G384,SignalHeads[Code],0))),IF(H384=\"\",0,INDEX(SignalHeads[Height ** (feet)],MATCH(H384,SignalHeads[Code],0))),IF(I384=\"\",0,INDEX(SignalHeads[Height ** (feet)],MATCH(I384,SignalHeads[Code],0))))","v":0},{"$f":"IF(S384=0,\"\",ROUNDDOWN(12*(((Q384-S384)-MIN($Q$26:$Q$425-$S$26:$S$425)-(MAX($S$26:$S$425*(($Q$26:$Q$425-$S$26:$S$425)=MIN($Q$26:$Q$425-$S$26:$S$425)))-S384))+(MIN($Q$26:$Q$425-$S$26:$S$425)-$I$10)),0)/12)","v":""},"",{"$error":"#N/A"},17]
[360,null,null,null,null,null,null,null,null,{"$f":"SUM(IF(B385=\"\",0,INDEX(SignalHeads[Perp. Wind Area (sft)],MATCH(B385,SignalHeads[Code],0))),IF(D385=\"\",0,INDEX(SignalHeads[Perp. Wind Area (sft)],MATCH(D385,SignalHeads[Code],0))),IF(E385=\"\",0,INDEX(SignalHeads[Perp. Wind Area (sft)],MATCH(E385,SignalHeads[Code],0))),IF(F385=\"\",0,INDEX(SignalHeads[Perp. Wind Area (sft)],MATCH(F385,SignalHeads[Code],0))),IF(G385=\"\",0,INDEX(SignalHeads[Perp. Wind Area (sft)],MATCH(G385,SignalHeads[Code],0))),IF(H385=\"\",0,INDEX(SignalHeads[Perp. Wind Area (sft)],MATCH(H385,SignalHeads[Code],0))),IF(I385=\"\",0,INDEX(SignalHeads[Perp. Wind Area (sft)],MATCH(I385,SignalHeads[Code],0))))","v":0},{"$f":"SUM(IF(B385=\"\",0,INDEX(SignalHeads[Weight*** (lbs)],MATCH(B385,SignalHeads[Code],0))),IF(D385=\"\",0,INDEX(SignalHeads[Weight*** (lbs)],MATCH(D385,SignalHeads[Code],0))),IF(E385=\"\",0,INDEX(SignalHeads[Weight*** (lbs)],MATCH(E385,SignalHeads[Code],0))),IF(F385=\"\",0,INDEX(SignalHeads[Weight*** (lbs)],MATCH(F385,SignalHeads[Code],0))),IF(G385=\"\",0,INDEX(SignalHeads[Weight*** (lbs)],MATCH(G385,SignalHeads[Code],0))),IF(H385=\"\",0,INDEX(SignalHeads[Weight*** (lbs)],MATCH(H385,SignalHeads[Code],0))),IF(I385=\"\",0,INDEX(SignalHeads[Weight*** (lbs)],MATCH(I385,SignalHeads[Code],0))))","v":0},{"$f":"IF(A385<=$I$8,INDEX(DesignConstants[Value],MATCH(\"Span Wire Weight (plf)\",DesignConstants[Design Constant],0)),0)","v":1.155},0,415.22250000000003,{"$error":"#VALUE!"},{"$error":"#VALUE!"},{"$error":"#N/A"},{"$error":"#N/A"},{"$f":"SUM(IF(B385=\"\",0,INDEX(SignalHeads[Height ** (feet)],MATCH(B385,SignalHeads[Code],0))),IF(D385=\"\",0,INDEX(SignalHeads[Height ** (feet)],MATCH(D385,SignalHeads[Code],0))),IF(E385=\"\",0,INDEX(SignalHeads[Height ** (feet)],MATCH(E385,SignalHeads[Code],0))),IF(F385=\"\",0,INDEX(SignalHeads[Height ** (feet)],MATCH(F385,SignalHeads[Code],0))),IF(G385=\"\",0,INDEX(SignalHeads[Height ** (feet)],MATCH(G385,SignalHeads[Code],0))),IF(H385=\"\",0,INDEX(SignalHeads[Height ** (feet)],MATCH(H385,SignalHeads[Code],0))),IF(I385=\"\",0,INDEX(SignalHeads[Height ** (feet)],MATCH(I385,SignalHeads[Code],0))))","v":0},{"$f":"IF(S385=0,\"\",ROUNDDOWN(12*(((Q385-S385)-MIN($Q$26:$Q$425-$S$26:$S$425)-(MAX($S$26:$S$425*(($Q$26:$Q$425-$S$26:$S$425)=MIN($Q$26:$Q$425-$S$26:$S$425)))-S385))+(MIN($Q$26:$Q$425-$S$26:$S$425)-$I$10)),0)/12)","v":""},"",{"$error":"#N/A"},17]
[361,null,null,null,null,null,null,null,null,{"$f":"SUM(IF(B386=\"\",0,INDEX(SignalHeads[Perp. Wind Area (sft)],MATCH(B386,SignalHeads[Code],0))),IF(D386=\"\",0,INDEX(SignalHeads[Perp. Wind Area (sft)],MATCH(D386,SignalHeads[Code],0))),IF(E386=\"\",0,INDEX(SignalHeads[Perp. Wind Area (sft)],MATCH(E386,SignalHeads[Code],0))),IF(F386=\"\",0,INDEX(SignalHeads[Perp. Wind Area (sft)],MATCH(F386,SignalHeads[Code],0))),IF(G386=\"\",0,INDEX(SignalHeads[Perp. Wind Area (sft)],MATCH(G386,SignalHeads[Code],0))),IF(H386=\"\",0,INDEX(SignalHeads[Perp. Wind Area (sft)],MATCH(H386,SignalHeads[Code],0))),IF(I386=\"\",0,INDEX(SignalHeads[Perp. Wind Area (sft)],MATCH(I386,SignalHeads[Code],0))))","v":0},{"$f":"SUM(IF(B386=\"\",0,INDEX(SignalHeads[Weight*** (lbs)],MATCH(B386,SignalHeads[Code],0))),IF(D386=\"\",0,INDEX(SignalHeads[Weight*** (lbs)],MATCH(D386,SignalHeads[Code],0))),IF(E386=\"\",0,INDEX(SignalHeads[Weight*** (lbs)],MATCH(E386,SignalHeads[Code],0))),IF(F386=\"\",0,INDEX(SignalHeads[Weight*** (lbs)],MATCH(F386,SignalHeads[Code],0))),IF(G386=\"\",0,INDEX(SignalHeads[Weight*** (lbs)],MATCH(G386,SignalHeads[Code],0))),IF(H386=\"\",0,INDEX(SignalHeads[Weight*** (lbs)],MATCH(H386,SignalHeads[Code],0))),IF(I386=\"\",0,INDEX(SignalHeads[Weight*** (lbs)],MATCH(I386,SignalHeads[Code],0))))","v":0},{"$f":"IF(A386<=$I$8,INDEX(DesignConstants[Value],MATCH(\"Span Wire Weight (plf)\",DesignConstants[Design Constant],0)),0)","v":1.155},0,416.3775,{"$error":"#VALUE!"},{"$error":"#VALUE!"},{"$error":"#N/A"},{"$error":"#N/A"},{"$f":"SUM(IF(B386=\"\",0,INDEX(SignalHeads[Height ** (feet)],MATCH(B386,SignalHeads[Code],0))),IF(D386=\"\",0,INDEX(SignalHeads[Height ** (feet)],MATCH(D386,SignalHeads[Code],0))),IF(E386=\"\",0,INDEX(SignalHeads[Height ** (feet)],MATCH(E386,SignalHeads[Code],0))),IF(F386=\"\",0,INDEX(SignalHeads[Height ** (feet)],MATCH(F386,SignalHeads[Code],0))),IF(G386=\"\",0,INDEX(SignalHeads[Height ** (feet)],MATCH(G386,SignalHeads[Code],0))),IF(H386=\"\",0,INDEX(SignalHeads[Height ** (feet)],MATCH(H386,SignalHeads[Code],0))),IF(I386=\"\",0,INDEX(SignalHeads[Height ** (feet)],MATCH(I386,SignalHeads[Code],0))))","v":0},{"$f":"IF(S386=0,\"\",ROUNDDOWN(12*(((Q386-S386)-MIN($Q$26:$Q$425-$S$26:$S$425)-(MAX($S$26:$S$425*(($Q$26:$Q$425-$S$26:$S$425)=MIN($Q$26:$Q$425-$S$26:$S$425)))-S386))+(MIN($Q$26:$Q$425-$S$26:$S$425)-$I$10)),0)/12)","v":""},"",{"$error":"#N/A"},17]
[362,null,null,null,null,null,null,null,null,{"$f":"SUM(IF(B387=\"\",0,INDEX(SignalHeads[Perp. Wind Area (sft)],MATCH(B387,SignalHeads[Code],0))),IF(D387=\"\",0,INDEX(SignalHeads[Perp. Wind Area (sft)],MATCH(D387,SignalHeads[Code],0))),IF(E387=\"\",0,INDEX(SignalHeads[Perp. Wind Area (sft)],MATCH(E387,SignalHeads[Code],0))),IF(F387=\"\",0,INDEX(SignalHeads[Perp. Wind Area (sft)],MATCH(F387,SignalHeads[Code],0))),IF(G387=\"\",0,INDEX(SignalHeads[Perp. Wind Area (sft)],MATCH(G387,SignalHeads[Code],0))),IF(H387=\"\",0,INDEX(SignalHeads[Perp. Wind Area (sft)],MATCH(H387,SignalHeads[Code],0))),IF(I387=\"\",0,INDEX(SignalHeads[Perp. Wind Area (sft)],MATCH(I387,SignalHeads[Code],0))))","v":0},{"$f":"SUM(IF(B387=\"\",0,INDEX(SignalHeads[Weight*** (lbs)],MATCH(B387,SignalHeads[Code],0))),IF(D387=\"\",0,INDEX(SignalHeads[Weight*** (lbs)],MATCH(D387,SignalHeads[Code],0))),IF(E387=\"\",0,INDEX(SignalHeads[Weight*** (lbs)],MATCH(E387,SignalHeads[Code],0))),IF(F387=\"\",0,INDEX(SignalHeads[Weight*** (lbs)],MATCH(F387,SignalHeads[Code],0))),IF(G387=\"\",0,INDEX(SignalHeads[Weight*** (lbs)],MATCH(G387,SignalHeads[Code],0))),IF(H387=\"\",0,INDEX(SignalHeads[Weight*** (lbs)],MATCH(H387,SignalHeads[Code],0))),IF(I387=\"\",0,INDEX(SignalHeads[Weight*** (lbs)],MATCH(I387,SignalHeads[Code],0))))","v":0},{"$f":"IF(A387<=$I$8,INDEX(DesignConstants[Value],MATCH(\"Span Wire Weight (plf)\",DesignConstants[Design Constant],0)),0)","v":1.155},0,417.53250000000003,{"$error":"#VALUE!"},{"$error":"#VALUE!"},{"$error":"#N/A"},{"$error":"#N/A"},{"$f":"SUM(IF(B387=\"\",0,INDEX(SignalHeads[Height ** (feet)],MATCH(B387,SignalHeads[Code],0))),IF(D387=\"\",0,INDEX(SignalHeads[Height ** (feet)],MATCH(D387,SignalHeads[Code],0))),IF(E387=\"\",0,INDEX(SignalHeads[Height ** (feet)],MATCH(E387,SignalHeads[Code],0))),IF(F387=\"\",0,INDEX(SignalHeads[Height ** (feet)],MATCH(F387,SignalHeads[Code],0))),IF(G387=\"\",0,INDEX(SignalHeads[Height ** (feet)],MATCH(G387,SignalHeads[Code],0))),IF(H387=\"\",0,INDEX(SignalHeads[Height ** (feet)],MATCH(H387,SignalHeads[Code],0))),IF(I387=\"\",0,INDEX(SignalHeads[Height ** (feet)],MATCH(I387,SignalHeads[Code],0))))","v":0},{"$f":"IF(S387=0,\"\",ROUNDDOWN(12*(((Q387-S387)-MIN($Q$26:$Q$425-$S$26:$S$425)-(MAX($S$26:$S$425*(($Q$26:$Q$425-$S$26:$S$425)=MIN($Q$26:$Q$425-$S$26:$S$425)))-S387))+(MIN($Q$26:$Q$425-$S$26:$S$425)-$I$10)),0)/12)","v":""},"",{"$error":"#N/A"},17]
[363,null,null,null,null,null,null,null,null,{"$f":"SUM(IF(B388=\"\",0,INDEX(SignalHeads[Perp. Wind Area (sft)],MATCH(B388,SignalHeads[Code],0))),IF(D388=\"\",0,INDEX(SignalHeads[Perp. Wind Area (sft)],MATCH(D388,SignalHeads[Code],0))),IF(E388=\"\",0,INDEX(SignalHeads[Perp. Wind Area (sft)],MATCH(E388,SignalHeads[Code],0))),IF(F388=\"\",0,INDEX(SignalHeads[Perp. Wind Area (sft)],MATCH(F388,SignalHeads[Code],0))),IF(G388=\"\",0,INDEX(SignalHeads[Perp. Wind Area (sft)],MATCH(G388,SignalHeads[Code],0))),IF(H388=\"\",0,INDEX(SignalHeads[Perp. Wind Area (sft)],MATCH(H388,SignalHeads[Code],0))),IF(I388=\"\",0,INDEX(SignalHeads[Perp. Wind Area (sft)],MATCH(I388,SignalHeads[Code],0))))","v":0},{"$f":"SUM(IF(B388=\"\",0,INDEX(SignalHeads[Weight*** (lbs)],MATCH(B388,SignalHeads[Code],0))),IF(D388=\"\",0,INDEX(SignalHeads[Weight*** (lbs)],MATCH(D388,SignalHeads[Code],0))),IF(E388=\"\",0,INDEX(SignalHeads[Weight*** (lbs)],MATCH(E388,SignalHeads[Code],0))),IF(F388=\"\",0,INDEX(SignalHeads[Weight*** (lbs)],MATCH(F388,SignalHeads[Code],0))),IF(G388=\"\",0,INDEX(SignalHeads[Weight*** (lbs)],MATCH(G388,SignalHeads[Code],0))),IF(H388=\"\",0,INDEX(SignalHeads[Weight*** (lbs)],MATCH(H388,SignalHeads[Code],0))),IF(I388=\"\",0,INDEX(SignalHeads[Weight*** (lbs)],MATCH(I388,SignalHeads[Code],0))))","v":0},{"$f":"IF(A388<=$I$8,INDEX(DesignConstants[Value],MATCH(\"Span Wire Weight (plf)\",DesignConstants[Design Constant],0)),0)","v":1.155},0,418.6875,{"$error":"#VALUE!"},{"$error":"#VALUE!"},{"$error":"#N/A"},{"$error":"#N/A"},{"$f":"SUM(IF(B388=\"\",0,INDEX(SignalHeads[Height ** (feet)],MATCH(B388,SignalHeads[Code],0))),IF(D388=\"\",0,INDEX(SignalHeads[Height ** (feet)],MATCH(D388,SignalHeads[Code],0))),IF(E388=\"\",0,INDEX(SignalHeads[Height ** (feet)],MATCH(E388,SignalHeads[Code],0))),IF(F388=\"\",0,INDEX(SignalHeads[Height ** (feet)],MATCH(F388,SignalHeads[Code],0))),IF(G388=\"\",0,INDEX(SignalHeads[Height ** (feet)],MATCH(G388,SignalHeads[Code],0))),IF(H388=\"\",0,INDEX(SignalHeads[Height ** (feet)],MATCH(H388,SignalHeads[Code],0))),IF(I388=\"\",0,INDEX(SignalHeads[Height ** (feet)],MATCH(I388,SignalHeads[Code],0))))","v":0},{"$f":"IF(S388=0,\"\",ROUNDDOWN(12*(((Q388-S388)-MIN($Q$26:$Q$425-$S$26:$S$425)-(MAX($S$26:$S$425*(($Q$26:$Q$425-$S$26:$S$425)=MIN($Q$26:$Q$425-$S$26:$S$425)))-S388))+(MIN($Q$26:$Q$425-$S$26:$S$425)-$I$10)),0)/12)","v":""},"",{"$error":"#N/A"},17]
[364,null,null,null,null,null,null,null,null,{"$f":"SUM(IF(B389=\"\",0,INDEX(SignalHeads[Perp. Wind Area (sft)],MATCH(B389,SignalHeads[Code],0))),IF(D389=\"\",0,INDEX(SignalHeads[Perp. Wind Area (sft)],MATCH(D389,SignalHeads[Code],0))),IF(E389=\"\",0,INDEX(SignalHeads[Perp. Wind Area (sft)],MATCH(E389,SignalHeads[Code],0))),IF(F389=\"\",0,INDEX(SignalHeads[Perp. Wind Area (sft)],MATCH(F389,SignalHeads[Code],0))),IF(G389=\"\",0,INDEX(SignalHeads[Perp. Wind Area (sft)],MATCH(G389,SignalHeads[Code],0))),IF(H389=\"\",0,INDEX(SignalHeads[Perp. Wind Area (sft)],MATCH(H389,SignalHeads[Code],0))),IF(I389=\"\",0,INDEX(SignalHeads[Perp. Wind Area (sft)],MATCH(I389,SignalHeads[Code],0))))","v":0},{"$f":"SUM(IF(B389=\"\",0,INDEX(SignalHeads[Weight*** (lbs)],MATCH(B389,SignalHeads[Code],0))),IF(D389=\"\",0,INDEX(SignalHeads[Weight*** (lbs)],MATCH(D389,SignalHeads[Code],0))),IF(E389=\"\",0,INDEX(SignalHeads[Weight*** (lbs)],MATCH(E389,SignalHeads[Code],0))),IF(F389=\"\",0,INDEX(SignalHeads[Weight*** (lbs)],MATCH(F389,SignalHeads[Code],0))),IF(G389=\"\",0,INDEX(SignalHeads[Weight*** (lbs)],MATCH(G389,SignalHeads[Code],0))),IF(H389=\"\",0,INDEX(SignalHeads[Weight*** (lbs)],MATCH(H389,SignalHeads[Code],0))),IF(I389=\"\",0,INDEX(SignalHeads[Weight*** (lbs)],MATCH(I389,SignalHeads[Code],0))))","v":0},{"$f":"IF(A389<=$I$8,INDEX(DesignConstants[Value],MATCH(\"Span Wire Weight (plf)\",DesignConstants[Design Constant],0)),0)","v":1.155},0,419.84250000000003,{"$error":"#VALUE!"},{"$error":"#VALUE!"},{"$error":"#N/A"},{"$error":"#N/A"},{"$f":"SUM(IF(B389=\"\",0,INDEX(SignalHeads[Height ** (feet)],MATCH(B389,SignalHeads[Code],0))),IF(D389=\"\",0,INDEX(SignalHeads[Height ** (feet)],MATCH(D389,SignalHeads[Code],0))),IF(E389=\"\",0,INDEX(SignalHeads[Height ** (feet)],MATCH(E389,SignalHeads[Code],0))),IF(F389=\"\",0,INDEX(SignalHeads[Height ** (feet)],MATCH(F389,SignalHeads[Code],0))),IF(G389=\"\",0,INDEX(SignalHeads[Height ** (feet)],MATCH(G389,SignalHeads[Code],0))),IF(H389=\"\",0,INDEX(SignalHeads[Height ** (feet)],MATCH(H389,SignalHeads[Code],0))),IF(I389=\"\",0,INDEX(SignalHeads[Height ** (feet)],MATCH(I389,SignalHeads[Code],0))))","v":0},{"$f":"IF(S389=0,\"\",ROUNDDOWN(12*(((Q389-S389)-MIN($Q$26:$Q$425-$S$26:$S$425)-(MAX($S$26:$S$425*(($Q$26:$Q$425-$S$26:$S$425)=MIN($Q$26:$Q$425-$S$26:$S$425)))-S389))+(MIN($Q$26:$Q$425-$S$26:$S$425)-$I$10)),0)/12)","v":""},"",{"$error":"#N/A"},17]
[365,null,null,null,null,null,null,null,null,{"$f":"SUM(IF(B390=\"\",0,INDEX(SignalHeads[Perp. Wind Area (sft)],MATCH(B390,SignalHeads[Code],0))),IF(D390=\"\",0,INDEX(SignalHeads[Perp. Wind Area (sft)],MATCH(D390,SignalHeads[Code],0))),IF(E390=\"\",0,INDEX(SignalHeads[Perp. Wind Area (sft)],MATCH(E390,SignalHeads[Code],0))),IF(F390=\"\",0,INDEX(SignalHeads[Perp. Wind Area (sft)],MATCH(F390,SignalHeads[Code],0))),IF(G390=\"\",0,INDEX(SignalHeads[Perp. Wind Area (sft)],MATCH(G390,SignalHeads[Code],0))),IF(H390=\"\",0,INDEX(SignalHeads[Perp. Wind Area (sft)],MATCH(H390,SignalHeads[Code],0))),IF(I390=\"\",0,INDEX(SignalHeads[Perp. Wind Area (sft)],MATCH(I390,SignalHeads[Code],0))))","v":0},{"$f":"SUM(IF(B390=\"\",0,INDEX(SignalHeads[Weight*** (lbs)],MATCH(B390,SignalHeads[Code],0))),IF(D390=\"\",0,INDEX(SignalHeads[Weight*** (lbs)],MATCH(D390,SignalHeads[Code],0))),IF(E390=\"\",0,INDEX(SignalHeads[Weight*** (lbs)],MATCH(E390,SignalHeads[Code],0))),IF(F390=\"\",0,INDEX(SignalHeads[Weight*** (lbs)],MATCH(F390,SignalHeads[Code],0))),IF(G390=\"\",0,INDEX(SignalHeads[Weight*** (lbs)],MATCH(G390,SignalHeads[Code],0))),IF(H390=\"\",0,INDEX(SignalHeads[Weight*** (lbs)],MATCH(H390,SignalHeads[Code],0))),IF(I390=\"\",0,INDEX(SignalHeads[Weight*** (lbs)],MATCH(I390,SignalHeads[Code],0))))","v":0},{"$f":"IF(A390<=$I$8,INDEX(DesignConstants[Value],MATCH(\"Span Wire Weight (plf)\",DesignConstants[Design Constant],0)),0)","v":1.155},0,420.9975,{"$error":"#VALUE!"},{"$error":"#VALUE!"},{"$error":"#N/A"},{"$error":"#N/A"},{"$f":"SUM(IF(B390=\"\",0,INDEX(SignalHeads[Height ** (feet)],MATCH(B390,SignalHeads[Code],0))),IF(D390=\"\",0,INDEX(SignalHeads[Height ** (feet)],MATCH(D390,SignalHeads[Code],0))),IF(E390=\"\",0,INDEX(SignalHeads[Height ** (feet)],MATCH(E390,SignalHeads[Code],0))),IF(F390=\"\",0,INDEX(SignalHeads[Height ** (feet)],MATCH(F390,SignalHeads[Code],0))),IF(G390=\"\",0,INDEX(SignalHeads[Height ** (feet)],MATCH(G390,SignalHeads[Code],0))),IF(H390=\"\",0,INDEX(SignalHeads[Height ** (feet)],MATCH(H390,SignalHeads[Code],0))),IF(I390=\"\",0,INDEX(SignalHeads[Height ** (feet)],MATCH(I390,SignalHeads[Code],0))))","v":0},{"$f":"IF(S390=0,\"\",ROUNDDOWN(12*(((Q390-S390)-MIN($Q$26:$Q$425-$S$26:$S$425)-(MAX($S$26:$S$425*(($Q$26:$Q$425-$S$26:$S$425)=MIN($Q$26:$Q$425-$S$26:$S$425)))-S390))+(MIN($Q$26:$Q$425-$S$26:$S$425)-$I$10)),0)/12)","v":""},"",{"$error":"#N/A"},17]
[366,null,null,null,null,null,null,null,null,{"$f":"SUM(IF(B391=\"\",0,INDEX(SignalHeads[Perp. Wind Area (sft)],MATCH(B391,SignalHeads[Code],0))),IF(D391=\"\",0,INDEX(SignalHeads[Perp. Wind Area (sft)],MATCH(D391,SignalHeads[Code],0))),IF(E391=\"\",0,INDEX(SignalHeads[Perp. Wind Area (sft)],MATCH(E391,SignalHeads[Code],0))),IF(F391=\"\",0,INDEX(SignalHeads[Perp. Wind Area (sft)],MATCH(F391,SignalHeads[Code],0))),IF(G391=\"\",0,INDEX(SignalHeads[Perp. Wind Area (sft)],MATCH(G391,SignalHeads[Code],0))),IF(H391=\"\",0,INDEX(SignalHeads[Perp. Wind Area (sft)],MATCH(H391,SignalHeads[Code],0))),IF(I391=\"\",0,INDEX(SignalHeads[Perp. Wind Area (sft)],MATCH(I391,SignalHeads[Code],0))))","v":0},{"$f":"SUM(IF(B391=\"\",0,INDEX(SignalHeads[Weight*** (lbs)],MATCH(B391,SignalHeads[Code],0))),IF(D391=\"\",0,INDEX(SignalHeads[Weight*** (lbs)],MATCH(D391,SignalHeads[Code],0))),IF(E391=\"\",0,INDEX(SignalHeads[Weight*** (lbs)],MATCH(E391,SignalHeads[Code],0))),IF(F391=\"\",0,INDEX(SignalHeads[Weight*** (lbs)],MATCH(F391,SignalHeads[Code],0))),IF(G391=\"\",0,INDEX(SignalHeads[Weight*** (lbs)],MATCH(G391,SignalHeads[Code],0))),IF(H391=\"\",0,INDEX(SignalHeads[Weight*** (lbs)],MATCH(H391,SignalHeads[Code],0))),IF(I391=\"\",0,INDEX(SignalHeads[Weight*** (lbs)],MATCH(I391,SignalHeads[Code],0))))","v":0},{"$f":"IF(A391<=$I$8,INDEX(DesignConstants[Value],MATCH(\"Span Wire Weight (plf)\",DesignConstants[Design Constant],0)),0)","v":1.155},0,422.15250000000003,{"$error":"#VALUE!"},{"$error":"#VALUE!"},{"$error":"#N/A"},{"$error":"#N/A"},{"$f":"SUM(IF(B391=\"\",0,INDEX(SignalHeads[Height ** (feet)],MATCH(B391,SignalHeads[Code],0))),IF(D391=\"\",0,INDEX(SignalHeads[Height ** (feet)],MATCH(D391,SignalHeads[Code],0))),IF(E391=\"\",0,INDEX(SignalHeads[Height ** (feet)],MATCH(E391,SignalHeads[Code],0))),IF(F391=\"\",0,INDEX(SignalHeads[Height ** (feet)],MATCH(F391,SignalHeads[Code],0))),IF(G391=\"\",0,INDEX(SignalHeads[Height ** (feet)],MATCH(G391,SignalHeads[Code],0))),IF(H391=\"\",0,INDEX(SignalHeads[Height ** (feet)],MATCH(H391,SignalHeads[Code],0))),IF(I391=\"\",0,INDEX(SignalHeads[Height ** (feet)],MATCH(I391,SignalHeads[Code],0))))","v":0},{"$f":"IF(S391=0,\"\",ROUNDDOWN(12*(((Q391-S391)-MIN($Q$26:$Q$425-$S$26:$S$425)-(MAX($S$26:$S$425*(($Q$26:$Q$425-$S$26:$S$425)=MIN($Q$26:$Q$425-$S$26:$S$425)))-S391))+(MIN($Q$26:$Q$425-$S$26:$S$425)-$I$10)),0)/12)","v":""},"",{"$error":"#N/A"},17]
[367,null,null,null,null,null,null,null,null,{"$f":"SUM(IF(B392=\"\",0,INDEX(SignalHeads[Perp. Wind Area (sft)],MATCH(B392,SignalHeads[Code],0))),IF(D392=\"\",0,INDEX(SignalHeads[Perp. Wind Area (sft)],MATCH(D392,SignalHeads[Code],0))),IF(E392=\"\",0,INDEX(SignalHeads[Perp. Wind Area (sft)],MATCH(E392,SignalHeads[Code],0))),IF(F392=\"\",0,INDEX(SignalHeads[Perp. Wind Area (sft)],MATCH(F392,SignalHeads[Code],0))),IF(G392=\"\",0,INDEX(SignalHeads[Perp. Wind Area (sft)],MATCH(G392,SignalHeads[Code],0))),IF(H392=\"\",0,INDEX(SignalHeads[Perp. Wind Area (sft)],MATCH(H392,SignalHeads[Code],0))),IF(I392=\"\",0,INDEX(SignalHeads[Perp. Wind Area (sft)],MATCH(I392,SignalHeads[Code],0))))","v":0},{"$f":"SUM(IF(B392=\"\",0,INDEX(SignalHeads[Weight*** (lbs)],MATCH(B392,SignalHeads[Code],0))),IF(D392=\"\",0,INDEX(SignalHeads[Weight*** (lbs)],MATCH(D392,SignalHeads[Code],0))),IF(E392=\"\",0,INDEX(SignalHeads[Weight*** (lbs)],MATCH(E392,SignalHeads[Code],0))),IF(F392=\"\",0,INDEX(SignalHeads[Weight*** (lbs)],MATCH(F392,SignalHeads[Code],0))),IF(G392=\"\",0,INDEX(SignalHeads[Weight*** (lbs)],MATCH(G392,SignalHeads[Code],0))),IF(H392=\"\",0,INDEX(SignalHeads[Weight*** (lbs)],MATCH(H392,SignalHeads[Code],0))),IF(I392=\"\",0,INDEX(SignalHeads[Weight*** (lbs)],MATCH(I392,SignalHeads[Code],0))))","v":0},{"$f":"IF(A392<=$I$8,INDEX(DesignConstants[Value],MATCH(\"Span Wire Weight (plf)\",DesignConstants[Design Constant],0)),0)","v":1.155},0,423.3075,{"$error":"#VALUE!"},{"$error":"#VALUE!"},{"$error":"#N/A"},{"$error":"#N/A"},{"$f":"SUM(IF(B392=\"\",0,INDEX(SignalHeads[Height ** (feet)],MATCH(B392,SignalHeads[Code],0))),IF(D392=\"\",0,INDEX(SignalHeads[Height ** (feet)],MATCH(D392,SignalHeads[Code],0))),IF(E392=\"\",0,INDEX(SignalHeads[Height ** (feet)],MATCH(E392,SignalHeads[Code],0))),IF(F392=\"\",0,INDEX(SignalHeads[Height ** (feet)],MATCH(F392,SignalHeads[Code],0))),IF(G392=\"\",0,INDEX(SignalHeads[Height ** (feet)],MATCH(G392,SignalHeads[Code],0))),IF(H392=\"\",0,INDEX(SignalHeads[Height ** (feet)],MATCH(H392,SignalHeads[Code],0))),IF(I392=\"\",0,INDEX(SignalHeads[Height ** (feet)],MATCH(I392,SignalHeads[Code],0))))","v":0},{"$f":"IF(S392=0,\"\",ROUNDDOWN(12*(((Q392-S392)-MIN($Q$26:$Q$425-$S$26:$S$425)-(MAX($S$26:$S$425*(($Q$26:$Q$425-$S$26:$S$425)=MIN($Q$26:$Q$425-$S$26:$S$425)))-S392))+(MIN($Q$26:$Q$425-$S$26:$S$425)-$I$10)),0)/12)","v":""},"",{"$error":"#N/A"},17]
[368,null,null,null,null,null,null,null,null,{"$f":"SUM(IF(B393=\"\",0,INDEX(SignalHeads[Perp. Wind Area (sft)],MATCH(B393,SignalHeads[Code],0))),IF(D393=\"\",0,INDEX(SignalHeads[Perp. Wind Area (sft)],MATCH(D393,SignalHeads[Code],0))),IF(E393=\"\",0,INDEX(SignalHeads[Perp. Wind Area (sft)],MATCH(E393,SignalHeads[Code],0))),IF(F393=\"\",0,INDEX(SignalHeads[Perp. Wind Area (sft)],MATCH(F393,SignalHeads[Code],0))),IF(G393=\"\",0,INDEX(SignalHeads[Perp. Wind Area (sft)],MATCH(G393,SignalHeads[Code],0))),IF(H393=\"\",0,INDEX(SignalHeads[Perp. Wind Area (sft)],MATCH(H393,SignalHeads[Code],0))),IF(I393=\"\",0,INDEX(SignalHeads[Perp. Wind Area (sft)],MATCH(I393,SignalHeads[Code],0))))","v":0},{"$f":"SUM(IF(B393=\"\",0,INDEX(SignalHeads[Weight*** (lbs)],MATCH(B393,SignalHeads[Code],0))),IF(D393=\"\",0,INDEX(SignalHeads[Weight*** (lbs)],MATCH(D393,SignalHeads[Code],0))),IF(E393=\"\",0,INDEX(SignalHeads[Weight*** (lbs)],MATCH(E393,SignalHeads[Code],0))),IF(F393=\"\",0,INDEX(SignalHeads[Weight*** (lbs)],MATCH(F393,SignalHeads[Code],0))),IF(G393=\"\",0,INDEX(SignalHeads[Weight*** (lbs)],MATCH(G393,SignalHeads[Code],0))),IF(H393=\"\",0,INDEX(SignalHeads[Weight*** (lbs)],MATCH(H393,SignalHeads[Code],0))),IF(I393=\"\",0,INDEX(SignalHeads[Weight*** (lbs)],MATCH(I393,SignalHeads[Code],0))))","v":0},{"$f":"IF(A393<=$I$8,INDEX(DesignConstants[Value],MATCH(\"Span Wire Weight (plf)\",DesignConstants[Design Constant],0)),0)","v":1.155},0,424.46250000000003,{"$error":"#VALUE!"},{"$error":"#VALUE!"},{"$error":"#N/A"},{"$error":"#N/A"},{"$f":"SUM(IF(B393=\"\",0,INDEX(SignalHeads[Height ** (feet)],MATCH(B393,SignalHeads[Code],0))),IF(D393=\"\",0,INDEX(SignalHeads[Height ** (feet)],MATCH(D393,SignalHeads[Code],0))),IF(E393=\"\",0,INDEX(SignalHeads[Height ** (feet)],MATCH(E393,SignalHeads[Code],0))),IF(F393=\"\",0,INDEX(SignalHeads[Height ** (feet)],MATCH(F393,SignalHeads[Code],0))),IF(G393=\"\",0,INDEX(SignalHeads[Height ** (feet)],MATCH(G393,SignalHeads[Code],0))),IF(H393=\"\",0,INDEX(SignalHeads[Height ** (feet)],MATCH(H393,SignalHeads[Code],0))),IF(I393=\"\",0,INDEX(SignalHeads[Height ** (feet)],MATCH(I393,SignalHeads[Code],0))))","v":0},{"$f":"IF(S393=0,\"\",ROUNDDOWN(12*(((Q393-S393)-MIN($Q$26:$Q$425-$S$26:$S$425)-(MAX($S$26:$S$425*(($Q$26:$Q$425-$S$26:$S$425)=MIN($Q$26:$Q$425-$S$26:$S$425)))-S393))+(MIN($Q$26:$Q$425-$S$26:$S$425)-$I$10)),0)/12)","v":""},"",{"$error":"#N/A"},17]
[369,null,null,null,null,null,null,null,null,{"$f":"SUM(IF(B394=\"\",0,INDEX(SignalHeads[Perp. Wind Area (sft)],MATCH(B394,SignalHeads[Code],0))),IF(D394=\"\",0,INDEX(SignalHeads[Perp. Wind Area (sft)],MATCH(D394,SignalHeads[Code],0))),IF(E394=\"\",0,INDEX(SignalHeads[Perp. Wind Area (sft)],MATCH(E394,SignalHeads[Code],0))),IF(F394=\"\",0,INDEX(SignalHeads[Perp. Wind Area (sft)],MATCH(F394,SignalHeads[Code],0))),IF(G394=\"\",0,INDEX(SignalHeads[Perp. Wind Area (sft)],MATCH(G394,SignalHeads[Code],0))),IF(H394=\"\",0,INDEX(SignalHeads[Perp. Wind Area (sft)],MATCH(H394,SignalHeads[Code],0))),IF(I394=\"\",0,INDEX(SignalHeads[Perp. Wind Area (sft)],MATCH(I394,SignalHeads[Code],0))))","v":0},{"$f":"SUM(IF(B394=\"\",0,INDEX(SignalHeads[Weight*** (lbs)],MATCH(B394,SignalHeads[Code],0))),IF(D394=\"\",0,INDEX(SignalHeads[Weight*** (lbs)],MATCH(D394,SignalHeads[Code],0))),IF(E394=\"\",0,INDEX(SignalHeads[Weight*** (lbs)],MATCH(E394,SignalHeads[Code],0))),IF(F394=\"\",0,INDEX(SignalHeads[Weight*** (lbs)],MATCH(F394,SignalHeads[Code],0))),IF(G394=\"\",0,INDEX(SignalHeads[Weight*** (lbs)],MATCH(G394,SignalHeads[Code],0))),IF(H394=\"\",0,INDEX(SignalHeads[Weight*** (lbs)],MATCH(H394,SignalHeads[Code],0))),IF(I394=\"\",0,INDEX(SignalHeads[Weight*** (lbs)],MATCH(I394,SignalHeads[Code],0))))","v":0},{"$f":"IF(A394<=$I$8,INDEX(DesignConstants[Value],MATCH(\"Span Wire Weight (plf)\",DesignConstants[Design Constant],0)),0)","v":1.155},0,425.61750000000001,{"$error":"#VALUE!"},{"$error":"#VALUE!"},{"$error":"#N/A"},{"$error":"#N/A"},{"$f":"SUM(IF(B394=\"\",0,INDEX(SignalHeads[Height ** (feet)],MATCH(B394,SignalHeads[Code],0))),IF(D394=\"\",0,INDEX(SignalHeads[Height ** (feet)],MATCH(D394,SignalHeads[Code],0))),IF(E394=\"\",0,INDEX(SignalHeads[Height ** (feet)],MATCH(E394,SignalHeads[Code],0))),IF(F394=\"\",0,INDEX(SignalHeads[Height ** (feet)],MATCH(F394,SignalHeads[Code],0))),IF(G394=\"\",0,INDEX(SignalHeads[Height ** (feet)],MATCH(G394,SignalHeads[Code],0))),IF(H394=\"\",0,INDEX(SignalHeads[Height ** (feet)],MATCH(H394,SignalHeads[Code],0))),IF(I394=\"\",0,INDEX(SignalHeads[Height ** (feet)],MATCH(I394,SignalHeads[Code],0))))","v":0},{"$f":"IF(S394=0,\"\",ROUNDDOWN(12*(((Q394-S394)-MIN($Q$26:$Q$425-$S$26:$S$425)-(MAX($S$26:$S$425*(($Q$26:$Q$425-$S$26:$S$425)=MIN($Q$26:$Q$425-$S$26:$S$425)))-S394))+(MIN($Q$26:$Q$425-$S$26:$S$425)-$I$10)),0)/12)","v":""},"",{"$error":"#N/A"},17]
[370,null,null,null,null,null,null,null,null,{"$f":"SUM(IF(B395=\"\",0,INDEX(SignalHeads[Perp. Wind Area (sft)],MATCH(B395,SignalHeads[Code],0))),IF(D395=\"\",0,INDEX(SignalHeads[Perp. Wind Area (sft)],MATCH(D395,SignalHeads[Code],0))),IF(E395=\"\",0,INDEX(SignalHeads[Perp. Wind Area (sft)],MATCH(E395,SignalHeads[Code],0))),IF(F395=\"\",0,INDEX(SignalHeads[Perp. Wind Area (sft)],MATCH(F395,SignalHeads[Code],0))),IF(G395=\"\",0,INDEX(SignalHeads[Perp. Wind Area (sft)],MATCH(G395,SignalHeads[Code],0))),IF(H395=\"\",0,INDEX(SignalHeads[Perp. Wind Area (sft)],MATCH(H395,SignalHeads[Code],0))),IF(I395=\"\",0,INDEX(SignalHeads[Perp. Wind Area (sft)],MATCH(I395,SignalHeads[Code],0))))","v":0},{"$f":"SUM(IF(B395=\"\",0,INDEX(SignalHeads[Weight*** (lbs)],MATCH(B395,SignalHeads[Code],0))),IF(D395=\"\",0,INDEX(SignalHeads[Weight*** (lbs)],MATCH(D395,SignalHeads[Code],0))),IF(E395=\"\",0,INDEX(SignalHeads[Weight*** (lbs)],MATCH(E395,SignalHeads[Code],0))),IF(F395=\"\",0,INDEX(SignalHeads[Weight*** (lbs)],MATCH(F395,SignalHeads[Code],0))),IF(G395=\"\",0,INDEX(SignalHeads[Weight*** (lbs)],MATCH(G395,SignalHeads[Code],0))),IF(H395=\"\",0,INDEX(SignalHeads[Weight*** (lbs)],MATCH(H395,SignalHeads[Code],0))),IF(I395=\"\",0,INDEX(SignalHeads[Weight*** (lbs)],MATCH(I395,SignalHeads[Code],0))))","v":0},{"$f":"IF(A395<=$I$8,INDEX(DesignConstants[Value],MATCH(\"Span Wire Weight (plf)\",DesignConstants[Design Constant],0)),0)","v":1.155},0,426.77250000000004,{"$error":"#VALUE!"},{"$error":"#VALUE!"},{"$error":"#N/A"},{"$error":"#N/A"},{"$f":"SUM(IF(B395=\"\",0,INDEX(SignalHeads[Height ** (feet)],MATCH(B395,SignalHeads[Code],0))),IF(D395=\"\",0,INDEX(SignalHeads[Height ** (feet)],MATCH(D395,SignalHeads[Code],0))),IF(E395=\"\",0,INDEX(SignalHeads[Height ** (feet)],MATCH(E395,SignalHeads[Code],0))),IF(F395=\"\",0,INDEX(SignalHeads[Height ** (feet)],MATCH(F395,SignalHeads[Code],0))),IF(G395=\"\",0,INDEX(SignalHeads[Height ** (feet)],MATCH(G395,SignalHeads[Code],0))),IF(H395=\"\",0,INDEX(SignalHeads[Height ** (feet)],MATCH(H395,SignalHeads[Code],0))),IF(I395=\"\",0,INDEX(SignalHeads[Height ** (feet)],MATCH(I395,SignalHeads[Code],0))))","v":0},{"$f":"IF(S395=0,\"\",ROUNDDOWN(12*(((Q395-S395)-MIN($Q$26:$Q$425-$S$26:$S$425)-(MAX($S$26:$S$425*(($Q$26:$Q$425-$S$26:$S$425)=MIN($Q$26:$Q$425-$S$26:$S$425)))-S395))+(MIN($Q$26:$Q$425-$S$26:$S$425)-$I$10)),0)/12)","v":""},"",{"$error":"#N/A"},17]
[371,null,null,null,null,null,null,null,null,{"$f":"SUM(IF(B396=\"\",0,INDEX(SignalHeads[Perp. Wind Area (sft)],MATCH(B396,SignalHeads[Code],0))),IF(D396=\"\",0,INDEX(SignalHeads[Perp. Wind Area (sft)],MATCH(D396,SignalHeads[Code],0))),IF(E396=\"\",0,INDEX(SignalHeads[Perp. Wind Area (sft)],MATCH(E396,SignalHeads[Code],0))),IF(F396=\"\",0,INDEX(SignalHeads[Perp. Wind Area (sft)],MATCH(F396,SignalHeads[Code],0))),IF(G396=\"\",0,INDEX(SignalHeads[Perp. Wind Area (sft)],MATCH(G396,SignalHeads[Code],0))),IF(H396=\"\",0,INDEX(SignalHeads[Perp. Wind Area (sft)],MATCH(H396,SignalHeads[Code],0))),IF(I396=\"\",0,INDEX(SignalHeads[Perp. Wind Area (sft)],MATCH(I396,SignalHeads[Code],0))))","v":0},{"$f":"SUM(IF(B396=\"\",0,INDEX(SignalHeads[Weight*** (lbs)],MATCH(B396,SignalHeads[Code],0))),IF(D396=\"\",0,INDEX(SignalHeads[Weight*** (lbs)],MATCH(D396,SignalHeads[Code],0))),IF(E396=\"\",0,INDEX(SignalHeads[Weight*** (lbs)],MATCH(E396,SignalHeads[Code],0))),IF(F396=\"\",0,INDEX(SignalHeads[Weight*** (lbs)],MATCH(F396,SignalHeads[Code],0))),IF(G396=\"\",0,INDEX(SignalHeads[Weight*** (lbs)],MATCH(G396,SignalHeads[Code],0))),IF(H396=\"\",0,INDEX(SignalHeads[Weight*** (lbs)],MATCH(H396,SignalHeads[Code],0))),IF(I396=\"\",0,INDEX(SignalHeads[Weight*** (lbs)],MATCH(I396,SignalHeads[Code],0))))","v":0},{"$f":"IF(A396<=$I$8,INDEX(DesignConstants[Value],MATCH(\"Span Wire Weight (plf)\",DesignConstants[Design Constant],0)),0)","v":1.155},0,427.92750000000001,{"$error":"#VALUE!"},{"$error":"#VALUE!"},{"$error":"#N/A"},{"$error":"#N/A"},{"$f":"SUM(IF(B396=\"\",0,INDEX(SignalHeads[Height ** (feet)],MATCH(B396,SignalHeads[Code],0))),IF(D396=\"\",0,INDEX(SignalHeads[Height ** (feet)],MATCH(D396,SignalHeads[Code],0))),IF(E396=\"\",0,INDEX(SignalHeads[Height ** (feet)],MATCH(E396,SignalHeads[Code],0))),IF(F396=\"\",0,INDEX(SignalHeads[Height ** (feet)],MATCH(F396,SignalHeads[Code],0))),IF(G396=\"\",0,INDEX(SignalHeads[Height ** (feet)],MATCH(G396,SignalHeads[Code],0))),IF(H396=\"\",0,INDEX(SignalHeads[Height ** (feet)],MATCH(H396,SignalHeads[Code],0))),IF(I396=\"\",0,INDEX(SignalHeads[Height ** (feet)],MATCH(I396,SignalHeads[Code],0))))","v":0},{"$f":"IF(S396=0,\"\",ROUNDDOWN(12*(((Q396-S396)-MIN($Q$26:$Q$425-$S$26:$S$425)-(MAX($S$26:$S$425*(($Q$26:$Q$425-$S$26:$S$425)=MIN($Q$26:$Q$425-$S$26:$S$425)))-S396))+(MIN($Q$26:$Q$425-$S$26:$S$425)-$I$10)),0)/12)","v":""},"",{"$error":"#N/A"},17]
[372,null,null,null,null,null,null,null,null,{"$f":"SUM(IF(B397=\"\",0,INDEX(SignalHeads[Perp. Wind Area (sft)],MATCH(B397,SignalHeads[Code],0))),IF(D397=\"\",0,INDEX(SignalHeads[Perp. Wind Area (sft)],MATCH(D397,SignalHeads[Code],0))),IF(E397=\"\",0,INDEX(SignalHeads[Perp. Wind Area (sft)],MATCH(E397,SignalHeads[Code],0))),IF(F397=\"\",0,INDEX(SignalHeads[Perp. Wind Area (sft)],MATCH(F397,SignalHeads[Code],0))),IF(G397=\"\",0,INDEX(SignalHeads[Perp. Wind Area (sft)],MATCH(G397,SignalHeads[Code],0))),IF(H397=\"\",0,INDEX(SignalHeads[Perp. Wind Area (sft)],MATCH(H397,SignalHeads[Code],0))),IF(I397=\"\",0,INDEX(SignalHeads[Perp. Wind Area (sft)],MATCH(I397,SignalHeads[Code],0))))","v":0},{"$f":"SUM(IF(B397=\"\",0,INDEX(SignalHeads[Weight*** (lbs)],MATCH(B397,SignalHeads[Code],0))),IF(D397=\"\",0,INDEX(SignalHeads[Weight*** (lbs)],MATCH(D397,SignalHeads[Code],0))),IF(E397=\"\",0,INDEX(SignalHeads[Weight*** (lbs)],MATCH(E397,SignalHeads[Code],0))),IF(F397=\"\",0,INDEX(SignalHeads[Weight*** (lbs)],MATCH(F397,SignalHeads[Code],0))),IF(G397=\"\",0,INDEX(SignalHeads[Weight*** (lbs)],MATCH(G397,SignalHeads[Code],0))),IF(H397=\"\",0,INDEX(SignalHeads[Weight*** (lbs)],MATCH(H397,SignalHeads[Code],0))),IF(I397=\"\",0,INDEX(SignalHeads[Weight*** (lbs)],MATCH(I397,SignalHeads[Code],0))))","v":0},{"$f":"IF(A397<=$I$8,INDEX(DesignConstants[Value],MATCH(\"Span Wire Weight (plf)\",DesignConstants[Design Constant],0)),0)","v":1.155},0,429.08249999999998,{"$error":"#VALUE!"},{"$error":"#VALUE!"},{"$error":"#N/A"},{"$error":"#N/A"},{"$f":"SUM(IF(B397=\"\",0,INDEX(SignalHeads[Height ** (feet)],MATCH(B397,SignalHeads[Code],0))),IF(D397=\"\",0,INDEX(SignalHeads[Height ** (feet)],MATCH(D397,SignalHeads[Code],0))),IF(E397=\"\",0,INDEX(SignalHeads[Height ** (feet)],MATCH(E397,SignalHeads[Code],0))),IF(F397=\"\",0,INDEX(SignalHeads[Height ** (feet)],MATCH(F397,SignalHeads[Code],0))),IF(G397=\"\",0,INDEX(SignalHeads[Height ** (feet)],MATCH(G397,SignalHeads[Code],0))),IF(H397=\"\",0,INDEX(SignalHeads[Height ** (feet)],MATCH(H397,SignalHeads[Code],0))),IF(I397=\"\",0,INDEX(SignalHeads[Height ** (feet)],MATCH(I397,SignalHeads[Code],0))))","v":0},{"$f":"IF(S397=0,\"\",ROUNDDOWN(12*(((Q397-S397)-MIN($Q$26:$Q$425-$S$26:$S$425)-(MAX($S$26:$S$425*(($Q$26:$Q$425-$S$26:$S$425)=MIN($Q$26:$Q$425-$S$26:$S$425)))-S397))+(MIN($Q$26:$Q$425-$S$26:$S$425)-$I$10)),0)/12)","v":""},"",{"$error":"#N/A"},17]
[373,null,null,null,null,null,null,null,null,{"$f":"SUM(IF(B398=\"\",0,INDEX(SignalHeads[Perp. Wind Area (sft)],MATCH(B398,SignalHeads[Code],0))),IF(D398=\"\",0,INDEX(SignalHeads[Perp. Wind Area (sft)],MATCH(D398,SignalHeads[Code],0))),IF(E398=\"\",0,INDEX(SignalHeads[Perp. Wind Area (sft)],MATCH(E398,SignalHeads[Code],0))),IF(F398=\"\",0,INDEX(SignalHeads[Perp. Wind Area (sft)],MATCH(F398,SignalHeads[Code],0))),IF(G398=\"\",0,INDEX(SignalHeads[Perp. Wind Area (sft)],MATCH(G398,SignalHeads[Code],0))),IF(H398=\"\",0,INDEX(SignalHeads[Perp. Wind Area (sft)],MATCH(H398,SignalHeads[Code],0))),IF(I398=\"\",0,INDEX(SignalHeads[Perp. Wind Area (sft)],MATCH(I398,SignalHeads[Code],0))))","v":0},{"$f":"SUM(IF(B398=\"\",0,INDEX(SignalHeads[Weight*** (lbs)],MATCH(B398,SignalHeads[Code],0))),IF(D398=\"\",0,INDEX(SignalHeads[Weight*** (lbs)],MATCH(D398,SignalHeads[Code],0))),IF(E398=\"\",0,INDEX(SignalHeads[Weight*** (lbs)],MATCH(E398,SignalHeads[Code],0))),IF(F398=\"\",0,INDEX(SignalHeads[Weight*** (lbs)],MATCH(F398,SignalHeads[Code],0))),IF(G398=\"\",0,INDEX(SignalHeads[Weight*** (lbs)],MATCH(G398,SignalHeads[Code],0))),IF(H398=\"\",0,INDEX(SignalHeads[Weight*** (lbs)],MATCH(H398,SignalHeads[Code],0))),IF(I398=\"\",0,INDEX(SignalHeads[Weight*** (lbs)],MATCH(I398,SignalHeads[Code],0))))","v":0},{"$f":"IF(A398<=$I$8,INDEX(DesignConstants[Value],MATCH(\"Span Wire Weight (plf)\",DesignConstants[Design Constant],0)),0)","v":1.155},0,430.23750000000001,{"$error":"#VALUE!"},{"$error":"#VALUE!"},{"$error":"#N/A"},{"$error":"#N/A"},{"$f":"SUM(IF(B398=\"\",0,INDEX(SignalHeads[Height ** (feet)],MATCH(B398,SignalHeads[Code],0))),IF(D398=\"\",0,INDEX(SignalHeads[Height ** (feet)],MATCH(D398,SignalHeads[Code],0))),IF(E398=\"\",0,INDEX(SignalHeads[Height ** (feet)],MATCH(E398,SignalHeads[Code],0))),IF(F398=\"\",0,INDEX(SignalHeads[Height ** (feet)],MATCH(F398,SignalHeads[Code],0))),IF(G398=\"\",0,INDEX(SignalHeads[Height ** (feet)],MATCH(G398,SignalHeads[Code],0))),IF(H398=\"\",0,INDEX(SignalHeads[Height ** (feet)],MATCH(H398,SignalHeads[Code],0))),IF(I398=\"\",0,INDEX(SignalHeads[Height ** (feet)],MATCH(I398,SignalHeads[Code],0))))","v":0},{"$f":"IF(S398=0,\"\",ROUNDDOWN(12*(((Q398-S398)-MIN($Q$26:$Q$425-$S$26:$S$425)-(MAX($S$26:$S$425*(($Q$26:$Q$425-$S$26:$S$425)=MIN($Q$26:$Q$425-$S$26:$S$425)))-S398))+(MIN($Q$26:$Q$425-$S$26:$S$425)-$I$10)),0)/12)","v":""},"",{"$error":"#N/A"},17]
[374,null,null,null,null,null,null,null,null,{"$f":"SUM(IF(B399=\"\",0,INDEX(SignalHeads[Perp. Wind Area (sft)],MATCH(B399,SignalHeads[Code],0))),IF(D399=\"\",0,INDEX(SignalHeads[Perp. Wind Area (sft)],MATCH(D399,SignalHeads[Code],0))),IF(E399=\"\",0,INDEX(SignalHeads[Perp. Wind Area (sft)],MATCH(E399,SignalHeads[Code],0))),IF(F399=\"\",0,INDEX(SignalHeads[Perp. Wind Area (sft)],MATCH(F399,SignalHeads[Code],0))),IF(G399=\"\",0,INDEX(SignalHeads[Perp. Wind Area (sft)],MATCH(G399,SignalHeads[Code],0))),IF(H399=\"\",0,INDEX(SignalHeads[Perp. Wind Area (sft)],MATCH(H399,SignalHeads[Code],0))),IF(I399=\"\",0,INDEX(SignalHeads[Perp. Wind Area (sft)],MATCH(I399,SignalHeads[Code],0))))","v":0},{"$f":"SUM(IF(B399=\"\",0,INDEX(SignalHeads[Weight*** (lbs)],MATCH(B399,SignalHeads[Code],0))),IF(D399=\"\",0,INDEX(SignalHeads[Weight*** (lbs)],MATCH(D399,SignalHeads[Code],0))),IF(E399=\"\",0,INDEX(SignalHeads[Weight*** (lbs)],MATCH(E399,SignalHeads[Code],0))),IF(F399=\"\",0,INDEX(SignalHeads[Weight*** (lbs)],MATCH(F399,SignalHeads[Code],0))),IF(G399=\"\",0,INDEX(SignalHeads[Weight*** (lbs)],MATCH(G399,SignalHeads[Code],0))),IF(H399=\"\",0,INDEX(SignalHeads[Weight*** (lbs)],MATCH(H399,SignalHeads[Code],0))),IF(I399=\"\",0,INDEX(SignalHeads[Weight*** (lbs)],MATCH(I399,SignalHeads[Code],0))))","v":0},{"$f":"IF(A399<=$I$8,INDEX(DesignConstants[Value],MATCH(\"Span Wire Weight (plf)\",DesignConstants[Design Constant],0)),0)","v":1.155},0,431.39249999999998,{"$error":"#VALUE!"},{"$error":"#VALUE!"},{"$error":"#N/A"},{"$error":"#N/A"},{"$f":"SUM(IF(B399=\"\",0,INDEX(SignalHeads[Height ** (feet)],MATCH(B399,SignalHeads[Code],0))),IF(D399=\"\",0,INDEX(SignalHeads[Height ** (feet)],MATCH(D399,SignalHeads[Code],0))),IF(E399=\"\",0,INDEX(SignalHeads[Height ** (feet)],MATCH(E399,SignalHeads[Code],0))),IF(F399=\"\",0,INDEX(SignalHeads[Height ** (feet)],MATCH(F399,SignalHeads[Code],0))),IF(G399=\"\",0,INDEX(SignalHeads[Height ** (feet)],MATCH(G399,SignalHeads[Code],0))),IF(H399=\"\",0,INDEX(SignalHeads[Height ** (feet)],MATCH(H399,SignalHeads[Code],0))),IF(I399=\"\",0,INDEX(SignalHeads[Height ** (feet)],MATCH(I399,SignalHeads[Code],0))))","v":0},{"$f":"IF(S399=0,\"\",ROUNDDOWN(12*(((Q399-S399)-MIN($Q$26:$Q$425-$S$26:$S$425)-(MAX($S$26:$S$425*(($Q$26:$Q$425-$S$26:$S$425)=MIN($Q$26:$Q$425-$S$26:$S$425)))-S399))+(MIN($Q$26:$Q$425-$S$26:$S$425)-$I$10)),0)/12)","v":""},"",{"$error":"#N/A"},17]
[375,null,null,null,null,null,null,null,null,{"$f":"SUM(IF(B400=\"\",0,INDEX(SignalHeads[Perp. Wind Area (sft)],MATCH(B400,SignalHeads[Code],0))),IF(D400=\"\",0,INDEX(SignalHeads[Perp. Wind Area (sft)],MATCH(D400,SignalHeads[Code],0))),IF(E400=\"\",0,INDEX(SignalHeads[Perp. Wind Area (sft)],MATCH(E400,SignalHeads[Code],0))),IF(F400=\"\",0,INDEX(SignalHeads[Perp. Wind Area (sft)],MATCH(F400,SignalHeads[Code],0))),IF(G400=\"\",0,INDEX(SignalHeads[Perp. Wind Area (sft)],MATCH(G400,SignalHeads[Code],0))),IF(H400=\"\",0,INDEX(SignalHeads[Perp. Wind Area (sft)],MATCH(H400,SignalHeads[Code],0))),IF(I400=\"\",0,INDEX(SignalHeads[Perp. Wind Area (sft)],MATCH(I400,SignalHeads[Code],0))))","v":0},{"$f":"SUM(IF(B400=\"\",0,INDEX(SignalHeads[Weight*** (lbs)],MATCH(B400,SignalHeads[Code],0))),IF(D400=\"\",0,INDEX(SignalHeads[Weight*** (lbs)],MATCH(D400,SignalHeads[Code],0))),IF(E400=\"\",0,INDEX(SignalHeads[Weight*** (lbs)],MATCH(E400,SignalHeads[Code],0))),IF(F400=\"\",0,INDEX(SignalHeads[Weight*** (lbs)],MATCH(F400,SignalHeads[Code],0))),IF(G400=\"\",0,INDEX(SignalHeads[Weight*** (lbs)],MATCH(G400,SignalHeads[Code],0))),IF(H400=\"\",0,INDEX(SignalHeads[Weight*** (lbs)],MATCH(H400,SignalHeads[Code],0))),IF(I400=\"\",0,INDEX(SignalHeads[Weight*** (lbs)],MATCH(I400,SignalHeads[Code],0))))","v":0},{"$f":"IF(A400<=$I$8,INDEX(DesignConstants[Value],MATCH(\"Span Wire Weight (plf)\",DesignConstants[Design Constant],0)),0)","v":1.155},0,432.54750000000001,{"$error":"#VALUE!"},{"$error":"#VALUE!"},{"$error":"#N/A"},{"$error":"#N/A"},{"$f":"SUM(IF(B400=\"\",0,INDEX(SignalHeads[Height ** (feet)],MATCH(B400,SignalHeads[Code],0))),IF(D400=\"\",0,INDEX(SignalHeads[Height ** (feet)],MATCH(D400,SignalHeads[Code],0))),IF(E400=\"\",0,INDEX(SignalHeads[Height ** (feet)],MATCH(E400,SignalHeads[Code],0))),IF(F400=\"\",0,INDEX(SignalHeads[Height ** (feet)],MATCH(F400,SignalHeads[Code],0))),IF(G400=\"\",0,INDEX(SignalHeads[Height ** (feet)],MATCH(G400,SignalHeads[Code],0))),IF(H400=\"\",0,INDEX(SignalHeads[Height ** (feet)],MATCH(H400,SignalHeads[Code],0))),IF(I400=\"\",0,INDEX(SignalHeads[Height ** (feet)],MATCH(I400,SignalHeads[Code],0))))","v":0},{"$f":"IF(S400=0,\"\",ROUNDDOWN(12*(((Q400-S400)-MIN($Q$26:$Q$425-$S$26:$S$425)-(MAX($S$26:$S$425*(($Q$26:$Q$425-$S$26:$S$425)=MIN($Q$26:$Q$425-$S$26:$S$425)))-S400))+(MIN($Q$26:$Q$425-$S$26:$S$425)-$I$10)),0)/12)","v":""},"",{"$error":"#N/A"},17]
[376,null,null,null,null,null,null,null,null,{"$f":"SUM(IF(B401=\"\",0,INDEX(SignalHeads[Perp. Wind Area (sft)],MATCH(B401,SignalHeads[Code],0))),IF(D401=\"\",0,INDEX(SignalHeads[Perp. Wind Area (sft)],MATCH(D401,SignalHeads[Code],0))),IF(E401=\"\",0,INDEX(SignalHeads[Perp. Wind Area (sft)],MATCH(E401,SignalHeads[Code],0))),IF(F401=\"\",0,INDEX(SignalHeads[Perp. Wind Area (sft)],MATCH(F401,SignalHeads[Code],0))),IF(G401=\"\",0,INDEX(SignalHeads[Perp. Wind Area (sft)],MATCH(G401,SignalHeads[Code],0))),IF(H401=\"\",0,INDEX(SignalHeads[Perp. Wind Area (sft)],MATCH(H401,SignalHeads[Code],0))),IF(I401=\"\",0,INDEX(SignalHeads[Perp. Wind Area (sft)],MATCH(I401,SignalHeads[Code],0))))","v":0},{"$f":"SUM(IF(B401=\"\",0,INDEX(SignalHeads[Weight*** (lbs)],MATCH(B401,SignalHeads[Code],0))),IF(D401=\"\",0,INDEX(SignalHeads[Weight*** (lbs)],MATCH(D401,SignalHeads[Code],0))),IF(E401=\"\",0,INDEX(SignalHeads[Weight*** (lbs)],MATCH(E401,SignalHeads[Code],0))),IF(F401=\"\",0,INDEX(SignalHeads[Weight*** (lbs)],MATCH(F401,SignalHeads[Code],0))),IF(G401=\"\",0,INDEX(SignalHeads[Weight*** (lbs)],MATCH(G401,SignalHeads[Code],0))),IF(H401=\"\",0,INDEX(SignalHeads[Weight*** (lbs)],MATCH(H401,SignalHeads[Code],0))),IF(I401=\"\",0,INDEX(SignalHeads[Weight*** (lbs)],MATCH(I401,SignalHeads[Code],0))))","v":0},{"$f":"IF(A401<=$I$8,INDEX(DesignConstants[Value],MATCH(\"Span Wire Weight (plf)\",DesignConstants[Design Constant],0)),0)","v":1.155},0,433.70249999999999,{"$error":"#VALUE!"},{"$error":"#VALUE!"},{"$error":"#N/A"},{"$error":"#N/A"},{"$f":"SUM(IF(B401=\"\",0,INDEX(SignalHeads[Height ** (feet)],MATCH(B401,SignalHeads[Code],0))),IF(D401=\"\",0,INDEX(SignalHeads[Height ** (feet)],MATCH(D401,SignalHeads[Code],0))),IF(E401=\"\",0,INDEX(SignalHeads[Height ** (feet)],MATCH(E401,SignalHeads[Code],0))),IF(F401=\"\",0,INDEX(SignalHeads[Height ** (feet)],MATCH(F401,SignalHeads[Code],0))),IF(G401=\"\",0,INDEX(SignalHeads[Height ** (feet)],MATCH(G401,SignalHeads[Code],0))),IF(H401=\"\",0,INDEX(SignalHeads[Height ** (feet)],MATCH(H401,SignalHeads[Code],0))),IF(I401=\"\",0,INDEX(SignalHeads[Height ** (feet)],MATCH(I401,SignalHeads[Code],0))))","v":0},{"$f":"IF(S401=0,\"\",ROUNDDOWN(12*(((Q401-S401)-MIN($Q$26:$Q$425-$S$26:$S$425)-(MAX($S$26:$S$425*(($Q$26:$Q$425-$S$26:$S$425)=MIN($Q$26:$Q$425-$S$26:$S$425)))-S401))+(MIN($Q$26:$Q$425-$S$26:$S$425)-$I$10)),0)/12)","v":""},"",{"$error":"#N/A"},17]
[377,null,null,null,null,null,null,null,null,{"$f":"SUM(IF(B402=\"\",0,INDEX(SignalHeads[Perp. Wind Area (sft)],MATCH(B402,SignalHeads[Code],0))),IF(D402=\"\",0,INDEX(SignalHeads[Perp. Wind Area (sft)],MATCH(D402,SignalHeads[Code],0))),IF(E402=\"\",0,INDEX(SignalHeads[Perp. Wind Area (sft)],MATCH(E402,SignalHeads[Code],0))),IF(F402=\"\",0,INDEX(SignalHeads[Perp. Wind Area (sft)],MATCH(F402,SignalHeads[Code],0))),IF(G402=\"\",0,INDEX(SignalHeads[Perp. Wind Area (sft)],MATCH(G402,SignalHeads[Code],0))),IF(H402=\"\",0,INDEX(SignalHeads[Perp. Wind Area (sft)],MATCH(H402,SignalHeads[Code],0))),IF(I402=\"\",0,INDEX(SignalHeads[Perp. Wind Area (sft)],MATCH(I402,SignalHeads[Code],0))))","v":0},{"$f":"SUM(IF(B402=\"\",0,INDEX(SignalHeads[Weight*** (lbs)],MATCH(B402,SignalHeads[Code],0))),IF(D402=\"\",0,INDEX(SignalHeads[Weight*** (lbs)],MATCH(D402,SignalHeads[Code],0))),IF(E402=\"\",0,INDEX(SignalHeads[Weight*** (lbs)],MATCH(E402,SignalHeads[Code],0))),IF(F402=\"\",0,INDEX(SignalHeads[Weight*** (lbs)],MATCH(F402,SignalHeads[Code],0))),IF(G402=\"\",0,INDEX(SignalHeads[Weight*** (lbs)],MATCH(G402,SignalHeads[Code],0))),IF(H402=\"\",0,INDEX(SignalHeads[Weight*** (lbs)],MATCH(H402,SignalHeads[Code],0))),IF(I402=\"\",0,INDEX(SignalHeads[Weight*** (lbs)],MATCH(I402,SignalHeads[Code],0))))","v":0},{"$f":"IF(A402<=$I$8,INDEX(DesignConstants[Value],MATCH(\"Span Wire Weight (plf)\",DesignConstants[Design Constant],0)),0)","v":1.155},0,434.85750000000002,{"$error":"#VALUE!"},{"$error":"#VALUE!"},{"$error":"#N/A"},{"$error":"#N/A"},{"$f":"SUM(IF(B402=\"\",0,INDEX(SignalHeads[Height ** (feet)],MATCH(B402,SignalHeads[Code],0))),IF(D402=\"\",0,INDEX(SignalHeads[Height ** (feet)],MATCH(D402,SignalHeads[Code],0))),IF(E402=\"\",0,INDEX(SignalHeads[Height ** (feet)],MATCH(E402,SignalHeads[Code],0))),IF(F402=\"\",0,INDEX(SignalHeads[Height ** (feet)],MATCH(F402,SignalHeads[Code],0))),IF(G402=\"\",0,INDEX(SignalHeads[Height ** (feet)],MATCH(G402,SignalHeads[Code],0))),IF(H402=\"\",0,INDEX(SignalHeads[Height ** (feet)],MATCH(H402,SignalHeads[Code],0))),IF(I402=\"\",0,INDEX(SignalHeads[Height ** (feet)],MATCH(I402,SignalHeads[Code],0))))","v":0},{"$f":"IF(S402=0,\"\",ROUNDDOWN(12*(((Q402-S402)-MIN($Q$26:$Q$425-$S$26:$S$425)-(MAX($S$26:$S$425*(($Q$26:$Q$425-$S$26:$S$425)=MIN($Q$26:$Q$425-$S$26:$S$425)))-S402))+(MIN($Q$26:$Q$425-$S$26:$S$425)-$I$10)),0)/12)","v":""},"",{"$error":"#N/A"},17]
[378,null,null,null,null,null,null,null,null,{"$f":"SUM(IF(B403=\"\",0,INDEX(SignalHeads[Perp. Wind Area (sft)],MATCH(B403,SignalHeads[Code],0))),IF(D403=\"\",0,INDEX(SignalHeads[Perp. Wind Area (sft)],MATCH(D403,SignalHeads[Code],0))),IF(E403=\"\",0,INDEX(SignalHeads[Perp. Wind Area (sft)],MATCH(E403,SignalHeads[Code],0))),IF(F403=\"\",0,INDEX(SignalHeads[Perp. Wind Area (sft)],MATCH(F403,SignalHeads[Code],0))),IF(G403=\"\",0,INDEX(SignalHeads[Perp. Wind Area (sft)],MATCH(G403,SignalHeads[Code],0))),IF(H403=\"\",0,INDEX(SignalHeads[Perp. Wind Area (sft)],MATCH(H403,SignalHeads[Code],0))),IF(I403=\"\",0,INDEX(SignalHeads[Perp. Wind Area (sft)],MATCH(I403,SignalHeads[Code],0))))","v":0},{"$f":"SUM(IF(B403=\"\",0,INDEX(SignalHeads[Weight*** (lbs)],MATCH(B403,SignalHeads[Code],0))),IF(D403=\"\",0,INDEX(SignalHeads[Weight*** (lbs)],MATCH(D403,SignalHeads[Code],0))),IF(E403=\"\",0,INDEX(SignalHeads[Weight*** (lbs)],MATCH(E403,SignalHeads[Code],0))),IF(F403=\"\",0,INDEX(SignalHeads[Weight*** (lbs)],MATCH(F403,SignalHeads[Code],0))),IF(G403=\"\",0,INDEX(SignalHeads[Weight*** (lbs)],MATCH(G403,SignalHeads[Code],0))),IF(H403=\"\",0,INDEX(SignalHeads[Weight*** (lbs)],MATCH(H403,SignalHeads[Code],0))),IF(I403=\"\",0,INDEX(SignalHeads[Weight*** (lbs)],MATCH(I403,SignalHeads[Code],0))))","v":0},{"$f":"IF(A403<=$I$8,INDEX(DesignConstants[Value],MATCH(\"Span Wire Weight (plf)\",DesignConstants[Design Constant],0)),0)","v":1.155},0,436.01249999999999,{"$error":"#VALUE!"},{"$error":"#VALUE!"},{"$error":"#N/A"},{"$error":"#N/A"},{"$f":"SUM(IF(B403=\"\",0,INDEX(SignalHeads[Height ** (feet)],MATCH(B403,SignalHeads[Code],0))),IF(D403=\"\",0,INDEX(SignalHeads[Height ** (feet)],MATCH(D403,SignalHeads[Code],0))),IF(E403=\"\",0,INDEX(SignalHeads[Height ** (feet)],MATCH(E403,SignalHeads[Code],0))),IF(F403=\"\",0,INDEX(SignalHeads[Height ** (feet)],MATCH(F403,SignalHeads[Code],0))),IF(G403=\"\",0,INDEX(SignalHeads[Height ** (feet)],MATCH(G403,SignalHeads[Code],0))),IF(H403=\"\",0,INDEX(SignalHeads[Height ** (feet)],MATCH(H403,SignalHeads[Code],0))),IF(I403=\"\",0,INDEX(SignalHeads[Height ** (feet)],MATCH(I403,SignalHeads[Code],0))))","v":0},{"$f":"IF(S403=0,\"\",ROUNDDOWN(12*(((Q403-S403)-MIN($Q$26:$Q$425-$S$26:$S$425)-(MAX($S$26:$S$425*(($Q$26:$Q$425-$S$26:$S$425)=MIN($Q$26:$Q$425-$S$26:$S$425)))-S403))+(MIN($Q$26:$Q$425-$S$26:$S$425)-$I$10)),0)/12)","v":""},"",{"$error":"#N/A"},17]
[379,null,null,null,null,null,null,null,null,{"$f":"SUM(IF(B404=\"\",0,INDEX(SignalHeads[Perp. Wind Area (sft)],MATCH(B404,SignalHeads[Code],0))),IF(D404=\"\",0,INDEX(SignalHeads[Perp. Wind Area (sft)],MATCH(D404,SignalHeads[Code],0))),IF(E404=\"\",0,INDEX(SignalHeads[Perp. Wind Area (sft)],MATCH(E404,SignalHeads[Code],0))),IF(F404=\"\",0,INDEX(SignalHeads[Perp. Wind Area (sft)],MATCH(F404,SignalHeads[Code],0))),IF(G404=\"\",0,INDEX(SignalHeads[Perp. Wind Area (sft)],MATCH(G404,SignalHeads[Code],0))),IF(H404=\"\",0,INDEX(SignalHeads[Perp. Wind Area (sft)],MATCH(H404,SignalHeads[Code],0))),IF(I404=\"\",0,INDEX(SignalHeads[Perp. Wind Area (sft)],MATCH(I404,SignalHeads[Code],0))))","v":0},{"$f":"SUM(IF(B404=\"\",0,INDEX(SignalHeads[Weight*** (lbs)],MATCH(B404,SignalHeads[Code],0))),IF(D404=\"\",0,INDEX(SignalHeads[Weight*** (lbs)],MATCH(D404,SignalHeads[Code],0))),IF(E404=\"\",0,INDEX(SignalHeads[Weight*** (lbs)],MATCH(E404,SignalHeads[Code],0))),IF(F404=\"\",0,INDEX(SignalHeads[Weight*** (lbs)],MATCH(F404,SignalHeads[Code],0))),IF(G404=\"\",0,INDEX(SignalHeads[Weight*** (lbs)],MATCH(G404,SignalHeads[Code],0))),IF(H404=\"\",0,INDEX(SignalHeads[Weight*** (lbs)],MATCH(H404,SignalHeads[Code],0))),IF(I404=\"\",0,INDEX(SignalHeads[Weight*** (lbs)],MATCH(I404,SignalHeads[Code],0))))","v":0},{"$f":"IF(A404<=$I$8,INDEX(DesignConstants[Value],MATCH(\"Span Wire Weight (plf)\",DesignConstants[Design Constant],0)),0)","v":1.155},0,437.16750000000002,{"$error":"#VALUE!"},{"$error":"#VALUE!"},{"$error":"#N/A"},{"$error":"#N/A"},{"$f":"SUM(IF(B404=\"\",0,INDEX(SignalHeads[Height ** (feet)],MATCH(B404,SignalHeads[Code],0))),IF(D404=\"\",0,INDEX(SignalHeads[Height ** (feet)],MATCH(D404,SignalHeads[Code],0))),IF(E404=\"\",0,INDEX(SignalHeads[Height ** (feet)],MATCH(E404,SignalHeads[Code],0))),IF(F404=\"\",0,INDEX(SignalHeads[Height ** (feet)],MATCH(F404,SignalHeads[Code],0))),IF(G404=\"\",0,INDEX(SignalHeads[Height ** (feet)],MATCH(G404,SignalHeads[Code],0))),IF(H404=\"\",0,INDEX(SignalHeads[Height ** (feet)],MATCH(H404,SignalHeads[Code],0))),IF(I404=\"\",0,INDEX(SignalHeads[Height ** (feet)],MATCH(I404,SignalHeads[Code],0))))","v":0},{"$f":"IF(S404=0,\"\",ROUNDDOWN(12*(((Q404-S404)-MIN($Q$26:$Q$425-$S$26:$S$425)-(MAX($S$26:$S$425*(($Q$26:$Q$425-$S$26:$S$425)=MIN($Q$26:$Q$425-$S$26:$S$425)))-S404))+(MIN($Q$26:$Q$425-$S$26:$S$425)-$I$10)),0)/12)","v":""},"",{"$error":"#N/A"},17]
[380,null,null,null,null,null,null,null,null,{"$f":"SUM(IF(B405=\"\",0,INDEX(SignalHeads[Perp. Wind Area (sft)],MATCH(B405,SignalHeads[Code],0))),IF(D405=\"\",0,INDEX(SignalHeads[Perp. Wind Area (sft)],MATCH(D405,SignalHeads[Code],0))),IF(E405=\"\",0,INDEX(SignalHeads[Perp. Wind Area (sft)],MATCH(E405,SignalHeads[Code],0))),IF(F405=\"\",0,INDEX(SignalHeads[Perp. Wind Area (sft)],MATCH(F405,SignalHeads[Code],0))),IF(G405=\"\",0,INDEX(SignalHeads[Perp. Wind Area (sft)],MATCH(G405,SignalHeads[Code],0))),IF(H405=\"\",0,INDEX(SignalHeads[Perp. Wind Area (sft)],MATCH(H405,SignalHeads[Code],0))),IF(I405=\"\",0,INDEX(SignalHeads[Perp. Wind Area (sft)],MATCH(I405,SignalHeads[Code],0))))","v":0},{"$f":"SUM(IF(B405=\"\",0,INDEX(SignalHeads[Weight*** (lbs)],MATCH(B405,SignalHeads[Code],0))),IF(D405=\"\",0,INDEX(SignalHeads[Weight*** (lbs)],MATCH(D405,SignalHeads[Code],0))),IF(E405=\"\",0,INDEX(SignalHeads[Weight*** (lbs)],MATCH(E405,SignalHeads[Code],0))),IF(F405=\"\",0,INDEX(SignalHeads[Weight*** (lbs)],MATCH(F405,SignalHeads[Code],0))),IF(G405=\"\",0,INDEX(SignalHeads[Weight*** (lbs)],MATCH(G405,SignalHeads[Code],0))),IF(H405=\"\",0,INDEX(SignalHeads[Weight*** (lbs)],MATCH(H405,SignalHeads[Code],0))),IF(I405=\"\",0,INDEX(SignalHeads[Weight*** (lbs)],MATCH(I405,SignalHeads[Code],0))))","v":0},{"$f":"IF(A405<=$I$8,INDEX(DesignConstants[Value],MATCH(\"Span Wire Weight (plf)\",DesignConstants[Design Constant],0)),0)","v":1.155},0,438.32249999999999,{"$error":"#VALUE!"},{"$error":"#VALUE!"},{"$error":"#N/A"},{"$error":"#N/A"},{"$f":"SUM(IF(B405=\"\",0,INDEX(SignalHeads[Height ** (feet)],MATCH(B405,SignalHeads[Code],0))),IF(D405=\"\",0,INDEX(SignalHeads[Height ** (feet)],MATCH(D405,SignalHeads[Code],0))),IF(E405=\"\",0,INDEX(SignalHeads[Height ** (feet)],MATCH(E405,SignalHeads[Code],0))),IF(F405=\"\",0,INDEX(SignalHeads[Height ** (feet)],MATCH(F405,SignalHeads[Code],0))),IF(G405=\"\",0,INDEX(SignalHeads[Height ** (feet)],MATCH(G405,SignalHeads[Code],0))),IF(H405=\"\",0,INDEX(SignalHeads[Height ** (feet)],MATCH(H405,SignalHeads[Code],0))),IF(I405=\"\",0,INDEX(SignalHeads[Height ** (feet)],MATCH(I405,SignalHeads[Code],0))))","v":0},{"$f":"IF(S405=0,\"\",ROUNDDOWN(12*(((Q405-S405)-MIN($Q$26:$Q$425-$S$26:$S$425)-(MAX($S$26:$S$425*(($Q$26:$Q$425-$S$26:$S$425)=MIN($Q$26:$Q$425-$S$26:$S$425)))-S405))+(MIN($Q$26:$Q$425-$S$26:$S$425)-$I$10)),0)/12)","v":""},"",{"$error":"#N/A"},17]
[381,null,null,null,null,null,null,null,null,{"$f":"SUM(IF(B406=\"\",0,INDEX(SignalHeads[Perp. Wind Area (sft)],MATCH(B406,SignalHeads[Code],0))),IF(D406=\"\",0,INDEX(SignalHeads[Perp. Wind Area (sft)],MATCH(D406,SignalHeads[Code],0))),IF(E406=\"\",0,INDEX(SignalHeads[Perp. Wind Area (sft)],MATCH(E406,SignalHeads[Code],0))),IF(F406=\"\",0,INDEX(SignalHeads[Perp. Wind Area (sft)],MATCH(F406,SignalHeads[Code],0))),IF(G406=\"\",0,INDEX(SignalHeads[Perp. Wind Area (sft)],MATCH(G406,SignalHeads[Code],0))),IF(H406=\"\",0,INDEX(SignalHeads[Perp. Wind Area (sft)],MATCH(H406,SignalHeads[Code],0))),IF(I406=\"\",0,INDEX(SignalHeads[Perp. Wind Area (sft)],MATCH(I406,SignalHeads[Code],0))))","v":0},{"$f":"SUM(IF(B406=\"\",0,INDEX(SignalHeads[Weight*** (lbs)],MATCH(B406,SignalHeads[Code],0))),IF(D406=\"\",0,INDEX(SignalHeads[Weight*** (lbs)],MATCH(D406,SignalHeads[Code],0))),IF(E406=\"\",0,INDEX(SignalHeads[Weight*** (lbs)],MATCH(E406,SignalHeads[Code],0))),IF(F406=\"\",0,INDEX(SignalHeads[Weight*** (lbs)],MATCH(F406,SignalHeads[Code],0))),IF(G406=\"\",0,INDEX(SignalHeads[Weight*** (lbs)],MATCH(G406,SignalHeads[Code],0))),IF(H406=\"\",0,INDEX(SignalHeads[Weight*** (lbs)],MATCH(H406,SignalHeads[Code],0))),IF(I406=\"\",0,INDEX(SignalHeads[Weight*** (lbs)],MATCH(I406,SignalHeads[Code],0))))","v":0},{"$f":"IF(A406<=$I$8,INDEX(DesignConstants[Value],MATCH(\"Span Wire Weight (plf)\",DesignConstants[Design Constant],0)),0)","v":1.155},0,439.47750000000002,{"$error":"#VALUE!"},{"$error":"#VALUE!"},{"$error":"#N/A"},{"$error":"#N/A"},{"$f":"SUM(IF(B406=\"\",0,INDEX(SignalHeads[Height ** (feet)],MATCH(B406,SignalHeads[Code],0))),IF(D406=\"\",0,INDEX(SignalHeads[Height ** (feet)],MATCH(D406,SignalHeads[Code],0))),IF(E406=\"\",0,INDEX(SignalHeads[Height ** (feet)],MATCH(E406,SignalHeads[Code],0))),IF(F406=\"\",0,INDEX(SignalHeads[Height ** (feet)],MATCH(F406,SignalHeads[Code],0))),IF(G406=\"\",0,INDEX(SignalHeads[Height ** (feet)],MATCH(G406,SignalHeads[Code],0))),IF(H406=\"\",0,INDEX(SignalHeads[Height ** (feet)],MATCH(H406,SignalHeads[Code],0))),IF(I406=\"\",0,INDEX(SignalHeads[Height ** (feet)],MATCH(I406,SignalHeads[Code],0))))","v":0},{"$f":"IF(S406=0,\"\",ROUNDDOWN(12*(((Q406-S406)-MIN($Q$26:$Q$425-$S$26:$S$425)-(MAX($S$26:$S$425*(($Q$26:$Q$425-$S$26:$S$425)=MIN($Q$26:$Q$425-$S$26:$S$425)))-S406))+(MIN($Q$26:$Q$425-$S$26:$S$425)-$I$10)),0)/12)","v":""},"",{"$error":"#N/A"},17]
[382,null,null,null,null,null,null,null,null,{"$f":"SUM(IF(B407=\"\",0,INDEX(SignalHeads[Perp. Wind Area (sft)],MATCH(B407,SignalHeads[Code],0))),IF(D407=\"\",0,INDEX(SignalHeads[Perp. Wind Area (sft)],MATCH(D407,SignalHeads[Code],0))),IF(E407=\"\",0,INDEX(SignalHeads[Perp. Wind Area (sft)],MATCH(E407,SignalHeads[Code],0))),IF(F407=\"\",0,INDEX(SignalHeads[Perp. Wind Area (sft)],MATCH(F407,SignalHeads[Code],0))),IF(G407=\"\",0,INDEX(SignalHeads[Perp. Wind Area (sft)],MATCH(G407,SignalHeads[Code],0))),IF(H407=\"\",0,INDEX(SignalHeads[Perp. Wind Area (sft)],MATCH(H407,SignalHeads[Code],0))),IF(I407=\"\",0,INDEX(SignalHeads[Perp. Wind Area (sft)],MATCH(I407,SignalHeads[Code],0))))","v":0},{"$f":"SUM(IF(B407=\"\",0,INDEX(SignalHeads[Weight*** (lbs)],MATCH(B407,SignalHeads[Code],0))),IF(D407=\"\",0,INDEX(SignalHeads[Weight*** (lbs)],MATCH(D407,SignalHeads[Code],0))),IF(E407=\"\",0,INDEX(SignalHeads[Weight*** (lbs)],MATCH(E407,SignalHeads[Code],0))),IF(F407=\"\",0,INDEX(SignalHeads[Weight*** (lbs)],MATCH(F407,SignalHeads[Code],0))),IF(G407=\"\",0,INDEX(SignalHeads[Weight*** (lbs)],MATCH(G407,SignalHeads[Code],0))),IF(H407=\"\",0,INDEX(SignalHeads[Weight*** (lbs)],MATCH(H407,SignalHeads[Code],0))),IF(I407=\"\",0,INDEX(SignalHeads[Weight*** (lbs)],MATCH(I407,SignalHeads[Code],0))))","v":0},{"$f":"IF(A407<=$I$8,INDEX(DesignConstants[Value],MATCH(\"Span Wire Weight (plf)\",DesignConstants[Design Constant],0)),0)","v":1.155},0,440.63249999999999,{"$error":"#VALUE!"},{"$error":"#VALUE!"},{"$error":"#N/A"},{"$error":"#N/A"},{"$f":"SUM(IF(B407=\"\",0,INDEX(SignalHeads[Height ** (feet)],MATCH(B407,SignalHeads[Code],0))),IF(D407=\"\",0,INDEX(SignalHeads[Height ** (feet)],MATCH(D407,SignalHeads[Code],0))),IF(E407=\"\",0,INDEX(SignalHeads[Height ** (feet)],MATCH(E407,SignalHeads[Code],0))),IF(F407=\"\",0,INDEX(SignalHeads[Height ** (feet)],MATCH(F407,SignalHeads[Code],0))),IF(G407=\"\",0,INDEX(SignalHeads[Height ** (feet)],MATCH(G407,SignalHeads[Code],0))),IF(H407=\"\",0,INDEX(SignalHeads[Height ** (feet)],MATCH(H407,SignalHeads[Code],0))),IF(I407=\"\",0,INDEX(SignalHeads[Height ** (feet)],MATCH(I407,SignalHeads[Code],0))))","v":0},{"$f":"IF(S407=0,\"\",ROUNDDOWN(12*(((Q407-S407)-MIN($Q$26:$Q$425-$S$26:$S$425)-(MAX($S$26:$S$425*(($Q$26:$Q$425-$S$26:$S$425)=MIN($Q$26:$Q$425-$S$26:$S$425)))-S407))+(MIN($Q$26:$Q$425-$S$26:$S$425)-$I$10)),0)/12)","v":""},"",{"$error":"#N/A"},17]
[383,null,null,null,null,null,null,null,null,{"$f":"SUM(IF(B408=\"\",0,INDEX(SignalHeads[Perp. Wind Area (sft)],MATCH(B408,SignalHeads[Code],0))),IF(D408=\"\",0,INDEX(SignalHeads[Perp. Wind Area (sft)],MATCH(D408,SignalHeads[Code],0))),IF(E408=\"\",0,INDEX(SignalHeads[Perp. Wind Area (sft)],MATCH(E408,SignalHeads[Code],0))),IF(F408=\"\",0,INDEX(SignalHeads[Perp. Wind Area (sft)],MATCH(F408,SignalHeads[Code],0))),IF(G408=\"\",0,INDEX(SignalHeads[Perp. Wind Area (sft)],MATCH(G408,SignalHeads[Code],0))),IF(H408=\"\",0,INDEX(SignalHeads[Perp. Wind Area (sft)],MATCH(H408,SignalHeads[Code],0))),IF(I408=\"\",0,INDEX(SignalHeads[Perp. Wind Area (sft)],MATCH(I408,SignalHeads[Code],0))))","v":0},{"$f":"SUM(IF(B408=\"\",0,INDEX(SignalHeads[Weight*** (lbs)],MATCH(B408,SignalHeads[Code],0))),IF(D408=\"\",0,INDEX(SignalHeads[Weight*** (lbs)],MATCH(D408,SignalHeads[Code],0))),IF(E408=\"\",0,INDEX(SignalHeads[Weight*** (lbs)],MATCH(E408,SignalHeads[Code],0))),IF(F408=\"\",0,INDEX(SignalHeads[Weight*** (lbs)],MATCH(F408,SignalHeads[Code],0))),IF(G408=\"\",0,INDEX(SignalHeads[Weight*** (lbs)],MATCH(G408,SignalHeads[Code],0))),IF(H408=\"\",0,INDEX(SignalHeads[Weight*** (lbs)],MATCH(H408,SignalHeads[Code],0))),IF(I408=\"\",0,INDEX(SignalHeads[Weight*** (lbs)],MATCH(I408,SignalHeads[Code],0))))","v":0},{"$f":"IF(A408<=$I$8,INDEX(DesignConstants[Value],MATCH(\"Span Wire Weight (plf)\",DesignConstants[Design Constant],0)),0)","v":1.155},0,441.78750000000002,{"$error":"#VALUE!"},{"$error":"#VALUE!"},{"$error":"#N/A"},{"$error":"#N/A"},{"$f":"SUM(IF(B408=\"\",0,INDEX(SignalHeads[Height ** (feet)],MATCH(B408,SignalHeads[Code],0))),IF(D408=\"\",0,INDEX(SignalHeads[Height ** (feet)],MATCH(D408,SignalHeads[Code],0))),IF(E408=\"\",0,INDEX(SignalHeads[Height ** (feet)],MATCH(E408,SignalHeads[Code],0))),IF(F408=\"\",0,INDEX(SignalHeads[Height ** (feet)],MATCH(F408,SignalHeads[Code],0))),IF(G408=\"\",0,INDEX(SignalHeads[Height ** (feet)],MATCH(G408,SignalHeads[Code],0))),IF(H408=\"\",0,INDEX(SignalHeads[Height ** (feet)],MATCH(H408,SignalHeads[Code],0))),IF(I408=\"\",0,INDEX(SignalHeads[Height ** (feet)],MATCH(I408,SignalHeads[Code],0))))","v":0},{"$f":"IF(S408=0,\"\",ROUNDDOWN(12*(((Q408-S408)-MIN($Q$26:$Q$425-$S$26:$S$425)-(MAX($S$26:$S$425*(($Q$26:$Q$425-$S$26:$S$425)=MIN($Q$26:$Q$425-$S$26:$S$425)))-S408))+(MIN($Q$26:$Q$425-$S$26:$S$425)-$I$10)),0)/12)","v":""},"",{"$error":"#N/A"},17]
[384,null,null,null,null,null,null,null,null,{"$f":"SUM(IF(B409=\"\",0,INDEX(SignalHeads[Perp. Wind Area (sft)],MATCH(B409,SignalHeads[Code],0))),IF(D409=\"\",0,INDEX(SignalHeads[Perp. Wind Area (sft)],MATCH(D409,SignalHeads[Code],0))),IF(E409=\"\",0,INDEX(SignalHeads[Perp. Wind Area (sft)],MATCH(E409,SignalHeads[Code],0))),IF(F409=\"\",0,INDEX(SignalHeads[Perp. Wind Area (sft)],MATCH(F409,SignalHeads[Code],0))),IF(G409=\"\",0,INDEX(SignalHeads[Perp. Wind Area (sft)],MATCH(G409,SignalHeads[Code],0))),IF(H409=\"\",0,INDEX(SignalHeads[Perp. Wind Area (sft)],MATCH(H409,SignalHeads[Code],0))),IF(I409=\"\",0,INDEX(SignalHeads[Perp. Wind Area (sft)],MATCH(I409,SignalHeads[Code],0))))","v":0},{"$f":"SUM(IF(B409=\"\",0,INDEX(SignalHeads[Weight*** (lbs)],MATCH(B409,SignalHeads[Code],0))),IF(D409=\"\",0,INDEX(SignalHeads[Weight*** (lbs)],MATCH(D409,SignalHeads[Code],0))),IF(E409=\"\",0,INDEX(SignalHeads[Weight*** (lbs)],MATCH(E409,SignalHeads[Code],0))),IF(F409=\"\",0,INDEX(SignalHeads[Weight*** (lbs)],MATCH(F409,SignalHeads[Code],0))),IF(G409=\"\",0,INDEX(SignalHeads[Weight*** (lbs)],MATCH(G409,SignalHeads[Code],0))),IF(H409=\"\",0,INDEX(SignalHeads[Weight*** (lbs)],MATCH(H409,SignalHeads[Code],0))),IF(I409=\"\",0,INDEX(SignalHeads[Weight*** (lbs)],MATCH(I409,SignalHeads[Code],0))))","v":0},{"$f":"IF(A409<=$I$8,INDEX(DesignConstants[Value],MATCH(\"Span Wire Weight (plf)\",DesignConstants[Design Constant],0)),0)","v":1.155},0,442.9425,{"$error":"#VALUE!"},{"$error":"#VALUE!"},{"$error":"#N/A"},{"$error":"#N/A"},{"$f":"SUM(IF(B409=\"\",0,INDEX(SignalHeads[Height ** (feet)],MATCH(B409,SignalHeads[Code],0))),IF(D409=\"\",0,INDEX(SignalHeads[Height ** (feet)],MATCH(D409,SignalHeads[Code],0))),IF(E409=\"\",0,INDEX(SignalHeads[Height ** (feet)],MATCH(E409,SignalHeads[Code],0))),IF(F409=\"\",0,INDEX(SignalHeads[Height ** (feet)],MATCH(F409,SignalHeads[Code],0))),IF(G409=\"\",0,INDEX(SignalHeads[Height ** (feet)],MATCH(G409,SignalHeads[Code],0))),IF(H409=\"\",0,INDEX(SignalHeads[Height ** (feet)],MATCH(H409,SignalHeads[Code],0))),IF(I409=\"\",0,INDEX(SignalHeads[Height ** (feet)],MATCH(I409,SignalHeads[Code],0))))","v":0},{"$f":"IF(S409=0,\"\",ROUNDDOWN(12*(((Q409-S409)-MIN($Q$26:$Q$425-$S$26:$S$425)-(MAX($S$26:$S$425*(($Q$26:$Q$425-$S$26:$S$425)=MIN($Q$26:$Q$425-$S$26:$S$425)))-S409))+(MIN($Q$26:$Q$425-$S$26:$S$425)-$I$10)),0)/12)","v":""},"",{"$error":"#N/A"},17]
[385,null,null,null,null,null,null,null,null,{"$f":"SUM(IF(B410=\"\",0,INDEX(SignalHeads[Perp. Wind Area (sft)],MATCH(B410,SignalHeads[Code],0))),IF(D410=\"\",0,INDEX(SignalHeads[Perp. Wind Area (sft)],MATCH(D410,SignalHeads[Code],0))),IF(E410=\"\",0,INDEX(SignalHeads[Perp. Wind Area (sft)],MATCH(E410,SignalHeads[Code],0))),IF(F410=\"\",0,INDEX(SignalHeads[Perp. Wind Area (sft)],MATCH(F410,SignalHeads[Code],0))),IF(G410=\"\",0,INDEX(SignalHeads[Perp. Wind Area (sft)],MATCH(G410,SignalHeads[Code],0))),IF(H410=\"\",0,INDEX(SignalHeads[Perp. Wind Area (sft)],MATCH(H410,SignalHeads[Code],0))),IF(I410=\"\",0,INDEX(SignalHeads[Perp. Wind Area (sft)],MATCH(I410,SignalHeads[Code],0))))","v":0},{"$f":"SUM(IF(B410=\"\",0,INDEX(SignalHeads[Weight*** (lbs)],MATCH(B410,SignalHeads[Code],0))),IF(D410=\"\",0,INDEX(SignalHeads[Weight*** (lbs)],MATCH(D410,SignalHeads[Code],0))),IF(E410=\"\",0,INDEX(SignalHeads[Weight*** (lbs)],MATCH(E410,SignalHeads[Code],0))),IF(F410=\"\",0,INDEX(SignalHeads[Weight*** (lbs)],MATCH(F410,SignalHeads[Code],0))),IF(G410=\"\",0,INDEX(SignalHeads[Weight*** (lbs)],MATCH(G410,SignalHeads[Code],0))),IF(H410=\"\",0,INDEX(SignalHeads[Weight*** (lbs)],MATCH(H410,SignalHeads[Code],0))),IF(I410=\"\",0,INDEX(SignalHeads[Weight*** (lbs)],MATCH(I410,SignalHeads[Code],0))))","v":0},{"$f":"IF(A410<=$I$8,INDEX(DesignConstants[Value],MATCH(\"Span Wire Weight (plf)\",DesignConstants[Design Constant],0)),0)","v":1.155},{"$f":"IF(K410=\"\",0,K410*A410)","v":0},{"$f":"L410*(A410-0.5)","v":444.09750000000003},{"$error":"#VALUE!"},{"$f":"(0.5*L410+O410+K410)/$I$4","v":{"$error":"#VALUE!"}},{"$error":"#N/A"},{"$f":"IF(A410>$I$8,0,(IFERROR(INDEX($S$13:$S$14,MATCH(MAX($S$11:$S$12),$S$11:$S$12,FALSE)),$S$8)-(IFERROR(INDEX($N$13:$N$14,MATCH(MAX($N$11:$N$12),$N$11:$N$12,FALSE)),$N$8)))/$I$18*A410+IFERROR(INDEX($N$13:$N$14,MATCH(MAX($N$11:$N$12),$N$11:$N$12,FALSE)),$N$8))","v":{"$error":"#N/A"}},{"$f":"SUM(IF(B410=\"\",0,INDEX(SignalHeads[Height ** (feet)],MATCH(B410,SignalHeads[Code],0))),IF(D410=\"\",0,INDEX(SignalHeads[Height ** (feet)],MATCH(D410,SignalHeads[Code],0))),IF(E410=\"\",0,INDEX(SignalHeads[Height ** (feet)],MATCH(E410,SignalHeads[Code],0))),IF(F410=\"\",0,INDEX(SignalHeads[Height ** (feet)],MATCH(F410,SignalHeads[Code],0))),IF(G410=\"\",0,INDEX(SignalHeads[Height ** (feet)],MATCH(G410,SignalHeads[Code],0))),IF(H410=\"\",0,INDEX(SignalHeads[Height ** (feet)],MATCH(H410,SignalHeads[Code],0))),IF(I410=\"\",0,INDEX(SignalHeads[Height ** (feet)],MATCH(I410,SignalHeads[Code],0))))","v":0},{"$f":"IF(S410=0,\"\",ROUNDDOWN(12*(((Q410-S410)-MIN($Q$26:$Q$425-$S$26:$S$425)-(MAX($S$26:$S$425*(($Q$26:$Q$425-$S$26:$S$425)=MIN($Q$26:$Q$425-$S$26:$S$425)))-S410))+(MIN($Q$26:$Q$425-$S$26:$S$425)-$I$10)),0)/12)","v":""},"",{"$error":"#N/A"},{"$f":"$I$10","v":17}]
[386,null,null,null,null,null,null,null,null,{"$f":"SUM(IF(B411=\"\",0,INDEX(SignalHeads[Perp. Wind Area (sft)],MATCH(B411,SignalHeads[Code],0))),IF(D411=\"\",0,INDEX(SignalHeads[Perp. Wind Area (sft)],MATCH(D411,SignalHeads[Code],0))),IF(E411=\"\",0,INDEX(SignalHeads[Perp. Wind Area (sft)],MATCH(E411,SignalHeads[Code],0))),IF(F411=\"\",0,INDEX(SignalHeads[Perp. Wind Area (sft)],MATCH(F411,SignalHeads[Code],0))),IF(G411=\"\",0,INDEX(SignalHeads[Perp. Wind Area (sft)],MATCH(G411,SignalHeads[Code],0))),IF(H411=\"\",0,INDEX(SignalHeads[Perp. Wind Area (sft)],MATCH(H411,SignalHeads[Code],0))),IF(I411=\"\",0,INDEX(SignalHeads[Perp. Wind Area (sft)],MATCH(I411,SignalHeads[Code],0))))","v":0},{"$f":"SUM(IF(B411=\"\",0,INDEX(SignalHeads[Weight*** (lbs)],MATCH(B411,SignalHeads[Code],0))),IF(D411=\"\",0,INDEX(SignalHeads[Weight*** (lbs)],MATCH(D411,SignalHeads[Code],0))),IF(E411=\"\",0,INDEX(SignalHeads[Weight*** (lbs)],MATCH(E411,SignalHeads[Code],0))),IF(F411=\"\",0,INDEX(SignalHeads[Weight*** (lbs)],MATCH(F411,SignalHeads[Code],0))),IF(G411=\"\",0,INDEX(SignalHeads[Weight*** (lbs)],MATCH(G411,SignalHeads[Code],0))),IF(H411=\"\",0,INDEX(SignalHeads[Weight*** (lbs)],MATCH(H411,SignalHeads[Code],0))),IF(I411=\"\",0,INDEX(SignalHeads[Weight*** (lbs)],MATCH(I411,SignalHeads[Code],0))))","v":0},{"$f":"IF(A411<=$I$8,INDEX(DesignConstants[Value],MATCH(\"Span Wire Weight (plf)\",DesignConstants[Design Constant],0)),0)","v":1.155},0,445.2525,{"$f":"O410-K411-L411","v":{"$error":"#VALUE!"}},{"$error":"#VALUE!"},{"$f":"Q410-P411","v":{"$error":"#N/A"}},{"$error":"#N/A"},{"$f":"SUM(IF(B411=\"\",0,INDEX(SignalHeads[Height ** (feet)],MATCH(B411,SignalHeads[Code],0))),IF(D411=\"\",0,INDEX(SignalHeads[Height ** (feet)],MATCH(D411,SignalHeads[Code],0))),IF(E411=\"\",0,INDEX(SignalHeads[Height ** (feet)],MATCH(E411,SignalHeads[Code],0))),IF(F411=\"\",0,INDEX(SignalHeads[Height ** (feet)],MATCH(F411,SignalHeads[Code],0))),IF(G411=\"\",0,INDEX(SignalHeads[Height ** (feet)],MATCH(G411,SignalHeads[Code],0))),IF(H411=\"\",0,INDEX(SignalHeads[Height ** (feet)],MATCH(H411,SignalHeads[Code],0))),IF(I411=\"\",0,INDEX(SignalHeads[Height ** (feet)],MATCH(I411,SignalHeads[Code],0))))","v":0},{"$f":"IF(S411=0,\"\",ROUNDDOWN(12*(((Q411-S411)-MIN($Q$26:$Q$425-$S$26:$S$425)-(MAX($S$26:$S$425*(($Q$26:$Q$425-$S$26:$S$425)=MIN($Q$26:$Q$425-$S$26:$S$425)))-S411))+(MIN($Q$26:$Q$425-$S$26:$S$425)-$I$10)),0)/12)","v":""},{"$f":"IF(T411=\"\",\"\",INT(T411)&\"'-\"&ROUND((T411-INT(T411))*12,0)&\"\"\"\")","v":""},{"$f":"IF(A411<=$I$8,Q411-S411-IF(ISNUMBER(T411),T411,0),\"\")","v":{"$error":"#N/A"}},17]
[387,null,null,null,null,null,null,null,null,{"$f":"SUM(IF(B412=\"\",0,INDEX(SignalHeads[Perp. Wind Area (sft)],MATCH(B412,SignalHeads[Code],0))),IF(D412=\"\",0,INDEX(SignalHeads[Perp. Wind Area (sft)],MATCH(D412,SignalHeads[Code],0))),IF(E412=\"\",0,INDEX(SignalHeads[Perp. Wind Area (sft)],MATCH(E412,SignalHeads[Code],0))),IF(F412=\"\",0,INDEX(SignalHeads[Perp. Wind Area (sft)],MATCH(F412,SignalHeads[Code],0))),IF(G412=\"\",0,INDEX(SignalHeads[Perp. Wind Area (sft)],MATCH(G412,SignalHeads[Code],0))),IF(H412=\"\",0,INDEX(SignalHeads[Perp. Wind Area (sft)],MATCH(H412,SignalHeads[Code],0))),IF(I412=\"\",0,INDEX(SignalHeads[Perp. Wind Area (sft)],MATCH(I412,SignalHeads[Code],0))))","v":0},{"$f":"SUM(IF(B412=\"\",0,INDEX(SignalHeads[Weight*** (lbs)],MATCH(B412,SignalHeads[Code],0))),IF(D412=\"\",0,INDEX(SignalHeads[Weight*** (lbs)],MATCH(D412,SignalHeads[Code],0))),IF(E412=\"\",0,INDEX(SignalHeads[Weight*** (lbs)],MATCH(E412,SignalHeads[Code],0))),IF(F412=\"\",0,INDEX(SignalHeads[Weight*** (lbs)],MATCH(F412,SignalHeads[Code],0))),IF(G412=\"\",0,INDEX(SignalHeads[Weight*** (lbs)],MATCH(G412,SignalHeads[Code],0))),IF(H412=\"\",0,INDEX(SignalHeads[Weight*** (lbs)],MATCH(H412,SignalHeads[Code],0))),IF(I412=\"\",0,INDEX(SignalHeads[Weight*** (lbs)],MATCH(I412,SignalHeads[Code],0))))","v":0},{"$f":"IF(A412<=$I$8,INDEX(DesignConstants[Value],MATCH(\"Span Wire Weight (plf)\",DesignConstants[Design Constant],0)),0)","v":1.155},0,446.40750000000003,{"$error":"#VALUE!"},{"$error":"#VALUE!"},{"$error":"#N/A"},{"$error":"#N/A"},{"$f":"SUM(IF(B412=\"\",0,INDEX(SignalHeads[Height ** (feet)],MATCH(B412,SignalHeads[Code],0))),IF(D412=\"\",0,INDEX(SignalHeads[Height ** (feet)],MATCH(D412,SignalHeads[Code],0))),IF(E412=\"\",0,INDEX(SignalHeads[Height ** (feet)],MATCH(E412,SignalHeads[Code],0))),IF(F412=\"\",0,INDEX(SignalHeads[Height ** (feet)],MATCH(F412,SignalHeads[Code],0))),IF(G412=\"\",0,INDEX(SignalHeads[Height ** (feet)],MATCH(G412,SignalHeads[Code],0))),IF(H412=\"\",0,INDEX(SignalHeads[Height ** (feet)],MATCH(H412,SignalHeads[Code],0))),IF(I412=\"\",0,INDEX(SignalHeads[Height ** (feet)],MATCH(I412,SignalHeads[Code],0))))","v":0},{"$f":"IF(S412=0,\"\",ROUNDDOWN(12*(((Q412-S412)-MIN($Q$26:$Q$425-$S$26:$S$425)-(MAX($S$26:$S$425*(($Q$26:$Q$425-$S$26:$S$425)=MIN($Q$26:$Q$425-$S$26:$S$425)))-S412))+(MIN($Q$26:$Q$425-$S$26:$S$425)-$I$10)),0)/12)","v":""},"",{"$error":"#N/A"},17]
[388,null,null,null,null,null,null,null,null,{"$f":"SUM(IF(B413=\"\",0,INDEX(SignalHeads[Perp. Wind Area (sft)],MATCH(B413,SignalHeads[Code],0))),IF(D413=\"\",0,INDEX(SignalHeads[Perp. Wind Area (sft)],MATCH(D413,SignalHeads[Code],0))),IF(E413=\"\",0,INDEX(SignalHeads[Perp. Wind Area (sft)],MATCH(E413,SignalHeads[Code],0))),IF(F413=\"\",0,INDEX(SignalHeads[Perp. Wind Area (sft)],MATCH(F413,SignalHeads[Code],0))),IF(G413=\"\",0,INDEX(SignalHeads[Perp. Wind Area (sft)],MATCH(G413,SignalHeads[Code],0))),IF(H413=\"\",0,INDEX(SignalHeads[Perp. Wind Area (sft)],MATCH(H413,SignalHeads[Code],0))),IF(I413=\"\",0,INDEX(SignalHeads[Perp. Wind Area (sft)],MATCH(I413,SignalHeads[Code],0))))","v":0},{"$f":"SUM(IF(B413=\"\",0,INDEX(SignalHeads[Weight*** (lbs)],MATCH(B413,SignalHeads[Code],0))),IF(D413=\"\",0,INDEX(SignalHeads[Weight*** (lbs)],MATCH(D413,SignalHeads[Code],0))),IF(E413=\"\",0,INDEX(SignalHeads[Weight*** (lbs)],MATCH(E413,SignalHeads[Code],0))),IF(F413=\"\",0,INDEX(SignalHeads[Weight*** (lbs)],MATCH(F413,SignalHeads[Code],0))),IF(G413=\"\",0,INDEX(SignalHeads[Weight*** (lbs)],MATCH(G413,SignalHeads[Code],0))),IF(H413=\"\",0,INDEX(SignalHeads[Weight*** (lbs)],MATCH(H413,SignalHeads[Code],0))),IF(I413=\"\",0,INDEX(SignalHeads[Weight*** (lbs)],MATCH(I413,SignalHeads[Code],0))))","v":0},{"$f":"IF(A413<=$I$8,INDEX(DesignConstants[Value],MATCH(\"Span Wire Weight (plf)\",DesignConstants[Design Constant],0)),0)","v":1.155},0,447.5625,{"$error":"#VALUE!"},{"$error":"#VALUE!"},{"$error":"#N/A"},{"$error":"#N/A"},{"$f":"SUM(IF(B413=\"\",0,INDEX(SignalHeads[Height ** (feet)],MATCH(B413,SignalHeads[Code],0))),IF(D413=\"\",0,INDEX(SignalHeads[Height ** (feet)],MATCH(D413,SignalHeads[Code],0))),IF(E413=\"\",0,INDEX(SignalHeads[Height ** (feet)],MATCH(E413,SignalHeads[Code],0))),IF(F413=\"\",0,INDEX(SignalHeads[Height ** (feet)],MATCH(F413,SignalHeads[Code],0))),IF(G413=\"\",0,INDEX(SignalHeads[Height ** (feet)],MATCH(G413,SignalHeads[Code],0))),IF(H413=\"\",0,INDEX(SignalHeads[Height ** (feet)],MATCH(H413,SignalHeads[Code],0))),IF(I413=\"\",0,INDEX(SignalHeads[Height ** (feet)],MATCH(I413,SignalHeads[Code],0))))","v":0},{"$f":"IF(S413=0,\"\",ROUNDDOWN(12*(((Q413-S413)-MIN($Q$26:$Q$425-$S$26:$S$425)-(MAX($S$26:$S$425*(($Q$26:$Q$425-$S$26:$S$425)=MIN($Q$26:$Q$425-$S$26:$S$425)))-S413))+(MIN($Q$26:$Q$425-$S$26:$S$425)-$I$10)),0)/12)","v":""},"",{"$error":"#N/A"},17]
[389,null,null,null,null,null,null,null,null,{"$f":"SUM(IF(B414=\"\",0,INDEX(SignalHeads[Perp. Wind Area (sft)],MATCH(B414,SignalHeads[Code],0))),IF(D414=\"\",0,INDEX(SignalHeads[Perp. Wind Area (sft)],MATCH(D414,SignalHeads[Code],0))),IF(E414=\"\",0,INDEX(SignalHeads[Perp. Wind Area (sft)],MATCH(E414,SignalHeads[Code],0))),IF(F414=\"\",0,INDEX(SignalHeads[Perp. Wind Area (sft)],MATCH(F414,SignalHeads[Code],0))),IF(G414=\"\",0,INDEX(SignalHeads[Perp. Wind Area (sft)],MATCH(G414,SignalHeads[Code],0))),IF(H414=\"\",0,INDEX(SignalHeads[Perp. Wind Area (sft)],MATCH(H414,SignalHeads[Code],0))),IF(I414=\"\",0,INDEX(SignalHeads[Perp. Wind Area (sft)],MATCH(I414,SignalHeads[Code],0))))","v":0},{"$f":"SUM(IF(B414=\"\",0,INDEX(SignalHeads[Weight*** (lbs)],MATCH(B414,SignalHeads[Code],0))),IF(D414=\"\",0,INDEX(SignalHeads[Weight*** (lbs)],MATCH(D414,SignalHeads[Code],0))),IF(E414=\"\",0,INDEX(SignalHeads[Weight*** (lbs)],MATCH(E414,SignalHeads[Code],0))),IF(F414=\"\",0,INDEX(SignalHeads[Weight*** (lbs)],MATCH(F414,SignalHeads[Code],0))),IF(G414=\"\",0,INDEX(SignalHeads[Weight*** (lbs)],MATCH(G414,SignalHeads[Code],0))),IF(H414=\"\",0,INDEX(SignalHeads[Weight*** (lbs)],MATCH(H414,SignalHeads[Code],0))),IF(I414=\"\",0,INDEX(SignalHeads[Weight*** (lbs)],MATCH(I414,SignalHeads[Code],0))))","v":0},{"$f":"IF(A414<=$I$8,INDEX(DesignConstants[Value],MATCH(\"Span Wire Weight (plf)\",DesignConstants[Design Constant],0)),0)","v":1.155},0,448.71750000000003,{"$error":"#VALUE!"},{"$error":"#VALUE!"},{"$error":"#N/A"},{"$error":"#N/A"},{"$f":"SUM(IF(B414=\"\",0,INDEX(SignalHeads[Height ** (feet)],MATCH(B414,SignalHeads[Code],0))),IF(D414=\"\",0,INDEX(SignalHeads[Height ** (feet)],MATCH(D414,SignalHeads[Code],0))),IF(E414=\"\",0,INDEX(SignalHeads[Height ** (feet)],MATCH(E414,SignalHeads[Code],0))),IF(F414=\"\",0,INDEX(SignalHeads[Height ** (feet)],MATCH(F414,SignalHeads[Code],0))),IF(G414=\"\",0,INDEX(SignalHeads[Height ** (feet)],MATCH(G414,SignalHeads[Code],0))),IF(H414=\"\",0,INDEX(SignalHeads[Height ** (feet)],MATCH(H414,SignalHeads[Code],0))),IF(I414=\"\",0,INDEX(SignalHeads[Height ** (feet)],MATCH(I414,SignalHeads[Code],0))))","v":0},{"$f":"IF(S414=0,\"\",ROUNDDOWN(12*(((Q414-S414)-MIN($Q$26:$Q$425-$S$26:$S$425)-(MAX($S$26:$S$425*(($Q$26:$Q$425-$S$26:$S$425)=MIN($Q$26:$Q$425-$S$26:$S$425)))-S414))+(MIN($Q$26:$Q$425-$S$26:$S$425)-$I$10)),0)/12)","v":""},"",{"$error":"#N/A"},17]
[390,null,null,null,null,null,null,null,null,{"$f":"SUM(IF(B415=\"\",0,INDEX(SignalHeads[Perp. Wind Area (sft)],MATCH(B415,SignalHeads[Code],0))),IF(D415=\"\",0,INDEX(SignalHeads[Perp. Wind Area (sft)],MATCH(D415,SignalHeads[Code],0))),IF(E415=\"\",0,INDEX(SignalHeads[Perp. Wind Area (sft)],MATCH(E415,SignalHeads[Code],0))),IF(F415=\"\",0,INDEX(SignalHeads[Perp. Wind Area (sft)],MATCH(F415,SignalHeads[Code],0))),IF(G415=\"\",0,INDEX(SignalHeads[Perp. Wind Area (sft)],MATCH(G415,SignalHeads[Code],0))),IF(H415=\"\",0,INDEX(SignalHeads[Perp. Wind Area (sft)],MATCH(H415,SignalHeads[Code],0))),IF(I415=\"\",0,INDEX(SignalHeads[Perp. Wind Area (sft)],MATCH(I415,SignalHeads[Code],0))))","v":0},{"$f":"SUM(IF(B415=\"\",0,INDEX(SignalHeads[Weight*** (lbs)],MATCH(B415,SignalHeads[Code],0))),IF(D415=\"\",0,INDEX(SignalHeads[Weight*** (lbs)],MATCH(D415,SignalHeads[Code],0))),IF(E415=\"\",0,INDEX(SignalHeads[Weight*** (lbs)],MATCH(E415,SignalHeads[Code],0))),IF(F415=\"\",0,INDEX(SignalHeads[Weight*** (lbs)],MATCH(F415,SignalHeads[Code],0))),IF(G415=\"\",0,INDEX(SignalHeads[Weight*** (lbs)],MATCH(G415,SignalHeads[Code],0))),IF(H415=\"\",0,INDEX(SignalHeads[Weight*** (lbs)],MATCH(H415,SignalHeads[Code],0))),IF(I415=\"\",0,INDEX(SignalHeads[Weight*** (lbs)],MATCH(I415,SignalHeads[Code],0))))","v":0},{"$f":"IF(A415<=$I$8,INDEX(DesignConstants[Value],MATCH(\"Span Wire Weight (plf)\",DesignConstants[Design Constant],0)),0)","v":1.155},0,449.8725,{"$error":"#VALUE!"},{"$error":"#VALUE!"},{"$error":"#N/A"},{"$error":"#N/A"},{"$f":"SUM(IF(B415=\"\",0,INDEX(SignalHeads[Height ** (feet)],MATCH(B415,SignalHeads[Code],0))),IF(D415=\"\",0,INDEX(SignalHeads[Height ** (feet)],MATCH(D415,SignalHeads[Code],0))),IF(E415=\"\",0,INDEX(SignalHeads[Height ** (feet)],MATCH(E415,SignalHeads[Code],0))),IF(F415=\"\",0,INDEX(SignalHeads[Height ** (feet)],MATCH(F415,SignalHeads[Code],0))),IF(G415=\"\",0,INDEX(SignalHeads[Height ** (feet)],MATCH(G415,SignalHeads[Code],0))),IF(H415=\"\",0,INDEX(SignalHeads[Height ** (feet)],MATCH(H415,SignalHeads[Code],0))),IF(I415=\"\",0,INDEX(SignalHeads[Height ** (feet)],MATCH(I415,SignalHeads[Code],0))))","v":0},{"$f":"IF(S415=0,\"\",ROUNDDOWN(12*(((Q415-S415)-MIN($Q$26:$Q$425-$S$26:$S$425)-(MAX($S$26:$S$425*(($Q$26:$Q$425-$S$26:$S$425)=MIN($Q$26:$Q$425-$S$26:$S$425)))-S415))+(MIN($Q$26:$Q$425-$S$26:$S$425)-$I$10)),0)/12)","v":""},"",{"$error":"#N/A"},17]
[391,null,null,null,null,null,null,null,null,{"$f":"SUM(IF(B416=\"\",0,INDEX(SignalHeads[Perp. Wind Area (sft)],MATCH(B416,SignalHeads[Code],0))),IF(D416=\"\",0,INDEX(SignalHeads[Perp. Wind Area (sft)],MATCH(D416,SignalHeads[Code],0))),IF(E416=\"\",0,INDEX(SignalHeads[Perp. Wind Area (sft)],MATCH(E416,SignalHeads[Code],0))),IF(F416=\"\",0,INDEX(SignalHeads[Perp. Wind Area (sft)],MATCH(F416,SignalHeads[Code],0))),IF(G416=\"\",0,INDEX(SignalHeads[Perp. Wind Area (sft)],MATCH(G416,SignalHeads[Code],0))),IF(H416=\"\",0,INDEX(SignalHeads[Perp. Wind Area (sft)],MATCH(H416,SignalHeads[Code],0))),IF(I416=\"\",0,INDEX(SignalHeads[Perp. Wind Area (sft)],MATCH(I416,SignalHeads[Code],0))))","v":0},{"$f":"SUM(IF(B416=\"\",0,INDEX(SignalHeads[Weight*** (lbs)],MATCH(B416,SignalHeads[Code],0))),IF(D416=\"\",0,INDEX(SignalHeads[Weight*** (lbs)],MATCH(D416,SignalHeads[Code],0))),IF(E416=\"\",0,INDEX(SignalHeads[Weight*** (lbs)],MATCH(E416,SignalHeads[Code],0))),IF(F416=\"\",0,INDEX(SignalHeads[Weight*** (lbs)],MATCH(F416,SignalHeads[Code],0))),IF(G416=\"\",0,INDEX(SignalHeads[Weight*** (lbs)],MATCH(G416,SignalHeads[Code],0))),IF(H416=\"\",0,INDEX(SignalHeads[Weight*** (lbs)],MATCH(H416,SignalHeads[Code],0))),IF(I416=\"\",0,INDEX(SignalHeads[Weight*** (lbs)],MATCH(I416,SignalHeads[Code],0))))","v":0},{"$f":"IF(A416<=$I$8,INDEX(DesignConstants[Value],MATCH(\"Span Wire Weight (plf)\",DesignConstants[Design Constant],0)),0)","v":1.155},0,451.02750000000003,{"$error":"#VALUE!"},{"$error":"#VALUE!"},{"$error":"#N/A"},{"$error":"#N/A"},{"$f":"SUM(IF(B416=\"\",0,INDEX(SignalHeads[Height ** (feet)],MATCH(B416,SignalHeads[Code],0))),IF(D416=\"\",0,INDEX(SignalHeads[Height ** (feet)],MATCH(D416,SignalHeads[Code],0))),IF(E416=\"\",0,INDEX(SignalHeads[Height ** (feet)],MATCH(E416,SignalHeads[Code],0))),IF(F416=\"\",0,INDEX(SignalHeads[Height ** (feet)],MATCH(F416,SignalHeads[Code],0))),IF(G416=\"\",0,INDEX(SignalHeads[Height ** (feet)],MATCH(G416,SignalHeads[Code],0))),IF(H416=\"\",0,INDEX(SignalHeads[Height ** (feet)],MATCH(H416,SignalHeads[Code],0))),IF(I416=\"\",0,INDEX(SignalHeads[Height ** (feet)],MATCH(I416,SignalHeads[Code],0))))","v":0},{"$f":"IF(S416=0,\"\",ROUNDDOWN(12*(((Q416-S416)-MIN($Q$26:$Q$425-$S$26:$S$425)-(MAX($S$26:$S$425*(($Q$26:$Q$425-$S$26:$S$425)=MIN($Q$26:$Q$425-$S$26:$S$425)))-S416))+(MIN($Q$26:$Q$425-$S$26:$S$425)-$I$10)),0)/12)","v":""},"",{"$error":"#N/A"},17]
[392,null,null,null,null,null,null,null,null,{"$f":"SUM(IF(B417=\"\",0,INDEX(SignalHeads[Perp. Wind Area (sft)],MATCH(B417,SignalHeads[Code],0))),IF(D417=\"\",0,INDEX(SignalHeads[Perp. Wind Area (sft)],MATCH(D417,SignalHeads[Code],0))),IF(E417=\"\",0,INDEX(SignalHeads[Perp. Wind Area (sft)],MATCH(E417,SignalHeads[Code],0))),IF(F417=\"\",0,INDEX(SignalHeads[Perp. Wind Area (sft)],MATCH(F417,SignalHeads[Code],0))),IF(G417=\"\",0,INDEX(SignalHeads[Perp. Wind Area (sft)],MATCH(G417,SignalHeads[Code],0))),IF(H417=\"\",0,INDEX(SignalHeads[Perp. Wind Area (sft)],MATCH(H417,SignalHeads[Code],0))),IF(I417=\"\",0,INDEX(SignalHeads[Perp. Wind Area (sft)],MATCH(I417,SignalHeads[Code],0))))","v":0},{"$f":"SUM(IF(B417=\"\",0,INDEX(SignalHeads[Weight*** (lbs)],MATCH(B417,SignalHeads[Code],0))),IF(D417=\"\",0,INDEX(SignalHeads[Weight*** (lbs)],MATCH(D417,SignalHeads[Code],0))),IF(E417=\"\",0,INDEX(SignalHeads[Weight*** (lbs)],MATCH(E417,SignalHeads[Code],0))),IF(F417=\"\",0,INDEX(SignalHeads[Weight*** (lbs)],MATCH(F417,SignalHeads[Code],0))),IF(G417=\"\",0,INDEX(SignalHeads[Weight*** (lbs)],MATCH(G417,SignalHeads[Code],0))),IF(H417=\"\",0,INDEX(SignalHeads[Weight*** (lbs)],MATCH(H417,SignalHeads[Code],0))),IF(I417=\"\",0,INDEX(SignalHeads[Weight*** (lbs)],MATCH(I417,SignalHeads[Code],0))))","v":0},{"$f":"IF(A417<=$I$8,INDEX(DesignConstants[Value],MATCH(\"Span Wire Weight (plf)\",DesignConstants[Design Constant],0)),0)","v":1.155},0,452.1825,{"$error":"#VALUE!"},{"$error":"#VALUE!"},{"$error":"#N/A"},{"$error":"#N/A"},{"$f":"SUM(IF(B417=\"\",0,INDEX(SignalHeads[Height ** (feet)],MATCH(B417,SignalHeads[Code],0))),IF(D417=\"\",0,INDEX(SignalHeads[Height ** (feet)],MATCH(D417,SignalHeads[Code],0))),IF(E417=\"\",0,INDEX(SignalHeads[Height ** (feet)],MATCH(E417,SignalHeads[Code],0))),IF(F417=\"\",0,INDEX(SignalHeads[Height ** (feet)],MATCH(F417,SignalHeads[Code],0))),IF(G417=\"\",0,INDEX(SignalHeads[Height ** (feet)],MATCH(G417,SignalHeads[Code],0))),IF(H417=\"\",0,INDEX(SignalHeads[Height ** (feet)],MATCH(H417,SignalHeads[Code],0))),IF(I417=\"\",0,INDEX(SignalHeads[Height ** (feet)],MATCH(I417,SignalHeads[Code],0))))","v":0},{"$f":"IF(S417=0,\"\",ROUNDDOWN(12*(((Q417-S417)-MIN($Q$26:$Q$425-$S$26:$S$425)-(MAX($S$26:$S$425*(($Q$26:$Q$425-$S$26:$S$425)=MIN($Q$26:$Q$425-$S$26:$S$425)))-S417))+(MIN($Q$26:$Q$425-$S$26:$S$425)-$I$10)),0)/12)","v":""},"",{"$error":"#N/A"},17]
[393,null,null,null,null,null,null,null,null,{"$f":"SUM(IF(B418=\"\",0,INDEX(SignalHeads[Perp. Wind Area (sft)],MATCH(B418,SignalHeads[Code],0))),IF(D418=\"\",0,INDEX(SignalHeads[Perp. Wind Area (sft)],MATCH(D418,SignalHeads[Code],0))),IF(E418=\"\",0,INDEX(SignalHeads[Perp. Wind Area (sft)],MATCH(E418,SignalHeads[Code],0))),IF(F418=\"\",0,INDEX(SignalHeads[Perp. Wind Area (sft)],MATCH(F418,SignalHeads[Code],0))),IF(G418=\"\",0,INDEX(SignalHeads[Perp. Wind Area (sft)],MATCH(G418,SignalHeads[Code],0))),IF(H418=\"\",0,INDEX(SignalHeads[Perp. Wind Area (sft)],MATCH(H418,SignalHeads[Code],0))),IF(I418=\"\",0,INDEX(SignalHeads[Perp. Wind Area (sft)],MATCH(I418,SignalHeads[Code],0))))","v":0},{"$f":"SUM(IF(B418=\"\",0,INDEX(SignalHeads[Weight*** (lbs)],MATCH(B418,SignalHeads[Code],0))),IF(D418=\"\",0,INDEX(SignalHeads[Weight*** (lbs)],MATCH(D418,SignalHeads[Code],0))),IF(E418=\"\",0,INDEX(SignalHeads[Weight*** (lbs)],MATCH(E418,SignalHeads[Code],0))),IF(F418=\"\",0,INDEX(SignalHeads[Weight*** (lbs)],MATCH(F418,SignalHeads[Code],0))),IF(G418=\"\",0,INDEX(SignalHeads[Weight*** (lbs)],MATCH(G418,SignalHeads[Code],0))),IF(H418=\"\",0,INDEX(SignalHeads[Weight*** (lbs)],MATCH(H418,SignalHeads[Code],0))),IF(I418=\"\",0,INDEX(SignalHeads[Weight*** (lbs)],MATCH(I418,SignalHeads[Code],0))))","v":0},{"$f":"IF(A418<=$I$8,INDEX(DesignConstants[Value],MATCH(\"Span Wire Weight (plf)\",DesignConstants[Design Constant],0)),0)","v":1.155},0,453.33750000000003,{"$error":"#VALUE!"},{"$error":"#VALUE!"},{"$error":"#N/A"},{"$error":"#N/A"},{"$f":"SUM(IF(B418=\"\",0,INDEX(SignalHeads[Height ** (feet)],MATCH(B418,SignalHeads[Code],0))),IF(D418=\"\",0,INDEX(SignalHeads[Height ** (feet)],MATCH(D418,SignalHeads[Code],0))),IF(E418=\"\",0,INDEX(SignalHeads[Height ** (feet)],MATCH(E418,SignalHeads[Code],0))),IF(F418=\"\",0,INDEX(SignalHeads[Height ** (feet)],MATCH(F418,SignalHeads[Code],0))),IF(G418=\"\",0,INDEX(SignalHeads[Height ** (feet)],MATCH(G418,SignalHeads[Code],0))),IF(H418=\"\",0,INDEX(SignalHeads[Height ** (feet)],MATCH(H418,SignalHeads[Code],0))),IF(I418=\"\",0,INDEX(SignalHeads[Height ** (feet)],MATCH(I418,SignalHeads[Code],0))))","v":0},{"$f":"IF(S418=0,\"\",ROUNDDOWN(12*(((Q418-S418)-MIN($Q$26:$Q$425-$S$26:$S$425)-(MAX($S$26:$S$425*(($Q$26:$Q$425-$S$26:$S$425)=MIN($Q$26:$Q$425-$S$26:$S$425)))-S418))+(MIN($Q$26:$Q$425-$S$26:$S$425)-$I$10)),0)/12)","v":""},"",{"$error":"#N/A"},17]
[394,null,null,null,null,null,null,null,null,{"$f":"SUM(IF(B419=\"\",0,INDEX(SignalHeads[Perp. Wind Area (sft)],MATCH(B419,SignalHeads[Code],0))),IF(D419=\"\",0,INDEX(SignalHeads[Perp. Wind Area (sft)],MATCH(D419,SignalHeads[Code],0))),IF(E419=\"\",0,INDEX(SignalHeads[Perp. Wind Area (sft)],MATCH(E419,SignalHeads[Code],0))),IF(F419=\"\",0,INDEX(SignalHeads[Perp. Wind Area (sft)],MATCH(F419,SignalHeads[Code],0))),IF(G419=\"\",0,INDEX(SignalHeads[Perp. Wind Area (sft)],MATCH(G419,SignalHeads[Code],0))),IF(H419=\"\",0,INDEX(SignalHeads[Perp. Wind Area (sft)],MATCH(H419,SignalHeads[Code],0))),IF(I419=\"\",0,INDEX(SignalHeads[Perp. Wind Area (sft)],MATCH(I419,SignalHeads[Code],0))))","v":0},{"$f":"SUM(IF(B419=\"\",0,INDEX(SignalHeads[Weight*** (lbs)],MATCH(B419,SignalHeads[Code],0))),IF(D419=\"\",0,INDEX(SignalHeads[Weight*** (lbs)],MATCH(D419,SignalHeads[Code],0))),IF(E419=\"\",0,INDEX(SignalHeads[Weight*** (lbs)],MATCH(E419,SignalHeads[Code],0))),IF(F419=\"\",0,INDEX(SignalHeads[Weight*** (lbs)],MATCH(F419,SignalHeads[Code],0))),IF(G419=\"\",0,INDEX(SignalHeads[Weight*** (lbs)],MATCH(G419,SignalHeads[Code],0))),IF(H419=\"\",0,INDEX(SignalHeads[Weight*** (lbs)],MATCH(H419,SignalHeads[Code],0))),IF(I419=\"\",0,INDEX(SignalHeads[Weight*** (lbs)],MATCH(I419,SignalHeads[Code],0))))","v":0},{"$f":"IF(A419<=$I$8,INDEX(DesignConstants[Value],MATCH(\"Span Wire Weight (plf)\",DesignConstants[Design Constant],0)),0)","v":1.155},0,454.49250000000001,{"$error":"#VALUE!"},{"$error":"#VALUE!"},{"$error":"#N/A"},{"$error":"#N/A"},{"$f":"SUM(IF(B419=\"\",0,INDEX(SignalHeads[Height ** (feet)],MATCH(B419,SignalHeads[Code],0))),IF(D419=\"\",0,INDEX(SignalHeads[Height ** (feet)],MATCH(D419,SignalHeads[Code],0))),IF(E419=\"\",0,INDEX(SignalHeads[Height ** (feet)],MATCH(E419,SignalHeads[Code],0))),IF(F419=\"\",0,INDEX(SignalHeads[Height ** (feet)],MATCH(F419,SignalHeads[Code],0))),IF(G419=\"\",0,INDEX(SignalHeads[Height ** (feet)],MATCH(G419,SignalHeads[Code],0))),IF(H419=\"\",0,INDEX(SignalHeads[Height ** (feet)],MATCH(H419,SignalHeads[Code],0))),IF(I419=\"\",0,INDEX(SignalHeads[Height ** (feet)],MATCH(I419,SignalHeads[Code],0))))","v":0},{"$f":"IF(S419=0,\"\",ROUNDDOWN(12*(((Q419-S419)-MIN($Q$26:$Q$425-$S$26:$S$425)-(MAX($S$26:$S$425*(($Q$26:$Q$425-$S$26:$S$425)=MIN($Q$26:$Q$425-$S$26:$S$425)))-S419))+(MIN($Q$26:$Q$425-$S$26:$S$425)-$I$10)),0)/12)","v":""},"",{"$error":"#N/A"},17]
[395,null,null,null,null,null,null,null,null,{"$f":"SUM(IF(B420=\"\",0,INDEX(SignalHeads[Perp. Wind Area (sft)],MATCH(B420,SignalHeads[Code],0))),IF(D420=\"\",0,INDEX(SignalHeads[Perp. Wind Area (sft)],MATCH(D420,SignalHeads[Code],0))),IF(E420=\"\",0,INDEX(SignalHeads[Perp. Wind Area (sft)],MATCH(E420,SignalHeads[Code],0))),IF(F420=\"\",0,INDEX(SignalHeads[Perp. Wind Area (sft)],MATCH(F420,SignalHeads[Code],0))),IF(G420=\"\",0,INDEX(SignalHeads[Perp. Wind Area (sft)],MATCH(G420,SignalHeads[Code],0))),IF(H420=\"\",0,INDEX(SignalHeads[Perp. Wind Area (sft)],MATCH(H420,SignalHeads[Code],0))),IF(I420=\"\",0,INDEX(SignalHeads[Perp. Wind Area (sft)],MATCH(I420,SignalHeads[Code],0))))","v":0},{"$f":"SUM(IF(B420=\"\",0,INDEX(SignalHeads[Weight*** (lbs)],MATCH(B420,SignalHeads[Code],0))),IF(D420=\"\",0,INDEX(SignalHeads[Weight*** (lbs)],MATCH(D420,SignalHeads[Code],0))),IF(E420=\"\",0,INDEX(SignalHeads[Weight*** (lbs)],MATCH(E420,SignalHeads[Code],0))),IF(F420=\"\",0,INDEX(SignalHeads[Weight*** (lbs)],MATCH(F420,SignalHeads[Code],0))),IF(G420=\"\",0,INDEX(SignalHeads[Weight*** (lbs)],MATCH(G420,SignalHeads[Code],0))),IF(H420=\"\",0,INDEX(SignalHeads[Weight*** (lbs)],MATCH(H420,SignalHeads[Code],0))),IF(I420=\"\",0,INDEX(SignalHeads[Weight*** (lbs)],MATCH(I420,SignalHeads[Code],0))))","v":0},{"$f":"IF(A420<=$I$8,INDEX(DesignConstants[Value],MATCH(\"Span Wire Weight (plf)\",DesignConstants[Design Constant],0)),0)","v":1.155},0,455.64750000000004,{"$error":"#VALUE!"},{"$error":"#VALUE!"},{"$error":"#N/A"},{"$error":"#N/A"},{"$f":"SUM(IF(B420=\"\",0,INDEX(SignalHeads[Height ** (feet)],MATCH(B420,SignalHeads[Code],0))),IF(D420=\"\",0,INDEX(SignalHeads[Height ** (feet)],MATCH(D420,SignalHeads[Code],0))),IF(E420=\"\",0,INDEX(SignalHeads[Height ** (feet)],MATCH(E420,SignalHeads[Code],0))),IF(F420=\"\",0,INDEX(SignalHeads[Height ** (feet)],MATCH(F420,SignalHeads[Code],0))),IF(G420=\"\",0,INDEX(SignalHeads[Height ** (feet)],MATCH(G420,SignalHeads[Code],0))),IF(H420=\"\",0,INDEX(SignalHeads[Height ** (feet)],MATCH(H420,SignalHeads[Code],0))),IF(I420=\"\",0,INDEX(SignalHeads[Height ** (feet)],MATCH(I420,SignalHeads[Code],0))))","v":0},{"$f":"IF(S420=0,\"\",ROUNDDOWN(12*(((Q420-S420)-MIN($Q$26:$Q$425-$S$26:$S$425)-(MAX($S$26:$S$425*(($Q$26:$Q$425-$S$26:$S$425)=MIN($Q$26:$Q$425-$S$26:$S$425)))-S420))+(MIN($Q$26:$Q$425-$S$26:$S$425)-$I$10)),0)/12)","v":""},"",{"$error":"#N/A"},17]
[396,null,null,null,null,null,null,null,null,{"$f":"SUM(IF(B421=\"\",0,INDEX(SignalHeads[Perp. Wind Area (sft)],MATCH(B421,SignalHeads[Code],0))),IF(D421=\"\",0,INDEX(SignalHeads[Perp. Wind Area (sft)],MATCH(D421,SignalHeads[Code],0))),IF(E421=\"\",0,INDEX(SignalHeads[Perp. Wind Area (sft)],MATCH(E421,SignalHeads[Code],0))),IF(F421=\"\",0,INDEX(SignalHeads[Perp. Wind Area (sft)],MATCH(F421,SignalHeads[Code],0))),IF(G421=\"\",0,INDEX(SignalHeads[Perp. Wind Area (sft)],MATCH(G421,SignalHeads[Code],0))),IF(H421=\"\",0,INDEX(SignalHeads[Perp. Wind Area (sft)],MATCH(H421,SignalHeads[Code],0))),IF(I421=\"\",0,INDEX(SignalHeads[Perp. Wind Area (sft)],MATCH(I421,SignalHeads[Code],0))))","v":0},{"$f":"SUM(IF(B421=\"\",0,INDEX(SignalHeads[Weight*** (lbs)],MATCH(B421,SignalHeads[Code],0))),IF(D421=\"\",0,INDEX(SignalHeads[Weight*** (lbs)],MATCH(D421,SignalHeads[Code],0))),IF(E421=\"\",0,INDEX(SignalHeads[Weight*** (lbs)],MATCH(E421,SignalHeads[Code],0))),IF(F421=\"\",0,INDEX(SignalHeads[Weight*** (lbs)],MATCH(F421,SignalHeads[Code],0))),IF(G421=\"\",0,INDEX(SignalHeads[Weight*** (lbs)],MATCH(G421,SignalHeads[Code],0))),IF(H421=\"\",0,INDEX(SignalHeads[Weight*** (lbs)],MATCH(H421,SignalHeads[Code],0))),IF(I421=\"\",0,INDEX(SignalHeads[Weight*** (lbs)],MATCH(I421,SignalHeads[Code],0))))","v":0},{"$f":"IF(A421<=$I$8,INDEX(DesignConstants[Value],MATCH(\"Span Wire Weight (plf)\",DesignConstants[Design Constant],0)),0)","v":1.155},0,456.80250000000001,{"$error":"#VALUE!"},{"$error":"#VALUE!"},{"$error":"#N/A"},{"$error":"#N/A"},{"$f":"SUM(IF(B421=\"\",0,INDEX(SignalHeads[Height ** (feet)],MATCH(B421,SignalHeads[Code],0))),IF(D421=\"\",0,INDEX(SignalHeads[Height ** (feet)],MATCH(D421,SignalHeads[Code],0))),IF(E421=\"\",0,INDEX(SignalHeads[Height ** (feet)],MATCH(E421,SignalHeads[Code],0))),IF(F421=\"\",0,INDEX(SignalHeads[Height ** (feet)],MATCH(F421,SignalHeads[Code],0))),IF(G421=\"\",0,INDEX(SignalHeads[Height ** (feet)],MATCH(G421,SignalHeads[Code],0))),IF(H421=\"\",0,INDEX(SignalHeads[Height ** (feet)],MATCH(H421,SignalHeads[Code],0))),IF(I421=\"\",0,INDEX(SignalHeads[Height ** (feet)],MATCH(I421,SignalHeads[Code],0))))","v":0},{"$f":"IF(S421=0,\"\",ROUNDDOWN(12*(((Q421-S421)-MIN($Q$26:$Q$425-$S$26:$S$425)-(MAX($S$26:$S$425*(($Q$26:$Q$425-$S$26:$S$425)=MIN($Q$26:$Q$425-$S$26:$S$425)))-S421))+(MIN($Q$26:$Q$425-$S$26:$S$425)-$I$10)),0)/12)","v":""},"",{"$error":"#N/A"},17]
[397,null,null,null,null,null,null,null,null,{"$f":"SUM(IF(B422=\"\",0,INDEX(SignalHeads[Perp. Wind Area (sft)],MATCH(B422,SignalHeads[Code],0))),IF(D422=\"\",0,INDEX(SignalHeads[Perp. Wind Area (sft)],MATCH(D422,SignalHeads[Code],0))),IF(E422=\"\",0,INDEX(SignalHeads[Perp. Wind Area (sft)],MATCH(E422,SignalHeads[Code],0))),IF(F422=\"\",0,INDEX(SignalHeads[Perp. Wind Area (sft)],MATCH(F422,SignalHeads[Code],0))),IF(G422=\"\",0,INDEX(SignalHeads[Perp. Wind Area (sft)],MATCH(G422,SignalHeads[Code],0))),IF(H422=\"\",0,INDEX(SignalHeads[Perp. Wind Area (sft)],MATCH(H422,SignalHeads[Code],0))),IF(I422=\"\",0,INDEX(SignalHeads[Perp. Wind Area (sft)],MATCH(I422,SignalHeads[Code],0))))","v":0},{"$f":"SUM(IF(B422=\"\",0,INDEX(SignalHeads[Weight*** (lbs)],MATCH(B422,SignalHeads[Code],0))),IF(D422=\"\",0,INDEX(SignalHeads[Weight*** (lbs)],MATCH(D422,SignalHeads[Code],0))),IF(E422=\"\",0,INDEX(SignalHeads[Weight*** (lbs)],MATCH(E422,SignalHeads[Code],0))),IF(F422=\"\",0,INDEX(SignalHeads[Weight*** (lbs)],MATCH(F422,SignalHeads[Code],0))),IF(G422=\"\",0,INDEX(SignalHeads[Weight*** (lbs)],MATCH(G422,SignalHeads[Code],0))),IF(H422=\"\",0,INDEX(SignalHeads[Weight*** (lbs)],MATCH(H422,SignalHeads[Code],0))),IF(I422=\"\",0,INDEX(SignalHeads[Weight*** (lbs)],MATCH(I422,SignalHeads[Code],0))))","v":0},{"$f":"IF(A422<=$I$8,INDEX(DesignConstants[Value],MATCH(\"Span Wire Weight (plf)\",DesignConstants[Design Constant],0)),0)","v":1.155},0,457.95750000000004,{"$error":"#VALUE!"},{"$error":"#VALUE!"},{"$error":"#N/A"},{"$error":"#N/A"},{"$f":"SUM(IF(B422=\"\",0,INDEX(SignalHeads[Height ** (feet)],MATCH(B422,SignalHeads[Code],0))),IF(D422=\"\",0,INDEX(SignalHeads[Height ** (feet)],MATCH(D422,SignalHeads[Code],0))),IF(E422=\"\",0,INDEX(SignalHeads[Height ** (feet)],MATCH(E422,SignalHeads[Code],0))),IF(F422=\"\",0,INDEX(SignalHeads[Height ** (feet)],MATCH(F422,SignalHeads[Code],0))),IF(G422=\"\",0,INDEX(SignalHeads[Height ** (feet)],MATCH(G422,SignalHeads[Code],0))),IF(H422=\"\",0,INDEX(SignalHeads[Height ** (feet)],MATCH(H422,SignalHeads[Code],0))),IF(I422=\"\",0,INDEX(SignalHeads[Height ** (feet)],MATCH(I422,SignalHeads[Code],0))))","v":0},{"$f":"IF(S422=0,\"\",ROUNDDOWN(12*(((Q422-S422)-MIN($Q$26:$Q$425-$S$26:$S$425)-(MAX($S$26:$S$425*(($Q$26:$Q$425-$S$26:$S$425)=MIN($Q$26:$Q$425-$S$26:$S$425)))-S422))+(MIN($Q$26:$Q$425-$S$26:$S$425)-$I$10)),0)/12)","v":""},"",{"$error":"#N/A"},17]
[398,null,null,null,null,null,null,null,null,{"$f":"SUM(IF(B423=\"\",0,INDEX(SignalHeads[Perp. Wind Area (sft)],MATCH(B423,SignalHeads[Code],0))),IF(D423=\"\",0,INDEX(SignalHeads[Perp. Wind Area (sft)],MATCH(D423,SignalHeads[Code],0))),IF(E423=\"\",0,INDEX(SignalHeads[Perp. Wind Area (sft)],MATCH(E423,SignalHeads[Code],0))),IF(F423=\"\",0,INDEX(SignalHeads[Perp. Wind Area (sft)],MATCH(F423,SignalHeads[Code],0))),IF(G423=\"\",0,INDEX(SignalHeads[Perp. Wind Area (sft)],MATCH(G423,SignalHeads[Code],0))),IF(H423=\"\",0,INDEX(SignalHeads[Perp. Wind Area (sft)],MATCH(H423,SignalHeads[Code],0))),IF(I423=\"\",0,INDEX(SignalHeads[Perp. Wind Area (sft)],MATCH(I423,SignalHeads[Code],0))))","v":0},{"$f":"SUM(IF(B423=\"\",0,INDEX(SignalHeads[Weight*** (lbs)],MATCH(B423,SignalHeads[Code],0))),IF(D423=\"\",0,INDEX(SignalHeads[Weight*** (lbs)],MATCH(D423,SignalHeads[Code],0))),IF(E423=\"\",0,INDEX(SignalHeads[Weight*** (lbs)],MATCH(E423,SignalHeads[Code],0))),IF(F423=\"\",0,INDEX(SignalHeads[Weight*** (lbs)],MATCH(F423,SignalHeads[Code],0))),IF(G423=\"\",0,INDEX(SignalHeads[Weight*** (lbs)],MATCH(G423,SignalHeads[Code],0))),IF(H423=\"\",0,INDEX(SignalHeads[Weight*** (lbs)],MATCH(H423,SignalHeads[Code],0))),IF(I423=\"\",0,INDEX(SignalHeads[Weight*** (lbs)],MATCH(I423,SignalHeads[Code],0))))","v":0},{"$f":"IF(A423<=$I$8,INDEX(DesignConstants[Value],MATCH(\"Span Wire Weight (plf)\",DesignConstants[Design Constant],0)),0)","v":1.155},0,459.11250000000001,{"$error":"#VALUE!"},{"$error":"#VALUE!"},{"$error":"#N/A"},{"$error":"#N/A"},{"$f":"SUM(IF(B423=\"\",0,INDEX(SignalHeads[Height ** (feet)],MATCH(B423,SignalHeads[Code],0))),IF(D423=\"\",0,INDEX(SignalHeads[Height ** (feet)],MATCH(D423,SignalHeads[Code],0))),IF(E423=\"\",0,INDEX(SignalHeads[Height ** (feet)],MATCH(E423,SignalHeads[Code],0))),IF(F423=\"\",0,INDEX(SignalHeads[Height ** (feet)],MATCH(F423,SignalHeads[Code],0))),IF(G423=\"\",0,INDEX(SignalHeads[Height ** (feet)],MATCH(G423,SignalHeads[Code],0))),IF(H423=\"\",0,INDEX(SignalHeads[Height ** (feet)],MATCH(H423,SignalHeads[Code],0))),IF(I423=\"\",0,INDEX(SignalHeads[Height ** (feet)],MATCH(I423,SignalHeads[Code],0))))","v":0},{"$f":"IF(S423=0,\"\",ROUNDDOWN(12*(((Q423-S423)-MIN($Q$26:$Q$425-$S$26:$S$425)-(MAX($S$26:$S$425*(($Q$26:$Q$425-$S$26:$S$425)=MIN($Q$26:$Q$425-$S$26:$S$425)))-S423))+(MIN($Q$26:$Q$425-$S$26:$S$425)-$I$10)),0)/12)","v":""},"",{"$error":"#N/A"},17]
[399,null,null,null,null,null,null,null,null,{"$f":"SUM(IF(B424=\"\",0,INDEX(SignalHeads[Perp. Wind Area (sft)],MATCH(B424,SignalHeads[Code],0))),IF(D424=\"\",0,INDEX(SignalHeads[Perp. Wind Area (sft)],MATCH(D424,SignalHeads[Code],0))),IF(E424=\"\",0,INDEX(SignalHeads[Perp. Wind Area (sft)],MATCH(E424,SignalHeads[Code],0))),IF(F424=\"\",0,INDEX(SignalHeads[Perp. Wind Area (sft)],MATCH(F424,SignalHeads[Code],0))),IF(G424=\"\",0,INDEX(SignalHeads[Perp. Wind Area (sft)],MATCH(G424,SignalHeads[Code],0))),IF(H424=\"\",0,INDEX(SignalHeads[Perp. Wind Area (sft)],MATCH(H424,SignalHeads[Code],0))),IF(I424=\"\",0,INDEX(SignalHeads[Perp. Wind Area (sft)],MATCH(I424,SignalHeads[Code],0))))","v":0},{"$f":"SUM(IF(B424=\"\",0,INDEX(SignalHeads[Weight*** (lbs)],MATCH(B424,SignalHeads[Code],0))),IF(D424=\"\",0,INDEX(SignalHeads[Weight*** (lbs)],MATCH(D424,SignalHeads[Code],0))),IF(E424=\"\",0,INDEX(SignalHeads[Weight*** (lbs)],MATCH(E424,SignalHeads[Code],0))),IF(F424=\"\",0,INDEX(SignalHeads[Weight*** (lbs)],MATCH(F424,SignalHeads[Code],0))),IF(G424=\"\",0,INDEX(SignalHeads[Weight*** (lbs)],MATCH(G424,SignalHeads[Code],0))),IF(H424=\"\",0,INDEX(SignalHeads[Weight*** (lbs)],MATCH(H424,SignalHeads[Code],0))),IF(I424=\"\",0,INDEX(SignalHeads[Weight*** (lbs)],MATCH(I424,SignalHeads[Code],0))))","v":0},{"$f":"IF(A424<=$I$8,INDEX(DesignConstants[Value],MATCH(\"Span Wire Weight (plf)\",DesignConstants[Design Constant],0)),0)","v":1.155},0,460.26749999999998,{"$error":"#VALUE!"},{"$error":"#VALUE!"},{"$error":"#N/A"},{"$error":"#N/A"},{"$f":"SUM(IF(B424=\"\",0,INDEX(SignalHeads[Height ** (feet)],MATCH(B424,SignalHeads[Code],0))),IF(D424=\"\",0,INDEX(SignalHeads[Height ** (feet)],MATCH(D424,SignalHeads[Code],0))),IF(E424=\"\",0,INDEX(SignalHeads[Height ** (feet)],MATCH(E424,SignalHeads[Code],0))),IF(F424=\"\",0,INDEX(SignalHeads[Height ** (feet)],MATCH(F424,SignalHeads[Code],0))),IF(G424=\"\",0,INDEX(SignalHeads[Height ** (feet)],MATCH(G424,SignalHeads[Code],0))),IF(H424=\"\",0,INDEX(SignalHeads[Height ** (feet)],MATCH(H424,SignalHeads[Code],0))),IF(I424=\"\",0,INDEX(SignalHeads[Height ** (feet)],MATCH(I424,SignalHeads[Code],0))))","v":0},{"$f":"IF(S424=0,\"\",ROUNDDOWN(12*(((Q424-S424)-MIN($Q$26:$Q$425-$S$26:$S$425)-(MAX($S$26:$S$425*(($Q$26:$Q$425-$S$26:$S$425)=MIN($Q$26:$Q$425-$S$26:$S$425)))-S424))+(MIN($Q$26:$Q$425-$S$26:$S$425)-$I$10)),0)/12)","v":""},"",{"$error":"#N/A"},17]
[400,null,null,null,null,null,null,null,null,{"$f":"SUM(IF(B425=\"\",0,INDEX(SignalHeads[Perp. Wind Area (sft)],MATCH(B425,SignalHeads[Code],0))),IF(D425=\"\",0,INDEX(SignalHeads[Perp. Wind Area (sft)],MATCH(D425,SignalHeads[Code],0))),IF(E425=\"\",0,INDEX(SignalHeads[Perp. Wind Area (sft)],MATCH(E425,SignalHeads[Code],0))),IF(F425=\"\",0,INDEX(SignalHeads[Perp. Wind Area (sft)],MATCH(F425,SignalHeads[Code],0))),IF(G425=\"\",0,INDEX(SignalHeads[Perp. Wind Area (sft)],MATCH(G425,SignalHeads[Code],0))),IF(H425=\"\",0,INDEX(SignalHeads[Perp. Wind Area (sft)],MATCH(H425,SignalHeads[Code],0))),IF(I425=\"\",0,INDEX(SignalHeads[Perp. Wind Area (sft)],MATCH(I425,SignalHeads[Code],0))))","v":0},{"$f":"SUM(IF(B425=\"\",0,INDEX(SignalHeads[Weight*** (lbs)],MATCH(B425,SignalHeads[Code],0))),IF(D425=\"\",0,INDEX(SignalHeads[Weight*** (lbs)],MATCH(D425,SignalHeads[Code],0))),IF(E425=\"\",0,INDEX(SignalHeads[Weight*** (lbs)],MATCH(E425,SignalHeads[Code],0))),IF(F425=\"\",0,INDEX(SignalHeads[Weight*** (lbs)],MATCH(F425,SignalHeads[Code],0))),IF(G425=\"\",0,INDEX(SignalHeads[Weight*** (lbs)],MATCH(G425,SignalHeads[Code],0))),IF(H425=\"\",0,INDEX(SignalHeads[Weight*** (lbs)],MATCH(H425,SignalHeads[Code],0))),IF(I425=\"\",0,INDEX(SignalHeads[Weight*** (lbs)],MATCH(I425,SignalHeads[Code],0))))","v":0},{"$f":"IF(A425<=$I$8,INDEX(DesignConstants[Value],MATCH(\"Span Wire Weight (plf)\",DesignConstants[Design Constant],0)),0)","v":1.155},0,461.42250000000001,{"$error":"#VALUE!"},{"$error":"#VALUE!"},{"$error":"#N/A"},{"$error":"#N/A"},{"$f":"SUM(IF(B425=\"\",0,INDEX(SignalHeads[Height ** (feet)],MATCH(B425,SignalHeads[Code],0))),IF(D425=\"\",0,INDEX(SignalHeads[Height ** (feet)],MATCH(D425,SignalHeads[Code],0))),IF(E425=\"\",0,INDEX(SignalHeads[Height ** (feet)],MATCH(E425,SignalHeads[Code],0))),IF(F425=\"\",0,INDEX(SignalHeads[Height ** (feet)],MATCH(F425,SignalHeads[Code],0))),IF(G425=\"\",0,INDEX(SignalHeads[Height ** (feet)],MATCH(G425,SignalHeads[Code],0))),IF(H425=\"\",0,INDEX(SignalHeads[Height ** (feet)],MATCH(H425,SignalHeads[Code],0))),IF(I425=\"\",0,INDEX(SignalHeads[Height ** (feet)],MATCH(I425,SignalHeads[Code],0))))","v":0},{"$f":"IF(S425=0,\"\",ROUNDDOWN(12*(((Q425-S425)-MIN($Q$26:$Q$425-$S$26:$S$425)-(MAX($S$26:$S$425*(($Q$26:$Q$425-$S$26:$S$425)=MIN($Q$26:$Q$425-$S$26:$S$425)))-S425))+(MIN($Q$26:$Q$425-$S$26:$S$425)-$I$10)),0)/12)","v":""},"",{"$error":"#N/A"},17]

{"sheet":"TO1 Span Template","index":16,"n_rows":230,"n_cols":17,"rows_kept":230,"cut":false,"hidden":true,"merged":[[0,0,0,1],[21,0,22,4],[26,0,27,4]]}
["Span Design:",null,{"$f":"MID(CELL(\"filename\",A1),FIND(\"]\",CELL(\"filename\",A1))+1,255)","v":"TO1 Span Template"}]
["MDOT Traffic and Safety Support Area"]
[null,null,null,null,null,null,null,null,"Equilibrium at Junction",null,null,null,"Span A","Span B","Span TO1","Span TO2"]
[null,null,null,null,null,null,null,"Junction Point",{"$f":"INDEX(SpanConfig[Point A],MATCH($C$1,SpanConfig[Span],0))","v":{"$error":"#N/A"}},null,null,"Span",{"$f":"INDEX(SpanConfig[Main Span A (TO Span only)],MATCH($C$1,SpanConfig[Span],0))","v":{"$error":"#N/A"}},{"$f":"INDEX(SpanConfig[Main Span B (TO Span only)],MATCH($C$1,SpanConfig[Span],0))","v":{"$error":"#N/A"}},{"$f":"\"TO1-\"&RIGHT(C1,LEN(C1)-FIND(\"-\",C1))","v":{"$error":"#VALUE!"}},{"$f":"\"TO2-\"&RIGHT(C1,LEN(C1)-FIND(\"-\",C1))","v":{"$error":"#VALUE!"}}]
[null,null,null,null,null,null,null,"θ conversion to local",{"$f":"IF(INDEX(SpanConfig[Point A],MATCH(M4,SpanConfig[Span],0))=$I$4,INDEX(SpanConfig[Span Angle w.r.t Point A (deg)],MATCH(M4,SpanConfig[Span],0)),INDEX(SpanConfig[Span Angle w.r.t Point B (deg)],MATCH(M4,SpanConfig[Span],0)))","v":{"$error":"#N/A"}},"deg",null,"θ",{"$f":"IF(INDEX(SpanConfig[Point A],MATCH(M4,SpanConfig[Span],0))=$I$4,INDEX(SpanConfig[Span Angle w.r.t Point A (deg)],MATCH(M4,SpanConfig[Span],0)),INDEX(SpanConfig[Span Angle w.r.t Point B (deg)],MATCH(M4,SpanConfig[Span],0)))-$I$5","v":{"$error":"#N/A"}},{"$f":"IFERROR(IF(INDEX(SpanConfig[Point A],MATCH(N4,SpanConfig[Span],0))=$I$4,INDEX(SpanConfig[Span Angle w.r.t Point A (deg)],MATCH(N4,SpanConfig[Span],0)),INDEX(SpanConfig[Span Angle w.r.t Point B (deg)],MATCH(N4,SpanConfig[Span],0)))-$I$5,\"-\")","v":"-"},{"$f":"_xlfn.IFS(INDEX(SpanConfig[Span Angle w.r.t Point A (deg)],MATCH(O4,SpanConfig[Span],0))-$I$5>180,INDEX(SpanConfig[Span Angle w.r.t Point A (deg)],MATCH(O4,SpanConfig[Span],0))-$I$5-360,INDEX(SpanConfig[Span Angle w.r.t Point A (deg)],MATCH(O4,SpanConfig[Span],0))-$I$5<-180,INDEX(SpanConfig[Span Angle w.r.t Point A (deg)],MATCH(O4,SpanConfig[Span],0))-$I$5+360,TRUE,INDEX(SpanConfig[Span Angle w.r.t Point A (deg)],MATCH(O4,SpanConfig[Span],0))-$I$5)","v":{"$error":"#VALUE!"}},{"$f":"IFERROR(_xlfn.IFS(INDEX(SpanConfig[Span Angle w.r.t Point A (deg)],MATCH(P4,SpanConfig[Span],0))-$I$5>180,INDEX(SpanConfig[Span Angle w.r.t Point A (deg)],MATCH(P4,SpanConfig[Span],0))-$I$5-360,INDEX(SpanConfig[Span Angle w.r.t Point A (deg)],MATCH(P4,SpanConfig[Span],0))-$I$5<-180,INDEX(SpanConfig[Span Angle w.r.t Point A (deg)],MATCH(P4,SpanConfig[Span],0))-$I$5+360,TRUE,INDEX(SpanConfig[Span Angle w.r.t Point A (deg)],MATCH(P4,SpanConfig[Span],0))-$I$5),\"-\")","v":"-"},"deg"]
[null,null,null,null,null,null,null,"ΣFx",{"$f":"SUM(M8,N8,O8,P8)","v":{"$error":"#N/A"}},"lbs",{"$f":"IF(ABS(I6)<10,\"OK\",\"NG\")","v":{"$error":"#N/A"}},"FH",{"$f":"INDIRECT(\"'\"&M4&\"'!$I$4\")","v":{"$error":"#N/A"}},{"$f":"IFERROR(INDIRECT(\"'\"&N4&\"'!$I$4\"),0)","v":0},{"$f":"SQRT(O8^2+O9^2)","v":{"$error":"#N/A"}},{"$f":"SQRT(P8^2+P9^2)","v":0},"lbs"]
[null,null,null,null,null,null,null,"ΣFy",{"$f":"SUM(M9,N9,O9,P9)","v":{"$error":"#N/A"}},"lbs",{"$f":"IF(ABS(I7)<10,\"OK\",\"NG\")","v":{"$error":"#N/A"}},"θFH",{"$f":"M5","v":{"$error":"#N/A"}},{"$f":"N5","v":"-"},{"$f":"DEGREES(ATAN2(O8,O9))","v":{"$error":"#N/A"}},{"$f":"IF(ISNUMBER(P5),DEGREES(ATAN2(P8,P9)),\"-\")","v":"-"},"deg"]
[null,null,null,null,null,null,null,"ΣFz",{"$f":"IF(P6=0,ROUND(I13*I20/I17+O12,1),SUM(M12:P12))","v":{"$error":"#VALUE!"}},"lbs",{"$f":"IF(ABS(I8)<10,\"OK\",\"NG\")","v":{"$error":"#VALUE!"}},"FHx",{"$f":"M6*COS(RADIANS(M5))","v":{"$error":"#N/A"}},{"$f":"IF(OR(N6=0,N6=\"-\"),0,N6*COS(RADIANS(N5)))","v":0},{"$f":"ABS(M8+N8)*SIGN(COS(RADIANS(O5)))*TAN(RADIANS(MOD(ABS(O5),90)))/((TAN(RADIANS(MOD(ABS(O5),90))))+IF(ISNUMBER(P5),TAN(RADIANS(MOD(ABS(P5),90))),0))","v":{"$error":"#N/A"}},{"$f":"IF(ISNUMBER(P5),SIGN(COS(RADIANS(P5)))*(M8+N8+O8),0)","v":0},"lbs"]
[null,null,null,null,null,null,null,null,null,null,null,"FHy",{"$f":"M6*SIN(RADIANS(M5))","v":{"$error":"#N/A"}},{"$f":"IF(OR(N6=0,N6=\"-\"),0,N6*SIN(RADIANS(N5)))","v":0},{"$f":"O8*TAN(RADIANS(O5))","v":{"$error":"#N/A"}},{"$f":"P8*IF(ISNUMBER(P5),TAN(RADIANS(P5)),0)","v":0},"lbs"]
[null,null,null,null,null,null,null,null,null,null,null,"α","-","-",{"$f":"IFERROR(DEGREES(ATAN((INDIRECT(\"'\"&O4&\"'!N24\")-$N$15)/INDIRECT(\"'\"&O4&\"'!I17\"))),\"-\")","v":"-"},{"$f":"IFERROR(DEGREES(ATAN((INDIRECT(\"'\"&P4&\"'!N24\")-$N$15)/INDIRECT(\"'\"&P4&\"'!I17\"))),\"-\")","v":"-"},"deg"]
[null,null,null,null,null,null,null,null,null,null,null,"Span Length",{"$f":"INDIRECT(\"'\"&M4&\"'!I8\")","v":{"$error":"#N/A"}},{"$f":"IFERROR(INDIRECT(\"'\"&N4&\"'!I8\"),0)","v":0},{"$f":"INDIRECT(\"'\"&O4&\"'!I17\")","v":{"$error":"#VALUE!"}},{"$f":"IFERROR(INDIRECT(\"'\"&P4&\"'!I17\"),0)","v":0},"ft"]
[null,null,null,null,null,null,null,null,"Span",null,null,"FV",{"$f":"INDIRECT(\"'\"&M4&IF(_xlfn.NUMBERVALUE(INDIRECT(\"'\"&M4&\"'!N4\"))=$I$4,\"'!$N$15\",\"'!$S$15\"))","v":{"$error":"#N/A"}},{"$f":"IFERROR(INDIRECT(\"'\"&N4&IF(_xlfn.NUMBERVALUE(INDIRECT(\"'\"&N4&\"'!N4\"))=$I$4,\"'!$N$15\",\"'!$S$15\")),0)","v":0},{"$f":"-(M12+N12)*(SIGN(O10)*(SIN(RADIANS(O10))^2/O11)/(SIGN(O10)*SIN(RADIANS(O10))^2/O11+IFERROR(SIGN(P10)*SIN(RADIANS(P10))^2/P11,0)))","v":{"$error":"#N/A"}},{"$f":"-(M12+N12)*(IFERROR(SIGN(P10)*SIN(RADIANS(P10))^2/P11,0)/(SIGN(O10)*SIN(RADIANS(O10))^2/O11+IFERROR(SIGN(P10)*SIN(RADIANS(P10))^2/P11,0)))","v":{"$error":"#N/A"}},"lbs"]
[null,null,null,null,null,null,null,"Horizontal Force, FH",{"$f":"IFERROR(_xlfn.IFS(LEFT(C1,3)=\"TO1\",O6,LEFT(C1,3)=\"TO2\",P6),\"-\")","v":"-"},"lbs"]
[null,null,null,null,null,null,null,"Tether Condition","NOT TETHERED",null,null,null,null,"At Point A"]
[null,null,null,null,null,null,null,"Minimum stem",{"$f":"MIN(M31:M230)","v":0},"ft",{"$f":"IF(AND(I15>0,I15<INDEX(DesignConstants[Value],MATCH(IF(I14=\"TOP TETHERED\",\"Min. Stem Top Tethered (ft)\",\"Min. Stem Length (ft)\"),DesignConstants[Design Constant],0))),\"Lengthen stem\",\"OK\")","v":"OK"},null,"Connection Height *",30,"ft",{"$f":"IFERROR(IF(IF(INDEX(SpanConfig[Point A],MATCH(N4,SpanConfig[Span],0))=$I$4,INDIRECT(\"'\"&N4&\"'!$N$8\"),INDIRECT(\"'\"&N4&\"'!$S$8\"))<>N15,\"Check Span B Conn. Height\",\"OK\"),\"OK\")","v":"OK"}]
[null,null,null,null,null,null,null,"Minimum stem",{"$f":"INT(I15)&\"'-\"&ROUND((I15-INT(I15))*12,0)&\"\"\"\"","v":"0'-0\""},null,null,null,"FV",{"$f":"IFERROR(N22-SUM(D31:E230),\"-\")","v":"-"},"lbs"]
[null,null,null,null,null,null,null,"Span Length",{"$f":"IFERROR(INDEX(SpanConfig[Span Length (ft)],MATCH($C$1,SpanConfig[Span],0)),\"-\")","v":"-"},"ft",null,null,"Tension ",{"$f":"IFERROR((I13^2+N16^2)^0.5,\"-\")","v":"-"},"lbs",{"$f":"IF(OR(N17>1500,N17/I13>1.2),\"Check tension\",\"OK\")","v":{"$error":"#VALUE!"}}]
[null,null,null,null,null,null,null,"Grade Centerline Elevation ",{"$f":"IFERROR(INDEX(SpanConfig[Grade Centerline Elevation (ft)],MATCH($C$1,SpanConfig[Span],0)),\"-\")","v":"-"},"ft"]
[null,null,null,null,null,null,null,"Req'd Vertical Clearance",{"$f":"INDEX(MinVertClearance[Minimum Vertical Clearance (ft)],MATCH(I14,MinVertClearance[Tether Condition],0))","v":17},"ft",null,null,null,"At Point B"]
[null,null,null,null,null,null,null,"Conn. Height Difference",{"$f":"IFERROR(N24-N15,\"-\")","v":"-"},"ft",null,null,"POCH **",32,"ft",{"$f":"IF(N25=\"ERROR\",\"Lower POCH\",\"OK\")","v":"OK"}]
[null,null,null,null,null,null,null,"Min Vertical Clearance",{"$f":"IFERROR(MIN(O31:O230),\"-\")","v":"-"},"ft",{"$f":"IF(I21<I19,\"Check tension\",\"OK\")","v":"OK"},null,"POCH **",{"$f":"INT(N20)&\"'-\"&ROUND((N20-INT(N20))*12,0)&\"\"\"\"","v":"32'-0\""}]
["* Connection height measured from grade centerline to POCH on pole or to tie off connection height",null,null,null,null,null,null,"Maximum stem",{"$f":"MAX(M31:M230)","v":0},"ft",null,null,"FV",{"$f":"IFERROR((I13*I20+SUM(F31:G230))/I17,\"-\")","v":"-"},"lbs"]
[null,null,null,null,null,null,null,"Maximum stem",{"$f":"INT(I22)&\"'-\"&ROUND((I22-INT(I22))*12,0)&\"\"\"\"","v":"0'-0\""},null,null,null,"Base of Pole Elevation",{"$f":"IFERROR(INDEX(SpanConfig[Pole B Base Elevation (ft)],MATCH($C$1,SpanConfig[Span],0)),\"-\")","v":"-"},"ft"]
["** POCH measured from top of foundation",null,null,null,null,null,null,"Design Standard","SIG-020/021",null,null,null,"Connection Height *",{"$f":"IFERROR(N20-(I18-N23),\"-\")","v":"-"},"ft"]
["*** Reference line is the linear interpolation between span connections",null,null,null,null,null,null,"Field Drilled Hole Size ****","-",null,null,null,"Pole Required Length",{"$f":"_xlfn.IFS(N20=\"-\",\"-\",N20>40-1.5,\"ERROR\",N20>36-1.6,40,N20>30-1.5,36,TRUE,30)","v":36},"ft"]
["**** Applies if designing for criteria in SIG-022 only",null,null,null,null,null,null,"Total Attachment Weight *****",{"$f":"SUM(D31:D230)","v":0},"lbs",{"$f":"IF(I26>_xlfn.IFS(I24=\"SIG-020/021\",INDEX(SIG020021Limits[],MATCH(I17,SIG020021Limits[Span Length Lower Bound (ft)],1),MATCH(\"Generalized Load Limit (lbs)\",SIG020021Limits[#Headers],0)),I24=\"SIG-022\",INDEX(SIG022Limits[],MATCH(I25,SIG022Limits[Field Drilled Hole Size],0),MATCH(\"Generalized Load Limit (lbs)\",SIG022Limits[#Headers],0)),TRUE,10000),\"Reduce weight on span\",\"OK\")","v":{"$error":"#N/A"}},null,"Tension",{"$f":"IFERROR((I13^2+N22^2)^0.5,\"-\")","v":"-"},"lbs",{"$f":"IF(OR(N26>1500,N26/I13>1.2),\"Check tension\",\"OK\")","v":{"$error":"#VALUE!"}}]
["***** Span weight and wind area checks are applicable only for steel strain poles included in standards SIG-020, SIG-021, and SIG-022",null,null,null,null,null,null,"Perpendicular Wind Area *****",{"$f":"SUM(C31:C230)","v":0},"sft",{"$f":"IF(I27>_xlfn.IFS(I24=\"SIG-020/021\",INDEX(SIG020021Limits[],MATCH(I17,SIG020021Limits[Span Length Lower Bound (ft)],1),MATCH(\"Perp. Wind Area Limit (sft)\",SIG020021Limits[#Headers],0)),I24=\"SIG-022\",INDEX(SIG022Limits[],MATCH(I25,SIG022Limits[Field Drilled Hole Size],0),MATCH(\"Perp. Wind Area Limit (sft)\",SIG022Limits[#Headers],0)),TRUE,10000),\"Reduce wind area\",\"OK\")","v":{"$error":"#N/A"}},null,"Shaft Moment",{"$f":"IF(ISNUMBER(N23),I13*N20,\"-\")","v":"-"},"lbs-ft"]
[null,null,null,null,null,null,null,null,null,null,null,null,"Shaft Moment",{"$f":"IF(ISNUMBER(N23),N27/1000,\"-\")","v":"-"},"kips-ft"]
[]
["Distance Along Span (ft)","Head Type","Wind Area (sft)","Head Weight (lbs)","Span&Cable Weight (lbs)","Head Moment (lbs-ft)","Span Moment (lbs-ft)","Vertical Force (lbs)","Sag (ft)","Height (ft)","Reference Line Height (ft)***","Equipment Height (ft)","Stem Length (ft)","Stem Length (ft-in)","Bottom Height (ft)","Required Vertical Clearance"]
[1,null,{"$f":"IF(B31=\"\",0,INDEX(SignalHeads[Perp. Wind Area (sft)],MATCH(B31,SignalHeads[Code],0)))","v":0},{"$f":"IF(B31=\"\",\"\",INDEX(SignalHeads[Weight*** (lbs)],MATCH(B31,SignalHeads[Code],0)))","v":""},{"$f":"IF(A31<=$I$17,INDEX(DesignConstants[Value],MATCH(\"Span Wire Weight (plf)\",DesignConstants[Design Constant],0)),0)","v":1.155},{"$f":"IF(B31=\"\",0,+D31*A31)","v":0},{"$f":"+E31*(A31-0.5)","v":0.57750000000000001},{"$f":"$N$16+(IF(B31=\"\",0,D31))+E31","v":{"$error":"#VALUE!"}},{"$f":"(0.5*E31+(IF(B31=\"\",0,D31))+N16)/$I$13","v":{"$error":"#VALUE!"}},{"$f":"+N15+I31","v":{"$error":"#VALUE!"}},{"$f":"IF(A31>$I$17,0,($N$24-$N$15)/$I$17*A31+$N$15)","v":{"$error":"#VALUE!"}},{"$f":"IF(B31=\"\",0,INDEX(SignalHeads[Height ** (feet)],MATCH(B31,SignalHeads[Code],0)))","v":0},{"$f":"IF(L31=0,\"\",ROUNDDOWN(12*(((J31-L31)-MIN($J$31:$J$230-$L$31:$L$230)-(MAX($L$31:$L$230*(($J$31:$J$230-$L$31:$L$230)=MIN($J$31:$J$230-$L$31:$L$230)))-L31))+(MIN($J$31:$J$230-$L$31:$L$230)-$I$19)),0)/12)","v":""},{"$f":"IF(M31=\"\",\"\",INT(M31)&\"'-\"&ROUND((M31-INT(M31))*12,0)&\"\"\"\")","v":""},{"$f":"IF(A31<=$I$17,J31-L31-IF(ISNUMBER(M31),M31,0),\"\")","v":{"$error":"#VALUE!"}},{"$f":"$I$19","v":17}]
[2,null,{"$f":"IF(B32=\"\",0,INDEX(SignalHeads[Perp. Wind Area (sft)],MATCH(B32,SignalHeads[Code],0)))","v":0},{"$f":"IF(B32=\"\",\"\",INDEX(SignalHeads[Weight*** (lbs)],MATCH(B32,SignalHeads[Code],0)))","v":""},{"$f":"IF(A32<=$I$17,INDEX(DesignConstants[Value],MATCH(\"Span Wire Weight (plf)\",DesignConstants[Design Constant],0)),0)","v":1.155},{"$f":"IF(B32=\"\",0,+D32*A32)","v":0},{"$f":"+E32*(A32-0.5)","v":1.7324999999999999},{"$f":"H31+(IF(B32=\"\",0,D32))+E32","v":{"$error":"#VALUE!"}},{"$f":"(0.5*E32+(IF(B32=\"\",0,D32))+H31)/$I$13","v":{"$error":"#VALUE!"}},{"$f":"+J31+I32","v":{"$error":"#VALUE!"}},{"$error":"#VALUE!"},{"$f":"IF(B32=\"\",0,INDEX(SignalHeads[Height ** (feet)],MATCH(B32,SignalHeads[Code],0)))","v":0},{"$f":"IF(L32=0,\"\",ROUNDDOWN(12*(((J32-L32)-MIN($J$31:$J$230-$L$31:$L$230)-(MAX($L$31:$L$230*(($J$31:$J$230-$L$31:$L$230)=MIN($J$31:$J$230-$L$31:$L$230)))-L32))+(MIN($J$31:$J$230-$L$31:$L$230)-$I$19)),0)/12)","v":""},{"$f":"IF(M32=\"\",\"\",INT(M32)&\"'-\"&ROUND((M32-INT(M32))*12,0)&\"\"\"\")","v":""},{"$f":"IF(A32<=$I$17,J32-L32-IF(ISNUMBER(M32),M32,0),\"\")","v":{"$error":"#VALUE!"}},17]
[3,null,{"$f":"IF(B33=\"\",0,INDEX(SignalHeads[Perp. Wind Area (sft)],MATCH(B33,SignalHeads[Code],0)))","v":0},{"$f":"IF(B33=\"\",\"\",INDEX(SignalHeads[Weight*** (lbs)],MATCH(B33,SignalHeads[Code],0)))","v":""},{"$f":"IF(A33<=$I$17,INDEX(DesignConstants[Value],MATCH(\"Span Wire Weight (plf)\",DesignConstants[Design Constant],0)),0)","v":1.155},0,2.8875000000000002,{"$f":"H32+(IF(B33=\"\",0,D33))+E33","v":{"$error":"#VALUE!"}},{"$error":"#VALUE!"},{"$f":"+J32+I33","v":{"$error":"#VALUE!"}},{"$error":"#VALUE!"},{"$f":"IF(B33=\"\",0,INDEX(SignalHeads[Height ** (feet)],MATCH(B33,SignalHeads[Code],0)))","v":0},{"$f":"IF(L33=0,\"\",ROUNDDOWN(12*(((J33-L33)-MIN($J$31:$J$230-$L$31:$L$230)-(MAX($L$31:$L$230*(($J$31:$J$230-$L$31:$L$230)=MIN($J$31:$J$230-$L$31:$L$230)))-L33))+(MIN($J$31:$J$230-$L$31:$L$230)-$I$19)),0)/12)","v":""},"",{"$error":"#VALUE!"},17]
[4,null,{"$f":"IF(B34=\"\",0,INDEX(SignalHeads[Perp. Wind Area (sft)],MATCH(B34,SignalHeads[Code],0)))","v":0},{"$f":"IF(B34=\"\",\"\",INDEX(SignalHeads[Weight*** (lbs)],MATCH(B34,SignalHeads[Code],0)))","v":""},{"$f":"IF(A34<=$I$17,INDEX(DesignConstants[Value],MATCH(\"Span Wire Weight (plf)\",DesignConstants[Design Constant],0)),0)","v":1.155},0,4.0425000000000004,{"$error":"#VALUE!"},{"$error":"#VALUE!"},{"$f":"+J33+I34","v":{"$error":"#VALUE!"}},{"$error":"#VALUE!"},{"$f":"IF(B34=\"\",0,INDEX(SignalHeads[Height ** (feet)],MATCH(B34,SignalHeads[Code],0)))","v":0},{"$f":"IF(L34=0,\"\",ROUNDDOWN(12*(((J34-L34)-MIN($J$31:$J$230-$L$31:$L$230)-(MAX($L$31:$L$230*(($J$31:$J$230-$L$31:$L$230)=MIN($J$31:$J$230-$L$31:$L$230)))-L34))+(MIN($J$31:$J$230-$L$31:$L$230)-$I$19)),0)/12)","v":""},"",{"$error":"#VALUE!"},17]
[5,null,{"$f":"IF(B35=\"\",0,INDEX(SignalHeads[Perp. Wind Area (sft)],MATCH(B35,SignalHeads[Code],0)))","v":0},{"$f":"IF(B35=\"\",\"\",INDEX(SignalHeads[Weight*** (lbs)],MATCH(B35,SignalHeads[Code],0)))","v":""},{"$f":"IF(A35<=$I$17,INDEX(DesignConstants[Value],MATCH(\"Span Wire Weight (plf)\",DesignConstants[Design Constant],0)),0)","v":1.155},0,5.1974999999999998,{"$error":"#VALUE!"},{"$error":"#VALUE!"},{"$error":"#VALUE!"},{"$error":"#VALUE!"},{"$f":"IF(B35=\"\",0,INDEX(SignalHeads[Height ** (feet)],MATCH(B35,SignalHeads[Code],0)))","v":0},{"$f":"IF(L35=0,\"\",ROUNDDOWN(12*(((J35-L35)-MIN($J$31:$J$230-$L$31:$L$230)-(MAX($L$31:$L$230*(($J$31:$J$230-$L$31:$L$230)=MIN($J$31:$J$230-$L$31:$L$230)))-L35))+(MIN($J$31:$J$230-$L$31:$L$230)-$I$19)),0)/12)","v":""},"",{"$error":"#VALUE!"},17]
[6,null,{"$f":"IF(B36=\"\",0,INDEX(SignalHeads[Perp. Wind Area (sft)],MATCH(B36,SignalHeads[Code],0)))","v":0},{"$f":"IF(B36=\"\",\"\",INDEX(SignalHeads[Weight*** (lbs)],MATCH(B36,SignalHeads[Code],0)))","v":""},{"$f":"IF(A36<=$I$17,INDEX(DesignConstants[Value],MATCH(\"Span Wire Weight (plf)\",DesignConstants[Design Constant],0)),0)","v":1.155},0,6.3525,{"$error":"#VALUE!"},{"$error":"#VALUE!"},{"$error":"#VALUE!"},{"$error":"#VALUE!"},{"$f":"IF(B36=\"\",0,INDEX(SignalHeads[Height ** (feet)],MATCH(B36,SignalHeads[Code],0)))","v":0},{"$f":"IF(L36=0,\"\",ROUNDDOWN(12*(((J36-L36)-MIN($J$31:$J$230-$L$31:$L$230)-(MAX($L$31:$L$230*(($J$31:$J$230-$L$31:$L$230)=MIN($J$31:$J$230-$L$31:$L$230)))-L36))+(MIN($J$31:$J$230-$L$31:$L$230)-$I$19)),0)/12)","v":""},"",{"$error":"#VALUE!"},17]
[7,null,{"$f":"IF(B37=\"\",0,INDEX(SignalHeads[Perp. Wind Area (sft)],MATCH(B37,SignalHeads[Code],0)))","v":0},{"$f":"IF(B37=\"\",\"\",INDEX(SignalHeads[Weight*** (lbs)],MATCH(B37,SignalHeads[Code],0)))","v":""},{"$f":"IF(A37<=$I$17,INDEX(DesignConstants[Value],MATCH(\"Span Wire Weight (plf)\",DesignConstants[Design Constant],0)),0)","v":1.155},0,7.5075000000000003,{"$error":"#VALUE!"},{"$error":"#VALUE!"},{"$error":"#VALUE!"},{"$error":"#VALUE!"},{"$f":"IF(B37=\"\",0,INDEX(SignalHeads[Height ** (feet)],MATCH(B37,SignalHeads[Code],0)))","v":0},{"$f":"IF(L37=0,\"\",ROUNDDOWN(12*(((J37-L37)-MIN($J$31:$J$230-$L$31:$L$230)-(MAX($L$31:$L$230*(($J$31:$J$230-$L$31:$L$230)=MIN($J$31:$J$230-$L$31:$L$230)))-L37))+(MIN($J$31:$J$230-$L$31:$L$230)-$I$19)),0)/12)","v":""},"",{"$error":"#VALUE!"},17]
[8,null,{"$f":"IF(B38=\"\",0,INDEX(SignalHeads[Perp. Wind Area (sft)],MATCH(B38,SignalHeads[Code],0)))","v":0},{"$f":"IF(B38=\"\",\"\",INDEX(SignalHeads[Weight*** (lbs)],MATCH(B38,SignalHeads[Code],0)))","v":""},{"$f":"IF(A38<=$I$17,INDEX(DesignConstants[Value],MATCH(\"Span Wire Weight (plf)\",DesignConstants[Design Constant],0)),0)","v":1.155},0,8.6624999999999996,{"$error":"#VALUE!"},{"$error":"#VALUE!"},{"$error":"#VALUE!"},{"$error":"#VALUE!"},{"$f":"IF(B38=\"\",0,INDEX(SignalHeads[Height ** (feet)],MATCH(B38,SignalHeads[Code],0)))","v":0},{"$f":"IF(L38=0,\"\",ROUNDDOWN(12*(((J38-L38)-MIN($J$31:$J$230-$L$31:$L$230)-(MAX($L$31:$L$230*(($J$31:$J$230-$L$31:$L$230)=MIN($J$31:$J$230-$L$31:$L$230)))-L38))+(MIN($J$31:$J$230-$L$31:$L$230)-$I$19)),0)/12)","v":""},"",{"$error":"#VALUE!"},17]
[9,null,{"$f":"IF(B39=\"\",0,INDEX(SignalHeads[Perp. Wind Area (sft)],MATCH(B39,SignalHeads[Code],0)))","v":0},{"$f":"IF(B39=\"\",\"\",INDEX(SignalHeads[Weight*** (lbs)],MATCH(B39,SignalHeads[Code],0)))","v":""},{"$f":"IF(A39<=$I$17,INDEX(DesignConstants[Value],MATCH(\"Span Wire Weight (plf)\",DesignConstants[Design Constant],0)),0)","v":1.155},0,9.8175000000000008,{"$error":"#VALUE!"},{"$error":"#VALUE!"},{"$error":"#VALUE!"},{"$error":"#VALUE!"},{"$f":"IF(B39=\"\",0,INDEX(SignalHeads[Height ** (feet)],MATCH(B39,SignalHeads[Code],0)))","v":0},{"$f":"IF(L39=0,\"\",ROUNDDOWN(12*(((J39-L39)-MIN($J$31:$J$230-$L$31:$L$230)-(MAX($L$31:$L$230*(($J$31:$J$230-$L$31:$L$230)=MIN($J$31:$J$230-$L$31:$L$230)))-L39))+(MIN($J$31:$J$230-$L$31:$L$230)-$I$19)),0)/12)","v":""},"",{"$error":"#VALUE!"},17]
[10,null,{"$f":"IF(B40=\"\",0,INDEX(SignalHeads[Perp. Wind Area (sft)],MATCH(B40,SignalHeads[Code],0)))","v":0},{"$f":"IF(B40=\"\",\"\",INDEX(SignalHeads[Weight*** (lbs)],MATCH(B40,SignalHeads[Code],0)))","v":""},{"$f":"IF(A40<=$I$17,INDEX(DesignConstants[Value],MATCH(\"Span Wire Weight (plf)\",DesignConstants[Design Constant],0)),0)","v":1.155},0,10.9725,{"$error":"#VALUE!"},{"$error":"#VALUE!"},{"$error":"#VALUE!"},{"$error":"#VALUE!"},{"$f":"IF(B40=\"\",0,INDEX(SignalHeads[Height ** (feet)],MATCH(B40,SignalHeads[Code],0)))","v":0},{"$f":"IF(L40=0,\"\",ROUNDDOWN(12*(((J40-L40)-MIN($J$31:$J$230-$L$31:$L$230)-(MAX($L$31:$L$230*(($J$31:$J$230-$L$31:$L$230)=MIN($J$31:$J$230-$L$31:$L$230)))-L40))+(MIN($J$31:$J$230-$L$31:$L$230)-$I$19)),0)/12)","v":""},"",{"$error":"#VALUE!"},17]
[11,null,{"$f":"IF(B41=\"\",0,INDEX(SignalHeads[Perp. Wind Area (sft)],MATCH(B41,SignalHeads[Code],0)))","v":0},{"$f":"IF(B41=\"\",\"\",INDEX(SignalHeads[Weight*** (lbs)],MATCH(B41,SignalHeads[Code],0)))","v":""},{"$f":"IF(A41<=$I$17,INDEX(DesignConstants[Value],MATCH(\"Span Wire Weight (plf)\",DesignConstants[Design Constant],0)),0)","v":1.155},0,12.1275,{"$error":"#VALUE!"},{"$error":"#VALUE!"},{"$error":"#VALUE!"},{"$error":"#VALUE!"},{"$f":"IF(B41=\"\",0,INDEX(SignalHeads[Height ** (feet)],MATCH(B41,SignalHeads[Code],0)))","v":0},{"$f":"IF(L41=0,\"\",ROUNDDOWN(12*(((J41-L41)-MIN($J$31:$J$230-$L$31:$L$230)-(MAX($L$31:$L$230*(($J$31:$J$230-$L$31:$L$230)=MIN($J$31:$J$230-$L$31:$L$230)))-L41))+(MIN($J$31:$J$230-$L$31:$L$230)-$I$19)),0)/12)","v":""},"",{"$error":"#VALUE!"},17]
[12,null,{"$f":"IF(B42=\"\",0,INDEX(SignalHeads[Perp. Wind Area (sft)],MATCH(B42,SignalHeads[Code],0)))","v":0},{"$f":"IF(B42=\"\",\"\",INDEX(SignalHeads[Weight*** (lbs)],MATCH(B42,SignalHeads[Code],0)))","v":""},{"$f":"IF(A42<=$I$17,INDEX(DesignConstants[Value],MATCH(\"Span Wire Weight (plf)\",DesignConstants[Design Constant],0)),0)","v":1.155},0,13.282500000000001,{"$error":"#VALUE!"},{"$error":"#VALUE!"},{"$error":"#VALUE!"},{"$error":"#VALUE!"},{"$f":"IF(B42=\"\",0,INDEX(SignalHeads[Height ** (feet)],MATCH(B42,SignalHeads[Code],0)))","v":0},{"$f":"IF(L42=0,\"\",ROUNDDOWN(12*(((J42-L42)-MIN($J$31:$J$230-$L$31:$L$230)-(MAX($L$31:$L$230*(($J$31:$J$230-$L$31:$L$230)=MIN($J$31:$J$230-$L$31:$L$230)))-L42))+(MIN($J$31:$J$230-$L$31:$L$230)-$I$19)),0)/12)","v":""},"",{"$error":"#VALUE!"},17]
[13,null,{"$f":"IF(B43=\"\",0,INDEX(SignalHeads[Perp. Wind Area (sft)],MATCH(B43,SignalHeads[Code],0)))","v":0},{"$f":"IF(B43=\"\",\"\",INDEX(SignalHeads[Weight*** (lbs)],MATCH(B43,SignalHeads[Code],0)))","v":""},{"$f":"IF(A43<=$I$17,INDEX(DesignConstants[Value],MATCH(\"Span Wire Weight (plf)\",DesignConstants[Design Constant],0)),0)","v":1.155},0,14.4375,{"$error":"#VALUE!"},{"$error":"#VALUE!"},{"$error":"#VALUE!"},{"$error":"#VALUE!"},{"$f":"IF(B43=\"\",0,INDEX(SignalHeads[Height ** (feet)],MATCH(B43,SignalHeads[Code],0)))","v":0},{"$f":"IF(L43=0,\"\",ROUNDDOWN(12*(((J43-L43)-MIN($J$31:$J$230-$L$31:$L$230)-(MAX($L$31:$L$230*(($J$31:$J$230-$L$31:$L$230)=MIN($J$31:$J$230-$L$31:$L$230)))-L43))+(MIN($J$31:$J$230-$L$31:$L$230)-$I$19)),0)/12)","v":""},"",{"$error":"#VALUE!"},17]
[14,null,{"$f":"IF(B44=\"\",0,INDEX(SignalHeads[Perp. Wind Area (sft)],MATCH(B44,SignalHeads[Code],0)))","v":0},{"$f":"IF(B44=\"\",\"\",INDEX(SignalHeads[Weight*** (lbs)],MATCH(B44,SignalHeads[Code],0)))","v":""},{"$f":"IF(A44<=$I$17,INDEX(DesignConstants[Value],MATCH(\"Span Wire Weight (plf)\",DesignConstants[Design Constant],0)),0)","v":1.155},0,15.592500000000001,{"$error":"#VALUE!"},{"$error":"#VALUE!"},{"$error":"#VALUE!"},{"$error":"#VALUE!"},{"$f":"IF(B44=\"\",0,INDEX(SignalHeads[Height ** (feet)],MATCH(B44,SignalHeads[Code],0)))","v":0},{"$f":"IF(L44=0,\"\",ROUNDDOWN(12*(((J44-L44)-MIN($J$31:$J$230-$L$31:$L$230)-(MAX($L$31:$L$230*(($J$31:$J$230-$L$31:$L$230)=MIN($J$31:$J$230-$L$31:$L$230)))-L44))+(MIN($J$31:$J$230-$L$31:$L$230)-$I$19)),0)/12)","v":""},"",{"$error":"#VALUE!"},17]
[15,null,{"$f":"IF(B45=\"\",0,INDEX(SignalHeads[Perp. Wind Area (sft)],MATCH(B45,SignalHeads[Code],0)))","v":0},{"$f":"IF(B45=\"\",\"\",INDEX(SignalHeads[Weight*** (lbs)],MATCH(B45,SignalHeads[Code],0)))","v":""},{"$f":"IF(A45<=$I$17,INDEX(DesignConstants[Value],MATCH(\"Span Wire Weight (plf)\",DesignConstants[Design Constant],0)),0)","v":1.155},0,16.747499999999999,{"$error":"#VALUE!"},{"$error":"#VALUE!"},{"$error":"#VALUE!"},{"$error":"#VALUE!"},{"$f":"IF(B45=\"\",0,INDEX(SignalHeads[Height ** (feet)],MATCH(B45,SignalHeads[Code],0)))","v":0},{"$f":"IF(L45=0,\"\",ROUNDDOWN(12*(((J45-L45)-MIN($J$31:$J$230-$L$31:$L$230)-(MAX($L$31:$L$230*(($J$31:$J$230-$L$31:$L$230)=MIN($J$31:$J$230-$L$31:$L$230)))-L45))+(MIN($J$31:$J$230-$L$31:$L$230)-$I$19)),0)/12)","v":""},"",{"$error":"#VALUE!"},17]
[16,null,{"$f":"IF(B46=\"\",0,INDEX(SignalHeads[Perp. Wind Area (sft)],MATCH(B46,SignalHeads[Code],0)))","v":0},{"$f":"IF(B46=\"\",\"\",INDEX(SignalHeads[Weight*** (lbs)],MATCH(B46,SignalHeads[Code],0)))","v":""},{"$f":"IF(A46<=$I$17,INDEX(DesignConstants[Value],MATCH(\"Span Wire Weight (plf)\",DesignConstants[Design Constant],0)),0)","v":1.155},0,17.9025,{"$error":"#VALUE!"},{"$error":"#VALUE!"},{"$error":"#VALUE!"},{"$error":"#VALUE!"},{"$f":"IF(B46=\"\",0,INDEX(SignalHeads[Height ** (feet)],MATCH(B46,SignalHeads[Code],0)))","v":0},{"$f":"IF(L46=0,\"\",ROUNDDOWN(12*(((J46-L46)-MIN($J$31:$J$230-$L$31:$L$230)-(MAX($L$31:$L$230*(($J$31:$J$230-$L$31:$L$230)=MIN($J$31:$J$230-$L$31:$L$230)))-L46))+(MIN($J$31:$J$230-$L$31:$L$230)-$I$19)),0)/12)","v":""},"",{"$error":"#VALUE!"},17]
[17,null,{"$f":"IF(B47=\"\",0,INDEX(SignalHeads[Perp. Wind Area (sft)],MATCH(B47,SignalHeads[Code],0)))","v":0},{"$f":"IF(B47=\"\",\"\",INDEX(SignalHeads[Weight*** (lbs)],MATCH(B47,SignalHeads[Code],0)))","v":""},{"$f":"IF(A47<=$I$17,INDEX(DesignConstants[Value],MATCH(\"Span Wire Weight (plf)\",DesignConstants[Design Constant],0)),0)","v":1.155},0,19.057500000000001,{"$error":"#VALUE!"},{"$error":"#VALUE!"},{"$error":"#VALUE!"},{"$error":"#VALUE!"},{"$f":"IF(B47=\"\",0,INDEX(SignalHeads[Height ** (feet)],MATCH(B47,SignalHeads[Code],0)))","v":0},{"$f":"IF(L47=0,\"\",ROUNDDOWN(12*(((J47-L47)-MIN($J$31:$J$230-$L$31:$L$230)-(MAX($L$31:$L$230*(($J$31:$J$230-$L$31:$L$230)=MIN($J$31:$J$230-$L$31:$L$230)))-L47))+(MIN($J$31:$J$230-$L$31:$L$230)-$I$19)),0)/12)","v":""},"",{"$error":"#VALUE!"},17]
[18,null,{"$f":"IF(B48=\"\",0,INDEX(SignalHeads[Perp. Wind Area (sft)],MATCH(B48,SignalHeads[Code],0)))","v":0},{"$f":"IF(B48=\"\",\"\",INDEX(SignalHeads[Weight*** (lbs)],MATCH(B48,SignalHeads[Code],0)))","v":""},{"$f":"IF(A48<=$I$17,INDEX(DesignConstants[Value],MATCH(\"Span Wire Weight (plf)\",DesignConstants[Design Constant],0)),0)","v":1.155},0,20.212500000000002,{"$error":"#VALUE!"},{"$error":"#VALUE!"},{"$error":"#VALUE!"},{"$error":"#VALUE!"},{"$f":"IF(B48=\"\",0,INDEX(SignalHeads[Height ** (feet)],MATCH(B48,SignalHeads[Code],0)))","v":0},{"$f":"IF(L48=0,\"\",ROUNDDOWN(12*(((J48-L48)-MIN($J$31:$J$230-$L$31:$L$230)-(MAX($L$31:$L$230*(($J$31:$J$230-$L$31:$L$230)=MIN($J$31:$J$230-$L$31:$L$230)))-L48))+(MIN($J$31:$J$230-$L$31:$L$230)-$I$19)),0)/12)","v":""},"",{"$error":"#VALUE!"},17]
[19,null,{"$f":"IF(B49=\"\",0,INDEX(SignalHeads[Perp. Wind Area (sft)],MATCH(B49,SignalHeads[Code],0)))","v":0},{"$f":"IF(B49=\"\",\"\",INDEX(SignalHeads[Weight*** (lbs)],MATCH(B49,SignalHeads[Code],0)))","v":""},{"$f":"IF(A49<=$I$17,INDEX(DesignConstants[Value],MATCH(\"Span Wire Weight (plf)\",DesignConstants[Design Constant],0)),0)","v":1.155},0,21.3675,{"$error":"#VALUE!"},{"$error":"#VALUE!"},{"$error":"#VALUE!"},{"$error":"#VALUE!"},{"$f":"IF(B49=\"\",0,INDEX(SignalHeads[Height ** (feet)],MATCH(B49,SignalHeads[Code],0)))","v":0},{"$f":"IF(L49=0,\"\",ROUNDDOWN(12*(((J49-L49)-MIN($J$31:$J$230-$L$31:$L$230)-(MAX($L$31:$L$230*(($J$31:$J$230-$L$31:$L$230)=MIN($J$31:$J$230-$L$31:$L$230)))-L49))+(MIN($J$31:$J$230-$L$31:$L$230)-$I$19)),0)/12)","v":""},"",{"$error":"#VALUE!"},17]
[20,null,{"$f":"IF(B50=\"\",0,INDEX(SignalHeads[Perp. Wind Area (sft)],MATCH(B50,SignalHeads[Code],0)))","v":0},{"$f":"IF(B50=\"\",\"\",INDEX(SignalHeads[Weight*** (lbs)],MATCH(B50,SignalHeads[Code],0)))","v":""},{"$f":"IF(A50<=$I$17,INDEX(DesignConstants[Value],MATCH(\"Span Wire Weight (plf)\",DesignConstants[Design Constant],0)),0)","v":1.155},0,22.522500000000001,{"$error":"#VALUE!"},{"$error":"#VALUE!"},{"$error":"#VALUE!"},{"$error":"#VALUE!"},{"$f":"IF(B50=\"\",0,INDEX(SignalHeads[Height ** (feet)],MATCH(B50,SignalHeads[Code],0)))","v":0},{"$f":"IF(L50=0,\"\",ROUNDDOWN(12*(((J50-L50)-MIN($J$31:$J$230-$L$31:$L$230)-(MAX($L$31:$L$230*(($J$31:$J$230-$L$31:$L$230)=MIN($J$31:$J$230-$L$31:$L$230)))-L50))+(MIN($J$31:$J$230-$L$31:$L$230)-$I$19)),0)/12)","v":""},"",{"$error":"#VALUE!"},17]
[21,null,{"$f":"IF(B51=\"\",0,INDEX(SignalHeads[Perp. Wind Area (sft)],MATCH(B51,SignalHeads[Code],0)))","v":0},{"$f":"IF(B51=\"\",\"\",INDEX(SignalHeads[Weight*** (lbs)],MATCH(B51,SignalHeads[Code],0)))","v":""},{"$f":"IF(A51<=$I$17,INDEX(DesignConstants[Value],MATCH(\"Span Wire Weight (plf)\",DesignConstants[Design Constant],0)),0)","v":1.155},0,23.677500000000002,{"$error":"#VALUE!"},{"$error":"#VALUE!"},{"$error":"#VALUE!"},{"$error":"#VALUE!"},{"$f":"IF(B51=\"\",0,INDEX(SignalHeads[Height ** (feet)],MATCH(B51,SignalHeads[Code],0)))","v":0},{"$f":"IF(L51=0,\"\",ROUNDDOWN(12*(((J51-L51)-MIN($J$31:$J$230-$L$31:$L$230)-(MAX($L$31:$L$230*(($J$31:$J$230-$L$31:$L$230)=MIN($J$31:$J$230-$L$31:$L$230)))-L51))+(MIN($J$31:$J$230-$L$31:$L$230)-$I$19)),0)/12)","v":""},"",{"$error":"#VALUE!"},17]
[22,null,{"$f":"IF(B52=\"\",0,INDEX(SignalHeads[Perp. Wind Area (sft)],MATCH(B52,SignalHeads[Code],0)))","v":0},{"$f":"IF(B52=\"\",\"\",INDEX(SignalHeads[Weight*** (lbs)],MATCH(B52,SignalHeads[Code],0)))","v":""},{"$f":"IF(A52<=$I$17,INDEX(DesignConstants[Value],MATCH(\"Span Wire Weight (plf)\",DesignConstants[Design Constant],0)),0)","v":1.155},0,24.8325,{"$error":"#VALUE!"},{"$error":"#VALUE!"},{"$error":"#VALUE!"},{"$error":"#VALUE!"},{"$f":"IF(B52=\"\",0,INDEX(SignalHeads[Height ** (feet)],MATCH(B52,SignalHeads[Code],0)))","v":0},{"$f":"IF(L52=0,\"\",ROUNDDOWN(12*(((J52-L52)-MIN($J$31:$J$230-$L$31:$L$230)-(MAX($L$31:$L$230*(($J$31:$J$230-$L$31:$L$230)=MIN($J$31:$J$230-$L$31:$L$230)))-L52))+(MIN($J$31:$J$230-$L$31:$L$230)-$I$19)),0)/12)","v":""},"",{"$error":"#VALUE!"},17]
[23,null,{"$f":"IF(B53=\"\",0,INDEX(SignalHeads[Perp. Wind Area (sft)],MATCH(B53,SignalHeads[Code],0)))","v":0},{"$f":"IF(B53=\"\",\"\",INDEX(SignalHeads[Weight*** (lbs)],MATCH(B53,SignalHeads[Code],0)))","v":""},{"$f":"IF(A53<=$I$17,INDEX(DesignConstants[Value],MATCH(\"Span Wire Weight (plf)\",DesignConstants[Design Constant],0)),0)","v":1.155},0,25.987500000000001,{"$error":"#VALUE!"},{"$error":"#VALUE!"},{"$error":"#VALUE!"},{"$error":"#VALUE!"},{"$f":"IF(B53=\"\",0,INDEX(SignalHeads[Height ** (feet)],MATCH(B53,SignalHeads[Code],0)))","v":0},{"$f":"IF(L53=0,\"\",ROUNDDOWN(12*(((J53-L53)-MIN($J$31:$J$230-$L$31:$L$230)-(MAX($L$31:$L$230*(($J$31:$J$230-$L$31:$L$230)=MIN($J$31:$J$230-$L$31:$L$230)))-L53))+(MIN($J$31:$J$230-$L$31:$L$230)-$I$19)),0)/12)","v":""},"",{"$error":"#VALUE!"},17]
[24,null,{"$f":"IF(B54=\"\",0,INDEX(SignalHeads[Perp. Wind Area (sft)],MATCH(B54,SignalHeads[Code],0)))","v":0},{"$f":"IF(B54=\"\",\"\",INDEX(SignalHeads[Weight*** (lbs)],MATCH(B54,SignalHeads[Code],0)))","v":""},{"$f":"IF(A54<=$I$17,INDEX(DesignConstants[Value],MATCH(\"Span Wire Weight (plf)\",DesignConstants[Design Constant],0)),0)","v":1.155},0,27.142500000000002,{"$error":"#VALUE!"},{"$error":"#VALUE!"},{"$error":"#VALUE!"},{"$error":"#VALUE!"},{"$f":"IF(B54=\"\",0,INDEX(SignalHeads[Height ** (feet)],MATCH(B54,SignalHeads[Code],0)))","v":0},{"$f":"IF(L54=0,\"\",ROUNDDOWN(12*(((J54-L54)-MIN($J$31:$J$230-$L$31:$L$230)-(MAX($L$31:$L$230*(($J$31:$J$230-$L$31:$L$230)=MIN($J$31:$J$230-$L$31:$L$230)))-L54))+(MIN($J$31:$J$230-$L$31:$L$230)-$I$19)),0)/12)","v":""},"",{"$error":"#VALUE!"},17]
[25,null,{"$f":"IF(B55=\"\",0,INDEX(SignalHeads[Perp. Wind Area (sft)],MATCH(B55,SignalHeads[Code],0)))","v":0},{"$f":"IF(B55=\"\",\"\",INDEX(SignalHeads[Weight*** (lbs)],MATCH(B55,SignalHeads[Code],0)))","v":""},{"$f":"IF(A55<=$I$17,INDEX(DesignConstants[Value],MATCH(\"Span Wire Weight (plf)\",DesignConstants[Design Constant],0)),0)","v":1.155},0,28.297499999999999,{"$error":"#VALUE!"},{"$error":"#VALUE!"},{"$error":"#VALUE!"},{"$error":"#VALUE!"},{"$f":"IF(B55=\"\",0,INDEX(SignalHeads[Height ** (feet)],MATCH(B55,SignalHeads[Code],0)))","v":0},{"$f":"IF(L55=0,\"\",ROUNDDOWN(12*(((J55-L55)-MIN($J$31:$J$230-$L$31:$L$230)-(MAX($L$31:$L$230*(($J$31:$J$230-$L$31:$L$230)=MIN($J$31:$J$230-$L$31:$L$230)))-L55))+(MIN($J$31:$J$230-$L$31:$L$230)-$I$19)),0)/12)","v":""},"",{"$error":"#VALUE!"},17]
[26,null,{"$f":"IF(B56=\"\",0,INDEX(SignalHeads[Perp. Wind Area (sft)],MATCH(B56,SignalHeads[Code],0)))","v":0},{"$f":"IF(B56=\"\",\"\",INDEX(SignalHeads[Weight*** (lbs)],MATCH(B56,SignalHeads[Code],0)))","v":""},{"$f":"IF(A56<=$I$17,INDEX(DesignConstants[Value],MATCH(\"Span Wire Weight (plf)\",DesignConstants[Design Constant],0)),0)","v":1.155},0,29.452500000000001,{"$error":"#VALUE!"},{"$error":"#VALUE!"},{"$error":"#VALUE!"},{"$error":"#VALUE!"},{"$f":"IF(B56=\"\",0,INDEX(SignalHeads[Height ** (feet)],MATCH(B56,SignalHeads[Code],0)))","v":0},{"$f":"IF(L56=0,\"\",ROUNDDOWN(12*(((J56-L56)-MIN($J$31:$J$230-$L$31:$L$230)-(MAX($L$31:$L$230*(($J$31:$J$230-$L$31:$L$230)=MIN($J$31:$J$230-$L$31:$L$230)))-L56))+(MIN($J$31:$J$230-$L$31:$L$230)-$I$19)),0)/12)","v":""},"",{"$error":"#VALUE!"},17]
[27,null,{"$f":"IF(B57=\"\",0,INDEX(SignalHeads[Perp. Wind Area (sft)],MATCH(B57,SignalHeads[Code],0)))","v":0},{"$f":"IF(B57=\"\",\"\",INDEX(SignalHeads[Weight*** (lbs)],MATCH(B57,SignalHeads[Code],0)))","v":""},{"$f":"IF(A57<=$I$17,INDEX(DesignConstants[Value],MATCH(\"Span Wire Weight (plf)\",DesignConstants[Design Constant],0)),0)","v":1.155},0,30.607500000000002,{"$error":"#VALUE!"},{"$error":"#VALUE!"},{"$error":"#VALUE!"},{"$error":"#VALUE!"},{"$f":"IF(B57=\"\",0,INDEX(SignalHeads[Height ** (feet)],MATCH(B57,SignalHeads[Code],0)))","v":0},{"$f":"IF(L57=0,\"\",ROUNDDOWN(12*(((J57-L57)-MIN($J$31:$J$230-$L$31:$L$230)-(MAX($L$31:$L$230*(($J$31:$J$230-$L$31:$L$230)=MIN($J$31:$J$230-$L$31:$L$230)))-L57))+(MIN($J$31:$J$230-$L$31:$L$230)-$I$19)),0)/12)","v":""},"",{"$error":"#VALUE!"},17]
[28,null,{"$f":"IF(B58=\"\",0,INDEX(SignalHeads[Perp. Wind Area (sft)],MATCH(B58,SignalHeads[Code],0)))","v":0},{"$f":"IF(B58=\"\",\"\",INDEX(SignalHeads[Weight*** (lbs)],MATCH(B58,SignalHeads[Code],0)))","v":""},{"$f":"IF(A58<=$I$17,INDEX(DesignConstants[Value],MATCH(\"Span Wire Weight (plf)\",DesignConstants[Design Constant],0)),0)","v":1.155},0,31.762499999999999,{"$error":"#VALUE!"},{"$error":"#VALUE!"},{"$error":"#VALUE!"},{"$error":"#VALUE!"},{"$f":"IF(B58=\"\",0,INDEX(SignalHeads[Height ** (feet)],MATCH(B58,SignalHeads[Code],0)))","v":0},{"$f":"IF(L58=0,\"\",ROUNDDOWN(12*(((J58-L58)-MIN($J$31:$J$230-$L$31:$L$230)-(MAX($L$31:$L$230*(($J$31:$J$230-$L$31:$L$230)=MIN($J$31:$J$230-$L$31:$L$230)))-L58))+(MIN($J$31:$J$230-$L$31:$L$230)-$I$19)),0)/12)","v":""},"",{"$error":"#VALUE!"},17]
[29,null,{"$f":"IF(B59=\"\",0,INDEX(SignalHeads[Perp. Wind Area (sft)],MATCH(B59,SignalHeads[Code],0)))","v":0},{"$f":"IF(B59=\"\",\"\",INDEX(SignalHeads[Weight*** (lbs)],MATCH(B59,SignalHeads[Code],0)))","v":""},{"$f":"IF(A59<=$I$17,INDEX(DesignConstants[Value],MATCH(\"Span Wire Weight (plf)\",DesignConstants[Design Constant],0)),0)","v":1.155},0,32.917500000000004,{"$error":"#VALUE!"},{"$error":"#VALUE!"},{"$error":"#VALUE!"},{"$error":"#VALUE!"},{"$f":"IF(B59=\"\",0,INDEX(SignalHeads[Height ** (feet)],MATCH(B59,SignalHeads[Code],0)))","v":0},{"$f":"IF(L59=0,\"\",ROUNDDOWN(12*(((J59-L59)-MIN($J$31:$J$230-$L$31:$L$230)-(MAX($L$31:$L$230*(($J$31:$J$230-$L$31:$L$230)=MIN($J$31:$J$230-$L$31:$L$230)))-L59))+(MIN($J$31:$J$230-$L$31:$L$230)-$I$19)),0)/12)","v":""},"",{"$error":"#VALUE!"},17]
[30,null,{"$f":"IF(B60=\"\",0,INDEX(SignalHeads[Perp. Wind Area (sft)],MATCH(B60,SignalHeads[Code],0)))","v":0},{"$f":"IF(B60=\"\",\"\",INDEX(SignalHeads[Weight*** (lbs)],MATCH(B60,SignalHeads[Code],0)))","v":""},{"$f":"IF(A60<=$I$17,INDEX(DesignConstants[Value],MATCH(\"Span Wire Weight (plf)\",DesignConstants[Design Constant],0)),0)","v":1.155},0,34.072499999999998,{"$error":"#VALUE!"},{"$error":"#VALUE!"},{"$error":"#VALUE!"},{"$error":"#VALUE!"},{"$f":"IF(B60=\"\",0,INDEX(SignalHeads[Height ** (feet)],MATCH(B60,SignalHeads[Code],0)))","v":0},{"$f":"IF(L60=0,\"\",ROUNDDOWN(12*(((J60-L60)-MIN($J$31:$J$230-$L$31:$L$230)-(MAX($L$31:$L$230*(($J$31:$J$230-$L$31:$L$230)=MIN($J$31:$J$230-$L$31:$L$230)))-L60))+(MIN($J$31:$J$230-$L$31:$L$230)-$I$19)),0)/12)","v":""},"",{"$error":"#VALUE!"},17]
[31,null,{"$f":"IF(B61=\"\",0,INDEX(SignalHeads[Perp. Wind Area (sft)],MATCH(B61,SignalHeads[Code],0)))","v":0},{"$f":"IF(B61=\"\",\"\",INDEX(SignalHeads[Weight*** (lbs)],MATCH(B61,SignalHeads[Code],0)))","v":""},{"$f":"IF(A61<=$I$17,INDEX(DesignConstants[Value],MATCH(\"Span Wire Weight (plf)\",DesignConstants[Design Constant],0)),0)","v":1.155},0,35.227499999999999,{"$error":"#VALUE!"},{"$error":"#VALUE!"},{"$error":"#VALUE!"},{"$error":"#VALUE!"},{"$f":"IF(B61=\"\",0,INDEX(SignalHeads[Height ** (feet)],MATCH(B61,SignalHeads[Code],0)))","v":0},{"$f":"IF(L61=0,\"\",ROUNDDOWN(12*(((J61-L61)-MIN($J$31:$J$230-$L$31:$L$230)-(MAX($L$31:$L$230*(($J$31:$J$230-$L$31:$L$230)=MIN($J$31:$J$230-$L$31:$L$230)))-L61))+(MIN($J$31:$J$230-$L$31:$L$230)-$I$19)),0)/12)","v":""},"",{"$error":"#VALUE!"},17]
[32,null,{"$f":"IF(B62=\"\",0,INDEX(SignalHeads[Perp. Wind Area (sft)],MATCH(B62,SignalHeads[Code],0)))","v":0},{"$f":"IF(B62=\"\",\"\",INDEX(SignalHeads[Weight*** (lbs)],MATCH(B62,SignalHeads[Code],0)))","v":""},{"$f":"IF(A62<=$I$17,INDEX(DesignConstants[Value],MATCH(\"Span Wire Weight (plf)\",DesignConstants[Design Constant],0)),0)","v":1.155},0,36.3825,{"$error":"#VALUE!"},{"$error":"#VALUE!"},{"$error":"#VALUE!"},{"$error":"#VALUE!"},{"$f":"IF(B62=\"\",0,INDEX(SignalHeads[Height ** (feet)],MATCH(B62,SignalHeads[Code],0)))","v":0},{"$f":"IF(L62=0,\"\",ROUNDDOWN(12*(((J62-L62)-MIN($J$31:$J$230-$L$31:$L$230)-(MAX($L$31:$L$230*(($J$31:$J$230-$L$31:$L$230)=MIN($J$31:$J$230-$L$31:$L$230)))-L62))+(MIN($J$31:$J$230-$L$31:$L$230)-$I$19)),0)/12)","v":""},"",{"$error":"#VALUE!"},17]
[33,null,{"$f":"IF(B63=\"\",0,INDEX(SignalHeads[Perp. Wind Area (sft)],MATCH(B63,SignalHeads[Code],0)))","v":0},{"$f":"IF(B63=\"\",\"\",INDEX(SignalHeads[Weight*** (lbs)],MATCH(B63,SignalHeads[Code],0)))","v":""},{"$f":"IF(A63<=$I$17,INDEX(DesignConstants[Value],MATCH(\"Span Wire Weight (plf)\",DesignConstants[Design Constant],0)),0)","v":1.155},0,{"$f":"+E63*(A63-0.5)","v":37.537500000000001},{"$error":"#VALUE!"},{"$error":"#VALUE!"},{"$error":"#VALUE!"},{"$f":"IF(A63>$I$17,0,($N$24-$N$15)/$I$17*A63+$N$15)","v":{"$error":"#VALUE!"}},{"$f":"IF(B63=\"\",0,INDEX(SignalHeads[Height ** (feet)],MATCH(B63,SignalHeads[Code],0)))","v":0},{"$f":"IF(L63=0,\"\",ROUNDDOWN(12*(((J63-L63)-MIN($J$31:$J$230-$L$31:$L$230)-(MAX($L$31:$L$230*(($J$31:$J$230-$L$31:$L$230)=MIN($J$31:$J$230-$L$31:$L$230)))-L63))+(MIN($J$31:$J$230-$L$31:$L$230)-$I$19)),0)/12)","v":""},"",{"$error":"#VALUE!"},{"$f":"$I$19","v":17}]
[34,null,{"$f":"IF(B64=\"\",0,INDEX(SignalHeads[Perp. Wind Area (sft)],MATCH(B64,SignalHeads[Code],0)))","v":0},{"$f":"IF(B64=\"\",\"\",INDEX(SignalHeads[Weight*** (lbs)],MATCH(B64,SignalHeads[Code],0)))","v":""},{"$f":"IF(A64<=$I$17,INDEX(DesignConstants[Value],MATCH(\"Span Wire Weight (plf)\",DesignConstants[Design Constant],0)),0)","v":1.155},0,38.692500000000003,{"$f":"H63+(IF(B64=\"\",0,D64))+E64","v":{"$error":"#VALUE!"}},{"$f":"(0.5*E64+(IF(B64=\"\",0,D64))+H63)/$I$13","v":{"$error":"#VALUE!"}},{"$error":"#VALUE!"},{"$error":"#VALUE!"},{"$f":"IF(B64=\"\",0,INDEX(SignalHeads[Height ** (feet)],MATCH(B64,SignalHeads[Code],0)))","v":0},{"$f":"IF(L64=0,\"\",ROUNDDOWN(12*(((J64-L64)-MIN($J$31:$J$230-$L$31:$L$230)-(MAX($L$31:$L$230*(($J$31:$J$230-$L$31:$L$230)=MIN($J$31:$J$230-$L$31:$L$230)))-L64))+(MIN($J$31:$J$230-$L$31:$L$230)-$I$19)),0)/12)","v":""},"",{"$error":"#VALUE!"},17]
[35,null,{"$f":"IF(B65=\"\",0,INDEX(SignalHeads[Perp. Wind Area (sft)],MATCH(B65,SignalHeads[Code],0)))","v":0},{"$f":"IF(B65=\"\",\"\",INDEX(SignalHeads[Weight*** (lbs)],MATCH(B65,SignalHeads[Code],0)))","v":""},{"$f":"IF(A65<=$I$17,INDEX(DesignConstants[Value],MATCH(\"Span Wire Weight (plf)\",DesignConstants[Design Constant],0)),0)","v":1.155},0,39.847500000000004,{"$error":"#VALUE!"},{"$error":"#VALUE!"},{"$error":"#VALUE!"},{"$error":"#VALUE!"},{"$f":"IF(B65=\"\",0,INDEX(SignalHeads[Height ** (feet)],MATCH(B65,SignalHeads[Code],0)))","v":0},{"$f":"IF(L65=0,\"\",ROUNDDOWN(12*(((J65-L65)-MIN($J$31:$J$230-$L$31:$L$230)-(MAX($L$31:$L$230*(($J$31:$J$230-$L$31:$L$230)=MIN($J$31:$J$230-$L$31:$L$230)))-L65))+(MIN($J$31:$J$230-$L$31:$L$230)-$I$19)),0)/12)","v":""},"",{"$error":"#VALUE!"},17]
[36,null,{"$f":"IF(B66=\"\",0,INDEX(SignalHeads[Perp. Wind Area (sft)],MATCH(B66,SignalHeads[Code],0)))","v":0},{"$f":"IF(B66=\"\",\"\",INDEX(SignalHeads[Weight*** (lbs)],MATCH(B66,SignalHeads[Code],0)))","v":""},{"$f":"IF(A66<=$I$17,INDEX(DesignConstants[Value],MATCH(\"Span Wire Weight (plf)\",DesignConstants[Design Constant],0)),0)","v":1.155},0,41.002499999999998,{"$error":"#VALUE!"},{"$error":"#VALUE!"},{"$error":"#VALUE!"},{"$error":"#VALUE!"},{"$f":"IF(B66=\"\",0,INDEX(SignalHeads[Height ** (feet)],MATCH(B66,SignalHeads[Code],0)))","v":0},{"$f":"IF(L66=0,\"\",ROUNDDOWN(12*(((J66-L66)-MIN($J$31:$J$230-$L$31:$L$230)-(MAX($L$31:$L$230*(($J$31:$J$230-$L$31:$L$230)=MIN($J$31:$J$230-$L$31:$L$230)))-L66))+(MIN($J$31:$J$230-$L$31:$L$230)-$I$19)),0)/12)","v":""},"",{"$error":"#VALUE!"},17]
[37,null,{"$f":"IF(B67=\"\",0,INDEX(SignalHeads[Perp. Wind Area (sft)],MATCH(B67,SignalHeads[Code],0)))","v":0},{"$f":"IF(B67=\"\",\"\",INDEX(SignalHeads[Weight*** (lbs)],MATCH(B67,SignalHeads[Code],0)))","v":""},{"$f":"IF(A67<=$I$17,INDEX(DesignConstants[Value],MATCH(\"Span Wire Weight (plf)\",DesignConstants[Design Constant],0)),0)","v":1.155},0,42.157499999999999,{"$error":"#VALUE!"},{"$error":"#VALUE!"},{"$error":"#VALUE!"},{"$error":"#VALUE!"},{"$f":"IF(B67=\"\",0,INDEX(SignalHeads[Height ** (feet)],MATCH(B67,SignalHeads[Code],0)))","v":0},{"$f":"IF(L67=0,\"\",ROUNDDOWN(12*(((J67-L67)-MIN($J$31:$J$230-$L$31:$L$230)-(MAX($L$31:$L$230*(($J$31:$J$230-$L$31:$L$230)=MIN($J$31:$J$230-$L$31:$L$230)))-L67))+(MIN($J$31:$J$230-$L$31:$L$230)-$I$19)),0)/12)","v":""},"",{"$error":"#VALUE!"},17]
[38,null,{"$f":"IF(B68=\"\",0,INDEX(SignalHeads[Perp. Wind Area (sft)],MATCH(B68,SignalHeads[Code],0)))","v":0},{"$f":"IF(B68=\"\",\"\",INDEX(SignalHeads[Weight*** (lbs)],MATCH(B68,SignalHeads[Code],0)))","v":""},{"$f":"IF(A68<=$I$17,INDEX(DesignConstants[Value],MATCH(\"Span Wire Weight (plf)\",DesignConstants[Design Constant],0)),0)","v":1.155},0,43.3125,{"$error":"#VALUE!"},{"$error":"#VALUE!"},{"$error":"#VALUE!"},{"$error":"#VALUE!"},{"$f":"IF(B68=\"\",0,INDEX(SignalHeads[Height ** (feet)],MATCH(B68,SignalHeads[Code],0)))","v":0},{"$f":"IF(L68=0,\"\",ROUNDDOWN(12*(((J68-L68)-MIN($J$31:$J$230-$L$31:$L$230)-(MAX($L$31:$L$230*(($J$31:$J$230-$L$31:$L$230)=MIN($J$31:$J$230-$L$31:$L$230)))-L68))+(MIN($J$31:$J$230-$L$31:$L$230)-$I$19)),0)/12)","v":""},"",{"$error":"#VALUE!"},17]
[39,null,{"$f":"IF(B69=\"\",0,INDEX(SignalHeads[Perp. Wind Area (sft)],MATCH(B69,SignalHeads[Code],0)))","v":0},{"$f":"IF(B69=\"\",\"\",INDEX(SignalHeads[Weight*** (lbs)],MATCH(B69,SignalHeads[Code],0)))","v":""},{"$f":"IF(A69<=$I$17,INDEX(DesignConstants[Value],MATCH(\"Span Wire Weight (plf)\",DesignConstants[Design Constant],0)),0)","v":1.155},0,44.467500000000001,{"$error":"#VALUE!"},{"$error":"#VALUE!"},{"$error":"#VALUE!"},{"$error":"#VALUE!"},{"$f":"IF(B69=\"\",0,INDEX(SignalHeads[Height ** (feet)],MATCH(B69,SignalHeads[Code],0)))","v":0},{"$f":"IF(L69=0,\"\",ROUNDDOWN(12*(((J69-L69)-MIN($J$31:$J$230-$L$31:$L$230)-(MAX($L$31:$L$230*(($J$31:$J$230-$L$31:$L$230)=MIN($J$31:$J$230-$L$31:$L$230)))-L69))+(MIN($J$31:$J$230-$L$31:$L$230)-$I$19)),0)/12)","v":""},"",{"$error":"#VALUE!"},17]
[40,null,{"$f":"IF(B70=\"\",0,INDEX(SignalHeads[Perp. Wind Area (sft)],MATCH(B70,SignalHeads[Code],0)))","v":0},{"$f":"IF(B70=\"\",\"\",INDEX(SignalHeads[Weight*** (lbs)],MATCH(B70,SignalHeads[Code],0)))","v":""},{"$f":"IF(A70<=$I$17,INDEX(DesignConstants[Value],MATCH(\"Span Wire Weight (plf)\",DesignConstants[Design Constant],0)),0)","v":1.155},0,45.622500000000002,{"$error":"#VALUE!"},{"$error":"#VALUE!"},{"$error":"#VALUE!"},{"$error":"#VALUE!"},{"$f":"IF(B70=\"\",0,INDEX(SignalHeads[Height ** (feet)],MATCH(B70,SignalHeads[Code],0)))","v":0},{"$f":"IF(L70=0,\"\",ROUNDDOWN(12*(((J70-L70)-MIN($J$31:$J$230-$L$31:$L$230)-(MAX($L$31:$L$230*(($J$31:$J$230-$L$31:$L$230)=MIN($J$31:$J$230-$L$31:$L$230)))-L70))+(MIN($J$31:$J$230-$L$31:$L$230)-$I$19)),0)/12)","v":""},"",{"$error":"#VALUE!"},17]
[41,null,{"$f":"IF(B71=\"\",0,INDEX(SignalHeads[Perp. Wind Area (sft)],MATCH(B71,SignalHeads[Code],0)))","v":0},{"$f":"IF(B71=\"\",\"\",INDEX(SignalHeads[Weight*** (lbs)],MATCH(B71,SignalHeads[Code],0)))","v":""},{"$f":"IF(A71<=$I$17,INDEX(DesignConstants[Value],MATCH(\"Span Wire Weight (plf)\",DesignConstants[Design Constant],0)),0)","v":1.155},0,46.777500000000003,{"$error":"#VALUE!"},{"$error":"#VALUE!"},{"$error":"#VALUE!"},{"$error":"#VALUE!"},{"$f":"IF(B71=\"\",0,INDEX(SignalHeads[Height ** (feet)],MATCH(B71,SignalHeads[Code],0)))","v":0},{"$f":"IF(L71=0,\"\",ROUNDDOWN(12*(((J71-L71)-MIN($J$31:$J$230-$L$31:$L$230)-(MAX($L$31:$L$230*(($J$31:$J$230-$L$31:$L$230)=MIN($J$31:$J$230-$L$31:$L$230)))-L71))+(MIN($J$31:$J$230-$L$31:$L$230)-$I$19)),0)/12)","v":""},"",{"$error":"#VALUE!"},17]
[42,null,{"$f":"IF(B72=\"\",0,INDEX(SignalHeads[Perp. Wind Area (sft)],MATCH(B72,SignalHeads[Code],0)))","v":0},{"$f":"IF(B72=\"\",\"\",INDEX(SignalHeads[Weight*** (lbs)],MATCH(B72,SignalHeads[Code],0)))","v":""},{"$f":"IF(A72<=$I$17,INDEX(DesignConstants[Value],MATCH(\"Span Wire Weight (plf)\",DesignConstants[Design Constant],0)),0)","v":1.155},0,47.932500000000005,{"$error":"#VALUE!"},{"$error":"#VALUE!"},{"$error":"#VALUE!"},{"$error":"#VALUE!"},{"$f":"IF(B72=\"\",0,INDEX(SignalHeads[Height ** (feet)],MATCH(B72,SignalHeads[Code],0)))","v":0},{"$f":"IF(L72=0,\"\",ROUNDDOWN(12*(((J72-L72)-MIN($J$31:$J$230-$L$31:$L$230)-(MAX($L$31:$L$230*(($J$31:$J$230-$L$31:$L$230)=MIN($J$31:$J$230-$L$31:$L$230)))-L72))+(MIN($J$31:$J$230-$L$31:$L$230)-$I$19)),0)/12)","v":""},"",{"$error":"#VALUE!"},17]
[43,null,{"$f":"IF(B73=\"\",0,INDEX(SignalHeads[Perp. Wind Area (sft)],MATCH(B73,SignalHeads[Code],0)))","v":0},{"$f":"IF(B73=\"\",\"\",INDEX(SignalHeads[Weight*** (lbs)],MATCH(B73,SignalHeads[Code],0)))","v":""},{"$f":"IF(A73<=$I$17,INDEX(DesignConstants[Value],MATCH(\"Span Wire Weight (plf)\",DesignConstants[Design Constant],0)),0)","v":1.155},0,49.087499999999999,{"$error":"#VALUE!"},{"$error":"#VALUE!"},{"$error":"#VALUE!"},{"$error":"#VALUE!"},{"$f":"IF(B73=\"\",0,INDEX(SignalHeads[Height ** (feet)],MATCH(B73,SignalHeads[Code],0)))","v":0},{"$f":"IF(L73=0,\"\",ROUNDDOWN(12*(((J73-L73)-MIN($J$31:$J$230-$L$31:$L$230)-(MAX($L$31:$L$230*(($J$31:$J$230-$L$31:$L$230)=MIN($J$31:$J$230-$L$31:$L$230)))-L73))+(MIN($J$31:$J$230-$L$31:$L$230)-$I$19)),0)/12)","v":""},"",{"$error":"#VALUE!"},17]
[44,null,{"$f":"IF(B74=\"\",0,INDEX(SignalHeads[Perp. Wind Area (sft)],MATCH(B74,SignalHeads[Code],0)))","v":0},{"$f":"IF(B74=\"\",\"\",INDEX(SignalHeads[Weight*** (lbs)],MATCH(B74,SignalHeads[Code],0)))","v":""},{"$f":"IF(A74<=$I$17,INDEX(DesignConstants[Value],MATCH(\"Span Wire Weight (plf)\",DesignConstants[Design Constant],0)),0)","v":1.155},0,50.2425,{"$error":"#VALUE!"},{"$error":"#VALUE!"},{"$error":"#VALUE!"},{"$error":"#VALUE!"},{"$f":"IF(B74=\"\",0,INDEX(SignalHeads[Height ** (feet)],MATCH(B74,SignalHeads[Code],0)))","v":0},{"$f":"IF(L74=0,\"\",ROUNDDOWN(12*(((J74-L74)-MIN($J$31:$J$230-$L$31:$L$230)-(MAX($L$31:$L$230*(($J$31:$J$230-$L$31:$L$230)=MIN($J$31:$J$230-$L$31:$L$230)))-L74))+(MIN($J$31:$J$230-$L$31:$L$230)-$I$19)),0)/12)","v":""},"",{"$error":"#VALUE!"},17]
[45,null,{"$f":"IF(B75=\"\",0,INDEX(SignalHeads[Perp. Wind Area (sft)],MATCH(B75,SignalHeads[Code],0)))","v":0},{"$f":"IF(B75=\"\",\"\",INDEX(SignalHeads[Weight*** (lbs)],MATCH(B75,SignalHeads[Code],0)))","v":""},{"$f":"IF(A75<=$I$17,INDEX(DesignConstants[Value],MATCH(\"Span Wire Weight (plf)\",DesignConstants[Design Constant],0)),0)","v":1.155},0,51.397500000000001,{"$error":"#VALUE!"},{"$error":"#VALUE!"},{"$error":"#VALUE!"},{"$error":"#VALUE!"},{"$f":"IF(B75=\"\",0,INDEX(SignalHeads[Height ** (feet)],MATCH(B75,SignalHeads[Code],0)))","v":0},{"$f":"IF(L75=0,\"\",ROUNDDOWN(12*(((J75-L75)-MIN($J$31:$J$230-$L$31:$L$230)-(MAX($L$31:$L$230*(($J$31:$J$230-$L$31:$L$230)=MIN($J$31:$J$230-$L$31:$L$230)))-L75))+(MIN($J$31:$J$230-$L$31:$L$230)-$I$19)),0)/12)","v":""},"",{"$error":"#VALUE!"},17]
[46,null,{"$f":"IF(B76=\"\",0,INDEX(SignalHeads[Perp. Wind Area (sft)],MATCH(B76,SignalHeads[Code],0)))","v":0},{"$f":"IF(B76=\"\",\"\",INDEX(SignalHeads[Weight*** (lbs)],MATCH(B76,SignalHeads[Code],0)))","v":""},{"$f":"IF(A76<=$I$17,INDEX(DesignConstants[Value],MATCH(\"Span Wire Weight (plf)\",DesignConstants[Design Constant],0)),0)","v":1.155},0,52.552500000000002,{"$error":"#VALUE!"},{"$error":"#VALUE!"},{"$error":"#VALUE!"},{"$error":"#VALUE!"},{"$f":"IF(B76=\"\",0,INDEX(SignalHeads[Height ** (feet)],MATCH(B76,SignalHeads[Code],0)))","v":0},{"$f":"IF(L76=0,\"\",ROUNDDOWN(12*(((J76-L76)-MIN($J$31:$J$230-$L$31:$L$230)-(MAX($L$31:$L$230*(($J$31:$J$230-$L$31:$L$230)=MIN($J$31:$J$230-$L$31:$L$230)))-L76))+(MIN($J$31:$J$230-$L$31:$L$230)-$I$19)),0)/12)","v":""},"",{"$error":"#VALUE!"},17]
[47,null,{"$f":"IF(B77=\"\",0,INDEX(SignalHeads[Perp. Wind Area (sft)],MATCH(B77,SignalHeads[Code],0)))","v":0},{"$f":"IF(B77=\"\",\"\",INDEX(SignalHeads[Weight*** (lbs)],MATCH(B77,SignalHeads[Code],0)))","v":""},{"$f":"IF(A77<=$I$17,INDEX(DesignConstants[Value],MATCH(\"Span Wire Weight (plf)\",DesignConstants[Design Constant],0)),0)","v":1.155},0,53.707500000000003,{"$error":"#VALUE!"},{"$error":"#VALUE!"},{"$error":"#VALUE!"},{"$error":"#VALUE!"},{"$f":"IF(B77=\"\",0,INDEX(SignalHeads[Height ** (feet)],MATCH(B77,SignalHeads[Code],0)))","v":0},{"$f":"IF(L77=0,\"\",ROUNDDOWN(12*(((J77-L77)-MIN($J$31:$J$230-$L$31:$L$230)-(MAX($L$31:$L$230*(($J$31:$J$230-$L$31:$L$230)=MIN($J$31:$J$230-$L$31:$L$230)))-L77))+(MIN($J$31:$J$230-$L$31:$L$230)-$I$19)),0)/12)","v":""},"",{"$error":"#VALUE!"},17]
[48,null,{"$f":"IF(B78=\"\",0,INDEX(SignalHeads[Perp. Wind Area (sft)],MATCH(B78,SignalHeads[Code],0)))","v":0},{"$f":"IF(B78=\"\",\"\",INDEX(SignalHeads[Weight*** (lbs)],MATCH(B78,SignalHeads[Code],0)))","v":""},{"$f":"IF(A78<=$I$17,INDEX(DesignConstants[Value],MATCH(\"Span Wire Weight (plf)\",DesignConstants[Design Constant],0)),0)","v":1.155},0,54.862500000000004,{"$error":"#VALUE!"},{"$error":"#VALUE!"},{"$error":"#VALUE!"},{"$error":"#VALUE!"},{"$f":"IF(B78=\"\",0,INDEX(SignalHeads[Height ** (feet)],MATCH(B78,SignalHeads[Code],0)))","v":0},{"$f":"IF(L78=0,\"\",ROUNDDOWN(12*(((J78-L78)-MIN($J$31:$J$230-$L$31:$L$230)-(MAX($L$31:$L$230*(($J$31:$J$230-$L$31:$L$230)=MIN($J$31:$J$230-$L$31:$L$230)))-L78))+(MIN($J$31:$J$230-$L$31:$L$230)-$I$19)),0)/12)","v":""},"",{"$error":"#VALUE!"},17]
[49,null,{"$f":"IF(B79=\"\",0,INDEX(SignalHeads[Perp. Wind Area (sft)],MATCH(B79,SignalHeads[Code],0)))","v":0},{"$f":"IF(B79=\"\",\"\",INDEX(SignalHeads[Weight*** (lbs)],MATCH(B79,SignalHeads[Code],0)))","v":""},{"$f":"IF(A79<=$I$17,INDEX(DesignConstants[Value],MATCH(\"Span Wire Weight (plf)\",DesignConstants[Design Constant],0)),0)","v":1.155},0,56.017499999999998,{"$error":"#VALUE!"},{"$error":"#VALUE!"},{"$error":"#VALUE!"},{"$error":"#VALUE!"},{"$f":"IF(B79=\"\",0,INDEX(SignalHeads[Height ** (feet)],MATCH(B79,SignalHeads[Code],0)))","v":0},{"$f":"IF(L79=0,\"\",ROUNDDOWN(12*(((J79-L79)-MIN($J$31:$J$230-$L$31:$L$230)-(MAX($L$31:$L$230*(($J$31:$J$230-$L$31:$L$230)=MIN($J$31:$J$230-$L$31:$L$230)))-L79))+(MIN($J$31:$J$230-$L$31:$L$230)-$I$19)),0)/12)","v":""},"",{"$error":"#VALUE!"},17]
[50,null,{"$f":"IF(B80=\"\",0,INDEX(SignalHeads[Perp. Wind Area (sft)],MATCH(B80,SignalHeads[Code],0)))","v":0},{"$f":"IF(B80=\"\",\"\",INDEX(SignalHeads[Weight*** (lbs)],MATCH(B80,SignalHeads[Code],0)))","v":""},{"$f":"IF(A80<=$I$17,INDEX(DesignConstants[Value],MATCH(\"Span Wire Weight (plf)\",DesignConstants[Design Constant],0)),0)","v":1.155},0,57.172499999999999,{"$error":"#VALUE!"},{"$error":"#VALUE!"},{"$error":"#VALUE!"},{"$error":"#VALUE!"},{"$f":"IF(B80=\"\",0,INDEX(SignalHeads[Height ** (feet)],MATCH(B80,SignalHeads[Code],0)))","v":0},{"$f":"IF(L80=0,\"\",ROUNDDOWN(12*(((J80-L80)-MIN($J$31:$J$230-$L$31:$L$230)-(MAX($L$31:$L$230*(($J$31:$J$230-$L$31:$L$230)=MIN($J$31:$J$230-$L$31:$L$230)))-L80))+(MIN($J$31:$J$230-$L$31:$L$230)-$I$19)),0)/12)","v":""},"",{"$error":"#VALUE!"},17]
[51,null,{"$f":"IF(B81=\"\",0,INDEX(SignalHeads[Perp. Wind Area (sft)],MATCH(B81,SignalHeads[Code],0)))","v":0},{"$f":"IF(B81=\"\",\"\",INDEX(SignalHeads[Weight*** (lbs)],MATCH(B81,SignalHeads[Code],0)))","v":""},{"$f":"IF(A81<=$I$17,INDEX(DesignConstants[Value],MATCH(\"Span Wire Weight (plf)\",DesignConstants[Design Constant],0)),0)","v":1.155},0,58.327500000000001,{"$error":"#VALUE!"},{"$error":"#VALUE!"},{"$error":"#VALUE!"},{"$error":"#VALUE!"},{"$f":"IF(B81=\"\",0,INDEX(SignalHeads[Height ** (feet)],MATCH(B81,SignalHeads[Code],0)))","v":0},{"$f":"IF(L81=0,\"\",ROUNDDOWN(12*(((J81-L81)-MIN($J$31:$J$230-$L$31:$L$230)-(MAX($L$31:$L$230*(($J$31:$J$230-$L$31:$L$230)=MIN($J$31:$J$230-$L$31:$L$230)))-L81))+(MIN($J$31:$J$230-$L$31:$L$230)-$I$19)),0)/12)","v":""},"",{"$error":"#VALUE!"},17]
[52,null,{"$f":"IF(B82=\"\",0,INDEX(SignalHeads[Perp. Wind Area (sft)],MATCH(B82,SignalHeads[Code],0)))","v":0},{"$f":"IF(B82=\"\",\"\",INDEX(SignalHeads[Weight*** (lbs)],MATCH(B82,SignalHeads[Code],0)))","v":""},{"$f":"IF(A82<=$I$17,INDEX(DesignConstants[Value],MATCH(\"Span Wire Weight (plf)\",DesignConstants[Design Constant],0)),0)","v":1.155},0,59.482500000000002,{"$error":"#VALUE!"},{"$error":"#VALUE!"},{"$error":"#VALUE!"},{"$error":"#VALUE!"},{"$f":"IF(B82=\"\",0,INDEX(SignalHeads[Height ** (feet)],MATCH(B82,SignalHeads[Code],0)))","v":0},{"$f":"IF(L82=0,\"\",ROUNDDOWN(12*(((J82-L82)-MIN($J$31:$J$230-$L$31:$L$230)-(MAX($L$31:$L$230*(($J$31:$J$230-$L$31:$L$230)=MIN($J$31:$J$230-$L$31:$L$230)))-L82))+(MIN($J$31:$J$230-$L$31:$L$230)-$I$19)),0)/12)","v":""},"",{"$error":"#VALUE!"},17]
[53,null,{"$f":"IF(B83=\"\",0,INDEX(SignalHeads[Perp. Wind Area (sft)],MATCH(B83,SignalHeads[Code],0)))","v":0},{"$f":"IF(B83=\"\",\"\",INDEX(SignalHeads[Weight*** (lbs)],MATCH(B83,SignalHeads[Code],0)))","v":""},{"$f":"IF(A83<=$I$17,INDEX(DesignConstants[Value],MATCH(\"Span Wire Weight (plf)\",DesignConstants[Design Constant],0)),0)","v":1.155},0,60.637500000000003,{"$error":"#VALUE!"},{"$error":"#VALUE!"},{"$error":"#VALUE!"},{"$error":"#VALUE!"},{"$f":"IF(B83=\"\",0,INDEX(SignalHeads[Height ** (feet)],MATCH(B83,SignalHeads[Code],0)))","v":0},{"$f":"IF(L83=0,\"\",ROUNDDOWN(12*(((J83-L83)-MIN($J$31:$J$230-$L$31:$L$230)-(MAX($L$31:$L$230*(($J$31:$J$230-$L$31:$L$230)=MIN($J$31:$J$230-$L$31:$L$230)))-L83))+(MIN($J$31:$J$230-$L$31:$L$230)-$I$19)),0)/12)","v":""},"",{"$error":"#VALUE!"},17]
[54,null,{"$f":"IF(B84=\"\",0,INDEX(SignalHeads[Perp. Wind Area (sft)],MATCH(B84,SignalHeads[Code],0)))","v":0},{"$f":"IF(B84=\"\",\"\",INDEX(SignalHeads[Weight*** (lbs)],MATCH(B84,SignalHeads[Code],0)))","v":""},{"$f":"IF(A84<=$I$17,INDEX(DesignConstants[Value],MATCH(\"Span Wire Weight (plf)\",DesignConstants[Design Constant],0)),0)","v":1.155},0,61.792500000000004,{"$error":"#VALUE!"},{"$error":"#VALUE!"},{"$error":"#VALUE!"},{"$error":"#VALUE!"},{"$f":"IF(B84=\"\",0,INDEX(SignalHeads[Height ** (feet)],MATCH(B84,SignalHeads[Code],0)))","v":0},{"$f":"IF(L84=0,\"\",ROUNDDOWN(12*(((J84-L84)-MIN($J$31:$J$230-$L$31:$L$230)-(MAX($L$31:$L$230*(($J$31:$J$230-$L$31:$L$230)=MIN($J$31:$J$230-$L$31:$L$230)))-L84))+(MIN($J$31:$J$230-$L$31:$L$230)-$I$19)),0)/12)","v":""},"",{"$error":"#VALUE!"},17]
[55,null,{"$f":"IF(B85=\"\",0,INDEX(SignalHeads[Perp. Wind Area (sft)],MATCH(B85,SignalHeads[Code],0)))","v":0},{"$f":"IF(B85=\"\",\"\",INDEX(SignalHeads[Weight*** (lbs)],MATCH(B85,SignalHeads[Code],0)))","v":""},{"$f":"IF(A85<=$I$17,INDEX(DesignConstants[Value],MATCH(\"Span Wire Weight (plf)\",DesignConstants[Design Constant],0)),0)","v":1.155},0,62.947499999999998,{"$error":"#VALUE!"},{"$error":"#VALUE!"},{"$error":"#VALUE!"},{"$error":"#VALUE!"},{"$f":"IF(B85=\"\",0,INDEX(SignalHeads[Height ** (feet)],MATCH(B85,SignalHeads[Code],0)))","v":0},{"$f":"IF(L85=0,\"\",ROUNDDOWN(12*(((J85-L85)-MIN($J$31:$J$230-$L$31:$L$230)-(MAX($L$31:$L$230*(($J$31:$J$230-$L$31:$L$230)=MIN($J$31:$J$230-$L$31:$L$230)))-L85))+(MIN($J$31:$J$230-$L$31:$L$230)-$I$19)),0)/12)","v":""},"",{"$error":"#VALUE!"},17]
[56,null,{"$f":"IF(B86=\"\",0,INDEX(SignalHeads[Perp. Wind Area (sft)],MATCH(B86,SignalHeads[Code],0)))","v":0},{"$f":"IF(B86=\"\",\"\",INDEX(SignalHeads[Weight*** (lbs)],MATCH(B86,SignalHeads[Code],0)))","v":""},{"$f":"IF(A86<=$I$17,INDEX(DesignConstants[Value],MATCH(\"Span Wire Weight (plf)\",DesignConstants[Design Constant],0)),0)","v":1.155},0,64.102500000000006,{"$error":"#VALUE!"},{"$error":"#VALUE!"},{"$error":"#VALUE!"},{"$error":"#VALUE!"},{"$f":"IF(B86=\"\",0,INDEX(SignalHeads[Height ** (feet)],MATCH(B86,SignalHeads[Code],0)))","v":0},{"$f":"IF(L86=0,\"\",ROUNDDOWN(12*(((J86-L86)-MIN($J$31:$J$230-$L$31:$L$230)-(MAX($L$31:$L$230*(($J$31:$J$230-$L$31:$L$230)=MIN($J$31:$J$230-$L$31:$L$230)))-L86))+(MIN($J$31:$J$230-$L$31:$L$230)-$I$19)),0)/12)","v":""},"",{"$error":"#VALUE!"},17]
[57,null,{"$f":"IF(B87=\"\",0,INDEX(SignalHeads[Perp. Wind Area (sft)],MATCH(B87,SignalHeads[Code],0)))","v":0},{"$f":"IF(B87=\"\",\"\",INDEX(SignalHeads[Weight*** (lbs)],MATCH(B87,SignalHeads[Code],0)))","v":""},{"$f":"IF(A87<=$I$17,INDEX(DesignConstants[Value],MATCH(\"Span Wire Weight (plf)\",DesignConstants[Design Constant],0)),0)","v":1.155},0,65.257500000000007,{"$error":"#VALUE!"},{"$error":"#VALUE!"},{"$error":"#VALUE!"},{"$error":"#VALUE!"},{"$f":"IF(B87=\"\",0,INDEX(SignalHeads[Height ** (feet)],MATCH(B87,SignalHeads[Code],0)))","v":0},{"$f":"IF(L87=0,\"\",ROUNDDOWN(12*(((J87-L87)-MIN($J$31:$J$230-$L$31:$L$230)-(MAX($L$31:$L$230*(($J$31:$J$230-$L$31:$L$230)=MIN($J$31:$J$230-$L$31:$L$230)))-L87))+(MIN($J$31:$J$230-$L$31:$L$230)-$I$19)),0)/12)","v":""},"",{"$error":"#VALUE!"},17]
[58,null,{"$f":"IF(B88=\"\",0,INDEX(SignalHeads[Perp. Wind Area (sft)],MATCH(B88,SignalHeads[Code],0)))","v":0},{"$f":"IF(B88=\"\",\"\",INDEX(SignalHeads[Weight*** (lbs)],MATCH(B88,SignalHeads[Code],0)))","v":""},{"$f":"IF(A88<=$I$17,INDEX(DesignConstants[Value],MATCH(\"Span Wire Weight (plf)\",DesignConstants[Design Constant],0)),0)","v":1.155},0,66.412500000000009,{"$error":"#VALUE!"},{"$error":"#VALUE!"},{"$error":"#VALUE!"},{"$error":"#VALUE!"},{"$f":"IF(B88=\"\",0,INDEX(SignalHeads[Height ** (feet)],MATCH(B88,SignalHeads[Code],0)))","v":0},{"$f":"IF(L88=0,\"\",ROUNDDOWN(12*(((J88-L88)-MIN($J$31:$J$230-$L$31:$L$230)-(MAX($L$31:$L$230*(($J$31:$J$230-$L$31:$L$230)=MIN($J$31:$J$230-$L$31:$L$230)))-L88))+(MIN($J$31:$J$230-$L$31:$L$230)-$I$19)),0)/12)","v":""},"",{"$error":"#VALUE!"},17]
[59,null,{"$f":"IF(B89=\"\",0,INDEX(SignalHeads[Perp. Wind Area (sft)],MATCH(B89,SignalHeads[Code],0)))","v":0},{"$f":"IF(B89=\"\",\"\",INDEX(SignalHeads[Weight*** (lbs)],MATCH(B89,SignalHeads[Code],0)))","v":""},{"$f":"IF(A89<=$I$17,INDEX(DesignConstants[Value],MATCH(\"Span Wire Weight (plf)\",DesignConstants[Design Constant],0)),0)","v":1.155},0,67.567499999999995,{"$error":"#VALUE!"},{"$error":"#VALUE!"},{"$error":"#VALUE!"},{"$error":"#VALUE!"},{"$f":"IF(B89=\"\",0,INDEX(SignalHeads[Height ** (feet)],MATCH(B89,SignalHeads[Code],0)))","v":0},{"$f":"IF(L89=0,\"\",ROUNDDOWN(12*(((J89-L89)-MIN($J$31:$J$230-$L$31:$L$230)-(MAX($L$31:$L$230*(($J$31:$J$230-$L$31:$L$230)=MIN($J$31:$J$230-$L$31:$L$230)))-L89))+(MIN($J$31:$J$230-$L$31:$L$230)-$I$19)),0)/12)","v":""},"",{"$error":"#VALUE!"},17]
[60,null,{"$f":"IF(B90=\"\",0,INDEX(SignalHeads[Perp. Wind Area (sft)],MATCH(B90,SignalHeads[Code],0)))","v":0},{"$f":"IF(B90=\"\",\"\",INDEX(SignalHeads[Weight*** (lbs)],MATCH(B90,SignalHeads[Code],0)))","v":""},{"$f":"IF(A90<=$I$17,INDEX(DesignConstants[Value],MATCH(\"Span Wire Weight (plf)\",DesignConstants[Design Constant],0)),0)","v":1.155},0,68.722499999999997,{"$error":"#VALUE!"},{"$error":"#VALUE!"},{"$error":"#VALUE!"},{"$error":"#VALUE!"},{"$f":"IF(B90=\"\",0,INDEX(SignalHeads[Height ** (feet)],MATCH(B90,SignalHeads[Code],0)))","v":0},{"$f":"IF(L90=0,\"\",ROUNDDOWN(12*(((J90-L90)-MIN($J$31:$J$230-$L$31:$L$230)-(MAX($L$31:$L$230*(($J$31:$J$230-$L$31:$L$230)=MIN($J$31:$J$230-$L$31:$L$230)))-L90))+(MIN($J$31:$J$230-$L$31:$L$230)-$I$19)),0)/12)","v":""},"",{"$error":"#VALUE!"},17]
[61,null,{"$f":"IF(B91=\"\",0,INDEX(SignalHeads[Perp. Wind Area (sft)],MATCH(B91,SignalHeads[Code],0)))","v":0},{"$f":"IF(B91=\"\",\"\",INDEX(SignalHeads[Weight*** (lbs)],MATCH(B91,SignalHeads[Code],0)))","v":""},{"$f":"IF(A91<=$I$17,INDEX(DesignConstants[Value],MATCH(\"Span Wire Weight (plf)\",DesignConstants[Design Constant],0)),0)","v":1.155},0,69.877499999999998,{"$error":"#VALUE!"},{"$error":"#VALUE!"},{"$error":"#VALUE!"},{"$error":"#VALUE!"},{"$f":"IF(B91=\"\",0,INDEX(SignalHeads[Height ** (feet)],MATCH(B91,SignalHeads[Code],0)))","v":0},{"$f":"IF(L91=0,\"\",ROUNDDOWN(12*(((J91-L91)-MIN($J$31:$J$230-$L$31:$L$230)-(MAX($L$31:$L$230*(($J$31:$J$230-$L$31:$L$230)=MIN($J$31:$J$230-$L$31:$L$230)))-L91))+(MIN($J$31:$J$230-$L$31:$L$230)-$I$19)),0)/12)","v":""},"",{"$error":"#VALUE!"},17]
[62,null,{"$f":"IF(B92=\"\",0,INDEX(SignalHeads[Perp. Wind Area (sft)],MATCH(B92,SignalHeads[Code],0)))","v":0},{"$f":"IF(B92=\"\",\"\",INDEX(SignalHeads[Weight*** (lbs)],MATCH(B92,SignalHeads[Code],0)))","v":""},{"$f":"IF(A92<=$I$17,INDEX(DesignConstants[Value],MATCH(\"Span Wire Weight (plf)\",DesignConstants[Design Constant],0)),0)","v":1.155},0,71.032499999999999,{"$error":"#VALUE!"},{"$error":"#VALUE!"},{"$error":"#VALUE!"},{"$error":"#VALUE!"},{"$f":"IF(B92=\"\",0,INDEX(SignalHeads[Height ** (feet)],MATCH(B92,SignalHeads[Code],0)))","v":0},{"$f":"IF(L92=0,\"\",ROUNDDOWN(12*(((J92-L92)-MIN($J$31:$J$230-$L$31:$L$230)-(MAX($L$31:$L$230*(($J$31:$J$230-$L$31:$L$230)=MIN($J$31:$J$230-$L$31:$L$230)))-L92))+(MIN($J$31:$J$230-$L$31:$L$230)-$I$19)),0)/12)","v":""},"",{"$error":"#VALUE!"},17]
[63,null,{"$f":"IF(B93=\"\",0,INDEX(SignalHeads[Perp. Wind Area (sft)],MATCH(B93,SignalHeads[Code],0)))","v":0},{"$f":"IF(B93=\"\",\"\",INDEX(SignalHeads[Weight*** (lbs)],MATCH(B93,SignalHeads[Code],0)))","v":""},{"$f":"IF(A93<=$I$17,INDEX(DesignConstants[Value],MATCH(\"Span Wire Weight (plf)\",DesignConstants[Design Constant],0)),0)","v":1.155},0,72.1875,{"$error":"#VALUE!"},{"$error":"#VALUE!"},{"$error":"#VALUE!"},{"$error":"#VALUE!"},{"$f":"IF(B93=\"\",0,INDEX(SignalHeads[Height ** (feet)],MATCH(B93,SignalHeads[Code],0)))","v":0},{"$f":"IF(L93=0,\"\",ROUNDDOWN(12*(((J93-L93)-MIN($J$31:$J$230-$L$31:$L$230)-(MAX($L$31:$L$230*(($J$31:$J$230-$L$31:$L$230)=MIN($J$31:$J$230-$L$31:$L$230)))-L93))+(MIN($J$31:$J$230-$L$31:$L$230)-$I$19)),0)/12)","v":""},"",{"$error":"#VALUE!"},17]
[64,null,{"$f":"IF(B94=\"\",0,INDEX(SignalHeads[Perp. Wind Area (sft)],MATCH(B94,SignalHeads[Code],0)))","v":0},{"$f":"IF(B94=\"\",\"\",INDEX(SignalHeads[Weight*** (lbs)],MATCH(B94,SignalHeads[Code],0)))","v":""},{"$f":"IF(A94<=$I$17,INDEX(DesignConstants[Value],MATCH(\"Span Wire Weight (plf)\",DesignConstants[Design Constant],0)),0)","v":1.155},0,73.342500000000001,{"$error":"#VALUE!"},{"$error":"#VALUE!"},{"$error":"#VALUE!"},{"$error":"#VALUE!"},{"$f":"IF(B94=\"\",0,INDEX(SignalHeads[Height ** (feet)],MATCH(B94,SignalHeads[Code],0)))","v":0},{"$f":"IF(L94=0,\"\",ROUNDDOWN(12*(((J94-L94)-MIN($J$31:$J$230-$L$31:$L$230)-(MAX($L$31:$L$230*(($J$31:$J$230-$L$31:$L$230)=MIN($J$31:$J$230-$L$31:$L$230)))-L94))+(MIN($J$31:$J$230-$L$31:$L$230)-$I$19)),0)/12)","v":""},"",{"$error":"#VALUE!"},17]
[65,null,{"$f":"IF(B95=\"\",0,INDEX(SignalHeads[Perp. Wind Area (sft)],MATCH(B95,SignalHeads[Code],0)))","v":0},{"$f":"IF(B95=\"\",\"\",INDEX(SignalHeads[Weight*** (lbs)],MATCH(B95,SignalHeads[Code],0)))","v":""},{"$f":"IF(A95<=$I$17,INDEX(DesignConstants[Value],MATCH(\"Span Wire Weight (plf)\",DesignConstants[Design Constant],0)),0)","v":1.155},{"$f":"IF(B95=\"\",0,+D95*A95)","v":0},{"$f":"+E95*(A95-0.5)","v":74.497500000000002},{"$error":"#VALUE!"},{"$error":"#VALUE!"},{"$error":"#VALUE!"},{"$f":"IF(A95>$I$17,0,($N$24-$N$15)/$I$17*A95+$N$15)","v":{"$error":"#VALUE!"}},{"$f":"IF(B95=\"\",0,INDEX(SignalHeads[Height ** (feet)],MATCH(B95,SignalHeads[Code],0)))","v":0},{"$f":"IF(L95=0,\"\",ROUNDDOWN(12*(((J95-L95)-MIN($J$31:$J$230-$L$31:$L$230)-(MAX($L$31:$L$230*(($J$31:$J$230-$L$31:$L$230)=MIN($J$31:$J$230-$L$31:$L$230)))-L95))+(MIN($J$31:$J$230-$L$31:$L$230)-$I$19)),0)/12)","v":""},"",{"$error":"#VALUE!"},{"$f":"$I$19","v":17}]
[66,null,{"$f":"IF(B96=\"\",0,INDEX(SignalHeads[Perp. Wind Area (sft)],MATCH(B96,SignalHeads[Code],0)))","v":0},{"$f":"IF(B96=\"\",\"\",INDEX(SignalHeads[Weight*** (lbs)],MATCH(B96,SignalHeads[Code],0)))","v":""},{"$f":"IF(A96<=$I$17,INDEX(DesignConstants[Value],MATCH(\"Span Wire Weight (plf)\",DesignConstants[Design Constant],0)),0)","v":1.155},0,75.652500000000003,{"$f":"H95+(IF(B96=\"\",0,D96))+E96","v":{"$error":"#VALUE!"}},{"$f":"(0.5*E96+(IF(B96=\"\",0,D96))+H95)/$I$13","v":{"$error":"#VALUE!"}},{"$error":"#VALUE!"},{"$error":"#VALUE!"},{"$f":"IF(B96=\"\",0,INDEX(SignalHeads[Height ** (feet)],MATCH(B96,SignalHeads[Code],0)))","v":0},{"$f":"IF(L96=0,\"\",ROUNDDOWN(12*(((J96-L96)-MIN($J$31:$J$230-$L$31:$L$230)-(MAX($L$31:$L$230*(($J$31:$J$230-$L$31:$L$230)=MIN($J$31:$J$230-$L$31:$L$230)))-L96))+(MIN($J$31:$J$230-$L$31:$L$230)-$I$19)),0)/12)","v":""},{"$f":"IF(M96=\"\",\"\",INT(M96)&\"'-\"&ROUND((M96-INT(M96))*12,0)&\"\"\"\")","v":""},{"$f":"IF(A96<=$I$17,J96-L96-IF(ISNUMBER(M96),M96,0),\"\")","v":{"$error":"#VALUE!"}},17]
[67,null,{"$f":"IF(B97=\"\",0,INDEX(SignalHeads[Perp. Wind Area (sft)],MATCH(B97,SignalHeads[Code],0)))","v":0},{"$f":"IF(B97=\"\",\"\",INDEX(SignalHeads[Weight*** (lbs)],MATCH(B97,SignalHeads[Code],0)))","v":""},{"$f":"IF(A97<=$I$17,INDEX(DesignConstants[Value],MATCH(\"Span Wire Weight (plf)\",DesignConstants[Design Constant],0)),0)","v":1.155},0,76.807500000000005,{"$error":"#VALUE!"},{"$error":"#VALUE!"},{"$error":"#VALUE!"},{"$error":"#VALUE!"},{"$f":"IF(B97=\"\",0,INDEX(SignalHeads[Height ** (feet)],MATCH(B97,SignalHeads[Code],0)))","v":0},{"$f":"IF(L97=0,\"\",ROUNDDOWN(12*(((J97-L97)-MIN($J$31:$J$230-$L$31:$L$230)-(MAX($L$31:$L$230*(($J$31:$J$230-$L$31:$L$230)=MIN($J$31:$J$230-$L$31:$L$230)))-L97))+(MIN($J$31:$J$230-$L$31:$L$230)-$I$19)),0)/12)","v":""},"",{"$error":"#VALUE!"},17]
[68,null,{"$f":"IF(B98=\"\",0,INDEX(SignalHeads[Perp. Wind Area (sft)],MATCH(B98,SignalHeads[Code],0)))","v":0},{"$f":"IF(B98=\"\",\"\",INDEX(SignalHeads[Weight*** (lbs)],MATCH(B98,SignalHeads[Code],0)))","v":""},{"$f":"IF(A98<=$I$17,INDEX(DesignConstants[Value],MATCH(\"Span Wire Weight (plf)\",DesignConstants[Design Constant],0)),0)","v":1.155},0,77.962500000000006,{"$error":"#VALUE!"},{"$error":"#VALUE!"},{"$f":"+J97+I98","v":{"$error":"#VALUE!"}},{"$error":"#VALUE!"},{"$f":"IF(B98=\"\",0,INDEX(SignalHeads[Height ** (feet)],MATCH(B98,SignalHeads[Code],0)))","v":0},{"$f":"IF(L98=0,\"\",ROUNDDOWN(12*(((J98-L98)-MIN($J$31:$J$230-$L$31:$L$230)-(MAX($L$31:$L$230*(($J$31:$J$230-$L$31:$L$230)=MIN($J$31:$J$230-$L$31:$L$230)))-L98))+(MIN($J$31:$J$230-$L$31:$L$230)-$I$19)),0)/12)","v":""},"",{"$error":"#VALUE!"},17]
[69,null,{"$f":"IF(B99=\"\",0,INDEX(SignalHeads[Perp. Wind Area (sft)],MATCH(B99,SignalHeads[Code],0)))","v":0},{"$f":"IF(B99=\"\",\"\",INDEX(SignalHeads[Weight*** (lbs)],MATCH(B99,SignalHeads[Code],0)))","v":""},{"$f":"IF(A99<=$I$17,INDEX(DesignConstants[Value],MATCH(\"Span Wire Weight (plf)\",DesignConstants[Design Constant],0)),0)","v":1.155},0,79.117500000000007,{"$error":"#VALUE!"},{"$error":"#VALUE!"},{"$error":"#VALUE!"},{"$error":"#VALUE!"},{"$f":"IF(B99=\"\",0,INDEX(SignalHeads[Height ** (feet)],MATCH(B99,SignalHeads[Code],0)))","v":0},{"$f":"IF(L99=0,\"\",ROUNDDOWN(12*(((J99-L99)-MIN($J$31:$J$230-$L$31:$L$230)-(MAX($L$31:$L$230*(($J$31:$J$230-$L$31:$L$230)=MIN($J$31:$J$230-$L$31:$L$230)))-L99))+(MIN($J$31:$J$230-$L$31:$L$230)-$I$19)),0)/12)","v":""},"",{"$error":"#VALUE!"},17]
[70,null,{"$f":"IF(B100=\"\",0,INDEX(SignalHeads[Perp. Wind Area (sft)],MATCH(B100,SignalHeads[Code],0)))","v":0},{"$f":"IF(B100=\"\",\"\",INDEX(SignalHeads[Weight*** (lbs)],MATCH(B100,SignalHeads[Code],0)))","v":""},{"$f":"IF(A100<=$I$17,INDEX(DesignConstants[Value],MATCH(\"Span Wire Weight (plf)\",DesignConstants[Design Constant],0)),0)","v":1.155},0,80.272500000000008,{"$error":"#VALUE!"},{"$error":"#VALUE!"},{"$error":"#VALUE!"},{"$error":"#VALUE!"},{"$f":"IF(B100=\"\",0,INDEX(SignalHeads[Height ** (feet)],MATCH(B100,SignalHeads[Code],0)))","v":0},{"$f":"IF(L100=0,\"\",ROUNDDOWN(12*(((J100-L100)-MIN($J$31:$J$230-$L$31:$L$230)-(MAX($L$31:$L$230*(($J$31:$J$230-$L$31:$L$230)=MIN($J$31:$J$230-$L$31:$L$230)))-L100))+(MIN($J$31:$J$230-$L$31:$L$230)-$I$19)),0)/12)","v":""},"",{"$error":"#VALUE!"},17]
[71,null,{"$f":"IF(B101=\"\",0,INDEX(SignalHeads[Perp. Wind Area (sft)],MATCH(B101,SignalHeads[Code],0)))","v":0},{"$f":"IF(B101=\"\",\"\",INDEX(SignalHeads[Weight*** (lbs)],MATCH(B101,SignalHeads[Code],0)))","v":""},{"$f":"IF(A101<=$I$17,INDEX(DesignConstants[Value],MATCH(\"Span Wire Weight (plf)\",DesignConstants[Design Constant],0)),0)","v":1.155},0,81.427499999999995,{"$error":"#VALUE!"},{"$error":"#VALUE!"},{"$error":"#VALUE!"},{"$error":"#VALUE!"},{"$f":"IF(B101=\"\",0,INDEX(SignalHeads[Height ** (feet)],MATCH(B101,SignalHeads[Code],0)))","v":0},{"$f":"IF(L101=0,\"\",ROUNDDOWN(12*(((J101-L101)-MIN($J$31:$J$230-$L$31:$L$230)-(MAX($L$31:$L$230*(($J$31:$J$230-$L$31:$L$230)=MIN($J$31:$J$230-$L$31:$L$230)))-L101))+(MIN($J$31:$J$230-$L$31:$L$230)-$I$19)),0)/12)","v":""},"",{"$error":"#VALUE!"},17]
[72,null,{"$f":"IF(B102=\"\",0,INDEX(SignalHeads[Perp. Wind Area (sft)],MATCH(B102,SignalHeads[Code],0)))","v":0},{"$f":"IF(B102=\"\",\"\",INDEX(SignalHeads[Weight*** (lbs)],MATCH(B102,SignalHeads[Code],0)))","v":""},{"$f":"IF(A102<=$I$17,INDEX(DesignConstants[Value],MATCH(\"Span Wire Weight (plf)\",DesignConstants[Design Constant],0)),0)","v":1.155},0,82.582499999999996,{"$error":"#VALUE!"},{"$error":"#VALUE!"},{"$error":"#VALUE!"},{"$error":"#VALUE!"},{"$f":"IF(B102=\"\",0,INDEX(SignalHeads[Height ** (feet)],MATCH(B102,SignalHeads[Code],0)))","v":0},{"$f":"IF(L102=0,\"\",ROUNDDOWN(12*(((J102-L102)-MIN($J$31:$J$230-$L$31:$L$230)-(MAX($L$31:$L$230*(($J$31:$J$230-$L$31:$L$230)=MIN($J$31:$J$230-$L$31:$L$230)))-L102))+(MIN($J$31:$J$230-$L$31:$L$230)-$I$19)),0)/12)","v":""},"",{"$error":"#VALUE!"},17]
[73,null,{"$f":"IF(B103=\"\",0,INDEX(SignalHeads[Perp. Wind Area (sft)],MATCH(B103,SignalHeads[Code],0)))","v":0},{"$f":"IF(B103=\"\",\"\",INDEX(SignalHeads[Weight*** (lbs)],MATCH(B103,SignalHeads[Code],0)))","v":""},{"$f":"IF(A103<=$I$17,INDEX(DesignConstants[Value],MATCH(\"Span Wire Weight (plf)\",DesignConstants[Design Constant],0)),0)","v":1.155},0,83.737499999999997,{"$error":"#VALUE!"},{"$error":"#VALUE!"},{"$error":"#VALUE!"},{"$error":"#VALUE!"},{"$f":"IF(B103=\"\",0,INDEX(SignalHeads[Height ** (feet)],MATCH(B103,SignalHeads[Code],0)))","v":0},{"$f":"IF(L103=0,\"\",ROUNDDOWN(12*(((J103-L103)-MIN($J$31:$J$230-$L$31:$L$230)-(MAX($L$31:$L$230*(($J$31:$J$230-$L$31:$L$230)=MIN($J$31:$J$230-$L$31:$L$230)))-L103))+(MIN($J$31:$J$230-$L$31:$L$230)-$I$19)),0)/12)","v":""},"",{"$error":"#VALUE!"},17]
[74,null,{"$f":"IF(B104=\"\",0,INDEX(SignalHeads[Perp. Wind Area (sft)],MATCH(B104,SignalHeads[Code],0)))","v":0},{"$f":"IF(B104=\"\",\"\",INDEX(SignalHeads[Weight*** (lbs)],MATCH(B104,SignalHeads[Code],0)))","v":""},{"$f":"IF(A104<=$I$17,INDEX(DesignConstants[Value],MATCH(\"Span Wire Weight (plf)\",DesignConstants[Design Constant],0)),0)","v":1.155},0,84.892499999999998,{"$error":"#VALUE!"},{"$error":"#VALUE!"},{"$error":"#VALUE!"},{"$error":"#VALUE!"},{"$f":"IF(B104=\"\",0,INDEX(SignalHeads[Height ** (feet)],MATCH(B104,SignalHeads[Code],0)))","v":0},{"$f":"IF(L104=0,\"\",ROUNDDOWN(12*(((J104-L104)-MIN($J$31:$J$230-$L$31:$L$230)-(MAX($L$31:$L$230*(($J$31:$J$230-$L$31:$L$230)=MIN($J$31:$J$230-$L$31:$L$230)))-L104))+(MIN($J$31:$J$230-$L$31:$L$230)-$I$19)),0)/12)","v":""},"",{"$error":"#VALUE!"},17]
[75,null,{"$f":"IF(B105=\"\",0,INDEX(SignalHeads[Perp. Wind Area (sft)],MATCH(B105,SignalHeads[Code],0)))","v":0},{"$f":"IF(B105=\"\",\"\",INDEX(SignalHeads[Weight*** (lbs)],MATCH(B105,SignalHeads[Code],0)))","v":""},{"$f":"IF(A105<=$I$17,INDEX(DesignConstants[Value],MATCH(\"Span Wire Weight (plf)\",DesignConstants[Design Constant],0)),0)","v":1.155},0,86.047499999999999,{"$error":"#VALUE!"},{"$error":"#VALUE!"},{"$error":"#VALUE!"},{"$error":"#VALUE!"},{"$f":"IF(B105=\"\",0,INDEX(SignalHeads[Height ** (feet)],MATCH(B105,SignalHeads[Code],0)))","v":0},{"$f":"IF(L105=0,\"\",ROUNDDOWN(12*(((J105-L105)-MIN($J$31:$J$230-$L$31:$L$230)-(MAX($L$31:$L$230*(($J$31:$J$230-$L$31:$L$230)=MIN($J$31:$J$230-$L$31:$L$230)))-L105))+(MIN($J$31:$J$230-$L$31:$L$230)-$I$19)),0)/12)","v":""},"",{"$error":"#VALUE!"},17]
[76,null,{"$f":"IF(B106=\"\",0,INDEX(SignalHeads[Perp. Wind Area (sft)],MATCH(B106,SignalHeads[Code],0)))","v":0},{"$f":"IF(B106=\"\",\"\",INDEX(SignalHeads[Weight*** (lbs)],MATCH(B106,SignalHeads[Code],0)))","v":""},{"$f":"IF(A106<=$I$17,INDEX(DesignConstants[Value],MATCH(\"Span Wire Weight (plf)\",DesignConstants[Design Constant],0)),0)","v":1.155},0,87.202500000000001,{"$error":"#VALUE!"},{"$error":"#VALUE!"},{"$error":"#VALUE!"},{"$error":"#VALUE!"},{"$f":"IF(B106=\"\",0,INDEX(SignalHeads[Height ** (feet)],MATCH(B106,SignalHeads[Code],0)))","v":0},{"$f":"IF(L106=0,\"\",ROUNDDOWN(12*(((J106-L106)-MIN($J$31:$J$230-$L$31:$L$230)-(MAX($L$31:$L$230*(($J$31:$J$230-$L$31:$L$230)=MIN($J$31:$J$230-$L$31:$L$230)))-L106))+(MIN($J$31:$J$230-$L$31:$L$230)-$I$19)),0)/12)","v":""},"",{"$error":"#VALUE!"},17]
[77,null,{"$f":"IF(B107=\"\",0,INDEX(SignalHeads[Perp. Wind Area (sft)],MATCH(B107,SignalHeads[Code],0)))","v":0},{"$f":"IF(B107=\"\",\"\",INDEX(SignalHeads[Weight*** (lbs)],MATCH(B107,SignalHeads[Code],0)))","v":""},{"$f":"IF(A107<=$I$17,INDEX(DesignConstants[Value],MATCH(\"Span Wire Weight (plf)\",DesignConstants[Design Constant],0)),0)","v":1.155},0,88.357500000000002,{"$error":"#VALUE!"},{"$error":"#VALUE!"},{"$error":"#VALUE!"},{"$error":"#VALUE!"},{"$f":"IF(B107=\"\",0,INDEX(SignalHeads[Height ** (feet)],MATCH(B107,SignalHeads[Code],0)))","v":0},{"$f":"IF(L107=0,\"\",ROUNDDOWN(12*(((J107-L107)-MIN($J$31:$J$230-$L$31:$L$230)-(MAX($L$31:$L$230*(($J$31:$J$230-$L$31:$L$230)=MIN($J$31:$J$230-$L$31:$L$230)))-L107))+(MIN($J$31:$J$230-$L$31:$L$230)-$I$19)),0)/12)","v":""},"",{"$error":"#VALUE!"},17]
[78,null,{"$f":"IF(B108=\"\",0,INDEX(SignalHeads[Perp. Wind Area (sft)],MATCH(B108,SignalHeads[Code],0)))","v":0},{"$f":"IF(B108=\"\",\"\",INDEX(SignalHeads[Weight*** (lbs)],MATCH(B108,SignalHeads[Code],0)))","v":""},{"$f":"IF(A108<=$I$17,INDEX(DesignConstants[Value],MATCH(\"Span Wire Weight (plf)\",DesignConstants[Design Constant],0)),0)","v":1.155},0,89.512500000000003,{"$error":"#VALUE!"},{"$error":"#VALUE!"},{"$error":"#VALUE!"},{"$error":"#VALUE!"},{"$f":"IF(B108=\"\",0,INDEX(SignalHeads[Height ** (feet)],MATCH(B108,SignalHeads[Code],0)))","v":0},{"$f":"IF(L108=0,\"\",ROUNDDOWN(12*(((J108-L108)-MIN($J$31:$J$230-$L$31:$L$230)-(MAX($L$31:$L$230*(($J$31:$J$230-$L$31:$L$230)=MIN($J$31:$J$230-$L$31:$L$230)))-L108))+(MIN($J$31:$J$230-$L$31:$L$230)-$I$19)),0)/12)","v":""},"",{"$error":"#VALUE!"},17]
[79,null,{"$f":"IF(B109=\"\",0,INDEX(SignalHeads[Perp. Wind Area (sft)],MATCH(B109,SignalHeads[Code],0)))","v":0},{"$f":"IF(B109=\"\",\"\",INDEX(SignalHeads[Weight*** (lbs)],MATCH(B109,SignalHeads[Code],0)))","v":""},{"$f":"IF(A109<=$I$17,INDEX(DesignConstants[Value],MATCH(\"Span Wire Weight (plf)\",DesignConstants[Design Constant],0)),0)","v":1.155},0,90.667500000000004,{"$error":"#VALUE!"},{"$error":"#VALUE!"},{"$error":"#VALUE!"},{"$error":"#VALUE!"},{"$f":"IF(B109=\"\",0,INDEX(SignalHeads[Height ** (feet)],MATCH(B109,SignalHeads[Code],0)))","v":0},{"$f":"IF(L109=0,\"\",ROUNDDOWN(12*(((J109-L109)-MIN($J$31:$J$230-$L$31:$L$230)-(MAX($L$31:$L$230*(($J$31:$J$230-$L$31:$L$230)=MIN($J$31:$J$230-$L$31:$L$230)))-L109))+(MIN($J$31:$J$230-$L$31:$L$230)-$I$19)),0)/12)","v":""},"",{"$error":"#VALUE!"},17]
[80,null,{"$f":"IF(B110=\"\",0,INDEX(SignalHeads[Perp. Wind Area (sft)],MATCH(B110,SignalHeads[Code],0)))","v":0},{"$f":"IF(B110=\"\",\"\",INDEX(SignalHeads[Weight*** (lbs)],MATCH(B110,SignalHeads[Code],0)))","v":""},{"$f":"IF(A110<=$I$17,INDEX(DesignConstants[Value],MATCH(\"Span Wire Weight (plf)\",DesignConstants[Design Constant],0)),0)","v":1.155},0,91.822500000000005,{"$error":"#VALUE!"},{"$error":"#VALUE!"},{"$error":"#VALUE!"},{"$error":"#VALUE!"},{"$f":"IF(B110=\"\",0,INDEX(SignalHeads[Height ** (feet)],MATCH(B110,SignalHeads[Code],0)))","v":0},{"$f":"IF(L110=0,\"\",ROUNDDOWN(12*(((J110-L110)-MIN($J$31:$J$230-$L$31:$L$230)-(MAX($L$31:$L$230*(($J$31:$J$230-$L$31:$L$230)=MIN($J$31:$J$230-$L$31:$L$230)))-L110))+(MIN($J$31:$J$230-$L$31:$L$230)-$I$19)),0)/12)","v":""},"",{"$error":"#VALUE!"},17]
[81,null,{"$f":"IF(B111=\"\",0,INDEX(SignalHeads[Perp. Wind Area (sft)],MATCH(B111,SignalHeads[Code],0)))","v":0},{"$f":"IF(B111=\"\",\"\",INDEX(SignalHeads[Weight*** (lbs)],MATCH(B111,SignalHeads[Code],0)))","v":""},{"$f":"IF(A111<=$I$17,INDEX(DesignConstants[Value],MATCH(\"Span Wire Weight (plf)\",DesignConstants[Design Constant],0)),0)","v":1.155},0,92.977500000000006,{"$error":"#VALUE!"},{"$error":"#VALUE!"},{"$error":"#VALUE!"},{"$error":"#VALUE!"},{"$f":"IF(B111=\"\",0,INDEX(SignalHeads[Height ** (feet)],MATCH(B111,SignalHeads[Code],0)))","v":0},{"$f":"IF(L111=0,\"\",ROUNDDOWN(12*(((J111-L111)-MIN($J$31:$J$230-$L$31:$L$230)-(MAX($L$31:$L$230*(($J$31:$J$230-$L$31:$L$230)=MIN($J$31:$J$230-$L$31:$L$230)))-L111))+(MIN($J$31:$J$230-$L$31:$L$230)-$I$19)),0)/12)","v":""},"",{"$error":"#VALUE!"},17]
[82,null,{"$f":"IF(B112=\"\",0,INDEX(SignalHeads[Perp. Wind Area (sft)],MATCH(B112,SignalHeads[Code],0)))","v":0},{"$f":"IF(B112=\"\",\"\",INDEX(SignalHeads[Weight*** (lbs)],MATCH(B112,SignalHeads[Code],0)))","v":""},{"$f":"IF(A112<=$I$17,INDEX(DesignConstants[Value],MATCH(\"Span Wire Weight (plf)\",DesignConstants[Design Constant],0)),0)","v":1.155},0,94.132500000000007,{"$error":"#VALUE!"},{"$error":"#VALUE!"},{"$error":"#VALUE!"},{"$error":"#VALUE!"},{"$f":"IF(B112=\"\",0,INDEX(SignalHeads[Height ** (feet)],MATCH(B112,SignalHeads[Code],0)))","v":0},{"$f":"IF(L112=0,\"\",ROUNDDOWN(12*(((J112-L112)-MIN($J$31:$J$230-$L$31:$L$230)-(MAX($L$31:$L$230*(($J$31:$J$230-$L$31:$L$230)=MIN($J$31:$J$230-$L$31:$L$230)))-L112))+(MIN($J$31:$J$230-$L$31:$L$230)-$I$19)),0)/12)","v":""},"",{"$error":"#VALUE!"},17]
[83,null,{"$f":"IF(B113=\"\",0,INDEX(SignalHeads[Perp. Wind Area (sft)],MATCH(B113,SignalHeads[Code],0)))","v":0},{"$f":"IF(B113=\"\",\"\",INDEX(SignalHeads[Weight*** (lbs)],MATCH(B113,SignalHeads[Code],0)))","v":""},{"$f":"IF(A113<=$I$17,INDEX(DesignConstants[Value],MATCH(\"Span Wire Weight (plf)\",DesignConstants[Design Constant],0)),0)","v":1.155},0,95.287500000000009,{"$error":"#VALUE!"},{"$error":"#VALUE!"},{"$error":"#VALUE!"},{"$error":"#VALUE!"},{"$f":"IF(B113=\"\",0,INDEX(SignalHeads[Height ** (feet)],MATCH(B113,SignalHeads[Code],0)))","v":0},{"$f":"IF(L113=0,\"\",ROUNDDOWN(12*(((J113-L113)-MIN($J$31:$J$230-$L$31:$L$230)-(MAX($L$31:$L$230*(($J$31:$J$230-$L$31:$L$230)=MIN($J$31:$J$230-$L$31:$L$230)))-L113))+(MIN($J$31:$J$230-$L$31:$L$230)-$I$19)),0)/12)","v":""},"",{"$error":"#VALUE!"},17]
[84,null,{"$f":"IF(B114=\"\",0,INDEX(SignalHeads[Perp. Wind Area (sft)],MATCH(B114,SignalHeads[Code],0)))","v":0},{"$f":"IF(B114=\"\",\"\",INDEX(SignalHeads[Weight*** (lbs)],MATCH(B114,SignalHeads[Code],0)))","v":""},{"$f":"IF(A114<=$I$17,INDEX(DesignConstants[Value],MATCH(\"Span Wire Weight (plf)\",DesignConstants[Design Constant],0)),0)","v":1.155},0,96.442499999999995,{"$error":"#VALUE!"},{"$error":"#VALUE!"},{"$error":"#VALUE!"},{"$error":"#VALUE!"},{"$f":"IF(B114=\"\",0,INDEX(SignalHeads[Height ** (feet)],MATCH(B114,SignalHeads[Code],0)))","v":0},{"$f":"IF(L114=0,\"\",ROUNDDOWN(12*(((J114-L114)-MIN($J$31:$J$230-$L$31:$L$230)-(MAX($L$31:$L$230*(($J$31:$J$230-$L$31:$L$230)=MIN($J$31:$J$230-$L$31:$L$230)))-L114))+(MIN($J$31:$J$230-$L$31:$L$230)-$I$19)),0)/12)","v":""},"",{"$error":"#VALUE!"},17]
[85,null,{"$f":"IF(B115=\"\",0,INDEX(SignalHeads[Perp. Wind Area (sft)],MATCH(B115,SignalHeads[Code],0)))","v":0},{"$f":"IF(B115=\"\",\"\",INDEX(SignalHeads[Weight*** (lbs)],MATCH(B115,SignalHeads[Code],0)))","v":""},{"$f":"IF(A115<=$I$17,INDEX(DesignConstants[Value],MATCH(\"Span Wire Weight (plf)\",DesignConstants[Design Constant],0)),0)","v":1.155},0,97.597499999999997,{"$error":"#VALUE!"},{"$error":"#VALUE!"},{"$error":"#VALUE!"},{"$error":"#VALUE!"},{"$f":"IF(B115=\"\",0,INDEX(SignalHeads[Height ** (feet)],MATCH(B115,SignalHeads[Code],0)))","v":0},{"$f":"IF(L115=0,\"\",ROUNDDOWN(12*(((J115-L115)-MIN($J$31:$J$230-$L$31:$L$230)-(MAX($L$31:$L$230*(($J$31:$J$230-$L$31:$L$230)=MIN($J$31:$J$230-$L$31:$L$230)))-L115))+(MIN($J$31:$J$230-$L$31:$L$230)-$I$19)),0)/12)","v":""},"",{"$error":"#VALUE!"},17]
[86,null,{"$f":"IF(B116=\"\",0,INDEX(SignalHeads[Perp. Wind Area (sft)],MATCH(B116,SignalHeads[Code],0)))","v":0},{"$f":"IF(B116=\"\",\"\",INDEX(SignalHeads[Weight*** (lbs)],MATCH(B116,SignalHeads[Code],0)))","v":""},{"$f":"IF(A116<=$I$17,INDEX(DesignConstants[Value],MATCH(\"Span Wire Weight (plf)\",DesignConstants[Design Constant],0)),0)","v":1.155},0,98.752499999999998,{"$error":"#VALUE!"},{"$error":"#VALUE!"},{"$error":"#VALUE!"},{"$error":"#VALUE!"},{"$f":"IF(B116=\"\",0,INDEX(SignalHeads[Height ** (feet)],MATCH(B116,SignalHeads[Code],0)))","v":0},{"$f":"IF(L116=0,\"\",ROUNDDOWN(12*(((J116-L116)-MIN($J$31:$J$230-$L$31:$L$230)-(MAX($L$31:$L$230*(($J$31:$J$230-$L$31:$L$230)=MIN($J$31:$J$230-$L$31:$L$230)))-L116))+(MIN($J$31:$J$230-$L$31:$L$230)-$I$19)),0)/12)","v":""},"",{"$error":"#VALUE!"},17]
[87,null,{"$f":"IF(B117=\"\",0,INDEX(SignalHeads[Perp. Wind Area (sft)],MATCH(B117,SignalHeads[Code],0)))","v":0},{"$f":"IF(B117=\"\",\"\",INDEX(SignalHeads[Weight*** (lbs)],MATCH(B117,SignalHeads[Code],0)))","v":""},{"$f":"IF(A117<=$I$17,INDEX(DesignConstants[Value],MATCH(\"Span Wire Weight (plf)\",DesignConstants[Design Constant],0)),0)","v":1.155},0,99.907499999999999,{"$error":"#VALUE!"},{"$error":"#VALUE!"},{"$error":"#VALUE!"},{"$error":"#VALUE!"},{"$f":"IF(B117=\"\",0,INDEX(SignalHeads[Height ** (feet)],MATCH(B117,SignalHeads[Code],0)))","v":0},{"$f":"IF(L117=0,\"\",ROUNDDOWN(12*(((J117-L117)-MIN($J$31:$J$230-$L$31:$L$230)-(MAX($L$31:$L$230*(($J$31:$J$230-$L$31:$L$230)=MIN($J$31:$J$230-$L$31:$L$230)))-L117))+(MIN($J$31:$J$230-$L$31:$L$230)-$I$19)),0)/12)","v":""},"",{"$error":"#VALUE!"},17]
[88,null,{"$f":"IF(B118=\"\",0,INDEX(SignalHeads[Perp. Wind Area (sft)],MATCH(B118,SignalHeads[Code],0)))","v":0},{"$f":"IF(B118=\"\",\"\",INDEX(SignalHeads[Weight*** (lbs)],MATCH(B118,SignalHeads[Code],0)))","v":""},{"$f":"IF(A118<=$I$17,INDEX(DesignConstants[Value],MATCH(\"Span Wire Weight (plf)\",DesignConstants[Design Constant],0)),0)","v":1.155},0,101.0625,{"$error":"#VALUE!"},{"$error":"#VALUE!"},{"$error":"#VALUE!"},{"$error":"#VALUE!"},{"$f":"IF(B118=\"\",0,INDEX(SignalHeads[Height ** (feet)],MATCH(B118,SignalHeads[Code],0)))","v":0},{"$f":"IF(L118=0,\"\",ROUNDDOWN(12*(((J118-L118)-MIN($J$31:$J$230-$L$31:$L$230)-(MAX($L$31:$L$230*(($J$31:$J$230-$L$31:$L$230)=MIN($J$31:$J$230-$L$31:$L$230)))-L118))+(MIN($J$31:$J$230-$L$31:$L$230)-$I$19)),0)/12)","v":""},"",{"$error":"#VALUE!"},17]
[89,null,{"$f":"IF(B119=\"\",0,INDEX(SignalHeads[Perp. Wind Area (sft)],MATCH(B119,SignalHeads[Code],0)))","v":0},{"$f":"IF(B119=\"\",\"\",INDEX(SignalHeads[Weight*** (lbs)],MATCH(B119,SignalHeads[Code],0)))","v":""},{"$f":"IF(A119<=$I$17,INDEX(DesignConstants[Value],MATCH(\"Span Wire Weight (plf)\",DesignConstants[Design Constant],0)),0)","v":1.155},0,102.2175,{"$error":"#VALUE!"},{"$error":"#VALUE!"},{"$error":"#VALUE!"},{"$error":"#VALUE!"},{"$f":"IF(B119=\"\",0,INDEX(SignalHeads[Height ** (feet)],MATCH(B119,SignalHeads[Code],0)))","v":0},{"$f":"IF(L119=0,\"\",ROUNDDOWN(12*(((J119-L119)-MIN($J$31:$J$230-$L$31:$L$230)-(MAX($L$31:$L$230*(($J$31:$J$230-$L$31:$L$230)=MIN($J$31:$J$230-$L$31:$L$230)))-L119))+(MIN($J$31:$J$230-$L$31:$L$230)-$I$19)),0)/12)","v":""},"",{"$error":"#VALUE!"},17]
[90,null,{"$f":"IF(B120=\"\",0,INDEX(SignalHeads[Perp. Wind Area (sft)],MATCH(B120,SignalHeads[Code],0)))","v":0},{"$f":"IF(B120=\"\",\"\",INDEX(SignalHeads[Weight*** (lbs)],MATCH(B120,SignalHeads[Code],0)))","v":""},{"$f":"IF(A120<=$I$17,INDEX(DesignConstants[Value],MATCH(\"Span Wire Weight (plf)\",DesignConstants[Design Constant],0)),0)","v":1.155},0,103.3725,{"$error":"#VALUE!"},{"$error":"#VALUE!"},{"$error":"#VALUE!"},{"$error":"#VALUE!"},{"$f":"IF(B120=\"\",0,INDEX(SignalHeads[Height ** (feet)],MATCH(B120,SignalHeads[Code],0)))","v":0},{"$f":"IF(L120=0,\"\",ROUNDDOWN(12*(((J120-L120)-MIN($J$31:$J$230-$L$31:$L$230)-(MAX($L$31:$L$230*(($J$31:$J$230-$L$31:$L$230)=MIN($J$31:$J$230-$L$31:$L$230)))-L120))+(MIN($J$31:$J$230-$L$31:$L$230)-$I$19)),0)/12)","v":""},"",{"$error":"#VALUE!"},17]
[91,null,{"$f":"IF(B121=\"\",0,INDEX(SignalHeads[Perp. Wind Area (sft)],MATCH(B121,SignalHeads[Code],0)))","v":0},{"$f":"IF(B121=\"\",\"\",INDEX(SignalHeads[Weight*** (lbs)],MATCH(B121,SignalHeads[Code],0)))","v":""},{"$f":"IF(A121<=$I$17,INDEX(DesignConstants[Value],MATCH(\"Span Wire Weight (plf)\",DesignConstants[Design Constant],0)),0)","v":1.155},0,104.5275,{"$error":"#VALUE!"},{"$error":"#VALUE!"},{"$error":"#VALUE!"},{"$error":"#VALUE!"},{"$f":"IF(B121=\"\",0,INDEX(SignalHeads[Height ** (feet)],MATCH(B121,SignalHeads[Code],0)))","v":0},{"$f":"IF(L121=0,\"\",ROUNDDOWN(12*(((J121-L121)-MIN($J$31:$J$230-$L$31:$L$230)-(MAX($L$31:$L$230*(($J$31:$J$230-$L$31:$L$230)=MIN($J$31:$J$230-$L$31:$L$230)))-L121))+(MIN($J$31:$J$230-$L$31:$L$230)-$I$19)),0)/12)","v":""},"",{"$error":"#VALUE!"},17]
[92,null,{"$f":"IF(B122=\"\",0,INDEX(SignalHeads[Perp. Wind Area (sft)],MATCH(B122,SignalHeads[Code],0)))","v":0},{"$f":"IF(B122=\"\",\"\",INDEX(SignalHeads[Weight*** (lbs)],MATCH(B122,SignalHeads[Code],0)))","v":""},{"$f":"IF(A122<=$I$17,INDEX(DesignConstants[Value],MATCH(\"Span Wire Weight (plf)\",DesignConstants[Design Constant],0)),0)","v":1.155},0,105.6825,{"$error":"#VALUE!"},{"$error":"#VALUE!"},{"$error":"#VALUE!"},{"$error":"#VALUE!"},{"$f":"IF(B122=\"\",0,INDEX(SignalHeads[Height ** (feet)],MATCH(B122,SignalHeads[Code],0)))","v":0},{"$f":"IF(L122=0,\"\",ROUNDDOWN(12*(((J122-L122)-MIN($J$31:$J$230-$L$31:$L$230)-(MAX($L$31:$L$230*(($J$31:$J$230-$L$31:$L$230)=MIN($J$31:$J$230-$L$31:$L$230)))-L122))+(MIN($J$31:$J$230-$L$31:$L$230)-$I$19)),0)/12)","v":""},"",{"$error":"#VALUE!"},17]
[93,null,{"$f":"IF(B123=\"\",0,INDEX(SignalHeads[Perp. Wind Area (sft)],MATCH(B123,SignalHeads[Code],0)))","v":0},{"$f":"IF(B123=\"\",\"\",INDEX(SignalHeads[Weight*** (lbs)],MATCH(B123,SignalHeads[Code],0)))","v":""},{"$f":"IF(A123<=$I$17,INDEX(DesignConstants[Value],MATCH(\"Span Wire Weight (plf)\",DesignConstants[Design Constant],0)),0)","v":1.155},0,106.83750000000001,{"$error":"#VALUE!"},{"$error":"#VALUE!"},{"$error":"#VALUE!"},{"$error":"#VALUE!"},{"$f":"IF(B123=\"\",0,INDEX(SignalHeads[Height ** (feet)],MATCH(B123,SignalHeads[Code],0)))","v":0},{"$f":"IF(L123=0,\"\",ROUNDDOWN(12*(((J123-L123)-MIN($J$31:$J$230-$L$31:$L$230)-(MAX($L$31:$L$230*(($J$31:$J$230-$L$31:$L$230)=MIN($J$31:$J$230-$L$31:$L$230)))-L123))+(MIN($J$31:$J$230-$L$31:$L$230)-$I$19)),0)/12)","v":""},"",{"$error":"#VALUE!"},17]
[94,null,{"$f":"IF(B124=\"\",0,INDEX(SignalHeads[Perp. Wind Area (sft)],MATCH(B124,SignalHeads[Code],0)))","v":0},{"$f":"IF(B124=\"\",\"\",INDEX(SignalHeads[Weight*** (lbs)],MATCH(B124,SignalHeads[Code],0)))","v":""},{"$f":"IF(A124<=$I$17,INDEX(DesignConstants[Value],MATCH(\"Span Wire Weight (plf)\",DesignConstants[Design Constant],0)),0)","v":1.155},0,107.99250000000001,{"$error":"#VALUE!"},{"$error":"#VALUE!"},{"$error":"#VALUE!"},{"$error":"#VALUE!"},{"$f":"IF(B124=\"\",0,INDEX(SignalHeads[Height ** (feet)],MATCH(B124,SignalHeads[Code],0)))","v":0},{"$f":"IF(L124=0,\"\",ROUNDDOWN(12*(((J124-L124)-MIN($J$31:$J$230-$L$31:$L$230)-(MAX($L$31:$L$230*(($J$31:$J$230-$L$31:$L$230)=MIN($J$31:$J$230-$L$31:$L$230)))-L124))+(MIN($J$31:$J$230-$L$31:$L$230)-$I$19)),0)/12)","v":""},"",{"$error":"#VALUE!"},17]
[95,null,{"$f":"IF(B125=\"\",0,INDEX(SignalHeads[Perp. Wind Area (sft)],MATCH(B125,SignalHeads[Code],0)))","v":0},{"$f":"IF(B125=\"\",\"\",INDEX(SignalHeads[Weight*** (lbs)],MATCH(B125,SignalHeads[Code],0)))","v":""},{"$f":"IF(A125<=$I$17,INDEX(DesignConstants[Value],MATCH(\"Span Wire Weight (plf)\",DesignConstants[Design Constant],0)),0)","v":1.155},0,109.14750000000001,{"$error":"#VALUE!"},{"$error":"#VALUE!"},{"$error":"#VALUE!"},{"$error":"#VALUE!"},{"$f":"IF(B125=\"\",0,INDEX(SignalHeads[Height ** (feet)],MATCH(B125,SignalHeads[Code],0)))","v":0},{"$f":"IF(L125=0,\"\",ROUNDDOWN(12*(((J125-L125)-MIN($J$31:$J$230-$L$31:$L$230)-(MAX($L$31:$L$230*(($J$31:$J$230-$L$31:$L$230)=MIN($J$31:$J$230-$L$31:$L$230)))-L125))+(MIN($J$31:$J$230-$L$31:$L$230)-$I$19)),0)/12)","v":""},"",{"$error":"#VALUE!"},17]
[96,null,{"$f":"IF(B126=\"\",0,INDEX(SignalHeads[Perp. Wind Area (sft)],MATCH(B126,SignalHeads[Code],0)))","v":0},{"$f":"IF(B126=\"\",\"\",INDEX(SignalHeads[Weight*** (lbs)],MATCH(B126,SignalHeads[Code],0)))","v":""},{"$f":"IF(A126<=$I$17,INDEX(DesignConstants[Value],MATCH(\"Span Wire Weight (plf)\",DesignConstants[Design Constant],0)),0)","v":1.155},0,110.30250000000001,{"$error":"#VALUE!"},{"$error":"#VALUE!"},{"$error":"#VALUE!"},{"$error":"#VALUE!"},{"$f":"IF(B126=\"\",0,INDEX(SignalHeads[Height ** (feet)],MATCH(B126,SignalHeads[Code],0)))","v":0},{"$f":"IF(L126=0,\"\",ROUNDDOWN(12*(((J126-L126)-MIN($J$31:$J$230-$L$31:$L$230)-(MAX($L$31:$L$230*(($J$31:$J$230-$L$31:$L$230)=MIN($J$31:$J$230-$L$31:$L$230)))-L126))+(MIN($J$31:$J$230-$L$31:$L$230)-$I$19)),0)/12)","v":""},"",{"$error":"#VALUE!"},17]
[97,null,{"$f":"IF(B127=\"\",0,INDEX(SignalHeads[Perp. Wind Area (sft)],MATCH(B127,SignalHeads[Code],0)))","v":0},{"$f":"IF(B127=\"\",\"\",INDEX(SignalHeads[Weight*** (lbs)],MATCH(B127,SignalHeads[Code],0)))","v":""},{"$f":"IF(A127<=$I$17,INDEX(DesignConstants[Value],MATCH(\"Span Wire Weight (plf)\",DesignConstants[Design Constant],0)),0)","v":1.155},0,{"$f":"+E127*(A127-0.5)","v":111.4575},{"$error":"#VALUE!"},{"$error":"#VALUE!"},{"$error":"#VALUE!"},{"$f":"IF(A127>$I$17,0,($N$24-$N$15)/$I$17*A127+$N$15)","v":{"$error":"#VALUE!"}},{"$f":"IF(B127=\"\",0,INDEX(SignalHeads[Height ** (feet)],MATCH(B127,SignalHeads[Code],0)))","v":0},{"$f":"IF(L127=0,\"\",ROUNDDOWN(12*(((J127-L127)-MIN($J$31:$J$230-$L$31:$L$230)-(MAX($L$31:$L$230*(($J$31:$J$230-$L$31:$L$230)=MIN($J$31:$J$230-$L$31:$L$230)))-L127))+(MIN($J$31:$J$230-$L$31:$L$230)-$I$19)),0)/12)","v":""},"",{"$error":"#VALUE!"},{"$f":"$I$19","v":17}]
[98,null,{"$f":"IF(B128=\"\",0,INDEX(SignalHeads[Perp. Wind Area (sft)],MATCH(B128,SignalHeads[Code],0)))","v":0},{"$f":"IF(B128=\"\",\"\",INDEX(SignalHeads[Weight*** (lbs)],MATCH(B128,SignalHeads[Code],0)))","v":""},{"$f":"IF(A128<=$I$17,INDEX(DesignConstants[Value],MATCH(\"Span Wire Weight (plf)\",DesignConstants[Design Constant],0)),0)","v":1.155},0,112.6125,{"$f":"H127+(IF(B128=\"\",0,D128))+E128","v":{"$error":"#VALUE!"}},{"$f":"(0.5*E128+(IF(B128=\"\",0,D128))+H127)/$I$13","v":{"$error":"#VALUE!"}},{"$error":"#VALUE!"},{"$error":"#VALUE!"},{"$f":"IF(B128=\"\",0,INDEX(SignalHeads[Height ** (feet)],MATCH(B128,SignalHeads[Code],0)))","v":0},{"$f":"IF(L128=0,\"\",ROUNDDOWN(12*(((J128-L128)-MIN($J$31:$J$230-$L$31:$L$230)-(MAX($L$31:$L$230*(($J$31:$J$230-$L$31:$L$230)=MIN($J$31:$J$230-$L$31:$L$230)))-L128))+(MIN($J$31:$J$230-$L$31:$L$230)-$I$19)),0)/12)","v":""},"",{"$error":"#VALUE!"},17]
[99,null,{"$f":"IF(B129=\"\",0,INDEX(SignalHeads[Perp. Wind Area (sft)],MATCH(B129,SignalHeads[Code],0)))","v":0},{"$f":"IF(B129=\"\",\"\",INDEX(SignalHeads[Weight*** (lbs)],MATCH(B129,SignalHeads[Code],0)))","v":""},{"$f":"IF(A129<=$I$17,INDEX(DesignConstants[Value],MATCH(\"Span Wire Weight (plf)\",DesignConstants[Design Constant],0)),0)","v":1.155},0,113.7675,{"$error":"#VALUE!"},{"$error":"#VALUE!"},{"$error":"#VALUE!"},{"$error":"#VALUE!"},{"$f":"IF(B129=\"\",0,INDEX(SignalHeads[Height ** (feet)],MATCH(B129,SignalHeads[Code],0)))","v":0},{"$f":"IF(L129=0,\"\",ROUNDDOWN(12*(((J129-L129)-MIN($J$31:$J$230-$L$31:$L$230)-(MAX($L$31:$L$230*(($J$31:$J$230-$L$31:$L$230)=MIN($J$31:$J$230-$L$31:$L$230)))-L129))+(MIN($J$31:$J$230-$L$31:$L$230)-$I$19)),0)/12)","v":""},"",{"$error":"#VALUE!"},17]
[100,null,{"$f":"IF(B130=\"\",0,INDEX(SignalHeads[Perp. Wind Area (sft)],MATCH(B130,SignalHeads[Code],0)))","v":0},{"$f":"IF(B130=\"\",\"\",INDEX(SignalHeads[Weight*** (lbs)],MATCH(B130,SignalHeads[Code],0)))","v":""},{"$f":"IF(A130<=$I$17,INDEX(DesignConstants[Value],MATCH(\"Span Wire Weight (plf)\",DesignConstants[Design Constant],0)),0)","v":1.155},0,114.9225,{"$error":"#VALUE!"},{"$error":"#VALUE!"},{"$error":"#VALUE!"},{"$error":"#VALUE!"},{"$f":"IF(B130=\"\",0,INDEX(SignalHeads[Height ** (feet)],MATCH(B130,SignalHeads[Code],0)))","v":0},{"$f":"IF(L130=0,\"\",ROUNDDOWN(12*(((J130-L130)-MIN($J$31:$J$230-$L$31:$L$230)-(MAX($L$31:$L$230*(($J$31:$J$230-$L$31:$L$230)=MIN($J$31:$J$230-$L$31:$L$230)))-L130))+(MIN($J$31:$J$230-$L$31:$L$230)-$I$19)),0)/12)","v":""},"",{"$error":"#VALUE!"},17]
[101,null,{"$f":"IF(B131=\"\",0,INDEX(SignalHeads[Perp. Wind Area (sft)],MATCH(B131,SignalHeads[Code],0)))","v":0},{"$f":"IF(B131=\"\",\"\",INDEX(SignalHeads[Weight*** (lbs)],MATCH(B131,SignalHeads[Code],0)))","v":""},{"$f":"IF(A131<=$I$17,INDEX(DesignConstants[Value],MATCH(\"Span Wire Weight (plf)\",DesignConstants[Design Constant],0)),0)","v":1.155},0,116.0775,{"$error":"#VALUE!"},{"$error":"#VALUE!"},{"$error":"#VALUE!"},{"$error":"#VALUE!"},{"$f":"IF(B131=\"\",0,INDEX(SignalHeads[Height ** (feet)],MATCH(B131,SignalHeads[Code],0)))","v":0},{"$f":"IF(L131=0,\"\",ROUNDDOWN(12*(((J131-L131)-MIN($J$31:$J$230-$L$31:$L$230)-(MAX($L$31:$L$230*(($J$31:$J$230-$L$31:$L$230)=MIN($J$31:$J$230-$L$31:$L$230)))-L131))+(MIN($J$31:$J$230-$L$31:$L$230)-$I$19)),0)/12)","v":""},"",{"$error":"#VALUE!"},17]
[102,null,{"$f":"IF(B132=\"\",0,INDEX(SignalHeads[Perp. Wind Area (sft)],MATCH(B132,SignalHeads[Code],0)))","v":0},{"$f":"IF(B132=\"\",\"\",INDEX(SignalHeads[Weight*** (lbs)],MATCH(B132,SignalHeads[Code],0)))","v":""},{"$f":"IF(A132<=$I$17,INDEX(DesignConstants[Value],MATCH(\"Span Wire Weight (plf)\",DesignConstants[Design Constant],0)),0)","v":1.155},0,117.2325,{"$error":"#VALUE!"},{"$error":"#VALUE!"},{"$error":"#VALUE!"},{"$error":"#VALUE!"},{"$f":"IF(B132=\"\",0,INDEX(SignalHeads[Height ** (feet)],MATCH(B132,SignalHeads[Code],0)))","v":0},{"$f":"IF(L132=0,\"\",ROUNDDOWN(12*(((J132-L132)-MIN($J$31:$J$230-$L$31:$L$230)-(MAX($L$31:$L$230*(($J$31:$J$230-$L$31:$L$230)=MIN($J$31:$J$230-$L$31:$L$230)))-L132))+(MIN($J$31:$J$230-$L$31:$L$230)-$I$19)),0)/12)","v":""},"",{"$error":"#VALUE!"},17]
[103,null,{"$f":"IF(B133=\"\",0,INDEX(SignalHeads[Perp. Wind Area (sft)],MATCH(B133,SignalHeads[Code],0)))","v":0},{"$f":"IF(B133=\"\",\"\",INDEX(SignalHeads[Weight*** (lbs)],MATCH(B133,SignalHeads[Code],0)))","v":""},{"$f":"IF(A133<=$I$17,INDEX(DesignConstants[Value],MATCH(\"Span Wire Weight (plf)\",DesignConstants[Design Constant],0)),0)","v":1.155},0,118.3875,{"$error":"#VALUE!"},{"$error":"#VALUE!"},{"$error":"#VALUE!"},{"$error":"#VALUE!"},{"$f":"IF(B133=\"\",0,INDEX(SignalHeads[Height ** (feet)],MATCH(B133,SignalHeads[Code],0)))","v":0},{"$f":"IF(L133=0,\"\",ROUNDDOWN(12*(((J133-L133)-MIN($J$31:$J$230-$L$31:$L$230)-(MAX($L$31:$L$230*(($J$31:$J$230-$L$31:$L$230)=MIN($J$31:$J$230-$L$31:$L$230)))-L133))+(MIN($J$31:$J$230-$L$31:$L$230)-$I$19)),0)/12)","v":""},"",{"$error":"#VALUE!"},17]
[104,null,{"$f":"IF(B134=\"\",0,INDEX(SignalHeads[Perp. Wind Area (sft)],MATCH(B134,SignalHeads[Code],0)))","v":0},{"$f":"IF(B134=\"\",\"\",INDEX(SignalHeads[Weight*** (lbs)],MATCH(B134,SignalHeads[Code],0)))","v":""},{"$f":"IF(A134<=$I$17,INDEX(DesignConstants[Value],MATCH(\"Span Wire Weight (plf)\",DesignConstants[Design Constant],0)),0)","v":1.155},0,119.5425,{"$error":"#VALUE!"},{"$error":"#VALUE!"},{"$error":"#VALUE!"},{"$error":"#VALUE!"},{"$f":"IF(B134=\"\",0,INDEX(SignalHeads[Height ** (feet)],MATCH(B134,SignalHeads[Code],0)))","v":0},{"$f":"IF(L134=0,\"\",ROUNDDOWN(12*(((J134-L134)-MIN($J$31:$J$230-$L$31:$L$230)-(MAX($L$31:$L$230*(($J$31:$J$230-$L$31:$L$230)=MIN($J$31:$J$230-$L$31:$L$230)))-L134))+(MIN($J$31:$J$230-$L$31:$L$230)-$I$19)),0)/12)","v":""},"",{"$error":"#VALUE!"},17]
[105,null,{"$f":"IF(B135=\"\",0,INDEX(SignalHeads[Perp. Wind Area (sft)],MATCH(B135,SignalHeads[Code],0)))","v":0},{"$f":"IF(B135=\"\",\"\",INDEX(SignalHeads[Weight*** (lbs)],MATCH(B135,SignalHeads[Code],0)))","v":""},{"$f":"IF(A135<=$I$17,INDEX(DesignConstants[Value],MATCH(\"Span Wire Weight (plf)\",DesignConstants[Design Constant],0)),0)","v":1.155},0,120.69750000000001,{"$error":"#VALUE!"},{"$error":"#VALUE!"},{"$error":"#VALUE!"},{"$error":"#VALUE!"},{"$f":"IF(B135=\"\",0,INDEX(SignalHeads[Height ** (feet)],MATCH(B135,SignalHeads[Code],0)))","v":0},{"$f":"IF(L135=0,\"\",ROUNDDOWN(12*(((J135-L135)-MIN($J$31:$J$230-$L$31:$L$230)-(MAX($L$31:$L$230*(($J$31:$J$230-$L$31:$L$230)=MIN($J$31:$J$230-$L$31:$L$230)))-L135))+(MIN($J$31:$J$230-$L$31:$L$230)-$I$19)),0)/12)","v":""},"",{"$error":"#VALUE!"},17]
[106,null,{"$f":"IF(B136=\"\",0,INDEX(SignalHeads[Perp. Wind Area (sft)],MATCH(B136,SignalHeads[Code],0)))","v":0},{"$f":"IF(B136=\"\",\"\",INDEX(SignalHeads[Weight*** (lbs)],MATCH(B136,SignalHeads[Code],0)))","v":""},{"$f":"IF(A136<=$I$17,INDEX(DesignConstants[Value],MATCH(\"Span Wire Weight (plf)\",DesignConstants[Design Constant],0)),0)","v":1.155},0,121.85250000000001,{"$error":"#VALUE!"},{"$error":"#VALUE!"},{"$error":"#VALUE!"},{"$error":"#VALUE!"},{"$f":"IF(B136=\"\",0,INDEX(SignalHeads[Height ** (feet)],MATCH(B136,SignalHeads[Code],0)))","v":0},{"$f":"IF(L136=0,\"\",ROUNDDOWN(12*(((J136-L136)-MIN($J$31:$J$230-$L$31:$L$230)-(MAX($L$31:$L$230*(($J$31:$J$230-$L$31:$L$230)=MIN($J$31:$J$230-$L$31:$L$230)))-L136))+(MIN($J$31:$J$230-$L$31:$L$230)-$I$19)),0)/12)","v":""},"",{"$error":"#VALUE!"},17]
[107,null,{"$f":"IF(B137=\"\",0,INDEX(SignalHeads[Perp. Wind Area (sft)],MATCH(B137,SignalHeads[Code],0)))","v":0},{"$f":"IF(B137=\"\",\"\",INDEX(SignalHeads[Weight*** (lbs)],MATCH(B137,SignalHeads[Code],0)))","v":""},{"$f":"IF(A137<=$I$17,INDEX(DesignConstants[Value],MATCH(\"Span Wire Weight (plf)\",DesignConstants[Design Constant],0)),0)","v":1.155},0,123.00750000000001,{"$error":"#VALUE!"},{"$error":"#VALUE!"},{"$error":"#VALUE!"},{"$error":"#VALUE!"},{"$f":"IF(B137=\"\",0,INDEX(SignalHeads[Height ** (feet)],MATCH(B137,SignalHeads[Code],0)))","v":0},{"$f":"IF(L137=0,\"\",ROUNDDOWN(12*(((J137-L137)-MIN($J$31:$J$230-$L$31:$L$230)-(MAX($L$31:$L$230*(($J$31:$J$230-$L$31:$L$230)=MIN($J$31:$J$230-$L$31:$L$230)))-L137))+(MIN($J$31:$J$230-$L$31:$L$230)-$I$19)),0)/12)","v":""},"",{"$error":"#VALUE!"},17]
[108,null,{"$f":"IF(B138=\"\",0,INDEX(SignalHeads[Perp. Wind Area (sft)],MATCH(B138,SignalHeads[Code],0)))","v":0},{"$f":"IF(B138=\"\",\"\",INDEX(SignalHeads[Weight*** (lbs)],MATCH(B138,SignalHeads[Code],0)))","v":""},{"$f":"IF(A138<=$I$17,INDEX(DesignConstants[Value],MATCH(\"Span Wire Weight (plf)\",DesignConstants[Design Constant],0)),0)","v":1.155},0,124.16250000000001,{"$error":"#VALUE!"},{"$error":"#VALUE!"},{"$error":"#VALUE!"},{"$error":"#VALUE!"},{"$f":"IF(B138=\"\",0,INDEX(SignalHeads[Height ** (feet)],MATCH(B138,SignalHeads[Code],0)))","v":0},{"$f":"IF(L138=0,\"\",ROUNDDOWN(12*(((J138-L138)-MIN($J$31:$J$230-$L$31:$L$230)-(MAX($L$31:$L$230*(($J$31:$J$230-$L$31:$L$230)=MIN($J$31:$J$230-$L$31:$L$230)))-L138))+(MIN($J$31:$J$230-$L$31:$L$230)-$I$19)),0)/12)","v":""},"",{"$error":"#VALUE!"},17]
[109,null,{"$f":"IF(B139=\"\",0,INDEX(SignalHeads[Perp. Wind Area (sft)],MATCH(B139,SignalHeads[Code],0)))","v":0},{"$f":"IF(B139=\"\",\"\",INDEX(SignalHeads[Weight*** (lbs)],MATCH(B139,SignalHeads[Code],0)))","v":""},{"$f":"IF(A139<=$I$17,INDEX(DesignConstants[Value],MATCH(\"Span Wire Weight (plf)\",DesignConstants[Design Constant],0)),0)","v":1.155},0,125.31750000000001,{"$error":"#VALUE!"},{"$error":"#VALUE!"},{"$error":"#VALUE!"},{"$error":"#VALUE!"},{"$f":"IF(B139=\"\",0,INDEX(SignalHeads[Height ** (feet)],MATCH(B139,SignalHeads[Code],0)))","v":0},{"$f":"IF(L139=0,\"\",ROUNDDOWN(12*(((J139-L139)-MIN($J$31:$J$230-$L$31:$L$230)-(MAX($L$31:$L$230*(($J$31:$J$230-$L$31:$L$230)=MIN($J$31:$J$230-$L$31:$L$230)))-L139))+(MIN($J$31:$J$230-$L$31:$L$230)-$I$19)),0)/12)","v":""},"",{"$error":"#VALUE!"},17]
[110,null,{"$f":"IF(B140=\"\",0,INDEX(SignalHeads[Perp. Wind Area (sft)],MATCH(B140,SignalHeads[Code],0)))","v":0},{"$f":"IF(B140=\"\",\"\",INDEX(SignalHeads[Weight*** (lbs)],MATCH(B140,SignalHeads[Code],0)))","v":""},{"$f":"IF(A140<=$I$17,INDEX(DesignConstants[Value],MATCH(\"Span Wire Weight (plf)\",DesignConstants[Design Constant],0)),0)","v":1.155},0,126.4725,{"$error":"#VALUE!"},{"$error":"#VALUE!"},{"$error":"#VALUE!"},{"$error":"#VALUE!"},{"$f":"IF(B140=\"\",0,INDEX(SignalHeads[Height ** (feet)],MATCH(B140,SignalHeads[Code],0)))","v":0},{"$f":"IF(L140=0,\"\",ROUNDDOWN(12*(((J140-L140)-MIN($J$31:$J$230-$L$31:$L$230)-(MAX($L$31:$L$230*(($J$31:$J$230-$L$31:$L$230)=MIN($J$31:$J$230-$L$31:$L$230)))-L140))+(MIN($J$31:$J$230-$L$31:$L$230)-$I$19)),0)/12)","v":""},"",{"$error":"#VALUE!"},17]
[111,null,{"$f":"IF(B141=\"\",0,INDEX(SignalHeads[Perp. Wind Area (sft)],MATCH(B141,SignalHeads[Code],0)))","v":0},{"$f":"IF(B141=\"\",\"\",INDEX(SignalHeads[Weight*** (lbs)],MATCH(B141,SignalHeads[Code],0)))","v":""},{"$f":"IF(A141<=$I$17,INDEX(DesignConstants[Value],MATCH(\"Span Wire Weight (plf)\",DesignConstants[Design Constant],0)),0)","v":1.155},0,127.6275,{"$error":"#VALUE!"},{"$error":"#VALUE!"},{"$error":"#VALUE!"},{"$error":"#VALUE!"},{"$f":"IF(B141=\"\",0,INDEX(SignalHeads[Height ** (feet)],MATCH(B141,SignalHeads[Code],0)))","v":0},{"$f":"IF(L141=0,\"\",ROUNDDOWN(12*(((J141-L141)-MIN($J$31:$J$230-$L$31:$L$230)-(MAX($L$31:$L$230*(($J$31:$J$230-$L$31:$L$230)=MIN($J$31:$J$230-$L$31:$L$230)))-L141))+(MIN($J$31:$J$230-$L$31:$L$230)-$I$19)),0)/12)","v":""},"",{"$error":"#VALUE!"},17]
[112,null,{"$f":"IF(B142=\"\",0,INDEX(SignalHeads[Perp. Wind Area (sft)],MATCH(B142,SignalHeads[Code],0)))","v":0},{"$f":"IF(B142=\"\",\"\",INDEX(SignalHeads[Weight*** (lbs)],MATCH(B142,SignalHeads[Code],0)))","v":""},{"$f":"IF(A142<=$I$17,INDEX(DesignConstants[Value],MATCH(\"Span Wire Weight (plf)\",DesignConstants[Design Constant],0)),0)","v":1.155},0,128.7825,{"$error":"#VALUE!"},{"$error":"#VALUE!"},{"$error":"#VALUE!"},{"$error":"#VALUE!"},{"$f":"IF(B142=\"\",0,INDEX(SignalHeads[Height ** (feet)],MATCH(B142,SignalHeads[Code],0)))","v":0},{"$f":"IF(L142=0,\"\",ROUNDDOWN(12*(((J142-L142)-MIN($J$31:$J$230-$L$31:$L$230)-(MAX($L$31:$L$230*(($J$31:$J$230-$L$31:$L$230)=MIN($J$31:$J$230-$L$31:$L$230)))-L142))+(MIN($J$31:$J$230-$L$31:$L$230)-$I$19)),0)/12)","v":""},"",{"$error":"#VALUE!"},17]
[113,null,{"$f":"IF(B143=\"\",0,INDEX(SignalHeads[Perp. Wind Area (sft)],MATCH(B143,SignalHeads[Code],0)))","v":0},{"$f":"IF(B143=\"\",\"\",INDEX(SignalHeads[Weight*** (lbs)],MATCH(B143,SignalHeads[Code],0)))","v":""},{"$f":"IF(A143<=$I$17,INDEX(DesignConstants[Value],MATCH(\"Span Wire Weight (plf)\",DesignConstants[Design Constant],0)),0)","v":1.155},0,129.9375,{"$error":"#VALUE!"},{"$error":"#VALUE!"},{"$error":"#VALUE!"},{"$error":"#VALUE!"},{"$f":"IF(B143=\"\",0,INDEX(SignalHeads[Height ** (feet)],MATCH(B143,SignalHeads[Code],0)))","v":0},{"$f":"IF(L143=0,\"\",ROUNDDOWN(12*(((J143-L143)-MIN($J$31:$J$230-$L$31:$L$230)-(MAX($L$31:$L$230*(($J$31:$J$230-$L$31:$L$230)=MIN($J$31:$J$230-$L$31:$L$230)))-L143))+(MIN($J$31:$J$230-$L$31:$L$230)-$I$19)),0)/12)","v":""},"",{"$error":"#VALUE!"},17]
[114,null,{"$f":"IF(B144=\"\",0,INDEX(SignalHeads[Perp. Wind Area (sft)],MATCH(B144,SignalHeads[Code],0)))","v":0},{"$f":"IF(B144=\"\",\"\",INDEX(SignalHeads[Weight*** (lbs)],MATCH(B144,SignalHeads[Code],0)))","v":""},{"$f":"IF(A144<=$I$17,INDEX(DesignConstants[Value],MATCH(\"Span Wire Weight (plf)\",DesignConstants[Design Constant],0)),0)","v":1.155},0,131.0925,{"$error":"#VALUE!"},{"$error":"#VALUE!"},{"$error":"#VALUE!"},{"$error":"#VALUE!"},{"$f":"IF(B144=\"\",0,INDEX(SignalHeads[Height ** (feet)],MATCH(B144,SignalHeads[Code],0)))","v":0},{"$f":"IF(L144=0,\"\",ROUNDDOWN(12*(((J144-L144)-MIN($J$31:$J$230-$L$31:$L$230)-(MAX($L$31:$L$230*(($J$31:$J$230-$L$31:$L$230)=MIN($J$31:$J$230-$L$31:$L$230)))-L144))+(MIN($J$31:$J$230-$L$31:$L$230)-$I$19)),0)/12)","v":""},"",{"$error":"#VALUE!"},17]
[115,null,{"$f":"IF(B145=\"\",0,INDEX(SignalHeads[Perp. Wind Area (sft)],MATCH(B145,SignalHeads[Code],0)))","v":0},{"$f":"IF(B145=\"\",\"\",INDEX(SignalHeads[Weight*** (lbs)],MATCH(B145,SignalHeads[Code],0)))","v":""},{"$f":"IF(A145<=$I$17,INDEX(DesignConstants[Value],MATCH(\"Span Wire Weight (plf)\",DesignConstants[Design Constant],0)),0)","v":1.155},0,132.2475,{"$error":"#VALUE!"},{"$error":"#VALUE!"},{"$error":"#VALUE!"},{"$error":"#VALUE!"},{"$f":"IF(B145=\"\",0,INDEX(SignalHeads[Height ** (feet)],MATCH(B145,SignalHeads[Code],0)))","v":0},{"$f":"IF(L145=0,\"\",ROUNDDOWN(12*(((J145-L145)-MIN($J$31:$J$230-$L$31:$L$230)-(MAX($L$31:$L$230*(($J$31:$J$230-$L$31:$L$230)=MIN($J$31:$J$230-$L$31:$L$230)))-L145))+(MIN($J$31:$J$230-$L$31:$L$230)-$I$19)),0)/12)","v":""},"",{"$error":"#VALUE!"},17]
[116,null,{"$f":"IF(B146=\"\",0,INDEX(SignalHeads[Perp. Wind Area (sft)],MATCH(B146,SignalHeads[Code],0)))","v":0},{"$f":"IF(B146=\"\",\"\",INDEX(SignalHeads[Weight*** (lbs)],MATCH(B146,SignalHeads[Code],0)))","v":""},{"$f":"IF(A146<=$I$17,INDEX(DesignConstants[Value],MATCH(\"Span Wire Weight (plf)\",DesignConstants[Design Constant],0)),0)","v":1.155},0,133.4025,{"$error":"#VALUE!"},{"$error":"#VALUE!"},{"$error":"#VALUE!"},{"$error":"#VALUE!"},{"$f":"IF(B146=\"\",0,INDEX(SignalHeads[Height ** (feet)],MATCH(B146,SignalHeads[Code],0)))","v":0},{"$f":"IF(L146=0,\"\",ROUNDDOWN(12*(((J146-L146)-MIN($J$31:$J$230-$L$31:$L$230)-(MAX($L$31:$L$230*(($J$31:$J$230-$L$31:$L$230)=MIN($J$31:$J$230-$L$31:$L$230)))-L146))+(MIN($J$31:$J$230-$L$31:$L$230)-$I$19)),0)/12)","v":""},"",{"$error":"#VALUE!"},17]
[117,null,{"$f":"IF(B147=\"\",0,INDEX(SignalHeads[Perp. Wind Area (sft)],MATCH(B147,SignalHeads[Code],0)))","v":0},{"$f":"IF(B147=\"\",\"\",INDEX(SignalHeads[Weight*** (lbs)],MATCH(B147,SignalHeads[Code],0)))","v":""},{"$f":"IF(A147<=$I$17,INDEX(DesignConstants[Value],MATCH(\"Span Wire Weight (plf)\",DesignConstants[Design Constant],0)),0)","v":1.155},0,134.5575,{"$error":"#VALUE!"},{"$error":"#VALUE!"},{"$error":"#VALUE!"},{"$error":"#VALUE!"},{"$f":"IF(B147=\"\",0,INDEX(SignalHeads[Height ** (feet)],MATCH(B147,SignalHeads[Code],0)))","v":0},{"$f":"IF(L147=0,\"\",ROUNDDOWN(12*(((J147-L147)-MIN($J$31:$J$230-$L$31:$L$230)-(MAX($L$31:$L$230*(($J$31:$J$230-$L$31:$L$230)=MIN($J$31:$J$230-$L$31:$L$230)))-L147))+(MIN($J$31:$J$230-$L$31:$L$230)-$I$19)),0)/12)","v":""},"",{"$error":"#VALUE!"},17]
[118,null,{"$f":"IF(B148=\"\",0,INDEX(SignalHeads[Perp. Wind Area (sft)],MATCH(B148,SignalHeads[Code],0)))","v":0},{"$f":"IF(B148=\"\",\"\",INDEX(SignalHeads[Weight*** (lbs)],MATCH(B148,SignalHeads[Code],0)))","v":""},{"$f":"IF(A148<=$I$17,INDEX(DesignConstants[Value],MATCH(\"Span Wire Weight (plf)\",DesignConstants[Design Constant],0)),0)","v":1.155},0,135.71250000000001,{"$error":"#VALUE!"},{"$error":"#VALUE!"},{"$error":"#VALUE!"},{"$error":"#VALUE!"},{"$f":"IF(B148=\"\",0,INDEX(SignalHeads[Height ** (feet)],MATCH(B148,SignalHeads[Code],0)))","v":0},{"$f":"IF(L148=0,\"\",ROUNDDOWN(12*(((J148-L148)-MIN($J$31:$J$230-$L$31:$L$230)-(MAX($L$31:$L$230*(($J$31:$J$230-$L$31:$L$230)=MIN($J$31:$J$230-$L$31:$L$230)))-L148))+(MIN($J$31:$J$230-$L$31:$L$230)-$I$19)),0)/12)","v":""},"",{"$error":"#VALUE!"},17]
[119,null,{"$f":"IF(B149=\"\",0,INDEX(SignalHeads[Perp. Wind Area (sft)],MATCH(B149,SignalHeads[Code],0)))","v":0},{"$f":"IF(B149=\"\",\"\",INDEX(SignalHeads[Weight*** (lbs)],MATCH(B149,SignalHeads[Code],0)))","v":""},{"$f":"IF(A149<=$I$17,INDEX(DesignConstants[Value],MATCH(\"Span Wire Weight (plf)\",DesignConstants[Design Constant],0)),0)","v":1.155},0,136.86750000000001,{"$error":"#VALUE!"},{"$error":"#VALUE!"},{"$error":"#VALUE!"},{"$error":"#VALUE!"},{"$f":"IF(B149=\"\",0,INDEX(SignalHeads[Height ** (feet)],MATCH(B149,SignalHeads[Code],0)))","v":0},{"$f":"IF(L149=0,\"\",ROUNDDOWN(12*(((J149-L149)-MIN($J$31:$J$230-$L$31:$L$230)-(MAX($L$31:$L$230*(($J$31:$J$230-$L$31:$L$230)=MIN($J$31:$J$230-$L$31:$L$230)))-L149))+(MIN($J$31:$J$230-$L$31:$L$230)-$I$19)),0)/12)","v":""},"",{"$error":"#VALUE!"},17]
[120,null,{"$f":"IF(B150=\"\",0,INDEX(SignalHeads[Perp. Wind Area (sft)],MATCH(B150,SignalHeads[Code],0)))","v":0},{"$f":"IF(B150=\"\",\"\",INDEX(SignalHeads[Weight*** (lbs)],MATCH(B150,SignalHeads[Code],0)))","v":""},{"$f":"IF(A150<=$I$17,INDEX(DesignConstants[Value],MATCH(\"Span Wire Weight (plf)\",DesignConstants[Design Constant],0)),0)","v":1.155},0,138.02250000000001,{"$error":"#VALUE!"},{"$error":"#VALUE!"},{"$error":"#VALUE!"},{"$error":"#VALUE!"},{"$f":"IF(B150=\"\",0,INDEX(SignalHeads[Height ** (feet)],MATCH(B150,SignalHeads[Code],0)))","v":0},{"$f":"IF(L150=0,\"\",ROUNDDOWN(12*(((J150-L150)-MIN($J$31:$J$230-$L$31:$L$230)-(MAX($L$31:$L$230*(($J$31:$J$230-$L$31:$L$230)=MIN($J$31:$J$230-$L$31:$L$230)))-L150))+(MIN($J$31:$J$230-$L$31:$L$230)-$I$19)),0)/12)","v":""},"",{"$error":"#VALUE!"},17]
[121,null,{"$f":"IF(B151=\"\",0,INDEX(SignalHeads[Perp. Wind Area (sft)],MATCH(B151,SignalHeads[Code],0)))","v":0},{"$f":"IF(B151=\"\",\"\",INDEX(SignalHeads[Weight*** (lbs)],MATCH(B151,SignalHeads[Code],0)))","v":""},{"$f":"IF(A151<=$I$17,INDEX(DesignConstants[Value],MATCH(\"Span Wire Weight (plf)\",DesignConstants[Design Constant],0)),0)","v":1.155},0,139.17750000000001,{"$error":"#VALUE!"},{"$error":"#VALUE!"},{"$error":"#VALUE!"},{"$error":"#VALUE!"},{"$f":"IF(B151=\"\",0,INDEX(SignalHeads[Height ** (feet)],MATCH(B151,SignalHeads[Code],0)))","v":0},{"$f":"IF(L151=0,\"\",ROUNDDOWN(12*(((J151-L151)-MIN($J$31:$J$230-$L$31:$L$230)-(MAX($L$31:$L$230*(($J$31:$J$230-$L$31:$L$230)=MIN($J$31:$J$230-$L$31:$L$230)))-L151))+(MIN($J$31:$J$230-$L$31:$L$230)-$I$19)),0)/12)","v":""},"",{"$error":"#VALUE!"},17]
[122,null,{"$f":"IF(B152=\"\",0,INDEX(SignalHeads[Perp. Wind Area (sft)],MATCH(B152,SignalHeads[Code],0)))","v":0},{"$f":"IF(B152=\"\",\"\",INDEX(SignalHeads[Weight*** (lbs)],MATCH(B152,SignalHeads[Code],0)))","v":""},{"$f":"IF(A152<=$I$17,INDEX(DesignConstants[Value],MATCH(\"Span Wire Weight (plf)\",DesignConstants[Design Constant],0)),0)","v":1.155},0,140.33250000000001,{"$error":"#VALUE!"},{"$error":"#VALUE!"},{"$error":"#VALUE!"},{"$error":"#VALUE!"},{"$f":"IF(B152=\"\",0,INDEX(SignalHeads[Height ** (feet)],MATCH(B152,SignalHeads[Code],0)))","v":0},{"$f":"IF(L152=0,\"\",ROUNDDOWN(12*(((J152-L152)-MIN($J$31:$J$230-$L$31:$L$230)-(MAX($L$31:$L$230*(($J$31:$J$230-$L$31:$L$230)=MIN($J$31:$J$230-$L$31:$L$230)))-L152))+(MIN($J$31:$J$230-$L$31:$L$230)-$I$19)),0)/12)","v":""},"",{"$error":"#VALUE!"},17]
[123,null,{"$f":"IF(B153=\"\",0,INDEX(SignalHeads[Perp. Wind Area (sft)],MATCH(B153,SignalHeads[Code],0)))","v":0},{"$f":"IF(B153=\"\",\"\",INDEX(SignalHeads[Weight*** (lbs)],MATCH(B153,SignalHeads[Code],0)))","v":""},{"$f":"IF(A153<=$I$17,INDEX(DesignConstants[Value],MATCH(\"Span Wire Weight (plf)\",DesignConstants[Design Constant],0)),0)","v":1.155},0,141.48750000000001,{"$error":"#VALUE!"},{"$error":"#VALUE!"},{"$error":"#VALUE!"},{"$error":"#VALUE!"},{"$f":"IF(B153=\"\",0,INDEX(SignalHeads[Height ** (feet)],MATCH(B153,SignalHeads[Code],0)))","v":0},{"$f":"IF(L153=0,\"\",ROUNDDOWN(12*(((J153-L153)-MIN($J$31:$J$230-$L$31:$L$230)-(MAX($L$31:$L$230*(($J$31:$J$230-$L$31:$L$230)=MIN($J$31:$J$230-$L$31:$L$230)))-L153))+(MIN($J$31:$J$230-$L$31:$L$230)-$I$19)),0)/12)","v":""},"",{"$error":"#VALUE!"},17]
[124,null,{"$f":"IF(B154=\"\",0,INDEX(SignalHeads[Perp. Wind Area (sft)],MATCH(B154,SignalHeads[Code],0)))","v":0},{"$f":"IF(B154=\"\",\"\",INDEX(SignalHeads[Weight*** (lbs)],MATCH(B154,SignalHeads[Code],0)))","v":""},{"$f":"IF(A154<=$I$17,INDEX(DesignConstants[Value],MATCH(\"Span Wire Weight (plf)\",DesignConstants[Design Constant],0)),0)","v":1.155},0,142.64250000000001,{"$error":"#VALUE!"},{"$error":"#VALUE!"},{"$error":"#VALUE!"},{"$error":"#VALUE!"},{"$f":"IF(B154=\"\",0,INDEX(SignalHeads[Height ** (feet)],MATCH(B154,SignalHeads[Code],0)))","v":0},{"$f":"IF(L154=0,\"\",ROUNDDOWN(12*(((J154-L154)-MIN($J$31:$J$230-$L$31:$L$230)-(MAX($L$31:$L$230*(($J$31:$J$230-$L$31:$L$230)=MIN($J$31:$J$230-$L$31:$L$230)))-L154))+(MIN($J$31:$J$230-$L$31:$L$230)-$I$19)),0)/12)","v":""},"",{"$error":"#VALUE!"},17]
[125,null,{"$f":"IF(B155=\"\",0,INDEX(SignalHeads[Perp. Wind Area (sft)],MATCH(B155,SignalHeads[Code],0)))","v":0},{"$f":"IF(B155=\"\",\"\",INDEX(SignalHeads[Weight*** (lbs)],MATCH(B155,SignalHeads[Code],0)))","v":""},{"$f":"IF(A155<=$I$17,INDEX(DesignConstants[Value],MATCH(\"Span Wire Weight (plf)\",DesignConstants[Design Constant],0)),0)","v":1.155},0,143.79750000000001,{"$error":"#VALUE!"},{"$error":"#VALUE!"},{"$error":"#VALUE!"},{"$error":"#VALUE!"},{"$f":"IF(B155=\"\",0,INDEX(SignalHeads[Height ** (feet)],MATCH(B155,SignalHeads[Code],0)))","v":0},{"$f":"IF(L155=0,\"\",ROUNDDOWN(12*(((J155-L155)-MIN($J$31:$J$230-$L$31:$L$230)-(MAX($L$31:$L$230*(($J$31:$J$230-$L$31:$L$230)=MIN($J$31:$J$230-$L$31:$L$230)))-L155))+(MIN($J$31:$J$230-$L$31:$L$230)-$I$19)),0)/12)","v":""},"",{"$error":"#VALUE!"},17]
[126,null,{"$f":"IF(B156=\"\",0,INDEX(SignalHeads[Perp. Wind Area (sft)],MATCH(B156,SignalHeads[Code],0)))","v":0},{"$f":"IF(B156=\"\",\"\",INDEX(SignalHeads[Weight*** (lbs)],MATCH(B156,SignalHeads[Code],0)))","v":""},{"$f":"IF(A156<=$I$17,INDEX(DesignConstants[Value],MATCH(\"Span Wire Weight (plf)\",DesignConstants[Design Constant],0)),0)","v":1.155},0,144.95250000000001,{"$error":"#VALUE!"},{"$error":"#VALUE!"},{"$error":"#VALUE!"},{"$error":"#VALUE!"},{"$f":"IF(B156=\"\",0,INDEX(SignalHeads[Height ** (feet)],MATCH(B156,SignalHeads[Code],0)))","v":0},{"$f":"IF(L156=0,\"\",ROUNDDOWN(12*(((J156-L156)-MIN($J$31:$J$230-$L$31:$L$230)-(MAX($L$31:$L$230*(($J$31:$J$230-$L$31:$L$230)=MIN($J$31:$J$230-$L$31:$L$230)))-L156))+(MIN($J$31:$J$230-$L$31:$L$230)-$I$19)),0)/12)","v":""},"",{"$error":"#VALUE!"},17]
[127,null,{"$f":"IF(B157=\"\",0,INDEX(SignalHeads[Perp. Wind Area (sft)],MATCH(B157,SignalHeads[Code],0)))","v":0},{"$f":"IF(B157=\"\",\"\",INDEX(SignalHeads[Weight*** (lbs)],MATCH(B157,SignalHeads[Code],0)))","v":""},{"$f":"IF(A157<=$I$17,INDEX(DesignConstants[Value],MATCH(\"Span Wire Weight (plf)\",DesignConstants[Design Constant],0)),0)","v":1.155},0,146.10750000000002,{"$error":"#VALUE!"},{"$error":"#VALUE!"},{"$error":"#VALUE!"},{"$error":"#VALUE!"},{"$f":"IF(B157=\"\",0,INDEX(SignalHeads[Height ** (feet)],MATCH(B157,SignalHeads[Code],0)))","v":0},{"$f":"IF(L157=0,\"\",ROUNDDOWN(12*(((J157-L157)-MIN($J$31:$J$230-$L$31:$L$230)-(MAX($L$31:$L$230*(($J$31:$J$230-$L$31:$L$230)=MIN($J$31:$J$230-$L$31:$L$230)))-L157))+(MIN($J$31:$J$230-$L$31:$L$230)-$I$19)),0)/12)","v":""},"",{"$error":"#VALUE!"},17]
[128,null,{"$f":"IF(B158=\"\",0,INDEX(SignalHeads[Perp. Wind Area (sft)],MATCH(B158,SignalHeads[Code],0)))","v":0},{"$f":"IF(B158=\"\",\"\",INDEX(SignalHeads[Weight*** (lbs)],MATCH(B158,SignalHeads[Code],0)))","v":""},{"$f":"IF(A158<=$I$17,INDEX(DesignConstants[Value],MATCH(\"Span Wire Weight (plf)\",DesignConstants[Design Constant],0)),0)","v":1.155},0,147.26250000000002,{"$error":"#VALUE!"},{"$error":"#VALUE!"},{"$error":"#VALUE!"},{"$error":"#VALUE!"},{"$f":"IF(B158=\"\",0,INDEX(SignalHeads[Height ** (feet)],MATCH(B158,SignalHeads[Code],0)))","v":0},{"$f":"IF(L158=0,\"\",ROUNDDOWN(12*(((J158-L158)-MIN($J$31:$J$230-$L$31:$L$230)-(MAX($L$31:$L$230*(($J$31:$J$230-$L$31:$L$230)=MIN($J$31:$J$230-$L$31:$L$230)))-L158))+(MIN($J$31:$J$230-$L$31:$L$230)-$I$19)),0)/12)","v":""},"",{"$error":"#VALUE!"},17]
[129,null,{"$f":"IF(B159=\"\",0,INDEX(SignalHeads[Perp. Wind Area (sft)],MATCH(B159,SignalHeads[Code],0)))","v":0},{"$f":"IF(B159=\"\",\"\",INDEX(SignalHeads[Weight*** (lbs)],MATCH(B159,SignalHeads[Code],0)))","v":""},{"$f":"IF(A159<=$I$17,INDEX(DesignConstants[Value],MATCH(\"Span Wire Weight (plf)\",DesignConstants[Design Constant],0)),0)","v":1.155},{"$f":"IF(B159=\"\",0,+D159*A159)","v":0},{"$f":"+E159*(A159-0.5)","v":148.41749999999999},{"$error":"#VALUE!"},{"$error":"#VALUE!"},{"$error":"#VALUE!"},{"$f":"IF(A159>$I$17,0,($N$24-$N$15)/$I$17*A159+$N$15)","v":{"$error":"#VALUE!"}},{"$f":"IF(B159=\"\",0,INDEX(SignalHeads[Height ** (feet)],MATCH(B159,SignalHeads[Code],0)))","v":0},{"$f":"IF(L159=0,\"\",ROUNDDOWN(12*(((J159-L159)-MIN($J$31:$J$230-$L$31:$L$230)-(MAX($L$31:$L$230*(($J$31:$J$230-$L$31:$L$230)=MIN($J$31:$J$230-$L$31:$L$230)))-L159))+(MIN($J$31:$J$230-$L$31:$L$230)-$I$19)),0)/12)","v":""},"",{"$error":"#VALUE!"},{"$f":"$I$19","v":17}]
[130,null,{"$f":"IF(B160=\"\",0,INDEX(SignalHeads[Perp. Wind Area (sft)],MATCH(B160,SignalHeads[Code],0)))","v":0},{"$f":"IF(B160=\"\",\"\",INDEX(SignalHeads[Weight*** (lbs)],MATCH(B160,SignalHeads[Code],0)))","v":""},{"$f":"IF(A160<=$I$17,INDEX(DesignConstants[Value],MATCH(\"Span Wire Weight (plf)\",DesignConstants[Design Constant],0)),0)","v":1.155},0,149.57249999999999,{"$f":"H159+(IF(B160=\"\",0,D160))+E160","v":{"$error":"#VALUE!"}},{"$f":"(0.5*E160+(IF(B160=\"\",0,D160))+H159)/$I$13","v":{"$error":"#VALUE!"}},{"$error":"#VALUE!"},{"$error":"#VALUE!"},{"$f":"IF(B160=\"\",0,INDEX(SignalHeads[Height ** (feet)],MATCH(B160,SignalHeads[Code],0)))","v":0},{"$f":"IF(L160=0,\"\",ROUNDDOWN(12*(((J160-L160)-MIN($J$31:$J$230-$L$31:$L$230)-(MAX($L$31:$L$230*(($J$31:$J$230-$L$31:$L$230)=MIN($J$31:$J$230-$L$31:$L$230)))-L160))+(MIN($J$31:$J$230-$L$31:$L$230)-$I$19)),0)/12)","v":""},{"$f":"IF(M160=\"\",\"\",INT(M160)&\"'-\"&ROUND((M160-INT(M160))*12,0)&\"\"\"\")","v":""},{"$f":"IF(A160<=$I$17,J160-L160-IF(ISNUMBER(M160),M160,0),\"\")","v":{"$error":"#VALUE!"}},17]
[131,null,{"$f":"IF(B161=\"\",0,INDEX(SignalHeads[Perp. Wind Area (sft)],MATCH(B161,SignalHeads[Code],0)))","v":0},{"$f":"IF(B161=\"\",\"\",INDEX(SignalHeads[Weight*** (lbs)],MATCH(B161,SignalHeads[Code],0)))","v":""},{"$f":"IF(A161<=$I$17,INDEX(DesignConstants[Value],MATCH(\"Span Wire Weight (plf)\",DesignConstants[Design Constant],0)),0)","v":1.155},0,150.72749999999999,{"$error":"#VALUE!"},{"$error":"#VALUE!"},{"$error":"#VALUE!"},{"$error":"#VALUE!"},{"$f":"IF(B161=\"\",0,INDEX(SignalHeads[Height ** (feet)],MATCH(B161,SignalHeads[Code],0)))","v":0},{"$f":"IF(L161=0,\"\",ROUNDDOWN(12*(((J161-L161)-MIN($J$31:$J$230-$L$31:$L$230)-(MAX($L$31:$L$230*(($J$31:$J$230-$L$31:$L$230)=MIN($J$31:$J$230-$L$31:$L$230)))-L161))+(MIN($J$31:$J$230-$L$31:$L$230)-$I$19)),0)/12)","v":""},"",{"$error":"#VALUE!"},17]
[132,null,{"$f":"IF(B162=\"\",0,INDEX(SignalHeads[Perp. Wind Area (sft)],MATCH(B162,SignalHeads[Code],0)))","v":0},{"$f":"IF(B162=\"\",\"\",INDEX(SignalHeads[Weight*** (lbs)],MATCH(B162,SignalHeads[Code],0)))","v":""},{"$f":"IF(A162<=$I$17,INDEX(DesignConstants[Value],MATCH(\"Span Wire Weight (plf)\",DesignConstants[Design Constant],0)),0)","v":1.155},0,151.88249999999999,{"$error":"#VALUE!"},{"$error":"#VALUE!"},{"$f":"+J161+I162","v":{"$error":"#VALUE!"}},{"$error":"#VALUE!"},{"$f":"IF(B162=\"\",0,INDEX(SignalHeads[Height ** (feet)],MATCH(B162,SignalHeads[Code],0)))","v":0},{"$f":"IF(L162=0,\"\",ROUNDDOWN(12*(((J162-L162)-MIN($J$31:$J$230-$L$31:$L$230)-(MAX($L$31:$L$230*(($J$31:$J$230-$L$31:$L$230)=MIN($J$31:$J$230-$L$31:$L$230)))-L162))+(MIN($J$31:$J$230-$L$31:$L$230)-$I$19)),0)/12)","v":""},"",{"$error":"#VALUE!"},17]
[133,null,{"$f":"IF(B163=\"\",0,INDEX(SignalHeads[Perp. Wind Area (sft)],MATCH(B163,SignalHeads[Code],0)))","v":0},{"$f":"IF(B163=\"\",\"\",INDEX(SignalHeads[Weight*** (lbs)],MATCH(B163,SignalHeads[Code],0)))","v":""},{"$f":"IF(A163<=$I$17,INDEX(DesignConstants[Value],MATCH(\"Span Wire Weight (plf)\",DesignConstants[Design Constant],0)),0)","v":1.155},0,153.03749999999999,{"$error":"#VALUE!"},{"$error":"#VALUE!"},{"$error":"#VALUE!"},{"$error":"#VALUE!"},{"$f":"IF(B163=\"\",0,INDEX(SignalHeads[Height ** (feet)],MATCH(B163,SignalHeads[Code],0)))","v":0},{"$f":"IF(L163=0,\"\",ROUNDDOWN(12*(((J163-L163)-MIN($J$31:$J$230-$L$31:$L$230)-(MAX($L$31:$L$230*(($J$31:$J$230-$L$31:$L$230)=MIN($J$31:$J$230-$L$31:$L$230)))-L163))+(MIN($J$31:$J$230-$L$31:$L$230)-$I$19)),0)/12)","v":""},"",{"$error":"#VALUE!"},17]
[134,null,{"$f":"IF(B164=\"\",0,INDEX(SignalHeads[Perp. Wind Area (sft)],MATCH(B164,SignalHeads[Code],0)))","v":0},{"$f":"IF(B164=\"\",\"\",INDEX(SignalHeads[Weight*** (lbs)],MATCH(B164,SignalHeads[Code],0)))","v":""},{"$f":"IF(A164<=$I$17,INDEX(DesignConstants[Value],MATCH(\"Span Wire Weight (plf)\",DesignConstants[Design Constant],0)),0)","v":1.155},0,154.1925,{"$error":"#VALUE!"},{"$error":"#VALUE!"},{"$error":"#VALUE!"},{"$error":"#VALUE!"},{"$f":"IF(B164=\"\",0,INDEX(SignalHeads[Height ** (feet)],MATCH(B164,SignalHeads[Code],0)))","v":0},{"$f":"IF(L164=0,\"\",ROUNDDOWN(12*(((J164-L164)-MIN($J$31:$J$230-$L$31:$L$230)-(MAX($L$31:$L$230*(($J$31:$J$230-$L$31:$L$230)=MIN($J$31:$J$230-$L$31:$L$230)))-L164))+(MIN($J$31:$J$230-$L$31:$L$230)-$I$19)),0)/12)","v":""},"",{"$error":"#VALUE!"},17]
[135,null,{"$f":"IF(B165=\"\",0,INDEX(SignalHeads[Perp. Wind Area (sft)],MATCH(B165,SignalHeads[Code],0)))","v":0},{"$f":"IF(B165=\"\",\"\",INDEX(SignalHeads[Weight*** (lbs)],MATCH(B165,SignalHeads[Code],0)))","v":""},{"$f":"IF(A165<=$I$17,INDEX(DesignConstants[Value],MATCH(\"Span Wire Weight (plf)\",DesignConstants[Design Constant],0)),0)","v":1.155},0,155.3475,{"$error":"#VALUE!"},{"$error":"#VALUE!"},{"$error":"#VALUE!"},{"$error":"#VALUE!"},{"$f":"IF(B165=\"\",0,INDEX(SignalHeads[Height ** (feet)],MATCH(B165,SignalHeads[Code],0)))","v":0},{"$f":"IF(L165=0,\"\",ROUNDDOWN(12*(((J165-L165)-MIN($J$31:$J$230-$L$31:$L$230)-(MAX($L$31:$L$230*(($J$31:$J$230-$L$31:$L$230)=MIN($J$31:$J$230-$L$31:$L$230)))-L165))+(MIN($J$31:$J$230-$L$31:$L$230)-$I$19)),0)/12)","v":""},"",{"$error":"#VALUE!"},17]
[136,null,{"$f":"IF(B166=\"\",0,INDEX(SignalHeads[Perp. Wind Area (sft)],MATCH(B166,SignalHeads[Code],0)))","v":0},{"$f":"IF(B166=\"\",\"\",INDEX(SignalHeads[Weight*** (lbs)],MATCH(B166,SignalHeads[Code],0)))","v":""},{"$f":"IF(A166<=$I$17,INDEX(DesignConstants[Value],MATCH(\"Span Wire Weight (plf)\",DesignConstants[Design Constant],0)),0)","v":1.155},0,156.5025,{"$error":"#VALUE!"},{"$error":"#VALUE!"},{"$error":"#VALUE!"},{"$error":"#VALUE!"},{"$f":"IF(B166=\"\",0,INDEX(SignalHeads[Height ** (feet)],MATCH(B166,SignalHeads[Code],0)))","v":0},{"$f":"IF(L166=0,\"\",ROUNDDOWN(12*(((J166-L166)-MIN($J$31:$J$230-$L$31:$L$230)-(MAX($L$31:$L$230*(($J$31:$J$230-$L$31:$L$230)=MIN($J$31:$J$230-$L$31:$L$230)))-L166))+(MIN($J$31:$J$230-$L$31:$L$230)-$I$19)),0)/12)","v":""},"",{"$error":"#VALUE!"},17]
[137,null,{"$f":"IF(B167=\"\",0,INDEX(SignalHeads[Perp. Wind Area (sft)],MATCH(B167,SignalHeads[Code],0)))","v":0},{"$f":"IF(B167=\"\",\"\",INDEX(SignalHeads[Weight*** (lbs)],MATCH(B167,SignalHeads[Code],0)))","v":""},{"$f":"IF(A167<=$I$17,INDEX(DesignConstants[Value],MATCH(\"Span Wire Weight (plf)\",DesignConstants[Design Constant],0)),0)","v":1.155},0,157.6575,{"$error":"#VALUE!"},{"$error":"#VALUE!"},{"$error":"#VALUE!"},{"$error":"#VALUE!"},{"$f":"IF(B167=\"\",0,INDEX(SignalHeads[Height ** (feet)],MATCH(B167,SignalHeads[Code],0)))","v":0},{"$f":"IF(L167=0,\"\",ROUNDDOWN(12*(((J167-L167)-MIN($J$31:$J$230-$L$31:$L$230)-(MAX($L$31:$L$230*(($J$31:$J$230-$L$31:$L$230)=MIN($J$31:$J$230-$L$31:$L$230)))-L167))+(MIN($J$31:$J$230-$L$31:$L$230)-$I$19)),0)/12)","v":""},"",{"$error":"#VALUE!"},17]
[138,null,{"$f":"IF(B168=\"\",0,INDEX(SignalHeads[Perp. Wind Area (sft)],MATCH(B168,SignalHeads[Code],0)))","v":0},{"$f":"IF(B168=\"\",\"\",INDEX(SignalHeads[Weight*** (lbs)],MATCH(B168,SignalHeads[Code],0)))","v":""},{"$f":"IF(A168<=$I$17,INDEX(DesignConstants[Value],MATCH(\"Span Wire Weight (plf)\",DesignConstants[Design Constant],0)),0)","v":1.155},0,158.8125,{"$error":"#VALUE!"},{"$error":"#VALUE!"},{"$error":"#VALUE!"},{"$error":"#VALUE!"},{"$f":"IF(B168=\"\",0,INDEX(SignalHeads[Height ** (feet)],MATCH(B168,SignalHeads[Code],0)))","v":0},{"$f":"IF(L168=0,\"\",ROUNDDOWN(12*(((J168-L168)-MIN($J$31:$J$230-$L$31:$L$230)-(MAX($L$31:$L$230*(($J$31:$J$230-$L$31:$L$230)=MIN($J$31:$J$230-$L$31:$L$230)))-L168))+(MIN($J$31:$J$230-$L$31:$L$230)-$I$19)),0)/12)","v":""},"",{"$error":"#VALUE!"},17]
[139,null,{"$f":"IF(B169=\"\",0,INDEX(SignalHeads[Perp. Wind Area (sft)],MATCH(B169,SignalHeads[Code],0)))","v":0},{"$f":"IF(B169=\"\",\"\",INDEX(SignalHeads[Weight*** (lbs)],MATCH(B169,SignalHeads[Code],0)))","v":""},{"$f":"IF(A169<=$I$17,INDEX(DesignConstants[Value],MATCH(\"Span Wire Weight (plf)\",DesignConstants[Design Constant],0)),0)","v":1.155},0,159.9675,{"$error":"#VALUE!"},{"$error":"#VALUE!"},{"$error":"#VALUE!"},{"$error":"#VALUE!"},{"$f":"IF(B169=\"\",0,INDEX(SignalHeads[Height ** (feet)],MATCH(B169,SignalHeads[Code],0)))","v":0},{"$f":"IF(L169=0,\"\",ROUNDDOWN(12*(((J169-L169)-MIN($J$31:$J$230-$L$31:$L$230)-(MAX($L$31:$L$230*(($J$31:$J$230-$L$31:$L$230)=MIN($J$31:$J$230-$L$31:$L$230)))-L169))+(MIN($J$31:$J$230-$L$31:$L$230)-$I$19)),0)/12)","v":""},"",{"$error":"#VALUE!"},17]
[140,null,{"$f":"IF(B170=\"\",0,INDEX(SignalHeads[Perp. Wind Area (sft)],MATCH(B170,SignalHeads[Code],0)))","v":0},{"$f":"IF(B170=\"\",\"\",INDEX(SignalHeads[Weight*** (lbs)],MATCH(B170,SignalHeads[Code],0)))","v":""},{"$f":"IF(A170<=$I$17,INDEX(DesignConstants[Value],MATCH(\"Span Wire Weight (plf)\",DesignConstants[Design Constant],0)),0)","v":1.155},0,161.1225,{"$error":"#VALUE!"},{"$error":"#VALUE!"},{"$error":"#VALUE!"},{"$error":"#VALUE!"},{"$f":"IF(B170=\"\",0,INDEX(SignalHeads[Height ** (feet)],MATCH(B170,SignalHeads[Code],0)))","v":0},{"$f":"IF(L170=0,\"\",ROUNDDOWN(12*(((J170-L170)-MIN($J$31:$J$230-$L$31:$L$230)-(MAX($L$31:$L$230*(($J$31:$J$230-$L$31:$L$230)=MIN($J$31:$J$230-$L$31:$L$230)))-L170))+(MIN($J$31:$J$230-$L$31:$L$230)-$I$19)),0)/12)","v":""},"",{"$error":"#VALUE!"},17]
[141,null,{"$f":"IF(B171=\"\",0,INDEX(SignalHeads[Perp. Wind Area (sft)],MATCH(B171,SignalHeads[Code],0)))","v":0},{"$f":"IF(B171=\"\",\"\",INDEX(SignalHeads[Weight*** (lbs)],MATCH(B171,SignalHeads[Code],0)))","v":""},{"$f":"IF(A171<=$I$17,INDEX(DesignConstants[Value],MATCH(\"Span Wire Weight (plf)\",DesignConstants[Design Constant],0)),0)","v":1.155},0,162.2775,{"$error":"#VALUE!"},{"$error":"#VALUE!"},{"$error":"#VALUE!"},{"$error":"#VALUE!"},{"$f":"IF(B171=\"\",0,INDEX(SignalHeads[Height ** (feet)],MATCH(B171,SignalHeads[Code],0)))","v":0},{"$f":"IF(L171=0,\"\",ROUNDDOWN(12*(((J171-L171)-MIN($J$31:$J$230-$L$31:$L$230)-(MAX($L$31:$L$230*(($J$31:$J$230-$L$31:$L$230)=MIN($J$31:$J$230-$L$31:$L$230)))-L171))+(MIN($J$31:$J$230-$L$31:$L$230)-$I$19)),0)/12)","v":""},"",{"$error":"#VALUE!"},17]
[142,null,{"$f":"IF(B172=\"\",0,INDEX(SignalHeads[Perp. Wind Area (sft)],MATCH(B172,SignalHeads[Code],0)))","v":0},{"$f":"IF(B172=\"\",\"\",INDEX(SignalHeads[Weight*** (lbs)],MATCH(B172,SignalHeads[Code],0)))","v":""},{"$f":"IF(A172<=$I$17,INDEX(DesignConstants[Value],MATCH(\"Span Wire Weight (plf)\",DesignConstants[Design Constant],0)),0)","v":1.155},0,163.4325,{"$error":"#VALUE!"},{"$error":"#VALUE!"},{"$error":"#VALUE!"},{"$error":"#VALUE!"},{"$f":"IF(B172=\"\",0,INDEX(SignalHeads[Height ** (feet)],MATCH(B172,SignalHeads[Code],0)))","v":0},{"$f":"IF(L172=0,\"\",ROUNDDOWN(12*(((J172-L172)-MIN($J$31:$J$230-$L$31:$L$230)-(MAX($L$31:$L$230*(($J$31:$J$230-$L$31:$L$230)=MIN($J$31:$J$230-$L$31:$L$230)))-L172))+(MIN($J$31:$J$230-$L$31:$L$230)-$I$19)),0)/12)","v":""},"",{"$error":"#VALUE!"},17]
[143,null,{"$f":"IF(B173=\"\",0,INDEX(SignalHeads[Perp. Wind Area (sft)],MATCH(B173,SignalHeads[Code],0)))","v":0},{"$f":"IF(B173=\"\",\"\",INDEX(SignalHeads[Weight*** (lbs)],MATCH(B173,SignalHeads[Code],0)))","v":""},{"$f":"IF(A173<=$I$17,INDEX(DesignConstants[Value],MATCH(\"Span Wire Weight (plf)\",DesignConstants[Design Constant],0)),0)","v":1.155},0,164.58750000000001,{"$error":"#VALUE!"},{"$error":"#VALUE!"},{"$error":"#VALUE!"},{"$error":"#VALUE!"},{"$f":"IF(B173=\"\",0,INDEX(SignalHeads[Height ** (feet)],MATCH(B173,SignalHeads[Code],0)))","v":0},{"$f":"IF(L173=0,\"\",ROUNDDOWN(12*(((J173-L173)-MIN($J$31:$J$230-$L$31:$L$230)-(MAX($L$31:$L$230*(($J$31:$J$230-$L$31:$L$230)=MIN($J$31:$J$230-$L$31:$L$230)))-L173))+(MIN($J$31:$J$230-$L$31:$L$230)-$I$19)),0)/12)","v":""},"",{"$error":"#VALUE!"},17]
[144,null,{"$f":"IF(B174=\"\",0,INDEX(SignalHeads[Perp. Wind Area (sft)],MATCH(B174,SignalHeads[Code],0)))","v":0},{"$f":"IF(B174=\"\",\"\",INDEX(SignalHeads[Weight*** (lbs)],MATCH(B174,SignalHeads[Code],0)))","v":""},{"$f":"IF(A174<=$I$17,INDEX(DesignConstants[Value],MATCH(\"Span Wire Weight (plf)\",DesignConstants[Design Constant],0)),0)","v":1.155},0,165.74250000000001,{"$error":"#VALUE!"},{"$error":"#VALUE!"},{"$error":"#VALUE!"},{"$error":"#VALUE!"},{"$f":"IF(B174=\"\",0,INDEX(SignalHeads[Height ** (feet)],MATCH(B174,SignalHeads[Code],0)))","v":0},{"$f":"IF(L174=0,\"\",ROUNDDOWN(12*(((J174-L174)-MIN($J$31:$J$230-$L$31:$L$230)-(MAX($L$31:$L$230*(($J$31:$J$230-$L$31:$L$230)=MIN($J$31:$J$230-$L$31:$L$230)))-L174))+(MIN($J$31:$J$230-$L$31:$L$230)-$I$19)),0)/12)","v":""},"",{"$error":"#VALUE!"},17]
[145,null,{"$f":"IF(B175=\"\",0,INDEX(SignalHeads[Perp. Wind Area (sft)],MATCH(B175,SignalHeads[Code],0)))","v":0},{"$f":"IF(B175=\"\",\"\",INDEX(SignalHeads[Weight*** (lbs)],MATCH(B175,SignalHeads[Code],0)))","v":""},{"$f":"IF(A175<=$I$17,INDEX(DesignConstants[Value],MATCH(\"Span Wire Weight (plf)\",DesignConstants[Design Constant],0)),0)","v":1.155},0,166.89750000000001,{"$error":"#VALUE!"},{"$error":"#VALUE!"},{"$error":"#VALUE!"},{"$error":"#VALUE!"},{"$f":"IF(B175=\"\",0,INDEX(SignalHeads[Height ** (feet)],MATCH(B175,SignalHeads[Code],0)))","v":0},{"$f":"IF(L175=0,\"\",ROUNDDOWN(12*(((J175-L175)-MIN($J$31:$J$230-$L$31:$L$230)-(MAX($L$31:$L$230*(($J$31:$J$230-$L$31:$L$230)=MIN($J$31:$J$230-$L$31:$L$230)))-L175))+(MIN($J$31:$J$230-$L$31:$L$230)-$I$19)),0)/12)","v":""},"",{"$error":"#VALUE!"},17]
[146,null,{"$f":"IF(B176=\"\",0,INDEX(SignalHeads[Perp. Wind Area (sft)],MATCH(B176,SignalHeads[Code],0)))","v":0},{"$f":"IF(B176=\"\",\"\",INDEX(SignalHeads[Weight*** (lbs)],MATCH(B176,SignalHeads[Code],0)))","v":""},{"$f":"IF(A176<=$I$17,INDEX(DesignConstants[Value],MATCH(\"Span Wire Weight (plf)\",DesignConstants[Design Constant],0)),0)","v":1.155},0,168.05250000000001,{"$error":"#VALUE!"},{"$error":"#VALUE!"},{"$error":"#VALUE!"},{"$error":"#VALUE!"},{"$f":"IF(B176=\"\",0,INDEX(SignalHeads[Height ** (feet)],MATCH(B176,SignalHeads[Code],0)))","v":0},{"$f":"IF(L176=0,\"\",ROUNDDOWN(12*(((J176-L176)-MIN($J$31:$J$230-$L$31:$L$230)-(MAX($L$31:$L$230*(($J$31:$J$230-$L$31:$L$230)=MIN($J$31:$J$230-$L$31:$L$230)))-L176))+(MIN($J$31:$J$230-$L$31:$L$230)-$I$19)),0)/12)","v":""},"",{"$error":"#VALUE!"},17]
[147,null,{"$f":"IF(B177=\"\",0,INDEX(SignalHeads[Perp. Wind Area (sft)],MATCH(B177,SignalHeads[Code],0)))","v":0},{"$f":"IF(B177=\"\",\"\",INDEX(SignalHeads[Weight*** (lbs)],MATCH(B177,SignalHeads[Code],0)))","v":""},{"$f":"IF(A177<=$I$17,INDEX(DesignConstants[Value],MATCH(\"Span Wire Weight (plf)\",DesignConstants[Design Constant],0)),0)","v":1.155},0,169.20750000000001,{"$error":"#VALUE!"},{"$error":"#VALUE!"},{"$error":"#VALUE!"},{"$error":"#VALUE!"},{"$f":"IF(B177=\"\",0,INDEX(SignalHeads[Height ** (feet)],MATCH(B177,SignalHeads[Code],0)))","v":0},{"$f":"IF(L177=0,\"\",ROUNDDOWN(12*(((J177-L177)-MIN($J$31:$J$230-$L$31:$L$230)-(MAX($L$31:$L$230*(($J$31:$J$230-$L$31:$L$230)=MIN($J$31:$J$230-$L$31:$L$230)))-L177))+(MIN($J$31:$J$230-$L$31:$L$230)-$I$19)),0)/12)","v":""},"",{"$error":"#VALUE!"},17]
[148,null,{"$f":"IF(B178=\"\",0,INDEX(SignalHeads[Perp. Wind Area (sft)],MATCH(B178,SignalHeads[Code],0)))","v":0},{"$f":"IF(B178=\"\",\"\",INDEX(SignalHeads[Weight*** (lbs)],MATCH(B178,SignalHeads[Code],0)))","v":""},{"$f":"IF(A178<=$I$17,INDEX(DesignConstants[Value],MATCH(\"Span Wire Weight (plf)\",DesignConstants[Design Constant],0)),0)","v":1.155},0,170.36250000000001,{"$error":"#VALUE!"},{"$error":"#VALUE!"},{"$error":"#VALUE!"},{"$error":"#VALUE!"},{"$f":"IF(B178=\"\",0,INDEX(SignalHeads[Height ** (feet)],MATCH(B178,SignalHeads[Code],0)))","v":0},{"$f":"IF(L178=0,\"\",ROUNDDOWN(12*(((J178-L178)-MIN($J$31:$J$230-$L$31:$L$230)-(MAX($L$31:$L$230*(($J$31:$J$230-$L$31:$L$230)=MIN($J$31:$J$230-$L$31:$L$230)))-L178))+(MIN($J$31:$J$230-$L$31:$L$230)-$I$19)),0)/12)","v":""},"",{"$error":"#VALUE!"},17]
[149,null,{"$f":"IF(B179=\"\",0,INDEX(SignalHeads[Perp. Wind Area (sft)],MATCH(B179,SignalHeads[Code],0)))","v":0},{"$f":"IF(B179=\"\",\"\",INDEX(SignalHeads[Weight*** (lbs)],MATCH(B179,SignalHeads[Code],0)))","v":""},{"$f":"IF(A179<=$I$17,INDEX(DesignConstants[Value],MATCH(\"Span Wire Weight (plf)\",DesignConstants[Design Constant],0)),0)","v":1.155},0,171.51750000000001,{"$error":"#VALUE!"},{"$error":"#VALUE!"},{"$error":"#VALUE!"},{"$error":"#VALUE!"},{"$f":"IF(B179=\"\",0,INDEX(SignalHeads[Height ** (feet)],MATCH(B179,SignalHeads[Code],0)))","v":0},{"$f":"IF(L179=0,\"\",ROUNDDOWN(12*(((J179-L179)-MIN($J$31:$J$230-$L$31:$L$230)-(MAX($L$31:$L$230*(($J$31:$J$230-$L$31:$L$230)=MIN($J$31:$J$230-$L$31:$L$230)))-L179))+(MIN($J$31:$J$230-$L$31:$L$230)-$I$19)),0)/12)","v":""},"",{"$error":"#VALUE!"},17]
[150,null,{"$f":"IF(B180=\"\",0,INDEX(SignalHeads[Perp. Wind Area (sft)],MATCH(B180,SignalHeads[Code],0)))","v":0},{"$f":"IF(B180=\"\",\"\",INDEX(SignalHeads[Weight*** (lbs)],MATCH(B180,SignalHeads[Code],0)))","v":""},{"$f":"IF(A180<=$I$17,INDEX(DesignConstants[Value],MATCH(\"Span Wire Weight (plf)\",DesignConstants[Design Constant],0)),0)","v":1.155},0,172.67250000000001,{"$error":"#VALUE!"},{"$error":"#VALUE!"},{"$error":"#VALUE!"},{"$error":"#VALUE!"},{"$f":"IF(B180=\"\",0,INDEX(SignalHeads[Height ** (feet)],MATCH(B180,SignalHeads[Code],0)))","v":0},{"$f":"IF(L180=0,\"\",ROUNDDOWN(12*(((J180-L180)-MIN($J$31:$J$230-$L$31:$L$230)-(MAX($L$31:$L$230*(($J$31:$J$230-$L$31:$L$230)=MIN($J$31:$J$230-$L$31:$L$230)))-L180))+(MIN($J$31:$J$230-$L$31:$L$230)-$I$19)),0)/12)","v":""},"",{"$error":"#VALUE!"},17]
[151,null,{"$f":"IF(B181=\"\",0,INDEX(SignalHeads[Perp. Wind Area (sft)],MATCH(B181,SignalHeads[Code],0)))","v":0},{"$f":"IF(B181=\"\",\"\",INDEX(SignalHeads[Weight*** (lbs)],MATCH(B181,SignalHeads[Code],0)))","v":""},{"$f":"IF(A181<=$I$17,INDEX(DesignConstants[Value],MATCH(\"Span Wire Weight (plf)\",DesignConstants[Design Constant],0)),0)","v":1.155},0,173.82750000000001,{"$error":"#VALUE!"},{"$error":"#VALUE!"},{"$error":"#VALUE!"},{"$error":"#VALUE!"},{"$f":"IF(B181=\"\",0,INDEX(SignalHeads[Height ** (feet)],MATCH(B181,SignalHeads[Code],0)))","v":0},{"$f":"IF(L181=0,\"\",ROUNDDOWN(12*(((J181-L181)-MIN($J$31:$J$230-$L$31:$L$230)-(MAX($L$31:$L$230*(($J$31:$J$230-$L$31:$L$230)=MIN($J$31:$J$230-$L$31:$L$230)))-L181))+(MIN($J$31:$J$230-$L$31:$L$230)-$I$19)),0)/12)","v":""},"",{"$error":"#VALUE!"},17]
[152,null,{"$f":"IF(B182=\"\",0,INDEX(SignalHeads[Perp. Wind Area (sft)],MATCH(B182,SignalHeads[Code],0)))","v":0},{"$f":"IF(B182=\"\",\"\",INDEX(SignalHeads[Weight*** (lbs)],MATCH(B182,SignalHeads[Code],0)))","v":""},{"$f":"IF(A182<=$I$17,INDEX(DesignConstants[Value],MATCH(\"Span Wire Weight (plf)\",DesignConstants[Design Constant],0)),0)","v":1.155},0,174.98250000000002,{"$error":"#VALUE!"},{"$error":"#VALUE!"},{"$error":"#VALUE!"},{"$error":"#VALUE!"},{"$f":"IF(B182=\"\",0,INDEX(SignalHeads[Height ** (feet)],MATCH(B182,SignalHeads[Code],0)))","v":0},{"$f":"IF(L182=0,\"\",ROUNDDOWN(12*(((J182-L182)-MIN($J$31:$J$230-$L$31:$L$230)-(MAX($L$31:$L$230*(($J$31:$J$230-$L$31:$L$230)=MIN($J$31:$J$230-$L$31:$L$230)))-L182))+(MIN($J$31:$J$230-$L$31:$L$230)-$I$19)),0)/12)","v":""},"",{"$error":"#VALUE!"},17]
[153,null,{"$f":"IF(B183=\"\",0,INDEX(SignalHeads[Perp. Wind Area (sft)],MATCH(B183,SignalHeads[Code],0)))","v":0},{"$f":"IF(B183=\"\",\"\",INDEX(SignalHeads[Weight*** (lbs)],MATCH(B183,SignalHeads[Code],0)))","v":""},{"$f":"IF(A183<=$I$17,INDEX(DesignConstants[Value],MATCH(\"Span Wire Weight (plf)\",DesignConstants[Design Constant],0)),0)","v":1.155},0,176.13750000000002,{"$error":"#VALUE!"},{"$error":"#VALUE!"},{"$error":"#VALUE!"},{"$error":"#VALUE!"},{"$f":"IF(B183=\"\",0,INDEX(SignalHeads[Height ** (feet)],MATCH(B183,SignalHeads[Code],0)))","v":0},{"$f":"IF(L183=0,\"\",ROUNDDOWN(12*(((J183-L183)-MIN($J$31:$J$230-$L$31:$L$230)-(MAX($L$31:$L$230*(($J$31:$J$230-$L$31:$L$230)=MIN($J$31:$J$230-$L$31:$L$230)))-L183))+(MIN($J$31:$J$230-$L$31:$L$230)-$I$19)),0)/12)","v":""},"",{"$error":"#VALUE!"},17]
[154,null,{"$f":"IF(B184=\"\",0,INDEX(SignalHeads[Perp. Wind Area (sft)],MATCH(B184,SignalHeads[Code],0)))","v":0},{"$f":"IF(B184=\"\",\"\",INDEX(SignalHeads[Weight*** (lbs)],MATCH(B184,SignalHeads[Code],0)))","v":""},{"$f":"IF(A184<=$I$17,INDEX(DesignConstants[Value],MATCH(\"Span Wire Weight (plf)\",DesignConstants[Design Constant],0)),0)","v":1.155},0,177.29250000000002,{"$error":"#VALUE!"},{"$error":"#VALUE!"},{"$error":"#VALUE!"},{"$error":"#VALUE!"},{"$f":"IF(B184=\"\",0,INDEX(SignalHeads[Height ** (feet)],MATCH(B184,SignalHeads[Code],0)))","v":0},{"$f":"IF(L184=0,\"\",ROUNDDOWN(12*(((J184-L184)-MIN($J$31:$J$230-$L$31:$L$230)-(MAX($L$31:$L$230*(($J$31:$J$230-$L$31:$L$230)=MIN($J$31:$J$230-$L$31:$L$230)))-L184))+(MIN($J$31:$J$230-$L$31:$L$230)-$I$19)),0)/12)","v":""},"",{"$error":"#VALUE!"},17]
[155,null,{"$f":"IF(B185=\"\",0,INDEX(SignalHeads[Perp. Wind Area (sft)],MATCH(B185,SignalHeads[Code],0)))","v":0},{"$f":"IF(B185=\"\",\"\",INDEX(SignalHeads[Weight*** (lbs)],MATCH(B185,SignalHeads[Code],0)))","v":""},{"$f":"IF(A185<=$I$17,INDEX(DesignConstants[Value],MATCH(\"Span Wire Weight (plf)\",DesignConstants[Design Constant],0)),0)","v":1.155},0,178.44749999999999,{"$error":"#VALUE!"},{"$error":"#VALUE!"},{"$error":"#VALUE!"},{"$error":"#VALUE!"},{"$f":"IF(B185=\"\",0,INDEX(SignalHeads[Height ** (feet)],MATCH(B185,SignalHeads[Code],0)))","v":0},{"$f":"IF(L185=0,\"\",ROUNDDOWN(12*(((J185-L185)-MIN($J$31:$J$230-$L$31:$L$230)-(MAX($L$31:$L$230*(($J$31:$J$230-$L$31:$L$230)=MIN($J$31:$J$230-$L$31:$L$230)))-L185))+(MIN($J$31:$J$230-$L$31:$L$230)-$I$19)),0)/12)","v":""},"",{"$error":"#VALUE!"},17]
[156,null,{"$f":"IF(B186=\"\",0,INDEX(SignalHeads[Perp. Wind Area (sft)],MATCH(B186,SignalHeads[Code],0)))","v":0},{"$f":"IF(B186=\"\",\"\",INDEX(SignalHeads[Weight*** (lbs)],MATCH(B186,SignalHeads[Code],0)))","v":""},{"$f":"IF(A186<=$I$17,INDEX(DesignConstants[Value],MATCH(\"Span Wire Weight (plf)\",DesignConstants[Design Constant],0)),0)","v":1.155},0,179.60249999999999,{"$error":"#VALUE!"},{"$error":"#VALUE!"},{"$error":"#VALUE!"},{"$error":"#VALUE!"},{"$f":"IF(B186=\"\",0,INDEX(SignalHeads[Height ** (feet)],MATCH(B186,SignalHeads[Code],0)))","v":0},{"$f":"IF(L186=0,\"\",ROUNDDOWN(12*(((J186-L186)-MIN($J$31:$J$230-$L$31:$L$230)-(MAX($L$31:$L$230*(($J$31:$J$230-$L$31:$L$230)=MIN($J$31:$J$230-$L$31:$L$230)))-L186))+(MIN($J$31:$J$230-$L$31:$L$230)-$I$19)),0)/12)","v":""},"",{"$error":"#VALUE!"},17]
[157,null,{"$f":"IF(B187=\"\",0,INDEX(SignalHeads[Perp. Wind Area (sft)],MATCH(B187,SignalHeads[Code],0)))","v":0},{"$f":"IF(B187=\"\",\"\",INDEX(SignalHeads[Weight*** (lbs)],MATCH(B187,SignalHeads[Code],0)))","v":""},{"$f":"IF(A187<=$I$17,INDEX(DesignConstants[Value],MATCH(\"Span Wire Weight (plf)\",DesignConstants[Design Constant],0)),0)","v":1.155},0,180.75749999999999,{"$error":"#VALUE!"},{"$error":"#VALUE!"},{"$error":"#VALUE!"},{"$error":"#VALUE!"},{"$f":"IF(B187=\"\",0,INDEX(SignalHeads[Height ** (feet)],MATCH(B187,SignalHeads[Code],0)))","v":0},{"$f":"IF(L187=0,\"\",ROUNDDOWN(12*(((J187-L187)-MIN($J$31:$J$230-$L$31:$L$230)-(MAX($L$31:$L$230*(($J$31:$J$230-$L$31:$L$230)=MIN($J$31:$J$230-$L$31:$L$230)))-L187))+(MIN($J$31:$J$230-$L$31:$L$230)-$I$19)),0)/12)","v":""},"",{"$error":"#VALUE!"},17]
[158,null,{"$f":"IF(B188=\"\",0,INDEX(SignalHeads[Perp. Wind Area (sft)],MATCH(B188,SignalHeads[Code],0)))","v":0},{"$f":"IF(B188=\"\",\"\",INDEX(SignalHeads[Weight*** (lbs)],MATCH(B188,SignalHeads[Code],0)))","v":""},{"$f":"IF(A188<=$I$17,INDEX(DesignConstants[Value],MATCH(\"Span Wire Weight (plf)\",DesignConstants[Design Constant],0)),0)","v":1.155},0,181.91249999999999,{"$error":"#VALUE!"},{"$error":"#VALUE!"},{"$error":"#VALUE!"},{"$error":"#VALUE!"},{"$f":"IF(B188=\"\",0,INDEX(SignalHeads[Height ** (feet)],MATCH(B188,SignalHeads[Code],0)))","v":0},{"$f":"IF(L188=0,\"\",ROUNDDOWN(12*(((J188-L188)-MIN($J$31:$J$230-$L$31:$L$230)-(MAX($L$31:$L$230*(($J$31:$J$230-$L$31:$L$230)=MIN($J$31:$J$230-$L$31:$L$230)))-L188))+(MIN($J$31:$J$230-$L$31:$L$230)-$I$19)),0)/12)","v":""},"",{"$error":"#VALUE!"},17]
[159,null,{"$f":"IF(B189=\"\",0,INDEX(SignalHeads[Perp. Wind Area (sft)],MATCH(B189,SignalHeads[Code],0)))","v":0},{"$f":"IF(B189=\"\",\"\",INDEX(SignalHeads[Weight*** (lbs)],MATCH(B189,SignalHeads[Code],0)))","v":""},{"$f":"IF(A189<=$I$17,INDEX(DesignConstants[Value],MATCH(\"Span Wire Weight (plf)\",DesignConstants[Design Constant],0)),0)","v":1.155},0,183.0675,{"$error":"#VALUE!"},{"$error":"#VALUE!"},{"$error":"#VALUE!"},{"$error":"#VALUE!"},{"$f":"IF(B189=\"\",0,INDEX(SignalHeads[Height ** (feet)],MATCH(B189,SignalHeads[Code],0)))","v":0},{"$f":"IF(L189=0,\"\",ROUNDDOWN(12*(((J189-L189)-MIN($J$31:$J$230-$L$31:$L$230)-(MAX($L$31:$L$230*(($J$31:$J$230-$L$31:$L$230)=MIN($J$31:$J$230-$L$31:$L$230)))-L189))+(MIN($J$31:$J$230-$L$31:$L$230)-$I$19)),0)/12)","v":""},"",{"$error":"#VALUE!"},17]
[160,null,{"$f":"IF(B190=\"\",0,INDEX(SignalHeads[Perp. Wind Area (sft)],MATCH(B190,SignalHeads[Code],0)))","v":0},{"$f":"IF(B190=\"\",\"\",INDEX(SignalHeads[Weight*** (lbs)],MATCH(B190,SignalHeads[Code],0)))","v":""},{"$f":"IF(A190<=$I$17,INDEX(DesignConstants[Value],MATCH(\"Span Wire Weight (plf)\",DesignConstants[Design Constant],0)),0)","v":1.155},0,184.2225,{"$error":"#VALUE!"},{"$error":"#VALUE!"},{"$error":"#VALUE!"},{"$error":"#VALUE!"},{"$f":"IF(B190=\"\",0,INDEX(SignalHeads[Height ** (feet)],MATCH(B190,SignalHeads[Code],0)))","v":0},{"$f":"IF(L190=0,\"\",ROUNDDOWN(12*(((J190-L190)-MIN($J$31:$J$230-$L$31:$L$230)-(MAX($L$31:$L$230*(($J$31:$J$230-$L$31:$L$230)=MIN($J$31:$J$230-$L$31:$L$230)))-L190))+(MIN($J$31:$J$230-$L$31:$L$230)-$I$19)),0)/12)","v":""},"",{"$error":"#VALUE!"},17]
[161,null,{"$f":"IF(B191=\"\",0,INDEX(SignalHeads[Perp. Wind Area (sft)],MATCH(B191,SignalHeads[Code],0)))","v":0},{"$f":"IF(B191=\"\",\"\",INDEX(SignalHeads[Weight*** (lbs)],MATCH(B191,SignalHeads[Code],0)))","v":""},{"$f":"IF(A191<=$I$17,INDEX(DesignConstants[Value],MATCH(\"Span Wire Weight (plf)\",DesignConstants[Design Constant],0)),0)","v":1.155},0,{"$f":"+E191*(A191-0.5)","v":185.3775},{"$error":"#VALUE!"},{"$error":"#VALUE!"},{"$error":"#VALUE!"},{"$f":"IF(A191>$I$17,0,($N$24-$N$15)/$I$17*A191+$N$15)","v":{"$error":"#VALUE!"}},{"$f":"IF(B191=\"\",0,INDEX(SignalHeads[Height ** (feet)],MATCH(B191,SignalHeads[Code],0)))","v":0},{"$f":"IF(L191=0,\"\",ROUNDDOWN(12*(((J191-L191)-MIN($J$31:$J$230-$L$31:$L$230)-(MAX($L$31:$L$230*(($J$31:$J$230-$L$31:$L$230)=MIN($J$31:$J$230-$L$31:$L$230)))-L191))+(MIN($J$31:$J$230-$L$31:$L$230)-$I$19)),0)/12)","v":""},"",{"$error":"#VALUE!"},{"$f":"$I$19","v":17}]
[162,null,{"$f":"IF(B192=\"\",0,INDEX(SignalHeads[Perp. Wind Area (sft)],MATCH(B192,SignalHeads[Code],0)))","v":0},{"$f":"IF(B192=\"\",\"\",INDEX(SignalHeads[Weight*** (lbs)],MATCH(B192,SignalHeads[Code],0)))","v":""},{"$f":"IF(A192<=$I$17,INDEX(DesignConstants[Value],MATCH(\"Span Wire Weight (plf)\",DesignConstants[Design Constant],0)),0)","v":1.155},0,186.5325,{"$f":"H191+(IF(B192=\"\",0,D192))+E192","v":{"$error":"#VALUE!"}},{"$f":"(0.5*E192+(IF(B192=\"\",0,D192))+H191)/$I$13","v":{"$error":"#VALUE!"}},{"$error":"#VALUE!"},{"$error":"#VALUE!"},{"$f":"IF(B192=\"\",0,INDEX(SignalHeads[Height ** (feet)],MATCH(B192,SignalHeads[Code],0)))","v":0},{"$f":"IF(L192=0,\"\",ROUNDDOWN(12*(((J192-L192)-MIN($J$31:$J$230-$L$31:$L$230)-(MAX($L$31:$L$230*(($J$31:$J$230-$L$31:$L$230)=MIN($J$31:$J$230-$L$31:$L$230)))-L192))+(MIN($J$31:$J$230-$L$31:$L$230)-$I$19)),0)/12)","v":""},"",{"$error":"#VALUE!"},17]
[163,null,{"$f":"IF(B193=\"\",0,INDEX(SignalHeads[Perp. Wind Area (sft)],MATCH(B193,SignalHeads[Code],0)))","v":0},{"$f":"IF(B193=\"\",\"\",INDEX(SignalHeads[Weight*** (lbs)],MATCH(B193,SignalHeads[Code],0)))","v":""},{"$f":"IF(A193<=$I$17,INDEX(DesignConstants[Value],MATCH(\"Span Wire Weight (plf)\",DesignConstants[Design Constant],0)),0)","v":1.155},0,187.6875,{"$error":"#VALUE!"},{"$error":"#VALUE!"},{"$error":"#VALUE!"},{"$error":"#VALUE!"},{"$f":"IF(B193=\"\",0,INDEX(SignalHeads[Height ** (feet)],MATCH(B193,SignalHeads[Code],0)))","v":0},{"$f":"IF(L193=0,\"\",ROUNDDOWN(12*(((J193-L193)-MIN($J$31:$J$230-$L$31:$L$230)-(MAX($L$31:$L$230*(($J$31:$J$230-$L$31:$L$230)=MIN($J$31:$J$230-$L$31:$L$230)))-L193))+(MIN($J$31:$J$230-$L$31:$L$230)-$I$19)),0)/12)","v":""},"",{"$error":"#VALUE!"},17]
[164,null,{"$f":"IF(B194=\"\",0,INDEX(SignalHeads[Perp. Wind Area (sft)],MATCH(B194,SignalHeads[Code],0)))","v":0},{"$f":"IF(B194=\"\",\"\",INDEX(SignalHeads[Weight*** (lbs)],MATCH(B194,SignalHeads[Code],0)))","v":""},{"$f":"IF(A194<=$I$17,INDEX(DesignConstants[Value],MATCH(\"Span Wire Weight (plf)\",DesignConstants[Design Constant],0)),0)","v":1.155},0,188.8425,{"$error":"#VALUE!"},{"$error":"#VALUE!"},{"$error":"#VALUE!"},{"$error":"#VALUE!"},{"$f":"IF(B194=\"\",0,INDEX(SignalHeads[Height ** (feet)],MATCH(B194,SignalHeads[Code],0)))","v":0},{"$f":"IF(L194=0,\"\",ROUNDDOWN(12*(((J194-L194)-MIN($J$31:$J$230-$L$31:$L$230)-(MAX($L$31:$L$230*(($J$31:$J$230-$L$31:$L$230)=MIN($J$31:$J$230-$L$31:$L$230)))-L194))+(MIN($J$31:$J$230-$L$31:$L$230)-$I$19)),0)/12)","v":""},"",{"$error":"#VALUE!"},17]
[165,null,{"$f":"IF(B195=\"\",0,INDEX(SignalHeads[Perp. Wind Area (sft)],MATCH(B195,SignalHeads[Code],0)))","v":0},{"$f":"IF(B195=\"\",\"\",INDEX(SignalHeads[Weight*** (lbs)],MATCH(B195,SignalHeads[Code],0)))","v":""},{"$f":"IF(A195<=$I$17,INDEX(DesignConstants[Value],MATCH(\"Span Wire Weight (plf)\",DesignConstants[Design Constant],0)),0)","v":1.155},0,189.9975,{"$error":"#VALUE!"},{"$error":"#VALUE!"},{"$error":"#VALUE!"},{"$error":"#VALUE!"},{"$f":"IF(B195=\"\",0,INDEX(SignalHeads[Height ** (feet)],MATCH(B195,SignalHeads[Code],0)))","v":0},{"$f":"IF(L195=0,\"\",ROUNDDOWN(12*(((J195-L195)-MIN($J$31:$J$230-$L$31:$L$230)-(MAX($L$31:$L$230*(($J$31:$J$230-$L$31:$L$230)=MIN($J$31:$J$230-$L$31:$L$230)))-L195))+(MIN($J$31:$J$230-$L$31:$L$230)-$I$19)),0)/12)","v":""},"",{"$error":"#VALUE!"},17]
[166,null,{"$f":"IF(B196=\"\",0,INDEX(SignalHeads[Perp. Wind Area (sft)],MATCH(B196,SignalHeads[Code],0)))","v":0},{"$f":"IF(B196=\"\",\"\",INDEX(SignalHeads[Weight*** (lbs)],MATCH(B196,SignalHeads[Code],0)))","v":""},{"$f":"IF(A196<=$I$17,INDEX(DesignConstants[Value],MATCH(\"Span Wire Weight (plf)\",DesignConstants[Design Constant],0)),0)","v":1.155},0,191.1525,{"$error":"#VALUE!"},{"$error":"#VALUE!"},{"$error":"#VALUE!"},{"$error":"#VALUE!"},{"$f":"IF(B196=\"\",0,INDEX(SignalHeads[Height ** (feet)],MATCH(B196,SignalHeads[Code],0)))","v":0},{"$f":"IF(L196=0,\"\",ROUNDDOWN(12*(((J196-L196)-MIN($J$31:$J$230-$L$31:$L$230)-(MAX($L$31:$L$230*(($J$31:$J$230-$L$31:$L$230)=MIN($J$31:$J$230-$L$31:$L$230)))-L196))+(MIN($J$31:$J$230-$L$31:$L$230)-$I$19)),0)/12)","v":""},"",{"$error":"#VALUE!"},17]
[167,null,{"$f":"IF(B197=\"\",0,INDEX(SignalHeads[Perp. Wind Area (sft)],MATCH(B197,SignalHeads[Code],0)))","v":0},{"$f":"IF(B197=\"\",\"\",INDEX(SignalHeads[Weight*** (lbs)],MATCH(B197,SignalHeads[Code],0)))","v":""},{"$f":"IF(A197<=$I$17,INDEX(DesignConstants[Value],MATCH(\"Span Wire Weight (plf)\",DesignConstants[Design Constant],0)),0)","v":1.155},0,192.3075,{"$error":"#VALUE!"},{"$error":"#VALUE!"},{"$error":"#VALUE!"},{"$error":"#VALUE!"},{"$f":"IF(B197=\"\",0,INDEX(SignalHeads[Height ** (feet)],MATCH(B197,SignalHeads[Code],0)))","v":0},{"$f":"IF(L197=0,\"\",ROUNDDOWN(12*(((J197-L197)-MIN($J$31:$J$230-$L$31:$L$230)-(MAX($L$31:$L$230*(($J$31:$J$230-$L$31:$L$230)=MIN($J$31:$J$230-$L$31:$L$230)))-L197))+(MIN($J$31:$J$230-$L$31:$L$230)-$I$19)),0)/12)","v":""},"",{"$error":"#VALUE!"},17]
[168,null,{"$f":"IF(B198=\"\",0,INDEX(SignalHeads[Perp. Wind Area (sft)],MATCH(B198,SignalHeads[Code],0)))","v":0},{"$f":"IF(B198=\"\",\"\",INDEX(SignalHeads[Weight*** (lbs)],MATCH(B198,SignalHeads[Code],0)))","v":""},{"$f":"IF(A198<=$I$17,INDEX(DesignConstants[Value],MATCH(\"Span Wire Weight (plf)\",DesignConstants[Design Constant],0)),0)","v":1.155},0,193.46250000000001,{"$error":"#VALUE!"},{"$error":"#VALUE!"},{"$error":"#VALUE!"},{"$error":"#VALUE!"},{"$f":"IF(B198=\"\",0,INDEX(SignalHeads[Height ** (feet)],MATCH(B198,SignalHeads[Code],0)))","v":0},{"$f":"IF(L198=0,\"\",ROUNDDOWN(12*(((J198-L198)-MIN($J$31:$J$230-$L$31:$L$230)-(MAX($L$31:$L$230*(($J$31:$J$230-$L$31:$L$230)=MIN($J$31:$J$230-$L$31:$L$230)))-L198))+(MIN($J$31:$J$230-$L$31:$L$230)-$I$19)),0)/12)","v":""},"",{"$error":"#VALUE!"},17]
[169,null,{"$f":"IF(B199=\"\",0,INDEX(SignalHeads[Perp. Wind Area (sft)],MATCH(B199,SignalHeads[Code],0)))","v":0},{"$f":"IF(B199=\"\",\"\",INDEX(SignalHeads[Weight*** (lbs)],MATCH(B199,SignalHeads[Code],0)))","v":""},{"$f":"IF(A199<=$I$17,INDEX(DesignConstants[Value],MATCH(\"Span Wire Weight (plf)\",DesignConstants[Design Constant],0)),0)","v":1.155},0,194.61750000000001,{"$error":"#VALUE!"},{"$error":"#VALUE!"},{"$error":"#VALUE!"},{"$error":"#VALUE!"},{"$f":"IF(B199=\"\",0,INDEX(SignalHeads[Height ** (feet)],MATCH(B199,SignalHeads[Code],0)))","v":0},{"$f":"IF(L199=0,\"\",ROUNDDOWN(12*(((J199-L199)-MIN($J$31:$J$230-$L$31:$L$230)-(MAX($L$31:$L$230*(($J$31:$J$230-$L$31:$L$230)=MIN($J$31:$J$230-$L$31:$L$230)))-L199))+(MIN($J$31:$J$230-$L$31:$L$230)-$I$19)),0)/12)","v":""},"",{"$error":"#VALUE!"},17]
[170,null,{"$f":"IF(B200=\"\",0,INDEX(SignalHeads[Perp. Wind Area (sft)],MATCH(B200,SignalHeads[Code],0)))","v":0},{"$f":"IF(B200=\"\",\"\",INDEX(SignalHeads[Weight*** (lbs)],MATCH(B200,SignalHeads[Code],0)))","v":""},{"$f":"IF(A200<=$I$17,INDEX(DesignConstants[Value],MATCH(\"Span Wire Weight (plf)\",DesignConstants[Design Constant],0)),0)","v":1.155},0,195.77250000000001,{"$error":"#VALUE!"},{"$error":"#VALUE!"},{"$error":"#VALUE!"},{"$error":"#VALUE!"},{"$f":"IF(B200=\"\",0,INDEX(SignalHeads[Height ** (feet)],MATCH(B200,SignalHeads[Code],0)))","v":0},{"$f":"IF(L200=0,\"\",ROUNDDOWN(12*(((J200-L200)-MIN($J$31:$J$230-$L$31:$L$230)-(MAX($L$31:$L$230*(($J$31:$J$230-$L$31:$L$230)=MIN($J$31:$J$230-$L$31:$L$230)))-L200))+(MIN($J$31:$J$230-$L$31:$L$230)-$I$19)),0)/12)","v":""},"",{"$error":"#VALUE!"},17]
[171,null,{"$f":"IF(B201=\"\",0,INDEX(SignalHeads[Perp. Wind Area (sft)],MATCH(B201,SignalHeads[Code],0)))","v":0},{"$f":"IF(B201=\"\",\"\",INDEX(SignalHeads[Weight*** (lbs)],MATCH(B201,SignalHeads[Code],0)))","v":""},{"$f":"IF(A201<=$I$17,INDEX(DesignConstants[Value],MATCH(\"Span Wire Weight (plf)\",DesignConstants[Design Constant],0)),0)","v":1.155},0,196.92750000000001,{"$error":"#VALUE!"},{"$error":"#VALUE!"},{"$error":"#VALUE!"},{"$error":"#VALUE!"},{"$f":"IF(B201=\"\",0,INDEX(SignalHeads[Height ** (feet)],MATCH(B201,SignalHeads[Code],0)))","v":0},{"$f":"IF(L201=0,\"\",ROUNDDOWN(12*(((J201-L201)-MIN($J$31:$J$230-$L$31:$L$230)-(MAX($L$31:$L$230*(($J$31:$J$230-$L$31:$L$230)=MIN($J$31:$J$230-$L$31:$L$230)))-L201))+(MIN($J$31:$J$230-$L$31:$L$230)-$I$19)),0)/12)","v":""},"",{"$error":"#VALUE!"},17]
[172,null,{"$f":"IF(B202=\"\",0,INDEX(SignalHeads[Perp. Wind Area (sft)],MATCH(B202,SignalHeads[Code],0)))","v":0},{"$f":"IF(B202=\"\",\"\",INDEX(SignalHeads[Weight*** (lbs)],MATCH(B202,SignalHeads[Code],0)))","v":""},{"$f":"IF(A202<=$I$17,INDEX(DesignConstants[Value],MATCH(\"Span Wire Weight (plf)\",DesignConstants[Design Constant],0)),0)","v":1.155},0,198.08250000000001,{"$error":"#VALUE!"},{"$error":"#VALUE!"},{"$error":"#VALUE!"},{"$error":"#VALUE!"},{"$f":"IF(B202=\"\",0,INDEX(SignalHeads[Height ** (feet)],MATCH(B202,SignalHeads[Code],0)))","v":0},{"$f":"IF(L202=0,\"\",ROUNDDOWN(12*(((J202-L202)-MIN($J$31:$J$230-$L$31:$L$230)-(MAX($L$31:$L$230*(($J$31:$J$230-$L$31:$L$230)=MIN($J$31:$J$230-$L$31:$L$230)))-L202))+(MIN($J$31:$J$230-$L$31:$L$230)-$I$19)),0)/12)","v":""},"",{"$error":"#VALUE!"},17]
[173,null,{"$f":"IF(B203=\"\",0,INDEX(SignalHeads[Perp. Wind Area (sft)],MATCH(B203,SignalHeads[Code],0)))","v":0},{"$f":"IF(B203=\"\",\"\",INDEX(SignalHeads[Weight*** (lbs)],MATCH(B203,SignalHeads[Code],0)))","v":""},{"$f":"IF(A203<=$I$17,INDEX(DesignConstants[Value],MATCH(\"Span Wire Weight (plf)\",DesignConstants[Design Constant],0)),0)","v":1.155},0,199.23750000000001,{"$error":"#VALUE!"},{"$error":"#VALUE!"},{"$error":"#VALUE!"},{"$error":"#VALUE!"},{"$f":"IF(B203=\"\",0,INDEX(SignalHeads[Height ** (feet)],MATCH(B203,SignalHeads[Code],0)))","v":0},{"$f":"IF(L203=0,\"\",ROUNDDOWN(12*(((J203-L203)-MIN($J$31:$J$230-$L$31:$L$230)-(MAX($L$31:$L$230*(($J$31:$J$230-$L$31:$L$230)=MIN($J$31:$J$230-$L$31:$L$230)))-L203))+(MIN($J$31:$J$230-$L$31:$L$230)-$I$19)),0)/12)","v":""},"",{"$error":"#VALUE!"},17]
[174,null,{"$f":"IF(B204=\"\",0,INDEX(SignalHeads[Perp. Wind Area (sft)],MATCH(B204,SignalHeads[Code],0)))","v":0},{"$f":"IF(B204=\"\",\"\",INDEX(SignalHeads[Weight*** (lbs)],MATCH(B204,SignalHeads[Code],0)))","v":""},{"$f":"IF(A204<=$I$17,INDEX(DesignConstants[Value],MATCH(\"Span Wire Weight (plf)\",DesignConstants[Design Constant],0)),0)","v":1.155},0,200.39250000000001,{"$error":"#VALUE!"},{"$error":"#VALUE!"},{"$error":"#VALUE!"},{"$error":"#VALUE!"},{"$f":"IF(B204=\"\",0,INDEX(SignalHeads[Height ** (feet)],MATCH(B204,SignalHeads[Code],0)))","v":0},{"$f":"IF(L204=0,\"\",ROUNDDOWN(12*(((J204-L204)-MIN($J$31:$J$230-$L$31:$L$230)-(MAX($L$31:$L$230*(($J$31:$J$230-$L$31:$L$230)=MIN($J$31:$J$230-$L$31:$L$230)))-L204))+(MIN($J$31:$J$230-$L$31:$L$230)-$I$19)),0)/12)","v":""},"",{"$error":"#VALUE!"},17]
[175,null,{"$f":"IF(B205=\"\",0,INDEX(SignalHeads[Perp. Wind Area (sft)],MATCH(B205,SignalHeads[Code],0)))","v":0},{"$f":"IF(B205=\"\",\"\",INDEX(SignalHeads[Weight*** (lbs)],MATCH(B205,SignalHeads[Code],0)))","v":""},{"$f":"IF(A205<=$I$17,INDEX(DesignConstants[Value],MATCH(\"Span Wire Weight (plf)\",DesignConstants[Design Constant],0)),0)","v":1.155},0,201.54750000000001,{"$error":"#VALUE!"},{"$error":"#VALUE!"},{"$error":"#VALUE!"},{"$error":"#VALUE!"},{"$f":"IF(B205=\"\",0,INDEX(SignalHeads[Height ** (feet)],MATCH(B205,SignalHeads[Code],0)))","v":0},{"$f":"IF(L205=0,\"\",ROUNDDOWN(12*(((J205-L205)-MIN($J$31:$J$230-$L$31:$L$230)-(MAX($L$31:$L$230*(($J$31:$J$230-$L$31:$L$230)=MIN($J$31:$J$230-$L$31:$L$230)))-L205))+(MIN($J$31:$J$230-$L$31:$L$230)-$I$19)),0)/12)","v":""},"",{"$error":"#VALUE!"},17]
[176,null,{"$f":"IF(B206=\"\",0,INDEX(SignalHeads[Perp. Wind Area (sft)],MATCH(B206,SignalHeads[Code],0)))","v":0},{"$f":"IF(B206=\"\",\"\",INDEX(SignalHeads[Weight*** (lbs)],MATCH(B206,SignalHeads[Code],0)))","v":""},{"$f":"IF(A206<=$I$17,INDEX(DesignConstants[Value],MATCH(\"Span Wire Weight (plf)\",DesignConstants[Design Constant],0)),0)","v":1.155},0,202.70250000000001,{"$error":"#VALUE!"},{"$error":"#VALUE!"},{"$error":"#VALUE!"},{"$error":"#VALUE!"},{"$f":"IF(B206=\"\",0,INDEX(SignalHeads[Height ** (feet)],MATCH(B206,SignalHeads[Code],0)))","v":0},{"$f":"IF(L206=0,\"\",ROUNDDOWN(12*(((J206-L206)-MIN($J$31:$J$230-$L$31:$L$230)-(MAX($L$31:$L$230*(($J$31:$J$230-$L$31:$L$230)=MIN($J$31:$J$230-$L$31:$L$230)))-L206))+(MIN($J$31:$J$230-$L$31:$L$230)-$I$19)),0)/12)","v":""},"",{"$error":"#VALUE!"},17]
[177,null,{"$f":"IF(B207=\"\",0,INDEX(SignalHeads[Perp. Wind Area (sft)],MATCH(B207,SignalHeads[Code],0)))","v":0},{"$f":"IF(B207=\"\",\"\",INDEX(SignalHeads[Weight*** (lbs)],MATCH(B207,SignalHeads[Code],0)))","v":""},{"$f":"IF(A207<=$I$17,INDEX(DesignConstants[Value],MATCH(\"Span Wire Weight (plf)\",DesignConstants[Design Constant],0)),0)","v":1.155},0,203.85750000000002,{"$error":"#VALUE!"},{"$error":"#VALUE!"},{"$error":"#VALUE!"},{"$error":"#VALUE!"},{"$f":"IF(B207=\"\",0,INDEX(SignalHeads[Height ** (feet)],MATCH(B207,SignalHeads[Code],0)))","v":0},{"$f":"IF(L207=0,\"\",ROUNDDOWN(12*(((J207-L207)-MIN($J$31:$J$230-$L$31:$L$230)-(MAX($L$31:$L$230*(($J$31:$J$230-$L$31:$L$230)=MIN($J$31:$J$230-$L$31:$L$230)))-L207))+(MIN($J$31:$J$230-$L$31:$L$230)-$I$19)),0)/12)","v":""},"",{"$error":"#VALUE!"},17]
[178,null,{"$f":"IF(B208=\"\",0,INDEX(SignalHeads[Perp. Wind Area (sft)],MATCH(B208,SignalHeads[Code],0)))","v":0},{"$f":"IF(B208=\"\",\"\",INDEX(SignalHeads[Weight*** (lbs)],MATCH(B208,SignalHeads[Code],0)))","v":""},{"$f":"IF(A208<=$I$17,INDEX(DesignConstants[Value],MATCH(\"Span Wire Weight (plf)\",DesignConstants[Design Constant],0)),0)","v":1.155},0,205.01250000000002,{"$error":"#VALUE!"},{"$error":"#VALUE!"},{"$error":"#VALUE!"},{"$error":"#VALUE!"},{"$f":"IF(B208=\"\",0,INDEX(SignalHeads[Height ** (feet)],MATCH(B208,SignalHeads[Code],0)))","v":0},{"$f":"IF(L208=0,\"\",ROUNDDOWN(12*(((J208-L208)-MIN($J$31:$J$230-$L$31:$L$230)-(MAX($L$31:$L$230*(($J$31:$J$230-$L$31:$L$230)=MIN($J$31:$J$230-$L$31:$L$230)))-L208))+(MIN($J$31:$J$230-$L$31:$L$230)-$I$19)),0)/12)","v":""},"",{"$error":"#VALUE!"},17]
[179,null,{"$f":"IF(B209=\"\",0,INDEX(SignalHeads[Perp. Wind Area (sft)],MATCH(B209,SignalHeads[Code],0)))","v":0},{"$f":"IF(B209=\"\",\"\",INDEX(SignalHeads[Weight*** (lbs)],MATCH(B209,SignalHeads[Code],0)))","v":""},{"$f":"IF(A209<=$I$17,INDEX(DesignConstants[Value],MATCH(\"Span Wire Weight (plf)\",DesignConstants[Design Constant],0)),0)","v":1.155},0,206.16750000000002,{"$error":"#VALUE!"},{"$error":"#VALUE!"},{"$error":"#VALUE!"},{"$error":"#VALUE!"},{"$f":"IF(B209=\"\",0,INDEX(SignalHeads[Height ** (feet)],MATCH(B209,SignalHeads[Code],0)))","v":0},{"$f":"IF(L209=0,\"\",ROUNDDOWN(12*(((J209-L209)-MIN($J$31:$J$230-$L$31:$L$230)-(MAX($L$31:$L$230*(($J$31:$J$230-$L$31:$L$230)=MIN($J$31:$J$230-$L$31:$L$230)))-L209))+(MIN($J$31:$J$230-$L$31:$L$230)-$I$19)),0)/12)","v":""},"",{"$error":"#VALUE!"},17]
[180,null,{"$f":"IF(B210=\"\",0,INDEX(SignalHeads[Perp. Wind Area (sft)],MATCH(B210,SignalHeads[Code],0)))","v":0},{"$f":"IF(B210=\"\",\"\",INDEX(SignalHeads[Weight*** (lbs)],MATCH(B210,SignalHeads[Code],0)))","v":""},{"$f":"IF(A210<=$I$17,INDEX(DesignConstants[Value],MATCH(\"Span Wire Weight (plf)\",DesignConstants[Design Constant],0)),0)","v":1.155},0,207.32249999999999,{"$error":"#VALUE!"},{"$error":"#VALUE!"},{"$error":"#VALUE!"},{"$error":"#VALUE!"},{"$f":"IF(B210=\"\",0,INDEX(SignalHeads[Height ** (feet)],MATCH(B210,SignalHeads[Code],0)))","v":0},{"$f":"IF(L210=0,\"\",ROUNDDOWN(12*(((J210-L210)-MIN($J$31:$J$230-$L$31:$L$230)-(MAX($L$31:$L$230*(($J$31:$J$230-$L$31:$L$230)=MIN($J$31:$J$230-$L$31:$L$230)))-L210))+(MIN($J$31:$J$230-$L$31:$L$230)-$I$19)),0)/12)","v":""},"",{"$error":"#VALUE!"},17]
[181,null,{"$f":"IF(B211=\"\",0,INDEX(SignalHeads[Perp. Wind Area (sft)],MATCH(B211,SignalHeads[Code],0)))","v":0},{"$f":"IF(B211=\"\",\"\",INDEX(SignalHeads[Weight*** (lbs)],MATCH(B211,SignalHeads[Code],0)))","v":""},{"$f":"IF(A211<=$I$17,INDEX(DesignConstants[Value],MATCH(\"Span Wire Weight (plf)\",DesignConstants[Design Constant],0)),0)","v":1.155},0,208.47749999999999,{"$error":"#VALUE!"},{"$error":"#VALUE!"},{"$error":"#VALUE!"},{"$error":"#VALUE!"},{"$f":"IF(B211=\"\",0,INDEX(SignalHeads[Height ** (feet)],MATCH(B211,SignalHeads[Code],0)))","v":0},{"$f":"IF(L211=0,\"\",ROUNDDOWN(12*(((J211-L211)-MIN($J$31:$J$230-$L$31:$L$230)-(MAX($L$31:$L$230*(($J$31:$J$230-$L$31:$L$230)=MIN($J$31:$J$230-$L$31:$L$230)))-L211))+(MIN($J$31:$J$230-$L$31:$L$230)-$I$19)),0)/12)","v":""},"",{"$error":"#VALUE!"},17]
[182,null,{"$f":"IF(B212=\"\",0,INDEX(SignalHeads[Perp. Wind Area (sft)],MATCH(B212,SignalHeads[Code],0)))","v":0},{"$f":"IF(B212=\"\",\"\",INDEX(SignalHeads[Weight*** (lbs)],MATCH(B212,SignalHeads[Code],0)))","v":""},{"$f":"IF(A212<=$I$17,INDEX(DesignConstants[Value],MATCH(\"Span Wire Weight (plf)\",DesignConstants[Design Constant],0)),0)","v":1.155},0,209.63249999999999,{"$error":"#VALUE!"},{"$error":"#VALUE!"},{"$error":"#VALUE!"},{"$error":"#VALUE!"},{"$f":"IF(B212=\"\",0,INDEX(SignalHeads[Height ** (feet)],MATCH(B212,SignalHeads[Code],0)))","v":0},{"$f":"IF(L212=0,\"\",ROUNDDOWN(12*(((J212-L212)-MIN($J$31:$J$230-$L$31:$L$230)-(MAX($L$31:$L$230*(($J$31:$J$230-$L$31:$L$230)=MIN($J$31:$J$230-$L$31:$L$230)))-L212))+(MIN($J$31:$J$230-$L$31:$L$230)-$I$19)),0)/12)","v":""},"",{"$error":"#VALUE!"},17]
[183,null,{"$f":"IF(B213=\"\",0,INDEX(SignalHeads[Perp. Wind Area (sft)],MATCH(B213,SignalHeads[Code],0)))","v":0},{"$f":"IF(B213=\"\",\"\",INDEX(SignalHeads[Weight*** (lbs)],MATCH(B213,SignalHeads[Code],0)))","v":""},{"$f":"IF(A213<=$I$17,INDEX(DesignConstants[Value],MATCH(\"Span Wire Weight (plf)\",DesignConstants[Design Constant],0)),0)","v":1.155},0,210.78749999999999,{"$error":"#VALUE!"},{"$error":"#VALUE!"},{"$error":"#VALUE!"},{"$error":"#VALUE!"},{"$f":"IF(B213=\"\",0,INDEX(SignalHeads[Height ** (feet)],MATCH(B213,SignalHeads[Code],0)))","v":0},{"$f":"IF(L213=0,\"\",ROUNDDOWN(12*(((J213-L213)-MIN($J$31:$J$230-$L$31:$L$230)-(MAX($L$31:$L$230*(($J$31:$J$230-$L$31:$L$230)=MIN($J$31:$J$230-$L$31:$L$230)))-L213))+(MIN($J$31:$J$230-$L$31:$L$230)-$I$19)),0)/12)","v":""},"",{"$error":"#VALUE!"},17]
[184,null,{"$f":"IF(B214=\"\",0,INDEX(SignalHeads[Perp. Wind Area (sft)],MATCH(B214,SignalHeads[Code],0)))","v":0},{"$f":"IF(B214=\"\",\"\",INDEX(SignalHeads[Weight*** (lbs)],MATCH(B214,SignalHeads[Code],0)))","v":""},{"$f":"IF(A214<=$I$17,INDEX(DesignConstants[Value],MATCH(\"Span Wire Weight (plf)\",DesignConstants[Design Constant],0)),0)","v":1.155},0,211.9425,{"$error":"#VALUE!"},{"$error":"#VALUE!"},{"$error":"#VALUE!"},{"$error":"#VALUE!"},{"$f":"IF(B214=\"\",0,INDEX(SignalHeads[Height ** (feet)],MATCH(B214,SignalHeads[Code],0)))","v":0},{"$f":"IF(L214=0,\"\",ROUNDDOWN(12*(((J214-L214)-MIN($J$31:$J$230-$L$31:$L$230)-(MAX($L$31:$L$230*(($J$31:$J$230-$L$31:$L$230)=MIN($J$31:$J$230-$L$31:$L$230)))-L214))+(MIN($J$31:$J$230-$L$31:$L$230)-$I$19)),0)/12)","v":""},"",{"$error":"#VALUE!"},17]
[185,null,{"$f":"IF(B215=\"\",0,INDEX(SignalHeads[Perp. Wind Area (sft)],MATCH(B215,SignalHeads[Code],0)))","v":0},{"$f":"IF(B215=\"\",\"\",INDEX(SignalHeads[Weight*** (lbs)],MATCH(B215,SignalHeads[Code],0)))","v":""},{"$f":"IF(A215<=$I$17,INDEX(DesignConstants[Value],MATCH(\"Span Wire Weight (plf)\",DesignConstants[Design Constant],0)),0)","v":1.155},0,213.0975,{"$error":"#VALUE!"},{"$error":"#VALUE!"},{"$error":"#VALUE!"},{"$error":"#VALUE!"},{"$f":"IF(B215=\"\",0,INDEX(SignalHeads[Height ** (feet)],MATCH(B215,SignalHeads[Code],0)))","v":0},{"$f":"IF(L215=0,\"\",ROUNDDOWN(12*(((J215-L215)-MIN($J$31:$J$230-$L$31:$L$230)-(MAX($L$31:$L$230*(($J$31:$J$230-$L$31:$L$230)=MIN($J$31:$J$230-$L$31:$L$230)))-L215))+(MIN($J$31:$J$230-$L$31:$L$230)-$I$19)),0)/12)","v":""},"",{"$error":"#VALUE!"},17]
[186,null,{"$f":"IF(B216=\"\",0,INDEX(SignalHeads[Perp. Wind Area (sft)],MATCH(B216,SignalHeads[Code],0)))","v":0},{"$f":"IF(B216=\"\",\"\",INDEX(SignalHeads[Weight*** (lbs)],MATCH(B216,SignalHeads[Code],0)))","v":""},{"$f":"IF(A216<=$I$17,INDEX(DesignConstants[Value],MATCH(\"Span Wire Weight (plf)\",DesignConstants[Design Constant],0)),0)","v":1.155},0,214.2525,{"$error":"#VALUE!"},{"$error":"#VALUE!"},{"$error":"#VALUE!"},{"$error":"#VALUE!"},{"$f":"IF(B216=\"\",0,INDEX(SignalHeads[Height ** (feet)],MATCH(B216,SignalHeads[Code],0)))","v":0},{"$f":"IF(L216=0,\"\",ROUNDDOWN(12*(((J216-L216)-MIN($J$31:$J$230-$L$31:$L$230)-(MAX($L$31:$L$230*(($J$31:$J$230-$L$31:$L$230)=MIN($J$31:$J$230-$L$31:$L$230)))-L216))+(MIN($J$31:$J$230-$L$31:$L$230)-$I$19)),0)/12)","v":""},"",{"$error":"#VALUE!"},17]
[187,null,{"$f":"IF(B217=\"\",0,INDEX(SignalHeads[Perp. Wind Area (sft)],MATCH(B217,SignalHeads[Code],0)))","v":0},{"$f":"IF(B217=\"\",\"\",INDEX(SignalHeads[Weight*** (lbs)],MATCH(B217,SignalHeads[Code],0)))","v":""},{"$f":"IF(A217<=$I$17,INDEX(DesignConstants[Value],MATCH(\"Span Wire Weight (plf)\",DesignConstants[Design Constant],0)),0)","v":1.155},0,215.4075,{"$error":"#VALUE!"},{"$error":"#VALUE!"},{"$error":"#VALUE!"},{"$error":"#VALUE!"},{"$f":"IF(B217=\"\",0,INDEX(SignalHeads[Height ** (feet)],MATCH(B217,SignalHeads[Code],0)))","v":0},{"$f":"IF(L217=0,\"\",ROUNDDOWN(12*(((J217-L217)-MIN($J$31:$J$230-$L$31:$L$230)-(MAX($L$31:$L$230*(($J$31:$J$230-$L$31:$L$230)=MIN($J$31:$J$230-$L$31:$L$230)))-L217))+(MIN($J$31:$J$230-$L$31:$L$230)-$I$19)),0)/12)","v":""},"",{"$error":"#VALUE!"},17]
[188,null,{"$f":"IF(B218=\"\",0,INDEX(SignalHeads[Perp. Wind Area (sft)],MATCH(B218,SignalHeads[Code],0)))","v":0},{"$f":"IF(B218=\"\",\"\",INDEX(SignalHeads[Weight*** (lbs)],MATCH(B218,SignalHeads[Code],0)))","v":""},{"$f":"IF(A218<=$I$17,INDEX(DesignConstants[Value],MATCH(\"Span Wire Weight (plf)\",DesignConstants[Design Constant],0)),0)","v":1.155},0,216.5625,{"$error":"#VALUE!"},{"$error":"#VALUE!"},{"$error":"#VALUE!"},{"$error":"#VALUE!"},{"$f":"IF(B218=\"\",0,INDEX(SignalHeads[Height ** (feet)],MATCH(B218,SignalHeads[Code],0)))","v":0},{"$f":"IF(L218=0,\"\",ROUNDDOWN(12*(((J218-L218)-MIN($J$31:$J$230-$L$31:$L$230)-(MAX($L$31:$L$230*(($J$31:$J$230-$L$31:$L$230)=MIN($J$31:$J$230-$L$31:$L$230)))-L218))+(MIN($J$31:$J$230-$L$31:$L$230)-$I$19)),0)/12)","v":""},"",{"$error":"#VALUE!"},17]
[189,null,{"$f":"IF(B219=\"\",0,INDEX(SignalHeads[Perp. Wind Area (sft)],MATCH(B219,SignalHeads[Code],0)))","v":0},{"$f":"IF(B219=\"\",\"\",INDEX(SignalHeads[Weight*** (lbs)],MATCH(B219,SignalHeads[Code],0)))","v":""},{"$f":"IF(A219<=$I$17,INDEX(DesignConstants[Value],MATCH(\"Span Wire Weight (plf)\",DesignConstants[Design Constant],0)),0)","v":1.155},0,217.7175,{"$error":"#VALUE!"},{"$error":"#VALUE!"},{"$error":"#VALUE!"},{"$error":"#VALUE!"},{"$f":"IF(B219=\"\",0,INDEX(SignalHeads[Height ** (feet)],MATCH(B219,SignalHeads[Code],0)))","v":0},{"$f":"IF(L219=0,\"\",ROUNDDOWN(12*(((J219-L219)-MIN($J$31:$J$230-$L$31:$L$230)-(MAX($L$31:$L$230*(($J$31:$J$230-$L$31:$L$230)=MIN($J$31:$J$230-$L$31:$L$230)))-L219))+(MIN($J$31:$J$230-$L$31:$L$230)-$I$19)),0)/12)","v":""},"",{"$error":"#VALUE!"},17]
[190,null,{"$f":"IF(B220=\"\",0,INDEX(SignalHeads[Perp. Wind Area (sft)],MATCH(B220,SignalHeads[Code],0)))","v":0},{"$f":"IF(B220=\"\",\"\",INDEX(SignalHeads[Weight*** (lbs)],MATCH(B220,SignalHeads[Code],0)))","v":""},{"$f":"IF(A220<=$I$17,INDEX(DesignConstants[Value],MATCH(\"Span Wire Weight (plf)\",DesignConstants[Design Constant],0)),0)","v":1.155},0,218.8725,{"$error":"#VALUE!"},{"$error":"#VALUE!"},{"$error":"#VALUE!"},{"$error":"#VALUE!"},{"$f":"IF(B220=\"\",0,INDEX(SignalHeads[Height ** (feet)],MATCH(B220,SignalHeads[Code],0)))","v":0},{"$f":"IF(L220=0,\"\",ROUNDDOWN(12*(((J220-L220)-MIN($J$31:$J$230-$L$31:$L$230)-(MAX($L$31:$L$230*(($J$31:$J$230-$L$31:$L$230)=MIN($J$31:$J$230-$L$31:$L$230)))-L220))+(MIN($J$31:$J$230-$L$31:$L$230)-$I$19)),0)/12)","v":""},"",{"$error":"#VALUE!"},17]
[191,null,{"$f":"IF(B221=\"\",0,INDEX(SignalHeads[Perp. Wind Area (sft)],MATCH(B221,SignalHeads[Code],0)))","v":0},{"$f":"IF(B221=\"\",\"\",INDEX(SignalHeads[Weight*** (lbs)],MATCH(B221,SignalHeads[Code],0)))","v":""},{"$f":"IF(A221<=$I$17,INDEX(DesignConstants[Value],MATCH(\"Span Wire Weight (plf)\",DesignConstants[Design Constant],0)),0)","v":1.155},0,220.0275,{"$error":"#VALUE!"},{"$error":"#VALUE!"},{"$error":"#VALUE!"},{"$error":"#VALUE!"},{"$f":"IF(B221=\"\",0,INDEX(SignalHeads[Height ** (feet)],MATCH(B221,SignalHeads[Code],0)))","v":0},{"$f":"IF(L221=0,\"\",ROUNDDOWN(12*(((J221-L221)-MIN($J$31:$J$230-$L$31:$L$230)-(MAX($L$31:$L$230*(($J$31:$J$230-$L$31:$L$230)=MIN($J$31:$J$230-$L$31:$L$230)))-L221))+(MIN($J$31:$J$230-$L$31:$L$230)-$I$19)),0)/12)","v":""},"",{"$error":"#VALUE!"},17]
[192,null,{"$f":"IF(B222=\"\",0,INDEX(SignalHeads[Perp. Wind Area (sft)],MATCH(B222,SignalHeads[Code],0)))","v":0},{"$f":"IF(B222=\"\",\"\",INDEX(SignalHeads[Weight*** (lbs)],MATCH(B222,SignalHeads[Code],0)))","v":""},{"$f":"IF(A222<=$I$17,INDEX(DesignConstants[Value],MATCH(\"Span Wire Weight (plf)\",DesignConstants[Design Constant],0)),0)","v":1.155},0,221.1825,{"$error":"#VALUE!"},{"$error":"#VALUE!"},{"$error":"#VALUE!"},{"$error":"#VALUE!"},{"$f":"IF(B222=\"\",0,INDEX(SignalHeads[Height ** (feet)],MATCH(B222,SignalHeads[Code],0)))","v":0},{"$f":"IF(L222=0,\"\",ROUNDDOWN(12*(((J222-L222)-MIN($J$31:$J$230-$L$31:$L$230)-(MAX($L$31:$L$230*(($J$31:$J$230-$L$31:$L$230)=MIN($J$31:$J$230-$L$31:$L$230)))-L222))+(MIN($J$31:$J$230-$L$31:$L$230)-$I$19)),0)/12)","v":""},"",{"$error":"#VALUE!"},17]
[193,null,{"$f":"IF(B223=\"\",0,INDEX(SignalHeads[Perp. Wind Area (sft)],MATCH(B223,SignalHeads[Code],0)))","v":0},{"$f":"IF(B223=\"\",\"\",INDEX(SignalHeads[Weight*** (lbs)],MATCH(B223,SignalHeads[Code],0)))","v":""},{"$f":"IF(A223<=$I$17,INDEX(DesignConstants[Value],MATCH(\"Span Wire Weight (plf)\",DesignConstants[Design Constant],0)),0)","v":1.155},{"$f":"IF(B223=\"\",0,+D223*A223)","v":0},{"$f":"+E223*(A223-0.5)","v":222.33750000000001},{"$error":"#VALUE!"},{"$error":"#VALUE!"},{"$error":"#VALUE!"},{"$f":"IF(A223>$I$17,0,($N$24-$N$15)/$I$17*A223+$N$15)","v":{"$error":"#VALUE!"}},{"$f":"IF(B223=\"\",0,INDEX(SignalHeads[Height ** (feet)],MATCH(B223,SignalHeads[Code],0)))","v":0},{"$f":"IF(L223=0,\"\",ROUNDDOWN(12*(((J223-L223)-MIN($J$31:$J$230-$L$31:$L$230)-(MAX($L$31:$L$230*(($J$31:$J$230-$L$31:$L$230)=MIN($J$31:$J$230-$L$31:$L$230)))-L223))+(MIN($J$31:$J$230-$L$31:$L$230)-$I$19)),0)/12)","v":""},"",{"$error":"#VALUE!"},{"$f":"$I$19","v":17}]
[194,null,{"$f":"IF(B224=\"\",0,INDEX(SignalHeads[Perp. Wind Area (sft)],MATCH(B224,SignalHeads[Code],0)))","v":0},{"$f":"IF(B224=\"\",\"\",INDEX(SignalHeads[Weight*** (lbs)],MATCH(B224,SignalHeads[Code],0)))","v":""},{"$f":"IF(A224<=$I$17,INDEX(DesignConstants[Value],MATCH(\"Span Wire Weight (plf)\",DesignConstants[Design Constant],0)),0)","v":1.155},0,223.49250000000001,{"$f":"H223+(IF(B224=\"\",0,D224))+E224","v":{"$error":"#VALUE!"}},{"$f":"(0.5*E224+(IF(B224=\"\",0,D224))+H223)/$I$13","v":{"$error":"#VALUE!"}},{"$error":"#VALUE!"},{"$error":"#VALUE!"},{"$f":"IF(B224=\"\",0,INDEX(SignalHeads[Height ** (feet)],MATCH(B224,SignalHeads[Code],0)))","v":0},{"$f":"IF(L224=0,\"\",ROUNDDOWN(12*(((J224-L224)-MIN($J$31:$J$230-$L$31:$L$230)-(MAX($L$31:$L$230*(($J$31:$J$230-$L$31:$L$230)=MIN($J$31:$J$230-$L$31:$L$230)))-L224))+(MIN($J$31:$J$230-$L$31:$L$230)-$I$19)),0)/12)","v":""},{"$f":"IF(M224=\"\",\"\",INT(M224)&\"'-\"&ROUND((M224-INT(M224))*12,0)&\"\"\"\")","v":""},{"$f":"IF(A224<=$I$17,J224-L224-IF(ISNUMBER(M224),M224,0),\"\")","v":{"$error":"#VALUE!"}},17]
[195,null,{"$f":"IF(B225=\"\",0,INDEX(SignalHeads[Perp. Wind Area (sft)],MATCH(B225,SignalHeads[Code],0)))","v":0},{"$f":"IF(B225=\"\",\"\",INDEX(SignalHeads[Weight*** (lbs)],MATCH(B225,SignalHeads[Code],0)))","v":""},{"$f":"IF(A225<=$I$17,INDEX(DesignConstants[Value],MATCH(\"Span Wire Weight (plf)\",DesignConstants[Design Constant],0)),0)","v":1.155},0,224.64750000000001,{"$error":"#VALUE!"},{"$error":"#VALUE!"},{"$error":"#VALUE!"},{"$error":"#VALUE!"},{"$f":"IF(B225=\"\",0,INDEX(SignalHeads[Height ** (feet)],MATCH(B225,SignalHeads[Code],0)))","v":0},{"$f":"IF(L225=0,\"\",ROUNDDOWN(12*(((J225-L225)-MIN($J$31:$J$230-$L$31:$L$230)-(MAX($L$31:$L$230*(($J$31:$J$230-$L$31:$L$230)=MIN($J$31:$J$230-$L$31:$L$230)))-L225))+(MIN($J$31:$J$230-$L$31:$L$230)-$I$19)),0)/12)","v":""},"",{"$error":"#VALUE!"},17]
[196,null,{"$f":"IF(B226=\"\",0,INDEX(SignalHeads[Perp. Wind Area (sft)],MATCH(B226,SignalHeads[Code],0)))","v":0},{"$f":"IF(B226=\"\",\"\",INDEX(SignalHeads[Weight*** (lbs)],MATCH(B226,SignalHeads[Code],0)))","v":""},{"$f":"IF(A226<=$I$17,INDEX(DesignConstants[Value],MATCH(\"Span Wire Weight (plf)\",DesignConstants[Design Constant],0)),0)","v":1.155},0,225.80250000000001,{"$error":"#VALUE!"},{"$error":"#VALUE!"},{"$f":"+J225+I226","v":{"$error":"#VALUE!"}},{"$error":"#VALUE!"},{"$f":"IF(B226=\"\",0,INDEX(SignalHeads[Height ** (feet)],MATCH(B226,SignalHeads[Code],0)))","v":0},{"$f":"IF(L226=0,\"\",ROUNDDOWN(12*(((J226-L226)-MIN($J$31:$J$230-$L$31:$L$230)-(MAX($L$31:$L$230*(($J$31:$J$230-$L$31:$L$230)=MIN($J$31:$J$230-$L$31:$L$230)))-L226))+(MIN($J$31:$J$230-$L$31:$L$230)-$I$19)),0)/12)","v":""},"",{"$error":"#VALUE!"},17]
[197,null,{"$f":"IF(B227=\"\",0,INDEX(SignalHeads[Perp. Wind Area (sft)],MATCH(B227,SignalHeads[Code],0)))","v":0},{"$f":"IF(B227=\"\",\"\",INDEX(SignalHeads[Weight*** (lbs)],MATCH(B227,SignalHeads[Code],0)))","v":""},{"$f":"IF(A227<=$I$17,INDEX(DesignConstants[Value],MATCH(\"Span Wire Weight (plf)\",DesignConstants[Design Constant],0)),0)","v":1.155},0,226.95750000000001,{"$error":"#VALUE!"},{"$error":"#VALUE!"},{"$error":"#VALUE!"},{"$error":"#VALUE!"},{"$f":"IF(B227=\"\",0,INDEX(SignalHeads[Height ** (feet)],MATCH(B227,SignalHeads[Code],0)))","v":0},{"$f":"IF(L227=0,\"\",ROUNDDOWN(12*(((J227-L227)-MIN($J$31:$J$230-$L$31:$L$230)-(MAX($L$31:$L$230*(($J$31:$J$230-$L$31:$L$230)=MIN($J$31:$J$230-$L$31:$L$230)))-L227))+(MIN($J$31:$J$230-$L$31:$L$230)-$I$19)),0)/12)","v":""},"",{"$error":"#VALUE!"},17]
[198,null,{"$f":"IF(B228=\"\",0,INDEX(SignalHeads[Perp. Wind Area (sft)],MATCH(B228,SignalHeads[Code],0)))","v":0},{"$f":"IF(B228=\"\",\"\",INDEX(SignalHeads[Weight*** (lbs)],MATCH(B228,SignalHeads[Code],0)))","v":""},{"$f":"IF(A228<=$I$17,INDEX(DesignConstants[Value],MATCH(\"Span Wire Weight (plf)\",DesignConstants[Design Constant],0)),0)","v":1.155},0,228.11250000000001,{"$error":"#VALUE!"},{"$error":"#VALUE!"},{"$error":"#VALUE!"},{"$error":"#VALUE!"},{"$f":"IF(B228=\"\",0,INDEX(SignalHeads[Height ** (feet)],MATCH(B228,SignalHeads[Code],0)))","v":0},{"$f":"IF(L228=0,\"\",ROUNDDOWN(12*(((J228-L228)-MIN($J$31:$J$230-$L$31:$L$230)-(MAX($L$31:$L$230*(($J$31:$J$230-$L$31:$L$230)=MIN($J$31:$J$230-$L$31:$L$230)))-L228))+(MIN($J$31:$J$230-$L$31:$L$230)-$I$19)),0)/12)","v":""},"",{"$error":"#VALUE!"},17]
[199,null,{"$f":"IF(B229=\"\",0,INDEX(SignalHeads[Perp. Wind Area (sft)],MATCH(B229,SignalHeads[Code],0)))","v":0},{"$f":"IF(B229=\"\",\"\",INDEX(SignalHeads[Weight*** (lbs)],MATCH(B229,SignalHeads[Code],0)))","v":""},{"$f":"IF(A229<=$I$17,INDEX(DesignConstants[Value],MATCH(\"Span Wire Weight (plf)\",DesignConstants[Design Constant],0)),0)","v":1.155},0,229.26750000000001,{"$error":"#VALUE!"},{"$error":"#VALUE!"},{"$error":"#VALUE!"},{"$error":"#VALUE!"},{"$f":"IF(B229=\"\",0,INDEX(SignalHeads[Height ** (feet)],MATCH(B229,SignalHeads[Code],0)))","v":0},{"$f":"IF(L229=0,\"\",ROUNDDOWN(12*(((J229-L229)-MIN($J$31:$J$230-$L$31:$L$230)-(MAX($L$31:$L$230*(($J$31:$J$230-$L$31:$L$230)=MIN($J$31:$J$230-$L$31:$L$230)))-L229))+(MIN($J$31:$J$230-$L$31:$L$230)-$I$19)),0)/12)","v":""},"",{"$error":"#VALUE!"},17]
[200,null,{"$f":"IF(B230=\"\",0,INDEX(SignalHeads[Perp. Wind Area (sft)],MATCH(B230,SignalHeads[Code],0)))","v":0},{"$f":"IF(B230=\"\",\"\",INDEX(SignalHeads[Weight*** (lbs)],MATCH(B230,SignalHeads[Code],0)))","v":""},{"$f":"IF(A230<=$I$17,INDEX(DesignConstants[Value],MATCH(\"Span Wire Weight (plf)\",DesignConstants[Design Constant],0)),0)","v":1.155},0,230.42250000000001,{"$error":"#VALUE!"},{"$error":"#VALUE!"},{"$error":"#VALUE!"},{"$error":"#VALUE!"},{"$f":"IF(B230=\"\",0,INDEX(SignalHeads[Height ** (feet)],MATCH(B230,SignalHeads[Code],0)))","v":0},{"$f":"IF(L230=0,\"\",ROUNDDOWN(12*(((J230-L230)-MIN($J$31:$J$230-$L$31:$L$230)-(MAX($L$31:$L$230*(($J$31:$J$230-$L$31:$L$230)=MIN($J$31:$J$230-$L$31:$L$230)))-L230))+(MIN($J$31:$J$230-$L$31:$L$230)-$I$19)),0)/12)","v":""},"",{"$error":"#VALUE!"},17]

{"sheet":"TO2 Span Template","index":17,"n_rows":230,"n_cols":17,"rows_kept":230,"cut":false,"hidden":true,"merged":[[0,0,0,1],[21,0,22,4],[26,0,27,4]]}
["Span Design:",null,{"$f":"MID(CELL(\"filename\",A1),FIND(\"]\",CELL(\"filename\",A1))+1,255)","v":"TO2 Span Template"}]
["MDOT Traffic and Safety Support Area"]
[null,null,null,null,null,null,null,null,"Equilibrium at Junction",null,null,null,"Span A","Span B","Span TO1","Span TO2"]
[null,null,null,null,null,null,null,"Junction Point",{"$f":"INDEX(SpanConfig[Point A],MATCH($C$1,SpanConfig[Span],0))","v":{"$error":"#N/A"}},null,null,"Span",{"$f":"INDEX(SpanConfig[Main Span A (TO Span only)],MATCH($C$1,SpanConfig[Span],0))","v":{"$error":"#N/A"}},{"$f":"INDEX(SpanConfig[Main Span B (TO Span only)],MATCH($C$1,SpanConfig[Span],0))","v":{"$error":"#N/A"}},{"$f":"\"TO1-\"&RIGHT(C1,LEN(C1)-FIND(\"-\",C1))","v":{"$error":"#VALUE!"}},{"$f":"\"TO2-\"&RIGHT(C1,LEN(C1)-FIND(\"-\",C1))","v":{"$error":"#VALUE!"}}]
[null,null,null,null,null,null,null,"θ conversion to local",{"$f":"IF(INDEX(SpanConfig[Point A],MATCH(M4,SpanConfig[Span],0))=$I$4,INDEX(SpanConfig[Span Angle w.r.t Point A (deg)],MATCH(M4,SpanConfig[Span],0)),INDEX(SpanConfig[Span Angle w.r.t Point B (deg)],MATCH(M4,SpanConfig[Span],0)))","v":{"$error":"#N/A"}},"deg",null,"θ",{"$f":"IF(INDEX(SpanConfig[Point A],MATCH(M4,SpanConfig[Span],0))=$I$4,INDEX(SpanConfig[Span Angle w.r.t Point A (deg)],MATCH(M4,SpanConfig[Span],0)),INDEX(SpanConfig[Span Angle w.r.t Point B (deg)],MATCH(M4,SpanConfig[Span],0)))-$I$5","v":{"$error":"#N/A"}},{"$f":"IFERROR(IF(INDEX(SpanConfig[Point A],MATCH(N4,SpanConfig[Span],0))=$I$4,INDEX(SpanConfig[Span Angle w.r.t Point A (deg)],MATCH(N4,SpanConfig[Span],0)),INDEX(SpanConfig[Span Angle w.r.t Point B (deg)],MATCH(N4,SpanConfig[Span],0)))-$I$5,\"-\")","v":"-"},{"$f":"_xlfn.IFS(INDEX(SpanConfig[Span Angle w.r.t Point A (deg)],MATCH(O4,SpanConfig[Span],0))-$I$5>180,INDEX(SpanConfig[Span Angle w.r.t Point A (deg)],MATCH(O4,SpanConfig[Span],0))-$I$5-360,INDEX(SpanConfig[Span Angle w.r.t Point A (deg)],MATCH(O4,SpanConfig[Span],0))-$I$5<-180,INDEX(SpanConfig[Span Angle w.r.t Point A (deg)],MATCH(O4,SpanConfig[Span],0))-$I$5+360,TRUE,INDEX(SpanConfig[Span Angle w.r.t Point A (deg)],MATCH(O4,SpanConfig[Span],0))-$I$5)","v":{"$error":"#VALUE!"}},{"$f":"IFERROR(_xlfn.IFS(INDEX(SpanConfig[Span Angle w.r.t Point A (deg)],MATCH(P4,SpanConfig[Span],0))-$I$5>180,INDEX(SpanConfig[Span Angle w.r.t Point A (deg)],MATCH(P4,SpanConfig[Span],0))-$I$5-360,INDEX(SpanConfig[Span Angle w.r.t Point A (deg)],MATCH(P4,SpanConfig[Span],0))-$I$5<-180,INDEX(SpanConfig[Span Angle w.r.t Point A (deg)],MATCH(P4,SpanConfig[Span],0))-$I$5+360,TRUE,INDEX(SpanConfig[Span Angle w.r.t Point A (deg)],MATCH(P4,SpanConfig[Span],0))-$I$5),\"-\")","v":"-"},"deg"]
[null,null,null,null,null,null,null,"ΣFx",{"$f":"SUM(M8,N8,O8,P8)","v":{"$error":"#N/A"}},"lbs",{"$f":"IF(ABS(I6)<10,\"OK\",\"NG\")","v":{"$error":"#N/A"}},"FH",{"$f":"INDIRECT(\"'\"&M4&\"'!$I$4\")","v":{"$error":"#N/A"}},{"$f":"IFERROR(INDIRECT(\"'\"&N4&\"'!$I$4\"),0)","v":0},{"$f":"SQRT(O8^2+O9^2)","v":{"$error":"#N/A"}},{"$f":"SQRT(P8^2+P9^2)","v":0},"lbs"]
[null,null,null,null,null,null,null,"ΣFy",{"$f":"SUM(M9,N9,O9,P9)","v":{"$error":"#N/A"}},"lbs",{"$f":"IF(ABS(I7)<10,\"OK\",\"NG\")","v":{"$error":"#N/A"}},"θFH",{"$f":"M5","v":{"$error":"#N/A"}},{"$f":"N5","v":"-"},{"$f":"DEGREES(ATAN2(O8,O9))","v":{"$error":"#N/A"}},{"$f":"IF(ISNUMBER(P5),DEGREES(ATAN2(P8,P9)),\"-\")","v":"-"},"deg"]
[null,null,null,null,null,null,null,"ΣFz",{"$f":"SUM(M12:P12)","v":{"$error":"#N/A"}},"lbs",{"$f":"IF(ABS(I8)<10,\"OK\",\"NG\")","v":{"$error":"#N/A"}},"FHx",{"$f":"M6*COS(RADIANS(M5))","v":{"$error":"#N/A"}},{"$f":"IF(OR(N6=0,N6=\"-\"),0,N6*COS(RADIANS(N5)))","v":0},{"$f":"ABS(M8+N8)*SIGN(COS(RADIANS(O5)))*TAN(RADIANS(MOD(ABS(O5),90)))/((TAN(RADIANS(MOD(ABS(O5),90))))+IF(ISNUMBER(P5),TAN(RADIANS(MOD(ABS(P5),90))),0))","v":{"$error":"#N/A"}},{"$f":"IF(ISNUMBER(P5),SIGN(COS(RADIANS(P5)))*(M8+N8+O8),0)","v":0},"lbs"]
[null,null,null,null,null,null,null,null,null,null,null,"FHy",{"$f":"M6*SIN(RADIANS(M5))","v":{"$error":"#N/A"}},{"$f":"IF(OR(N6=0,N6=\"-\"),0,N6*SIN(RADIANS(N5)))","v":0},{"$f":"O8*TAN(RADIANS(O5))","v":{"$error":"#N/A"}},{"$f":"P8*IF(ISNUMBER(P5),TAN(RADIANS(P5)),0)","v":0},"lbs"]
[null,null,null,null,null,null,null,null,null,null,null,"α","-","-",{"$f":"IFERROR(DEGREES(ATAN((INDIRECT(\"'\"&O4&\"'!N24\")-$N$15)/INDIRECT(\"'\"&O4&\"'!I17\"))),\"-\")","v":"-"},{"$f":"IFERROR(DEGREES(ATAN((INDIRECT(\"'\"&P4&\"'!N24\")-$N$15)/INDIRECT(\"'\"&P4&\"'!I17\"))),\"-\")","v":"-"},"deg"]
[null,null,null,null,null,null,null,null,null,null,null,"Span Length",{"$f":"INDIRECT(\"'\"&M4&\"'!I8\")","v":{"$error":"#N/A"}},{"$f":"IFERROR(INDIRECT(\"'\"&N4&\"'!I8\"),0)","v":0},{"$f":"INDIRECT(\"'\"&O4&\"'!I17\")","v":{"$error":"#VALUE!"}},{"$f":"IFERROR(INDIRECT(\"'\"&P4&\"'!I17\"),0)","v":0},"ft"]
[null,null,null,null,null,null,null,null,"Span",null,null,"FV",{"$f":"INDIRECT(\"'\"&M4&IF(_xlfn.NUMBERVALUE(INDIRECT(\"'\"&M4&\"'!N4\"))=$I$4,\"'!$N$15\",\"'!$S$15\"))","v":{"$error":"#N/A"}},{"$f":"IFERROR(INDIRECT(\"'\"&N4&IF(_xlfn.NUMBERVALUE(INDIRECT(\"'\"&N4&\"'!N4\"))=$I$4,\"'!$N$15\",\"'!$S$15\")),0)","v":0},{"$f":"-(M12+N12)*(SIGN(O10)*(SIN(RADIANS(O10))^2/O11)/(SIGN(O10)*SIN(RADIANS(O10))^2/O11+IFERROR(SIGN(P10)*SIN(RADIANS(P10))^2/P11,0)))","v":{"$error":"#N/A"}},{"$f":"-(M12+N12)*(IFERROR(SIGN(P10)*SIN(RADIANS(P10))^2/P11,0)/(SIGN(O10)*SIN(RADIANS(O10))^2/O11+IFERROR(SIGN(P10)*SIN(RADIANS(P10))^2/P11,0)))","v":{"$error":"#N/A"}},"lbs"]
[null,null,null,null,null,null,null,"Horizontal Force, FH",{"$f":"IFERROR(_xlfn.IFS(LEFT(C1,3)=\"TO1\",O6,LEFT(C1,3)=\"TO2\",P6),\"-\")","v":0},"lbs"]
[null,null,null,null,null,null,null,"Tether Condition","NOT TETHERED",null,null,null,null,"At Point A"]
[null,null,null,null,null,null,null,"Minimum stem",{"$f":"MIN(M31:M230)","v":0},"ft",{"$f":"IF(AND(I15>0,I15<INDEX(DesignConstants[Value],MATCH(IF(I14=\"TOP TETHERED\",\"Min. Stem Top Tethered (ft)\",\"Min. Stem Length (ft)\"),DesignConstants[Design Constant],0))),\"Lengthen stem\",\"OK\")","v":"OK"},null,"Connection Height *",{"$f":"INDIRECT(\"'\"&O4&\"'!N15\")","v":{"$error":"#VALUE!"}},"ft"]
[null,null,null,null,null,null,null,"Minimum stem",{"$f":"INT(I15)&\"'-\"&ROUND((I15-INT(I15))*12,0)&\"\"\"\"","v":"0'-0\""},null,null,null,"FV",{"$f":"M12+N12-INDIRECT(\"'\"&O4&\"'!N16\")","v":{"$error":"#N/A"}},"lbs"]
[null,null,null,null,null,null,null,"Span Length",{"$f":"IFERROR(INDEX(SpanConfig[Span Length (ft)],MATCH($C$1,SpanConfig[Span],0)),\"-\")","v":"-"},"ft",null,null,"Tension ",{"$f":"IFERROR((I13^2+N16^2)^0.5,\"-\")","v":"-"},"lbs",{"$f":"IF(OR(N17>1500,N17/I13>1.2),\"Check tension\",\"OK\")","v":{"$error":"#VALUE!"}}]
[null,null,null,null,null,null,null,"Grade Centerline Elevation ",{"$f":"IFERROR(INDEX(SpanConfig[Grade Centerline Elevation (ft)],MATCH($C$1,SpanConfig[Span],0)),\"-\")","v":"-"},"ft"]
[null,null,null,null,null,null,null,"Req'd Vertical Clearance",{"$f":"INDEX(MinVertClearance[Minimum Vertical Clearance (ft)],MATCH(I14,MinVertClearance[Tether Condition],0))","v":17},"ft",null,null,null,"At Point B"]
[null,null,null,null,null,null,null,"Conn. Height Difference",{"$f":"(N22*I17-SUM(F31:G230))/I13","v":{"$error":"#N/A"}},"ft",null,null,"POCH **",{"$f":"N15+I20","v":{"$error":"#VALUE!"}},"ft",{"$f":"IF(N25=\"ERROR\",\"Lower POCH\",\"OK\")","v":{"$error":"#VALUE!"}}]
[null,null,null,null,null,null,null,"Min Vertical Clearance",{"$f":"IFERROR(MIN(O31:O230),\"-\")","v":"-"},"ft",{"$f":"IF(I21<I19,\"Check tension\",\"OK\")","v":"OK"},null,"POCH **",{"$f":"INT(N20)&\"'-\"&ROUND((N20-INT(N20))*12,0)&\"\"\"\"","v":{"$error":"#VALUE!"}}]
["* Connection height measured from grade centerline to POCH on pole or to tie off connection height",null,null,null,null,null,null,"Maximum stem",{"$f":"MAX(M31:M230)","v":0},"ft",null,null,"FV",{"$f":"N16+SUM(D31:E230)","v":{"$error":"#N/A"}},"lbs"]
[null,null,null,null,null,null,null,"Maximum stem",{"$f":"INT(I22)&\"'-\"&ROUND((I22-INT(I22))*12,0)&\"\"\"\"","v":"0'-0\""},null,null,null,"Base of Pole Elevation",{"$f":"IFERROR(INDEX(SpanConfig[Pole B Base Elevation (ft)],MATCH($C$1,SpanConfig[Span],0)),\"-\")","v":"-"},"ft"]
["** POCH measured from top of foundation",null,null,null,null,null,null,"Design Standard","SIG-020/021",null,null,null,"Connection Height *",{"$f":"IFERROR(N20-(I18-N23),\"-\")","v":"-"},"ft"]
["*** Reference line is the linear interpolation between span connections",null,null,null,null,null,null,"Field Drilled Hole Size ****","-",null,null,null,"Pole Required Length",{"$f":"_xlfn.IFS(N20=\"-\",\"-\",N20>40-1.5,\"ERROR\",N20>36-1.6,40,N20>30-1.5,36,TRUE,30)","v":{"$error":"#VALUE!"}},"ft"]
["**** Applies if designing for criteria in SIG-022 only",null,null,null,null,null,null,"Total Attachment Weight *****",{"$f":"SUM(D31:D230)","v":0},"lbs",{"$f":"IF(I26>_xlfn.IFS(I24=\"SIG-020/021\",INDEX(SIG020021Limits[],MATCH(I17,SIG020021Limits[Span Length Lower Bound (ft)],1),MATCH(\"Generalized Load Limit (lbs)\",SIG020021Limits[#Headers],0)),I24=\"SIG-022\",INDEX(SIG022Limits[],MATCH(I25,SIG022Limits[Field Drilled Hole Size],0),MATCH(\"Generalized Load Limit (lbs)\",SIG022Limits[#Headers],0)),TRUE,10000),\"Reduce weight on span\",\"OK\")","v":{"$error":"#N/A"}},null,"Tension",{"$f":"IFERROR((I13^2+N22^2)^0.5,\"-\")","v":"-"},"lbs",{"$f":"IF(OR(N26>1500,N26/I13>1.2),\"Check tension\",\"OK\")","v":{"$error":"#VALUE!"}}]
["***** Span weight and wind area checks are applicable only for steel strain poles included in standards SIG-020, SIG-021, and SIG-022",null,null,null,null,null,null,"Perpendicular Wind Area *****",{"$f":"SUM(C31:C230)","v":0},"sft",{"$f":"IF(I27>_xlfn.IFS(I24=\"SIG-020/021\",INDEX(SIG020021Limits[],MATCH(I17,SIG020021Limits[Span Length Lower Bound (ft)],1),MATCH(\"Perp. Wind Area Limit (sft)\",SIG020021Limits[#Headers],0)),I24=\"SIG-022\",INDEX(SIG022Limits[],MATCH(I25,SIG022Limits[Field Drilled Hole Size],0),MATCH(\"Perp. Wind Area Limit (sft)\",SIG022Limits[#Headers],0)),TRUE,10000),\"Reduce wind area\",\"OK\")","v":{"$error":"#N/A"}},null,"Shaft Moment",{"$f":"IF(ISNUMBER(N23),I13*N20,\"-\")","v":"-"},"lbs-ft"]
[null,null,null,null,null,null,null,null,null,null,null,null,"Shaft Moment",{"$f":"IF(ISNUMBER(N23),N27/1000,\"-\")","v":"-"},"kips-ft"]
[]
["Distance Along Span (ft)","Head Type","Wind Area (sft)","Head Weight (lbs)","Span&Cable Weight (lbs)","Head Moment (lbs-ft)","Span Moment (lbs-ft)","Vertical Force (lbs)","Sag (ft)","Height (ft)","Reference Line Height (ft)***","Equipment Height (ft)","Stem Length (ft)","Stem Length (ft-in)","Bottom Height (ft)","Required Vertical Clearance"]
[1,null,{"$f":"IF(B31=\"\",0,INDEX(SignalHeads[Perp. Wind Area (sft)],MATCH(B31,SignalHeads[Code],0)))","v":0},{"$f":"IF(B31=\"\",\"\",INDEX(SignalHeads[Weight*** (lbs)],MATCH(B31,SignalHeads[Code],0)))","v":""},{"$f":"IF(A31<=$I$17,INDEX(DesignConstants[Value],MATCH(\"Span Wire Weight (plf)\",DesignConstants[Design Constant],0)),0)","v":1.155},{"$f":"IF(B31=\"\",0,+D31*A31)","v":0},{"$f":"+E31*(A31-0.5)","v":0.57750000000000001},{"$f":"$N$16+(IF(B31=\"\",0,D31))+E31","v":{"$error":"#N/A"}},{"$f":"(0.5*E31+(IF(B31=\"\",0,D31))+N16)/$I$13","v":{"$error":"#N/A"}},{"$f":"+N15+I31","v":{"$error":"#VALUE!"}},{"$f":"IF(A31>$I$17,0,($N$24-$N$15)/$I$17*A31+$N$15)","v":{"$error":"#VALUE!"}},{"$f":"IF(B31=\"\",0,INDEX(SignalHeads[Height ** (feet)],MATCH(B31,SignalHeads[Code],0)))","v":0},{"$f":"IF(L31=0,\"\",ROUNDDOWN(12*(((J31-L31)-MIN($J$31:$J$230-$L$31:$L$230)-(MAX($L$31:$L$230*(($J$31:$J$230-$L$31:$L$230)=MIN($J$31:$J$230-$L$31:$L$230)))-L31))+(MIN($J$31:$J$230-$L$31:$L$230)-$I$19)),0)/12)","v":""},{"$f":"IF(M31=\"\",\"\",INT(M31)&\"'-\"&ROUND((M31-INT(M31))*12,0)&\"\"\"\")","v":""},{"$f":"IF(A31<=$I$17,J31-L31-IF(ISNUMBER(M31),M31,0),\"\")","v":{"$error":"#VALUE!"}},{"$f":"$I$19","v":17}]
[2,null,{"$f":"IF(B32=\"\",0,INDEX(SignalHeads[Perp. Wind Area (sft)],MATCH(B32,SignalHeads[Code],0)))","v":0},{"$f":"IF(B32=\"\",\"\",INDEX(SignalHeads[Weight*** (lbs)],MATCH(B32,SignalHeads[Code],0)))","v":""},{"$f":"IF(A32<=$I$17,INDEX(DesignConstants[Value],MATCH(\"Span Wire Weight (plf)\",DesignConstants[Design Constant],0)),0)","v":1.155},{"$f":"IF(B32=\"\",0,+D32*A32)","v":0},1.7324999999999999,{"$f":"H31+(IF(B32=\"\",0,D32))+E32","v":{"$error":"#N/A"}},{"$f":"(0.5*E32+(IF(B32=\"\",0,D32))+H31)/$I$13","v":{"$error":"#N/A"}},{"$f":"+J31+I32","v":{"$error":"#VALUE!"}},{"$error":"#VALUE!"},{"$f":"IF(B32=\"\",0,INDEX(SignalHeads[Height ** (feet)],MATCH(B32,SignalHeads[Code],0)))","v":0},{"$f":"IF(L32=0,\"\",ROUNDDOWN(12*(((J32-L32)-MIN($J$31:$J$230-$L$31:$L$230)-(MAX($L$31:$L$230*(($J$31:$J$230-$L$31:$L$230)=MIN($J$31:$J$230-$L$31:$L$230)))-L32))+(MIN($J$31:$J$230-$L$31:$L$230)-$I$19)),0)/12)","v":""},{"$f":"IF(M32=\"\",\"\",INT(M32)&\"'-\"&ROUND((M32-INT(M32))*12,0)&\"\"\"\")","v":""},{"$f":"IF(A32<=$I$17,J32-L32-IF(ISNUMBER(M32),M32,0),\"\")","v":{"$error":"#VALUE!"}},17]
[3,null,{"$f":"IF(B33=\"\",0,INDEX(SignalHeads[Perp. Wind Area (sft)],MATCH(B33,SignalHeads[Code],0)))","v":0},{"$f":"IF(B33=\"\",\"\",INDEX(SignalHeads[Weight*** (lbs)],MATCH(B33,SignalHeads[Code],0)))","v":""},{"$f":"IF(A33<=$I$17,INDEX(DesignConstants[Value],MATCH(\"Span Wire Weight (plf)\",DesignConstants[Design Constant],0)),0)","v":1.155},0,2.8875000000000002,{"$error":"#N/A"},{"$error":"#N/A"},{"$f":"+J32+I33","v":{"$error":"#VALUE!"}},{"$error":"#VALUE!"},{"$f":"IF(B33=\"\",0,INDEX(SignalHeads[Height ** (feet)],MATCH(B33,SignalHeads[Code],0)))","v":0},{"$f":"IF(L33=0,\"\",ROUNDDOWN(12*(((J33-L33)-MIN($J$31:$J$230-$L$31:$L$230)-(MAX($L$31:$L$230*(($J$31:$J$230-$L$31:$L$230)=MIN($J$31:$J$230-$L$31:$L$230)))-L33))+(MIN($J$31:$J$230-$L$31:$L$230)-$I$19)),0)/12)","v":""},"",{"$error":"#VALUE!"},17]
[4,null,{"$f":"IF(B34=\"\",0,INDEX(SignalHeads[Perp. Wind Area (sft)],MATCH(B34,SignalHeads[Code],0)))","v":0},{"$f":"IF(B34=\"\",\"\",INDEX(SignalHeads[Weight*** (lbs)],MATCH(B34,SignalHeads[Code],0)))","v":""},{"$f":"IF(A34<=$I$17,INDEX(DesignConstants[Value],MATCH(\"Span Wire Weight (plf)\",DesignConstants[Design Constant],0)),0)","v":1.155},0,4.0425000000000004,{"$error":"#N/A"},{"$error":"#N/A"},{"$f":"+J33+I34","v":{"$error":"#VALUE!"}},{"$error":"#VALUE!"},{"$f":"IF(B34=\"\",0,INDEX(SignalHeads[Height ** (feet)],MATCH(B34,SignalHeads[Code],0)))","v":0},{"$f":"IF(L34=0,\"\",ROUNDDOWN(12*(((J34-L34)-MIN($J$31:$J$230-$L$31:$L$230)-(MAX($L$31:$L$230*(($J$31:$J$230-$L$31:$L$230)=MIN($J$31:$J$230-$L$31:$L$230)))-L34))+(MIN($J$31:$J$230-$L$31:$L$230)-$I$19)),0)/12)","v":""},"",{"$error":"#VALUE!"},17]
[5,null,{"$f":"IF(B35=\"\",0,INDEX(SignalHeads[Perp. Wind Area (sft)],MATCH(B35,SignalHeads[Code],0)))","v":0},{"$f":"IF(B35=\"\",\"\",INDEX(SignalHeads[Weight*** (lbs)],MATCH(B35,SignalHeads[Code],0)))","v":""},{"$f":"IF(A35<=$I$17,INDEX(DesignConstants[Value],MATCH(\"Span Wire Weight (plf)\",DesignConstants[Design Constant],0)),0)","v":1.155},0,5.1974999999999998,{"$error":"#N/A"},{"$error":"#N/A"},{"$error":"#VALUE!"},{"$error":"#VALUE!"},{"$f":"IF(B35=\"\",0,INDEX(SignalHeads[Height ** (feet)],MATCH(B35,SignalHeads[Code],0)))","v":0},{"$f":"IF(L35=0,\"\",ROUNDDOWN(12*(((J35-L35)-MIN($J$31:$J$230-$L$31:$L$230)-(MAX($L$31:$L$230*(($J$31:$J$230-$L$31:$L$230)=MIN($J$31:$J$230-$L$31:$L$230)))-L35))+(MIN($J$31:$J$230-$L$31:$L$230)-$I$19)),0)/12)","v":""},"",{"$error":"#VALUE!"},17]
[6,null,{"$f":"IF(B36=\"\",0,INDEX(SignalHeads[Perp. Wind Area (sft)],MATCH(B36,SignalHeads[Code],0)))","v":0},{"$f":"IF(B36=\"\",\"\",INDEX(SignalHeads[Weight*** (lbs)],MATCH(B36,SignalHeads[Code],0)))","v":""},{"$f":"IF(A36<=$I$17,INDEX(DesignConstants[Value],MATCH(\"Span Wire Weight (plf)\",DesignConstants[Design Constant],0)),0)","v":1.155},0,6.3525,{"$error":"#N/A"},{"$error":"#N/A"},{"$error":"#VALUE!"},{"$error":"#VALUE!"},{"$f":"IF(B36=\"\",0,INDEX(SignalHeads[Height ** (feet)],MATCH(B36,SignalHeads[Code],0)))","v":0},{"$f":"IF(L36=0,\"\",ROUNDDOWN(12*(((J36-L36)-MIN($J$31:$J$230-$L$31:$L$230)-(MAX($L$31:$L$230*(($J$31:$J$230-$L$31:$L$230)=MIN($J$31:$J$230-$L$31:$L$230)))-L36))+(MIN($J$31:$J$230-$L$31:$L$230)-$I$19)),0)/12)","v":""},"",{"$error":"#VALUE!"},17]
[7,null,{"$f":"IF(B37=\"\",0,INDEX(SignalHeads[Perp. Wind Area (sft)],MATCH(B37,SignalHeads[Code],0)))","v":0},{"$f":"IF(B37=\"\",\"\",INDEX(SignalHeads[Weight*** (lbs)],MATCH(B37,SignalHeads[Code],0)))","v":""},{"$f":"IF(A37<=$I$17,INDEX(DesignConstants[Value],MATCH(\"Span Wire Weight (plf)\",DesignConstants[Design Constant],0)),0)","v":1.155},0,7.5075000000000003,{"$error":"#N/A"},{"$error":"#N/A"},{"$error":"#VALUE!"},{"$error":"#VALUE!"},{"$f":"IF(B37=\"\",0,INDEX(SignalHeads[Height ** (feet)],MATCH(B37,SignalHeads[Code],0)))","v":0},{"$f":"IF(L37=0,\"\",ROUNDDOWN(12*(((J37-L37)-MIN($J$31:$J$230-$L$31:$L$230)-(MAX($L$31:$L$230*(($J$31:$J$230-$L$31:$L$230)=MIN($J$31:$J$230-$L$31:$L$230)))-L37))+(MIN($J$31:$J$230-$L$31:$L$230)-$I$19)),0)/12)","v":""},"",{"$error":"#VALUE!"},17]
[8,null,{"$f":"IF(B38=\"\",0,INDEX(SignalHeads[Perp. Wind Area (sft)],MATCH(B38,SignalHeads[Code],0)))","v":0},{"$f":"IF(B38=\"\",\"\",INDEX(SignalHeads[Weight*** (lbs)],MATCH(B38,SignalHeads[Code],0)))","v":""},{"$f":"IF(A38<=$I$17,INDEX(DesignConstants[Value],MATCH(\"Span Wire Weight (plf)\",DesignConstants[Design Constant],0)),0)","v":1.155},0,8.6624999999999996,{"$error":"#N/A"},{"$error":"#N/A"},{"$error":"#VALUE!"},{"$error":"#VALUE!"},{"$f":"IF(B38=\"\",0,INDEX(SignalHeads[Height ** (feet)],MATCH(B38,SignalHeads[Code],0)))","v":0},{"$f":"IF(L38=0,\"\",ROUNDDOWN(12*(((J38-L38)-MIN($J$31:$J$230-$L$31:$L$230)-(MAX($L$31:$L$230*(($J$31:$J$230-$L$31:$L$230)=MIN($J$31:$J$230-$L$31:$L$230)))-L38))+(MIN($J$31:$J$230-$L$31:$L$230)-$I$19)),0)/12)","v":""},"",{"$error":"#VALUE!"},17]
[9,null,{"$f":"IF(B39=\"\",0,INDEX(SignalHeads[Perp. Wind Area (sft)],MATCH(B39,SignalHeads[Code],0)))","v":0},{"$f":"IF(B39=\"\",\"\",INDEX(SignalHeads[Weight*** (lbs)],MATCH(B39,SignalHeads[Code],0)))","v":""},{"$f":"IF(A39<=$I$17,INDEX(DesignConstants[Value],MATCH(\"Span Wire Weight (plf)\",DesignConstants[Design Constant],0)),0)","v":1.155},0,9.8175000000000008,{"$error":"#N/A"},{"$error":"#N/A"},{"$error":"#VALUE!"},{"$error":"#VALUE!"},{"$f":"IF(B39=\"\",0,INDEX(SignalHeads[Height ** (feet)],MATCH(B39,SignalHeads[Code],0)))","v":0},{"$f":"IF(L39=0,\"\",ROUNDDOWN(12*(((J39-L39)-MIN($J$31:$J$230-$L$31:$L$230)-(MAX($L$31:$L$230*(($J$31:$J$230-$L$31:$L$230)=MIN($J$31:$J$230-$L$31:$L$230)))-L39))+(MIN($J$31:$J$230-$L$31:$L$230)-$I$19)),0)/12)","v":""},"",{"$error":"#VALUE!"},17]
[10,null,{"$f":"IF(B40=\"\",0,INDEX(SignalHeads[Perp. Wind Area (sft)],MATCH(B40,SignalHeads[Code],0)))","v":0},{"$f":"IF(B40=\"\",\"\",INDEX(SignalHeads[Weight*** (lbs)],MATCH(B40,SignalHeads[Code],0)))","v":""},{"$f":"IF(A40<=$I$17,INDEX(DesignConstants[Value],MATCH(\"Span Wire Weight (plf)\",DesignConstants[Design Constant],0)),0)","v":1.155},0,10.9725,{"$error":"#N/A"},{"$error":"#N/A"},{"$error":"#VALUE!"},{"$error":"#VALUE!"},{"$f":"IF(B40=\"\",0,INDEX(SignalHeads[Height ** (feet)],MATCH(B40,SignalHeads[Code],0)))","v":0},{"$f":"IF(L40=0,\"\",ROUNDDOWN(12*(((J40-L40)-MIN($J$31:$J$230-$L$31:$L$230)-(MAX($L$31:$L$230*(($J$31:$J$230-$L$31:$L$230)=MIN($J$31:$J$230-$L$31:$L$230)))-L40))+(MIN($J$31:$J$230-$L$31:$L$230)-$I$19)),0)/12)","v":""},"",{"$error":"#VALUE!"},17]
[11,null,{"$f":"IF(B41=\"\",0,INDEX(SignalHeads[Perp. Wind Area (sft)],MATCH(B41,SignalHeads[Code],0)))","v":0},{"$f":"IF(B41=\"\",\"\",INDEX(SignalHeads[Weight*** (lbs)],MATCH(B41,SignalHeads[Code],0)))","v":""},{"$f":"IF(A41<=$I$17,INDEX(DesignConstants[Value],MATCH(\"Span Wire Weight (plf)\",DesignConstants[Design Constant],0)),0)","v":1.155},0,12.1275,{"$error":"#N/A"},{"$error":"#N/A"},{"$error":"#VALUE!"},{"$error":"#VALUE!"},{"$f":"IF(B41=\"\",0,INDEX(SignalHeads[Height ** (feet)],MATCH(B41,SignalHeads[Code],0)))","v":0},{"$f":"IF(L41=0,\"\",ROUNDDOWN(12*(((J41-L41)-MIN($J$31:$J$230-$L$31:$L$230)-(MAX($L$31:$L$230*(($J$31:$J$230-$L$31:$L$230)=MIN($J$31:$J$230-$L$31:$L$230)))-L41))+(MIN($J$31:$J$230-$L$31:$L$230)-$I$19)),0)/12)","v":""},"",{"$error":"#VALUE!"},17]
[12,null,{"$f":"IF(B42=\"\",0,INDEX(SignalHeads[Perp. Wind Area (sft)],MATCH(B42,SignalHeads[Code],0)))","v":0},{"$f":"IF(B42=\"\",\"\",INDEX(SignalHeads[Weight*** (lbs)],MATCH(B42,SignalHeads[Code],0)))","v":""},{"$f":"IF(A42<=$I$17,INDEX(DesignConstants[Value],MATCH(\"Span Wire Weight (plf)\",DesignConstants[Design Constant],0)),0)","v":1.155},0,13.282500000000001,{"$error":"#N/A"},{"$error":"#N/A"},{"$error":"#VALUE!"},{"$error":"#VALUE!"},{"$f":"IF(B42=\"\",0,INDEX(SignalHeads[Height ** (feet)],MATCH(B42,SignalHeads[Code],0)))","v":0},{"$f":"IF(L42=0,\"\",ROUNDDOWN(12*(((J42-L42)-MIN($J$31:$J$230-$L$31:$L$230)-(MAX($L$31:$L$230*(($J$31:$J$230-$L$31:$L$230)=MIN($J$31:$J$230-$L$31:$L$230)))-L42))+(MIN($J$31:$J$230-$L$31:$L$230)-$I$19)),0)/12)","v":""},"",{"$error":"#VALUE!"},17]
[13,null,{"$f":"IF(B43=\"\",0,INDEX(SignalHeads[Perp. Wind Area (sft)],MATCH(B43,SignalHeads[Code],0)))","v":0},{"$f":"IF(B43=\"\",\"\",INDEX(SignalHeads[Weight*** (lbs)],MATCH(B43,SignalHeads[Code],0)))","v":""},{"$f":"IF(A43<=$I$17,INDEX(DesignConstants[Value],MATCH(\"Span Wire Weight (plf)\",DesignConstants[Design Constant],0)),0)","v":1.155},0,14.4375,{"$error":"#N/A"},{"$error":"#N/A"},{"$error":"#VALUE!"},{"$error":"#VALUE!"},{"$f":"IF(B43=\"\",0,INDEX(SignalHeads[Height ** (feet)],MATCH(B43,SignalHeads[Code],0)))","v":0},{"$f":"IF(L43=0,\"\",ROUNDDOWN(12*(((J43-L43)-MIN($J$31:$J$230-$L$31:$L$230)-(MAX($L$31:$L$230*(($J$31:$J$230-$L$31:$L$230)=MIN($J$31:$J$230-$L$31:$L$230)))-L43))+(MIN($J$31:$J$230-$L$31:$L$230)-$I$19)),0)/12)","v":""},"",{"$error":"#VALUE!"},17]
[14,null,{"$f":"IF(B44=\"\",0,INDEX(SignalHeads[Perp. Wind Area (sft)],MATCH(B44,SignalHeads[Code],0)))","v":0},{"$f":"IF(B44=\"\",\"\",INDEX(SignalHeads[Weight*** (lbs)],MATCH(B44,SignalHeads[Code],0)))","v":""},{"$f":"IF(A44<=$I$17,INDEX(DesignConstants[Value],MATCH(\"Span Wire Weight (plf)\",DesignConstants[Design Constant],0)),0)","v":1.155},0,15.592500000000001,{"$error":"#N/A"},{"$error":"#N/A"},{"$error":"#VALUE!"},{"$error":"#VALUE!"},{"$f":"IF(B44=\"\",0,INDEX(SignalHeads[Height ** (feet)],MATCH(B44,SignalHeads[Code],0)))","v":0},{"$f":"IF(L44=0,\"\",ROUNDDOWN(12*(((J44-L44)-MIN($J$31:$J$230-$L$31:$L$230)-(MAX($L$31:$L$230*(($J$31:$J$230-$L$31:$L$230)=MIN($J$31:$J$230-$L$31:$L$230)))-L44))+(MIN($J$31:$J$230-$L$31:$L$230)-$I$19)),0)/12)","v":""},"",{"$error":"#VALUE!"},17]
[15,null,{"$f":"IF(B45=\"\",0,INDEX(SignalHeads[Perp. Wind Area (sft)],MATCH(B45,SignalHeads[Code],0)))","v":0},{"$f":"IF(B45=\"\",\"\",INDEX(SignalHeads[Weight*** (lbs)],MATCH(B45,SignalHeads[Code],0)))","v":""},{"$f":"IF(A45<=$I$17,INDEX(DesignConstants[Value],MATCH(\"Span Wire Weight (plf)\",DesignConstants[Design Constant],0)),0)","v":1.155},0,16.747499999999999,{"$error":"#N/A"},{"$error":"#N/A"},{"$error":"#VALUE!"},{"$error":"#VALUE!"},{"$f":"IF(B45=\"\",0,INDEX(SignalHeads[Height ** (feet)],MATCH(B45,SignalHeads[Code],0)))","v":0},{"$f":"IF(L45=0,\"\",ROUNDDOWN(12*(((J45-L45)-MIN($J$31:$J$230-$L$31:$L$230)-(MAX($L$31:$L$230*(($J$31:$J$230-$L$31:$L$230)=MIN($J$31:$J$230-$L$31:$L$230)))-L45))+(MIN($J$31:$J$230-$L$31:$L$230)-$I$19)),0)/12)","v":""},"",{"$error":"#VALUE!"},17]
[16,null,{"$f":"IF(B46=\"\",0,INDEX(SignalHeads[Perp. Wind Area (sft)],MATCH(B46,SignalHeads[Code],0)))","v":0},{"$f":"IF(B46=\"\",\"\",INDEX(SignalHeads[Weight*** (lbs)],MATCH(B46,SignalHeads[Code],0)))","v":""},{"$f":"IF(A46<=$I$17,INDEX(DesignConstants[Value],MATCH(\"Span Wire Weight (plf)\",DesignConstants[Design Constant],0)),0)","v":1.155},0,17.9025,{"$error":"#N/A"},{"$error":"#N/A"},{"$error":"#VALUE!"},{"$error":"#VALUE!"},{"$f":"IF(B46=\"\",0,INDEX(SignalHeads[Height ** (feet)],MATCH(B46,SignalHeads[Code],0)))","v":0},{"$f":"IF(L46=0,\"\",ROUNDDOWN(12*(((J46-L46)-MIN($J$31:$J$230-$L$31:$L$230)-(MAX($L$31:$L$230*(($J$31:$J$230-$L$31:$L$230)=MIN($J$31:$J$230-$L$31:$L$230)))-L46))+(MIN($J$31:$J$230-$L$31:$L$230)-$I$19)),0)/12)","v":""},"",{"$error":"#VALUE!"},17]
[17,null,{"$f":"IF(B47=\"\",0,INDEX(SignalHeads[Perp. Wind Area (sft)],MATCH(B47,SignalHeads[Code],0)))","v":0},{"$f":"IF(B47=\"\",\"\",INDEX(SignalHeads[Weight*** (lbs)],MATCH(B47,SignalHeads[Code],0)))","v":""},{"$f":"IF(A47<=$I$17,INDEX(DesignConstants[Value],MATCH(\"Span Wire Weight (plf)\",DesignConstants[Design Constant],0)),0)","v":1.155},0,19.057500000000001,{"$error":"#N/A"},{"$error":"#N/A"},{"$error":"#VALUE!"},{"$error":"#VALUE!"},{"$f":"IF(B47=\"\",0,INDEX(SignalHeads[Height ** (feet)],MATCH(B47,SignalHeads[Code],0)))","v":0},{"$f":"IF(L47=0,\"\",ROUNDDOWN(12*(((J47-L47)-MIN($J$31:$J$230-$L$31:$L$230)-(MAX($L$31:$L$230*(($J$31:$J$230-$L$31:$L$230)=MIN($J$31:$J$230-$L$31:$L$230)))-L47))+(MIN($J$31:$J$230-$L$31:$L$230)-$I$19)),0)/12)","v":""},"",{"$error":"#VALUE!"},17]
[18,null,{"$f":"IF(B48=\"\",0,INDEX(SignalHeads[Perp. Wind Area (sft)],MATCH(B48,SignalHeads[Code],0)))","v":0},{"$f":"IF(B48=\"\",\"\",INDEX(SignalHeads[Weight*** (lbs)],MATCH(B48,SignalHeads[Code],0)))","v":""},{"$f":"IF(A48<=$I$17,INDEX(DesignConstants[Value],MATCH(\"Span Wire Weight (plf)\",DesignConstants[Design Constant],0)),0)","v":1.155},0,20.212500000000002,{"$error":"#N/A"},{"$error":"#N/A"},{"$error":"#VALUE!"},{"$error":"#VALUE!"},{"$f":"IF(B48=\"\",0,INDEX(SignalHeads[Height ** (feet)],MATCH(B48,SignalHeads[Code],0)))","v":0},{"$f":"IF(L48=0,\"\",ROUNDDOWN(12*(((J48-L48)-MIN($J$31:$J$230-$L$31:$L$230)-(MAX($L$31:$L$230*(($J$31:$J$230-$L$31:$L$230)=MIN($J$31:$J$230-$L$31:$L$230)))-L48))+(MIN($J$31:$J$230-$L$31:$L$230)-$I$19)),0)/12)","v":""},"",{"$error":"#VALUE!"},17]
[19,null,{"$f":"IF(B49=\"\",0,INDEX(SignalHeads[Perp. Wind Area (sft)],MATCH(B49,SignalHeads[Code],0)))","v":0},{"$f":"IF(B49=\"\",\"\",INDEX(SignalHeads[Weight*** (lbs)],MATCH(B49,SignalHeads[Code],0)))","v":""},{"$f":"IF(A49<=$I$17,INDEX(DesignConstants[Value],MATCH(\"Span Wire Weight (plf)\",DesignConstants[Design Constant],0)),0)","v":1.155},0,21.3675,{"$error":"#N/A"},{"$error":"#N/A"},{"$error":"#VALUE!"},{"$error":"#VALUE!"},{"$f":"IF(B49=\"\",0,INDEX(SignalHeads[Height ** (feet)],MATCH(B49,SignalHeads[Code],0)))","v":0},{"$f":"IF(L49=0,\"\",ROUNDDOWN(12*(((J49-L49)-MIN($J$31:$J$230-$L$31:$L$230)-(MAX($L$31:$L$230*(($J$31:$J$230-$L$31:$L$230)=MIN($J$31:$J$230-$L$31:$L$230)))-L49))+(MIN($J$31:$J$230-$L$31:$L$230)-$I$19)),0)/12)","v":""},"",{"$error":"#VALUE!"},17]
[20,null,{"$f":"IF(B50=\"\",0,INDEX(SignalHeads[Perp. Wind Area (sft)],MATCH(B50,SignalHeads[Code],0)))","v":0},{"$f":"IF(B50=\"\",\"\",INDEX(SignalHeads[Weight*** (lbs)],MATCH(B50,SignalHeads[Code],0)))","v":""},{"$f":"IF(A50<=$I$17,INDEX(DesignConstants[Value],MATCH(\"Span Wire Weight (plf)\",DesignConstants[Design Constant],0)),0)","v":1.155},0,22.522500000000001,{"$error":"#N/A"},{"$error":"#N/A"},{"$error":"#VALUE!"},{"$error":"#VALUE!"},{"$f":"IF(B50=\"\",0,INDEX(SignalHeads[Height ** (feet)],MATCH(B50,SignalHeads[Code],0)))","v":0},{"$f":"IF(L50=0,\"\",ROUNDDOWN(12*(((J50-L50)-MIN($J$31:$J$230-$L$31:$L$230)-(MAX($L$31:$L$230*(($J$31:$J$230-$L$31:$L$230)=MIN($J$31:$J$230-$L$31:$L$230)))-L50))+(MIN($J$31:$J$230-$L$31:$L$230)-$I$19)),0)/12)","v":""},"",{"$error":"#VALUE!"},17]
[21,null,{"$f":"IF(B51=\"\",0,INDEX(SignalHeads[Perp. Wind Area (sft)],MATCH(B51,SignalHeads[Code],0)))","v":0},{"$f":"IF(B51=\"\",\"\",INDEX(SignalHeads[Weight*** (lbs)],MATCH(B51,SignalHeads[Code],0)))","v":""},{"$f":"IF(A51<=$I$17,INDEX(DesignConstants[Value],MATCH(\"Span Wire Weight (plf)\",DesignConstants[Design Constant],0)),0)","v":1.155},0,23.677500000000002,{"$error":"#N/A"},{"$error":"#N/A"},{"$error":"#VALUE!"},{"$error":"#VALUE!"},{"$f":"IF(B51=\"\",0,INDEX(SignalHeads[Height ** (feet)],MATCH(B51,SignalHeads[Code],0)))","v":0},{"$f":"IF(L51=0,\"\",ROUNDDOWN(12*(((J51-L51)-MIN($J$31:$J$230-$L$31:$L$230)-(MAX($L$31:$L$230*(($J$31:$J$230-$L$31:$L$230)=MIN($J$31:$J$230-$L$31:$L$230)))-L51))+(MIN($J$31:$J$230-$L$31:$L$230)-$I$19)),0)/12)","v":""},"",{"$error":"#VALUE!"},17]
[22,null,{"$f":"IF(B52=\"\",0,INDEX(SignalHeads[Perp. Wind Area (sft)],MATCH(B52,SignalHeads[Code],0)))","v":0},{"$f":"IF(B52=\"\",\"\",INDEX(SignalHeads[Weight*** (lbs)],MATCH(B52,SignalHeads[Code],0)))","v":""},{"$f":"IF(A52<=$I$17,INDEX(DesignConstants[Value],MATCH(\"Span Wire Weight (plf)\",DesignConstants[Design Constant],0)),0)","v":1.155},0,24.8325,{"$error":"#N/A"},{"$error":"#N/A"},{"$error":"#VALUE!"},{"$error":"#VALUE!"},{"$f":"IF(B52=\"\",0,INDEX(SignalHeads[Height ** (feet)],MATCH(B52,SignalHeads[Code],0)))","v":0},{"$f":"IF(L52=0,\"\",ROUNDDOWN(12*(((J52-L52)-MIN($J$31:$J$230-$L$31:$L$230)-(MAX($L$31:$L$230*(($J$31:$J$230-$L$31:$L$230)=MIN($J$31:$J$230-$L$31:$L$230)))-L52))+(MIN($J$31:$J$230-$L$31:$L$230)-$I$19)),0)/12)","v":""},"",{"$error":"#VALUE!"},17]
[23,null,{"$f":"IF(B53=\"\",0,INDEX(SignalHeads[Perp. Wind Area (sft)],MATCH(B53,SignalHeads[Code],0)))","v":0},{"$f":"IF(B53=\"\",\"\",INDEX(SignalHeads[Weight*** (lbs)],MATCH(B53,SignalHeads[Code],0)))","v":""},{"$f":"IF(A53<=$I$17,INDEX(DesignConstants[Value],MATCH(\"Span Wire Weight (plf)\",DesignConstants[Design Constant],0)),0)","v":1.155},0,25.987500000000001,{"$error":"#N/A"},{"$error":"#N/A"},{"$error":"#VALUE!"},{"$error":"#VALUE!"},{"$f":"IF(B53=\"\",0,INDEX(SignalHeads[Height ** (feet)],MATCH(B53,SignalHeads[Code],0)))","v":0},{"$f":"IF(L53=0,\"\",ROUNDDOWN(12*(((J53-L53)-MIN($J$31:$J$230-$L$31:$L$230)-(MAX($L$31:$L$230*(($J$31:$J$230-$L$31:$L$230)=MIN($J$31:$J$230-$L$31:$L$230)))-L53))+(MIN($J$31:$J$230-$L$31:$L$230)-$I$19)),0)/12)","v":""},"",{"$error":"#VALUE!"},17]
[24,null,{"$f":"IF(B54=\"\",0,INDEX(SignalHeads[Perp. Wind Area (sft)],MATCH(B54,SignalHeads[Code],0)))","v":0},{"$f":"IF(B54=\"\",\"\",INDEX(SignalHeads[Weight*** (lbs)],MATCH(B54,SignalHeads[Code],0)))","v":""},{"$f":"IF(A54<=$I$17,INDEX(DesignConstants[Value],MATCH(\"Span Wire Weight (plf)\",DesignConstants[Design Constant],0)),0)","v":1.155},0,27.142500000000002,{"$error":"#N/A"},{"$error":"#N/A"},{"$error":"#VALUE!"},{"$error":"#VALUE!"},{"$f":"IF(B54=\"\",0,INDEX(SignalHeads[Height ** (feet)],MATCH(B54,SignalHeads[Code],0)))","v":0},{"$f":"IF(L54=0,\"\",ROUNDDOWN(12*(((J54-L54)-MIN($J$31:$J$230-$L$31:$L$230)-(MAX($L$31:$L$230*(($J$31:$J$230-$L$31:$L$230)=MIN($J$31:$J$230-$L$31:$L$230)))-L54))+(MIN($J$31:$J$230-$L$31:$L$230)-$I$19)),0)/12)","v":""},"",{"$error":"#VALUE!"},17]
[25,null,{"$f":"IF(B55=\"\",0,INDEX(SignalHeads[Perp. Wind Area (sft)],MATCH(B55,SignalHeads[Code],0)))","v":0},{"$f":"IF(B55=\"\",\"\",INDEX(SignalHeads[Weight*** (lbs)],MATCH(B55,SignalHeads[Code],0)))","v":""},{"$f":"IF(A55<=$I$17,INDEX(DesignConstants[Value],MATCH(\"Span Wire Weight (plf)\",DesignConstants[Design Constant],0)),0)","v":1.155},0,28.297499999999999,{"$error":"#N/A"},{"$error":"#N/A"},{"$error":"#VALUE!"},{"$error":"#VALUE!"},{"$f":"IF(B55=\"\",0,INDEX(SignalHeads[Height ** (feet)],MATCH(B55,SignalHeads[Code],0)))","v":0},{"$f":"IF(L55=0,\"\",ROUNDDOWN(12*(((J55-L55)-MIN($J$31:$J$230-$L$31:$L$230)-(MAX($L$31:$L$230*(($J$31:$J$230-$L$31:$L$230)=MIN($J$31:$J$230-$L$31:$L$230)))-L55))+(MIN($J$31:$J$230-$L$31:$L$230)-$I$19)),0)/12)","v":""},"",{"$error":"#VALUE!"},17]
[26,null,{"$f":"IF(B56=\"\",0,INDEX(SignalHeads[Perp. Wind Area (sft)],MATCH(B56,SignalHeads[Code],0)))","v":0},{"$f":"IF(B56=\"\",\"\",INDEX(SignalHeads[Weight*** (lbs)],MATCH(B56,SignalHeads[Code],0)))","v":""},{"$f":"IF(A56<=$I$17,INDEX(DesignConstants[Value],MATCH(\"Span Wire Weight (plf)\",DesignConstants[Design Constant],0)),0)","v":1.155},0,29.452500000000001,{"$error":"#N/A"},{"$error":"#N/A"},{"$error":"#VALUE!"},{"$error":"#VALUE!"},{"$f":"IF(B56=\"\",0,INDEX(SignalHeads[Height ** (feet)],MATCH(B56,SignalHeads[Code],0)))","v":0},{"$f":"IF(L56=0,\"\",ROUNDDOWN(12*(((J56-L56)-MIN($J$31:$J$230-$L$31:$L$230)-(MAX($L$31:$L$230*(($J$31:$J$230-$L$31:$L$230)=MIN($J$31:$J$230-$L$31:$L$230)))-L56))+(MIN($J$31:$J$230-$L$31:$L$230)-$I$19)),0)/12)","v":""},"",{"$error":"#VALUE!"},17]
[27,null,{"$f":"IF(B57=\"\",0,INDEX(SignalHeads[Perp. Wind Area (sft)],MATCH(B57,SignalHeads[Code],0)))","v":0},{"$f":"IF(B57=\"\",\"\",INDEX(SignalHeads[Weight*** (lbs)],MATCH(B57,SignalHeads[Code],0)))","v":""},{"$f":"IF(A57<=$I$17,INDEX(DesignConstants[Value],MATCH(\"Span Wire Weight (plf)\",DesignConstants[Design Constant],0)),0)","v":1.155},0,30.607500000000002,{"$error":"#N/A"},{"$error":"#N/A"},{"$error":"#VALUE!"},{"$error":"#VALUE!"},{"$f":"IF(B57=\"\",0,INDEX(SignalHeads[Height ** (feet)],MATCH(B57,SignalHeads[Code],0)))","v":0},{"$f":"IF(L57=0,\"\",ROUNDDOWN(12*(((J57-L57)-MIN($J$31:$J$230-$L$31:$L$230)-(MAX($L$31:$L$230*(($J$31:$J$230-$L$31:$L$230)=MIN($J$31:$J$230-$L$31:$L$230)))-L57))+(MIN($J$31:$J$230-$L$31:$L$230)-$I$19)),0)/12)","v":""},"",{"$error":"#VALUE!"},17]
[28,null,{"$f":"IF(B58=\"\",0,INDEX(SignalHeads[Perp. Wind Area (sft)],MATCH(B58,SignalHeads[Code],0)))","v":0},{"$f":"IF(B58=\"\",\"\",INDEX(SignalHeads[Weight*** (lbs)],MATCH(B58,SignalHeads[Code],0)))","v":""},{"$f":"IF(A58<=$I$17,INDEX(DesignConstants[Value],MATCH(\"Span Wire Weight (plf)\",DesignConstants[Design Constant],0)),0)","v":1.155},0,31.762499999999999,{"$error":"#N/A"},{"$error":"#N/A"},{"$error":"#VALUE!"},{"$error":"#VALUE!"},{"$f":"IF(B58=\"\",0,INDEX(SignalHeads[Height ** (feet)],MATCH(B58,SignalHeads[Code],0)))","v":0},{"$f":"IF(L58=0,\"\",ROUNDDOWN(12*(((J58-L58)-MIN($J$31:$J$230-$L$31:$L$230)-(MAX($L$31:$L$230*(($J$31:$J$230-$L$31:$L$230)=MIN($J$31:$J$230-$L$31:$L$230)))-L58))+(MIN($J$31:$J$230-$L$31:$L$230)-$I$19)),0)/12)","v":""},"",{"$error":"#VALUE!"},17]
[29,null,{"$f":"IF(B59=\"\",0,INDEX(SignalHeads[Perp. Wind Area (sft)],MATCH(B59,SignalHeads[Code],0)))","v":0},{"$f":"IF(B59=\"\",\"\",INDEX(SignalHeads[Weight*** (lbs)],MATCH(B59,SignalHeads[Code],0)))","v":""},{"$f":"IF(A59<=$I$17,INDEX(DesignConstants[Value],MATCH(\"Span Wire Weight (plf)\",DesignConstants[Design Constant],0)),0)","v":1.155},0,32.917500000000004,{"$error":"#N/A"},{"$error":"#N/A"},{"$error":"#VALUE!"},{"$error":"#VALUE!"},{"$f":"IF(B59=\"\",0,INDEX(SignalHeads[Height ** (feet)],MATCH(B59,SignalHeads[Code],0)))","v":0},{"$f":"IF(L59=0,\"\",ROUNDDOWN(12*(((J59-L59)-MIN($J$31:$J$230-$L$31:$L$230)-(MAX($L$31:$L$230*(($J$31:$J$230-$L$31:$L$230)=MIN($J$31:$J$230-$L$31:$L$230)))-L59))+(MIN($J$31:$J$230-$L$31:$L$230)-$I$19)),0)/12)","v":""},"",{"$error":"#VALUE!"},17]
[30,null,{"$f":"IF(B60=\"\",0,INDEX(SignalHeads[Perp. Wind Area (sft)],MATCH(B60,SignalHeads[Code],0)))","v":0},{"$f":"IF(B60=\"\",\"\",INDEX(SignalHeads[Weight*** (lbs)],MATCH(B60,SignalHeads[Code],0)))","v":""},{"$f":"IF(A60<=$I$17,INDEX(DesignConstants[Value],MATCH(\"Span Wire Weight (plf)\",DesignConstants[Design Constant],0)),0)","v":1.155},0,34.072499999999998,{"$error":"#N/A"},{"$error":"#N/A"},{"$error":"#VALUE!"},{"$error":"#VALUE!"},{"$f":"IF(B60=\"\",0,INDEX(SignalHeads[Height ** (feet)],MATCH(B60,SignalHeads[Code],0)))","v":0},{"$f":"IF(L60=0,\"\",ROUNDDOWN(12*(((J60-L60)-MIN($J$31:$J$230-$L$31:$L$230)-(MAX($L$31:$L$230*(($J$31:$J$230-$L$31:$L$230)=MIN($J$31:$J$230-$L$31:$L$230)))-L60))+(MIN($J$31:$J$230-$L$31:$L$230)-$I$19)),0)/12)","v":""},"",{"$error":"#VALUE!"},17]
[31,null,{"$f":"IF(B61=\"\",0,INDEX(SignalHeads[Perp. Wind Area (sft)],MATCH(B61,SignalHeads[Code],0)))","v":0},{"$f":"IF(B61=\"\",\"\",INDEX(SignalHeads[Weight*** (lbs)],MATCH(B61,SignalHeads[Code],0)))","v":""},{"$f":"IF(A61<=$I$17,INDEX(DesignConstants[Value],MATCH(\"Span Wire Weight (plf)\",DesignConstants[Design Constant],0)),0)","v":1.155},0,35.227499999999999,{"$error":"#N/A"},{"$error":"#N/A"},{"$error":"#VALUE!"},{"$error":"#VALUE!"},{"$f":"IF(B61=\"\",0,INDEX(SignalHeads[Height ** (feet)],MATCH(B61,SignalHeads[Code],0)))","v":0},{"$f":"IF(L61=0,\"\",ROUNDDOWN(12*(((J61-L61)-MIN($J$31:$J$230-$L$31:$L$230)-(MAX($L$31:$L$230*(($J$31:$J$230-$L$31:$L$230)=MIN($J$31:$J$230-$L$31:$L$230)))-L61))+(MIN($J$31:$J$230-$L$31:$L$230)-$I$19)),0)/12)","v":""},"",{"$error":"#VALUE!"},17]
[32,null,{"$f":"IF(B62=\"\",0,INDEX(SignalHeads[Perp. Wind Area (sft)],MATCH(B62,SignalHeads[Code],0)))","v":0},{"$f":"IF(B62=\"\",\"\",INDEX(SignalHeads[Weight*** (lbs)],MATCH(B62,SignalHeads[Code],0)))","v":""},{"$f":"IF(A62<=$I$17,INDEX(DesignConstants[Value],MATCH(\"Span Wire Weight (plf)\",DesignConstants[Design Constant],0)),0)","v":1.155},0,36.3825,{"$error":"#N/A"},{"$error":"#N/A"},{"$error":"#VALUE!"},{"$error":"#VALUE!"},{"$f":"IF(B62=\"\",0,INDEX(SignalHeads[Height ** (feet)],MATCH(B62,SignalHeads[Code],0)))","v":0},{"$f":"IF(L62=0,\"\",ROUNDDOWN(12*(((J62-L62)-MIN($J$31:$J$230-$L$31:$L$230)-(MAX($L$31:$L$230*(($J$31:$J$230-$L$31:$L$230)=MIN($J$31:$J$230-$L$31:$L$230)))-L62))+(MIN($J$31:$J$230-$L$31:$L$230)-$I$19)),0)/12)","v":""},"",{"$error":"#VALUE!"},17]
[33,null,{"$f":"IF(B63=\"\",0,INDEX(SignalHeads[Perp. Wind Area (sft)],MATCH(B63,SignalHeads[Code],0)))","v":0},{"$f":"IF(B63=\"\",\"\",INDEX(SignalHeads[Weight*** (lbs)],MATCH(B63,SignalHeads[Code],0)))","v":""},{"$f":"IF(A63<=$I$17,INDEX(DesignConstants[Value],MATCH(\"Span Wire Weight (plf)\",DesignConstants[Design Constant],0)),0)","v":1.155},0,37.537500000000001,{"$error":"#N/A"},{"$error":"#N/A"},{"$error":"#VALUE!"},{"$f":"IF(A63>$I$17,0,($N$24-$N$15)/$I$17*A63+$N$15)","v":{"$error":"#VALUE!"}},{"$f":"IF(B63=\"\",0,INDEX(SignalHeads[Height ** (feet)],MATCH(B63,SignalHeads[Code],0)))","v":0},{"$f":"IF(L63=0,\"\",ROUNDDOWN(12*(((J63-L63)-MIN($J$31:$J$230-$L$31:$L$230)-(MAX($L$31:$L$230*(($J$31:$J$230-$L$31:$L$230)=MIN($J$31:$J$230-$L$31:$L$230)))-L63))+(MIN($J$31:$J$230-$L$31:$L$230)-$I$19)),0)/12)","v":""},"",{"$error":"#VALUE!"},{"$f":"$I$19","v":17}]
[34,null,{"$f":"IF(B64=\"\",0,INDEX(SignalHeads[Perp. Wind Area (sft)],MATCH(B64,SignalHeads[Code],0)))","v":0},{"$f":"IF(B64=\"\",\"\",INDEX(SignalHeads[Weight*** (lbs)],MATCH(B64,SignalHeads[Code],0)))","v":""},{"$f":"IF(A64<=$I$17,INDEX(DesignConstants[Value],MATCH(\"Span Wire Weight (plf)\",DesignConstants[Design Constant],0)),0)","v":1.155},0,38.692500000000003,{"$error":"#N/A"},{"$error":"#N/A"},{"$error":"#VALUE!"},{"$error":"#VALUE!"},{"$f":"IF(B64=\"\",0,INDEX(SignalHeads[Height ** (feet)],MATCH(B64,SignalHeads[Code],0)))","v":0},{"$f":"IF(L64=0,\"\",ROUNDDOWN(12*(((J64-L64)-MIN($J$31:$J$230-$L$31:$L$230)-(MAX($L$31:$L$230*(($J$31:$J$230-$L$31:$L$230)=MIN($J$31:$J$230-$L$31:$L$230)))-L64))+(MIN($J$31:$J$230-$L$31:$L$230)-$I$19)),0)/12)","v":""},"",{"$error":"#VALUE!"},17]
[35,null,{"$f":"IF(B65=\"\",0,INDEX(SignalHeads[Perp. Wind Area (sft)],MATCH(B65,SignalHeads[Code],0)))","v":0},{"$f":"IF(B65=\"\",\"\",INDEX(SignalHeads[Weight*** (lbs)],MATCH(B65,SignalHeads[Code],0)))","v":""},{"$f":"IF(A65<=$I$17,INDEX(DesignConstants[Value],MATCH(\"Span Wire Weight (plf)\",DesignConstants[Design Constant],0)),0)","v":1.155},0,39.847500000000004,{"$error":"#N/A"},{"$error":"#N/A"},{"$error":"#VALUE!"},{"$error":"#VALUE!"},{"$f":"IF(B65=\"\",0,INDEX(SignalHeads[Height ** (feet)],MATCH(B65,SignalHeads[Code],0)))","v":0},{"$f":"IF(L65=0,\"\",ROUNDDOWN(12*(((J65-L65)-MIN($J$31:$J$230-$L$31:$L$230)-(MAX($L$31:$L$230*(($J$31:$J$230-$L$31:$L$230)=MIN($J$31:$J$230-$L$31:$L$230)))-L65))+(MIN($J$31:$J$230-$L$31:$L$230)-$I$19)),0)/12)","v":""},"",{"$error":"#VALUE!"},17]
[36,null,{"$f":"IF(B66=\"\",0,INDEX(SignalHeads[Perp. Wind Area (sft)],MATCH(B66,SignalHeads[Code],0)))","v":0},{"$f":"IF(B66=\"\",\"\",INDEX(SignalHeads[Weight*** (lbs)],MATCH(B66,SignalHeads[Code],0)))","v":""},{"$f":"IF(A66<=$I$17,INDEX(DesignConstants[Value],MATCH(\"Span Wire Weight (plf)\",DesignConstants[Design Constant],0)),0)","v":1.155},0,41.002499999999998,{"$error":"#N/A"},{"$error":"#N/A"},{"$error":"#VALUE!"},{"$error":"#VALUE!"},{"$f":"IF(B66=\"\",0,INDEX(SignalHeads[Height ** (feet)],MATCH(B66,SignalHeads[Code],0)))","v":0},{"$f":"IF(L66=0,\"\",ROUNDDOWN(12*(((J66-L66)-MIN($J$31:$J$230-$L$31:$L$230)-(MAX($L$31:$L$230*(($J$31:$J$230-$L$31:$L$230)=MIN($J$31:$J$230-$L$31:$L$230)))-L66))+(MIN($J$31:$J$230-$L$31:$L$230)-$I$19)),0)/12)","v":""},"",{"$error":"#VALUE!"},17]
[37,null,{"$f":"IF(B67=\"\",0,INDEX(SignalHeads[Perp. Wind Area (sft)],MATCH(B67,SignalHeads[Code],0)))","v":0},{"$f":"IF(B67=\"\",\"\",INDEX(SignalHeads[Weight*** (lbs)],MATCH(B67,SignalHeads[Code],0)))","v":""},{"$f":"IF(A67<=$I$17,INDEX(DesignConstants[Value],MATCH(\"Span Wire Weight (plf)\",DesignConstants[Design Constant],0)),0)","v":1.155},0,42.157499999999999,{"$error":"#N/A"},{"$error":"#N/A"},{"$error":"#VALUE!"},{"$error":"#VALUE!"},{"$f":"IF(B67=\"\",0,INDEX(SignalHeads[Height ** (feet)],MATCH(B67,SignalHeads[Code],0)))","v":0},{"$f":"IF(L67=0,\"\",ROUNDDOWN(12*(((J67-L67)-MIN($J$31:$J$230-$L$31:$L$230)-(MAX($L$31:$L$230*(($J$31:$J$230-$L$31:$L$230)=MIN($J$31:$J$230-$L$31:$L$230)))-L67))+(MIN($J$31:$J$230-$L$31:$L$230)-$I$19)),0)/12)","v":""},"",{"$error":"#VALUE!"},17]
[38,null,{"$f":"IF(B68=\"\",0,INDEX(SignalHeads[Perp. Wind Area (sft)],MATCH(B68,SignalHeads[Code],0)))","v":0},{"$f":"IF(B68=\"\",\"\",INDEX(SignalHeads[Weight*** (lbs)],MATCH(B68,SignalHeads[Code],0)))","v":""},{"$f":"IF(A68<=$I$17,INDEX(DesignConstants[Value],MATCH(\"Span Wire Weight (plf)\",DesignConstants[Design Constant],0)),0)","v":1.155},0,43.3125,{"$error":"#N/A"},{"$error":"#N/A"},{"$error":"#VALUE!"},{"$error":"#VALUE!"},{"$f":"IF(B68=\"\",0,INDEX(SignalHeads[Height ** (feet)],MATCH(B68,SignalHeads[Code],0)))","v":0},{"$f":"IF(L68=0,\"\",ROUNDDOWN(12*(((J68-L68)-MIN($J$31:$J$230-$L$31:$L$230)-(MAX($L$31:$L$230*(($J$31:$J$230-$L$31:$L$230)=MIN($J$31:$J$230-$L$31:$L$230)))-L68))+(MIN($J$31:$J$230-$L$31:$L$230)-$I$19)),0)/12)","v":""},"",{"$error":"#VALUE!"},17]
[39,null,{"$f":"IF(B69=\"\",0,INDEX(SignalHeads[Perp. Wind Area (sft)],MATCH(B69,SignalHeads[Code],0)))","v":0},{"$f":"IF(B69=\"\",\"\",INDEX(SignalHeads[Weight*** (lbs)],MATCH(B69,SignalHeads[Code],0)))","v":""},{"$f":"IF(A69<=$I$17,INDEX(DesignConstants[Value],MATCH(\"Span Wire Weight (plf)\",DesignConstants[Design Constant],0)),0)","v":1.155},0,44.467500000000001,{"$error":"#N/A"},{"$error":"#N/A"},{"$error":"#VALUE!"},{"$error":"#VALUE!"},{"$f":"IF(B69=\"\",0,INDEX(SignalHeads[Height ** (feet)],MATCH(B69,SignalHeads[Code],0)))","v":0},{"$f":"IF(L69=0,\"\",ROUNDDOWN(12*(((J69-L69)-MIN($J$31:$J$230-$L$31:$L$230)-(MAX($L$31:$L$230*(($J$31:$J$230-$L$31:$L$230)=MIN($J$31:$J$230-$L$31:$L$230)))-L69))+(MIN($J$31:$J$230-$L$31:$L$230)-$I$19)),0)/12)","v":""},"",{"$error":"#VALUE!"},17]
[40,null,{"$f":"IF(B70=\"\",0,INDEX(SignalHeads[Perp. Wind Area (sft)],MATCH(B70,SignalHeads[Code],0)))","v":0},{"$f":"IF(B70=\"\",\"\",INDEX(SignalHeads[Weight*** (lbs)],MATCH(B70,SignalHeads[Code],0)))","v":""},{"$f":"IF(A70<=$I$17,INDEX(DesignConstants[Value],MATCH(\"Span Wire Weight (plf)\",DesignConstants[Design Constant],0)),0)","v":1.155},0,45.622500000000002,{"$error":"#N/A"},{"$error":"#N/A"},{"$error":"#VALUE!"},{"$error":"#VALUE!"},{"$f":"IF(B70=\"\",0,INDEX(SignalHeads[Height ** (feet)],MATCH(B70,SignalHeads[Code],0)))","v":0},{"$f":"IF(L70=0,\"\",ROUNDDOWN(12*(((J70-L70)-MIN($J$31:$J$230-$L$31:$L$230)-(MAX($L$31:$L$230*(($J$31:$J$230-$L$31:$L$230)=MIN($J$31:$J$230-$L$31:$L$230)))-L70))+(MIN($J$31:$J$230-$L$31:$L$230)-$I$19)),0)/12)","v":""},"",{"$error":"#VALUE!"},17]
[41,null,{"$f":"IF(B71=\"\",0,INDEX(SignalHeads[Perp. Wind Area (sft)],MATCH(B71,SignalHeads[Code],0)))","v":0},{"$f":"IF(B71=\"\",\"\",INDEX(SignalHeads[Weight*** (lbs)],MATCH(B71,SignalHeads[Code],0)))","v":""},{"$f":"IF(A71<=$I$17,INDEX(DesignConstants[Value],MATCH(\"Span Wire Weight (plf)\",DesignConstants[Design Constant],0)),0)","v":1.155},0,46.777500000000003,{"$error":"#N/A"},{"$error":"#N/A"},{"$error":"#VALUE!"},{"$error":"#VALUE!"},{"$f":"IF(B71=\"\",0,INDEX(SignalHeads[Height ** (feet)],MATCH(B71,SignalHeads[Code],0)))","v":0},{"$f":"IF(L71=0,\"\",ROUNDDOWN(12*(((J71-L71)-MIN($J$31:$J$230-$L$31:$L$230)-(MAX($L$31:$L$230*(($J$31:$J$230-$L$31:$L$230)=MIN($J$31:$J$230-$L$31:$L$230)))-L71))+(MIN($J$31:$J$230-$L$31:$L$230)-$I$19)),0)/12)","v":""},"",{"$error":"#VALUE!"},17]
[42,null,{"$f":"IF(B72=\"\",0,INDEX(SignalHeads[Perp. Wind Area (sft)],MATCH(B72,SignalHeads[Code],0)))","v":0},{"$f":"IF(B72=\"\",\"\",INDEX(SignalHeads[Weight*** (lbs)],MATCH(B72,SignalHeads[Code],0)))","v":""},{"$f":"IF(A72<=$I$17,INDEX(DesignConstants[Value],MATCH(\"Span Wire Weight (plf)\",DesignConstants[Design Constant],0)),0)","v":1.155},0,47.932500000000005,{"$error":"#N/A"},{"$error":"#N/A"},{"$error":"#VALUE!"},{"$error":"#VALUE!"},{"$f":"IF(B72=\"\",0,INDEX(SignalHeads[Height ** (feet)],MATCH(B72,SignalHeads[Code],0)))","v":0},{"$f":"IF(L72=0,\"\",ROUNDDOWN(12*(((J72-L72)-MIN($J$31:$J$230-$L$31:$L$230)-(MAX($L$31:$L$230*(($J$31:$J$230-$L$31:$L$230)=MIN($J$31:$J$230-$L$31:$L$230)))-L72))+(MIN($J$31:$J$230-$L$31:$L$230)-$I$19)),0)/12)","v":""},"",{"$error":"#VALUE!"},17]
[43,null,{"$f":"IF(B73=\"\",0,INDEX(SignalHeads[Perp. Wind Area (sft)],MATCH(B73,SignalHeads[Code],0)))","v":0},{"$f":"IF(B73=\"\",\"\",INDEX(SignalHeads[Weight*** (lbs)],MATCH(B73,SignalHeads[Code],0)))","v":""},{"$f":"IF(A73<=$I$17,INDEX(DesignConstants[Value],MATCH(\"Span Wire Weight (plf)\",DesignConstants[Design Constant],0)),0)","v":1.155},0,49.087499999999999,{"$error":"#N/A"},{"$error":"#N/A"},{"$error":"#VALUE!"},{"$error":"#VALUE!"},{"$f":"IF(B73=\"\",0,INDEX(SignalHeads[Height ** (feet)],MATCH(B73,SignalHeads[Code],0)))","v":0},{"$f":"IF(L73=0,\"\",ROUNDDOWN(12*(((J73-L73)-MIN($J$31:$J$230-$L$31:$L$230)-(MAX($L$31:$L$230*(($J$31:$J$230-$L$31:$L$230)=MIN($J$31:$J$230-$L$31:$L$230)))-L73))+(MIN($J$31:$J$230-$L$31:$L$230)-$I$19)),0)/12)","v":""},"",{"$error":"#VALUE!"},17]
[44,null,{"$f":"IF(B74=\"\",0,INDEX(SignalHeads[Perp. Wind Area (sft)],MATCH(B74,SignalHeads[Code],0)))","v":0},{"$f":"IF(B74=\"\",\"\",INDEX(SignalHeads[Weight*** (lbs)],MATCH(B74,SignalHeads[Code],0)))","v":""},{"$f":"IF(A74<=$I$17,INDEX(DesignConstants[Value],MATCH(\"Span Wire Weight (plf)\",DesignConstants[Design Constant],0)),0)","v":1.155},0,50.2425,{"$error":"#N/A"},{"$error":"#N/A"},{"$error":"#VALUE!"},{"$error":"#VALUE!"},{"$f":"IF(B74=\"\",0,INDEX(SignalHeads[Height ** (feet)],MATCH(B74,SignalHeads[Code],0)))","v":0},{"$f":"IF(L74=0,\"\",ROUNDDOWN(12*(((J74-L74)-MIN($J$31:$J$230-$L$31:$L$230)-(MAX($L$31:$L$230*(($J$31:$J$230-$L$31:$L$230)=MIN($J$31:$J$230-$L$31:$L$230)))-L74))+(MIN($J$31:$J$230-$L$31:$L$230)-$I$19)),0)/12)","v":""},"",{"$error":"#VALUE!"},17]
[45,null,{"$f":"IF(B75=\"\",0,INDEX(SignalHeads[Perp. Wind Area (sft)],MATCH(B75,SignalHeads[Code],0)))","v":0},{"$f":"IF(B75=\"\",\"\",INDEX(SignalHeads[Weight*** (lbs)],MATCH(B75,SignalHeads[Code],0)))","v":""},{"$f":"IF(A75<=$I$17,INDEX(DesignConstants[Value],MATCH(\"Span Wire Weight (plf)\",DesignConstants[Design Constant],0)),0)","v":1.155},0,51.397500000000001,{"$error":"#N/A"},{"$error":"#N/A"},{"$error":"#VALUE!"},{"$error":"#VALUE!"},{"$f":"IF(B75=\"\",0,INDEX(SignalHeads[Height ** (feet)],MATCH(B75,SignalHeads[Code],0)))","v":0},{"$f":"IF(L75=0,\"\",ROUNDDOWN(12*(((J75-L75)-MIN($J$31:$J$230-$L$31:$L$230)-(MAX($L$31:$L$230*(($J$31:$J$230-$L$31:$L$230)=MIN($J$31:$J$230-$L$31:$L$230)))-L75))+(MIN($J$31:$J$230-$L$31:$L$230)-$I$19)),0)/12)","v":""},"",{"$error":"#VALUE!"},17]
[46,null,{"$f":"IF(B76=\"\",0,INDEX(SignalHeads[Perp. Wind Area (sft)],MATCH(B76,SignalHeads[Code],0)))","v":0},{"$f":"IF(B76=\"\",\"\",INDEX(SignalHeads[Weight*** (lbs)],MATCH(B76,SignalHeads[Code],0)))","v":""},{"$f":"IF(A76<=$I$17,INDEX(DesignConstants[Value],MATCH(\"Span Wire Weight (plf)\",DesignConstants[Design Constant],0)),0)","v":1.155},0,52.552500000000002,{"$error":"#N/A"},{"$error":"#N/A"},{"$error":"#VALUE!"},{"$error":"#VALUE!"},{"$f":"IF(B76=\"\",0,INDEX(SignalHeads[Height ** (feet)],MATCH(B76,SignalHeads[Code],0)))","v":0},{"$f":"IF(L76=0,\"\",ROUNDDOWN(12*(((J76-L76)-MIN($J$31:$J$230-$L$31:$L$230)-(MAX($L$31:$L$230*(($J$31:$J$230-$L$31:$L$230)=MIN($J$31:$J$230-$L$31:$L$230)))-L76))+(MIN($J$31:$J$230-$L$31:$L$230)-$I$19)),0)/12)","v":""},"",{"$error":"#VALUE!"},17]
[47,null,{"$f":"IF(B77=\"\",0,INDEX(SignalHeads[Perp. Wind Area (sft)],MATCH(B77,SignalHeads[Code],0)))","v":0},{"$f":"IF(B77=\"\",\"\",INDEX(SignalHeads[Weight*** (lbs)],MATCH(B77,SignalHeads[Code],0)))","v":""},{"$f":"IF(A77<=$I$17,INDEX(DesignConstants[Value],MATCH(\"Span Wire Weight (plf)\",DesignConstants[Design Constant],0)),0)","v":1.155},0,53.707500000000003,{"$error":"#N/A"},{"$error":"#N/A"},{"$error":"#VALUE!"},{"$error":"#VALUE!"},{"$f":"IF(B77=\"\",0,INDEX(SignalHeads[Height ** (feet)],MATCH(B77,SignalHeads[Code],0)))","v":0},{"$f":"IF(L77=0,\"\",ROUNDDOWN(12*(((J77-L77)-MIN($J$31:$J$230-$L$31:$L$230)-(MAX($L$31:$L$230*(($J$31:$J$230-$L$31:$L$230)=MIN($J$31:$J$230-$L$31:$L$230)))-L77))+(MIN($J$31:$J$230-$L$31:$L$230)-$I$19)),0)/12)","v":""},"",{"$error":"#VALUE!"},17]
[48,null,{"$f":"IF(B78=\"\",0,INDEX(SignalHeads[Perp. Wind Area (sft)],MATCH(B78,SignalHeads[Code],0)))","v":0},{"$f":"IF(B78=\"\",\"\",INDEX(SignalHeads[Weight*** (lbs)],MATCH(B78,SignalHeads[Code],0)))","v":""},{"$f":"IF(A78<=$I$17,INDEX(DesignConstants[Value],MATCH(\"Span Wire Weight (plf)\",DesignConstants[Design Constant],0)),0)","v":1.155},0,54.862500000000004,{"$error":"#N/A"},{"$error":"#N/A"},{"$error":"#VALUE!"},{"$error":"#VALUE!"},{"$f":"IF(B78=\"\",0,INDEX(SignalHeads[Height ** (feet)],MATCH(B78,SignalHeads[Code],0)))","v":0},{"$f":"IF(L78=0,\"\",ROUNDDOWN(12*(((J78-L78)-MIN($J$31:$J$230-$L$31:$L$230)-(MAX($L$31:$L$230*(($J$31:$J$230-$L$31:$L$230)=MIN($J$31:$J$230-$L$31:$L$230)))-L78))+(MIN($J$31:$J$230-$L$31:$L$230)-$I$19)),0)/12)","v":""},"",{"$error":"#VALUE!"},17]
[49,null,{"$f":"IF(B79=\"\",0,INDEX(SignalHeads[Perp. Wind Area (sft)],MATCH(B79,SignalHeads[Code],0)))","v":0},{"$f":"IF(B79=\"\",\"\",INDEX(SignalHeads[Weight*** (lbs)],MATCH(B79,SignalHeads[Code],0)))","v":""},{"$f":"IF(A79<=$I$17,INDEX(DesignConstants[Value],MATCH(\"Span Wire Weight (plf)\",DesignConstants[Design Constant],0)),0)","v":1.155},0,56.017499999999998,{"$error":"#N/A"},{"$error":"#N/A"},{"$error":"#VALUE!"},{"$error":"#VALUE!"},{"$f":"IF(B79=\"\",0,INDEX(SignalHeads[Height ** (feet)],MATCH(B79,SignalHeads[Code],0)))","v":0},{"$f":"IF(L79=0,\"\",ROUNDDOWN(12*(((J79-L79)-MIN($J$31:$J$230-$L$31:$L$230)-(MAX($L$31:$L$230*(($J$31:$J$230-$L$31:$L$230)=MIN($J$31:$J$230-$L$31:$L$230)))-L79))+(MIN($J$31:$J$230-$L$31:$L$230)-$I$19)),0)/12)","v":""},"",{"$error":"#VALUE!"},17]
[50,null,{"$f":"IF(B80=\"\",0,INDEX(SignalHeads[Perp. Wind Area (sft)],MATCH(B80,SignalHeads[Code],0)))","v":0},{"$f":"IF(B80=\"\",\"\",INDEX(SignalHeads[Weight*** (lbs)],MATCH(B80,SignalHeads[Code],0)))","v":""},{"$f":"IF(A80<=$I$17,INDEX(DesignConstants[Value],MATCH(\"Span Wire Weight (plf)\",DesignConstants[Design Constant],0)),0)","v":1.155},0,57.172499999999999,{"$error":"#N/A"},{"$error":"#N/A"},{"$error":"#VALUE!"},{"$error":"#VALUE!"},{"$f":"IF(B80=\"\",0,INDEX(SignalHeads[Height ** (feet)],MATCH(B80,SignalHeads[Code],0)))","v":0},{"$f":"IF(L80=0,\"\",ROUNDDOWN(12*(((J80-L80)-MIN($J$31:$J$230-$L$31:$L$230)-(MAX($L$31:$L$230*(($J$31:$J$230-$L$31:$L$230)=MIN($J$31:$J$230-$L$31:$L$230)))-L80))+(MIN($J$31:$J$230-$L$31:$L$230)-$I$19)),0)/12)","v":""},"",{"$error":"#VALUE!"},17]
[51,null,{"$f":"IF(B81=\"\",0,INDEX(SignalHeads[Perp. Wind Area (sft)],MATCH(B81,SignalHeads[Code],0)))","v":0},{"$f":"IF(B81=\"\",\"\",INDEX(SignalHeads[Weight*** (lbs)],MATCH(B81,SignalHeads[Code],0)))","v":""},{"$f":"IF(A81<=$I$17,INDEX(DesignConstants[Value],MATCH(\"Span Wire Weight (plf)\",DesignConstants[Design Constant],0)),0)","v":1.155},0,58.327500000000001,{"$error":"#N/A"},{"$error":"#N/A"},{"$error":"#VALUE!"},{"$error":"#VALUE!"},{"$f":"IF(B81=\"\",0,INDEX(SignalHeads[Height ** (feet)],MATCH(B81,SignalHeads[Code],0)))","v":0},{"$f":"IF(L81=0,\"\",ROUNDDOWN(12*(((J81-L81)-MIN($J$31:$J$230-$L$31:$L$230)-(MAX($L$31:$L$230*(($J$31:$J$230-$L$31:$L$230)=MIN($J$31:$J$230-$L$31:$L$230)))-L81))+(MIN($J$31:$J$230-$L$31:$L$230)-$I$19)),0)/12)","v":""},"",{"$error":"#VALUE!"},17]
[52,null,{"$f":"IF(B82=\"\",0,INDEX(SignalHeads[Perp. Wind Area (sft)],MATCH(B82,SignalHeads[Code],0)))","v":0},{"$f":"IF(B82=\"\",\"\",INDEX(SignalHeads[Weight*** (lbs)],MATCH(B82,SignalHeads[Code],0)))","v":""},{"$f":"IF(A82<=$I$17,INDEX(DesignConstants[Value],MATCH(\"Span Wire Weight (plf)\",DesignConstants[Design Constant],0)),0)","v":1.155},0,59.482500000000002,{"$error":"#N/A"},{"$error":"#N/A"},{"$error":"#VALUE!"},{"$error":"#VALUE!"},{"$f":"IF(B82=\"\",0,INDEX(SignalHeads[Height ** (feet)],MATCH(B82,SignalHeads[Code],0)))","v":0},{"$f":"IF(L82=0,\"\",ROUNDDOWN(12*(((J82-L82)-MIN($J$31:$J$230-$L$31:$L$230)-(MAX($L$31:$L$230*(($J$31:$J$230-$L$31:$L$230)=MIN($J$31:$J$230-$L$31:$L$230)))-L82))+(MIN($J$31:$J$230-$L$31:$L$230)-$I$19)),0)/12)","v":""},"",{"$error":"#VALUE!"},17]
[53,null,{"$f":"IF(B83=\"\",0,INDEX(SignalHeads[Perp. Wind Area (sft)],MATCH(B83,SignalHeads[Code],0)))","v":0},{"$f":"IF(B83=\"\",\"\",INDEX(SignalHeads[Weight*** (lbs)],MATCH(B83,SignalHeads[Code],0)))","v":""},{"$f":"IF(A83<=$I$17,INDEX(DesignConstants[Value],MATCH(\"Span Wire Weight (plf)\",DesignConstants[Design Constant],0)),0)","v":1.155},0,60.637500000000003,{"$error":"#N/A"},{"$error":"#N/A"},{"$error":"#VALUE!"},{"$error":"#VALUE!"},{"$f":"IF(B83=\"\",0,INDEX(SignalHeads[Height ** (feet)],MATCH(B83,SignalHeads[Code],0)))","v":0},{"$f":"IF(L83=0,\"\",ROUNDDOWN(12*(((J83-L83)-MIN($J$31:$J$230-$L$31:$L$230)-(MAX($L$31:$L$230*(($J$31:$J$230-$L$31:$L$230)=MIN($J$31:$J$230-$L$31:$L$230)))-L83))+(MIN($J$31:$J$230-$L$31:$L$230)-$I$19)),0)/12)","v":""},"",{"$error":"#VALUE!"},17]
[54,null,{"$f":"IF(B84=\"\",0,INDEX(SignalHeads[Perp. Wind Area (sft)],MATCH(B84,SignalHeads[Code],0)))","v":0},{"$f":"IF(B84=\"\",\"\",INDEX(SignalHeads[Weight*** (lbs)],MATCH(B84,SignalHeads[Code],0)))","v":""},{"$f":"IF(A84<=$I$17,INDEX(DesignConstants[Value],MATCH(\"Span Wire Weight (plf)\",DesignConstants[Design Constant],0)),0)","v":1.155},0,61.792500000000004,{"$error":"#N/A"},{"$error":"#N/A"},{"$error":"#VALUE!"},{"$error":"#VALUE!"},{"$f":"IF(B84=\"\",0,INDEX(SignalHeads[Height ** (feet)],MATCH(B84,SignalHeads[Code],0)))","v":0},{"$f":"IF(L84=0,\"\",ROUNDDOWN(12*(((J84-L84)-MIN($J$31:$J$230-$L$31:$L$230)-(MAX($L$31:$L$230*(($J$31:$J$230-$L$31:$L$230)=MIN($J$31:$J$230-$L$31:$L$230)))-L84))+(MIN($J$31:$J$230-$L$31:$L$230)-$I$19)),0)/12)","v":""},"",{"$error":"#VALUE!"},17]
[55,null,{"$f":"IF(B85=\"\",0,INDEX(SignalHeads[Perp. Wind Area (sft)],MATCH(B85,SignalHeads[Code],0)))","v":0},{"$f":"IF(B85=\"\",\"\",INDEX(SignalHeads[Weight*** (lbs)],MATCH(B85,SignalHeads[Code],0)))","v":""},{"$f":"IF(A85<=$I$17,INDEX(DesignConstants[Value],MATCH(\"Span Wire Weight (plf)\",DesignConstants[Design Constant],0)),0)","v":1.155},0,62.947499999999998,{"$error":"#N/A"},{"$error":"#N/A"},{"$error":"#VALUE!"},{"$error":"#VALUE!"},{"$f":"IF(B85=\"\",0,INDEX(SignalHeads[Height ** (feet)],MATCH(B85,SignalHeads[Code],0)))","v":0},{"$f":"IF(L85=0,\"\",ROUNDDOWN(12*(((J85-L85)-MIN($J$31:$J$230-$L$31:$L$230)-(MAX($L$31:$L$230*(($J$31:$J$230-$L$31:$L$230)=MIN($J$31:$J$230-$L$31:$L$230)))-L85))+(MIN($J$31:$J$230-$L$31:$L$230)-$I$19)),0)/12)","v":""},"",{"$error":"#VALUE!"},17]
[56,null,{"$f":"IF(B86=\"\",0,INDEX(SignalHeads[Perp. Wind Area (sft)],MATCH(B86,SignalHeads[Code],0)))","v":0},{"$f":"IF(B86=\"\",\"\",INDEX(SignalHeads[Weight*** (lbs)],MATCH(B86,SignalHeads[Code],0)))","v":""},{"$f":"IF(A86<=$I$17,INDEX(DesignConstants[Value],MATCH(\"Span Wire Weight (plf)\",DesignConstants[Design Constant],0)),0)","v":1.155},0,64.102500000000006,{"$error":"#N/A"},{"$error":"#N/A"},{"$error":"#VALUE!"},{"$error":"#VALUE!"},{"$f":"IF(B86=\"\",0,INDEX(SignalHeads[Height ** (feet)],MATCH(B86,SignalHeads[Code],0)))","v":0},{"$f":"IF(L86=0,\"\",ROUNDDOWN(12*(((J86-L86)-MIN($J$31:$J$230-$L$31:$L$230)-(MAX($L$31:$L$230*(($J$31:$J$230-$L$31:$L$230)=MIN($J$31:$J$230-$L$31:$L$230)))-L86))+(MIN($J$31:$J$230-$L$31:$L$230)-$I$19)),0)/12)","v":""},"",{"$error":"#VALUE!"},17]
[57,null,{"$f":"IF(B87=\"\",0,INDEX(SignalHeads[Perp. Wind Area (sft)],MATCH(B87,SignalHeads[Code],0)))","v":0},{"$f":"IF(B87=\"\",\"\",INDEX(SignalHeads[Weight*** (lbs)],MATCH(B87,SignalHeads[Code],0)))","v":""},{"$f":"IF(A87<=$I$17,INDEX(DesignConstants[Value],MATCH(\"Span Wire Weight (plf)\",DesignConstants[Design Constant],0)),0)","v":1.155},0,65.257500000000007,{"$error":"#N/A"},{"$error":"#N/A"},{"$error":"#VALUE!"},{"$error":"#VALUE!"},{"$f":"IF(B87=\"\",0,INDEX(SignalHeads[Height ** (feet)],MATCH(B87,SignalHeads[Code],0)))","v":0},{"$f":"IF(L87=0,\"\",ROUNDDOWN(12*(((J87-L87)-MIN($J$31:$J$230-$L$31:$L$230)-(MAX($L$31:$L$230*(($J$31:$J$230-$L$31:$L$230)=MIN($J$31:$J$230-$L$31:$L$230)))-L87))+(MIN($J$31:$J$230-$L$31:$L$230)-$I$19)),0)/12)","v":""},"",{"$error":"#VALUE!"},17]
[58,null,{"$f":"IF(B88=\"\",0,INDEX(SignalHeads[Perp. Wind Area (sft)],MATCH(B88,SignalHeads[Code],0)))","v":0},{"$f":"IF(B88=\"\",\"\",INDEX(SignalHeads[Weight*** (lbs)],MATCH(B88,SignalHeads[Code],0)))","v":""},{"$f":"IF(A88<=$I$17,INDEX(DesignConstants[Value],MATCH(\"Span Wire Weight (plf)\",DesignConstants[Design Constant],0)),0)","v":1.155},0,66.412500000000009,{"$error":"#N/A"},{"$error":"#N/A"},{"$error":"#VALUE!"},{"$error":"#VALUE!"},{"$f":"IF(B88=\"\",0,INDEX(SignalHeads[Height ** (feet)],MATCH(B88,SignalHeads[Code],0)))","v":0},{"$f":"IF(L88=0,\"\",ROUNDDOWN(12*(((J88-L88)-MIN($J$31:$J$230-$L$31:$L$230)-(MAX($L$31:$L$230*(($J$31:$J$230-$L$31:$L$230)=MIN($J$31:$J$230-$L$31:$L$230)))-L88))+(MIN($J$31:$J$230-$L$31:$L$230)-$I$19)),0)/12)","v":""},"",{"$error":"#VALUE!"},17]
[59,null,{"$f":"IF(B89=\"\",0,INDEX(SignalHeads[Perp. Wind Area (sft)],MATCH(B89,SignalHeads[Code],0)))","v":0},{"$f":"IF(B89=\"\",\"\",INDEX(SignalHeads[Weight*** (lbs)],MATCH(B89,SignalHeads[Code],0)))","v":""},{"$f":"IF(A89<=$I$17,INDEX(DesignConstants[Value],MATCH(\"Span Wire Weight (plf)\",DesignConstants[Design Constant],0)),0)","v":1.155},0,67.567499999999995,{"$error":"#N/A"},{"$error":"#N/A"},{"$error":"#VALUE!"},{"$error":"#VALUE!"},{"$f":"IF(B89=\"\",0,INDEX(SignalHeads[Height ** (feet)],MATCH(B89,SignalHeads[Code],0)))","v":0},{"$f":"IF(L89=0,\"\",ROUNDDOWN(12*(((J89-L89)-MIN($J$31:$J$230-$L$31:$L$230)-(MAX($L$31:$L$230*(($J$31:$J$230-$L$31:$L$230)=MIN($J$31:$J$230-$L$31:$L$230)))-L89))+(MIN($J$31:$J$230-$L$31:$L$230)-$I$19)),0)/12)","v":""},"",{"$error":"#VALUE!"},17]
[60,null,{"$f":"IF(B90=\"\",0,INDEX(SignalHeads[Perp. Wind Area (sft)],MATCH(B90,SignalHeads[Code],0)))","v":0},{"$f":"IF(B90=\"\",\"\",INDEX(SignalHeads[Weight*** (lbs)],MATCH(B90,SignalHeads[Code],0)))","v":""},{"$f":"IF(A90<=$I$17,INDEX(DesignConstants[Value],MATCH(\"Span Wire Weight (plf)\",DesignConstants[Design Constant],0)),0)","v":1.155},0,68.722499999999997,{"$error":"#N/A"},{"$error":"#N/A"},{"$error":"#VALUE!"},{"$error":"#VALUE!"},{"$f":"IF(B90=\"\",0,INDEX(SignalHeads[Height ** (feet)],MATCH(B90,SignalHeads[Code],0)))","v":0},{"$f":"IF(L90=0,\"\",ROUNDDOWN(12*(((J90-L90)-MIN($J$31:$J$230-$L$31:$L$230)-(MAX($L$31:$L$230*(($J$31:$J$230-$L$31:$L$230)=MIN($J$31:$J$230-$L$31:$L$230)))-L90))+(MIN($J$31:$J$230-$L$31:$L$230)-$I$19)),0)/12)","v":""},"",{"$error":"#VALUE!"},17]
[61,null,{"$f":"IF(B91=\"\",0,INDEX(SignalHeads[Perp. Wind Area (sft)],MATCH(B91,SignalHeads[Code],0)))","v":0},{"$f":"IF(B91=\"\",\"\",INDEX(SignalHeads[Weight*** (lbs)],MATCH(B91,SignalHeads[Code],0)))","v":""},{"$f":"IF(A91<=$I$17,INDEX(DesignConstants[Value],MATCH(\"Span Wire Weight (plf)\",DesignConstants[Design Constant],0)),0)","v":1.155},0,69.877499999999998,{"$error":"#N/A"},{"$error":"#N/A"},{"$error":"#VALUE!"},{"$error":"#VALUE!"},{"$f":"IF(B91=\"\",0,INDEX(SignalHeads[Height ** (feet)],MATCH(B91,SignalHeads[Code],0)))","v":0},{"$f":"IF(L91=0,\"\",ROUNDDOWN(12*(((J91-L91)-MIN($J$31:$J$230-$L$31:$L$230)-(MAX($L$31:$L$230*(($J$31:$J$230-$L$31:$L$230)=MIN($J$31:$J$230-$L$31:$L$230)))-L91))+(MIN($J$31:$J$230-$L$31:$L$230)-$I$19)),0)/12)","v":""},"",{"$error":"#VALUE!"},17]
[62,null,{"$f":"IF(B92=\"\",0,INDEX(SignalHeads[Perp. Wind Area (sft)],MATCH(B92,SignalHeads[Code],0)))","v":0},{"$f":"IF(B92=\"\",\"\",INDEX(SignalHeads[Weight*** (lbs)],MATCH(B92,SignalHeads[Code],0)))","v":""},{"$f":"IF(A92<=$I$17,INDEX(DesignConstants[Value],MATCH(\"Span Wire Weight (plf)\",DesignConstants[Design Constant],0)),0)","v":1.155},0,71.032499999999999,{"$error":"#N/A"},{"$error":"#N/A"},{"$error":"#VALUE!"},{"$error":"#VALUE!"},{"$f":"IF(B92=\"\",0,INDEX(SignalHeads[Height ** (feet)],MATCH(B92,SignalHeads[Code],0)))","v":0},{"$f":"IF(L92=0,\"\",ROUNDDOWN(12*(((J92-L92)-MIN($J$31:$J$230-$L$31:$L$230)-(MAX($L$31:$L$230*(($J$31:$J$230-$L$31:$L$230)=MIN($J$31:$J$230-$L$31:$L$230)))-L92))+(MIN($J$31:$J$230-$L$31:$L$230)-$I$19)),0)/12)","v":""},"",{"$error":"#VALUE!"},17]
[63,null,{"$f":"IF(B93=\"\",0,INDEX(SignalHeads[Perp. Wind Area (sft)],MATCH(B93,SignalHeads[Code],0)))","v":0},{"$f":"IF(B93=\"\",\"\",INDEX(SignalHeads[Weight*** (lbs)],MATCH(B93,SignalHeads[Code],0)))","v":""},{"$f":"IF(A93<=$I$17,INDEX(DesignConstants[Value],MATCH(\"Span Wire Weight (plf)\",DesignConstants[Design Constant],0)),0)","v":1.155},0,72.1875,{"$error":"#N/A"},{"$error":"#N/A"},{"$error":"#VALUE!"},{"$error":"#VALUE!"},{"$f":"IF(B93=\"\",0,INDEX(SignalHeads[Height ** (feet)],MATCH(B93,SignalHeads[Code],0)))","v":0},{"$f":"IF(L93=0,\"\",ROUNDDOWN(12*(((J93-L93)-MIN($J$31:$J$230-$L$31:$L$230)-(MAX($L$31:$L$230*(($J$31:$J$230-$L$31:$L$230)=MIN($J$31:$J$230-$L$31:$L$230)))-L93))+(MIN($J$31:$J$230-$L$31:$L$230)-$I$19)),0)/12)","v":""},"",{"$error":"#VALUE!"},17]
[64,null,{"$f":"IF(B94=\"\",0,INDEX(SignalHeads[Perp. Wind Area (sft)],MATCH(B94,SignalHeads[Code],0)))","v":0},{"$f":"IF(B94=\"\",\"\",INDEX(SignalHeads[Weight*** (lbs)],MATCH(B94,SignalHeads[Code],0)))","v":""},{"$f":"IF(A94<=$I$17,INDEX(DesignConstants[Value],MATCH(\"Span Wire Weight (plf)\",DesignConstants[Design Constant],0)),0)","v":1.155},0,73.342500000000001,{"$error":"#N/A"},{"$error":"#N/A"},{"$error":"#VALUE!"},{"$error":"#VALUE!"},{"$f":"IF(B94=\"\",0,INDEX(SignalHeads[Height ** (feet)],MATCH(B94,SignalHeads[Code],0)))","v":0},{"$f":"IF(L94=0,\"\",ROUNDDOWN(12*(((J94-L94)-MIN($J$31:$J$230-$L$31:$L$230)-(MAX($L$31:$L$230*(($J$31:$J$230-$L$31:$L$230)=MIN($J$31:$J$230-$L$31:$L$230)))-L94))+(MIN($J$31:$J$230-$L$31:$L$230)-$I$19)),0)/12)","v":""},"",{"$error":"#VALUE!"},17]
[65,null,{"$f":"IF(B95=\"\",0,INDEX(SignalHeads[Perp. Wind Area (sft)],MATCH(B95,SignalHeads[Code],0)))","v":0},{"$f":"IF(B95=\"\",\"\",INDEX(SignalHeads[Weight*** (lbs)],MATCH(B95,SignalHeads[Code],0)))","v":""},{"$f":"IF(A95<=$I$17,INDEX(DesignConstants[Value],MATCH(\"Span Wire Weight (plf)\",DesignConstants[Design Constant],0)),0)","v":1.155},0,{"$f":"+E95*(A95-0.5)","v":74.497500000000002},{"$error":"#N/A"},{"$error":"#N/A"},{"$error":"#VALUE!"},{"$f":"IF(A95>$I$17,0,($N$24-$N$15)/$I$17*A95+$N$15)","v":{"$error":"#VALUE!"}},{"$f":"IF(B95=\"\",0,INDEX(SignalHeads[Height ** (feet)],MATCH(B95,SignalHeads[Code],0)))","v":0},{"$f":"IF(L95=0,\"\",ROUNDDOWN(12*(((J95-L95)-MIN($J$31:$J$230-$L$31:$L$230)-(MAX($L$31:$L$230*(($J$31:$J$230-$L$31:$L$230)=MIN($J$31:$J$230-$L$31:$L$230)))-L95))+(MIN($J$31:$J$230-$L$31:$L$230)-$I$19)),0)/12)","v":""},"",{"$error":"#VALUE!"},{"$f":"$I$19","v":17}]
[66,null,{"$f":"IF(B96=\"\",0,INDEX(SignalHeads[Perp. Wind Area (sft)],MATCH(B96,SignalHeads[Code],0)))","v":0},{"$f":"IF(B96=\"\",\"\",INDEX(SignalHeads[Weight*** (lbs)],MATCH(B96,SignalHeads[Code],0)))","v":""},{"$f":"IF(A96<=$I$17,INDEX(DesignConstants[Value],MATCH(\"Span Wire Weight (plf)\",DesignConstants[Design Constant],0)),0)","v":1.155},{"$f":"IF(B96=\"\",0,+D96*A96)","v":0},75.652500000000003,{"$f":"H95+(IF(B96=\"\",0,D96))+E96","v":{"$error":"#N/A"}},{"$f":"(0.5*E96+(IF(B96=\"\",0,D96))+H95)/$I$13","v":{"$error":"#N/A"}},{"$error":"#VALUE!"},{"$error":"#VALUE!"},{"$f":"IF(B96=\"\",0,INDEX(SignalHeads[Height ** (feet)],MATCH(B96,SignalHeads[Code],0)))","v":0},{"$f":"IF(L96=0,\"\",ROUNDDOWN(12*(((J96-L96)-MIN($J$31:$J$230-$L$31:$L$230)-(MAX($L$31:$L$230*(($J$31:$J$230-$L$31:$L$230)=MIN($J$31:$J$230-$L$31:$L$230)))-L96))+(MIN($J$31:$J$230-$L$31:$L$230)-$I$19)),0)/12)","v":""},{"$f":"IF(M96=\"\",\"\",INT(M96)&\"'-\"&ROUND((M96-INT(M96))*12,0)&\"\"\"\")","v":""},{"$f":"IF(A96<=$I$17,J96-L96-IF(ISNUMBER(M96),M96,0),\"\")","v":{"$error":"#VALUE!"}},17]
[67,null,{"$f":"IF(B97=\"\",0,INDEX(SignalHeads[Perp. Wind Area (sft)],MATCH(B97,SignalHeads[Code],0)))","v":0},{"$f":"IF(B97=\"\",\"\",INDEX(SignalHeads[Weight*** (lbs)],MATCH(B97,SignalHeads[Code],0)))","v":""},{"$f":"IF(A97<=$I$17,INDEX(DesignConstants[Value],MATCH(\"Span Wire Weight (plf)\",DesignConstants[Design Constant],0)),0)","v":1.155},0,76.807500000000005,{"$error":"#N/A"},{"$error":"#N/A"},{"$error":"#VALUE!"},{"$error":"#VALUE!"},{"$f":"IF(B97=\"\",0,INDEX(SignalHeads[Height ** (feet)],MATCH(B97,SignalHeads[Code],0)))","v":0},{"$f":"IF(L97=0,\"\",ROUNDDOWN(12*(((J97-L97)-MIN($J$31:$J$230-$L$31:$L$230)-(MAX($L$31:$L$230*(($J$31:$J$230-$L$31:$L$230)=MIN($J$31:$J$230-$L$31:$L$230)))-L97))+(MIN($J$31:$J$230-$L$31:$L$230)-$I$19)),0)/12)","v":""},"",{"$error":"#VALUE!"},17]
[68,null,{"$f":"IF(B98=\"\",0,INDEX(SignalHeads[Perp. Wind Area (sft)],MATCH(B98,SignalHeads[Code],0)))","v":0},{"$f":"IF(B98=\"\",\"\",INDEX(SignalHeads[Weight*** (lbs)],MATCH(B98,SignalHeads[Code],0)))","v":""},{"$f":"IF(A98<=$I$17,INDEX(DesignConstants[Value],MATCH(\"Span Wire Weight (plf)\",DesignConstants[Design Constant],0)),0)","v":1.155},0,77.962500000000006,{"$error":"#N/A"},{"$error":"#N/A"},{"$f":"+J97+I98","v":{"$error":"#VALUE!"}},{"$error":"#VALUE!"},{"$f":"IF(B98=\"\",0,INDEX(SignalHeads[Height ** (feet)],MATCH(B98,SignalHeads[Code],0)))","v":0},{"$f":"IF(L98=0,\"\",ROUNDDOWN(12*(((J98-L98)-MIN($J$31:$J$230-$L$31:$L$230)-(MAX($L$31:$L$230*(($J$31:$J$230-$L$31:$L$230)=MIN($J$31:$J$230-$L$31:$L$230)))-L98))+(MIN($J$31:$J$230-$L$31:$L$230)-$I$19)),0)/12)","v":""},"",{"$error":"#VALUE!"},17]
[69,null,{"$f":"IF(B99=\"\",0,INDEX(SignalHeads[Perp. Wind Area (sft)],MATCH(B99,SignalHeads[Code],0)))","v":0},{"$f":"IF(B99=\"\",\"\",INDEX(SignalHeads[Weight*** (lbs)],MATCH(B99,SignalHeads[Code],0)))","v":""},{"$f":"IF(A99<=$I$17,INDEX(DesignConstants[Value],MATCH(\"Span Wire Weight (plf)\",DesignConstants[Design Constant],0)),0)","v":1.155},0,79.117500000000007,{"$error":"#N/A"},{"$error":"#N/A"},{"$error":"#VALUE!"},{"$error":"#VALUE!"},{"$f":"IF(B99=\"\",0,INDEX(SignalHeads[Height ** (feet)],MATCH(B99,SignalHeads[Code],0)))","v":0},{"$f":"IF(L99=0,\"\",ROUNDDOWN(12*(((J99-L99)-MIN($J$31:$J$230-$L$31:$L$230)-(MAX($L$31:$L$230*(($J$31:$J$230-$L$31:$L$230)=MIN($J$31:$J$230-$L$31:$L$230)))-L99))+(MIN($J$31:$J$230-$L$31:$L$230)-$I$19)),0)/12)","v":""},"",{"$error":"#VALUE!"},17]
[70,null,{"$f":"IF(B100=\"\",0,INDEX(SignalHeads[Perp. Wind Area (sft)],MATCH(B100,SignalHeads[Code],0)))","v":0},{"$f":"IF(B100=\"\",\"\",INDEX(SignalHeads[Weight*** (lbs)],MATCH(B100,SignalHeads[Code],0)))","v":""},{"$f":"IF(A100<=$I$17,INDEX(DesignConstants[Value],MATCH(\"Span Wire Weight (plf)\",DesignConstants[Design Constant],0)),0)","v":1.155},0,80.272500000000008,{"$error":"#N/A"},{"$error":"#N/A"},{"$error":"#VALUE!"},{"$error":"#VALUE!"},{"$f":"IF(B100=\"\",0,INDEX(SignalHeads[Height ** (feet)],MATCH(B100,SignalHeads[Code],0)))","v":0},{"$f":"IF(L100=0,\"\",ROUNDDOWN(12*(((J100-L100)-MIN($J$31:$J$230-$L$31:$L$230)-(MAX($L$31:$L$230*(($J$31:$J$230-$L$31:$L$230)=MIN($J$31:$J$230-$L$31:$L$230)))-L100))+(MIN($J$31:$J$230-$L$31:$L$230)-$I$19)),0)/12)","v":""},"",{"$error":"#VALUE!"},17]
[71,null,{"$f":"IF(B101=\"\",0,INDEX(SignalHeads[Perp. Wind Area (sft)],MATCH(B101,SignalHeads[Code],0)))","v":0},{"$f":"IF(B101=\"\",\"\",INDEX(SignalHeads[Weight*** (lbs)],MATCH(B101,SignalHeads[Code],0)))","v":""},{"$f":"IF(A101<=$I$17,INDEX(DesignConstants[Value],MATCH(\"Span Wire Weight (plf)\",DesignConstants[Design Constant],0)),0)","v":1.155},0,81.427499999999995,{"$error":"#N/A"},{"$error":"#N/A"},{"$error":"#VALUE!"},{"$error":"#VALUE!"},{"$f":"IF(B101=\"\",0,INDEX(SignalHeads[Height ** (feet)],MATCH(B101,SignalHeads[Code],0)))","v":0},{"$f":"IF(L101=0,\"\",ROUNDDOWN(12*(((J101-L101)-MIN($J$31:$J$230-$L$31:$L$230)-(MAX($L$31:$L$230*(($J$31:$J$230-$L$31:$L$230)=MIN($J$31:$J$230-$L$31:$L$230)))-L101))+(MIN($J$31:$J$230-$L$31:$L$230)-$I$19)),0)/12)","v":""},"",{"$error":"#VALUE!"},17]
[72,null,{"$f":"IF(B102=\"\",0,INDEX(SignalHeads[Perp. Wind Area (sft)],MATCH(B102,SignalHeads[Code],0)))","v":0},{"$f":"IF(B102=\"\",\"\",INDEX(SignalHeads[Weight*** (lbs)],MATCH(B102,SignalHeads[Code],0)))","v":""},{"$f":"IF(A102<=$I$17,INDEX(DesignConstants[Value],MATCH(\"Span Wire Weight (plf)\",DesignConstants[Design Constant],0)),0)","v":1.155},0,82.582499999999996,{"$error":"#N/A"},{"$error":"#N/A"},{"$error":"#VALUE!"},{"$error":"#VALUE!"},{"$f":"IF(B102=\"\",0,INDEX(SignalHeads[Height ** (feet)],MATCH(B102,SignalHeads[Code],0)))","v":0},{"$f":"IF(L102=0,\"\",ROUNDDOWN(12*(((J102-L102)-MIN($J$31:$J$230-$L$31:$L$230)-(MAX($L$31:$L$230*(($J$31:$J$230-$L$31:$L$230)=MIN($J$31:$J$230-$L$31:$L$230)))-L102))+(MIN($J$31:$J$230-$L$31:$L$230)-$I$19)),0)/12)","v":""},"",{"$error":"#VALUE!"},17]
[73,null,{"$f":"IF(B103=\"\",0,INDEX(SignalHeads[Perp. Wind Area (sft)],MATCH(B103,SignalHeads[Code],0)))","v":0},{"$f":"IF(B103=\"\",\"\",INDEX(SignalHeads[Weight*** (lbs)],MATCH(B103,SignalHeads[Code],0)))","v":""},{"$f":"IF(A103<=$I$17,INDEX(DesignConstants[Value],MATCH(\"Span Wire Weight (plf)\",DesignConstants[Design Constant],0)),0)","v":1.155},0,83.737499999999997,{"$error":"#N/A"},{"$error":"#N/A"},{"$error":"#VALUE!"},{"$error":"#VALUE!"},{"$f":"IF(B103=\"\",0,INDEX(SignalHeads[Height ** (feet)],MATCH(B103,SignalHeads[Code],0)))","v":0},{"$f":"IF(L103=0,\"\",ROUNDDOWN(12*(((J103-L103)-MIN($J$31:$J$230-$L$31:$L$230)-(MAX($L$31:$L$230*(($J$31:$J$230-$L$31:$L$230)=MIN($J$31:$J$230-$L$31:$L$230)))-L103))+(MIN($J$31:$J$230-$L$31:$L$230)-$I$19)),0)/12)","v":""},"",{"$error":"#VALUE!"},17]
[74,null,{"$f":"IF(B104=\"\",0,INDEX(SignalHeads[Perp. Wind Area (sft)],MATCH(B104,SignalHeads[Code],0)))","v":0},{"$f":"IF(B104=\"\",\"\",INDEX(SignalHeads[Weight*** (lbs)],MATCH(B104,SignalHeads[Code],0)))","v":""},{"$f":"IF(A104<=$I$17,INDEX(DesignConstants[Value],MATCH(\"Span Wire Weight (plf)\",DesignConstants[Design Constant],0)),0)","v":1.155},0,84.892499999999998,{"$error":"#N/A"},{"$error":"#N/A"},{"$error":"#VALUE!"},{"$error":"#VALUE!"},{"$f":"IF(B104=\"\",0,INDEX(SignalHeads[Height ** (feet)],MATCH(B104,SignalHeads[Code],0)))","v":0},{"$f":"IF(L104=0,\"\",ROUNDDOWN(12*(((J104-L104)-MIN($J$31:$J$230-$L$31:$L$230)-(MAX($L$31:$L$230*(($J$31:$J$230-$L$31:$L$230)=MIN($J$31:$J$230-$L$31:$L$230)))-L104))+(MIN($J$31:$J$230-$L$31:$L$230)-$I$19)),0)/12)","v":""},"",{"$error":"#VALUE!"},17]
[75,null,{"$f":"IF(B105=\"\",0,INDEX(SignalHeads[Perp. Wind Area (sft)],MATCH(B105,SignalHeads[Code],0)))","v":0},{"$f":"IF(B105=\"\",\"\",INDEX(SignalHeads[Weight*** (lbs)],MATCH(B105,SignalHeads[Code],0)))","v":""},{"$f":"IF(A105<=$I$17,INDEX(DesignConstants[Value],MATCH(\"Span Wire Weight (plf)\",DesignConstants[Design Constant],0)),0)","v":1.155},0,86.047499999999999,{"$error":"#N/A"},{"$error":"#N/A"},{"$error":"#VALUE!"},{"$error":"#VALUE!"},{"$f":"IF(B105=\"\",0,INDEX(SignalHeads[Height ** (feet)],MATCH(B105,SignalHeads[Code],0)))","v":0},{"$f":"IF(L105=0,\"\",ROUNDDOWN(12*(((J105-L105)-MIN($J$31:$J$230-$L$31:$L$230)-(MAX($L$31:$L$230*(($J$31:$J$230-$L$31:$L$230)=MIN($J$31:$J$230-$L$31:$L$230)))-L105))+(MIN($J$31:$J$230-$L$31:$L$230)-$I$19)),0)/12)","v":""},"",{"$error":"#VALUE!"},17]
[76,null,{"$f":"IF(B106=\"\",0,INDEX(SignalHeads[Perp. Wind Area (sft)],MATCH(B106,SignalHeads[Code],0)))","v":0},{"$f":"IF(B106=\"\",\"\",INDEX(SignalHeads[Weight*** (lbs)],MATCH(B106,SignalHeads[Code],0)))","v":""},{"$f":"IF(A106<=$I$17,INDEX(DesignConstants[Value],MATCH(\"Span Wire Weight (plf)\",DesignConstants[Design Constant],0)),0)","v":1.155},0,87.202500000000001,{"$error":"#N/A"},{"$error":"#N/A"},{"$error":"#VALUE!"},{"$error":"#VALUE!"},{"$f":"IF(B106=\"\",0,INDEX(SignalHeads[Height ** (feet)],MATCH(B106,SignalHeads[Code],0)))","v":0},{"$f":"IF(L106=0,\"\",ROUNDDOWN(12*(((J106-L106)-MIN($J$31:$J$230-$L$31:$L$230)-(MAX($L$31:$L$230*(($J$31:$J$230-$L$31:$L$230)=MIN($J$31:$J$230-$L$31:$L$230)))-L106))+(MIN($J$31:$J$230-$L$31:$L$230)-$I$19)),0)/12)","v":""},"",{"$error":"#VALUE!"},17]
[77,null,{"$f":"IF(B107=\"\",0,INDEX(SignalHeads[Perp. Wind Area (sft)],MATCH(B107,SignalHeads[Code],0)))","v":0},{"$f":"IF(B107=\"\",\"\",INDEX(SignalHeads[Weight*** (lbs)],MATCH(B107,SignalHeads[Code],0)))","v":""},{"$f":"IF(A107<=$I$17,INDEX(DesignConstants[Value],MATCH(\"Span Wire Weight (plf)\",DesignConstants[Design Constant],0)),0)","v":1.155},0,88.357500000000002,{"$error":"#N/A"},{"$error":"#N/A"},{"$error":"#VALUE!"},{"$error":"#VALUE!"},{"$f":"IF(B107=\"\",0,INDEX(SignalHeads[Height ** (feet)],MATCH(B107,SignalHeads[Code],0)))","v":0},{"$f":"IF(L107=0,\"\",ROUNDDOWN(12*(((J107-L107)-MIN($J$31:$J$230-$L$31:$L$230)-(MAX($L$31:$L$230*(($J$31:$J$230-$L$31:$L$230)=MIN($J$31:$J$230-$L$31:$L$230)))-L107))+(MIN($J$31:$J$230-$L$31:$L$230)-$I$19)),0)/12)","v":""},"",{"$error":"#VALUE!"},17]
[78,null,{"$f":"IF(B108=\"\",0,INDEX(SignalHeads[Perp. Wind Area (sft)],MATCH(B108,SignalHeads[Code],0)))","v":0},{"$f":"IF(B108=\"\",\"\",INDEX(SignalHeads[Weight*** (lbs)],MATCH(B108,SignalHeads[Code],0)))","v":""},{"$f":"IF(A108<=$I$17,INDEX(DesignConstants[Value],MATCH(\"Span Wire Weight (plf)\",DesignConstants[Design Constant],0)),0)","v":1.155},0,89.512500000000003,{"$error":"#N/A"},{"$error":"#N/A"},{"$error":"#VALUE!"},{"$error":"#VALUE!"},{"$f":"IF(B108=\"\",0,INDEX(SignalHeads[Height ** (feet)],MATCH(B108,SignalHeads[Code],0)))","v":0},{"$f":"IF(L108=0,\"\",ROUNDDOWN(12*(((J108-L108)-MIN($J$31:$J$230-$L$31:$L$230)-(MAX($L$31:$L$230*(($J$31:$J$230-$L$31:$L$230)=MIN($J$31:$J$230-$L$31:$L$230)))-L108))+(MIN($J$31:$J$230-$L$31:$L$230)-$I$19)),0)/12)","v":""},"",{"$error":"#VALUE!"},17]
[79,null,{"$f":"IF(B109=\"\",0,INDEX(SignalHeads[Perp. Wind Area (sft)],MATCH(B109,SignalHeads[Code],0)))","v":0},{"$f":"IF(B109=\"\",\"\",INDEX(SignalHeads[Weight*** (lbs)],MATCH(B109,SignalHeads[Code],0)))","v":""},{"$f":"IF(A109<=$I$17,INDEX(DesignConstants[Value],MATCH(\"Span Wire Weight (plf)\",DesignConstants[Design Constant],0)),0)","v":1.155},0,90.667500000000004,{"$error":"#N/A"},{"$error":"#N/A"},{"$error":"#VALUE!"},{"$error":"#VALUE!"},{"$f":"IF(B109=\"\",0,INDEX(SignalHeads[Height ** (feet)],MATCH(B109,SignalHeads[Code],0)))","v":0},{"$f":"IF(L109=0,\"\",ROUNDDOWN(12*(((J109-L109)-MIN($J$31:$J$230-$L$31:$L$230)-(MAX($L$31:$L$230*(($J$31:$J$230-$L$31:$L$230)=MIN($J$31:$J$230-$L$31:$L$230)))-L109))+(MIN($J$31:$J$230-$L$31:$L$230)-$I$19)),0)/12)","v":""},"",{"$error":"#VALUE!"},17]
[80,null,{"$f":"IF(B110=\"\",0,INDEX(SignalHeads[Perp. Wind Area (sft)],MATCH(B110,SignalHeads[Code],0)))","v":0},{"$f":"IF(B110=\"\",\"\",INDEX(SignalHeads[Weight*** (lbs)],MATCH(B110,SignalHeads[Code],0)))","v":""},{"$f":"IF(A110<=$I$17,INDEX(DesignConstants[Value],MATCH(\"Span Wire Weight (plf)\",DesignConstants[Design Constant],0)),0)","v":1.155},0,91.822500000000005,{"$error":"#N/A"},{"$error":"#N/A"},{"$error":"#VALUE!"},{"$error":"#VALUE!"},{"$f":"IF(B110=\"\",0,INDEX(SignalHeads[Height ** (feet)],MATCH(B110,SignalHeads[Code],0)))","v":0},{"$f":"IF(L110=0,\"\",ROUNDDOWN(12*(((J110-L110)-MIN($J$31:$J$230-$L$31:$L$230)-(MAX($L$31:$L$230*(($J$31:$J$230-$L$31:$L$230)=MIN($J$31:$J$230-$L$31:$L$230)))-L110))+(MIN($J$31:$J$230-$L$31:$L$230)-$I$19)),0)/12)","v":""},"",{"$error":"#VALUE!"},17]
[81,null,{"$f":"IF(B111=\"\",0,INDEX(SignalHeads[Perp. Wind Area (sft)],MATCH(B111,SignalHeads[Code],0)))","v":0},{"$f":"IF(B111=\"\",\"\",INDEX(SignalHeads[Weight*** (lbs)],MATCH(B111,SignalHeads[Code],0)))","v":""},{"$f":"IF(A111<=$I$17,INDEX(DesignConstants[Value],MATCH(\"Span Wire Weight (plf)\",DesignConstants[Design Constant],0)),0)","v":1.155},0,92.977500000000006,{"$error":"#N/A"},{"$error":"#N/A"},{"$error":"#VALUE!"},{"$error":"#VALUE!"},{"$f":"IF(B111=\"\",0,INDEX(SignalHeads[Height ** (feet)],MATCH(B111,SignalHeads[Code],0)))","v":0},{"$f":"IF(L111=0,\"\",ROUNDDOWN(12*(((J111-L111)-MIN($J$31:$J$230-$L$31:$L$230)-(MAX($L$31:$L$230*(($J$31:$J$230-$L$31:$L$230)=MIN($J$31:$J$230-$L$31:$L$230)))-L111))+(MIN($J$31:$J$230-$L$31:$L$230)-$I$19)),0)/12)","v":""},"",{"$error":"#VALUE!"},17]
[82,null,{"$f":"IF(B112=\"\",0,INDEX(SignalHeads[Perp. Wind Area (sft)],MATCH(B112,SignalHeads[Code],0)))","v":0},{"$f":"IF(B112=\"\",\"\",INDEX(SignalHeads[Weight*** (lbs)],MATCH(B112,SignalHeads[Code],0)))","v":""},{"$f":"IF(A112<=$I$17,INDEX(DesignConstants[Value],MATCH(\"Span Wire Weight (plf)\",DesignConstants[Design Constant],0)),0)","v":1.155},0,94.132500000000007,{"$error":"#N/A"},{"$error":"#N/A"},{"$error":"#VALUE!"},{"$error":"#VALUE!"},{"$f":"IF(B112=\"\",0,INDEX(SignalHeads[Height ** (feet)],MATCH(B112,SignalHeads[Code],0)))","v":0},{"$f":"IF(L112=0,\"\",ROUNDDOWN(12*(((J112-L112)-MIN($J$31:$J$230-$L$31:$L$230)-(MAX($L$31:$L$230*(($J$31:$J$230-$L$31:$L$230)=MIN($J$31:$J$230-$L$31:$L$230)))-L112))+(MIN($J$31:$J$230-$L$31:$L$230)-$I$19)),0)/12)","v":""},"",{"$error":"#VALUE!"},17]
[83,null,{"$f":"IF(B113=\"\",0,INDEX(SignalHeads[Perp. Wind Area (sft)],MATCH(B113,SignalHeads[Code],0)))","v":0},{"$f":"IF(B113=\"\",\"\",INDEX(SignalHeads[Weight*** (lbs)],MATCH(B113,SignalHeads[Code],0)))","v":""},{"$f":"IF(A113<=$I$17,INDEX(DesignConstants[Value],MATCH(\"Span Wire Weight (plf)\",DesignConstants[Design Constant],0)),0)","v":1.155},0,95.287500000000009,{"$error":"#N/A"},{"$error":"#N/A"},{"$error":"#VALUE!"},{"$error":"#VALUE!"},{"$f":"IF(B113=\"\",0,INDEX(SignalHeads[Height ** (feet)],MATCH(B113,SignalHeads[Code],0)))","v":0},{"$f":"IF(L113=0,\"\",ROUNDDOWN(12*(((J113-L113)-MIN($J$31:$J$230-$L$31:$L$230)-(MAX($L$31:$L$230*(($J$31:$J$230-$L$31:$L$230)=MIN($J$31:$J$230-$L$31:$L$230)))-L113))+(MIN($J$31:$J$230-$L$31:$L$230)-$I$19)),0)/12)","v":""},"",{"$error":"#VALUE!"},17]
[84,null,{"$f":"IF(B114=\"\",0,INDEX(SignalHeads[Perp. Wind Area (sft)],MATCH(B114,SignalHeads[Code],0)))","v":0},{"$f":"IF(B114=\"\",\"\",INDEX(SignalHeads[Weight*** (lbs)],MATCH(B114,SignalHeads[Code],0)))","v":""},{"$f":"IF(A114<=$I$17,INDEX(DesignConstants[Value],MATCH(\"Span Wire Weight (plf)\",DesignConstants[Design Constant],0)),0)","v":1.155},0,96.442499999999995,{"$error":"#N/A"},{"$error":"#N/A"},{"$error":"#VALUE!"},{"$error":"#VALUE!"},{"$f":"IF(B114=\"\",0,INDEX(SignalHeads[Height ** (feet)],MATCH(B114,SignalHeads[Code],0)))","v":0},{"$f":"IF(L114=0,\"\",ROUNDDOWN(12*(((J114-L114)-MIN($J$31:$J$230-$L$31:$L$230)-(MAX($L$31:$L$230*(($J$31:$J$230-$L$31:$L$230)=MIN($J$31:$J$230-$L$31:$L$230)))-L114))+(MIN($J$31:$J$230-$L$31:$L$230)-$I$19)),0)/12)","v":""},"",{"$error":"#VALUE!"},17]
[85,null,{"$f":"IF(B115=\"\",0,INDEX(SignalHeads[Perp. Wind Area (sft)],MATCH(B115,SignalHeads[Code],0)))","v":0},{"$f":"IF(B115=\"\",\"\",INDEX(SignalHeads[Weight*** (lbs)],MATCH(B115,SignalHeads[Code],0)))","v":""},{"$f":"IF(A115<=$I$17,INDEX(DesignConstants[Value],MATCH(\"Span Wire Weight (plf)\",DesignConstants[Design Constant],0)),0)","v":1.155},0,97.597499999999997,{"$error":"#N/A"},{"$error":"#N/A"},{"$error":"#VALUE!"},{"$error":"#VALUE!"},{"$f":"IF(B115=\"\",0,INDEX(SignalHeads[Height ** (feet)],MATCH(B115,SignalHeads[Code],0)))","v":0},{"$f":"IF(L115=0,\"\",ROUNDDOWN(12*(((J115-L115)-MIN($J$31:$J$230-$L$31:$L$230)-(MAX($L$31:$L$230*(($J$31:$J$230-$L$31:$L$230)=MIN($J$31:$J$230-$L$31:$L$230)))-L115))+(MIN($J$31:$J$230-$L$31:$L$230)-$I$19)),0)/12)","v":""},"",{"$error":"#VALUE!"},17]
[86,null,{"$f":"IF(B116=\"\",0,INDEX(SignalHeads[Perp. Wind Area (sft)],MATCH(B116,SignalHeads[Code],0)))","v":0},{"$f":"IF(B116=\"\",\"\",INDEX(SignalHeads[Weight*** (lbs)],MATCH(B116,SignalHeads[Code],0)))","v":""},{"$f":"IF(A116<=$I$17,INDEX(DesignConstants[Value],MATCH(\"Span Wire Weight (plf)\",DesignConstants[Design Constant],0)),0)","v":1.155},0,98.752499999999998,{"$error":"#N/A"},{"$error":"#N/A"},{"$error":"#VALUE!"},{"$error":"#VALUE!"},{"$f":"IF(B116=\"\",0,INDEX(SignalHeads[Height ** (feet)],MATCH(B116,SignalHeads[Code],0)))","v":0},{"$f":"IF(L116=0,\"\",ROUNDDOWN(12*(((J116-L116)-MIN($J$31:$J$230-$L$31:$L$230)-(MAX($L$31:$L$230*(($J$31:$J$230-$L$31:$L$230)=MIN($J$31:$J$230-$L$31:$L$230)))-L116))+(MIN($J$31:$J$230-$L$31:$L$230)-$I$19)),0)/12)","v":""},"",{"$error":"#VALUE!"},17]
[87,null,{"$f":"IF(B117=\"\",0,INDEX(SignalHeads[Perp. Wind Area (sft)],MATCH(B117,SignalHeads[Code],0)))","v":0},{"$f":"IF(B117=\"\",\"\",INDEX(SignalHeads[Weight*** (lbs)],MATCH(B117,SignalHeads[Code],0)))","v":""},{"$f":"IF(A117<=$I$17,INDEX(DesignConstants[Value],MATCH(\"Span Wire Weight (plf)\",DesignConstants[Design Constant],0)),0)","v":1.155},0,99.907499999999999,{"$error":"#N/A"},{"$error":"#N/A"},{"$error":"#VALUE!"},{"$error":"#VALUE!"},{"$f":"IF(B117=\"\",0,INDEX(SignalHeads[Height ** (feet)],MATCH(B117,SignalHeads[Code],0)))","v":0},{"$f":"IF(L117=0,\"\",ROUNDDOWN(12*(((J117-L117)-MIN($J$31:$J$230-$L$31:$L$230)-(MAX($L$31:$L$230*(($J$31:$J$230-$L$31:$L$230)=MIN($J$31:$J$230-$L$31:$L$230)))-L117))+(MIN($J$31:$J$230-$L$31:$L$230)-$I$19)),0)/12)","v":""},"",{"$error":"#VALUE!"},17]
[88,null,{"$f":"IF(B118=\"\",0,INDEX(SignalHeads[Perp. Wind Area (sft)],MATCH(B118,SignalHeads[Code],0)))","v":0},{"$f":"IF(B118=\"\",\"\",INDEX(SignalHeads[Weight*** (lbs)],MATCH(B118,SignalHeads[Code],0)))","v":""},{"$f":"IF(A118<=$I$17,INDEX(DesignConstants[Value],MATCH(\"Span Wire Weight (plf)\",DesignConstants[Design Constant],0)),0)","v":1.155},0,101.0625,{"$error":"#N/A"},{"$error":"#N/A"},{"$error":"#VALUE!"},{"$error":"#VALUE!"},{"$f":"IF(B118=\"\",0,INDEX(SignalHeads[Height ** (feet)],MATCH(B118,SignalHeads[Code],0)))","v":0},{"$f":"IF(L118=0,\"\",ROUNDDOWN(12*(((J118-L118)-MIN($J$31:$J$230-$L$31:$L$230)-(MAX($L$31:$L$230*(($J$31:$J$230-$L$31:$L$230)=MIN($J$31:$J$230-$L$31:$L$230)))-L118))+(MIN($J$31:$J$230-$L$31:$L$230)-$I$19)),0)/12)","v":""},"",{"$error":"#VALUE!"},17]
[89,null,{"$f":"IF(B119=\"\",0,INDEX(SignalHeads[Perp. Wind Area (sft)],MATCH(B119,SignalHeads[Code],0)))","v":0},{"$f":"IF(B119=\"\",\"\",INDEX(SignalHeads[Weight*** (lbs)],MATCH(B119,SignalHeads[Code],0)))","v":""},{"$f":"IF(A119<=$I$17,INDEX(DesignConstants[Value],MATCH(\"Span Wire Weight (plf)\",DesignConstants[Design Constant],0)),0)","v":1.155},0,102.2175,{"$error":"#N/A"},{"$error":"#N/A"},{"$error":"#VALUE!"},{"$error":"#VALUE!"},{"$f":"IF(B119=\"\",0,INDEX(SignalHeads[Height ** (feet)],MATCH(B119,SignalHeads[Code],0)))","v":0},{"$f":"IF(L119=0,\"\",ROUNDDOWN(12*(((J119-L119)-MIN($J$31:$J$230-$L$31:$L$230)-(MAX($L$31:$L$230*(($J$31:$J$230-$L$31:$L$230)=MIN($J$31:$J$230-$L$31:$L$230)))-L119))+(MIN($J$31:$J$230-$L$31:$L$230)-$I$19)),0)/12)","v":""},"",{"$error":"#VALUE!"},17]
[90,null,{"$f":"IF(B120=\"\",0,INDEX(SignalHeads[Perp. Wind Area (sft)],MATCH(B120,SignalHeads[Code],0)))","v":0},{"$f":"IF(B120=\"\",\"\",INDEX(SignalHeads[Weight*** (lbs)],MATCH(B120,SignalHeads[Code],0)))","v":""},{"$f":"IF(A120<=$I$17,INDEX(DesignConstants[Value],MATCH(\"Span Wire Weight (plf)\",DesignConstants[Design Constant],0)),0)","v":1.155},0,103.3725,{"$error":"#N/A"},{"$error":"#N/A"},{"$error":"#VALUE!"},{"$error":"#VALUE!"},{"$f":"IF(B120=\"\",0,INDEX(SignalHeads[Height ** (feet)],MATCH(B120,SignalHeads[Code],0)))","v":0},{"$f":"IF(L120=0,\"\",ROUNDDOWN(12*(((J120-L120)-MIN($J$31:$J$230-$L$31:$L$230)-(MAX($L$31:$L$230*(($J$31:$J$230-$L$31:$L$230)=MIN($J$31:$J$230-$L$31:$L$230)))-L120))+(MIN($J$31:$J$230-$L$31:$L$230)-$I$19)),0)/12)","v":""},"",{"$error":"#VALUE!"},17]
[91,null,{"$f":"IF(B121=\"\",0,INDEX(SignalHeads[Perp. Wind Area (sft)],MATCH(B121,SignalHeads[Code],0)))","v":0},{"$f":"IF(B121=\"\",\"\",INDEX(SignalHeads[Weight*** (lbs)],MATCH(B121,SignalHeads[Code],0)))","v":""},{"$f":"IF(A121<=$I$17,INDEX(DesignConstants[Value],MATCH(\"Span Wire Weight (plf)\",DesignConstants[Design Constant],0)),0)","v":1.155},0,104.5275,{"$error":"#N/A"},{"$error":"#N/A"},{"$error":"#VALUE!"},{"$error":"#VALUE!"},{"$f":"IF(B121=\"\",0,INDEX(SignalHeads[Height ** (feet)],MATCH(B121,SignalHeads[Code],0)))","v":0},{"$f":"IF(L121=0,\"\",ROUNDDOWN(12*(((J121-L121)-MIN($J$31:$J$230-$L$31:$L$230)-(MAX($L$31:$L$230*(($J$31:$J$230-$L$31:$L$230)=MIN($J$31:$J$230-$L$31:$L$230)))-L121))+(MIN($J$31:$J$230-$L$31:$L$230)-$I$19)),0)/12)","v":""},"",{"$error":"#VALUE!"},17]
[92,null,{"$f":"IF(B122=\"\",0,INDEX(SignalHeads[Perp. Wind Area (sft)],MATCH(B122,SignalHeads[Code],0)))","v":0},{"$f":"IF(B122=\"\",\"\",INDEX(SignalHeads[Weight*** (lbs)],MATCH(B122,SignalHeads[Code],0)))","v":""},{"$f":"IF(A122<=$I$17,INDEX(DesignConstants[Value],MATCH(\"Span Wire Weight (plf)\",DesignConstants[Design Constant],0)),0)","v":1.155},0,105.6825,{"$error":"#N/A"},{"$error":"#N/A"},{"$error":"#VALUE!"},{"$error":"#VALUE!"},{"$f":"IF(B122=\"\",0,INDEX(SignalHeads[Height ** (feet)],MATCH(B122,SignalHeads[Code],0)))","v":0},{"$f":"IF(L122=0,\"\",ROUNDDOWN(12*(((J122-L122)-MIN($J$31:$J$230-$L$31:$L$230)-(MAX($L$31:$L$230*(($J$31:$J$230-$L$31:$L$230)=MIN($J$31:$J$230-$L$31:$L$230)))-L122))+(MIN($J$31:$J$230-$L$31:$L$230)-$I$19)),0)/12)","v":""},"",{"$error":"#VALUE!"},17]
[93,null,{"$f":"IF(B123=\"\",0,INDEX(SignalHeads[Perp. Wind Area (sft)],MATCH(B123,SignalHeads[Code],0)))","v":0},{"$f":"IF(B123=\"\",\"\",INDEX(SignalHeads[Weight*** (lbs)],MATCH(B123,SignalHeads[Code],0)))","v":""},{"$f":"IF(A123<=$I$17,INDEX(DesignConstants[Value],MATCH(\"Span Wire Weight (plf)\",DesignConstants[Design Constant],0)),0)","v":1.155},0,106.83750000000001,{"$error":"#N/A"},{"$error":"#N/A"},{"$error":"#VALUE!"},{"$error":"#VALUE!"},{"$f":"IF(B123=\"\",0,INDEX(SignalHeads[Height ** (feet)],MATCH(B123,SignalHeads[Code],0)))","v":0},{"$f":"IF(L123=0,\"\",ROUNDDOWN(12*(((J123-L123)-MIN($J$31:$J$230-$L$31:$L$230)-(MAX($L$31:$L$230*(($J$31:$J$230-$L$31:$L$230)=MIN($J$31:$J$230-$L$31:$L$230)))-L123))+(MIN($J$31:$J$230-$L$31:$L$230)-$I$19)),0)/12)","v":""},"",{"$error":"#VALUE!"},17]
[94,null,{"$f":"IF(B124=\"\",0,INDEX(SignalHeads[Perp. Wind Area (sft)],MATCH(B124,SignalHeads[Code],0)))","v":0},{"$f":"IF(B124=\"\",\"\",INDEX(SignalHeads[Weight*** (lbs)],MATCH(B124,SignalHeads[Code],0)))","v":""},{"$f":"IF(A124<=$I$17,INDEX(DesignConstants[Value],MATCH(\"Span Wire Weight (plf)\",DesignConstants[Design Constant],0)),0)","v":1.155},0,107.99250000000001,{"$error":"#N/A"},{"$error":"#N/A"},{"$error":"#VALUE!"},{"$error":"#VALUE!"},{"$f":"IF(B124=\"\",0,INDEX(SignalHeads[Height ** (feet)],MATCH(B124,SignalHeads[Code],0)))","v":0},{"$f":"IF(L124=0,\"\",ROUNDDOWN(12*(((J124-L124)-MIN($J$31:$J$230-$L$31:$L$230)-(MAX($L$31:$L$230*(($J$31:$J$230-$L$31:$L$230)=MIN($J$31:$J$230-$L$31:$L$230)))-L124))+(MIN($J$31:$J$230-$L$31:$L$230)-$I$19)),0)/12)","v":""},"",{"$error":"#VALUE!"},17]
[95,null,{"$f":"IF(B125=\"\",0,INDEX(SignalHeads[Perp. Wind Area (sft)],MATCH(B125,SignalHeads[Code],0)))","v":0},{"$f":"IF(B125=\"\",\"\",INDEX(SignalHeads[Weight*** (lbs)],MATCH(B125,SignalHeads[Code],0)))","v":""},{"$f":"IF(A125<=$I$17,INDEX(DesignConstants[Value],MATCH(\"Span Wire Weight (plf)\",DesignConstants[Design Constant],0)),0)","v":1.155},0,109.14750000000001,{"$error":"#N/A"},{"$error":"#N/A"},{"$error":"#VALUE!"},{"$error":"#VALUE!"},{"$f":"IF(B125=\"\",0,INDEX(SignalHeads[Height ** (feet)],MATCH(B125,SignalHeads[Code],0)))","v":0},{"$f":"IF(L125=0,\"\",ROUNDDOWN(12*(((J125-L125)-MIN($J$31:$J$230-$L$31:$L$230)-(MAX($L$31:$L$230*(($J$31:$J$230-$L$31:$L$230)=MIN($J$31:$J$230-$L$31:$L$230)))-L125))+(MIN($J$31:$J$230-$L$31:$L$230)-$I$19)),0)/12)","v":""},"",{"$error":"#VALUE!"},17]
[96,null,{"$f":"IF(B126=\"\",0,INDEX(SignalHeads[Perp. Wind Area (sft)],MATCH(B126,SignalHeads[Code],0)))","v":0},{"$f":"IF(B126=\"\",\"\",INDEX(SignalHeads[Weight*** (lbs)],MATCH(B126,SignalHeads[Code],0)))","v":""},{"$f":"IF(A126<=$I$17,INDEX(DesignConstants[Value],MATCH(\"Span Wire Weight (plf)\",DesignConstants[Design Constant],0)),0)","v":1.155},0,110.30250000000001,{"$error":"#N/A"},{"$error":"#N/A"},{"$error":"#VALUE!"},{"$error":"#VALUE!"},{"$f":"IF(B126=\"\",0,INDEX(SignalHeads[Height ** (feet)],MATCH(B126,SignalHeads[Code],0)))","v":0},{"$f":"IF(L126=0,\"\",ROUNDDOWN(12*(((J126-L126)-MIN($J$31:$J$230-$L$31:$L$230)-(MAX($L$31:$L$230*(($J$31:$J$230-$L$31:$L$230)=MIN($J$31:$J$230-$L$31:$L$230)))-L126))+(MIN($J$31:$J$230-$L$31:$L$230)-$I$19)),0)/12)","v":""},"",{"$error":"#VALUE!"},17]
[97,null,{"$f":"IF(B127=\"\",0,INDEX(SignalHeads[Perp. Wind Area (sft)],MATCH(B127,SignalHeads[Code],0)))","v":0},{"$f":"IF(B127=\"\",\"\",INDEX(SignalHeads[Weight*** (lbs)],MATCH(B127,SignalHeads[Code],0)))","v":""},{"$f":"IF(A127<=$I$17,INDEX(DesignConstants[Value],MATCH(\"Span Wire Weight (plf)\",DesignConstants[Design Constant],0)),0)","v":1.155},0,111.4575,{"$error":"#N/A"},{"$error":"#N/A"},{"$error":"#VALUE!"},{"$f":"IF(A127>$I$17,0,($N$24-$N$15)/$I$17*A127+$N$15)","v":{"$error":"#VALUE!"}},{"$f":"IF(B127=\"\",0,INDEX(SignalHeads[Height ** (feet)],MATCH(B127,SignalHeads[Code],0)))","v":0},{"$f":"IF(L127=0,\"\",ROUNDDOWN(12*(((J127-L127)-MIN($J$31:$J$230-$L$31:$L$230)-(MAX($L$31:$L$230*(($J$31:$J$230-$L$31:$L$230)=MIN($J$31:$J$230-$L$31:$L$230)))-L127))+(MIN($J$31:$J$230-$L$31:$L$230)-$I$19)),0)/12)","v":""},"",{"$error":"#VALUE!"},{"$f":"$I$19","v":17}]
[98,null,{"$f":"IF(B128=\"\",0,INDEX(SignalHeads[Perp. Wind Area (sft)],MATCH(B128,SignalHeads[Code],0)))","v":0},{"$f":"IF(B128=\"\",\"\",INDEX(SignalHeads[Weight*** (lbs)],MATCH(B128,SignalHeads[Code],0)))","v":""},{"$f":"IF(A128<=$I$17,INDEX(DesignConstants[Value],MATCH(\"Span Wire Weight (plf)\",DesignConstants[Design Constant],0)),0)","v":1.155},0,112.6125,{"$error":"#N/A"},{"$error":"#N/A"},{"$error":"#VALUE!"},{"$error":"#VALUE!"},{"$f":"IF(B128=\"\",0,INDEX(SignalHeads[Height ** (feet)],MATCH(B128,SignalHeads[Code],0)))","v":0},{"$f":"IF(L128=0,\"\",ROUNDDOWN(12*(((J128-L128)-MIN($J$31:$J$230-$L$31:$L$230)-(MAX($L$31:$L$230*(($J$31:$J$230-$L$31:$L$230)=MIN($J$31:$J$230-$L$31:$L$230)))-L128))+(MIN($J$31:$J$230-$L$31:$L$230)-$I$19)),0)/12)","v":""},"",{"$error":"#VALUE!"},17]
[99,null,{"$f":"IF(B129=\"\",0,INDEX(SignalHeads[Perp. Wind Area (sft)],MATCH(B129,SignalHeads[Code],0)))","v":0},{"$f":"IF(B129=\"\",\"\",INDEX(SignalHeads[Weight*** (lbs)],MATCH(B129,SignalHeads[Code],0)))","v":""},{"$f":"IF(A129<=$I$17,INDEX(DesignConstants[Value],MATCH(\"Span Wire Weight (plf)\",DesignConstants[Design Constant],0)),0)","v":1.155},0,113.7675,{"$error":"#N/A"},{"$error":"#N/A"},{"$error":"#VALUE!"},{"$error":"#VALUE!"},{"$f":"IF(B129=\"\",0,INDEX(SignalHeads[Height ** (feet)],MATCH(B129,SignalHeads[Code],0)))","v":0},{"$f":"IF(L129=0,\"\",ROUNDDOWN(12*(((J129-L129)-MIN($J$31:$J$230-$L$31:$L$230)-(MAX($L$31:$L$230*(($J$31:$J$230-$L$31:$L$230)=MIN($J$31:$J$230-$L$31:$L$230)))-L129))+(MIN($J$31:$J$230-$L$31:$L$230)-$I$19)),0)/12)","v":""},"",{"$error":"#VALUE!"},17]
[100,null,{"$f":"IF(B130=\"\",0,INDEX(SignalHeads[Perp. Wind Area (sft)],MATCH(B130,SignalHeads[Code],0)))","v":0},{"$f":"IF(B130=\"\",\"\",INDEX(SignalHeads[Weight*** (lbs)],MATCH(B130,SignalHeads[Code],0)))","v":""},{"$f":"IF(A130<=$I$17,INDEX(DesignConstants[Value],MATCH(\"Span Wire Weight (plf)\",DesignConstants[Design Constant],0)),0)","v":1.155},0,114.9225,{"$error":"#N/A"},{"$error":"#N/A"},{"$error":"#VALUE!"},{"$error":"#VALUE!"},{"$f":"IF(B130=\"\",0,INDEX(SignalHeads[Height ** (feet)],MATCH(B130,SignalHeads[Code],0)))","v":0},{"$f":"IF(L130=0,\"\",ROUNDDOWN(12*(((J130-L130)-MIN($J$31:$J$230-$L$31:$L$230)-(MAX($L$31:$L$230*(($J$31:$J$230-$L$31:$L$230)=MIN($J$31:$J$230-$L$31:$L$230)))-L130))+(MIN($J$31:$J$230-$L$31:$L$230)-$I$19)),0)/12)","v":""},"",{"$error":"#VALUE!"},17]
[101,null,{"$f":"IF(B131=\"\",0,INDEX(SignalHeads[Perp. Wind Area (sft)],MATCH(B131,SignalHeads[Code],0)))","v":0},{"$f":"IF(B131=\"\",\"\",INDEX(SignalHeads[Weight*** (lbs)],MATCH(B131,SignalHeads[Code],0)))","v":""},{"$f":"IF(A131<=$I$17,INDEX(DesignConstants[Value],MATCH(\"Span Wire Weight (plf)\",DesignConstants[Design Constant],0)),0)","v":1.155},0,116.0775,{"$error":"#N/A"},{"$error":"#N/A"},{"$error":"#VALUE!"},{"$error":"#VALUE!"},{"$f":"IF(B131=\"\",0,INDEX(SignalHeads[Height ** (feet)],MATCH(B131,SignalHeads[Code],0)))","v":0},{"$f":"IF(L131=0,\"\",ROUNDDOWN(12*(((J131-L131)-MIN($J$31:$J$230-$L$31:$L$230)-(MAX($L$31:$L$230*(($J$31:$J$230-$L$31:$L$230)=MIN($J$31:$J$230-$L$31:$L$230)))-L131))+(MIN($J$31:$J$230-$L$31:$L$230)-$I$19)),0)/12)","v":""},"",{"$error":"#VALUE!"},17]
[102,null,{"$f":"IF(B132=\"\",0,INDEX(SignalHeads[Perp. Wind Area (sft)],MATCH(B132,SignalHeads[Code],0)))","v":0},{"$f":"IF(B132=\"\",\"\",INDEX(SignalHeads[Weight*** (lbs)],MATCH(B132,SignalHeads[Code],0)))","v":""},{"$f":"IF(A132<=$I$17,INDEX(DesignConstants[Value],MATCH(\"Span Wire Weight (plf)\",DesignConstants[Design Constant],0)),0)","v":1.155},0,117.2325,{"$error":"#N/A"},{"$error":"#N/A"},{"$error":"#VALUE!"},{"$error":"#VALUE!"},{"$f":"IF(B132=\"\",0,INDEX(SignalHeads[Height ** (feet)],MATCH(B132,SignalHeads[Code],0)))","v":0},{"$f":"IF(L132=0,\"\",ROUNDDOWN(12*(((J132-L132)-MIN($J$31:$J$230-$L$31:$L$230)-(MAX($L$31:$L$230*(($J$31:$J$230-$L$31:$L$230)=MIN($J$31:$J$230-$L$31:$L$230)))-L132))+(MIN($J$31:$J$230-$L$31:$L$230)-$I$19)),0)/12)","v":""},"",{"$error":"#VALUE!"},17]
[103,null,{"$f":"IF(B133=\"\",0,INDEX(SignalHeads[Perp. Wind Area (sft)],MATCH(B133,SignalHeads[Code],0)))","v":0},{"$f":"IF(B133=\"\",\"\",INDEX(SignalHeads[Weight*** (lbs)],MATCH(B133,SignalHeads[Code],0)))","v":""},{"$f":"IF(A133<=$I$17,INDEX(DesignConstants[Value],MATCH(\"Span Wire Weight (plf)\",DesignConstants[Design Constant],0)),0)","v":1.155},0,118.3875,{"$error":"#N/A"},{"$error":"#N/A"},{"$error":"#VALUE!"},{"$error":"#VALUE!"},{"$f":"IF(B133=\"\",0,INDEX(SignalHeads[Height ** (feet)],MATCH(B133,SignalHeads[Code],0)))","v":0},{"$f":"IF(L133=0,\"\",ROUNDDOWN(12*(((J133-L133)-MIN($J$31:$J$230-$L$31:$L$230)-(MAX($L$31:$L$230*(($J$31:$J$230-$L$31:$L$230)=MIN($J$31:$J$230-$L$31:$L$230)))-L133))+(MIN($J$31:$J$230-$L$31:$L$230)-$I$19)),0)/12)","v":""},"",{"$error":"#VALUE!"},17]
[104,null,{"$f":"IF(B134=\"\",0,INDEX(SignalHeads[Perp. Wind Area (sft)],MATCH(B134,SignalHeads[Code],0)))","v":0},{"$f":"IF(B134=\"\",\"\",INDEX(SignalHeads[Weight*** (lbs)],MATCH(B134,SignalHeads[Code],0)))","v":""},{"$f":"IF(A134<=$I$17,INDEX(DesignConstants[Value],MATCH(\"Span Wire Weight (plf)\",DesignConstants[Design Constant],0)),0)","v":1.155},0,119.5425,{"$error":"#N/A"},{"$error":"#N/A"},{"$error":"#VALUE!"},{"$error":"#VALUE!"},{"$f":"IF(B134=\"\",0,INDEX(SignalHeads[Height ** (feet)],MATCH(B134,SignalHeads[Code],0)))","v":0},{"$f":"IF(L134=0,\"\",ROUNDDOWN(12*(((J134-L134)-MIN($J$31:$J$230-$L$31:$L$230)-(MAX($L$31:$L$230*(($J$31:$J$230-$L$31:$L$230)=MIN($J$31:$J$230-$L$31:$L$230)))-L134))+(MIN($J$31:$J$230-$L$31:$L$230)-$I$19)),0)/12)","v":""},"",{"$error":"#VALUE!"},17]
[105,null,{"$f":"IF(B135=\"\",0,INDEX(SignalHeads[Perp. Wind Area (sft)],MATCH(B135,SignalHeads[Code],0)))","v":0},{"$f":"IF(B135=\"\",\"\",INDEX(SignalHeads[Weight*** (lbs)],MATCH(B135,SignalHeads[Code],0)))","v":""},{"$f":"IF(A135<=$I$17,INDEX(DesignConstants[Value],MATCH(\"Span Wire Weight (plf)\",DesignConstants[Design Constant],0)),0)","v":1.155},0,120.69750000000001,{"$error":"#N/A"},{"$error":"#N/A"},{"$error":"#VALUE!"},{"$error":"#VALUE!"},{"$f":"IF(B135=\"\",0,INDEX(SignalHeads[Height ** (feet)],MATCH(B135,SignalHeads[Code],0)))","v":0},{"$f":"IF(L135=0,\"\",ROUNDDOWN(12*(((J135-L135)-MIN($J$31:$J$230-$L$31:$L$230)-(MAX($L$31:$L$230*(($J$31:$J$230-$L$31:$L$230)=MIN($J$31:$J$230-$L$31:$L$230)))-L135))+(MIN($J$31:$J$230-$L$31:$L$230)-$I$19)),0)/12)","v":""},"",{"$error":"#VALUE!"},17]
[106,null,{"$f":"IF(B136=\"\",0,INDEX(SignalHeads[Perp. Wind Area (sft)],MATCH(B136,SignalHeads[Code],0)))","v":0},{"$f":"IF(B136=\"\",\"\",INDEX(SignalHeads[Weight*** (lbs)],MATCH(B136,SignalHeads[Code],0)))","v":""},{"$f":"IF(A136<=$I$17,INDEX(DesignConstants[Value],MATCH(\"Span Wire Weight (plf)\",DesignConstants[Design Constant],0)),0)","v":1.155},0,121.85250000000001,{"$error":"#N/A"},{"$error":"#N/A"},{"$error":"#VALUE!"},{"$error":"#VALUE!"},{"$f":"IF(B136=\"\",0,INDEX(SignalHeads[Height ** (feet)],MATCH(B136,SignalHeads[Code],0)))","v":0},{"$f":"IF(L136=0,\"\",ROUNDDOWN(12*(((J136-L136)-MIN($J$31:$J$230-$L$31:$L$230)-(MAX($L$31:$L$230*(($J$31:$J$230-$L$31:$L$230)=MIN($J$31:$J$230-$L$31:$L$230)))-L136))+(MIN($J$31:$J$230-$L$31:$L$230)-$I$19)),0)/12)","v":""},"",{"$error":"#VALUE!"},17]
[107,null,{"$f":"IF(B137=\"\",0,INDEX(SignalHeads[Perp. Wind Area (sft)],MATCH(B137,SignalHeads[Code],0)))","v":0},{"$f":"IF(B137=\"\",\"\",INDEX(SignalHeads[Weight*** (lbs)],MATCH(B137,SignalHeads[Code],0)))","v":""},{"$f":"IF(A137<=$I$17,INDEX(DesignConstants[Value],MATCH(\"Span Wire Weight (plf)\",DesignConstants[Design Constant],0)),0)","v":1.155},0,123.00750000000001,{"$error":"#N/A"},{"$error":"#N/A"},{"$error":"#VALUE!"},{"$error":"#VALUE!"},{"$f":"IF(B137=\"\",0,INDEX(SignalHeads[Height ** (feet)],MATCH(B137,SignalHeads[Code],0)))","v":0},{"$f":"IF(L137=0,\"\",ROUNDDOWN(12*(((J137-L137)-MIN($J$31:$J$230-$L$31:$L$230)-(MAX($L$31:$L$230*(($J$31:$J$230-$L$31:$L$230)=MIN($J$31:$J$230-$L$31:$L$230)))-L137))+(MIN($J$31:$J$230-$L$31:$L$230)-$I$19)),0)/12)","v":""},"",{"$error":"#VALUE!"},17]
[108,null,{"$f":"IF(B138=\"\",0,INDEX(SignalHeads[Perp. Wind Area (sft)],MATCH(B138,SignalHeads[Code],0)))","v":0},{"$f":"IF(B138=\"\",\"\",INDEX(SignalHeads[Weight*** (lbs)],MATCH(B138,SignalHeads[Code],0)))","v":""},{"$f":"IF(A138<=$I$17,INDEX(DesignConstants[Value],MATCH(\"Span Wire Weight (plf)\",DesignConstants[Design Constant],0)),0)","v":1.155},0,124.16250000000001,{"$error":"#N/A"},{"$error":"#N/A"},{"$error":"#VALUE!"},{"$error":"#VALUE!"},{"$f":"IF(B138=\"\",0,INDEX(SignalHeads[Height ** (feet)],MATCH(B138,SignalHeads[Code],0)))","v":0},{"$f":"IF(L138=0,\"\",ROUNDDOWN(12*(((J138-L138)-MIN($J$31:$J$230-$L$31:$L$230)-(MAX($L$31:$L$230*(($J$31:$J$230-$L$31:$L$230)=MIN($J$31:$J$230-$L$31:$L$230)))-L138))+(MIN($J$31:$J$230-$L$31:$L$230)-$I$19)),0)/12)","v":""},"",{"$error":"#VALUE!"},17]
[109,null,{"$f":"IF(B139=\"\",0,INDEX(SignalHeads[Perp. Wind Area (sft)],MATCH(B139,SignalHeads[Code],0)))","v":0},{"$f":"IF(B139=\"\",\"\",INDEX(SignalHeads[Weight*** (lbs)],MATCH(B139,SignalHeads[Code],0)))","v":""},{"$f":"IF(A139<=$I$17,INDEX(DesignConstants[Value],MATCH(\"Span Wire Weight (plf)\",DesignConstants[Design Constant],0)),0)","v":1.155},0,125.31750000000001,{"$error":"#N/A"},{"$error":"#N/A"},{"$error":"#VALUE!"},{"$error":"#VALUE!"},{"$f":"IF(B139=\"\",0,INDEX(SignalHeads[Height ** (feet)],MATCH(B139,SignalHeads[Code],0)))","v":0},{"$f":"IF(L139=0,\"\",ROUNDDOWN(12*(((J139-L139)-MIN($J$31:$J$230-$L$31:$L$230)-(MAX($L$31:$L$230*(($J$31:$J$230-$L$31:$L$230)=MIN($J$31:$J$230-$L$31:$L$230)))-L139))+(MIN($J$31:$J$230-$L$31:$L$230)-$I$19)),0)/12)","v":""},"",{"$error":"#VALUE!"},17]
[110,null,{"$f":"IF(B140=\"\",0,INDEX(SignalHeads[Perp. Wind Area (sft)],MATCH(B140,SignalHeads[Code],0)))","v":0},{"$f":"IF(B140=\"\",\"\",INDEX(SignalHeads[Weight*** (lbs)],MATCH(B140,SignalHeads[Code],0)))","v":""},{"$f":"IF(A140<=$I$17,INDEX(DesignConstants[Value],MATCH(\"Span Wire Weight (plf)\",DesignConstants[Design Constant],0)),0)","v":1.155},0,126.4725,{"$error":"#N/A"},{"$error":"#N/A"},{"$error":"#VALUE!"},{"$error":"#VALUE!"},{"$f":"IF(B140=\"\",0,INDEX(SignalHeads[Height ** (feet)],MATCH(B140,SignalHeads[Code],0)))","v":0},{"$f":"IF(L140=0,\"\",ROUNDDOWN(12*(((J140-L140)-MIN($J$31:$J$230-$L$31:$L$230)-(MAX($L$31:$L$230*(($J$31:$J$230-$L$31:$L$230)=MIN($J$31:$J$230-$L$31:$L$230)))-L140))+(MIN($J$31:$J$230-$L$31:$L$230)-$I$19)),0)/12)","v":""},"",{"$error":"#VALUE!"},17]
[111,null,{"$f":"IF(B141=\"\",0,INDEX(SignalHeads[Perp. Wind Area (sft)],MATCH(B141,SignalHeads[Code],0)))","v":0},{"$f":"IF(B141=\"\",\"\",INDEX(SignalHeads[Weight*** (lbs)],MATCH(B141,SignalHeads[Code],0)))","v":""},{"$f":"IF(A141<=$I$17,INDEX(DesignConstants[Value],MATCH(\"Span Wire Weight (plf)\",DesignConstants[Design Constant],0)),0)","v":1.155},0,127.6275,{"$error":"#N/A"},{"$error":"#N/A"},{"$error":"#VALUE!"},{"$error":"#VALUE!"},{"$f":"IF(B141=\"\",0,INDEX(SignalHeads[Height ** (feet)],MATCH(B141,SignalHeads[Code],0)))","v":0},{"$f":"IF(L141=0,\"\",ROUNDDOWN(12*(((J141-L141)-MIN($J$31:$J$230-$L$31:$L$230)-(MAX($L$31:$L$230*(($J$31:$J$230-$L$31:$L$230)=MIN($J$31:$J$230-$L$31:$L$230)))-L141))+(MIN($J$31:$J$230-$L$31:$L$230)-$I$19)),0)/12)","v":""},"",{"$error":"#VALUE!"},17]
[112,null,{"$f":"IF(B142=\"\",0,INDEX(SignalHeads[Perp. Wind Area (sft)],MATCH(B142,SignalHeads[Code],0)))","v":0},{"$f":"IF(B142=\"\",\"\",INDEX(SignalHeads[Weight*** (lbs)],MATCH(B142,SignalHeads[Code],0)))","v":""},{"$f":"IF(A142<=$I$17,INDEX(DesignConstants[Value],MATCH(\"Span Wire Weight (plf)\",DesignConstants[Design Constant],0)),0)","v":1.155},0,128.7825,{"$error":"#N/A"},{"$error":"#N/A"},{"$error":"#VALUE!"},{"$error":"#VALUE!"},{"$f":"IF(B142=\"\",0,INDEX(SignalHeads[Height ** (feet)],MATCH(B142,SignalHeads[Code],0)))","v":0},{"$f":"IF(L142=0,\"\",ROUNDDOWN(12*(((J142-L142)-MIN($J$31:$J$230-$L$31:$L$230)-(MAX($L$31:$L$230*(($J$31:$J$230-$L$31:$L$230)=MIN($J$31:$J$230-$L$31:$L$230)))-L142))+(MIN($J$31:$J$230-$L$31:$L$230)-$I$19)),0)/12)","v":""},"",{"$error":"#VALUE!"},17]
[113,null,{"$f":"IF(B143=\"\",0,INDEX(SignalHeads[Perp. Wind Area (sft)],MATCH(B143,SignalHeads[Code],0)))","v":0},{"$f":"IF(B143=\"\",\"\",INDEX(SignalHeads[Weight*** (lbs)],MATCH(B143,SignalHeads[Code],0)))","v":""},{"$f":"IF(A143<=$I$17,INDEX(DesignConstants[Value],MATCH(\"Span Wire Weight (plf)\",DesignConstants[Design Constant],0)),0)","v":1.155},0,129.9375,{"$error":"#N/A"},{"$error":"#N/A"},{"$error":"#VALUE!"},{"$error":"#VALUE!"},{"$f":"IF(B143=\"\",0,INDEX(SignalHeads[Height ** (feet)],MATCH(B143,SignalHeads[Code],0)))","v":0},{"$f":"IF(L143=0,\"\",ROUNDDOWN(12*(((J143-L143)-MIN($J$31:$J$230-$L$31:$L$230)-(MAX($L$31:$L$230*(($J$31:$J$230-$L$31:$L$230)=MIN($J$31:$J$230-$L$31:$L$230)))-L143))+(MIN($J$31:$J$230-$L$31:$L$230)-$I$19)),0)/12)","v":""},"",{"$error":"#VALUE!"},17]
[114,null,{"$f":"IF(B144=\"\",0,INDEX(SignalHeads[Perp. Wind Area (sft)],MATCH(B144,SignalHeads[Code],0)))","v":0},{"$f":"IF(B144=\"\",\"\",INDEX(SignalHeads[Weight*** (lbs)],MATCH(B144,SignalHeads[Code],0)))","v":""},{"$f":"IF(A144<=$I$17,INDEX(DesignConstants[Value],MATCH(\"Span Wire Weight (plf)\",DesignConstants[Design Constant],0)),0)","v":1.155},0,131.0925,{"$error":"#N/A"},{"$error":"#N/A"},{"$error":"#VALUE!"},{"$error":"#VALUE!"},{"$f":"IF(B144=\"\",0,INDEX(SignalHeads[Height ** (feet)],MATCH(B144,SignalHeads[Code],0)))","v":0},{"$f":"IF(L144=0,\"\",ROUNDDOWN(12*(((J144-L144)-MIN($J$31:$J$230-$L$31:$L$230)-(MAX($L$31:$L$230*(($J$31:$J$230-$L$31:$L$230)=MIN($J$31:$J$230-$L$31:$L$230)))-L144))+(MIN($J$31:$J$230-$L$31:$L$230)-$I$19)),0)/12)","v":""},"",{"$error":"#VALUE!"},17]
[115,null,{"$f":"IF(B145=\"\",0,INDEX(SignalHeads[Perp. Wind Area (sft)],MATCH(B145,SignalHeads[Code],0)))","v":0},{"$f":"IF(B145=\"\",\"\",INDEX(SignalHeads[Weight*** (lbs)],MATCH(B145,SignalHeads[Code],0)))","v":""},{"$f":"IF(A145<=$I$17,INDEX(DesignConstants[Value],MATCH(\"Span Wire Weight (plf)\",DesignConstants[Design Constant],0)),0)","v":1.155},0,132.2475,{"$error":"#N/A"},{"$error":"#N/A"},{"$error":"#VALUE!"},{"$error":"#VALUE!"},{"$f":"IF(B145=\"\",0,INDEX(SignalHeads[Height ** (feet)],MATCH(B145,SignalHeads[Code],0)))","v":0},{"$f":"IF(L145=0,\"\",ROUNDDOWN(12*(((J145-L145)-MIN($J$31:$J$230-$L$31:$L$230)-(MAX($L$31:$L$230*(($J$31:$J$230-$L$31:$L$230)=MIN($J$31:$J$230-$L$31:$L$230)))-L145))+(MIN($J$31:$J$230-$L$31:$L$230)-$I$19)),0)/12)","v":""},"",{"$error":"#VALUE!"},17]
[116,null,{"$f":"IF(B146=\"\",0,INDEX(SignalHeads[Perp. Wind Area (sft)],MATCH(B146,SignalHeads[Code],0)))","v":0},{"$f":"IF(B146=\"\",\"\",INDEX(SignalHeads[Weight*** (lbs)],MATCH(B146,SignalHeads[Code],0)))","v":""},{"$f":"IF(A146<=$I$17,INDEX(DesignConstants[Value],MATCH(\"Span Wire Weight (plf)\",DesignConstants[Design Constant],0)),0)","v":1.155},0,133.4025,{"$error":"#N/A"},{"$error":"#N/A"},{"$error":"#VALUE!"},{"$error":"#VALUE!"},{"$f":"IF(B146=\"\",0,INDEX(SignalHeads[Height ** (feet)],MATCH(B146,SignalHeads[Code],0)))","v":0},{"$f":"IF(L146=0,\"\",ROUNDDOWN(12*(((J146-L146)-MIN($J$31:$J$230-$L$31:$L$230)-(MAX($L$31:$L$230*(($J$31:$J$230-$L$31:$L$230)=MIN($J$31:$J$230-$L$31:$L$230)))-L146))+(MIN($J$31:$J$230-$L$31:$L$230)-$I$19)),0)/12)","v":""},"",{"$error":"#VALUE!"},17]
[117,null,{"$f":"IF(B147=\"\",0,INDEX(SignalHeads[Perp. Wind Area (sft)],MATCH(B147,SignalHeads[Code],0)))","v":0},{"$f":"IF(B147=\"\",\"\",INDEX(SignalHeads[Weight*** (lbs)],MATCH(B147,SignalHeads[Code],0)))","v":""},{"$f":"IF(A147<=$I$17,INDEX(DesignConstants[Value],MATCH(\"Span Wire Weight (plf)\",DesignConstants[Design Constant],0)),0)","v":1.155},0,134.5575,{"$error":"#N/A"},{"$error":"#N/A"},{"$error":"#VALUE!"},{"$error":"#VALUE!"},{"$f":"IF(B147=\"\",0,INDEX(SignalHeads[Height ** (feet)],MATCH(B147,SignalHeads[Code],0)))","v":0},{"$f":"IF(L147=0,\"\",ROUNDDOWN(12*(((J147-L147)-MIN($J$31:$J$230-$L$31:$L$230)-(MAX($L$31:$L$230*(($J$31:$J$230-$L$31:$L$230)=MIN($J$31:$J$230-$L$31:$L$230)))-L147))+(MIN($J$31:$J$230-$L$31:$L$230)-$I$19)),0)/12)","v":""},"",{"$error":"#VALUE!"},17]
[118,null,{"$f":"IF(B148=\"\",0,INDEX(SignalHeads[Perp. Wind Area (sft)],MATCH(B148,SignalHeads[Code],0)))","v":0},{"$f":"IF(B148=\"\",\"\",INDEX(SignalHeads[Weight*** (lbs)],MATCH(B148,SignalHeads[Code],0)))","v":""},{"$f":"IF(A148<=$I$17,INDEX(DesignConstants[Value],MATCH(\"Span Wire Weight (plf)\",DesignConstants[Design Constant],0)),0)","v":1.155},0,135.71250000000001,{"$error":"#N/A"},{"$error":"#N/A"},{"$error":"#VALUE!"},{"$error":"#VALUE!"},{"$f":"IF(B148=\"\",0,INDEX(SignalHeads[Height ** (feet)],MATCH(B148,SignalHeads[Code],0)))","v":0},{"$f":"IF(L148=0,\"\",ROUNDDOWN(12*(((J148-L148)-MIN($J$31:$J$230-$L$31:$L$230)-(MAX($L$31:$L$230*(($J$31:$J$230-$L$31:$L$230)=MIN($J$31:$J$230-$L$31:$L$230)))-L148))+(MIN($J$31:$J$230-$L$31:$L$230)-$I$19)),0)/12)","v":""},"",{"$error":"#VALUE!"},17]
[119,null,{"$f":"IF(B149=\"\",0,INDEX(SignalHeads[Perp. Wind Area (sft)],MATCH(B149,SignalHeads[Code],0)))","v":0},{"$f":"IF(B149=\"\",\"\",INDEX(SignalHeads[Weight*** (lbs)],MATCH(B149,SignalHeads[Code],0)))","v":""},{"$f":"IF(A149<=$I$17,INDEX(DesignConstants[Value],MATCH(\"Span Wire Weight (plf)\",DesignConstants[Design Constant],0)),0)","v":1.155},0,136.86750000000001,{"$error":"#N/A"},{"$error":"#N/A"},{"$error":"#VALUE!"},{"$error":"#VALUE!"},{"$f":"IF(B149=\"\",0,INDEX(SignalHeads[Height ** (feet)],MATCH(B149,SignalHeads[Code],0)))","v":0},{"$f":"IF(L149=0,\"\",ROUNDDOWN(12*(((J149-L149)-MIN($J$31:$J$230-$L$31:$L$230)-(MAX($L$31:$L$230*(($J$31:$J$230-$L$31:$L$230)=MIN($J$31:$J$230-$L$31:$L$230)))-L149))+(MIN($J$31:$J$230-$L$31:$L$230)-$I$19)),0)/12)","v":""},"",{"$error":"#VALUE!"},17]
[120,null,{"$f":"IF(B150=\"\",0,INDEX(SignalHeads[Perp. Wind Area (sft)],MATCH(B150,SignalHeads[Code],0)))","v":0},{"$f":"IF(B150=\"\",\"\",INDEX(SignalHeads[Weight*** (lbs)],MATCH(B150,SignalHeads[Code],0)))","v":""},{"$f":"IF(A150<=$I$17,INDEX(DesignConstants[Value],MATCH(\"Span Wire Weight (plf)\",DesignConstants[Design Constant],0)),0)","v":1.155},0,138.02250000000001,{"$error":"#N/A"},{"$error":"#N/A"},{"$error":"#VALUE!"},{"$error":"#VALUE!"},{"$f":"IF(B150=\"\",0,INDEX(SignalHeads[Height ** (feet)],MATCH(B150,SignalHeads[Code],0)))","v":0},{"$f":"IF(L150=0,\"\",ROUNDDOWN(12*(((J150-L150)-MIN($J$31:$J$230-$L$31:$L$230)-(MAX($L$31:$L$230*(($J$31:$J$230-$L$31:$L$230)=MIN($J$31:$J$230-$L$31:$L$230)))-L150))+(MIN($J$31:$J$230-$L$31:$L$230)-$I$19)),0)/12)","v":""},"",{"$error":"#VALUE!"},17]
[121,null,{"$f":"IF(B151=\"\",0,INDEX(SignalHeads[Perp. Wind Area (sft)],MATCH(B151,SignalHeads[Code],0)))","v":0},{"$f":"IF(B151=\"\",\"\",INDEX(SignalHeads[Weight*** (lbs)],MATCH(B151,SignalHeads[Code],0)))","v":""},{"$f":"IF(A151<=$I$17,INDEX(DesignConstants[Value],MATCH(\"Span Wire Weight (plf)\",DesignConstants[Design Constant],0)),0)","v":1.155},0,139.17750000000001,{"$error":"#N/A"},{"$error":"#N/A"},{"$error":"#VALUE!"},{"$error":"#VALUE!"},{"$f":"IF(B151=\"\",0,INDEX(SignalHeads[Height ** (feet)],MATCH(B151,SignalHeads[Code],0)))","v":0},{"$f":"IF(L151=0,\"\",ROUNDDOWN(12*(((J151-L151)-MIN($J$31:$J$230-$L$31:$L$230)-(MAX($L$31:$L$230*(($J$31:$J$230-$L$31:$L$230)=MIN($J$31:$J$230-$L$31:$L$230)))-L151))+(MIN($J$31:$J$230-$L$31:$L$230)-$I$19)),0)/12)","v":""},"",{"$error":"#VALUE!"},17]
[122,null,{"$f":"IF(B152=\"\",0,INDEX(SignalHeads[Perp. Wind Area (sft)],MATCH(B152,SignalHeads[Code],0)))","v":0},{"$f":"IF(B152=\"\",\"\",INDEX(SignalHeads[Weight*** (lbs)],MATCH(B152,SignalHeads[Code],0)))","v":""},{"$f":"IF(A152<=$I$17,INDEX(DesignConstants[Value],MATCH(\"Span Wire Weight (plf)\",DesignConstants[Design Constant],0)),0)","v":1.155},0,140.33250000000001,{"$error":"#N/A"},{"$error":"#N/A"},{"$error":"#VALUE!"},{"$error":"#VALUE!"},{"$f":"IF(B152=\"\",0,INDEX(SignalHeads[Height ** (feet)],MATCH(B152,SignalHeads[Code],0)))","v":0},{"$f":"IF(L152=0,\"\",ROUNDDOWN(12*(((J152-L152)-MIN($J$31:$J$230-$L$31:$L$230)-(MAX($L$31:$L$230*(($J$31:$J$230-$L$31:$L$230)=MIN($J$31:$J$230-$L$31:$L$230)))-L152))+(MIN($J$31:$J$230-$L$31:$L$230)-$I$19)),0)/12)","v":""},"",{"$error":"#VALUE!"},17]
[123,null,{"$f":"IF(B153=\"\",0,INDEX(SignalHeads[Perp. Wind Area (sft)],MATCH(B153,SignalHeads[Code],0)))","v":0},{"$f":"IF(B153=\"\",\"\",INDEX(SignalHeads[Weight*** (lbs)],MATCH(B153,SignalHeads[Code],0)))","v":""},{"$f":"IF(A153<=$I$17,INDEX(DesignConstants[Value],MATCH(\"Span Wire Weight (plf)\",DesignConstants[Design Constant],0)),0)","v":1.155},0,141.48750000000001,{"$error":"#N/A"},{"$error":"#N/A"},{"$error":"#VALUE!"},{"$error":"#VALUE!"},{"$f":"IF(B153=\"\",0,INDEX(SignalHeads[Height ** (feet)],MATCH(B153,SignalHeads[Code],0)))","v":0},{"$f":"IF(L153=0,\"\",ROUNDDOWN(12*(((J153-L153)-MIN($J$31:$J$230-$L$31:$L$230)-(MAX($L$31:$L$230*(($J$31:$J$230-$L$31:$L$230)=MIN($J$31:$J$230-$L$31:$L$230)))-L153))+(MIN($J$31:$J$230-$L$31:$L$230)-$I$19)),0)/12)","v":""},"",{"$error":"#VALUE!"},17]
[124,null,{"$f":"IF(B154=\"\",0,INDEX(SignalHeads[Perp. Wind Area (sft)],MATCH(B154,SignalHeads[Code],0)))","v":0},{"$f":"IF(B154=\"\",\"\",INDEX(SignalHeads[Weight*** (lbs)],MATCH(B154,SignalHeads[Code],0)))","v":""},{"$f":"IF(A154<=$I$17,INDEX(DesignConstants[Value],MATCH(\"Span Wire Weight (plf)\",DesignConstants[Design Constant],0)),0)","v":1.155},0,142.64250000000001,{"$error":"#N/A"},{"$error":"#N/A"},{"$error":"#VALUE!"},{"$error":"#VALUE!"},{"$f":"IF(B154=\"\",0,INDEX(SignalHeads[Height ** (feet)],MATCH(B154,SignalHeads[Code],0)))","v":0},{"$f":"IF(L154=0,\"\",ROUNDDOWN(12*(((J154-L154)-MIN($J$31:$J$230-$L$31:$L$230)-(MAX($L$31:$L$230*(($J$31:$J$230-$L$31:$L$230)=MIN($J$31:$J$230-$L$31:$L$230)))-L154))+(MIN($J$31:$J$230-$L$31:$L$230)-$I$19)),0)/12)","v":""},"",{"$error":"#VALUE!"},17]
[125,null,{"$f":"IF(B155=\"\",0,INDEX(SignalHeads[Perp. Wind Area (sft)],MATCH(B155,SignalHeads[Code],0)))","v":0},{"$f":"IF(B155=\"\",\"\",INDEX(SignalHeads[Weight*** (lbs)],MATCH(B155,SignalHeads[Code],0)))","v":""},{"$f":"IF(A155<=$I$17,INDEX(DesignConstants[Value],MATCH(\"Span Wire Weight (plf)\",DesignConstants[Design Constant],0)),0)","v":1.155},0,143.79750000000001,{"$error":"#N/A"},{"$error":"#N/A"},{"$error":"#VALUE!"},{"$error":"#VALUE!"},{"$f":"IF(B155=\"\",0,INDEX(SignalHeads[Height ** (feet)],MATCH(B155,SignalHeads[Code],0)))","v":0},{"$f":"IF(L155=0,\"\",ROUNDDOWN(12*(((J155-L155)-MIN($J$31:$J$230-$L$31:$L$230)-(MAX($L$31:$L$230*(($J$31:$J$230-$L$31:$L$230)=MIN($J$31:$J$230-$L$31:$L$230)))-L155))+(MIN($J$31:$J$230-$L$31:$L$230)-$I$19)),0)/12)","v":""},"",{"$error":"#VALUE!"},17]
[126,null,{"$f":"IF(B156=\"\",0,INDEX(SignalHeads[Perp. Wind Area (sft)],MATCH(B156,SignalHeads[Code],0)))","v":0},{"$f":"IF(B156=\"\",\"\",INDEX(SignalHeads[Weight*** (lbs)],MATCH(B156,SignalHeads[Code],0)))","v":""},{"$f":"IF(A156<=$I$17,INDEX(DesignConstants[Value],MATCH(\"Span Wire Weight (plf)\",DesignConstants[Design Constant],0)),0)","v":1.155},0,144.95250000000001,{"$error":"#N/A"},{"$error":"#N/A"},{"$error":"#VALUE!"},{"$error":"#VALUE!"},{"$f":"IF(B156=\"\",0,INDEX(SignalHeads[Height ** (feet)],MATCH(B156,SignalHeads[Code],0)))","v":0},{"$f":"IF(L156=0,\"\",ROUNDDOWN(12*(((J156-L156)-MIN($J$31:$J$230-$L$31:$L$230)-(MAX($L$31:$L$230*(($J$31:$J$230-$L$31:$L$230)=MIN($J$31:$J$230-$L$31:$L$230)))-L156))+(MIN($J$31:$J$230-$L$31:$L$230)-$I$19)),0)/12)","v":""},"",{"$error":"#VALUE!"},17]
[127,null,{"$f":"IF(B157=\"\",0,INDEX(SignalHeads[Perp. Wind Area (sft)],MATCH(B157,SignalHeads[Code],0)))","v":0},{"$f":"IF(B157=\"\",\"\",INDEX(SignalHeads[Weight*** (lbs)],MATCH(B157,SignalHeads[Code],0)))","v":""},{"$f":"IF(A157<=$I$17,INDEX(DesignConstants[Value],MATCH(\"Span Wire Weight (plf)\",DesignConstants[Design Constant],0)),0)","v":1.155},0,146.10750000000002,{"$error":"#N/A"},{"$error":"#N/A"},{"$error":"#VALUE!"},{"$error":"#VALUE!"},{"$f":"IF(B157=\"\",0,INDEX(SignalHeads[Height ** (feet)],MATCH(B157,SignalHeads[Code],0)))","v":0},{"$f":"IF(L157=0,\"\",ROUNDDOWN(12*(((J157-L157)-MIN($J$31:$J$230-$L$31:$L$230)-(MAX($L$31:$L$230*(($J$31:$J$230-$L$31:$L$230)=MIN($J$31:$J$230-$L$31:$L$230)))-L157))+(MIN($J$31:$J$230-$L$31:$L$230)-$I$19)),0)/12)","v":""},"",{"$error":"#VALUE!"},17]
[128,null,{"$f":"IF(B158=\"\",0,INDEX(SignalHeads[Perp. Wind Area (sft)],MATCH(B158,SignalHeads[Code],0)))","v":0},{"$f":"IF(B158=\"\",\"\",INDEX(SignalHeads[Weight*** (lbs)],MATCH(B158,SignalHeads[Code],0)))","v":""},{"$f":"IF(A158<=$I$17,INDEX(DesignConstants[Value],MATCH(\"Span Wire Weight (plf)\",DesignConstants[Design Constant],0)),0)","v":1.155},0,147.26250000000002,{"$error":"#N/A"},{"$error":"#N/A"},{"$error":"#VALUE!"},{"$error":"#VALUE!"},{"$f":"IF(B158=\"\",0,INDEX(SignalHeads[Height ** (feet)],MATCH(B158,SignalHeads[Code],0)))","v":0},{"$f":"IF(L158=0,\"\",ROUNDDOWN(12*(((J158-L158)-MIN($J$31:$J$230-$L$31:$L$230)-(MAX($L$31:$L$230*(($J$31:$J$230-$L$31:$L$230)=MIN($J$31:$J$230-$L$31:$L$230)))-L158))+(MIN($J$31:$J$230-$L$31:$L$230)-$I$19)),0)/12)","v":""},"",{"$error":"#VALUE!"},17]
[129,null,{"$f":"IF(B159=\"\",0,INDEX(SignalHeads[Perp. Wind Area (sft)],MATCH(B159,SignalHeads[Code],0)))","v":0},{"$f":"IF(B159=\"\",\"\",INDEX(SignalHeads[Weight*** (lbs)],MATCH(B159,SignalHeads[Code],0)))","v":""},{"$f":"IF(A159<=$I$17,INDEX(DesignConstants[Value],MATCH(\"Span Wire Weight (plf)\",DesignConstants[Design Constant],0)),0)","v":1.155},0,{"$f":"+E159*(A159-0.5)","v":148.41749999999999},{"$error":"#N/A"},{"$error":"#N/A"},{"$error":"#VALUE!"},{"$f":"IF(A159>$I$17,0,($N$24-$N$15)/$I$17*A159+$N$15)","v":{"$error":"#VALUE!"}},{"$f":"IF(B159=\"\",0,INDEX(SignalHeads[Height ** (feet)],MATCH(B159,SignalHeads[Code],0)))","v":0},{"$f":"IF(L159=0,\"\",ROUNDDOWN(12*(((J159-L159)-MIN($J$31:$J$230-$L$31:$L$230)-(MAX($L$31:$L$230*(($J$31:$J$230-$L$31:$L$230)=MIN($J$31:$J$230-$L$31:$L$230)))-L159))+(MIN($J$31:$J$230-$L$31:$L$230)-$I$19)),0)/12)","v":""},"",{"$error":"#VALUE!"},{"$f":"$I$19","v":17}]
[130,null,{"$f":"IF(B160=\"\",0,INDEX(SignalHeads[Perp. Wind Area (sft)],MATCH(B160,SignalHeads[Code],0)))","v":0},{"$f":"IF(B160=\"\",\"\",INDEX(SignalHeads[Weight*** (lbs)],MATCH(B160,SignalHeads[Code],0)))","v":""},{"$f":"IF(A160<=$I$17,INDEX(DesignConstants[Value],MATCH(\"Span Wire Weight (plf)\",DesignConstants[Design Constant],0)),0)","v":1.155},{"$f":"IF(B160=\"\",0,+D160*A160)","v":0},149.57249999999999,{"$f":"H159+(IF(B160=\"\",0,D160))+E160","v":{"$error":"#N/A"}},{"$f":"(0.5*E160+(IF(B160=\"\",0,D160))+H159)/$I$13","v":{"$error":"#N/A"}},{"$error":"#VALUE!"},{"$error":"#VALUE!"},{"$f":"IF(B160=\"\",0,INDEX(SignalHeads[Height ** (feet)],MATCH(B160,SignalHeads[Code],0)))","v":0},{"$f":"IF(L160=0,\"\",ROUNDDOWN(12*(((J160-L160)-MIN($J$31:$J$230-$L$31:$L$230)-(MAX($L$31:$L$230*(($J$31:$J$230-$L$31:$L$230)=MIN($J$31:$J$230-$L$31:$L$230)))-L160))+(MIN($J$31:$J$230-$L$31:$L$230)-$I$19)),0)/12)","v":""},{"$f":"IF(M160=\"\",\"\",INT(M160)&\"'-\"&ROUND((M160-INT(M160))*12,0)&\"\"\"\")","v":""},{"$f":"IF(A160<=$I$17,J160-L160-IF(ISNUMBER(M160),M160,0),\"\")","v":{"$error":"#VALUE!"}},17]
[131,null,{"$f":"IF(B161=\"\",0,INDEX(SignalHeads[Perp. Wind Area (sft)],MATCH(B161,SignalHeads[Code],0)))","v":0},{"$f":"IF(B161=\"\",\"\",INDEX(SignalHeads[Weight*** (lbs)],MATCH(B161,SignalHeads[Code],0)))","v":""},{"$f":"IF(A161<=$I$17,INDEX(DesignConstants[Value],MATCH(\"Span Wire Weight (plf)\",DesignConstants[Design Constant],0)),0)","v":1.155},0,150.72749999999999,{"$error":"#N/A"},{"$error":"#N/A"},{"$error":"#VALUE!"},{"$error":"#VALUE!"},{"$f":"IF(B161=\"\",0,INDEX(SignalHeads[Height ** (feet)],MATCH(B161,SignalHeads[Code],0)))","v":0},{"$f":"IF(L161=0,\"\",ROUNDDOWN(12*(((J161-L161)-MIN($J$31:$J$230-$L$31:$L$230)-(MAX($L$31:$L$230*(($J$31:$J$230-$L$31:$L$230)=MIN($J$31:$J$230-$L$31:$L$230)))-L161))+(MIN($J$31:$J$230-$L$31:$L$230)-$I$19)),0)/12)","v":""},"",{"$error":"#VALUE!"},17]
[132,null,{"$f":"IF(B162=\"\",0,INDEX(SignalHeads[Perp. Wind Area (sft)],MATCH(B162,SignalHeads[Code],0)))","v":0},{"$f":"IF(B162=\"\",\"\",INDEX(SignalHeads[Weight*** (lbs)],MATCH(B162,SignalHeads[Code],0)))","v":""},{"$f":"IF(A162<=$I$17,INDEX(DesignConstants[Value],MATCH(\"Span Wire Weight (plf)\",DesignConstants[Design Constant],0)),0)","v":1.155},0,151.88249999999999,{"$error":"#N/A"},{"$error":"#N/A"},{"$f":"+J161+I162","v":{"$error":"#VALUE!"}},{"$error":"#VALUE!"},{"$f":"IF(B162=\"\",0,INDEX(SignalHeads[Height ** (feet)],MATCH(B162,SignalHeads[Code],0)))","v":0},{"$f":"IF(L162=0,\"\",ROUNDDOWN(12*(((J162-L162)-MIN($J$31:$J$230-$L$31:$L$230)-(MAX($L$31:$L$230*(($J$31:$J$230-$L$31:$L$230)=MIN($J$31:$J$230-$L$31:$L$230)))-L162))+(MIN($J$31:$J$230-$L$31:$L$230)-$I$19)),0)/12)","v":""},"",{"$error":"#VALUE!"},17]
[133,null,{"$f":"IF(B163=\"\",0,INDEX(SignalHeads[Perp. Wind Area (sft)],MATCH(B163,SignalHeads[Code],0)))","v":0},{"$f":"IF(B163=\"\",\"\",INDEX(SignalHeads[Weight*** (lbs)],MATCH(B163,SignalHeads[Code],0)))","v":""},{"$f":"IF(A163<=$I$17,INDEX(DesignConstants[Value],MATCH(\"Span Wire Weight (plf)\",DesignConstants[Design Constant],0)),0)","v":1.155},0,153.03749999999999,{"$error":"#N/A"},{"$error":"#N/A"},{"$error":"#VALUE!"},{"$error":"#VALUE!"},{"$f":"IF(B163=\"\",0,INDEX(SignalHeads[Height ** (feet)],MATCH(B163,SignalHeads[Code],0)))","v":0},{"$f":"IF(L163=0,\"\",ROUNDDOWN(12*(((J163-L163)-MIN($J$31:$J$230-$L$31:$L$230)-(MAX($L$31:$L$230*(($J$31:$J$230-$L$31:$L$230)=MIN($J$31:$J$230-$L$31:$L$230)))-L163))+(MIN($J$31:$J$230-$L$31:$L$230)-$I$19)),0)/12)","v":""},"",{"$error":"#VALUE!"},17]
[134,null,{"$f":"IF(B164=\"\",0,INDEX(SignalHeads[Perp. Wind Area (sft)],MATCH(B164,SignalHeads[Code],0)))","v":0},{"$f":"IF(B164=\"\",\"\",INDEX(SignalHeads[Weight*** (lbs)],MATCH(B164,SignalHeads[Code],0)))","v":""},{"$f":"IF(A164<=$I$17,INDEX(DesignConstants[Value],MATCH(\"Span Wire Weight (plf)\",DesignConstants[Design Constant],0)),0)","v":1.155},0,154.1925,{"$error":"#N/A"},{"$error":"#N/A"},{"$error":"#VALUE!"},{"$error":"#VALUE!"},{"$f":"IF(B164=\"\",0,INDEX(SignalHeads[Height ** (feet)],MATCH(B164,SignalHeads[Code],0)))","v":0},{"$f":"IF(L164=0,\"\",ROUNDDOWN(12*(((J164-L164)-MIN($J$31:$J$230-$L$31:$L$230)-(MAX($L$31:$L$230*(($J$31:$J$230-$L$31:$L$230)=MIN($J$31:$J$230-$L$31:$L$230)))-L164))+(MIN($J$31:$J$230-$L$31:$L$230)-$I$19)),0)/12)","v":""},"",{"$error":"#VALUE!"},17]
[135,null,{"$f":"IF(B165=\"\",0,INDEX(SignalHeads[Perp. Wind Area (sft)],MATCH(B165,SignalHeads[Code],0)))","v":0},{"$f":"IF(B165=\"\",\"\",INDEX(SignalHeads[Weight*** (lbs)],MATCH(B165,SignalHeads[Code],0)))","v":""},{"$f":"IF(A165<=$I$17,INDEX(DesignConstants[Value],MATCH(\"Span Wire Weight (plf)\",DesignConstants[Design Constant],0)),0)","v":1.155},0,155.3475,{"$error":"#N/A"},{"$error":"#N/A"},{"$error":"#VALUE!"},{"$error":"#VALUE!"},{"$f":"IF(B165=\"\",0,INDEX(SignalHeads[Height ** (feet)],MATCH(B165,SignalHeads[Code],0)))","v":0},{"$f":"IF(L165=0,\"\",ROUNDDOWN(12*(((J165-L165)-MIN($J$31:$J$230-$L$31:$L$230)-(MAX($L$31:$L$230*(($J$31:$J$230-$L$31:$L$230)=MIN($J$31:$J$230-$L$31:$L$230)))-L165))+(MIN($J$31:$J$230-$L$31:$L$230)-$I$19)),0)/12)","v":""},"",{"$error":"#VALUE!"},17]
[136,null,{"$f":"IF(B166=\"\",0,INDEX(SignalHeads[Perp. Wind Area (sft)],MATCH(B166,SignalHeads[Code],0)))","v":0},{"$f":"IF(B166=\"\",\"\",INDEX(SignalHeads[Weight*** (lbs)],MATCH(B166,SignalHeads[Code],0)))","v":""},{"$f":"IF(A166<=$I$17,INDEX(DesignConstants[Value],MATCH(\"Span Wire Weight (plf)\",DesignConstants[Design Constant],0)),0)","v":1.155},0,156.5025,{"$error":"#N/A"},{"$error":"#N/A"},{"$error":"#VALUE!"},{"$error":"#VALUE!"},{"$f":"IF(B166=\"\",0,INDEX(SignalHeads[Height ** (feet)],MATCH(B166,SignalHeads[Code],0)))","v":0},{"$f":"IF(L166=0,\"\",ROUNDDOWN(12*(((J166-L166)-MIN($J$31:$J$230-$L$31:$L$230)-(MAX($L$31:$L$230*(($J$31:$J$230-$L$31:$L$230)=MIN($J$31:$J$230-$L$31:$L$230)))-L166))+(MIN($J$31:$J$230-$L$31:$L$230)-$I$19)),0)/12)","v":""},"",{"$error":"#VALUE!"},17]
[137,null,{"$f":"IF(B167=\"\",0,INDEX(SignalHeads[Perp. Wind Area (sft)],MATCH(B167,SignalHeads[Code],0)))","v":0},{"$f":"IF(B167=\"\",\"\",INDEX(SignalHeads[Weight*** (lbs)],MATCH(B167,SignalHeads[Code],0)))","v":""},{"$f":"IF(A167<=$I$17,INDEX(DesignConstants[Value],MATCH(\"Span Wire Weight (plf)\",DesignConstants[Design Constant],0)),0)","v":1.155},0,157.6575,{"$error":"#N/A"},{"$error":"#N/A"},{"$error":"#VALUE!"},{"$error":"#VALUE!"},{"$f":"IF(B167=\"\",0,INDEX(SignalHeads[Height ** (feet)],MATCH(B167,SignalHeads[Code],0)))","v":0},{"$f":"IF(L167=0,\"\",ROUNDDOWN(12*(((J167-L167)-MIN($J$31:$J$230-$L$31:$L$230)-(MAX($L$31:$L$230*(($J$31:$J$230-$L$31:$L$230)=MIN($J$31:$J$230-$L$31:$L$230)))-L167))+(MIN($J$31:$J$230-$L$31:$L$230)-$I$19)),0)/12)","v":""},"",{"$error":"#VALUE!"},17]
[138,null,{"$f":"IF(B168=\"\",0,INDEX(SignalHeads[Perp. Wind Area (sft)],MATCH(B168,SignalHeads[Code],0)))","v":0},{"$f":"IF(B168=\"\",\"\",INDEX(SignalHeads[Weight*** (lbs)],MATCH(B168,SignalHeads[Code],0)))","v":""},{"$f":"IF(A168<=$I$17,INDEX(DesignConstants[Value],MATCH(\"Span Wire Weight (plf)\",DesignConstants[Design Constant],0)),0)","v":1.155},0,158.8125,{"$error":"#N/A"},{"$error":"#N/A"},{"$error":"#VALUE!"},{"$error":"#VALUE!"},{"$f":"IF(B168=\"\",0,INDEX(SignalHeads[Height ** (feet)],MATCH(B168,SignalHeads[Code],0)))","v":0},{"$f":"IF(L168=0,\"\",ROUNDDOWN(12*(((J168-L168)-MIN($J$31:$J$230-$L$31:$L$230)-(MAX($L$31:$L$230*(($J$31:$J$230-$L$31:$L$230)=MIN($J$31:$J$230-$L$31:$L$230)))-L168))+(MIN($J$31:$J$230-$L$31:$L$230)-$I$19)),0)/12)","v":""},"",{"$error":"#VALUE!"},17]
[139,null,{"$f":"IF(B169=\"\",0,INDEX(SignalHeads[Perp. Wind Area (sft)],MATCH(B169,SignalHeads[Code],0)))","v":0},{"$f":"IF(B169=\"\",\"\",INDEX(SignalHeads[Weight*** (lbs)],MATCH(B169,SignalHeads[Code],0)))","v":""},{"$f":"IF(A169<=$I$17,INDEX(DesignConstants[Value],MATCH(\"Span Wire Weight (plf)\",DesignConstants[Design Constant],0)),0)","v":1.155},0,159.9675,{"$error":"#N/A"},{"$error":"#N/A"},{"$error":"#VALUE!"},{"$error":"#VALUE!"},{"$f":"IF(B169=\"\",0,INDEX(SignalHeads[Height ** (feet)],MATCH(B169,SignalHeads[Code],0)))","v":0},{"$f":"IF(L169=0,\"\",ROUNDDOWN(12*(((J169-L169)-MIN($J$31:$J$230-$L$31:$L$230)-(MAX($L$31:$L$230*(($J$31:$J$230-$L$31:$L$230)=MIN($J$31:$J$230-$L$31:$L$230)))-L169))+(MIN($J$31:$J$230-$L$31:$L$230)-$I$19)),0)/12)","v":""},"",{"$error":"#VALUE!"},17]
[140,null,{"$f":"IF(B170=\"\",0,INDEX(SignalHeads[Perp. Wind Area (sft)],MATCH(B170,SignalHeads[Code],0)))","v":0},{"$f":"IF(B170=\"\",\"\",INDEX(SignalHeads[Weight*** (lbs)],MATCH(B170,SignalHeads[Code],0)))","v":""},{"$f":"IF(A170<=$I$17,INDEX(DesignConstants[Value],MATCH(\"Span Wire Weight (plf)\",DesignConstants[Design Constant],0)),0)","v":1.155},0,161.1225,{"$error":"#N/A"},{"$error":"#N/A"},{"$error":"#VALUE!"},{"$error":"#VALUE!"},{"$f":"IF(B170=\"\",0,INDEX(SignalHeads[Height ** (feet)],MATCH(B170,SignalHeads[Code],0)))","v":0},{"$f":"IF(L170=0,\"\",ROUNDDOWN(12*(((J170-L170)-MIN($J$31:$J$230-$L$31:$L$230)-(MAX($L$31:$L$230*(($J$31:$J$230-$L$31:$L$230)=MIN($J$31:$J$230-$L$31:$L$230)))-L170))+(MIN($J$31:$J$230-$L$31:$L$230)-$I$19)),0)/12)","v":""},"",{"$error":"#VALUE!"},17]
[141,null,{"$f":"IF(B171=\"\",0,INDEX(SignalHeads[Perp. Wind Area (sft)],MATCH(B171,SignalHeads[Code],0)))","v":0},{"$f":"IF(B171=\"\",\"\",INDEX(SignalHeads[Weight*** (lbs)],MATCH(B171,SignalHeads[Code],0)))","v":""},{"$f":"IF(A171<=$I$17,INDEX(DesignConstants[Value],MATCH(\"Span Wire Weight (plf)\",DesignConstants[Design Constant],0)),0)","v":1.155},0,162.2775,{"$error":"#N/A"},{"$error":"#N/A"},{"$error":"#VALUE!"},{"$error":"#VALUE!"},{"$f":"IF(B171=\"\",0,INDEX(SignalHeads[Height ** (feet)],MATCH(B171,SignalHeads[Code],0)))","v":0},{"$f":"IF(L171=0,\"\",ROUNDDOWN(12*(((J171-L171)-MIN($J$31:$J$230-$L$31:$L$230)-(MAX($L$31:$L$230*(($J$31:$J$230-$L$31:$L$230)=MIN($J$31:$J$230-$L$31:$L$230)))-L171))+(MIN($J$31:$J$230-$L$31:$L$230)-$I$19)),0)/12)","v":""},"",{"$error":"#VALUE!"},17]
[142,null,{"$f":"IF(B172=\"\",0,INDEX(SignalHeads[Perp. Wind Area (sft)],MATCH(B172,SignalHeads[Code],0)))","v":0},{"$f":"IF(B172=\"\",\"\",INDEX(SignalHeads[Weight*** (lbs)],MATCH(B172,SignalHeads[Code],0)))","v":""},{"$f":"IF(A172<=$I$17,INDEX(DesignConstants[Value],MATCH(\"Span Wire Weight (plf)\",DesignConstants[Design Constant],0)),0)","v":1.155},0,163.4325,{"$error":"#N/A"},{"$error":"#N/A"},{"$error":"#VALUE!"},{"$error":"#VALUE!"},{"$f":"IF(B172=\"\",0,INDEX(SignalHeads[Height ** (feet)],MATCH(B172,SignalHeads[Code],0)))","v":0},{"$f":"IF(L172=0,\"\",ROUNDDOWN(12*(((J172-L172)-MIN($J$31:$J$230-$L$31:$L$230)-(MAX($L$31:$L$230*(($J$31:$J$230-$L$31:$L$230)=MIN($J$31:$J$230-$L$31:$L$230)))-L172))+(MIN($J$31:$J$230-$L$31:$L$230)-$I$19)),0)/12)","v":""},"",{"$error":"#VALUE!"},17]
[143,null,{"$f":"IF(B173=\"\",0,INDEX(SignalHeads[Perp. Wind Area (sft)],MATCH(B173,SignalHeads[Code],0)))","v":0},{"$f":"IF(B173=\"\",\"\",INDEX(SignalHeads[Weight*** (lbs)],MATCH(B173,SignalHeads[Code],0)))","v":""},{"$f":"IF(A173<=$I$17,INDEX(DesignConstants[Value],MATCH(\"Span Wire Weight (plf)\",DesignConstants[Design Constant],0)),0)","v":1.155},0,164.58750000000001,{"$error":"#N/A"},{"$error":"#N/A"},{"$error":"#VALUE!"},{"$error":"#VALUE!"},{"$f":"IF(B173=\"\",0,INDEX(SignalHeads[Height ** (feet)],MATCH(B173,SignalHeads[Code],0)))","v":0},{"$f":"IF(L173=0,\"\",ROUNDDOWN(12*(((J173-L173)-MIN($J$31:$J$230-$L$31:$L$230)-(MAX($L$31:$L$230*(($J$31:$J$230-$L$31:$L$230)=MIN($J$31:$J$230-$L$31:$L$230)))-L173))+(MIN($J$31:$J$230-$L$31:$L$230)-$I$19)),0)/12)","v":""},"",{"$error":"#VALUE!"},17]
[144,null,{"$f":"IF(B174=\"\",0,INDEX(SignalHeads[Perp. Wind Area (sft)],MATCH(B174,SignalHeads[Code],0)))","v":0},{"$f":"IF(B174=\"\",\"\",INDEX(SignalHeads[Weight*** (lbs)],MATCH(B174,SignalHeads[Code],0)))","v":""},{"$f":"IF(A174<=$I$17,INDEX(DesignConstants[Value],MATCH(\"Span Wire Weight (plf)\",DesignConstants[Design Constant],0)),0)","v":1.155},0,165.74250000000001,{"$error":"#N/A"},{"$error":"#N/A"},{"$error":"#VALUE!"},{"$error":"#VALUE!"},{"$f":"IF(B174=\"\",0,INDEX(SignalHeads[Height ** (feet)],MATCH(B174,SignalHeads[Code],0)))","v":0},{"$f":"IF(L174=0,\"\",ROUNDDOWN(12*(((J174-L174)-MIN($J$31:$J$230-$L$31:$L$230)-(MAX($L$31:$L$230*(($J$31:$J$230-$L$31:$L$230)=MIN($J$31:$J$230-$L$31:$L$230)))-L174))+(MIN($J$31:$J$230-$L$31:$L$230)-$I$19)),0)/12)","v":""},"",{"$error":"#VALUE!"},17]
[145,null,{"$f":"IF(B175=\"\",0,INDEX(SignalHeads[Perp. Wind Area (sft)],MATCH(B175,SignalHeads[Code],0)))","v":0},{"$f":"IF(B175=\"\",\"\",INDEX(SignalHeads[Weight*** (lbs)],MATCH(B175,SignalHeads[Code],0)))","v":""},{"$f":"IF(A175<=$I$17,INDEX(DesignConstants[Value],MATCH(\"Span Wire Weight (plf)\",DesignConstants[Design Constant],0)),0)","v":1.155},0,166.89750000000001,{"$error":"#N/A"},{"$error":"#N/A"},{"$error":"#VALUE!"},{"$error":"#VALUE!"},{"$f":"IF(B175=\"\",0,INDEX(SignalHeads[Height ** (feet)],MATCH(B175,SignalHeads[Code],0)))","v":0},{"$f":"IF(L175=0,\"\",ROUNDDOWN(12*(((J175-L175)-MIN($J$31:$J$230-$L$31:$L$230)-(MAX($L$31:$L$230*(($J$31:$J$230-$L$31:$L$230)=MIN($J$31:$J$230-$L$31:$L$230)))-L175))+(MIN($J$31:$J$230-$L$31:$L$230)-$I$19)),0)/12)","v":""},"",{"$error":"#VALUE!"},17]
[146,null,{"$f":"IF(B176=\"\",0,INDEX(SignalHeads[Perp. Wind Area (sft)],MATCH(B176,SignalHeads[Code],0)))","v":0},{"$f":"IF(B176=\"\",\"\",INDEX(SignalHeads[Weight*** (lbs)],MATCH(B176,SignalHeads[Code],0)))","v":""},{"$f":"IF(A176<=$I$17,INDEX(DesignConstants[Value],MATCH(\"Span Wire Weight (plf)\",DesignConstants[Design Constant],0)),0)","v":1.155},0,168.05250000000001,{"$error":"#N/A"},{"$error":"#N/A"},{"$error":"#VALUE!"},{"$error":"#VALUE!"},{"$f":"IF(B176=\"\",0,INDEX(SignalHeads[Height ** (feet)],MATCH(B176,SignalHeads[Code],0)))","v":0},{"$f":"IF(L176=0,\"\",ROUNDDOWN(12*(((J176-L176)-MIN($J$31:$J$230-$L$31:$L$230)-(MAX($L$31:$L$230*(($J$31:$J$230-$L$31:$L$230)=MIN($J$31:$J$230-$L$31:$L$230)))-L176))+(MIN($J$31:$J$230-$L$31:$L$230)-$I$19)),0)/12)","v":""},"",{"$error":"#VALUE!"},17]
[147,null,{"$f":"IF(B177=\"\",0,INDEX(SignalHeads[Perp. Wind Area (sft)],MATCH(B177,SignalHeads[Code],0)))","v":0},{"$f":"IF(B177=\"\",\"\",INDEX(SignalHeads[Weight*** (lbs)],MATCH(B177,SignalHeads[Code],0)))","v":""},{"$f":"IF(A177<=$I$17,INDEX(DesignConstants[Value],MATCH(\"Span Wire Weight (plf)\",DesignConstants[Design Constant],0)),0)","v":1.155},0,169.20750000000001,{"$error":"#N/A"},{"$error":"#N/A"},{"$error":"#VALUE!"},{"$error":"#VALUE!"},{"$f":"IF(B177=\"\",0,INDEX(SignalHeads[Height ** (feet)],MATCH(B177,SignalHeads[Code],0)))","v":0},{"$f":"IF(L177=0,\"\",ROUNDDOWN(12*(((J177-L177)-MIN($J$31:$J$230-$L$31:$L$230)-(MAX($L$31:$L$230*(($J$31:$J$230-$L$31:$L$230)=MIN($J$31:$J$230-$L$31:$L$230)))-L177))+(MIN($J$31:$J$230-$L$31:$L$230)-$I$19)),0)/12)","v":""},"",{"$error":"#VALUE!"},17]
[148,null,{"$f":"IF(B178=\"\",0,INDEX(SignalHeads[Perp. Wind Area (sft)],MATCH(B178,SignalHeads[Code],0)))","v":0},{"$f":"IF(B178=\"\",\"\",INDEX(SignalHeads[Weight*** (lbs)],MATCH(B178,SignalHeads[Code],0)))","v":""},{"$f":"IF(A178<=$I$17,INDEX(DesignConstants[Value],MATCH(\"Span Wire Weight (plf)\",DesignConstants[Design Constant],0)),0)","v":1.155},0,170.36250000000001,{"$error":"#N/A"},{"$error":"#N/A"},{"$error":"#VALUE!"},{"$error":"#VALUE!"},{"$f":"IF(B178=\"\",0,INDEX(SignalHeads[Height ** (feet)],MATCH(B178,SignalHeads[Code],0)))","v":0},{"$f":"IF(L178=0,\"\",ROUNDDOWN(12*(((J178-L178)-MIN($J$31:$J$230-$L$31:$L$230)-(MAX($L$31:$L$230*(($J$31:$J$230-$L$31:$L$230)=MIN($J$31:$J$230-$L$31:$L$230)))-L178))+(MIN($J$31:$J$230-$L$31:$L$230)-$I$19)),0)/12)","v":""},"",{"$error":"#VALUE!"},17]
[149,null,{"$f":"IF(B179=\"\",0,INDEX(SignalHeads[Perp. Wind Area (sft)],MATCH(B179,SignalHeads[Code],0)))","v":0},{"$f":"IF(B179=\"\",\"\",INDEX(SignalHeads[Weight*** (lbs)],MATCH(B179,SignalHeads[Code],0)))","v":""},{"$f":"IF(A179<=$I$17,INDEX(DesignConstants[Value],MATCH(\"Span Wire Weight (plf)\",DesignConstants[Design Constant],0)),0)","v":1.155},0,171.51750000000001,{"$error":"#N/A"},{"$error":"#N/A"},{"$error":"#VALUE!"},{"$error":"#VALUE!"},{"$f":"IF(B179=\"\",0,INDEX(SignalHeads[Height ** (feet)],MATCH(B179,SignalHeads[Code],0)))","v":0},{"$f":"IF(L179=0,\"\",ROUNDDOWN(12*(((J179-L179)-MIN($J$31:$J$230-$L$31:$L$230)-(MAX($L$31:$L$230*(($J$31:$J$230-$L$31:$L$230)=MIN($J$31:$J$230-$L$31:$L$230)))-L179))+(MIN($J$31:$J$230-$L$31:$L$230)-$I$19)),0)/12)","v":""},"",{"$error":"#VALUE!"},17]
[150,null,{"$f":"IF(B180=\"\",0,INDEX(SignalHeads[Perp. Wind Area (sft)],MATCH(B180,SignalHeads[Code],0)))","v":0},{"$f":"IF(B180=\"\",\"\",INDEX(SignalHeads[Weight*** (lbs)],MATCH(B180,SignalHeads[Code],0)))","v":""},{"$f":"IF(A180<=$I$17,INDEX(DesignConstants[Value],MATCH(\"Span Wire Weight (plf)\",DesignConstants[Design Constant],0)),0)","v":1.155},0,172.67250000000001,{"$error":"#N/A"},{"$error":"#N/A"},{"$error":"#VALUE!"},{"$error":"#VALUE!"},{"$f":"IF(B180=\"\",0,INDEX(SignalHeads[Height ** (feet)],MATCH(B180,SignalHeads[Code],0)))","v":0},{"$f":"IF(L180=0,\"\",ROUNDDOWN(12*(((J180-L180)-MIN($J$31:$J$230-$L$31:$L$230)-(MAX($L$31:$L$230*(($J$31:$J$230-$L$31:$L$230)=MIN($J$31:$J$230-$L$31:$L$230)))-L180))+(MIN($J$31:$J$230-$L$31:$L$230)-$I$19)),0)/12)","v":""},"",{"$error":"#VALUE!"},17]
[151,null,{"$f":"IF(B181=\"\",0,INDEX(SignalHeads[Perp. Wind Area (sft)],MATCH(B181,SignalHeads[Code],0)))","v":0},{"$f":"IF(B181=\"\",\"\",INDEX(SignalHeads[Weight*** (lbs)],MATCH(B181,SignalHeads[Code],0)))","v":""},{"$f":"IF(A181<=$I$17,INDEX(DesignConstants[Value],MATCH(\"Span Wire Weight (plf)\",DesignConstants[Design Constant],0)),0)","v":1.155},0,173.82750000000001,{"$error":"#N/A"},{"$error":"#N/A"},{"$error":"#VALUE!"},{"$error":"#VALUE!"},{"$f":"IF(B181=\"\",0,INDEX(SignalHeads[Height ** (feet)],MATCH(B181,SignalHeads[Code],0)))","v":0},{"$f":"IF(L181=0,\"\",ROUNDDOWN(12*(((J181-L181)-MIN($J$31:$J$230-$L$31:$L$230)-(MAX($L$31:$L$230*(($J$31:$J$230-$L$31:$L$230)=MIN($J$31:$J$230-$L$31:$L$230)))-L181))+(MIN($J$31:$J$230-$L$31:$L$230)-$I$19)),0)/12)","v":""},"",{"$error":"#VALUE!"},17]
[152,null,{"$f":"IF(B182=\"\",0,INDEX(SignalHeads[Perp. Wind Area (sft)],MATCH(B182,SignalHeads[Code],0)))","v":0},{"$f":"IF(B182=\"\",\"\",INDEX(SignalHeads[Weight*** (lbs)],MATCH(B182,SignalHeads[Code],0)))","v":""},{"$f":"IF(A182<=$I$17,INDEX(DesignConstants[Value],MATCH(\"Span Wire Weight (plf)\",DesignConstants[Design Constant],0)),0)","v":1.155},0,174.98250000000002,{"$error":"#N/A"},{"$error":"#N/A"},{"$error":"#VALUE!"},{"$error":"#VALUE!"},{"$f":"IF(B182=\"\",0,INDEX(SignalHeads[Height ** (feet)],MATCH(B182,SignalHeads[Code],0)))","v":0},{"$f":"IF(L182=0,\"\",ROUNDDOWN(12*(((J182-L182)-MIN($J$31:$J$230-$L$31:$L$230)-(MAX($L$31:$L$230*(($J$31:$J$230-$L$31:$L$230)=MIN($J$31:$J$230-$L$31:$L$230)))-L182))+(MIN($J$31:$J$230-$L$31:$L$230)-$I$19)),0)/12)","v":""},"",{"$error":"#VALUE!"},17]
[153,null,{"$f":"IF(B183=\"\",0,INDEX(SignalHeads[Perp. Wind Area (sft)],MATCH(B183,SignalHeads[Code],0)))","v":0},{"$f":"IF(B183=\"\",\"\",INDEX(SignalHeads[Weight*** (lbs)],MATCH(B183,SignalHeads[Code],0)))","v":""},{"$f":"IF(A183<=$I$17,INDEX(DesignConstants[Value],MATCH(\"Span Wire Weight (plf)\",DesignConstants[Design Constant],0)),0)","v":1.155},0,176.13750000000002,{"$error":"#N/A"},{"$error":"#N/A"},{"$error":"#VALUE!"},{"$error":"#VALUE!"},{"$f":"IF(B183=\"\",0,INDEX(SignalHeads[Height ** (feet)],MATCH(B183,SignalHeads[Code],0)))","v":0},{"$f":"IF(L183=0,\"\",ROUNDDOWN(12*(((J183-L183)-MIN($J$31:$J$230-$L$31:$L$230)-(MAX($L$31:$L$230*(($J$31:$J$230-$L$31:$L$230)=MIN($J$31:$J$230-$L$31:$L$230)))-L183))+(MIN($J$31:$J$230-$L$31:$L$230)-$I$19)),0)/12)","v":""},"",{"$error":"#VALUE!"},17]
[154,null,{"$f":"IF(B184=\"\",0,INDEX(SignalHeads[Perp. Wind Area (sft)],MATCH(B184,SignalHeads[Code],0)))","v":0},{"$f":"IF(B184=\"\",\"\",INDEX(SignalHeads[Weight*** (lbs)],MATCH(B184,SignalHeads[Code],0)))","v":""},{"$f":"IF(A184<=$I$17,INDEX(DesignConstants[Value],MATCH(\"Span Wire Weight (plf)\",DesignConstants[Design Constant],0)),0)","v":1.155},0,177.29250000000002,{"$error":"#N/A"},{"$error":"#N/A"},{"$error":"#VALUE!"},{"$error":"#VALUE!"},{"$f":"IF(B184=\"\",0,INDEX(SignalHeads[Height ** (feet)],MATCH(B184,SignalHeads[Code],0)))","v":0},{"$f":"IF(L184=0,\"\",ROUNDDOWN(12*(((J184-L184)-MIN($J$31:$J$230-$L$31:$L$230)-(MAX($L$31:$L$230*(($J$31:$J$230-$L$31:$L$230)=MIN($J$31:$J$230-$L$31:$L$230)))-L184))+(MIN($J$31:$J$230-$L$31:$L$230)-$I$19)),0)/12)","v":""},"",{"$error":"#VALUE!"},17]
[155,null,{"$f":"IF(B185=\"\",0,INDEX(SignalHeads[Perp. Wind Area (sft)],MATCH(B185,SignalHeads[Code],0)))","v":0},{"$f":"IF(B185=\"\",\"\",INDEX(SignalHeads[Weight*** (lbs)],MATCH(B185,SignalHeads[Code],0)))","v":""},{"$f":"IF(A185<=$I$17,INDEX(DesignConstants[Value],MATCH(\"Span Wire Weight (plf)\",DesignConstants[Design Constant],0)),0)","v":1.155},0,178.44749999999999,{"$error":"#N/A"},{"$error":"#N/A"},{"$error":"#VALUE!"},{"$error":"#VALUE!"},{"$f":"IF(B185=\"\",0,INDEX(SignalHeads[Height ** (feet)],MATCH(B185,SignalHeads[Code],0)))","v":0},{"$f":"IF(L185=0,\"\",ROUNDDOWN(12*(((J185-L185)-MIN($J$31:$J$230-$L$31:$L$230)-(MAX($L$31:$L$230*(($J$31:$J$230-$L$31:$L$230)=MIN($J$31:$J$230-$L$31:$L$230)))-L185))+(MIN($J$31:$J$230-$L$31:$L$230)-$I$19)),0)/12)","v":""},"",{"$error":"#VALUE!"},17]
[156,null,{"$f":"IF(B186=\"\",0,INDEX(SignalHeads[Perp. Wind Area (sft)],MATCH(B186,SignalHeads[Code],0)))","v":0},{"$f":"IF(B186=\"\",\"\",INDEX(SignalHeads[Weight*** (lbs)],MATCH(B186,SignalHeads[Code],0)))","v":""},{"$f":"IF(A186<=$I$17,INDEX(DesignConstants[Value],MATCH(\"Span Wire Weight (plf)\",DesignConstants[Design Constant],0)),0)","v":1.155},0,179.60249999999999,{"$error":"#N/A"},{"$error":"#N/A"},{"$error":"#VALUE!"},{"$error":"#VALUE!"},{"$f":"IF(B186=\"\",0,INDEX(SignalHeads[Height ** (feet)],MATCH(B186,SignalHeads[Code],0)))","v":0},{"$f":"IF(L186=0,\"\",ROUNDDOWN(12*(((J186-L186)-MIN($J$31:$J$230-$L$31:$L$230)-(MAX($L$31:$L$230*(($J$31:$J$230-$L$31:$L$230)=MIN($J$31:$J$230-$L$31:$L$230)))-L186))+(MIN($J$31:$J$230-$L$31:$L$230)-$I$19)),0)/12)","v":""},"",{"$error":"#VALUE!"},17]
[157,null,{"$f":"IF(B187=\"\",0,INDEX(SignalHeads[Perp. Wind Area (sft)],MATCH(B187,SignalHeads[Code],0)))","v":0},{"$f":"IF(B187=\"\",\"\",INDEX(SignalHeads[Weight*** (lbs)],MATCH(B187,SignalHeads[Code],0)))","v":""},{"$f":"IF(A187<=$I$17,INDEX(DesignConstants[Value],MATCH(\"Span Wire Weight (plf)\",DesignConstants[Design Constant],0)),0)","v":1.155},0,180.75749999999999,{"$error":"#N/A"},{"$error":"#N/A"},{"$error":"#VALUE!"},{"$error":"#VALUE!"},{"$f":"IF(B187=\"\",0,INDEX(SignalHeads[Height ** (feet)],MATCH(B187,SignalHeads[Code],0)))","v":0},{"$f":"IF(L187=0,\"\",ROUNDDOWN(12*(((J187-L187)-MIN($J$31:$J$230-$L$31:$L$230)-(MAX($L$31:$L$230*(($J$31:$J$230-$L$31:$L$230)=MIN($J$31:$J$230-$L$31:$L$230)))-L187))+(MIN($J$31:$J$230-$L$31:$L$230)-$I$19)),0)/12)","v":""},"",{"$error":"#VALUE!"},17]
[158,null,{"$f":"IF(B188=\"\",0,INDEX(SignalHeads[Perp. Wind Area (sft)],MATCH(B188,SignalHeads[Code],0)))","v":0},{"$f":"IF(B188=\"\",\"\",INDEX(SignalHeads[Weight*** (lbs)],MATCH(B188,SignalHeads[Code],0)))","v":""},{"$f":"IF(A188<=$I$17,INDEX(DesignConstants[Value],MATCH(\"Span Wire Weight (plf)\",DesignConstants[Design Constant],0)),0)","v":1.155},0,181.91249999999999,{"$error":"#N/A"},{"$error":"#N/A"},{"$error":"#VALUE!"},{"$error":"#VALUE!"},{"$f":"IF(B188=\"\",0,INDEX(SignalHeads[Height ** (feet)],MATCH(B188,SignalHeads[Code],0)))","v":0},{"$f":"IF(L188=0,\"\",ROUNDDOWN(12*(((J188-L188)-MIN($J$31:$J$230-$L$31:$L$230)-(MAX($L$31:$L$230*(($J$31:$J$230-$L$31:$L$230)=MIN($J$31:$J$230-$L$31:$L$230)))-L188))+(MIN($J$31:$J$230-$L$31:$L$230)-$I$19)),0)/12)","v":""},"",{"$error":"#VALUE!"},17]
[159,null,{"$f":"IF(B189=\"\",0,INDEX(SignalHeads[Perp. Wind Area (sft)],MATCH(B189,SignalHeads[Code],0)))","v":0},{"$f":"IF(B189=\"\",\"\",INDEX(SignalHeads[Weight*** (lbs)],MATCH(B189,SignalHeads[Code],0)))","v":""},{"$f":"IF(A189<=$I$17,INDEX(DesignConstants[Value],MATCH(\"Span Wire Weight (plf)\",DesignConstants[Design Constant],0)),0)","v":1.155},0,183.0675,{"$error":"#N/A"},{"$error":"#N/A"},{"$error":"#VALUE!"},{"$error":"#VALUE!"},{"$f":"IF(B189=\"\",0,INDEX(SignalHeads[Height ** (feet)],MATCH(B189,SignalHeads[Code],0)))","v":0},{"$f":"IF(L189=0,\"\",ROUNDDOWN(12*(((J189-L189)-MIN($J$31:$J$230-$L$31:$L$230)-(MAX($L$31:$L$230*(($J$31:$J$230-$L$31:$L$230)=MIN($J$31:$J$230-$L$31:$L$230)))-L189))+(MIN($J$31:$J$230-$L$31:$L$230)-$I$19)),0)/12)","v":""},"",{"$error":"#VALUE!"},17]
[160,null,{"$f":"IF(B190=\"\",0,INDEX(SignalHeads[Perp. Wind Area (sft)],MATCH(B190,SignalHeads[Code],0)))","v":0},{"$f":"IF(B190=\"\",\"\",INDEX(SignalHeads[Weight*** (lbs)],MATCH(B190,SignalHeads[Code],0)))","v":""},{"$f":"IF(A190<=$I$17,INDEX(DesignConstants[Value],MATCH(\"Span Wire Weight (plf)\",DesignConstants[Design Constant],0)),0)","v":1.155},0,184.2225,{"$error":"#N/A"},{"$error":"#N/A"},{"$error":"#VALUE!"},{"$error":"#VALUE!"},{"$f":"IF(B190=\"\",0,INDEX(SignalHeads[Height ** (feet)],MATCH(B190,SignalHeads[Code],0)))","v":0},{"$f":"IF(L190=0,\"\",ROUNDDOWN(12*(((J190-L190)-MIN($J$31:$J$230-$L$31:$L$230)-(MAX($L$31:$L$230*(($J$31:$J$230-$L$31:$L$230)=MIN($J$31:$J$230-$L$31:$L$230)))-L190))+(MIN($J$31:$J$230-$L$31:$L$230)-$I$19)),0)/12)","v":""},"",{"$error":"#VALUE!"},17]
[161,null,{"$f":"IF(B191=\"\",0,INDEX(SignalHeads[Perp. Wind Area (sft)],MATCH(B191,SignalHeads[Code],0)))","v":0},{"$f":"IF(B191=\"\",\"\",INDEX(SignalHeads[Weight*** (lbs)],MATCH(B191,SignalHeads[Code],0)))","v":""},{"$f":"IF(A191<=$I$17,INDEX(DesignConstants[Value],MATCH(\"Span Wire Weight (plf)\",DesignConstants[Design Constant],0)),0)","v":1.155},0,185.3775,{"$error":"#N/A"},{"$error":"#N/A"},{"$error":"#VALUE!"},{"$f":"IF(A191>$I$17,0,($N$24-$N$15)/$I$17*A191+$N$15)","v":{"$error":"#VALUE!"}},{"$f":"IF(B191=\"\",0,INDEX(SignalHeads[Height ** (feet)],MATCH(B191,SignalHeads[Code],0)))","v":0},{"$f":"IF(L191=0,\"\",ROUNDDOWN(12*(((J191-L191)-MIN($J$31:$J$230-$L$31:$L$230)-(MAX($L$31:$L$230*(($J$31:$J$230-$L$31:$L$230)=MIN($J$31:$J$230-$L$31:$L$230)))-L191))+(MIN($J$31:$J$230-$L$31:$L$230)-$I$19)),0)/12)","v":""},"",{"$error":"#VALUE!"},{"$f":"$I$19","v":17}]
[162,null,{"$f":"IF(B192=\"\",0,INDEX(SignalHeads[Perp. Wind Area (sft)],MATCH(B192,SignalHeads[Code],0)))","v":0},{"$f":"IF(B192=\"\",\"\",INDEX(SignalHeads[Weight*** (lbs)],MATCH(B192,SignalHeads[Code],0)))","v":""},{"$f":"IF(A192<=$I$17,INDEX(DesignConstants[Value],MATCH(\"Span Wire Weight (plf)\",DesignConstants[Design Constant],0)),0)","v":1.155},0,186.5325,{"$error":"#N/A"},{"$error":"#N/A"},{"$error":"#VALUE!"},{"$error":"#VALUE!"},{"$f":"IF(B192=\"\",0,INDEX(SignalHeads[Height ** (feet)],MATCH(B192,SignalHeads[Code],0)))","v":0},{"$f":"IF(L192=0,\"\",ROUNDDOWN(12*(((J192-L192)-MIN($J$31:$J$230-$L$31:$L$230)-(MAX($L$31:$L$230*(($J$31:$J$230-$L$31:$L$230)=MIN($J$31:$J$230-$L$31:$L$230)))-L192))+(MIN($J$31:$J$230-$L$31:$L$230)-$I$19)),0)/12)","v":""},"",{"$error":"#VALUE!"},17]
[163,null,{"$f":"IF(B193=\"\",0,INDEX(SignalHeads[Perp. Wind Area (sft)],MATCH(B193,SignalHeads[Code],0)))","v":0},{"$f":"IF(B193=\"\",\"\",INDEX(SignalHeads[Weight*** (lbs)],MATCH(B193,SignalHeads[Code],0)))","v":""},{"$f":"IF(A193<=$I$17,INDEX(DesignConstants[Value],MATCH(\"Span Wire Weight (plf)\",DesignConstants[Design Constant],0)),0)","v":1.155},0,187.6875,{"$error":"#N/A"},{"$error":"#N/A"},{"$error":"#VALUE!"},{"$error":"#VALUE!"},{"$f":"IF(B193=\"\",0,INDEX(SignalHeads[Height ** (feet)],MATCH(B193,SignalHeads[Code],0)))","v":0},{"$f":"IF(L193=0,\"\",ROUNDDOWN(12*(((J193-L193)-MIN($J$31:$J$230-$L$31:$L$230)-(MAX($L$31:$L$230*(($J$31:$J$230-$L$31:$L$230)=MIN($J$31:$J$230-$L$31:$L$230)))-L193))+(MIN($J$31:$J$230-$L$31:$L$230)-$I$19)),0)/12)","v":""},"",{"$error":"#VALUE!"},17]
[164,null,{"$f":"IF(B194=\"\",0,INDEX(SignalHeads[Perp. Wind Area (sft)],MATCH(B194,SignalHeads[Code],0)))","v":0},{"$f":"IF(B194=\"\",\"\",INDEX(SignalHeads[Weight*** (lbs)],MATCH(B194,SignalHeads[Code],0)))","v":""},{"$f":"IF(A194<=$I$17,INDEX(DesignConstants[Value],MATCH(\"Span Wire Weight (plf)\",DesignConstants[Design Constant],0)),0)","v":1.155},0,188.8425,{"$error":"#N/A"},{"$error":"#N/A"},{"$error":"#VALUE!"},{"$error":"#VALUE!"},{"$f":"IF(B194=\"\",0,INDEX(SignalHeads[Height ** (feet)],MATCH(B194,SignalHeads[Code],0)))","v":0},{"$f":"IF(L194=0,\"\",ROUNDDOWN(12*(((J194-L194)-MIN($J$31:$J$230-$L$31:$L$230)-(MAX($L$31:$L$230*(($J$31:$J$230-$L$31:$L$230)=MIN($J$31:$J$230-$L$31:$L$230)))-L194))+(MIN($J$31:$J$230-$L$31:$L$230)-$I$19)),0)/12)","v":""},"",{"$error":"#VALUE!"},17]
[165,null,{"$f":"IF(B195=\"\",0,INDEX(SignalHeads[Perp. Wind Area (sft)],MATCH(B195,SignalHeads[Code],0)))","v":0},{"$f":"IF(B195=\"\",\"\",INDEX(SignalHeads[Weight*** (lbs)],MATCH(B195,SignalHeads[Code],0)))","v":""},{"$f":"IF(A195<=$I$17,INDEX(DesignConstants[Value],MATCH(\"Span Wire Weight (plf)\",DesignConstants[Design Constant],0)),0)","v":1.155},0,189.9975,{"$error":"#N/A"},{"$error":"#N/A"},{"$error":"#VALUE!"},{"$error":"#VALUE!"},{"$f":"IF(B195=\"\",0,INDEX(SignalHeads[Height ** (feet)],MATCH(B195,SignalHeads[Code],0)))","v":0},{"$f":"IF(L195=0,\"\",ROUNDDOWN(12*(((J195-L195)-MIN($J$31:$J$230-$L$31:$L$230)-(MAX($L$31:$L$230*(($J$31:$J$230-$L$31:$L$230)=MIN($J$31:$J$230-$L$31:$L$230)))-L195))+(MIN($J$31:$J$230-$L$31:$L$230)-$I$19)),0)/12)","v":""},"",{"$error":"#VALUE!"},17]
[166,null,{"$f":"IF(B196=\"\",0,INDEX(SignalHeads[Perp. Wind Area (sft)],MATCH(B196,SignalHeads[Code],0)))","v":0},{"$f":"IF(B196=\"\",\"\",INDEX(SignalHeads[Weight*** (lbs)],MATCH(B196,SignalHeads[Code],0)))","v":""},{"$f":"IF(A196<=$I$17,INDEX(DesignConstants[Value],MATCH(\"Span Wire Weight (plf)\",DesignConstants[Design Constant],0)),0)","v":1.155},0,191.1525,{"$error":"#N/A"},{"$error":"#N/A"},{"$error":"#VALUE!"},{"$error":"#VALUE!"},{"$f":"IF(B196=\"\",0,INDEX(SignalHeads[Height ** (feet)],MATCH(B196,SignalHeads[Code],0)))","v":0},{"$f":"IF(L196=0,\"\",ROUNDDOWN(12*(((J196-L196)-MIN($J$31:$J$230-$L$31:$L$230)-(MAX($L$31:$L$230*(($J$31:$J$230-$L$31:$L$230)=MIN($J$31:$J$230-$L$31:$L$230)))-L196))+(MIN($J$31:$J$230-$L$31:$L$230)-$I$19)),0)/12)","v":""},"",{"$error":"#VALUE!"},17]
[167,null,{"$f":"IF(B197=\"\",0,INDEX(SignalHeads[Perp. Wind Area (sft)],MATCH(B197,SignalHeads[Code],0)))","v":0},{"$f":"IF(B197=\"\",\"\",INDEX(SignalHeads[Weight*** (lbs)],MATCH(B197,SignalHeads[Code],0)))","v":""},{"$f":"IF(A197<=$I$17,INDEX(DesignConstants[Value],MATCH(\"Span Wire Weight (plf)\",DesignConstants[Design Constant],0)),0)","v":1.155},0,192.3075,{"$error":"#N/A"},{"$error":"#N/A"},{"$error":"#VALUE!"},{"$error":"#VALUE!"},{"$f":"IF(B197=\"\",0,INDEX(SignalHeads[Height ** (feet)],MATCH(B197,SignalHeads[Code],0)))","v":0},{"$f":"IF(L197=0,\"\",ROUNDDOWN(12*(((J197-L197)-MIN($J$31:$J$230-$L$31:$L$230)-(MAX($L$31:$L$230*(($J$31:$J$230-$L$31:$L$230)=MIN($J$31:$J$230-$L$31:$L$230)))-L197))+(MIN($J$31:$J$230-$L$31:$L$230)-$I$19)),0)/12)","v":""},"",{"$error":"#VALUE!"},17]
[168,null,{"$f":"IF(B198=\"\",0,INDEX(SignalHeads[Perp. Wind Area (sft)],MATCH(B198,SignalHeads[Code],0)))","v":0},{"$f":"IF(B198=\"\",\"\",INDEX(SignalHeads[Weight*** (lbs)],MATCH(B198,SignalHeads[Code],0)))","v":""},{"$f":"IF(A198<=$I$17,INDEX(DesignConstants[Value],MATCH(\"Span Wire Weight (plf)\",DesignConstants[Design Constant],0)),0)","v":1.155},0,193.46250000000001,{"$error":"#N/A"},{"$error":"#N/A"},{"$error":"#VALUE!"},{"$error":"#VALUE!"},{"$f":"IF(B198=\"\",0,INDEX(SignalHeads[Height ** (feet)],MATCH(B198,SignalHeads[Code],0)))","v":0},{"$f":"IF(L198=0,\"\",ROUNDDOWN(12*(((J198-L198)-MIN($J$31:$J$230-$L$31:$L$230)-(MAX($L$31:$L$230*(($J$31:$J$230-$L$31:$L$230)=MIN($J$31:$J$230-$L$31:$L$230)))-L198))+(MIN($J$31:$J$230-$L$31:$L$230)-$I$19)),0)/12)","v":""},"",{"$error":"#VALUE!"},17]
[169,null,{"$f":"IF(B199=\"\",0,INDEX(SignalHeads[Perp. Wind Area (sft)],MATCH(B199,SignalHeads[Code],0)))","v":0},{"$f":"IF(B199=\"\",\"\",INDEX(SignalHeads[Weight*** (lbs)],MATCH(B199,SignalHeads[Code],0)))","v":""},{"$f":"IF(A199<=$I$17,INDEX(DesignConstants[Value],MATCH(\"Span Wire Weight (plf)\",DesignConstants[Design Constant],0)),0)","v":1.155},0,194.61750000000001,{"$error":"#N/A"},{"$error":"#N/A"},{"$error":"#VALUE!"},{"$error":"#VALUE!"},{"$f":"IF(B199=\"\",0,INDEX(SignalHeads[Height ** (feet)],MATCH(B199,SignalHeads[Code],0)))","v":0},{"$f":"IF(L199=0,\"\",ROUNDDOWN(12*(((J199-L199)-MIN($J$31:$J$230-$L$31:$L$230)-(MAX($L$31:$L$230*(($J$31:$J$230-$L$31:$L$230)=MIN($J$31:$J$230-$L$31:$L$230)))-L199))+(MIN($J$31:$J$230-$L$31:$L$230)-$I$19)),0)/12)","v":""},"",{"$error":"#VALUE!"},17]
[170,null,{"$f":"IF(B200=\"\",0,INDEX(SignalHeads[Perp. Wind Area (sft)],MATCH(B200,SignalHeads[Code],0)))","v":0},{"$f":"IF(B200=\"\",\"\",INDEX(SignalHeads[Weight*** (lbs)],MATCH(B200,SignalHeads[Code],0)))","v":""},{"$f":"IF(A200<=$I$17,INDEX(DesignConstants[Value],MATCH(\"Span Wire Weight (plf)\",DesignConstants[Design Constant],0)),0)","v":1.155},0,195.77250000000001,{"$error":"#N/A"},{"$error":"#N/A"},{"$error":"#VALUE!"},{"$error":"#VALUE!"},{"$f":"IF(B200=\"\",0,INDEX(SignalHeads[Height ** (feet)],MATCH(B200,SignalHeads[Code],0)))","v":0},{"$f":"IF(L200=0,\"\",ROUNDDOWN(12*(((J200-L200)-MIN($J$31:$J$230-$L$31:$L$230)-(MAX($L$31:$L$230*(($J$31:$J$230-$L$31:$L$230)=MIN($J$31:$J$230-$L$31:$L$230)))-L200))+(MIN($J$31:$J$230-$L$31:$L$230)-$I$19)),0)/12)","v":""},"",{"$error":"#VALUE!"},17]
[171,null,{"$f":"IF(B201=\"\",0,INDEX(SignalHeads[Perp. Wind Area (sft)],MATCH(B201,SignalHeads[Code],0)))","v":0},{"$f":"IF(B201=\"\",\"\",INDEX(SignalHeads[Weight*** (lbs)],MATCH(B201,SignalHeads[Code],0)))","v":""},{"$f":"IF(A201<=$I$17,INDEX(DesignConstants[Value],MATCH(\"Span Wire Weight (plf)\",DesignConstants[Design Constant],0)),0)","v":1.155},0,196.92750000000001,{"$error":"#N/A"},{"$error":"#N/A"},{"$error":"#VALUE!"},{"$error":"#VALUE!"},{"$f":"IF(B201=\"\",0,INDEX(SignalHeads[Height ** (feet)],MATCH(B201,SignalHeads[Code],0)))","v":0},{"$f":"IF(L201=0,\"\",ROUNDDOWN(12*(((J201-L201)-MIN($J$31:$J$230-$L$31:$L$230)-(MAX($L$31:$L$230*(($J$31:$J$230-$L$31:$L$230)=MIN($J$31:$J$230-$L$31:$L$230)))-L201))+(MIN($J$31:$J$230-$L$31:$L$230)-$I$19)),0)/12)","v":""},"",{"$error":"#VALUE!"},17]
[172,null,{"$f":"IF(B202=\"\",0,INDEX(SignalHeads[Perp. Wind Area (sft)],MATCH(B202,SignalHeads[Code],0)))","v":0},{"$f":"IF(B202=\"\",\"\",INDEX(SignalHeads[Weight*** (lbs)],MATCH(B202,SignalHeads[Code],0)))","v":""},{"$f":"IF(A202<=$I$17,INDEX(DesignConstants[Value],MATCH(\"Span Wire Weight (plf)\",DesignConstants[Design Constant],0)),0)","v":1.155},0,198.08250000000001,{"$error":"#N/A"},{"$error":"#N/A"},{"$error":"#VALUE!"},{"$error":"#VALUE!"},{"$f":"IF(B202=\"\",0,INDEX(SignalHeads[Height ** (feet)],MATCH(B202,SignalHeads[Code],0)))","v":0},{"$f":"IF(L202=0,\"\",ROUNDDOWN(12*(((J202-L202)-MIN($J$31:$J$230-$L$31:$L$230)-(MAX($L$31:$L$230*(($J$31:$J$230-$L$31:$L$230)=MIN($J$31:$J$230-$L$31:$L$230)))-L202))+(MIN($J$31:$J$230-$L$31:$L$230)-$I$19)),0)/12)","v":""},"",{"$error":"#VALUE!"},17]
[173,null,{"$f":"IF(B203=\"\",0,INDEX(SignalHeads[Perp. Wind Area (sft)],MATCH(B203,SignalHeads[Code],0)))","v":0},{"$f":"IF(B203=\"\",\"\",INDEX(SignalHeads[Weight*** (lbs)],MATCH(B203,SignalHeads[Code],0)))","v":""},{"$f":"IF(A203<=$I$17,INDEX(DesignConstants[Value],MATCH(\"Span Wire Weight (plf)\",DesignConstants[Design Constant],0)),0)","v":1.155},0,199.23750000000001,{"$error":"#N/A"},{"$error":"#N/A"},{"$error":"#VALUE!"},{"$error":"#VALUE!"},{"$f":"IF(B203=\"\",0,INDEX(SignalHeads[Height ** (feet)],MATCH(B203,SignalHeads[Code],0)))","v":0},{"$f":"IF(L203=0,\"\",ROUNDDOWN(12*(((J203-L203)-MIN($J$31:$J$230-$L$31:$L$230)-(MAX($L$31:$L$230*(($J$31:$J$230-$L$31:$L$230)=MIN($J$31:$J$230-$L$31:$L$230)))-L203))+(MIN($J$31:$J$230-$L$31:$L$230)-$I$19)),0)/12)","v":""},"",{"$error":"#VALUE!"},17]
[174,null,{"$f":"IF(B204=\"\",0,INDEX(SignalHeads[Perp. Wind Area (sft)],MATCH(B204,SignalHeads[Code],0)))","v":0},{"$f":"IF(B204=\"\",\"\",INDEX(SignalHeads[Weight*** (lbs)],MATCH(B204,SignalHeads[Code],0)))","v":""},{"$f":"IF(A204<=$I$17,INDEX(DesignConstants[Value],MATCH(\"Span Wire Weight (plf)\",DesignConstants[Design Constant],0)),0)","v":1.155},0,200.39250000000001,{"$error":"#N/A"},{"$error":"#N/A"},{"$error":"#VALUE!"},{"$error":"#VALUE!"},{"$f":"IF(B204=\"\",0,INDEX(SignalHeads[Height ** (feet)],MATCH(B204,SignalHeads[Code],0)))","v":0},{"$f":"IF(L204=0,\"\",ROUNDDOWN(12*(((J204-L204)-MIN($J$31:$J$230-$L$31:$L$230)-(MAX($L$31:$L$230*(($J$31:$J$230-$L$31:$L$230)=MIN($J$31:$J$230-$L$31:$L$230)))-L204))+(MIN($J$31:$J$230-$L$31:$L$230)-$I$19)),0)/12)","v":""},"",{"$error":"#VALUE!"},17]
[175,null,{"$f":"IF(B205=\"\",0,INDEX(SignalHeads[Perp. Wind Area (sft)],MATCH(B205,SignalHeads[Code],0)))","v":0},{"$f":"IF(B205=\"\",\"\",INDEX(SignalHeads[Weight*** (lbs)],MATCH(B205,SignalHeads[Code],0)))","v":""},{"$f":"IF(A205<=$I$17,INDEX(DesignConstants[Value],MATCH(\"Span Wire Weight (plf)\",DesignConstants[Design Constant],0)),0)","v":1.155},0,201.54750000000001,{"$error":"#N/A"},{"$error":"#N/A"},{"$error":"#VALUE!"},{"$error":"#VALUE!"},{"$f":"IF(B205=\"\",0,INDEX(SignalHeads[Height ** (feet)],MATCH(B205,SignalHeads[Code],0)))","v":0},{"$f":"IF(L205=0,\"\",ROUNDDOWN(12*(((J205-L205)-MIN($J$31:$J$230-$L$31:$L$230)-(MAX($L$31:$L$230*(($J$31:$J$230-$L$31:$L$230)=MIN($J$31:$J$230-$L$31:$L$230)))-L205))+(MIN($J$31:$J$230-$L$31:$L$230)-$I$19)),0)/12)","v":""},"",{"$error":"#VALUE!"},17]
[176,null,{"$f":"IF(B206=\"\",0,INDEX(SignalHeads[Perp. Wind Area (sft)],MATCH(B206,SignalHeads[Code],0)))","v":0},{"$f":"IF(B206=\"\",\"\",INDEX(SignalHeads[Weight*** (lbs)],MATCH(B206,SignalHeads[Code],0)))","v":""},{"$f":"IF(A206<=$I$17,INDEX(DesignConstants[Value],MATCH(\"Span Wire Weight (plf)\",DesignConstants[Design Constant],0)),0)","v":1.155},0,202.70250000000001,{"$error":"#N/A"},{"$error":"#N/A"},{"$error":"#VALUE!"},{"$error":"#VALUE!"},{"$f":"IF(B206=\"\",0,INDEX(SignalHeads[Height ** (feet)],MATCH(B206,SignalHeads[Code],0)))","v":0},{"$f":"IF(L206=0,\"\",ROUNDDOWN(12*(((J206-L206)-MIN($J$31:$J$230-$L$31:$L$230)-(MAX($L$31:$L$230*(($J$31:$J$230-$L$31:$L$230)=MIN($J$31:$J$230-$L$31:$L$230)))-L206))+(MIN($J$31:$J$230-$L$31:$L$230)-$I$19)),0)/12)","v":""},"",{"$error":"#VALUE!"},17]
[177,null,{"$f":"IF(B207=\"\",0,INDEX(SignalHeads[Perp. Wind Area (sft)],MATCH(B207,SignalHeads[Code],0)))","v":0},{"$f":"IF(B207=\"\",\"\",INDEX(SignalHeads[Weight*** (lbs)],MATCH(B207,SignalHeads[Code],0)))","v":""},{"$f":"IF(A207<=$I$17,INDEX(DesignConstants[Value],MATCH(\"Span Wire Weight (plf)\",DesignConstants[Design Constant],0)),0)","v":1.155},0,203.85750000000002,{"$error":"#N/A"},{"$error":"#N/A"},{"$error":"#VALUE!"},{"$error":"#VALUE!"},{"$f":"IF(B207=\"\",0,INDEX(SignalHeads[Height ** (feet)],MATCH(B207,SignalHeads[Code],0)))","v":0},{"$f":"IF(L207=0,\"\",ROUNDDOWN(12*(((J207-L207)-MIN($J$31:$J$230-$L$31:$L$230)-(MAX($L$31:$L$230*(($J$31:$J$230-$L$31:$L$230)=MIN($J$31:$J$230-$L$31:$L$230)))-L207))+(MIN($J$31:$J$230-$L$31:$L$230)-$I$19)),0)/12)","v":""},"",{"$error":"#VALUE!"},17]
[178,null,{"$f":"IF(B208=\"\",0,INDEX(SignalHeads[Perp. Wind Area (sft)],MATCH(B208,SignalHeads[Code],0)))","v":0},{"$f":"IF(B208=\"\",\"\",INDEX(SignalHeads[Weight*** (lbs)],MATCH(B208,SignalHeads[Code],0)))","v":""},{"$f":"IF(A208<=$I$17,INDEX(DesignConstants[Value],MATCH(\"Span Wire Weight (plf)\",DesignConstants[Design Constant],0)),0)","v":1.155},0,205.01250000000002,{"$error":"#N/A"},{"$error":"#N/A"},{"$error":"#VALUE!"},{"$error":"#VALUE!"},{"$f":"IF(B208=\"\",0,INDEX(SignalHeads[Height ** (feet)],MATCH(B208,SignalHeads[Code],0)))","v":0},{"$f":"IF(L208=0,\"\",ROUNDDOWN(12*(((J208-L208)-MIN($J$31:$J$230-$L$31:$L$230)-(MAX($L$31:$L$230*(($J$31:$J$230-$L$31:$L$230)=MIN($J$31:$J$230-$L$31:$L$230)))-L208))+(MIN($J$31:$J$230-$L$31:$L$230)-$I$19)),0)/12)","v":""},"",{"$error":"#VALUE!"},17]
[179,null,{"$f":"IF(B209=\"\",0,INDEX(SignalHeads[Perp. Wind Area (sft)],MATCH(B209,SignalHeads[Code],0)))","v":0},{"$f":"IF(B209=\"\",\"\",INDEX(SignalHeads[Weight*** (lbs)],MATCH(B209,SignalHeads[Code],0)))","v":""},{"$f":"IF(A209<=$I$17,INDEX(DesignConstants[Value],MATCH(\"Span Wire Weight (plf)\",DesignConstants[Design Constant],0)),0)","v":1.155},0,206.16750000000002,{"$error":"#N/A"},{"$error":"#N/A"},{"$error":"#VALUE!"},{"$error":"#VALUE!"},{"$f":"IF(B209=\"\",0,INDEX(SignalHeads[Height ** (feet)],MATCH(B209,SignalHeads[Code],0)))","v":0},{"$f":"IF(L209=0,\"\",ROUNDDOWN(12*(((J209-L209)-MIN($J$31:$J$230-$L$31:$L$230)-(MAX($L$31:$L$230*(($J$31:$J$230-$L$31:$L$230)=MIN($J$31:$J$230-$L$31:$L$230)))-L209))+(MIN($J$31:$J$230-$L$31:$L$230)-$I$19)),0)/12)","v":""},"",{"$error":"#VALUE!"},17]
[180,null,{"$f":"IF(B210=\"\",0,INDEX(SignalHeads[Perp. Wind Area (sft)],MATCH(B210,SignalHeads[Code],0)))","v":0},{"$f":"IF(B210=\"\",\"\",INDEX(SignalHeads[Weight*** (lbs)],MATCH(B210,SignalHeads[Code],0)))","v":""},{"$f":"IF(A210<=$I$17,INDEX(DesignConstants[Value],MATCH(\"Span Wire Weight (plf)\",DesignConstants[Design Constant],0)),0)","v":1.155},0,207.32249999999999,{"$error":"#N/A"},{"$error":"#N/A"},{"$error":"#VALUE!"},{"$error":"#VALUE!"},{"$f":"IF(B210=\"\",0,INDEX(SignalHeads[Height ** (feet)],MATCH(B210,SignalHeads[Code],0)))","v":0},{"$f":"IF(L210=0,\"\",ROUNDDOWN(12*(((J210-L210)-MIN($J$31:$J$230-$L$31:$L$230)-(MAX($L$31:$L$230*(($J$31:$J$230-$L$31:$L$230)=MIN($J$31:$J$230-$L$31:$L$230)))-L210))+(MIN($J$31:$J$230-$L$31:$L$230)-$I$19)),0)/12)","v":""},"",{"$error":"#VALUE!"},17]
[181,null,{"$f":"IF(B211=\"\",0,INDEX(SignalHeads[Perp. Wind Area (sft)],MATCH(B211,SignalHeads[Code],0)))","v":0},{"$f":"IF(B211=\"\",\"\",INDEX(SignalHeads[Weight*** (lbs)],MATCH(B211,SignalHeads[Code],0)))","v":""},{"$f":"IF(A211<=$I$17,INDEX(DesignConstants[Value],MATCH(\"Span Wire Weight (plf)\",DesignConstants[Design Constant],0)),0)","v":1.155},0,208.47749999999999,{"$error":"#N/A"},{"$error":"#N/A"},{"$error":"#VALUE!"},{"$error":"#VALUE!"},{"$f":"IF(B211=\"\",0,INDEX(SignalHeads[Height ** (feet)],MATCH(B211,SignalHeads[Code],0)))","v":0},{"$f":"IF(L211=0,\"\",ROUNDDOWN(12*(((J211-L211)-MIN($J$31:$J$230-$L$31:$L$230)-(MAX($L$31:$L$230*(($J$31:$J$230-$L$31:$L$230)=MIN($J$31:$J$230-$L$31:$L$230)))-L211))+(MIN($J$31:$J$230-$L$31:$L$230)-$I$19)),0)/12)","v":""},"",{"$error":"#VALUE!"},17]
[182,null,{"$f":"IF(B212=\"\",0,INDEX(SignalHeads[Perp. Wind Area (sft)],MATCH(B212,SignalHeads[Code],0)))","v":0},{"$f":"IF(B212=\"\",\"\",INDEX(SignalHeads[Weight*** (lbs)],MATCH(B212,SignalHeads[Code],0)))","v":""},{"$f":"IF(A212<=$I$17,INDEX(DesignConstants[Value],MATCH(\"Span Wire Weight (plf)\",DesignConstants[Design Constant],0)),0)","v":1.155},0,209.63249999999999,{"$error":"#N/A"},{"$error":"#N/A"},{"$error":"#VALUE!"},{"$error":"#VALUE!"},{"$f":"IF(B212=\"\",0,INDEX(SignalHeads[Height ** (feet)],MATCH(B212,SignalHeads[Code],0)))","v":0},{"$f":"IF(L212=0,\"\",ROUNDDOWN(12*(((J212-L212)-MIN($J$31:$J$230-$L$31:$L$230)-(MAX($L$31:$L$230*(($J$31:$J$230-$L$31:$L$230)=MIN($J$31:$J$230-$L$31:$L$230)))-L212))+(MIN($J$31:$J$230-$L$31:$L$230)-$I$19)),0)/12)","v":""},"",{"$error":"#VALUE!"},17]
[183,null,{"$f":"IF(B213=\"\",0,INDEX(SignalHeads[Perp. Wind Area (sft)],MATCH(B213,SignalHeads[Code],0)))","v":0},{"$f":"IF(B213=\"\",\"\",INDEX(SignalHeads[Weight*** (lbs)],MATCH(B213,SignalHeads[Code],0)))","v":""},{"$f":"IF(A213<=$I$17,INDEX(DesignConstants[Value],MATCH(\"Span Wire Weight (plf)\",DesignConstants[Design Constant],0)),0)","v":1.155},0,210.78749999999999,{"$error":"#N/A"},{"$error":"#N/A"},{"$error":"#VALUE!"},{"$error":"#VALUE!"},{"$f":"IF(B213=\"\",0,INDEX(SignalHeads[Height ** (feet)],MATCH(B213,SignalHeads[Code],0)))","v":0},{"$f":"IF(L213=0,\"\",ROUNDDOWN(12*(((J213-L213)-MIN($J$31:$J$230-$L$31:$L$230)-(MAX($L$31:$L$230*(($J$31:$J$230-$L$31:$L$230)=MIN($J$31:$J$230-$L$31:$L$230)))-L213))+(MIN($J$31:$J$230-$L$31:$L$230)-$I$19)),0)/12)","v":""},"",{"$error":"#VALUE!"},17]
[184,null,{"$f":"IF(B214=\"\",0,INDEX(SignalHeads[Perp. Wind Area (sft)],MATCH(B214,SignalHeads[Code],0)))","v":0},{"$f":"IF(B214=\"\",\"\",INDEX(SignalHeads[Weight*** (lbs)],MATCH(B214,SignalHeads[Code],0)))","v":""},{"$f":"IF(A214<=$I$17,INDEX(DesignConstants[Value],MATCH(\"Span Wire Weight (plf)\",DesignConstants[Design Constant],0)),0)","v":1.155},0,211.9425,{"$error":"#N/A"},{"$error":"#N/A"},{"$error":"#VALUE!"},{"$error":"#VALUE!"},{"$f":"IF(B214=\"\",0,INDEX(SignalHeads[Height ** (feet)],MATCH(B214,SignalHeads[Code],0)))","v":0},{"$f":"IF(L214=0,\"\",ROUNDDOWN(12*(((J214-L214)-MIN($J$31:$J$230-$L$31:$L$230)-(MAX($L$31:$L$230*(($J$31:$J$230-$L$31:$L$230)=MIN($J$31:$J$230-$L$31:$L$230)))-L214))+(MIN($J$31:$J$230-$L$31:$L$230)-$I$19)),0)/12)","v":""},"",{"$error":"#VALUE!"},17]
[185,null,{"$f":"IF(B215=\"\",0,INDEX(SignalHeads[Perp. Wind Area (sft)],MATCH(B215,SignalHeads[Code],0)))","v":0},{"$f":"IF(B215=\"\",\"\",INDEX(SignalHeads[Weight*** (lbs)],MATCH(B215,SignalHeads[Code],0)))","v":""},{"$f":"IF(A215<=$I$17,INDEX(DesignConstants[Value],MATCH(\"Span Wire Weight (plf)\",DesignConstants[Design Constant],0)),0)","v":1.155},0,213.0975,{"$error":"#N/A"},{"$error":"#N/A"},{"$error":"#VALUE!"},{"$error":"#VALUE!"},{"$f":"IF(B215=\"\",0,INDEX(SignalHeads[Height ** (feet)],MATCH(B215,SignalHeads[Code],0)))","v":0},{"$f":"IF(L215=0,\"\",ROUNDDOWN(12*(((J215-L215)-MIN($J$31:$J$230-$L$31:$L$230)-(MAX($L$31:$L$230*(($J$31:$J$230-$L$31:$L$230)=MIN($J$31:$J$230-$L$31:$L$230)))-L215))+(MIN($J$31:$J$230-$L$31:$L$230)-$I$19)),0)/12)","v":""},"",{"$error":"#VALUE!"},17]
[186,null,{"$f":"IF(B216=\"\",0,INDEX(SignalHeads[Perp. Wind Area (sft)],MATCH(B216,SignalHeads[Code],0)))","v":0},{"$f":"IF(B216=\"\",\"\",INDEX(SignalHeads[Weight*** (lbs)],MATCH(B216,SignalHeads[Code],0)))","v":""},{"$f":"IF(A216<=$I$17,INDEX(DesignConstants[Value],MATCH(\"Span Wire Weight (plf)\",DesignConstants[Design Constant],0)),0)","v":1.155},0,214.2525,{"$error":"#N/A"},{"$error":"#N/A"},{"$error":"#VALUE!"},{"$error":"#VALUE!"},{"$f":"IF(B216=\"\",0,INDEX(SignalHeads[Height ** (feet)],MATCH(B216,SignalHeads[Code],0)))","v":0},{"$f":"IF(L216=0,\"\",ROUNDDOWN(12*(((J216-L216)-MIN($J$31:$J$230-$L$31:$L$230)-(MAX($L$31:$L$230*(($J$31:$J$230-$L$31:$L$230)=MIN($J$31:$J$230-$L$31:$L$230)))-L216))+(MIN($J$31:$J$230-$L$31:$L$230)-$I$19)),0)/12)","v":""},"",{"$error":"#VALUE!"},17]
[187,null,{"$f":"IF(B217=\"\",0,INDEX(SignalHeads[Perp. Wind Area (sft)],MATCH(B217,SignalHeads[Code],0)))","v":0},{"$f":"IF(B217=\"\",\"\",INDEX(SignalHeads[Weight*** (lbs)],MATCH(B217,SignalHeads[Code],0)))","v":""},{"$f":"IF(A217<=$I$17,INDEX(DesignConstants[Value],MATCH(\"Span Wire Weight (plf)\",DesignConstants[Design Constant],0)),0)","v":1.155},0,215.4075,{"$error":"#N/A"},{"$error":"#N/A"},{"$error":"#VALUE!"},{"$error":"#VALUE!"},{"$f":"IF(B217=\"\",0,INDEX(SignalHeads[Height ** (feet)],MATCH(B217,SignalHeads[Code],0)))","v":0},{"$f":"IF(L217=0,\"\",ROUNDDOWN(12*(((J217-L217)-MIN($J$31:$J$230-$L$31:$L$230)-(MAX($L$31:$L$230*(($J$31:$J$230-$L$31:$L$230)=MIN($J$31:$J$230-$L$31:$L$230)))-L217))+(MIN($J$31:$J$230-$L$31:$L$230)-$I$19)),0)/12)","v":""},"",{"$error":"#VALUE!"},17]
[188,null,{"$f":"IF(B218=\"\",0,INDEX(SignalHeads[Perp. Wind Area (sft)],MATCH(B218,SignalHeads[Code],0)))","v":0},{"$f":"IF(B218=\"\",\"\",INDEX(SignalHeads[Weight*** (lbs)],MATCH(B218,SignalHeads[Code],0)))","v":""},{"$f":"IF(A218<=$I$17,INDEX(DesignConstants[Value],MATCH(\"Span Wire Weight (plf)\",DesignConstants[Design Constant],0)),0)","v":1.155},0,216.5625,{"$error":"#N/A"},{"$error":"#N/A"},{"$error":"#VALUE!"},{"$error":"#VALUE!"},{"$f":"IF(B218=\"\",0,INDEX(SignalHeads[Height ** (feet)],MATCH(B218,SignalHeads[Code],0)))","v":0},{"$f":"IF(L218=0,\"\",ROUNDDOWN(12*(((J218-L218)-MIN($J$31:$J$230-$L$31:$L$230)-(MAX($L$31:$L$230*(($J$31:$J$230-$L$31:$L$230)=MIN($J$31:$J$230-$L$31:$L$230)))-L218))+(MIN($J$31:$J$230-$L$31:$L$230)-$I$19)),0)/12)","v":""},"",{"$error":"#VALUE!"},17]
[189,null,{"$f":"IF(B219=\"\",0,INDEX(SignalHeads[Perp. Wind Area (sft)],MATCH(B219,SignalHeads[Code],0)))","v":0},{"$f":"IF(B219=\"\",\"\",INDEX(SignalHeads[Weight*** (lbs)],MATCH(B219,SignalHeads[Code],0)))","v":""},{"$f":"IF(A219<=$I$17,INDEX(DesignConstants[Value],MATCH(\"Span Wire Weight (plf)\",DesignConstants[Design Constant],0)),0)","v":1.155},0,217.7175,{"$error":"#N/A"},{"$error":"#N/A"},{"$error":"#VALUE!"},{"$error":"#VALUE!"},{"$f":"IF(B219=\"\",0,INDEX(SignalHeads[Height ** (feet)],MATCH(B219,SignalHeads[Code],0)))","v":0},{"$f":"IF(L219=0,\"\",ROUNDDOWN(12*(((J219-L219)-MIN($J$31:$J$230-$L$31:$L$230)-(MAX($L$31:$L$230*(($J$31:$J$230-$L$31:$L$230)=MIN($J$31:$J$230-$L$31:$L$230)))-L219))+(MIN($J$31:$J$230-$L$31:$L$230)-$I$19)),0)/12)","v":""},"",{"$error":"#VALUE!"},17]
[190,null,{"$f":"IF(B220=\"\",0,INDEX(SignalHeads[Perp. Wind Area (sft)],MATCH(B220,SignalHeads[Code],0)))","v":0},{"$f":"IF(B220=\"\",\"\",INDEX(SignalHeads[Weight*** (lbs)],MATCH(B220,SignalHeads[Code],0)))","v":""},{"$f":"IF(A220<=$I$17,INDEX(DesignConstants[Value],MATCH(\"Span Wire Weight (plf)\",DesignConstants[Design Constant],0)),0)","v":1.155},0,218.8725,{"$error":"#N/A"},{"$error":"#N/A"},{"$error":"#VALUE!"},{"$error":"#VALUE!"},{"$f":"IF(B220=\"\",0,INDEX(SignalHeads[Height ** (feet)],MATCH(B220,SignalHeads[Code],0)))","v":0},{"$f":"IF(L220=0,\"\",ROUNDDOWN(12*(((J220-L220)-MIN($J$31:$J$230-$L$31:$L$230)-(MAX($L$31:$L$230*(($J$31:$J$230-$L$31:$L$230)=MIN($J$31:$J$230-$L$31:$L$230)))-L220))+(MIN($J$31:$J$230-$L$31:$L$230)-$I$19)),0)/12)","v":""},"",{"$error":"#VALUE!"},17]
[191,null,{"$f":"IF(B221=\"\",0,INDEX(SignalHeads[Perp. Wind Area (sft)],MATCH(B221,SignalHeads[Code],0)))","v":0},{"$f":"IF(B221=\"\",\"\",INDEX(SignalHeads[Weight*** (lbs)],MATCH(B221,SignalHeads[Code],0)))","v":""},{"$f":"IF(A221<=$I$17,INDEX(DesignConstants[Value],MATCH(\"Span Wire Weight (plf)\",DesignConstants[Design Constant],0)),0)","v":1.155},0,220.0275,{"$error":"#N/A"},{"$error":"#N/A"},{"$error":"#VALUE!"},{"$error":"#VALUE!"},{"$f":"IF(B221=\"\",0,INDEX(SignalHeads[Height ** (feet)],MATCH(B221,SignalHeads[Code],0)))","v":0},{"$f":"IF(L221=0,\"\",ROUNDDOWN(12*(((J221-L221)-MIN($J$31:$J$230-$L$31:$L$230)-(MAX($L$31:$L$230*(($J$31:$J$230-$L$31:$L$230)=MIN($J$31:$J$230-$L$31:$L$230)))-L221))+(MIN($J$31:$J$230-$L$31:$L$230)-$I$19)),0)/12)","v":""},"",{"$error":"#VALUE!"},17]
[192,null,{"$f":"IF(B222=\"\",0,INDEX(SignalHeads[Perp. Wind Area (sft)],MATCH(B222,SignalHeads[Code],0)))","v":0},{"$f":"IF(B222=\"\",\"\",INDEX(SignalHeads[Weight*** (lbs)],MATCH(B222,SignalHeads[Code],0)))","v":""},{"$f":"IF(A222<=$I$17,INDEX(DesignConstants[Value],MATCH(\"Span Wire Weight (plf)\",DesignConstants[Design Constant],0)),0)","v":1.155},0,221.1825,{"$error":"#N/A"},{"$error":"#N/A"},{"$error":"#VALUE!"},{"$error":"#VALUE!"},{"$f":"IF(B222=\"\",0,INDEX(SignalHeads[Height ** (feet)],MATCH(B222,SignalHeads[Code],0)))","v":0},{"$f":"IF(L222=0,\"\",ROUNDDOWN(12*(((J222-L222)-MIN($J$31:$J$230-$L$31:$L$230)-(MAX($L$31:$L$230*(($J$31:$J$230-$L$31:$L$230)=MIN($J$31:$J$230-$L$31:$L$230)))-L222))+(MIN($J$31:$J$230-$L$31:$L$230)-$I$19)),0)/12)","v":""},"",{"$error":"#VALUE!"},17]
[193,null,{"$f":"IF(B223=\"\",0,INDEX(SignalHeads[Perp. Wind Area (sft)],MATCH(B223,SignalHeads[Code],0)))","v":0},{"$f":"IF(B223=\"\",\"\",INDEX(SignalHeads[Weight*** (lbs)],MATCH(B223,SignalHeads[Code],0)))","v":""},{"$f":"IF(A223<=$I$17,INDEX(DesignConstants[Value],MATCH(\"Span Wire Weight (plf)\",DesignConstants[Design Constant],0)),0)","v":1.155},0,{"$f":"+E223*(A223-0.5)","v":222.33750000000001},{"$error":"#N/A"},{"$error":"#N/A"},{"$error":"#VALUE!"},{"$f":"IF(A223>$I$17,0,($N$24-$N$15)/$I$17*A223+$N$15)","v":{"$error":"#VALUE!"}},{"$f":"IF(B223=\"\",0,INDEX(SignalHeads[Height ** (feet)],MATCH(B223,SignalHeads[Code],0)))","v":0},{"$f":"IF(L223=0,\"\",ROUNDDOWN(12*(((J223-L223)-MIN($J$31:$J$230-$L$31:$L$230)-(MAX($L$31:$L$230*(($J$31:$J$230-$L$31:$L$230)=MIN($J$31:$J$230-$L$31:$L$230)))-L223))+(MIN($J$31:$J$230-$L$31:$L$230)-$I$19)),0)/12)","v":""},"",{"$error":"#VALUE!"},{"$f":"$I$19","v":17}]
[194,null,{"$f":"IF(B224=\"\",0,INDEX(SignalHeads[Perp. Wind Area (sft)],MATCH(B224,SignalHeads[Code],0)))","v":0},{"$f":"IF(B224=\"\",\"\",INDEX(SignalHeads[Weight*** (lbs)],MATCH(B224,SignalHeads[Code],0)))","v":""},{"$f":"IF(A224<=$I$17,INDEX(DesignConstants[Value],MATCH(\"Span Wire Weight (plf)\",DesignConstants[Design Constant],0)),0)","v":1.155},{"$f":"IF(B224=\"\",0,+D224*A224)","v":0},223.49250000000001,{"$f":"H223+(IF(B224=\"\",0,D224))+E224","v":{"$error":"#N/A"}},{"$f":"(0.5*E224+(IF(B224=\"\",0,D224))+H223)/$I$13","v":{"$error":"#N/A"}},{"$error":"#VALUE!"},{"$error":"#VALUE!"},{"$f":"IF(B224=\"\",0,INDEX(SignalHeads[Height ** (feet)],MATCH(B224,SignalHeads[Code],0)))","v":0},{"$f":"IF(L224=0,\"\",ROUNDDOWN(12*(((J224-L224)-MIN($J$31:$J$230-$L$31:$L$230)-(MAX($L$31:$L$230*(($J$31:$J$230-$L$31:$L$230)=MIN($J$31:$J$230-$L$31:$L$230)))-L224))+(MIN($J$31:$J$230-$L$31:$L$230)-$I$19)),0)/12)","v":""},{"$f":"IF(M224=\"\",\"\",INT(M224)&\"'-\"&ROUND((M224-INT(M224))*12,0)&\"\"\"\")","v":""},{"$f":"IF(A224<=$I$17,J224-L224-IF(ISNUMBER(M224),M224,0),\"\")","v":{"$error":"#VALUE!"}},17]
[195,null,{"$f":"IF(B225=\"\",0,INDEX(SignalHeads[Perp. Wind Area (sft)],MATCH(B225,SignalHeads[Code],0)))","v":0},{"$f":"IF(B225=\"\",\"\",INDEX(SignalHeads[Weight*** (lbs)],MATCH(B225,SignalHeads[Code],0)))","v":""},{"$f":"IF(A225<=$I$17,INDEX(DesignConstants[Value],MATCH(\"Span Wire Weight (plf)\",DesignConstants[Design Constant],0)),0)","v":1.155},0,224.64750000000001,{"$error":"#N/A"},{"$error":"#N/A"},{"$error":"#VALUE!"},{"$error":"#VALUE!"},{"$f":"IF(B225=\"\",0,INDEX(SignalHeads[Height ** (feet)],MATCH(B225,SignalHeads[Code],0)))","v":0},{"$f":"IF(L225=0,\"\",ROUNDDOWN(12*(((J225-L225)-MIN($J$31:$J$230-$L$31:$L$230)-(MAX($L$31:$L$230*(($J$31:$J$230-$L$31:$L$230)=MIN($J$31:$J$230-$L$31:$L$230)))-L225))+(MIN($J$31:$J$230-$L$31:$L$230)-$I$19)),0)/12)","v":""},"",{"$error":"#VALUE!"},17]
[196,null,{"$f":"IF(B226=\"\",0,INDEX(SignalHeads[Perp. Wind Area (sft)],MATCH(B226,SignalHeads[Code],0)))","v":0},{"$f":"IF(B226=\"\",\"\",INDEX(SignalHeads[Weight*** (lbs)],MATCH(B226,SignalHeads[Code],0)))","v":""},{"$f":"IF(A226<=$I$17,INDEX(DesignConstants[Value],MATCH(\"Span Wire Weight (plf)\",DesignConstants[Design Constant],0)),0)","v":1.155},0,225.80250000000001,{"$error":"#N/A"},{"$error":"#N/A"},{"$f":"+J225+I226","v":{"$error":"#VALUE!"}},{"$error":"#VALUE!"},{"$f":"IF(B226=\"\",0,INDEX(SignalHeads[Height ** (feet)],MATCH(B226,SignalHeads[Code],0)))","v":0},{"$f":"IF(L226=0,\"\",ROUNDDOWN(12*(((J226-L226)-MIN($J$31:$J$230-$L$31:$L$230)-(MAX($L$31:$L$230*(($J$31:$J$230-$L$31:$L$230)=MIN($J$31:$J$230-$L$31:$L$230)))-L226))+(MIN($J$31:$J$230-$L$31:$L$230)-$I$19)),0)/12)","v":""},"",{"$error":"#VALUE!"},17]
[197,null,{"$f":"IF(B227=\"\",0,INDEX(SignalHeads[Perp. Wind Area (sft)],MATCH(B227,SignalHeads[Code],0)))","v":0},{"$f":"IF(B227=\"\",\"\",INDEX(SignalHeads[Weight*** (lbs)],MATCH(B227,SignalHeads[Code],0)))","v":""},{"$f":"IF(A227<=$I$17,INDEX(DesignConstants[Value],MATCH(\"Span Wire Weight (plf)\",DesignConstants[Design Constant],0)),0)","v":1.155},0,226.95750000000001,{"$error":"#N/A"},{"$error":"#N/A"},{"$error":"#VALUE!"},{"$error":"#VALUE!"},{"$f":"IF(B227=\"\",0,INDEX(SignalHeads[Height ** (feet)],MATCH(B227,SignalHeads[Code],0)))","v":0},{"$f":"IF(L227=0,\"\",ROUNDDOWN(12*(((J227-L227)-MIN($J$31:$J$230-$L$31:$L$230)-(MAX($L$31:$L$230*(($J$31:$J$230-$L$31:$L$230)=MIN($J$31:$J$230-$L$31:$L$230)))-L227))+(MIN($J$31:$J$230-$L$31:$L$230)-$I$19)),0)/12)","v":""},"",{"$error":"#VALUE!"},17]
[198,null,{"$f":"IF(B228=\"\",0,INDEX(SignalHeads[Perp. Wind Area (sft)],MATCH(B228,SignalHeads[Code],0)))","v":0},{"$f":"IF(B228=\"\",\"\",INDEX(SignalHeads[Weight*** (lbs)],MATCH(B228,SignalHeads[Code],0)))","v":""},{"$f":"IF(A228<=$I$17,INDEX(DesignConstants[Value],MATCH(\"Span Wire Weight (plf)\",DesignConstants[Design Constant],0)),0)","v":1.155},0,228.11250000000001,{"$error":"#N/A"},{"$error":"#N/A"},{"$error":"#VALUE!"},{"$error":"#VALUE!"},{"$f":"IF(B228=\"\",0,INDEX(SignalHeads[Height ** (feet)],MATCH(B228,SignalHeads[Code],0)))","v":0},{"$f":"IF(L228=0,\"\",ROUNDDOWN(12*(((J228-L228)-MIN($J$31:$J$230-$L$31:$L$230)-(MAX($L$31:$L$230*(($J$31:$J$230-$L$31:$L$230)=MIN($J$31:$J$230-$L$31:$L$230)))-L228))+(MIN($J$31:$J$230-$L$31:$L$230)-$I$19)),0)/12)","v":""},"",{"$error":"#VALUE!"},17]
[199,null,{"$f":"IF(B229=\"\",0,INDEX(SignalHeads[Perp. Wind Area (sft)],MATCH(B229,SignalHeads[Code],0)))","v":0},{"$f":"IF(B229=\"\",\"\",INDEX(SignalHeads[Weight*** (lbs)],MATCH(B229,SignalHeads[Code],0)))","v":""},{"$f":"IF(A229<=$I$17,INDEX(DesignConstants[Value],MATCH(\"Span Wire Weight (plf)\",DesignConstants[Design Constant],0)),0)","v":1.155},0,229.26750000000001,{"$error":"#N/A"},{"$error":"#N/A"},{"$error":"#VALUE!"},{"$error":"#VALUE!"},{"$f":"IF(B229=\"\",0,INDEX(SignalHeads[Height ** (feet)],MATCH(B229,SignalHeads[Code],0)))","v":0},{"$f":"IF(L229=0,\"\",ROUNDDOWN(12*(((J229-L229)-MIN($J$31:$J$230-$L$31:$L$230)-(MAX($L$31:$L$230*(($J$31:$J$230-$L$31:$L$230)=MIN($J$31:$J$230-$L$31:$L$230)))-L229))+(MIN($J$31:$J$230-$L$31:$L$230)-$I$19)),0)/12)","v":""},"",{"$error":"#VALUE!"},17]
[200,null,{"$f":"IF(B230=\"\",0,INDEX(SignalHeads[Perp. Wind Area (sft)],MATCH(B230,SignalHeads[Code],0)))","v":0},{"$f":"IF(B230=\"\",\"\",INDEX(SignalHeads[Weight*** (lbs)],MATCH(B230,SignalHeads[Code],0)))","v":""},{"$f":"IF(A230<=$I$17,INDEX(DesignConstants[Value],MATCH(\"Span Wire Weight (plf)\",DesignConstants[Design Constant],0)),0)","v":1.155},0,230.42250000000001,{"$error":"#N/A"},{"$error":"#N/A"},{"$error":"#VALUE!"},{"$error":"#VALUE!"},{"$f":"IF(B230=\"\",0,INDEX(SignalHeads[Height ** (feet)],MATCH(B230,SignalHeads[Code],0)))","v":0},{"$f":"IF(L230=0,\"\",ROUNDDOWN(12*(((J230-L230)-MIN($J$31:$J$230-$L$31:$L$230)-(MAX($L$31:$L$230*(($J$31:$J$230-$L$31:$L$230)=MIN($J$31:$J$230-$L$31:$L$230)))-L230))+(MIN($J$31:$J$230-$L$31:$L$230)-$I$19)),0)/12)","v":""},"",{"$error":"#VALUE!"},17]

{"sheet":"Macro Controls","index":18,"n_rows":3,"n_cols":1,"rows_kept":3,"cut":false,"hidden":true,"merged":[[2,0,2,3]]}
["Macro Controls"]
[]
["Span Calculation Tab Color"]